{"text_format":"1","workbook":"xlsx","n_sheets":23,"sheets":["HOME","TVOJE","TVOJE2","FOTO","TOP15","Droč","D60","D300","D800","Ddál","Dvýš","Dmíč","Dkou","Dčlu","Dls","Dodbíj","Dplav","Dšplh","Dšvih","Dz mís","Drepre","Drekordy","Dvýk"],"not_rendered":{"charts":0,"images":0,"macros":1,"external_links":0,"defined_names":12,"comments":0,"pivot_tables":0},"unopened":[],"bounds":{"document_bytes":16777216,"sheet_cells":100000,"rows_first":2000,"rows_last":500,"rows_between":2000,"halvings":0,"cell_chars":16384,"cell_head_chars":4096},"cells_cut":0,"cells_raw":0,"read":"whole","date_system":"1900"}

{"sheet":"HOME","index":0,"n_rows":9,"n_cols":2,"rows_kept":9,"cut":false,"hidden":false,"merged":[[8,1,8,3],[2,0,3,0],[0,0,0,6]]}
["DĚVČATA"]
[]
[]
[]
[]
[]
[]
[]
[null,"DISCIPLÍNY"]

{"sheet":"TVOJE","index":1,"n_rows":1,"n_cols":21,"rows_kept":1,"cut":false,"hidden":false,"merged":[[0,6,0,7],[0,10,0,12],[0,8,0,9],[0,13,0,15]]}
[null,"6.A",null,null,"6.B",null,"7.A",null,"7.B",null,"8.A",null,null,"8.B",null,null,null,"9.A",null,null,"9.B"]

{"sheet":"TVOJE2","index":2,"n_rows":30,"n_cols":11,"rows_kept":30,"cut":false,"hidden":false,"merged":[]}
[]
[null,null,null,{"$f":"'D60'!B209","v":"VOTOČKOVÁ"},{"$f":"'D60'!C209","v":"Veronika"},{"$f":"'D60'!D209","v":"9.B"}]
[null,null,null,"výkon",null,"místo","body",null,"20  - 21","19  - 20","18 - 19"]
[null,null,"60 m",{"$f":"'D60'!E209","v":12.62},null,{"$f":"'D60'!G209","v":"Jilemnice 14.09.22"},{"$f":"'D60'!H209","v":587.28048082435294},null,{"$f":"'D60'!J209","v":13.34},{"$f":"'D60'!K209","v":12.55},{"$f":"'D60'!L209","v":13.86}]
[]
[null,null,"300 m",{"$f":"'D300'!E209","v":"00:00:00"},null,{"$f":"'D300'!G209","v":"00:00:00"},{"$f":"'D300'!H209","v":"00:00:00"},null,{"$f":"'D300'!J209","v":"00:00:00"},{"$f":"'D300'!K209","v":"00:00:00"},{"$f":"'D300'!L209","v":"00:01:36.510"}]
[null,null,null,{"$f":"'D300'!E209","v":0},null,{"$f":"'D300'!G209","v":0},{"$f":"'D300'!H209","v":0},null,{"$f":"'D300'!J209","v":0},{"$f":"'D300'!K209","v":0},{"$f":"'D300'!L209","v":1.1170138888888887E-3}]
[null,null,"800 m",{"$f":"'D800'!E209","v":"00:00:00"},null,{"$f":"'D800'!G209","v":"00:00:00"},{"$f":"'D800'!H209","v":"00:00:00"},null,{"$f":"'D800'!J209","v":"00:05:08.500"},{"$f":"'D800'!K209","v":"00:00:00"},{"$f":"'D800'!L209","v":"00:00:00"}]
[]
[null,null,"dálka",{"$f":"Ddál!E209","v":0},null,{"$f":"Ddál!G209","v":0},{"$f":"Ddál!H209","v":0},null,{"$f":"Ddál!J209","v":284},{"$f":"Ddál!K209","v":255},{"$f":"Ddál!L209","v":0}]
[]
[null,null,"výška",{"$f":"Dvýš!E209","v":0},null,{"$f":"Dvýš!G209","v":0},{"$f":"Dvýš!H209","v":0},null,{"$f":"Dvýš!J209","v":0},{"$f":"Dvýš!K209","v":0},{"$f":"Dvýš!L209","v":0}]
[]
[null,null,"míček",{"$f":"Dmíč!E209","v":14},null,{"$f":"Dmíč!G209","v":"Jilemnice  07.10.22"},{"$f":"Dmíč!H209","v":257.8},null,{"$f":"Dmíč!J209","v":16},{"$f":"Dmíč!K209","v":0},{"$f":"Dmíč!L209","v":0}]
[]
[null,null,"koule",{"$f":"Dkou!E209","v":5.4},null,{"$f":"Dkou!G209","v":"Jilemnice  16.09.22"},{"$f":"Dkou!H209","v":502.22222222222223},null,{"$f":"Dkou!J209","v":0},{"$f":"Dkou!K209","v":0},{"$f":"Dkou!L209","v":0}]
[]
[null,null,"člunek",{"$f":"Dčlu!E209","v":0},null,{"$f":"Dčlu!G209","v":0},{"$f":"Dčlu!H209","v":0},null,{"$f":"Dčlu!J209","v":0},{"$f":"Dčlu!K209","v":0},{"$f":"Dčlu!L209","v":0}]
[]
[null,null,"lehsed",{"$f":"Dls!E209","v":0},null,{"$f":"Dls!G209","v":0},{"$f":"Dls!H209","v":0},null,{"$f":"Dls!J209","v":0},{"$f":"Dls!K209","v":0},{"$f":"Dls!L209","v":0}]
[]
[null,null,"odbíjení",{"$f":"Dodbíj!E209","v":0},null,{"$f":"Dodbíj!G209","v":0},{"$f":"Dodbíj!H209","v":0},null,{"$f":"Dodbíj!J209","v":0},{"$f":"Dodbíj!K209","v":0},{"$f":"Dodbíj!L209","v":0}]
[]
[null,null,"plavání",{"$f":"Dplav!E209","v":0},null,{"$f":"Dplav!G209","v":0},{"$f":"Dplav!H209","v":0},null,{"$f":"Dplav!J209","v":0},{"$f":"Dplav!K209","v":0},{"$f":"Dplav!L209","v":0}]
[]
[null,null,"šplh",{"$f":"Dšplh!E209","v":0},null,{"$f":"Dšplh!G209","v":0},{"$f":"Dšplh!H209","v":0},null,{"$f":"Dšplh!J209","v":0},{"$f":"Dšplh!K209","v":0},{"$f":"Dšplh!L209","v":0}]
[]
[null,null,"švihadlo",{"$f":"Dšvih!E209","v":0},null,{"$f":"Dšvih!G209","v":0},{"$f":"Dšvih!H209","v":0},null,{"$f":"Dšvih!J209","v":55},{"$f":"Dšvih!K209","v":80},{"$f":"Dšvih!L209","v":75}]
[]
[" ",null,"z místa",{"$f":"'Dz mís'!E209","v":0},null,{"$f":"'Dz mís'!G209","v":0},{"$f":"'Dz mís'!H209","v":0},null,{"$f":"'Dz mís'!J209","v":0},{"$f":"'Dz mís'!K209","v":0},{"$f":"'Dz mís'!L209","v":131}]

{"sheet":"FOTO","index":3,"n_rows":23,"n_cols":6,"rows_kept":23,"cut":false,"hidden":false,"merged":[[1,1,1,2]]}
[]
[null,"PRO  ZOBRAZENÍ  FOTOGRAFIÍ  JE  TŘEBA  PŘÍSTUP  K  INTERNETU"]
[]
[]
[null,null,null,null,"DALŠÍ  SPORTOVNÍ  AKCE"]
[]
[]
[null,2022,"VYHLÁŠENÍ  SPORTOVCE  ŠKOLY   16. ROČNÍK"]
[null,null,null,null,"10.12.2019  OF  FLORBAL  STARŠÍ ŽÁCI","13.11.2019  OF  PLAVÁNÍ    JILEMNICE"]
[null,2021,"VYHLÁŠENÍ  PROBĚHLO  POUZE  V  RÁMCI  TŘÍD",null,"19.12.2019  OF  FLORBAL ML.ŽÁCI  JIL.","25.9.2019   JILEMNICKÉ  ŠTAFETY"]
[null,null,null,null,"24. 9.2019  OF  ČTYŘBOJ   TURNOV"]
[null,2020,"VYHLÁŠENÍ  SE  NEUSKUTEČNILO"]
[null,null,null,null,"6. 12. 2018  OF  FLORBAL  6.-7. ROČ","14.11.2018  OF  PLAVÁNÍ  JILEMNICE"]
[null,2019,"VYHLÁŠENÍ  SPORTOVCE  ŠKOLY     13. ROČNÍK",null,"26. 9.2018  OF  ČTYŘBOJ  TURNOV"]
[]
[null,2018,"VYHLÁŠENÍ  SPORTOVCE  ŠKOLY     12. ROČNÍK"]
[]
[null,2017,"VYHLÁŠENÍ  SPORTOVCE  ŠKOLY     11. ROČNÍK"]
[null,null,null,null,"11. 5. 2016  POHÁR  ROZHLASU  TURNOV"]
[null,2016,"VYHLÁŠENÍ  SPORTOVCE  ŠKOLY     10. ROČNÍK"]
[]
[]
[null,null,"průběžně budu přídávat další"]

{"sheet":"TOP15","index":4,"n_rows":133,"n_cols":21,"rows_kept":133,"cut":false,"hidden":false,"merged":[]}
[" ",null,"T O P     1 5"]
[]
[null,null,null,null,null,"60  m  ","300m","800m","dálka","výška","míček","koule","člunek","lehsed","odbíjení ","plavání","šplh","švihadlo","z místa"," REPRE"," CELKEM"]
[]
["1.",{"$f":"B35","v":"FARSKÁ"},"Anna","6.A",null,758.21397803640605,622.24997622749765,477.95266771987951,735.59700000000009,642,357.90000000000003,484.44444444444446,551.03251424856637,514.15000000000009,30,0,493.3599776733713,655.75,755.31161473087832,125,7202.9621730810441]
["2.","FARSKÁ","Eliška","6.A",null,804.04153092451486,521.35624888979487,608.15072472211466,794.72300000000007,642,367,436.44444444444446,592.4416662675718,361.36,27,0,537.86200182533878,687,783.53824362606247,75,7237.9178606998421]
["3.","FEDORKOVÁ","Denisa","6.A",null,661.48847929946976,391.68222888787022,0,565.17500000000007,609.5,276,353.77777777777777,547.40466323940518,236.35000000000002,27,0,0,680.75,553.02077431539215,0,4902.148923519916]
["4.","HAUZEROVÁ","Tereza","6.A",null,759.85476902978576,547.72203540496423,515.47089492392536,711.25100000000009,642,257.8,319.11111111111109,555.62884017859824,291.91000000000003,21,0,0,587,680.04060434372059,0,5888.7892549921062]
["5.","JOSKOVÁ","Ellen","6.A",null,808.63164511382968,691.83105464531877,607.44439111599104,620.82300000000009,609.5,294.2,450.66666666666669,592.4416662675718,389.14,9,0,0,587,670.63172804532587,75,6406.3101518547037]
["6.","KUŽELOVÁ","Amálie","6.A",null,607.88639765358403,387.71567728427465,0,476.48600000000005,0,0,0,459.8530448051315,361.36,60,0,0,443.25,0,0,2796.5511197429901]
["7.","RYŠAVÁ","Amálie","6.A",null,701.09977151009628,415.95218175463776,556.58718703221439,620.82300000000009,0,348.8,440,549.66699383606965,97.45,75,0,0,918.25,0,0,4723.6291341330179]
["8.","BANGOVÁ","Zuzana","6.B",null,677.0925605117327,346.09707872691786,438.29737875774276,568.65300000000002,609.5,312.40000000000003,330.66666666666669,0,0,0,0,0,574.5,501.27195467422098,0,4358.4786393372806]
["9.","HOLUBOVÁ","Denisa","6.B",null,620.66646906138874,397.80115108181076,449.70335411193457,563.43600000000004,642,330.6,488.88888888888886,570.32821678523646,278.02,0,0,0,580.75,505.97639282341834,0,5428.1704727526776]
["10.","HURKALO","Karolina","6.B",null,462.1733456807242,259.3769650597817,0,0,0,185,0,0,0,0,0,0,418.25,0,0,1324.8003107405059]
["11.","HUTNIK-MAMONOVA","Nana","6.B",null,523.58555395738085,0,0,0,0,94,0,560.76547889083076,0,0,0,0,80.75,0,0,1259.1010328482116]
["12.","MARINOVA","Darja","6.B",null,620.66646906138874,495.99521518468077,0,0,0,0,0,0,430.81,0,0,0,418.25,0,0,1965.7216842460693]
["13.","NYKLÍČKOVÁ","Klára","6.B",null,711.8748146316949,600.91319749562012,634.13304470646301,568.65300000000002,544.5,357.90000000000003,335.99999999999994,651.44822263095227,430.81,24,0,0,980.75,703.56279508970738,0,6544.5450745544385]
["14.","PANCHAYEVA","Sofiia","6.B",null,620.66646906138874,383.26464173534737,480.20637024820041,0,0,{"$f":"K48","v":112.2},0,584.73043971349637,375.25,0,0,0,0,0,0,2556.317920758433]
["15.",{"$f":"B49","v":"PIČMANOVÁ"},"Klára","6.B",null,673.12850756463183,378.08835198988345,0,565.17500000000007,0,0,0,530.31949026517339,0,0,0,0,0,0,0,2146.7113498196891]
[]
[]
[]
[]
[]
[]
[]
[]
[]
[]
[]
[]
[]
[]
[null,null,null,null,null,"60  m  ","300m","800m","dálka","výška","míček","koule","člunek","lehsed","odbíjení ","plavání","šplh","švihadlo","z místa"," REPRE","   CELKEM"]
[null,{"$f":"'D60'!B111","v":"FARSKÁ"},{"$f":"'D60'!C111","v":"Anna"},{"$f":"'D60'!D111","v":"6.A"},null,{"$f":"'D60'!H111","v":758.21397803640605},{"$f":"'D300'!H111","v":622.24997622749765},{"$f":"'D800'!H111","v":477.95266771987951},{"$f":"Ddál!H111","v":735.59700000000009},{"$f":"Dvýš!H111","v":642},{"$f":"Dmíč!H111","v":357.90000000000003},{"$f":"Dkou!H111","v":484.44444444444446},{"$f":"Dčlu!H111","v":551.03251424856637},{"$f":"Dls!H111","v":514.15000000000009},{"$f":"Dodbíj!H111","v":30},{"$f":"Dplav!H111","v":0},{"$f":"Dšplh!H111","v":493.3599776733713},{"$f":"Dšvih!H111","v":655.75},{"$f":"'Dz mís'!H111","v":755.31161473087832},{"$f":"Drepre!E4","v":125},{"$f":"SUM(F35:T35)","v":7202.9621730810441}]
[null,{"$f":"'D60'!B112","v":"FARSKÁ"},{"$f":"'D60'!C112","v":"Eliška"},{"$f":"'D60'!D112","v":"6.A"},null,{"$f":"'D60'!H112","v":804.04153092451486},{"$f":"'D300'!H112","v":521.35624888979487},{"$f":"'D800'!H112","v":608.15072472211466},{"$f":"Ddál!H112","v":794.72300000000007},{"$f":"Dvýš!H112","v":642},{"$f":"Dmíč!H112","v":367},{"$f":"Dkou!H112","v":436.44444444444446},{"$f":"Dčlu!H112","v":592.4416662675718},{"$f":"Dls!H112","v":361.36},{"$f":"Dodbíj!H112","v":27},{"$f":"Dplav!H112","v":0},{"$f":"Dšplh!H112","v":537.86200182533878},{"$f":"Dšvih!H112","v":687},{"$f":"'Dz mís'!H112","v":783.53824362606247},{"$f":"Drepre!E5","v":75},7237.9178606998421]
[null,{"$f":"'D60'!B113","v":"FEDORKOVÁ"},{"$f":"'D60'!C113","v":"Denisa"},{"$f":"'D60'!D113","v":"6.A"},null,{"$f":"'D60'!H113","v":661.48847929946976},{"$f":"'D300'!H113","v":391.68222888787022},{"$f":"'D800'!H113","v":0},{"$f":"Ddál!H113","v":565.17500000000007},{"$f":"Dvýš!H113","v":609.5},{"$f":"Dmíč!H113","v":276},{"$f":"Dkou!H113","v":353.77777777777777},{"$f":"Dčlu!H113","v":547.40466323940518},{"$f":"Dls!H113","v":236.35000000000002},{"$f":"Dodbíj!H113","v":27},{"$f":"Dplav!H113","v":0},{"$f":"Dšplh!H113","v":0},{"$f":"Dšvih!H113","v":680.75},{"$f":"'Dz mís'!H113","v":553.02077431539215},{"$f":"Drepre!E6","v":0},4902.148923519916]
[null,{"$f":"'D60'!B114","v":"HAUZEROVÁ"},{"$f":"'D60'!C114","v":"Tereza"},{"$f":"'D60'!D114","v":"6.A"},null,{"$f":"'D60'!H114","v":759.85476902978576},{"$f":"'D300'!H114","v":547.72203540496423},{"$f":"'D800'!H114","v":515.47089492392536},{"$f":"Ddál!H114","v":711.25100000000009},{"$f":"Dvýš!H114","v":642},{"$f":"Dmíč!H114","v":257.8},{"$f":"Dkou!H114","v":319.11111111111109},{"$f":"Dčlu!H114","v":555.62884017859824},{"$f":"Dls!H114","v":291.91000000000003},{"$f":"Dodbíj!H114","v":21},{"$f":"Dplav!H114","v":0},{"$f":"Dšplh!H114","v":0},{"$f":"Dšvih!H114","v":587},{"$f":"'Dz mís'!H114","v":680.04060434372059},{"$f":"Drepre!E7","v":0},5888.7892549921062]
[null,{"$f":"'D60'!B115","v":"JOSKOVÁ"},{"$f":"'D60'!C115","v":"Ellen"},{"$f":"'D60'!D115","v":"6.A"},null,{"$f":"'D60'!H115","v":808.63164511382968},{"$f":"'D300'!H115","v":691.83105464531877},{"$f":"'D800'!H115","v":607.44439111599104},{"$f":"Ddál!H115","v":620.82300000000009},{"$f":"Dvýš!H115","v":609.5},{"$f":"Dmíč!H115","v":294.2},{"$f":"Dkou!H115","v":450.66666666666669},{"$f":"Dčlu!H115","v":592.4416662675718},{"$f":"Dls!H115","v":389.14},{"$f":"Dodbíj!H115","v":9},{"$f":"Dplav!H115","v":0},{"$f":"Dšplh!H115","v":0},{"$f":"Dšvih!H115","v":587},{"$f":"'Dz mís'!H115","v":670.63172804532587},{"$f":"Drepre!E8","v":75},6406.3101518547037]
[null,{"$f":"'D60'!B116","v":"KUŽELOVÁ"},{"$f":"'D60'!C116","v":"Amálie"},{"$f":"'D60'!D116","v":"6.A"},null,{"$f":"'D60'!H116","v":607.88639765358403},{"$f":"'D300'!H116","v":387.71567728427465},{"$f":"'D800'!H116","v":0},{"$f":"Ddál!H116","v":476.48600000000005},{"$f":"Dvýš!H116","v":0},{"$f":"Dmíč!H116","v":0},{"$f":"Dkou!H116","v":0},{"$f":"Dčlu!H116","v":459.8530448051315},{"$f":"Dls!H116","v":361.36},{"$f":"Dodbíj!H116","v":60},{"$f":"Dplav!H116","v":0},{"$f":"Dšplh!H116","v":0},{"$f":"Dšvih!H116","v":443.25},{"$f":"'Dz mís'!H116","v":0},{"$f":"Drepre!E9","v":0},2796.5511197429901]
[null,{"$f":"'D60'!B117","v":"RYŠAVÁ"},{"$f":"'D60'!C117","v":"Amálie"},{"$f":"'D60'!D117","v":"6.A"},null,{"$f":"'D60'!H117","v":701.09977151009628},{"$f":"'D300'!H117","v":415.95218175463776},{"$f":"'D800'!H117","v":556.58718703221439},{"$f":"Ddál!H117","v":620.82300000000009},{"$f":"Dvýš!H117","v":0},{"$f":"Dmíč!H117","v":348.8},{"$f":"Dkou!H117","v":440},{"$f":"Dčlu!H117","v":549.66699383606965},{"$f":"Dls!H117","v":97.45},{"$f":"Dodbíj!H117","v":75},{"$f":"Dplav!H117","v":0},{"$f":"Dšplh!H117","v":0},{"$f":"Dšvih!H117","v":918.25},{"$f":"'Dz mís'!H117","v":0},{"$f":"Drepre!E10","v":0},4723.6291341330179]
[null,{"$f":"'D60'!B118","v":"BANGOVÁ"},{"$f":"'D60'!C118","v":"Zuzana"},{"$f":"'D60'!D118","v":"6.B"},null,{"$f":"'D60'!H118","v":677.0925605117327},{"$f":"'D300'!H118","v":346.09707872691786},{"$f":"'D800'!H118","v":438.29737875774276},{"$f":"Ddál!H118","v":568.65300000000002},{"$f":"Dvýš!H118","v":609.5},{"$f":"Dmíč!H118","v":312.40000000000003},{"$f":"Dkou!H118","v":330.66666666666669},{"$f":"Dčlu!H118","v":0},{"$f":"Dls!H118","v":0},{"$f":"Dodbíj!H118","v":0},{"$f":"Dplav!H118","v":0},{"$f":"Dšplh!H118","v":0},{"$f":"Dšvih!H118","v":574.5},{"$f":"'Dz mís'!H118","v":501.27195467422098},{"$f":"Drepre!E11","v":0},4358.4786393372806]
[null,{"$f":"'D60'!B119","v":"HOLUBOVÁ"},{"$f":"'D60'!C119","v":"Denisa"},{"$f":"'D60'!D119","v":"6.B"},null,{"$f":"'D60'!H119","v":620.66646906138874},{"$f":"'D300'!H119","v":397.80115108181076},{"$f":"'D800'!H119","v":449.70335411193457},{"$f":"Ddál!H119","v":563.43600000000004},{"$f":"Dvýš!H119","v":642},{"$f":"Dmíč!H119","v":330.6},{"$f":"Dkou!H119","v":488.88888888888886},{"$f":"Dčlu!H119","v":570.32821678523646},{"$f":"Dls!H119","v":278.02},{"$f":"Dodbíj!H119","v":0},{"$f":"Dplav!H119","v":0},{"$f":"Dšplh!H119","v":0},{"$f":"Dšvih!H119","v":580.75},{"$f":"'Dz mís'!H119","v":505.97639282341834},{"$f":"Drepre!E12","v":0},5428.1704727526776]
[null,{"$f":"'D60'!B120","v":"HURKALO"},{"$f":"'D60'!C120","v":"Karolina"},{"$f":"'D60'!D120","v":"6.B"},null,{"$f":"'D60'!H120","v":462.1733456807242},{"$f":"'D300'!H120","v":259.3769650597817},{"$f":"'D800'!H120","v":0},{"$f":"Ddál!H120","v":0},{"$f":"Dvýš!H120","v":0},{"$f":"Dmíč!H120","v":185},{"$f":"Dkou!H120","v":0},{"$f":"Dčlu!H120","v":0},{"$f":"Dls!H120","v":0},{"$f":"Dodbíj!H120","v":0},{"$f":"Dplav!H120","v":0},{"$f":"Dšplh!H120","v":0},{"$f":"Dšvih!H120","v":418.25},{"$f":"'Dz mís'!H120","v":0},{"$f":"Drepre!E13","v":0},1324.8003107405059]
[null,{"$f":"'D60'!B121","v":"HUTNIK-MAMONOVA"},{"$f":"'D60'!C121","v":"Nana"},{"$f":"'D60'!D121","v":"6.B"},null,{"$f":"'D60'!H121","v":523.58555395738085},{"$f":"'D300'!H121","v":0},{"$f":"'D800'!H121","v":0},{"$f":"Ddál!H121","v":0},{"$f":"Dvýš!H121","v":0},{"$f":"Dmíč!H121","v":94},{"$f":"Dkou!H121","v":0},{"$f":"Dčlu!H121","v":560.76547889083076},{"$f":"Dls!H121","v":0},{"$f":"Dodbíj!H121","v":0},{"$f":"Dplav!H121","v":0},{"$f":"Dšplh!H121","v":0},{"$f":"Dšvih!H121","v":80.75},{"$f":"'Dz mís'!H121","v":0},{"$f":"Drepre!E14","v":0},1259.1010328482116]
[null,{"$f":"'D60'!B122","v":"MARINOVA"},{"$f":"'D60'!C122","v":"Darja"},{"$f":"'D60'!D122","v":"6.B"},null,{"$f":"'D60'!H122","v":620.66646906138874},{"$f":"'D300'!H122","v":495.99521518468077},{"$f":"'D800'!H122","v":0},{"$f":"Ddál!H122","v":0},{"$f":"Dvýš!H122","v":0},{"$f":"Dmíč!H122","v":0},{"$f":"Dkou!H122","v":0},{"$f":"Dčlu!H122","v":0},{"$f":"Dls!H122","v":430.81},{"$f":"Dodbíj!H122","v":0},{"$f":"Dplav!H122","v":0},{"$f":"Dšplh!H122","v":0},{"$f":"Dšvih!H122","v":418.25},{"$f":"'Dz mís'!H122","v":0},{"$f":"Drepre!E15","v":0},1965.7216842460693]
[null,{"$f":"'D60'!B123","v":"NYKLÍČKOVÁ"},{"$f":"'D60'!C123","v":"Klára"},{"$f":"'D60'!D123","v":"6.B"},null,{"$f":"'D60'!H123","v":711.8748146316949},{"$f":"'D300'!H123","v":600.91319749562012},{"$f":"'D800'!H123","v":634.13304470646301},{"$f":"Ddál!H123","v":568.65300000000002},{"$f":"Dvýš!H123","v":544.5},{"$f":"Dmíč!H123","v":357.90000000000003},{"$f":"Dkou!H123","v":335.99999999999994},{"$f":"Dčlu!H123","v":651.44822263095227},{"$f":"Dls!H123","v":430.81},{"$f":"Dodbíj!H123","v":24},{"$f":"Dplav!H123","v":0},{"$f":"Dšplh!H123","v":0},{"$f":"Dšvih!H123","v":980.75},{"$f":"'Dz mís'!H123","v":703.56279508970738},{"$f":"Drepre!E16","v":0},6544.5450745544385]
[null,{"$f":"'D60'!B124","v":"PANCHAYEVA"},{"$f":"'D60'!C124","v":"Sofiia"},{"$f":"'D60'!D124","v":"6.B"},null,{"$f":"'D60'!H124","v":620.66646906138874},{"$f":"'D300'!H124","v":383.26464173534737},{"$f":"'D800'!H124","v":480.20637024820041},{"$f":"Ddál!H124","v":0},{"$f":"Dvýš!H124","v":0},{"$f":"Dmíč!H124","v":112.2},{"$f":"Dkou!H124","v":0},{"$f":"Dčlu!H124","v":584.73043971349637},{"$f":"Dls!H124","v":375.25},{"$f":"Dodbíj!H124","v":0},{"$f":"Dplav!H124","v":0},{"$f":"Dšplh!H124","v":0},{"$f":"Dšvih!H124","v":0},{"$f":"'Dz mís'!H124","v":0},{"$f":"Drepre!E17","v":0},2556.317920758433]
[null,{"$f":"'D60'!B125","v":"PIČMANOVÁ"},{"$f":"'D60'!C125","v":"Klára"},{"$f":"'D60'!D125","v":"6.B"},null,{"$f":"'D60'!H125","v":673.12850756463183},{"$f":"'D300'!H125","v":378.08835198988345},{"$f":"'D800'!H125","v":0},{"$f":"Ddál!H125","v":565.17500000000007},{"$f":"Dvýš!H125","v":0},{"$f":"Dmíč!H125","v":0},{"$f":"Dkou!H125","v":0},{"$f":"Dčlu!H125","v":530.31949026517339},{"$f":"Dls!H125","v":0},{"$f":"Dodbíj!H125","v":0},{"$f":"Dplav!H125","v":0},{"$f":"Dšplh!H125","v":0},{"$f":"Dšvih!H125","v":0},{"$f":"'Dz mís'!H125","v":0},{"$f":"Drepre!E18","v":0},2146.7113498196891]
[null,{"$f":"'D60'!B126","v":"ŠIMŮNKOVÁ"},{"$f":"'D60'!C126","v":"Anežka"},{"$f":"'D60'!D126","v":"6.B"},null,{"$f":"'D60'!H126","v":728.24261823069514},{"$f":"'D300'!H126","v":443.94589452659591},{"$f":"'D800'!H126","v":446.05952696921713},{"$f":"Ddál!H126","v":636.47400000000005},{"$f":"Dvýš!H126","v":642},{"$f":"Dmíč!H126","v":0},{"$f":"Dkou!H126","v":369.77777777777777},{"$f":"Dčlu!H126","v":536.77551028268806},{"$f":"Dls!H126","v":430.81},{"$f":"Dodbíj!H126","v":15},{"$f":"Dplav!H126","v":0},{"$f":"Dšplh!H126","v":0},{"$f":"Dšvih!H126","v":712},{"$f":"'Dz mís'!H126","v":632.99622285174701},{"$f":"Drepre!E19","v":0},5594.0815506387216]
[null,{"$f":"'D60'!B127","v":"TRPIŠOVSKÁ"},{"$f":"'D60'!C127","v":"Nela"},{"$f":"'D60'!D127","v":"6.B"},null,{"$f":"'D60'!H127","v":742.16065947642437},{"$f":"'D300'!H127","v":469.94561211744815},{"$f":"'D800'!H127","v":461.37021268111266},{"$f":"Ddál!H127","v":638.21300000000008},{"$f":"Dvýš!H127","v":642},{"$f":"Dmíč!H127","v":376.1},{"$f":"Dkou!H127","v":377.77777777777777},{"$f":"Dčlu!H127","v":631.01519605217129},{"$f":"Dls!H127","v":514.15000000000009},{"$f":"Dodbíj!H127","v":18},{"$f":"Dplav!H127","v":0},{"$f":"Dšplh!H127","v":0},{"$f":"Dšvih!H127","v":830.75},{"$f":"'Dz mís'!H127","v":670.63172804532587},{"$f":"Drepre!E20","v":25},6397.1141861502601]
[null,{"$f":"'D60'!B128","v":"HEJRALOVÁ"},{"$f":"'D60'!C128","v":"Natálie"},{"$f":"'D60'!D128","v":"7.A"},null,{"$f":"'D60'!H128","v":768.15856929039899},{"$f":"'D300'!H128","v":697.55772541198155},{"$f":"'D800'!H128","v":685.20261542453602},{"$f":"Ddál!H128","v":721.68500000000006},{"$f":"Dvýš!H128","v":739.5},{"$f":"Dmíč!H128","v":412.5},{"$f":"Dkou!H128","v":564.44444444444446},{"$f":"Dčlu!H128","v":671.16245086571166},{"$f":"Dls!H128","v":597.49},{"$f":"Dodbíj!H128","v":39},{"$f":"Dplav!H128","v":507.96480402700746},{"$f":"Dšplh!H128","v":0},{"$f":"Dšvih!H128","v":655.75},{"$f":"'Dz mís'!H128","v":675.33616619452323},{"$f":"Drepre!E21","v":75},7810.7517756586039]
[null,{"$f":"'D60'!B129","v":"KERLE"},{"$f":"'D60'!C129","v":"Nikita"},{"$f":"'D60'!D129","v":"7.A"},null,{"$f":"'D60'!H129","v":771.52744304175155},{"$f":"'D300'!H129","v":720.87869476436185},{"$f":"'D800'!H129","v":736.17880838323788},{"$f":"Ddál!H129","v":824.28600000000006},{"$f":"Dvýš!H129","v":674.5},{"$f":"Dmíč!H129","v":458},{"$f":"Dkou!H129","v":486.22222222222217},{"$f":"Dčlu!H129","v":678.42346918655812},{"$f":"Dls!H129","v":722.5},{"$f":"Dodbíj!H129","v":42},{"$f":"Dplav!H129","v":0},{"$f":"Dšplh!H129","v":490.17333200324731},{"$f":"Dšvih!H129","v":674.5},{"$f":"'Dz mís'!H129","v":694.15391879131289},{"$f":"Drepre!E22","v":225},8198.343888392692]
[null,{"$f":"'D60'!B130","v":"MUNZAROVÁ"},{"$f":"'D60'!C130","v":"Aneta"},{"$f":"'D60'!D130","v":"7.A"},null,{"$f":"'D60'!H130","v":0},{"$f":"'D300'!H130","v":0},{"$f":"'D800'!H130","v":0},{"$f":"Ddál!H130","v":0},{"$f":"Dvýš!H130","v":0},{"$f":"Dmíč!H130","v":221.4},{"$f":"Dkou!H130","v":0},{"$f":"Dčlu!H130","v":540.27690894219938},{"$f":"Dls!H130","v":458.59000000000003},{"$f":"Dodbíj!H130","v":15},{"$f":"Dplav!H130","v":0},{"$f":"Dšplh!H130","v":0},{"$f":"Dšvih!H130","v":0},{"$f":"'Dz mís'!H130","v":501.27195467422098},{"$f":"Drepre!E23","v":0},1736.5388636164203]
[null,{"$f":"'D60'!B131","v":"PACLÍKOVÁ"},{"$f":"'D60'!C131","v":"Markéta"},{"$f":"'D60'!D131","v":"7.A"},null,{"$f":"'D60'!H131","v":808.63164511382968},{"$f":"'D300'!H131","v":713.88728252063936},{"$f":"'D800'!H131","v":712.5475324469885},{"$f":"Ddál!H131","v":747.7700000000001},{"$f":"Dvýš!H131","v":804.5},{"$f":"Dmíč!H131","v":594.13599999999997},{"$f":"Dkou!H131","v":520.88888888888891},{"$f":"Dčlu!H131","v":682.44523321848476},{"$f":"Dls!H131","v":708.61},{"$f":"Dodbíj!H131","v":360.8},{"$f":"Dplav!H131","v":521.68668828400882},{"$f":"Dšplh!H131","v":460.31159011685509},{"$f":"Dšvih!H131","v":674.5},{"$f":"'Dz mís'!H131","v":778.83380547686511},{"$f":"Drepre!E24","v":175},9264.5486660665592]
[null,{"$f":"'D60'!B132","v":"PLŮCHOVÁ"},{"$f":"'D60'!C132","v":"Michaela"},{"$f":"'D60'!D132","v":"7.A"},null,{"$f":"'D60'!H132","v":808.63164511382968},{"$f":"'D300'!H132","v":733.66476192136281},{"$f":"'D800'!H132","v":713.00835299463017},{"$f":"Ddál!H132","v":770.37700000000007},{"$f":"Dvýš!H132","v":804.5},{"$f":"Dmíč!H132","v":439.8},{"$f":"Dkou!H132","v":633.77777777777771},{"$f":"Dčlu!H132","v":644.70635054098352},{"$f":"Dls!H132","v":500.26},{"$f":"Dodbíj!H132","v":42},{"$f":"Dplav!H132","v":0},{"$f":"Dšplh!H132","v":394.35133854331809},{"$f":"Dšvih!H132","v":674.5},{"$f":"'Dz mís'!H132","v":661.22285174693116},{"$f":"Drepre!E25","v":225},8045.8000786388329]
[null,{"$f":"'D60'!B133","v":"ŠERCLOVÁ"},{"$f":"'D60'!C133","v":"Nikola"},{"$f":"'D60'!D133","v":"7.A"},null,{"$f":"'D60'!H133","v":0},{"$f":"'D300'!H133","v":543.17947790538858},{"$f":"'D800'!H133","v":602.72760258372227},{"$f":"Ddál!H133","v":0},{"$f":"Dvýš!H133","v":609.5},{"$f":"Dmíč!H133","v":403.40000000000003},{"$f":"Dkou!H133","v":423.99999999999994},{"$f":"Dčlu!H133","v":580.1907270274296},{"$f":"Dls!H133","v":444.70000000000005},{"$f":"Dodbíj!H133","v":30},{"$f":"Dplav!H133","v":0},{"$f":"Dšplh!H133","v":0},{"$f":"Dšvih!H133","v":493.25},{"$f":"'Dz mís'!H133","v":670.63172804532587},{"$f":"Drepre!E26","v":25},4826.5795355618666]
[null,{"$f":"'D60'!B134","v":"VÁCLAVÍKOVÁ"},{"$f":"'D60'!C134","v":"Alena"},{"$f":"'D60'!D134","v":"7.A"},null,{"$f":"'D60'!H134","v":753.33082715172645},{"$f":"'D300'!H134","v":697.40199969092157},{"$f":"'D800'!H134","v":645.03126695323635},{"$f":"Ddál!H134","v":671.25400000000002},{"$f":"Dvýš!H134","v":609.5},{"$f":"Dmíč!H134","v":385.2},{"$f":"Dkou!H134","v":297.77777777777777},{"$f":"Dčlu!H134","v":675.76644790420426},{"$f":"Dls!H134","v":528.04},{"$f":"Dodbíj!H134","v":42},{"$f":"Dplav!H134","v":0},{"$f":"Dšplh!H134","v":0},{"$f":"Dšvih!H134","v":0},{"$f":"'Dz mís'!H134","v":698.85835694051002},{"$f":"Drepre!E27","v":25},6029.1606764183762]
[null,{"$f":"'D60'!B135","v":"DUCHÁČKOVÁ"},{"$f":"'D60'!C135","v":"Tereza"},{"$f":"'D60'!D135","v":"7.B"},null,{"$f":"'D60'!H135","v":621.2332467142063},{"$f":"'D300'!H135","v":383.93481048379067},{"$f":"'D800'!H135","v":364.44689410826766},{"$f":"Ddál!H135","v":0},{"$f":"Dvýš!H135","v":577},{"$f":"Dmíč!H135","v":257.8},{"$f":"Dkou!H135","v":334.22222222222217},{"$f":"Dčlu!H135","v":549.66699383606965},{"$f":"Dls!H135","v":458.59000000000003},{"$f":"Dodbíj!H135","v":30},{"$f":"Dplav!H135","v":0},{"$f":"Dšplh!H135","v":0},{"$f":"Dšvih!H135","v":255.75},{"$f":"'Dz mís'!H135","v":411.88762983947129},{"$f":"Drepre!E28","v":0},4244.5317972040284]
[null,{"$f":"'D60'!B136","v":"FLAŠKOVÁ"},{"$f":"'D60'!C136","v":"Anna Sabriel"},{"$f":"'D60'!D136","v":"7.B"},null,{"$f":"'D60'!H136","v":665.97089610992589},{"$f":"'D300'!H136","v":0},{"$f":"'D800'!H136","v":0},{"$f":"Ddál!H136","v":678.21},{"$f":"Dvýš!H136","v":609.5},{"$f":"Dmíč!H136","v":430.7},{"$f":"Dkou!H136","v":364.44444444444446},{"$f":"Dčlu!H136","v":543.81971364646461},{"$f":"Dls!H136","v":444.70000000000005},{"$f":"Dodbíj!H136","v":21},{"$f":"Dplav!H136","v":0},{"$f":"Dšplh!H136","v":0},{"$f":"Dšvih!H136","v":255.75},{"$f":"'Dz mís'!H136","v":515.38526912181328},{"$f":"Drepre!E29","v":0},4529.4803233226485]
[null,{"$f":"'D60'!B137","v":"HAASOVÁ"},{"$f":"'D60'!C137","v":"Julie"},{"$f":"'D60'!D137","v":"7.B"},null,{"$f":"'D60'!H137","v":754.14062851146559},{"$f":"'D300'!H137","v":0},{"$f":"'D800'!H137","v":0},{"$f":"Ddál!H137","v":742.553},{"$f":"Dvýš!H137","v":0},{"$f":"Dmíč!H137","v":330.6},{"$f":"Dkou!H137","v":0},{"$f":"Dčlu!H137","v":0},{"$f":"Dls!H137","v":0},{"$f":"Dodbíj!H137","v":0},{"$f":"Dplav!H137","v":0},{"$f":"Dšplh!H137","v":0},{"$f":"Dšvih!H137","v":0},{"$f":"'Dz mís'!H137","v":0},{"$f":"Drepre!E30","v":50},1877.2936285114656]
[null,{"$f":"'D60'!B138","v":"HEGROVÁ"},{"$f":"'D60'!C138","v":"Štěpánka"},{"$f":"'D60'!D138","v":"7.B"},null,{"$f":"'D60'!H138","v":706.8086895057902},{"$f":"'D300'!H138","v":570.69881604537841},{"$f":"'D800'!H138","v":443.56508788193503},{"$f":"Ddál!H138","v":659.08100000000002},{"$f":"Dvýš!H138","v":0},{"$f":"Dmíč!H138","v":321.5},{"$f":"Dkou!H138","v":352},{"$f":"Dčlu!H138","v":0},{"$f":"Dls!H138","v":0},{"$f":"Dodbíj!H138","v":18},{"$f":"Dplav!H138","v":0},{"$f":"Dšplh!H138","v":0},{"$f":"Dšvih!H138","v":249.5},{"$f":"'Dz mís'!H138","v":0},{"$f":"Drepre!E31","v":0},3321.1535934331037]
[null,{"$f":"'D60'!B139","v":"HOBLOVÁ"},{"$f":"'D60'!C139","v":"Barbora"},{"$f":"'D60'!D139","v":"7.B"},null,{"$f":"'D60'!H139","v":780.93496227634739},{"$f":"'D300'!H139","v":697.40199969092157},{"$f":"'D800'!H139","v":0},{"$f":"Ddál!H139","v":652.125},{"$f":"Dvýš!H139","v":609.5},{"$f":"Dmíč!H139","v":376.1},{"$f":"Dkou!H139","v":424.88888888888891},{"$f":"Dčlu!H139","v":578.19356870338538},{"$f":"Dls!H139","v":319.69},{"$f":"Dodbíj!H139","v":30},{"$f":"Dplav!H139","v":0},{"$f":"Dšplh!H139","v":520.17289247563417},{"$f":"Dšvih!H139","v":562},{"$f":"'Dz mís'!H139","v":623.58734655335252},{"$f":"Drepre!E32","v":0},6174.5946585885295]
[null,{"$f":"'D60'!B140","v":"HORÁČKOVÁ"},{"$f":"'D60'!C140","v":"Valérie"},{"$f":"'D60'!D140","v":"7.B"},null,{"$f":"'D60'!H140","v":859.43304404692185},{"$f":"'D300'!H140","v":754.65433227943402},{"$f":"'D800'!H140","v":722.9320854899637},{"$f":"Ddál!H140","v":754.726},{"$f":"Dvýš!H140","v":674.5},{"$f":"Dmíč!H140","v":367},{"$f":"Dkou!H140","v":466.66666666666663},{"$f":"Dčlu!H140","v":679.75919999426321},{"$f":"Dls!H140","v":528.04},{"$f":"Dodbíj!H140","v":36},{"$f":"Dplav!H140","v":652.45096338546455},{"$f":"Dšplh!H140","v":0},{"$f":"Dšvih!H140","v":387},{"$f":"'Dz mís'!H140","v":741.19830028328624},{"$f":"Drepre!E33","v":125},7749.3605921460003]
[null,{"$f":"'D60'!B141","v":"JIRANOVÁ"},{"$f":"'D60'!C141","v":"Anežka"},{"$f":"'D60'!D141","v":"7.B"},null,{"$f":"'D60'!H141","v":593.48381283226661},{"$f":"'D300'!H141","v":418.94458005558454},{"$f":"'D800'!H141","v":410.26461023024342},{"$f":"Ddál!H141","v":0},{"$f":"Dvýš!H141","v":0},{"$f":"Dmíč!H141","v":367},{"$f":"Dkou!H141","v":434.66666666666663},{"$f":"Dčlu!H141","v":547.85578273338285},{"$f":"Dls!H141","v":403.03000000000003},{"$f":"Dodbíj!H141","v":27},{"$f":"Dplav!H141","v":0},{"$f":"Dšplh!H141","v":0},{"$f":"Dšvih!H141","v":243.25},{"$f":"'Dz mís'!H141","v":402.47875354107657},{"$f":"Drepre!E34","v":25},3872.9742060592207]
[null,{"$f":"'D60'!B142","v":"KRČÍKOVÁ"},{"$f":"'D60'!C142","v":"Beatrix"},{"$f":"'D60'!D142","v":"7.B"},null,{"$f":"'D60'!H142","v":813.27085143351144},{"$f":"'D300'!H142","v":671.97354979907107},{"$f":"'D800'!H142","v":663.41962636259291},{"$f":"Ddál!H142","v":792.98400000000004},{"$f":"Dvýš!H142","v":804.5},{"$f":"Dmíč!H142","v":582.48799999999994},{"$f":"Dkou!H142","v":614.22222222222217},{"$f":"Dčlu!H142","v":657.69029784446377},{"$f":"Dls!H142","v":708.61},{"$f":"Dodbíj!H142","v":42},{"$f":"Dplav!H142","v":0},{"$f":"Dšplh!H142","v":487.33907490158168},{"$f":"Dšvih!H142","v":437},{"$f":"'Dz mís'!H142","v":741.19830028328624},{"$f":"Drepre!E35","v":225},8241.6959228467294]
[null,{"$f":"'D60'!B143","v":"KUBÁTOVÁ"},{"$f":"'D60'!C143","v":"Veronika"},{"$f":"'D60'!D143","v":"7.B"},null,{"$f":"'D60'!H143","v":626.37711112633042},{"$f":"'D300'!H143","v":406.63578923250793},{"$f":"'D800'!H143","v":382.99800298524974},{"$f":"Ddál!H143","v":0},{"$f":"Dvýš!H143","v":0},{"$f":"Dmíč!H143","v":203.20000000000002},{"$f":"Dkou!H143","v":266.66666666666669},{"$f":"Dčlu!H143","v":572.76519646553061},{"$f":"Dls!H143","v":291.91000000000003},{"$f":"Dodbíj!H143","v":30},{"$f":"Dplav!H143","v":0},{"$f":"Dšplh!H143","v":0},{"$f":"Dšvih!H143","v":130.75},{"$f":"'Dz mís'!H143","v":567.13408876298399},{"$f":"Drepre!E36","v":0},{"$f":"SUM(F67:T67)","v":3478.4368552392693}]
[null,{"$f":"'D60'!B144","v":"LENČEŠOVÁ"},{"$f":"'D60'!C144","v":"Silvie"},{"$f":"'D60'!D144","v":"7.B"},null,{"$f":"'D60'!H144","v":652.68792273443864},{"$f":"'D300'!H144","v":623.69463422569402},{"$f":"'D800'!H144","v":627.50978446946226},{"$f":"Ddál!H144","v":652.125},{"$f":"Dvýš!H144","v":577},{"$f":"Dmíč!H144","v":458},{"$f":"Dkou!H144","v":337.77777777777777},{"$f":"Dčlu!H144","v":571.78814289533375},{"$f":"Dls!H144","v":389.14},{"$f":"Dodbíj!H144","v":42},{"$f":"Dplav!H144","v":0},{"$f":"Dšplh!H144","v":0},{"$f":"Dšvih!H144","v":512},{"$f":"'Dz mís'!H144","v":576.54296506137871},{"$f":"Drepre!E37","v":0},6020.2662271640856]
[null,{"$f":"'D60'!B145","v":"LUKEŠOVÁ"},{"$f":"'D60'!C145","v":"Lucie"},{"$f":"'D60'!D145","v":"7.B"},null,{"$f":"'D60'!H145","v":665.97089610992589},{"$f":"'D300'!H145","v":597.93588310609687},{"$f":"'D800'!H145","v":513.36447451858442},{"$f":"Ddál!H145","v":619.08400000000006},{"$f":"Dvýš!H145","v":0},{"$f":"Dmíč!H145","v":348.8},{"$f":"Dkou!H145","v":324.44444444444446},{"$f":"Dčlu!H145","v":0},{"$f":"Dls!H145","v":0},{"$f":"Dodbíj!H145","v":30},{"$f":"Dplav!H145","v":0},{"$f":"Dšplh!H145","v":0},{"$f":"Dšvih!H145","v":493.25},{"$f":"'Dz mís'!H145","v":0},{"$f":"Drepre!E38","v":0},3592.8496981790513]
[null,{"$f":"'D60'!B146","v":"MATERNOVÁ"},{"$f":"'D60'!C146","v":"Lenka"},{"$f":"'D60'!D146","v":"7.B"},null,{"$f":"'D60'!H146","v":806.78975215888181},{"$f":"'D300'!H146","v":737.72175306286545},{"$f":"'D800'!H146","v":702.9035171688447},{"$f":"Ddál!H146","v":0},{"$f":"Dvýš!H146","v":674.5},{"$f":"Dmíč!H146","v":266.90000000000003},{"$f":"Dkou!H146","v":328},{"$f":"Dčlu!H146","v":658.95190037001169},{"$f":"Dls!H146","v":583.6},{"$f":"Dodbíj!H146","v":42},{"$f":"Dplav!H146","v":0},{"$f":"Dšplh!H146","v":796.762157260462},{"$f":"Dšvih!H146","v":443.25},{"$f":"'Dz mís'!H146","v":694.15391879131289},{"$f":"Drepre!E39","v":50},6785.5329988123794]
[null,{"$f":"'D60'!B147","v":"TÓTHOVÁ"},{"$f":"'D60'!C147","v":"Viktorie"},{"$f":"'D60'!D147","v":"7.B"},null,{"$f":"'D60'!H147","v":720.71735479955373},{"$f":"'D300'!H147","v":636.1107653914039},{"$f":"'D800'!H147","v":640.90819787651765},{"$f":"Ddál!H147","v":0},{"$f":"Dvýš!H147","v":642},{"$f":"Dmíč!H147","v":403.40000000000003},{"$f":"Dkou!H147","v":467.55555555555549},{"$f":"Dčlu!H147","v":592.96232302451369},{"$f":"Dls!H147","v":514.15000000000009},{"$f":"Dodbíj!H147","v":27},{"$f":"Dplav!H147","v":0},{"$f":"Dšplh!H147","v":0},{"$f":"Dšvih!H147","v":368.25},{"$f":"'Dz mís'!H147","v":736.49386213408889},{"$f":"Drepre!E40","v":0},5749.5480587816337]
[null,{"$f":"'D60'!B148","v":"DUONG"},{"$f":"'D60'!C148","v":"Ngoc Linh"},{"$f":"'D60'!D148","v":"8.A"},null,{"$f":"'D60'!H148","v":762.32834820107416},{"$f":"'D300'!H148","v":0},{"$f":"'D800'!H148","v":0},{"$f":"Ddál!H148","v":758.20400000000006},{"$f":"Dvýš!H148","v":707},{"$f":"Dmíč!H148","v":630.9},{"$f":"Dkou!H148","v":718.22222222222217},{"$f":"Dčlu!H148","v":0},{"$f":"Dls!H148","v":0},{"$f":"Dodbíj!H148","v":0},{"$f":"Dplav!H148","v":0},{"$f":"Dšplh!H148","v":0},{"$f":"Dšvih!H148","v":0},{"$f":"'Dz mís'!H148","v":0},{"$f":"Drepre!E41","v":125},3701.6545704232967]
[null,{"$f":"'D60'!B149","v":"GINGALOVÁ"},{"$f":"'D60'!C149","v":"Linda"},{"$f":"'D60'!D149","v":"8.A"},null,{"$f":"'D60'!H149","v":799.49973372666659},{"$f":"'D300'!H149","v":720.06033721385108},{"$f":"'D800'!H149","v":590.58243003452105},{"$f":"Ddál!H149","v":759.9430000000001},{"$f":"Dvýš!H149","v":811},{"$f":"Dmíč!H149","v":558.1},{"$f":"Dkou!H149","v":538.66666666666663},{"$f":"Dčlu!H149","v":0},{"$f":"Dls!H149","v":514.15000000000009},{"$f":"Dodbíj!H149","v":60},{"$f":"Dplav!H149","v":0},{"$f":"Dšplh!H149","v":0},{"$f":"Dšvih!H149","v":0},{"$f":"'Dz mís'!H149","v":778.83380547686511},{"$f":"Drepre!E42","v":75},6205.8359731185701]
[null,{"$f":"'D60'!B150","v":"HOFMANOVÁ "},{"$f":"'D60'!C150","v":"Nicol"},{"$f":"'D60'!D150","v":"8.A"},null,{"$f":"'D60'!H150","v":694.08223034502919},{"$f":"'D300'!H150","v":0},{"$f":"'D800'!H150","v":0},{"$f":"Ddál!H150","v":0},{"$f":"Dvýš!H150","v":0},{"$f":"Dmíč!H150","v":0},{"$f":"Dkou!H150","v":0},{"$f":"Dčlu!H150","v":0},{"$f":"Dls!H150","v":458.59000000000003},{"$f":"Dodbíj!H150","v":0},{"$f":"Dplav!H150","v":0},{"$f":"Dšplh!H150","v":0},{"$f":"Dšvih!H150","v":468.25},{"$f":"'Dz mís'!H150","v":482.45420207743166},{"$f":"Drepre!E43","v":0},2103.3764324224608]
[null,{"$f":"'D60'!B151","v":"HOLEŠOVSKÁ"},{"$f":"'D60'!C151","v":"Aneta"},{"$f":"'D60'!D151","v":"8.A"},null,{"$f":"'D60'!H151","v":735.91457295679004},{"$f":"'D300'!H151","v":538.05379129419737},{"$f":"'D800'!H151","v":0},{"$f":"Ddál!H151","v":0},{"$f":"Dvýš!H151","v":0},{"$f":"Dmíč!H151","v":439.8},{"$f":"Dkou!H151","v":0},{"$f":"Dčlu!H151","v":590.36732995249474},{"$f":"Dls!H151","v":0},{"$f":"Dodbíj!H151","v":0},{"$f":"Dplav!H151","v":0},{"$f":"Dšplh!H151","v":0},{"$f":"Dšvih!H151","v":612},{"$f":"'Dz mís'!H151","v":0},{"$f":"Drepre!E44","v":25},2941.1356942034822]
[null,{"$f":"'D60'!B152","v":"HOLUBCOVÁ"},{"$f":"'D60'!C152","v":"Alena"},{"$f":"'D60'!D152","v":"8.A"},null,{"$f":"'D60'!H152","v":839.20544535279009},{"$f":"'D300'!H152","v":792.09605635501987},{"$f":"'D800'!H152","v":656.50016216492304},{"$f":"Ddál!H152","v":765.16000000000008},{"$f":"Dvýš!H152","v":674.5},{"$f":"Dmíč!H152","v":685.5},{"$f":"Dkou!H152","v":754.66666666666674},{"$f":"Dčlu!H152","v":712.60402442478699},{"$f":"Dls!H152","v":778.06000000000006},{"$f":"Dodbíj!H152","v":93},{"$f":"Dplav!H152","v":456.37652827012988},{"$f":"Dšplh!H152","v":0},{"$f":"Dšvih!H152","v":549.5},{"$f":"'Dz mís'!H152","v":811.76487252124662},{"$f":"Drepre!E45","v":200},8768.9337557555627]
[null,{"$f":"'D60'!B153","v":"KOHOUTOVÁ"},{"$f":"'D60'!C153","v":"Anna"},{"$f":"'D60'!D153","v":"8.A"},null,{"$f":"'D60'!H153","v":659.5843689488986},{"$f":"'D300'!H153","v":517.42231756010949},{"$f":"'D800'!H153","v":598.94724606452337},{"$f":"Ddál!H153","v":0},{"$f":"Dvýš!H153","v":609.5},{"$f":"Dmíč!H153","v":321.5},{"$f":"Dkou!H153","v":537.77777777777771},{"$f":"Dčlu!H153","v":509.77487984216629},{"$f":"Dls!H153","v":375.25},{"$f":"Dodbíj!H153","v":42},{"$f":"Dplav!H153","v":0},{"$f":"Dšplh!H153","v":0},{"$f":"Dšvih!H153","v":618.25},{"$f":"'Dz mís'!H153","v":473.04532577903683},{"$f":"Drepre!E46","v":0},5263.0519159725127]
[null,{"$f":"'D60'!B154","v":"KRAUSOVÁ"},{"$f":"'D60'!C154","v":"Anežka"},{"$f":"'D60'!D154","v":"8.A"},null,{"$f":"'D60'!H154","v":728.24261823069514},{"$f":"'D300'!H154","v":583.01192808788062},{"$f":"'D800'!H154","v":537.47702833550841},{"$f":"Ddál!H154","v":0},{"$f":"Dvýš!H154","v":674.5},{"$f":"Dmíč!H154","v":494.40000000000003},{"$f":"Dkou!H154","v":568.88888888888891},{"$f":"Dčlu!H154","v":613.93808880665574},{"$f":"Dls!H154","v":569.71},{"$f":"Dodbíj!H154","v":27},{"$f":"Dplav!H154","v":0},{"$f":"Dšplh!H154","v":0},{"$f":"Dšvih!H154","v":599.5},{"$f":"'Dz mís'!H154","v":661.22285174693116},{"$f":"Drepre!E47","v":25},6082.8914040965592]
[null,{"$f":"'D60'!B155","v":"KUŽELOVÁ"},{"$f":"'D60'!C155","v":"Apoléna"},{"$f":"'D60'!D155","v":"8.A"},null,{"$f":"'D60'!H155","v":725.21514686570504},{"$f":"'D300'!H155","v":0},{"$f":"'D800'!H155","v":398.87216914387989},{"$f":"Ddál!H155","v":0},{"$f":"Dvýš!H155","v":0},{"$f":"Dmíč!H155","v":421.6},{"$f":"Dkou!H155","v":0},{"$f":"Dčlu!H155","v":621.80097057345563},{"$f":"Dls!H155","v":458.59000000000003},{"$f":"Dodbíj!H155","v":24},{"$f":"Dplav!H155","v":0},{"$f":"Dšplh!H155","v":0},{"$f":"Dšvih!H155","v":574.5},{"$f":"'Dz mís'!H155","v":0},{"$f":"Drepre!E48","v":0},3224.5782865830406]
[null,{"$f":"'D60'!B156","v":"MORÁVKOVÁ"},{"$f":"'D60'!C156","v":"Lucie"},{"$f":"'D60'!D156","v":"8.A"},null,{"$f":"'D60'!H156","v":633.35786203763439},{"$f":"'D300'!H156","v":507.52478624172966},{"$f":"'D800'!H156","v":394.71478083925479},{"$f":"Ddál!H156","v":0},{"$f":"Dvýš!H156","v":0},{"$f":"Dmíč!H156","v":312.40000000000003},{"$f":"Dkou!H156","v":546.66666666666663},{"$f":"Dčlu!H156","v":575.71460564747088},{"$f":"Dls!H156","v":333.58000000000004},{"$f":"Dodbíj!H156","v":42},{"$f":"Dplav!H156","v":0},{"$f":"Dšplh!H156","v":0},{"$f":"Dšvih!H156","v":430.75},{"$f":"'Dz mís'!H156","v":0},{"$f":"Drepre!E49","v":0},3776.7087014327562]
[null,{"$f":"'D60'!B157","v":"SKLENÁROVÁ"},{"$f":"'D60'!C157","v":"Eliška"},{"$f":"'D60'!D157","v":"8.A"},null,{"$f":"'D60'!H157","v":0},{"$f":"'D300'!H157","v":0},{"$f":"'D800'!H157","v":0},{"$f":"Ddál!H157","v":0},{"$f":"Dvýš!H157","v":707},{"$f":"Dmíč!H157","v":448.90000000000003},{"$f":"Dkou!H157","v":0},{"$f":"Dčlu!H157","v":0},{"$f":"Dls!H157","v":625.27},{"$f":"Dodbíj!H157","v":0},{"$f":"Dplav!H157","v":0},{"$f":"Dšplh!H157","v":0},{"$f":"Dšvih!H157","v":499.5},{"$f":"'Dz mís'!H157","v":614.17847025495757},{"$f":"Drepre!E50","v":0},2894.8484702549576]
[null,{"$f":"'D60'!B158","v":"ŠEJNOVÁ"},{"$f":"'D60'!C158","v":"Karolína"},{"$f":"'D60'!D158","v":"8.A"},null,{"$f":"'D60'!H158","v":708.97170822379167},{"$f":"'D300'!H158","v":571.2765320865883},{"$f":"'D800'!H158","v":526.01021462028439},{"$f":"Ddál!H158","v":0},{"$f":"Dvýš!H158","v":0},{"$f":"Dmíč!H158","v":330.6},{"$f":"Dkou!H158","v":0},{"$f":"Dčlu!H158","v":577.69622794977874},{"$f":"Dls!H158","v":430.81},{"$f":"Dodbíj!H158","v":42},{"$f":"Dplav!H158","v":0},{"$f":"Dšplh!H158","v":0},{"$f":"Dšvih!H158","v":230.75},{"$f":"'Dz mís'!H158","v":670.63172804532587},{"$f":"Drepre!E51","v":0},4088.7464109257689]
[null,{"$f":"'D60'!B159","v":"ŠTOLFOVÁ"},{"$f":"'D60'!C159","v":"Tereza"},{"$f":"'D60'!D159","v":"8.A"},null,{"$f":"'D60'!H159","v":747.7070730995714},{"$f":"'D300'!H159","v":607.56598741366156},{"$f":"'D800'!H159","v":549.76040400270631},{"$f":"Ddál!H159","v":0},{"$f":"Dvýš!H159","v":609.5},{"$f":"Dmíč!H159","v":0},{"$f":"Dkou!H159","v":0},{"$f":"Dčlu!H159","v":0},{"$f":"Dls!H159","v":569.71},{"$f":"Dodbíj!H159","v":0},{"$f":"Dplav!H159","v":0},{"$f":"Dšplh!H159","v":0},{"$f":"Dšvih!H159","v":230.75},{"$f":"'Dz mís'!H159","v":538.90745986779984},{"$f":"Drepre!E52","v":0},3853.900924383739]
[null,{"$f":"'D60'!B160","v":"ŠUBÍKOVÁ"},{"$f":"'D60'!C160","v":"Klára"},{"$f":"'D60'!D160","v":"8.A"},null,{"$f":"'D60'!H160","v":764.81691876127945},{"$f":"'D300'!H160","v":686.93590725182173},{"$f":"'D800'!H160","v":610.08398429120666},{"$f":"Ddál!H160","v":768.63800000000003},{"$f":"Dvýš!H160","v":739.5},{"$f":"Dmíč!H160","v":421.6},{"$f":"Dkou!H160","v":578.66666666666663},{"$f":"Dčlu!H160","v":676.42890632131048},{"$f":"Dls!H160","v":639.16000000000008},{"$f":"Dodbíj!H160","v":93},{"$f":"Dplav!H160","v":0},{"$f":"Dšplh!H160","v":470.0063093513067},{"$f":"Dšvih!H160","v":705.75},{"$f":"'Dz mís'!H160","v":750.60717658168096},{"$f":"Drepre!E53","v":75},7980.1938692252716]
[null,{"$f":"'D60'!B161","v":"ŠULKOVSKÁ"},{"$f":"'D60'!C161","v":"Klára"},{"$f":"'D60'!D161","v":"8.A"},null,{"$f":"'D60'!H161","v":0},{"$f":"'D300'!H161","v":0},{"$f":"'D800'!H161","v":0},{"$f":"Ddál!H161","v":0},{"$f":"Dvýš!H161","v":0},{"$f":"Dmíč!H161","v":0},{"$f":"Dkou!H161","v":0},{"$f":"Dčlu!H161","v":0},{"$f":"Dls!H161","v":528.04},{"$f":"Dodbíj!H161","v":0},{"$f":"Dplav!H161","v":0},{"$f":"Dšplh!H161","v":524.01137808191447},{"$f":"Dšvih!H161","v":274.5},{"$f":"'Dz mís'!H161","v":0},{"$f":"Drepre!E54","v":25},1351.5513780819144]
[null,{"$f":"'D60'!B162","v":"TULÁČKOVÁ"},{"$f":"'D60'!C162","v":"Natálie"},{"$f":"'D60'!D162","v":"8.A"},null,{"$f":"'D60'!H162","v":714.79995600284633},{"$f":"'D300'!H162","v":620.41850284199995},{"$f":"'D800'!H162","v":549.70590108386784},{"$f":"Ddál!H162","v":791.245},{"$f":"Dvýš!H162","v":0},{"$f":"Dmíč!H162","v":430.7},{"$f":"Dkou!H162","v":448.88888888888886},{"$f":"Dčlu!H162","v":622.9392664049609},{"$f":"Dls!H162","v":0},{"$f":"Dodbíj!H162","v":0},{"$f":"Dplav!H162","v":0},{"$f":"Dšplh!H162","v":0},{"$f":"Dšvih!H162","v":0},{"$f":"'Dz mís'!H162","v":0},{"$f":"Drepre!E55","v":0},4178.6975152225632]
[null,{"$f":"'D60'!B163","v":"VOJTÍŠKOVÁ"},{"$f":"'D60'!C163","v":"Ella"},{"$f":"'D60'!D163","v":"8.A"},null,{"$f":"'D60'!H163","v":816.07826813340478},{"$f":"'D300'!H163","v":767.48320988401326},{"$f":"'D800'!H163","v":745.88903214543836},{"$f":"Ddál!H163","v":759.9430000000001},{"$f":"Dvýš!H163","v":882.5},{"$f":"Dmíč!H163","v":676.4},{"$f":"Dkou!H163","v":682.66666666666663},{"$f":"Dčlu!H163","v":712.60402442478699},{"$f":"Dls!H163","v":583.6},{"$f":"Dodbíj!H163","v":165},{"$f":"Dplav!H163","v":0},{"$f":"Dšplh!H163","v":408.61998836141686},{"$f":"Dšvih!H163","v":612},{"$f":"'Dz mís'!H163","v":774.12936732766775},{"$f":"Drepre!E56","v":75},8661.9135569433965]
[null,{"$f":"'D60'!B164","v":"DRUGÁČOVÁ"},{"$f":"'D60'!C164","v":"Kristinka"},{"$f":"'D60'!D164","v":"8.B"},null,{"$f":"'D60'!H164","v":0},{"$f":"'D300'!H164","v":0},{"$f":"'D800'!H164","v":0},{"$f":"Ddál!H164","v":0},{"$f":"Dvýš!H164","v":0},{"$f":"Dmíč!H164","v":0},{"$f":"Dkou!H164","v":0},{"$f":"Dčlu!H164","v":0},{"$f":"Dls!H164","v":0},{"$f":"Dodbíj!H164","v":0},{"$f":"Dplav!H164","v":0},{"$f":"Dšplh!H164","v":0},{"$f":"Dšvih!H164","v":874.5},{"$f":"'Dz mís'!H164","v":0},{"$f":"Drepre!E57","v":0},874.5]
[null,{"$f":"'D60'!B165","v":"FAJSTAVROVÁ"},{"$f":"'D60'!C165","v":"Karolína"},{"$f":"'D60'!D165","v":"8.B"},null,{"$f":"'D60'!H165","v":872.01294789231349},{"$f":"'D300'!H165","v":786.06218370881879},{"$f":"'D800'!H165","v":854.01532180542665},{"$f":"Ddál!H165","v":779.072},{"$f":"Dvýš!H165","v":642},{"$f":"Dmíč!H165","v":458},{"$f":"Dkou!H165","v":704},{"$f":"Dčlu!H165","v":693.38759734963094},{"$f":"Dls!H165","v":430.81},{"$f":"Dodbíj!H165","v":60},{"$f":"Dplav!H165","v":0},{"$f":"Dšplh!H165","v":0},{"$f":"Dšvih!H165","v":537},{"$f":"'Dz mís'!H165","v":745.9027384324836},{"$f":"Drepre!E58","v":350},7912.2627891886741]
[null,{"$f":"'D60'!B166","v":"FAJSTAVROVÁ"},{"$f":"'D60'!C166","v":"Magdaléna"},{"$f":"'D60'!D166","v":"8.B"},null,{"$f":"'D60'!H166","v":842.18259026556154},{"$f":"'D300'!H166","v":856.26254722276099},{"$f":"'D800'!H166","v":914.06576725535751},{"$f":"Ddál!H166","v":730.38},{"$f":"Dvýš!H166","v":609.5},{"$f":"Dmíč!H166","v":630.9},{"$f":"Dkou!H166","v":511.11111111111109},{"$f":"Dčlu!H166","v":732.82791466699018},{"$f":"Dls!H166","v":541.93000000000006},{"$f":"Dodbíj!H166","v":27},{"$f":"Dplav!H166","v":0},{"$f":"Dšplh!H166","v":412.31897793194071},{"$f":"Dšvih!H166","v":743.25},{"$f":"'Dz mís'!H166","v":788.24268177525983},{"$f":"Drepre!E59","v":250},8589.9715902289827]
[null,{"$f":"'D60'!B167","v":"JINDROVÁ"},{"$f":"'D60'!C167","v":"Barbora"},{"$f":"'D60'!D167","v":"8.B"},null,{"$f":"'D60'!H167","v":714.79995600284633},{"$f":"'D300'!H167","v":0},{"$f":"'D800'!H167","v":604.88726089756619},{"$f":"Ddál!H167","v":740.81400000000008},{"$f":"Dvýš!H167","v":739.5},{"$f":"Dmíč!H167","v":303.3},{"$f":"Dkou!H167","v":342.22222222222223},{"$f":"Dčlu!H167","v":603.01539358793286},{"$f":"Dls!H167","v":444.70000000000005},{"$f":"Dodbíj!H167","v":30},{"$f":"Dplav!H167","v":0},{"$f":"Dšplh!H167","v":451.69735399586978},{"$f":"Dšvih!H167","v":543.25},{"$f":"'Dz mís'!H167","v":0},{"$f":"Drepre!E60","v":25},5543.1861867064381]
[null,{"$f":"'D60'!B168","v":"MAŘASOVÁ"},{"$f":"'D60'!C168","v":"Vendula"},{"$f":"'D60'!D168","v":"8.B"},null,{"$f":"'D60'!H168","v":722.21087451500637},{"$f":"'D300'!H168","v":657.21485614825451},{"$f":"'D800'!H168","v":526.26413767597239},{"$f":"Ddál!H168","v":620.82300000000009},{"$f":"Dvýš!H168","v":707},{"$f":"Dmíč!H168","v":367},{"$f":"Dkou!H168","v":484.44444444444446},{"$f":"Dčlu!H168","v":584.22284477944265},{"$f":"Dls!H168","v":472.48},{"$f":"Dodbíj!H168","v":51},{"$f":"Dplav!H168","v":0},{"$f":"Dšplh!H168","v":0},{"$f":"Dšvih!H168","v":493.25},{"$f":"'Dz mís'!H168","v":0},{"$f":"Drepre!E61","v":25},5710.9101575631194]
[null,{"$f":"'D60'!B169","v":"PETŘÍČKOVÁ"},{"$f":"'D60'!C169","v":"Natálie"},{"$f":"'D60'!D169","v":"8.B"},null,{"$f":"'D60'!H169","v":839.20544535279009},{"$f":"'D300'!H169","v":709.23082855467578},{"$f":"'D800'!H169","v":611.44330240594513},{"$f":"Ddál!H169","v":808.63499999999999},{"$f":"Dvýš!H169","v":0},{"$f":"Dmíč!H169","v":485.3},{"$f":"Dkou!H169","v":502.22222222222223},{"$f":"Dčlu!H169","v":692.00216911019038},{"$f":"Dls!H169","v":0},{"$f":"Dodbíj!H169","v":0},{"$f":"Dplav!H169","v":0},{"$f":"Dšplh!H169","v":0},{"$f":"Dšvih!H169","v":0},{"$f":"'Dz mís'!H169","v":821.17374881964133},{"$f":"Drepre!E62","v":75},5544.2127164654657]
[null,{"$f":"'D60'!B170","v":"PETŘÍKOVÁ"},{"$f":"'D60'!C170","v":"Adéla"},{"$f":"'D60'!D170","v":"8.B"},null,{"$f":"'D60'!H170","v":722.9597822917865},{"$f":"'D300'!H170","v":676.11273636479996},{"$f":"'D800'!H170","v":625.98983350455899},{"$f":"Ddál!H170","v":0},{"$f":"Dvýš!H170","v":577},{"$f":"Dmíč!H170","v":303.3},{"$f":"Dkou!H170","v":0},{"$f":"Dčlu!H170","v":549.213178078797},{"$f":"Dls!H170","v":444.70000000000005},{"$f":"Dodbíj!H170","v":18},{"$f":"Dplav!H170","v":0},{"$f":"Dšplh!H170","v":0},{"$f":"Dšvih!H170","v":262},{"$f":"'Dz mís'!H170","v":388.3654390934845},{"$f":"Drepre!E63","v":0},4567.6409693334272]
[null,{"$f":"'D60'!B171","v":"REGÁLOVÁ"},{"$f":"'D60'!C171","v":"Karolína"},{"$f":"'D60'!D171","v":"8.B"},null,{"$f":"'D60'!H171","v":746.91003059980244},{"$f":"'D300'!H171","v":517.42231756010949},{"$f":"'D800'!H171","v":501.80860805324198},{"$f":"Ddál!H171","v":0},{"$f":"Dvýš!H171","v":0},{"$f":"Dmíč!H171","v":530.80000000000007},{"$f":"Dkou!H171","v":475.55555555555554},{"$f":"Dčlu!H171","v":631.59937482670045},{"$f":"Dls!H171","v":541.93000000000006},{"$f":"Dodbíj!H171","v":93},{"$f":"Dplav!H171","v":0},{"$f":"Dšplh!H171","v":0},{"$f":"Dšvih!H171","v":0},{"$f":"'Dz mís'!H171","v":0},{"$f":"Drepre!E64","v":25},4064.0258865954102]
[null,{"$f":"'D60'!B172","v":"RIEGROVÁ"},{"$f":"'D60'!C172","v":"Magdaléna"},{"$f":"'D60'!D172","v":"8.B"},null,{"$f":"'D60'!H172","v":718.48775339402607},{"$f":"'D300'!H172","v":0},{"$f":"'D800'!H172","v":547.7496001220818},{"$f":"Ddál!H172","v":0},{"$f":"Dvýš!H172","v":642},{"$f":"Dmíč!H172","v":321.5},{"$f":"Dkou!H172","v":0},{"$f":"Dčlu!H172","v":598.21504066908403},{"$f":"Dls!H172","v":0},{"$f":"Dodbíj!H172","v":18},{"$f":"Dplav!H172","v":0},{"$f":"Dšplh!H172","v":504.74963455092563},{"$f":"Dšvih!H172","v":0},{"$f":"'Dz mís'!H172","v":604.76959395656286},{"$f":"Drepre!E65","v":0},3955.4716226926803]
[null,{"$f":"'D60'!B173","v":"RYBENSKÁ"},{"$f":"'D60'!C173","v":"Sabina"},{"$f":"'D60'!D173","v":"8.B"},null,{"$f":"'D60'!H173","v":742.94832967912157},{"$f":"'D300'!H173","v":620.41850284199995},{"$f":"'D800'!H173","v":597.07165814270559},{"$f":"Ddál!H173","v":0},{"$f":"Dvýš!H173","v":0},{"$f":"Dmíč!H173","v":294.2},{"$f":"Dkou!H173","v":360},{"$f":"Dčlu!H173","v":658.32054431281153},{"$f":"Dls!H173","v":458.59000000000003},{"$f":"Dodbíj!H173","v":24},{"$f":"Dplav!H173","v":0},{"$f":"Dšplh!H173","v":0},{"$f":"Dšvih!H173","v":374.5},{"$f":"'Dz mís'!H173","v":0},{"$f":"Drepre!E66","v":0},4130.0490349766387]
[null,{"$f":"'D60'!B174","v":"STEINEROVÁ"},{"$f":"'D60'!C174","v":"Barbora"},{"$f":"'D60'!D174","v":"8.B"},null,{"$f":"'D60'!H174","v":798.5971052614791},{"$f":"'D300'!H174","v":749.23338921348966},{"$f":"'D800'!H174","v":593.41101660874904},{"$f":"Ddál!H174","v":846.89300000000003},{"$f":"Dvýš!H174","v":772},{"$f":"Dmíč!H174","v":612.70000000000005},{"$f":"Dkou!H174","v":440},{"$f":"Dčlu!H174","v":693.38759734963094},{"$f":"Dls!H174","v":458.59000000000003},{"$f":"Dodbíj!H174","v":33},{"$f":"Dplav!H174","v":0},{"$f":"Dšplh!H174","v":541.87367411945434},{"$f":"Dšvih!H174","v":530.75},{"$f":"'Dz mís'!H174","v":905.85363550519355},{"$f":"Drepre!E67","v":0},7976.289418057997]
[null,{"$f":"'D60'!B175","v":"ŠERCLOVÁ"},{"$f":"'D60'!C175","v":"Andrea"},{"$f":"'D60'!D175","v":"8.B"},null,{"$f":"'D60'!H175","v":0},{"$f":"'D300'!H175","v":488.51110765642102},{"$f":"'D800'!H175","v":0},{"$f":"Ddál!H175","v":0},{"$f":"Dvýš!H175","v":0},{"$f":"Dmíč!H175","v":0},{"$f":"Dkou!H175","v":0},{"$f":"Dčlu!H175","v":0},{"$f":"Dls!H175","v":375.25},{"$f":"Dodbíj!H175","v":0},{"$f":"Dplav!H175","v":0},{"$f":"Dšplh!H175","v":0},{"$f":"Dšvih!H175","v":187},{"$f":"'Dz mís'!H175","v":411.88762983947129},{"$f":"Drepre!E68","v":0},{"$f":"SUM(F99:T99)","v":1462.6487374958924}]
[null,{"$f":"'D60'!B176","v":"TOMEŠOVÁ"},{"$f":"'D60'!C176","v":"Martina"},{"$f":"'D60'!D176","v":"8.B"},null,{"$f":"'D60'!H176","v":779.20868293627962},{"$f":"'D300'!H176","v":724.49655125440188},{"$f":"'D800'!H176","v":594.27630382554776},{"$f":"Ddál!H176","v":786.02800000000002},{"$f":"Dvýš!H176","v":0},{"$f":"Dmíč!H176","v":494.40000000000003},{"$f":"Dkou!H176","v":0},{"$f":"Dčlu!H176","v":679.09073018733022},{"$f":"Dls!H176","v":514.15000000000009},{"$f":"Dodbíj!H176","v":15},{"$f":"Dplav!H176","v":0},{"$f":"Dšplh!H176","v":0},{"$f":"Dšvih!H176","v":387},{"$f":"'Dz mís'!H176","v":774.12936732766775},{"$f":"Drepre!E69","v":0},5747.7796355312275]
[null,{"$f":"'D60'!B177","v":"VOHNOUTOVÁ"},{"$f":"'D60'!C177","v":"Aneta"},{"$f":"'D60'!D177","v":"8.B"},null,{"$f":"'D60'!H177","v":853.26973545152873},{"$f":"'D300'!H177","v":752.89899315510479},{"$f":"'D800'!H177","v":711.41856056761776},{"$f":"Ddál!H177","v":812.11300000000006},{"$f":"Dvýš!H177","v":876},{"$f":"Dmíč!H177","v":626.89600000000007},{"$f":"Dkou!H177","v":676.44444444444446},{"$f":"Dčlu!H177","v":710.42052264811321},{"$f":"Dls!H177","v":597.49},{"$f":"Dodbíj!H177","v":123},{"$f":"Dplav!H177","v":622.19191064215136},{"$f":"Dšplh!H177","v":494.717855064714},{"$f":"Dšvih!H177","v":468.25},{"$f":"'Dz mís'!H177","v":830.58262511803605},{"$f":"Drepre!E70","v":100},9255.6936470917099]
[null,{"$f":"'D60'!B178","v":"HAVLÍKOVÁ"},{"$f":"'D60'!C178","v":"Michaela"},{"$f":"'D60'!D178","v":"9.A"},null,{"$f":"'D60'!H178","v":748.50569390132011},{"$f":"'D300'!H178","v":595.59420833668889},{"$f":"'D800'!H178","v":0},{"$f":"Ddál!H178","v":695.6},{"$f":"Dvýš!H178","v":609.5},{"$f":"Dmíč!H178","v":339.7},{"$f":"Dkou!H178","v":335.99999999999994},{"$f":"Dčlu!H178","v":650.21283452782598},{"$f":"Dls!H178","v":375.25},{"$f":"Dodbíj!H178","v":0},{"$f":"Dplav!H178","v":0},{"$f":"Dšplh!H178","v":436.90493379763973},{"$f":"Dšvih!H178","v":455.75},{"$f":"'Dz mís'!H178","v":632.99622285174701},{"$f":"Drepre!E71","v":0},5876.0138934152219]
[null,{"$f":"'D60'!B179","v":"HOLUBCOVÁ"},{"$f":"'D60'!C179","v":"Sára"},{"$f":"'D60'!D179","v":"9.A"},null,{"$f":"'D60'!H179","v":824.61001660924524},{"$f":"'D300'!H179","v":0},{"$f":"'D800'!H179","v":0},{"$f":"Ddál!H179","v":0},{"$f":"Dvýš!H179","v":0},{"$f":"Dmíč!H179","v":0},{"$f":"Dkou!H179","v":0},{"$f":"Dčlu!H179","v":676.42890632131048},{"$f":"Dls!H179","v":541.93000000000006},{"$f":"Dodbíj!H179","v":129},{"$f":"Dplav!H179","v":0},{"$f":"Dšplh!H179","v":475.64641948989834},{"$f":"Dšvih!H179","v":630.75},{"$f":"'Dz mís'!H179","v":722.38054768649681},{"$f":"Drepre!E72","v":200},4200.7458901069513]
[null,{"$f":"'D60'!B180","v":"HONCŮ"},{"$f":"'D60'!C180","v":"Tereza"},{"$f":"'D60'!D180","v":"9.A"},null,{"$f":"'D60'!H180","v":714.79995600284633},{"$f":"'D300'!H180","v":0},{"$f":"'D800'!H180","v":0},{"$f":"Ddál!H180","v":0},{"$f":"Dvýš!H180","v":707},{"$f":"Dmíč!H180","v":458},{"$f":"Dkou!H180","v":0},{"$f":"Dčlu!H180","v":662.1254275010316},{"$f":"Dls!H180","v":583.6},{"$f":"Dodbíj!H180","v":51},{"$f":"Dplav!H180","v":0},{"$f":"Dšplh!H180","v":0},{"$f":"Dšvih!H180","v":524.5},{"$f":"'Dz mís'!H180","v":0},{"$f":"Drepre!E73","v":0},3701.0253835038779]
[null,{"$f":"'D60'!B181","v":"HORÁČKOVÁ"},{"$f":"'D60'!C181","v":"Kateřina"},{"$f":"'D60'!D181","v":"9.A"},null,{"$f":"'D60'!H181","v":821.74767334809212},{"$f":"'D300'!H181","v":668.01844643910817},{"$f":"'D800'!H181","v":686.30158861783809},{"$f":"Ddál!H181","v":799.94},{"$f":"Dvýš!H181","v":804.5},{"$f":"Dmíč!H181","v":476.2},{"$f":"Dkou!H181","v":669.33333333333326},{"$f":"Dčlu!H181","v":696.87363782236639},{"$f":"Dls!H181","v":653.05000000000007},{"$f":"Dodbíj!H181","v":81},{"$f":"Dplav!H181","v":546.44384978386643},{"$f":"Dšplh!H181","v":504.44962869511107},{"$f":"Dšvih!H181","v":562},{"$f":"'Dz mís'!H181","v":858.8092540132202},{"$f":"Drepre!E74","v":225},9053.6674120529351]
[null,{"$f":"'D60'!B182","v":"JOUDALOVÁ"},{"$f":"'D60'!C182","v":"Daniela"},{"$f":"'D60'!D182","v":"9.A"},null,{"$f":"'D60'!H182","v":0},{"$f":"'D300'!H182","v":0},{"$f":"'D800'!H182","v":0},{"$f":"Ddál!H182","v":0},{"$f":"Dvýš!H182","v":0},{"$f":"Dmíč!H182","v":0},{"$f":"Dkou!H182","v":0},{"$f":"Dčlu!H182","v":0},{"$f":"Dls!H182","v":0},{"$f":"Dodbíj!H182","v":0},{"$f":"Dplav!H182","v":0},{"$f":"Dšplh!H182","v":0},{"$f":"Dšvih!H182","v":0},{"$f":"'Dz mís'!H182","v":0},{"$f":"Drepre!E75","v":0},0]
[null,{"$f":"'D60'!B183","v":"KLÍMOVÁ"},{"$f":"'D60'!C183","v":"Anna"},{"$f":"'D60'!D183","v":"9.A"},null,{"$f":"'D60'!H183","v":775.77732727772093},{"$f":"'D300'!H183","v":0},{"$f":"'D800'!H183","v":0},{"$f":"Ddál!H183","v":686.90500000000009},{"$f":"Dvýš!H183","v":674.5},{"$f":"Dmíč!H183","v":439.8},{"$f":"Dkou!H183","v":0},{"$f":"Dčlu!H183","v":0},{"$f":"Dls!H183","v":0},{"$f":"Dodbíj!H183","v":81},{"$f":"Dplav!H183","v":0},{"$f":"Dšplh!H183","v":0},{"$f":"Dšvih!H183","v":0},{"$f":"'Dz mís'!H183","v":778.83380547686511},{"$f":"Drepre!E76","v":0},3436.8161327545863]
[null,{"$f":"'D60'!B184","v":"KOHOUTOVÁ"},{"$f":"'D60'!C184","v":"Veronika"},{"$f":"'D60'!D184","v":"9.A"},null,{"$f":"'D60'!H184","v":808.63164511382968},{"$f":"'D300'!H184","v":678.19685068306046},{"$f":"'D800'!H184","v":588.53636193842158},{"$f":"Ddál!H184","v":740.81400000000008},{"$f":"Dvýš!H184","v":674.5},{"$f":"Dmíč!H184","v":530.80000000000007},{"$f":"Dkou!H184","v":555.55555555555554},{"$f":"Dčlu!H184","v":657.69029784446377},{"$f":"Dls!H184","v":583.6},{"$f":"Dodbíj!H184","v":129},{"$f":"Dplav!H184","v":0},{"$f":"Dšplh!H184","v":468.75571596767719},{"$f":"Dšvih!H184","v":1087},{"$f":"'Dz mís'!H184","v":703.56279508970738},{"$f":"Drepre!E77","v":200},8406.6432221927171]
[null,{"$f":"'D60'!B185","v":"KOVÁŘOVÁ"},{"$f":"'D60'!C185","v":"Viktorie"},{"$f":"'D60'!D185","v":"9.A"},null,{"$f":"'D60'!H185","v":777.48948576786313},{"$f":"'D300'!H185","v":720.71490867847388},{"$f":"'D800'!H185","v":0},{"$f":"Ddál!H185","v":0},{"$f":"Dvýš!H185","v":0},{"$f":"Dmíč!H185","v":549},{"$f":"Dkou!H185","v":509.33333333333337},{"$f":"Dčlu!H185","v":669.20692661339285},{"$f":"Dls!H185","v":0},{"$f":"Dodbíj!H185","v":36},{"$f":"Dplav!H185","v":0},{"$f":"Dšplh!H185","v":0},{"$f":"Dšvih!H185","v":0},{"$f":"'Dz mís'!H185","v":760.01605288007568},{"$f":"Drepre!E78","v":25},4046.7607072731394]
[null,{"$f":"'D60'!B186","v":"KYNČLOVÁ"},{"$f":"'D60'!C186","v":"Anna"},{"$f":"'D60'!D186","v":"9.A"},null,{"$f":"'D60'!H186","v":843.17936297234507},{"$f":"'D300'!H186","v":791.90639702237263},{"$f":"'D800'!H186","v":988.37625291490758},{"$f":"Ddál!H186","v":786.02800000000002},{"$f":"Dvýš!H186","v":915},{"$f":"Dmíč!H186","v":485.3},{"$f":"Dkou!H186","v":440},{"$f":"Dčlu!H186","v":722.21087451500637},{"$f":"Dls!H186","v":694.72},{"$f":"Dodbíj!H186","v":51},{"$f":"Dplav!H186","v":550.85586753150733},{"$f":"Dšplh!H186","v":584.21011522482115},{"$f":"Dšvih!H186","v":668.25},{"$f":"'Dz mís'!H186","v":821.17374881964133},{"$f":"Drepre!E79","v":250},9592.2106190006016]
[null,{"$f":"'D60'!B187","v":"MATOUŠOVÁ"},{"$f":"'D60'!C187","v":"Tereza"},{"$f":"'D60'!D187","v":"9.A"},null,{"$f":"'D60'!H187","v":737.46694504589846},{"$f":"'D300'!H187","v":0},{"$f":"'D800'!H187","v":0},{"$f":"Ddál!H187","v":0},{"$f":"Dvýš!H187","v":0},{"$f":"Dmíč!H187","v":458},{"$f":"Dkou!H187","v":0},{"$f":"Dčlu!H187","v":647.14308227157278},{"$f":"Dls!H187","v":625.27},{"$f":"Dodbíj!H187","v":0},{"$f":"Dplav!H187","v":0},{"$f":"Dšplh!H187","v":0},{"$f":"Dšvih!H187","v":112},{"$f":"'Dz mís'!H187","v":0},{"$f":"Drepre!E80","v":25},2604.8800273174711]
[null,{"$f":"'D60'!B188","v":"MAZÁNKOVÁ"},{"$f":"'D60'!C188","v":"Zuzana"},{"$f":"'D60'!D188","v":"9.A"},null,{"$f":"'D60'!H188","v":748.50569390132011},{"$f":"'D300'!H188","v":623.56309570087842},{"$f":"'D800'!H188","v":0},{"$f":"Ddál!H188","v":0},{"$f":"Dvýš!H188","v":609.5},{"$f":"Dmíč!H188","v":294.2},{"$f":"Dkou!H188","v":466.66666666666663},{"$f":"Dčlu!H188","v":650.82999098665505},{"$f":"Dls!H188","v":486.37},{"$f":"Dodbíj!H188","v":0},{"$f":"Dplav!H188","v":0},{"$f":"Dšplh!H188","v":0},{"$f":"Dšvih!H188","v":149.5},{"$f":"'Dz mís'!H188","v":698.85835694051002},{"$f":"Drepre!E81","v":0},4727.9938041960304]
[null,{"$f":"'D60'!B189","v":"MORKESOVÁ"},{"$f":"'D60'!C189","v":"Sabrina"},{"$f":"'D60'!D189","v":"9.A"},null,{"$f":"'D60'!H189","v":832.33469379635699},{"$f":"'D300'!H189","v":663.52067830903718},{"$f":"'D800'!H189","v":700.69985279287107},{"$f":"Ddál!H189","v":827.76400000000001},{"$f":"Dvýš!H189","v":739.5},{"$f":"Dmíč!H189","v":834.01199999999994},{"$f":"Dkou!H189","v":684.44444444444446},{"$f":"Dčlu!H189","v":730.52860822555658},{"$f":"Dls!H189","v":639.16000000000008},{"$f":"Dodbíj!H189","v":138},{"$f":"Dplav!H189","v":0},{"$f":"Dšplh!H189","v":485.07974685864622},{"$f":"Dšvih!H189","v":687},{"$f":"'Dz mís'!H189","v":811.76487252124662},{"$f":"Drepre!E82","v":250},9023.8088969481578]
[null,{"$f":"'D60'!B190","v":"POHOŘALÁ"},{"$f":"'D60'!C190","v":"Alžběta"},{"$f":"'D60'!D190","v":"9.A"},null,{"$f":"'D60'!H190","v":795.90057368308885},{"$f":"'D300'!H190","v":765.32154165544557},{"$f":"'D800'!H190","v":0},{"$f":"Ddál!H190","v":686.90500000000009},{"$f":"Dvýš!H190","v":0},{"$f":"Dmíč!H190","v":403.40000000000003},{"$f":"Dkou!H190","v":457.77777777777777},{"$f":"Dčlu!H190","v":0},{"$f":"Dls!H190","v":0},{"$f":"Dodbíj!H190","v":0},{"$f":"Dplav!H190","v":0},{"$f":"Dšplh!H190","v":0},{"$f":"Dšvih!H190","v":0},{"$f":"'Dz mís'!H190","v":811.76487252124662},{"$f":"Drepre!E83","v":150},4071.0697656375592]
[null,{"$f":"'D60'!B191","v":"SCHOLZOVÁ"},{"$f":"'D60'!C191","v":"Laura"},{"$f":"'D60'!D191","v":"9.A"},null,{"$f":"'D60'!H191","v":0},{"$f":"'D300'!H191","v":0},{"$f":"'D800'!H191","v":0},{"$f":"Ddál!H191","v":0},{"$f":"Dvýš!H191","v":0},{"$f":"Dmíč!H191","v":0},{"$f":"Dkou!H191","v":0},{"$f":"Dčlu!H191","v":0},{"$f":"Dls!H191","v":0},{"$f":"Dodbíj!H191","v":36},{"$f":"Dplav!H191","v":0},{"$f":"Dšplh!H191","v":0},{"$f":"Dšvih!H191","v":0},{"$f":"'Dz mís'!H191","v":0},{"$f":"Drepre!E84","v":0},36]
[null,{"$f":"'D60'!B192","v":"VÁCLAVÍKOVÁ"},{"$f":"'D60'!C192","v":"Valerie"},{"$f":"'D60'!D192","v":"9.A"},null,{"$f":"'D60'!H192","v":783.53775638464185},{"$f":"'D300'!H192","v":734.67576699623464},{"$f":"'D800'!H192","v":677.36114265000003},{"$f":"Ddál!H192","v":742.553},{"$f":"Dvýš!H192","v":0},{"$f":"Dmíč!H192","v":0},{"$f":"Dkou!H192","v":609.77777777777783},{"$f":"Dčlu!H192","v":668.55741112429371},{"$f":"Dls!H192","v":597.49},{"$f":"Dodbíj!H192","v":138},{"$f":"Dplav!H192","v":0},{"$f":"Dšplh!H192","v":0},{"$f":"Dšvih!H192","v":712},{"$f":"'Dz mís'!H192","v":769.42492917847039},{"$f":"Drepre!E85","v":200},6633.3777841114188]
[null,{"$f":"'D60'!B193","v":"ZAPADLOVÁ"},{"$f":"'D60'!C193","v":"Emma"},{"$f":"'D60'!D193","v":"9.A"},null,{"$f":"'D60'!H193","v":843.17936297234507},{"$f":"'D300'!H193","v":798.97170172364872},{"$f":"'D800'!H193","v":703.55870184292041},{"$f":"Ddál!H193","v":0},{"$f":"Dvýš!H193","v":804.5},{"$f":"Dmíč!H193","v":776.5},{"$f":"Dkou!H193","v":397.33333333333326},{"$f":"Dčlu!H193","v":689.24656505229348},{"$f":"Dls!H193","v":0},{"$f":"Dodbíj!H193","v":66},{"$f":"Dplav!H193","v":0},{"$f":"Dšplh!H193","v":0},{"$f":"Dšvih!H193","v":0},{"$f":"'Dz mís'!H193","v":821.17374881964133},{"$f":"Drepre!E86","v":250},6150.4634137441826]
[null,{"$f":"'D60'!B194","v":"ŽIŠKOVÁ"},{"$f":"'D60'!C194","v":"Mia"},{"$f":"'D60'!D194","v":"9.A"},null,{"$f":"'D60'!H194","v":0},{"$f":"'D300'!H194","v":0},{"$f":"'D800'!H194","v":0},{"$f":"Ddál!H194","v":0},{"$f":"Dvýš!H194","v":0},{"$f":"Dmíč!H194","v":0},{"$f":"Dkou!H194","v":0},{"$f":"Dčlu!H194","v":0},{"$f":"Dls!H194","v":0},{"$f":"Dodbíj!H194","v":66},{"$f":"Dplav!H194","v":0},{"$f":"Dšplh!H194","v":0},{"$f":"Dšvih!H194","v":0},{"$f":"'Dz mís'!H194","v":0},{"$f":"Drepre!E87","v":25},91]
[null,{"$f":"'D60'!B195","v":"FARSKÁ"},{"$f":"'D60'!C195","v":"Tereza"},{"$f":"'D60'!D195","v":"9.B"},null,{"$f":"'D60'!H195","v":655.18034956246345},{"$f":"'D300'!H195","v":0},{"$f":"'D800'!H195","v":0},{"$f":"Ddál!H195","v":0},{"$f":"Dvýš!H195","v":0},{"$f":"Dmíč!H195","v":330.6},{"$f":"Dkou!H195","v":0},{"$f":"Dčlu!H195","v":0},{"$f":"Dls!H195","v":0},{"$f":"Dodbíj!H195","v":0},{"$f":"Dplav!H195","v":0},{"$f":"Dšplh!H195","v":0},{"$f":"Dšvih!H195","v":0},{"$f":"'Dz mís'!H195","v":0},{"$f":"Drepre!E88","v":0},985.78034956246347]
[null,{"$f":"'D60'!B196","v":"FEIXOVÁ"},{"$f":"'D60'!C196","v":"Rozálie"},{"$f":"'D60'!D196","v":"9.B"},null,{"$f":"'D60'!H196","v":0},{"$f":"'D300'!H196","v":0},{"$f":"'D800'!H196","v":0},{"$f":"Ddál!H196","v":0},{"$f":"Dvýš!H196","v":0},{"$f":"Dmíč!H196","v":276},{"$f":"Dkou!H196","v":0},{"$f":"Dčlu!H196","v":0},{"$f":"Dls!H196","v":0},{"$f":"Dodbíj!H196","v":0},{"$f":"Dplav!H196","v":0},{"$f":"Dšplh!H196","v":0},{"$f":"Dšvih!H196","v":0},{"$f":"'Dz mís'!H196","v":0},{"$f":"Drepre!E89","v":0},276]
[null,{"$f":"'D60'!B197","v":"FIŠEROVÁ"},{"$f":"'D60'!C197","v":"Michaela"},{"$f":"'D60'!D197","v":"9.B"},null,{"$f":"'D60'!H197","v":721.46340005454545},{"$f":"'D300'!H197","v":0},{"$f":"'D800'!H197","v":0},{"$f":"Ddál!H197","v":0},{"$f":"Dvýš!H197","v":0},{"$f":"Dmíč!H197","v":348.8},{"$f":"Dkou!H197","v":626.66666666666663},{"$f":"Dčlu!H197","v":0},{"$f":"Dls!H197","v":0},{"$f":"Dodbíj!H197","v":0},{"$f":"Dplav!H197","v":0},{"$f":"Dšplh!H197","v":0},{"$f":"Dšvih!H197","v":0},{"$f":"'Dz mís'!H197","v":0},{"$f":"Drepre!E90","v":25},1721.9300667212119]
[null,{"$f":"'D60'!B198","v":"HAVLÍČKOVÁ"},{"$f":"'D60'!C198","v":"Kristýna"},{"$f":"'D60'!D198","v":"9.B"},null,{"$f":"'D60'!H198","v":0},{"$f":"'D300'!H198","v":0},{"$f":"'D800'!H198","v":0},{"$f":"Ddál!H198","v":0},{"$f":"Dvýš!H198","v":0},{"$f":"Dmíč!H198","v":303.3},{"$f":"Dkou!H198","v":600},{"$f":"Dčlu!H198","v":0},{"$f":"Dls!H198","v":0},{"$f":"Dodbíj!H198","v":0},{"$f":"Dplav!H198","v":0},{"$f":"Dšplh!H198","v":0},{"$f":"Dšvih!H198","v":0},{"$f":"'Dz mís'!H198","v":0},{"$f":"Drepre!E91","v":0},903.3]
[null,{"$f":"'D60'!B199","v":"KADAVÁ"},{"$f":"'D60'!C199","v":"Nikola"},{"$f":"'D60'!D199","v":"9.B"},null,{"$f":"'D60'!H199","v":610.62361577476736},{"$f":"'D300'!H199","v":0},{"$f":"'D800'!H199","v":0},{"$f":"Ddál!H199","v":0},{"$f":"Dvýš!H199","v":0},{"$f":"Dmíč!H199","v":257.8},{"$f":"Dkou!H199","v":457.77777777777777},{"$f":"Dčlu!H199","v":0},{"$f":"Dls!H199","v":0},{"$f":"Dodbíj!H199","v":0},{"$f":"Dplav!H199","v":0},{"$f":"Dšplh!H199","v":0},{"$f":"Dšvih!H199","v":0},{"$f":"'Dz mís'!H199","v":0},{"$f":"Drepre!E92","v":0},1326.2013935525451]
[null,{"$f":"'D60'!B200","v":"KŘIVINKOVÁ"},{"$f":"'D60'!C200","v":"Alžběta"},{"$f":"'D60'!D200","v":"9.B"},null,{"$f":"'D60'!H200","v":756.57975020699996},{"$f":"'D300'!H200","v":0},{"$f":"'D800'!H200","v":0},{"$f":"Ddál!H200","v":0},{"$f":"Dvýš!H200","v":0},{"$f":"Dmíč!H200","v":458},{"$f":"Dkou!H200","v":635.55555555555554},{"$f":"Dčlu!H200","v":0},{"$f":"Dls!H200","v":0},{"$f":"Dodbíj!H200","v":0},{"$f":"Dplav!H200","v":0},{"$f":"Dšplh!H200","v":0},{"$f":"Dšvih!H200","v":0},{"$f":"'Dz mís'!H200","v":0},{"$f":"Drepre!E93","v":0},1850.1353057625556]
[null,{"$f":"'D60'!B201","v":"LEŠÁKOVÁ"},{"$f":"'D60'!C201","v":"Lenka"},{"$f":"'D60'!D201","v":"9.B"},null,{"$f":"'D60'!H201","v":725.96982933301251},{"$f":"'D300'!H201","v":0},{"$f":"'D800'!H201","v":0},{"$f":"Ddál!H201","v":0},{"$f":"Dvýš!H201","v":0},{"$f":"Dmíč!H201","v":221.4},{"$f":"Dkou!H201","v":502.22222222222223},{"$f":"Dčlu!H201","v":0},{"$f":"Dls!H201","v":0},{"$f":"Dodbíj!H201","v":0},{"$f":"Dplav!H201","v":0},{"$f":"Dšplh!H201","v":0},{"$f":"Dšvih!H201","v":0},{"$f":"'Dz mís'!H201","v":0},{"$f":"Drepre!E94","v":0},1449.5920515552348]
[null,{"$f":"'D60'!B202","v":"NYKLÍČKOVÁ"},{"$f":"'D60'!C202","v":"Adéla"},{"$f":"'D60'!D202","v":"9.B"},null,{"$f":"'D60'!H202","v":769.8395825138889},{"$f":"'D300'!H202","v":0},{"$f":"'D800'!H202","v":0},{"$f":"Ddál!H202","v":0},{"$f":"Dvýš!H202","v":0},{"$f":"Dmíč!H202","v":430.7},{"$f":"Dkou!H202","v":600},{"$f":"Dčlu!H202","v":0},{"$f":"Dls!H202","v":0},{"$f":"Dodbíj!H202","v":0},{"$f":"Dplav!H202","v":0},{"$f":"Dšplh!H202","v":0},{"$f":"Dšvih!H202","v":0},{"$f":"'Dz mís'!H202","v":0},{"$f":"Drepre!E95","v":25},1825.5395825138889]
[null,{"$f":"'D60'!B203","v":"PLŮCHOVÁ"},{"$f":"'D60'!C203","v":"Petra"},{"$f":"'D60'!D203","v":"9.B"},null,{"$f":"'D60'!H203","v":726.72596590912008},{"$f":"'D300'!H203","v":0},{"$f":"'D800'!H203","v":0},{"$f":"Ddál!H203","v":0},{"$f":"Dvýš!H203","v":0},{"$f":"Dmíč!H203","v":439.8},{"$f":"Dkou!H203","v":626.66666666666663},{"$f":"Dčlu!H203","v":0},{"$f":"Dls!H203","v":0},{"$f":"Dodbíj!H203","v":0},{"$f":"Dplav!H203","v":0},{"$f":"Dšplh!H203","v":0},{"$f":"Dšvih!H203","v":0},{"$f":"'Dz mís'!H203","v":0},{"$f":"Drepre!E96","v":25},1818.1926325757868]
[null,{"$f":"'D60'!B204","v":"PODZIMKOVÁ"},{"$f":"'D60'!C204","v":"Eliška"},{"$f":"'D60'!D204","v":"9.B"},null,{"$f":"'D60'!H204","v":644.70635054098352},{"$f":"'D300'!H204","v":0},{"$f":"'D800'!H204","v":0},{"$f":"Ddál!H204","v":0},{"$f":"Dvýš!H204","v":0},{"$f":"Dmíč!H204","v":494.40000000000003},{"$f":"Dkou!H204","v":484.44444444444446},{"$f":"Dčlu!H204","v":0},{"$f":"Dls!H204","v":0},{"$f":"Dodbíj!H204","v":0},{"$f":"Dplav!H204","v":0},{"$f":"Dšplh!H204","v":0},{"$f":"Dšvih!H204","v":0},{"$f":"'Dz mís'!H204","v":0},{"$f":"Drepre!E97","v":0},1623.5507949854282]
[null,{"$f":"'D60'!B205","v":"RUTKAYOVÁ"},{"$f":"'D60'!C205","v":"Klára"},{"$f":"'D60'!D205","v":"9.B"},null,{"$f":"'D60'!H205","v":678.42346918655812},{"$f":"'D300'!H205","v":0},{"$f":"'D800'!H205","v":0},{"$f":"Ddál!H205","v":0},{"$f":"Dvýš!H205","v":0},{"$f":"Dmíč!H205","v":312.40000000000003},{"$f":"Dkou!H205","v":0},{"$f":"Dčlu!H205","v":0},{"$f":"Dls!H205","v":0},{"$f":"Dodbíj!H205","v":0},{"$f":"Dplav!H205","v":0},{"$f":"Dšplh!H205","v":0},{"$f":"Dšvih!H205","v":0},{"$f":"'Dz mís'!H205","v":0},{"$f":"Drepre!E98","v":0},990.82346918655821]
[null,{"$f":"'D60'!B206","v":"SEIDLOVÁ"},{"$f":"'D60'!C206","v":"Zuzana"},{"$f":"'D60'!D206","v":"9.B"},null,{"$f":"'D60'!H206","v":728.24261823069514},{"$f":"'D300'!H206","v":0},{"$f":"'D800'!H206","v":0},{"$f":"Ddál!H206","v":0},{"$f":"Dvýš!H206","v":0},{"$f":"Dmíč!H206","v":621.80000000000007},{"$f":"Dkou!H206","v":742.22222222222217},{"$f":"Dčlu!H206","v":0},{"$f":"Dls!H206","v":0},{"$f":"Dodbíj!H206","v":0},{"$f":"Dplav!H206","v":0},{"$f":"Dšplh!H206","v":0},{"$f":"Dšvih!H206","v":0},{"$f":"'Dz mís'!H206","v":0},{"$f":"Drepre!E99","v":0},2092.2648404529173]
[null,{"$f":"'D60'!B207","v":"TOMÁŠOVÁ"},{"$f":"'D60'!C207","v":"Sára"},{"$f":"'D60'!D207","v":"9.B"},null,{"$f":"'D60'!H207","v":598.7449721024193},{"$f":"'D300'!H207","v":0},{"$f":"'D800'!H207","v":0},{"$f":"Ddál!H207","v":0},{"$f":"Dvýš!H207","v":0},{"$f":"Dmíč!H207","v":357.90000000000003},{"$f":"Dkou!H207","v":475.55555555555554},{"$f":"Dčlu!H207","v":0},{"$f":"Dls!H207","v":0},{"$f":"Dodbíj!H207","v":0},{"$f":"Dplav!H207","v":0},{"$f":"Dšplh!H207","v":0},{"$f":"Dšvih!H207","v":0},{"$f":"'Dz mís'!H207","v":0},{"$f":"Drepre!E100","v":0},{"$f":"SUM(F131:T131)","v":1432.2005276579748}]
[null,{"$f":"'D60'!B208","v":"VANCLOVÁ"},{"$f":"'D60'!C208","v":"Barbora"},{"$f":"'D60'!D208","v":"9.B"},null,{"$f":"'D60'!H208","v":734.36824122600524},{"$f":"'D300'!H208","v":0},{"$f":"'D800'!H208","v":0},{"$f":"Ddál!H208","v":0},{"$f":"Dvýš!H208","v":0},{"$f":"Dmíč!H208","v":439.8},{"$f":"Dkou!H208","v":502.22222222222223},{"$f":"Dčlu!H208","v":0},{"$f":"Dls!H208","v":0},{"$f":"Dodbíj!H208","v":0},{"$f":"Dplav!H208","v":746.39606415019762},{"$f":"Dšplh!H208","v":0},{"$f":"Dšvih!H208","v":0},{"$f":"'Dz mís'!H208","v":0},{"$f":"Drepre!E101","v":0},2422.786527598425]
[null,{"$f":"'D60'!B209","v":"VOTOČKOVÁ"},{"$f":"'D60'!C209","v":"Veronika"},{"$f":"'D60'!D209","v":"9.B"},null,{"$f":"'D60'!H209","v":587.28048082435294},{"$f":"'D300'!H209","v":0},{"$f":"'D800'!H209","v":0},{"$f":"Ddál!H209","v":0},{"$f":"Dvýš!H209","v":0},{"$f":"Dmíč!H209","v":257.8},{"$f":"Dkou!H209","v":502.22222222222223},{"$f":"Dčlu!H209","v":0},{"$f":"Dls!H209","v":0},{"$f":"Dodbíj!H209","v":0},{"$f":"Dplav!H209","v":0},{"$f":"Dšplh!H209","v":0},{"$f":"Dšvih!H209","v":0},{"$f":"'Dz mís'!H209","v":0},{"$f":"Drepre!E102","v":0},1347.3027030465751]

{"sheet":"Droč","index":5,"n_rows":237,"n_cols":24,"rows_kept":237,"cut":false,"hidden":false,"merged":[]}
[null,null,"CELKOVÉ   VÝSLEDKY  "]
[]
[null,"6. ročník",null,null,null,"   60  m  ","   300m","  800m","   dálka","   výška","   míček","   koule","  člunek","  lehsed","odbíjení ","  plavání","    šplh","švihadlo","z místa"," REPRE","  CELKEM"]
[]
["1.",{"$f":"B139","v":"FARSKÁ"},{"$f":"C139","v":"Anna"},"6.A",9.98,758.21397803640605,622.24997622749765,477.95266771987951,735.59700000000009,642,357.90000000000003,484.44444444444446,551.03251424856637,514.15000000000009,30,0,493.3599776733713,655.75,755.31161473087832,{"$f":"T139","v":125},7202.9621730810441]
["2.","FARSKÁ","Eliška","6.A",9.4499999999999993,804.04153092451486,521.35624888979487,608.15072472211466,794.72300000000007,642,367,436.44444444444446,592.4416662675718,361.36,27,0,537.86200182533878,687,783.53824362606247,75,7237.9178606998421]
["3.",{"$f":"B141","v":"FEDORKOVÁ"},"Denisa","6.A",11.32,661.48847929946976,391.68222888787022,0,565.17500000000007,609.5,276,353.77777777777777,547.40466323940518,236.35000000000002,27,0,0,680.75,553.02077431539215,0,4902.148923519916]
["4.",{"$f":"B142","v":"HAUZEROVÁ"},"Tereza","6.A",9.9600000000000009,759.85476902978576,547.72203540496423,515.47089492392536,711.25100000000009,642,257.8,319.11111111111109,555.62884017859824,291.91000000000003,21,0,0,587,680.04060434372059,0,5888.7892549921062]
["5.",{"$f":"B143","v":"JOSKOVÁ"},"Ellen","6.A",9.4,808.63164511382968,691.83105464531877,607.44439111599104,620.82300000000009,609.5,294.2,450.66666666666669,592.4416662675718,389.14,9,0,0,587,670.63172804532587,75,6406.3101518547037]
["6.",{"$f":"B144","v":"KUŽELOVÁ"},"Amálie","6.A",12.23,607.88639765358403,387.71567728427465,0,476.48600000000005,0,0,0,459.8530448051315,361.36,60,0,0,443.25,0,0,2796.5511197429901]
["7.",{"$f":"B145","v":"RYŠAVÁ"},"Amálie","6.A",10.73,701.09977151009628,415.95218175463776,556.58718703221439,620.82300000000009,0,348.8,440,549.66699383606965,97.45,75,0,0,918.25,0,0,4723.6291341330179]
["8.",{"$f":"B146","v":"BANGOVÁ"},"Zuzana","6.B",11.08,677.0925605117327,346.09707872691786,438.29737875774276,568.65300000000002,609.5,312.40000000000003,330.66666666666669,0,0,0,0,0,574.5,501.27195467422098,0,4358.4786393372806]
["9.",{"$f":"B147","v":"HOLUBOVÁ"},"Denisa","6.B",12,620.66646906138874,397.80115108181076,449.70335411193457,563.43600000000004,642,330.6,488.88888888888886,570.32821678523646,278.02,0,0,0,580.75,505.97639282341834,0,5428.1704727526776]
["10.",{"$f":"B148","v":"HURKALO"},"Karolina","6.B",15.65,462.1733456807242,259.3769650597817,0,0,0,185,0,0,0,0,0,0,418.25,0,0,1324.8003107405059]
["11.",{"$f":"B149","v":"HUTNIK-MAMONOVA"},"Nana","6.B",14,523.58555395738085,0,0,0,0,94,0,560.76547889083076,0,0,0,0,80.75,0,0,1259.1010328482116]
["12.",{"$f":"B150","v":"MARINOVA"},"Darja","6.B",12,620.66646906138874,495.99521518468077,0,0,0,0,0,0,430.81,0,0,0,418.25,0,0,1965.7216842460693]
["13.",{"$f":"B151","v":"NYKLÍČKOVÁ"},"Klára","6.B",10.58,711.8748146316949,600.91319749562012,634.13304470646301,568.65300000000002,544.5,357.90000000000003,335.99999999999994,651.44822263095227,430.81,24,0,0,980.75,703.56279508970738,0,6544.5450745544385]
["14.",{"$f":"B152","v":"PANCHAYEVA"},"Sofiia","6.B",12,620.66646906138874,383.26464173534737,480.20637024820041,0,0,112.2,0,584.73043971349637,375.25,0,0,0,0,0,0,2556.317920758433]
["15.",{"$f":"B153","v":"PIČMANOVÁ"},"Klára","6.B",11.14,673.12850756463183,378.08835198988345,0,565.17500000000007,0,0,0,530.31949026517339,0,0,0,0,0,0,0,2146.7113498196891]
["16.",{"$f":"B154","v":"ŠIMŮNKOVÁ"},"Anežka","6.B",10.36,728.24261823069514,443.94589452659591,446.05952696921713,636.47400000000005,642,0,369.77777777777777,536.77551028268806,430.81,15,0,0,712,632.99622285174701,0,5594.0815506387216]
["17.",{"$f":"B155","v":"TRPIŠOVSKÁ"},"Nela","6.B",10.18,742.16065947642437,469.94561211744815,461.37021268111266,638.21300000000008,642,376.1,377.77777777777777,631.01519605217129,514.15000000000009,18,0,0,830.75,670.63172804532587,25,6397.1141861502601]
[]
[]
[]
[]
[]
[]
[]
[]
[]
[]
[null,null,"CELKOVÉ   VÝSLEDKY  "]
[]
[null,"7. ročník",null,null,null,"   60  m  ","   300m","  800m","   dálka","   výška","   míček","   koule","  člunek","  lehsed","odbíjení ","  plavání","    šplh","švihadlo","z místa"," REPRE","  CELKEM"]
[]
["1.",{"$f":"B156","v":"HEJRALOVÁ"},{"$f":"C156","v":"Natálie"},"7.A",9.86,768.15856929039899,697.55772541198155,685.20261542453602,721.68500000000006,739.5,412.5,564.44444444444446,671.16245086571166,597.49,39,507.96480402700746,0,655.75,675.33616619452323,75,7810.7517756586039]
["2.",{"$f":"B157","v":"KERLE"},"Nikita","7.A",9.82,771.52744304175155,720.87869476436185,736.17880838323788,824.28600000000006,674.5,458,486.22222222222217,678.42346918655812,722.5,42,0,490.17333200324731,674.5,694.15391879131289,225,8198.343888392692]
["3.",{"$f":"B158","v":"MUNZAROVÁ"},"Aneta","7.A",0,0,0,0,0,0,221.4,0,540.27690894219938,458.59000000000003,15,0,0,0,501.27195467422098,0,1736.5388636164203]
["4.",{"$f":"B159","v":"PACLÍKOVÁ"},"Markéta","7.A",9.4,808.63164511382968,713.88728252063936,712.5475324469885,747.7700000000001,804.5,594.13599999999997,520.88888888888891,682.44523321848476,708.61,360.8,521.68668828400882,460.31159011685509,674.5,778.83380547686511,175,9264.5486660665592]
["5.",{"$f":"B160","v":"PLŮCHOVÁ"},"Michaela","7.A",9.4,808.63164511382968,733.66476192136281,713.00835299463017,770.37700000000007,804.5,439.8,633.77777777777771,644.70635054098352,500.26,42,0,394.35133854331809,674.5,661.22285174693116,225,8045.8000786388329]
["6.",{"$f":"B161","v":"ŠERCLOVÁ"},"Nikola","7.A",0,0,543.17947790538858,602.72760258372227,0,609.5,403.40000000000003,423.99999999999994,580.1907270274296,444.70000000000005,30,0,0,493.25,670.63172804532587,25,4826.5795355618666]
["7.",{"$f":"B162","v":"VÁCLAVÍKOVÁ"},"Alena","7.A",10.039999999999999,753.33082715172645,697.40199969092157,645.03126695323635,671.25400000000002,609.5,385.2,297.77777777777777,675.76644790420426,528.04,42,0,0,0,698.85835694051002,25,6029.1606764183762]
["8.",{"$f":"B163","v":"DUCHÁČKOVÁ"},"Tereza","7.B",11.99,621.2332467142063,383.93481048379067,364.44689410826766,0,577,257.8,334.22222222222217,549.66699383606965,458.59000000000003,30,0,0,255.75,411.88762983947129,0,4244.5317972040284]
["9.",{"$f":"B164","v":"FLAŠKOVÁ"},"Anna Sabriel","7.B",11.25,665.97089610992589,0,0,678.21,609.5,430.7,364.44444444444446,543.81971364646461,444.70000000000005,21,0,0,255.75,515.38526912181328,0,4529.4803233226485]
["10.",{"$f":"B165","v":"HAASOVÁ"},"Julie","7.B",10.029999999999999,754.14062851146559,0,0,742.553,0,330.6,0,0,0,0,0,0,0,0,50,1877.2936285114656]
["11.",{"$f":"B166","v":"HEGROVÁ"},"Štěpánka","7.B",10.65,706.8086895057902,570.69881604537841,443.56508788193503,659.08100000000002,0,321.5,352,0,0,18,0,0,249.5,0,0,3321.1535934331037]
["12.",{"$f":"B167","v":"HOBLOVÁ"},"Barbora","7.B",9.7100000000000009,780.93496227634739,697.40199969092157,0,652.125,609.5,376.1,424.88888888888891,578.19356870338538,319.69,30,0,520.17289247563417,562,623.58734655335252,0,6174.5946585885295]
["13.",{"$f":"B168","v":"HORÁČKOVÁ"},"Valérie","7.B",8.8800000000000008,859.43304404692185,754.65433227943402,722.9320854899637,754.726,674.5,367,466.66666666666663,679.75919999426321,528.04,36,652.45096338546455,0,387,741.19830028328624,125,7749.3605921460003]
["14.",{"$f":"B169","v":"JIRANOVÁ"},"Anežka","7.B",12.5,593.48381283226661,418.94458005558454,410.26461023024342,0,0,367,434.66666666666663,547.85578273338285,403.03000000000003,27,0,0,243.25,402.47875354107657,25,3872.9742060592207]
["15.",{"$f":"B170","v":"KRČÍKOVÁ"},"Beatrix","7.B",9.35,813.27085143351144,671.97354979907107,663.41962636259291,792.98400000000004,804.5,582.48799999999994,614.22222222222217,657.69029784446377,708.61,42,0,487.33907490158168,437,741.19830028328624,225,8241.6959228467294]
["16.",{"$f":"B171","v":"KUBÁTOVÁ"},"Veronika","7.B",11.9,626.37711112633042,406.63578923250793,382.99800298524974,0,0,203.20000000000002,266.66666666666669,572.76519646553061,291.91000000000003,30,0,0,130.75,567.13408876298399,0,3478.4368552392693]
["17.",{"$f":"B172","v":"LENČEŠOVÁ"},"Silvie","7.B",11.46,652.68792273443864,623.69463422569402,627.50978446946226,652.125,577,458,337.77777777777777,571.78814289533375,389.14,42,0,0,512,576.54296506137871,0,6020.2662271640856]
["18.",{"$f":"B173","v":"LUKEŠOVÁ"},"Lucie","7.B",11.25,665.97089610992589,597.93588310609687,513.36447451858442,619.08400000000006,0,348.8,324.44444444444446,0,0,30,0,0,493.25,0,0,3592.8496981790513]
["19.",{"$f":"B174","v":"MATERNOVÁ"},"Lenka","7.B",9.42,806.78975215888181,737.72175306286545,702.9035171688447,0,674.5,266.90000000000003,328,658.95190037001169,583.6,42,0,796.762157260462,443.25,694.15391879131289,50,6785.5329988123794]
["20.",{"$f":"B175","v":"TÓTHOVÁ"},"Viktorie","7.B",10.46,720.71735479955373,636.1107653914039,640.90819787651765,0,642,403.40000000000003,467.55555555555549,592.96232302451369,514.15000000000009,27,0,0,368.25,736.49386213408889,0,5749.5480587816337]
[]
[]
[" ",null,"CELKOVÉ   VÝSLEDKY  "]
[null,"8. ročník",null,null,null,"   60  m  ","   300m","  800m","   dálka","   výška","   míček","   koule","  člunek","  lehsed","odbíjení ","  plavání","    šplh","švihadlo","z místa"," REPRE","  CELKEM"]
[]
["1.",{"$f":"B176","v":"DUONG"},"Ngoc Linh","8.A",9.93,762.32834820107416,0,0,758.20400000000006,707,630.9,718.22222222222217,0,0,0,0,0,0,0,125,3701.6545704232967]
["2.",{"$f":"B177","v":"GINGALOVÁ"},"Linda","8.A",9.5,799.49973372666659,720.06033721385108,590.58243003452105,759.9430000000001,811,558.1,538.66666666666663,0,514.15000000000009,60,0,0,0,778.83380547686511,75,6205.8359731185701]
["3.",{"$f":"B178","v":"HOFMANOVÁ "},"Nicol","8.A",10.83,694.08223034502919,0,0,0,0,0,0,0,458.59000000000003,0,0,0,468.25,482.45420207743166,0,2103.3764324224608]
["4.",{"$f":"B179","v":"HOLEŠOVSKÁ"},"Aneta","8.A",10.26,735.91457295679004,538.05379129419737,0,0,0,439.8,0,590.36732995249474,0,0,0,0,612,0,25,2941.1356942034822]
["5.",{"$f":"B180","v":"HOLUBCOVÁ"},"Alena","8.A",9.08,839.20544535279009,792.09605635501987,656.50016216492304,765.16000000000008,674.5,685.5,754.66666666666674,712.60402442478699,778.06000000000006,93,456.37652827012988,0,549.5,811.76487252124662,200,8768.9337557555627]
["6.",{"$f":"B181","v":"KOHOUTOVÁ"},"Anna","8.A",11.35,659.5843689488986,517.42231756010949,598.94724606452337,0,609.5,321.5,537.77777777777771,509.77487984216629,375.25,42,0,0,618.25,473.04532577903683,0,5263.0519159725127]
["7.",{"$f":"B182","v":"KRAUSOVÁ"},"Anežka","8.A",10.36,728.24261823069514,583.01192808788062,537.47702833550841,0,674.5,494.40000000000003,568.88888888888891,613.93808880665574,569.71,27,0,0,599.5,661.22285174693116,25,6082.8914040965592]
["8.",{"$f":"B183","v":"KUŽELOVÁ"},"Apoléna","8.A",10.4,725.21514686570504,0,398.87216914387989,0,0,421.6,0,621.80097057345563,458.59000000000003,24,0,0,574.5,0,0,3224.5782865830406]
["9.",{"$f":"B184","v":"MORÁVKOVÁ"},"Lucie","8.A",11.78,633.35786203763439,507.52478624172966,394.71478083925479,0,0,312.40000000000003,546.66666666666663,575.71460564747088,333.58000000000004,42,0,0,430.75,0,0,3776.7087014327562]
["10.",{"$f":"B185","v":"SKLENÁROVÁ"},"Eliška","8.A",0,0,0,0,0,707,448.90000000000003,0,0,625.27,0,0,0,499.5,614.17847025495757,0,2894.8484702549576]
["11.",{"$f":"B186","v":"ŠEJNOVÁ"},"Karolína","8.A",10.62,708.97170822379167,571.2765320865883,526.01021462028439,0,0,330.6,0,577.69622794977874,430.81,42,0,0,230.75,670.63172804532587,0,4088.7464109257689]
["12.",{"$f":"B187","v":"ŠTOLFOVÁ"},"Tereza","8.A",10.11,747.7070730995714,607.56598741366156,549.76040400270631,0,609.5,0,0,0,569.71,0,0,0,230.75,538.90745986779984,0,3853.900924383739]
["13.",{"$f":"B188","v":"ŠUBÍKOVÁ"},"Klára","8.A",9.9,764.81691876127945,686.93590725182173,610.08398429120666,768.63800000000003,739.5,421.6,578.66666666666663,676.42890632131048,639.16000000000008,93,0,470.0063093513067,705.75,750.60717658168096,75,7980.1938692252716]
["14.",{"$f":"B189","v":"ŠULKOVSKÁ"},"Klára","8.A",0,0,0,0,0,0,0,0,0,528.04,0,0,524.01137808191447,274.5,0,25,1351.5513780819144]
["15.",{"$f":"B190","v":"TULÁČKOVÁ"},"Natálie","8.A",10.54,714.79995600284633,620.41850284199995,549.70590108386784,791.245,0,430.7,448.88888888888886,622.9392664049609,0,0,0,0,0,0,0,4178.6975152225632]
["16.",{"$f":"B191","v":"VOJTÍŠKOVÁ"},"Ella","8.A",9.32,816.07826813340478,767.48320988401326,745.88903214543836,759.9430000000001,882.5,676.4,682.66666666666663,712.60402442478699,583.6,165,0,408.61998836141686,612,774.12936732766775,75,8661.9135569433965]
["17.",{"$f":"B192","v":"DRUGÁČOVÁ"},"Kristinka","8.B",0,0,0,0,0,0,0,0,0,0,0,0,0,874.5,0,0,874.5]
["18.",{"$f":"B193","v":"FAJSTAVROVÁ"},"Karolína","8.B",8.76,872.01294789231349,786.06218370881879,854.01532180542665,779.072,642,458,704,693.38759734963094,430.81,60,0,0,537,745.9027384324836,350,7912.2627891886741]
["19.",{"$f":"B194","v":"FAJSTAVROVÁ"},"Magdaléna","8.B",9.0500000000000007,842.18259026556154,856.26254722276099,914.06576725535751,730.38,609.5,630.9,511.11111111111109,732.82791466699018,541.93000000000006,27,0,412.31897793194071,743.25,788.24268177525983,250,8589.9715902289827]
["20.",{"$f":"B195","v":"JINDROVÁ"},"Barbora","8.B",10.54,714.79995600284633,0,604.88726089756619,740.81400000000008,739.5,303.3,342.22222222222223,603.01539358793286,444.70000000000005,30,0,451.69735399586978,543.25,0,25,5543.1861867064381]
["21.",{"$f":"B196","v":"MAŘASOVÁ"},"Vendula","8.B",10.44,722.21087451500637,657.21485614825451,526.26413767597239,620.82300000000009,707,367,484.44444444444446,584.22284477944265,472.48,51,0,0,493.25,0,25,5710.9101575631194]
["22.",{"$f":"B197","v":"PETŘÍČKOVÁ"},"Natálie","8.B",9.08,839.20544535279009,709.23082855467578,611.44330240594513,808.63499999999999,0,485.3,502.22222222222223,692.00216911019038,0,0,0,0,0,821.17374881964133,75,5544.2127164654657]
["23.",{"$f":"B198","v":"PETŘÍKOVÁ"},"Adéla","8.B",10.43,722.9597822917865,676.11273636479996,625.98983350455899,0,577,303.3,0,549.213178078797,444.70000000000005,18,0,0,262,388.3654390934845,0,4567.6409693334272]
["24.",{"$f":"B199","v":"REGÁLOVÁ"},"Karolína","8.B",10.119999999999999,746.91003059980244,517.42231756010949,501.80860805324198,0,0,530.80000000000007,475.55555555555554,631.59937482670045,541.93000000000006,93,0,0,0,0,25,4064.0258865954102]
["25.",{"$f":"B200","v":"RIEGROVÁ"},"Magdaléna","8.B",10.49,718.48775339402607,0,547.7496001220818,0,642,321.5,0,598.21504066908403,0,18,0,504.74963455092563,0,604.76959395656286,0,3955.4716226926803]
["26.",{"$f":"B201","v":"RYBENSKÁ"},"Sabina","8.B",10.17,742.94832967912157,620.41850284199995,597.07165814270559,0,0,294.2,360,658.32054431281153,458.59000000000003,24,0,0,374.5,0,0,4130.0490349766387]
["27.",{"$f":"B202","v":"STEINEROVÁ"},"Barbora","8.B",9.51,798.5971052614791,749.23338921348966,593.41101660874904,846.89300000000003,772,612.70000000000005,440,693.38759734963094,458.59000000000003,33,0,541.87367411945434,530.75,905.85363550519355,0,7976.289418057997]
["28.",{"$f":"B203","v":"ŠERCLOVÁ"},"Andrea","8.B",0,0,488.51110765642102,0,0,0,0,0,0,375.25,0,0,0,187,411.88762983947129,0,1462.6487374958924]
["29.",{"$f":"B204","v":"TOMEŠOVÁ"},"Martina","8.B",9.73,779.20868293627962,724.49655125440188,594.27630382554776,786.02800000000002,0,494.40000000000003,0,679.09073018733022,514.15000000000009,15,0,0,387,774.12936732766775,0,5747.7796355312275]
["30.",{"$f":"B205","v":"VOHNOUTOVÁ"},"Aneta","8.B",8.94,{"$f":"F205","v":853.26973545152873},752.89899315510479,711.41856056761776,812.11300000000006,876,626.89600000000007,676.44444444444446,710.42052264811321,597.49,123,622.19191064215136,494.717855064714,468.25,830.58262511803605,100,9255.6936470917099]
[]
[]
[null,null,"CELKOVÉ   VÝSLEDKY  "]
[]
[null,"9. ročník",null,null,null,"   60  m  ","   300m","  800m","   dálka","   výška","   míček","   koule","  člunek","  lehsed","odbíjení ","  plavání","    šplh","švihadlo","z místa"," REPRE","     CELKEM"]
[]
["1.",{"$f":"B206","v":"HAVLÍKOVÁ"},"Michaela","9.A",10.1,{"$f":"F206","v":748.50569390132011},595.59420833668889,0,695.6,609.5,339.7,335.99999999999994,650.21283452782598,375.25,0,0,436.90493379763973,455.75,632.99622285174701,0,5876.0138934152219]
["2.",{"$f":"B207","v":"HOLUBCOVÁ"},"Sára","9.A",9.23,824.61001660924524,0,0,0,0,0,0,676.42890632131048,541.93000000000006,129,0,475.64641948989834,630.75,722.38054768649681,200,4200.7458901069513]
["3.",{"$f":"B208","v":"HONCŮ"},"Tereza","9.A",10.54,714.79995600284633,0,0,0,707,458,0,662.1254275010316,583.6,51,0,0,524.5,0,0,3701.0253835038779]
["4.",{"$f":"B209","v":"HORÁČKOVÁ"},"Kateřina","9.A",9.26,821.74767334809212,668.01844643910817,686.30158861783809,799.94,804.5,476.2,669.33333333333326,696.87363782236639,653.05000000000007,81,546.44384978386643,504.44962869511107,562,858.8092540132202,225,9053.6674120529351]
["5.",{"$f":"B210","v":"JOUDALOVÁ"},"Daniela","9.A",0,0,0,0,0,0,0,0,0,0,0,0,0,0,0,0,0]
["6.",{"$f":"B211","v":"KLÍMOVÁ"},"Anna","9.A",9.77,775.77732727772093,0,0,686.90500000000009,674.5,439.8,0,0,0,81,0,0,0,778.83380547686511,0,3436.8161327545863]
["7.",{"$f":"B212","v":"KOHOUTOVÁ"},"Veronika","9.A",9.4,808.63164511382968,678.19685068306046,588.53636193842158,740.81400000000008,674.5,530.80000000000007,555.55555555555554,657.69029784446377,583.6,129,0,468.75571596767719,1087,703.56279508970738,200,8406.6432221927171]
["8.",{"$f":"B213","v":"KOVÁŘOVÁ"},"Viktorie","9.A",9.75,777.48948576786313,720.71490867847388,0,0,0,549,509.33333333333337,669.20692661339285,0,36,0,0,0,760.01605288007568,25,4046.7607072731394]
["9.",{"$f":"B214","v":"KYNČLOVÁ"},"Anna","9.A",9.0399999999999991,843.17936297234507,791.90639702237263,988.37625291490758,786.02800000000002,915,485.3,440,722.21087451500637,694.72,51,550.85586753150733,584.21011522482115,668.25,821.17374881964133,250,9592.2106190006016]
["10.",{"$f":"B215","v":"MATOUŠOVÁ"},"Tereza","9.A",10.24,737.46694504589846,0,0,0,0,458,0,647.14308227157278,625.27,0,0,0,112,0,25,2604.8800273174711]
["11.",{"$f":"B216","v":"MAZÁNKOVÁ"},"Zuzana","9.A",10.1,748.50569390132011,623.56309570087842,0,0,609.5,294.2,466.66666666666663,650.82999098665505,486.37,0,0,0,149.5,698.85835694051002,0,4727.9938041960304]
["12.",{"$f":"B217","v":"MORKESOVÁ"},"Sabrina","9.A",9.15,832.33469379635699,663.52067830903718,700.69985279287107,827.76400000000001,739.5,834.01199999999994,684.44444444444446,730.52860822555658,639.16000000000008,138,0,485.07974685864622,687,811.76487252124662,250,9023.8088969481578]
["13.",{"$f":"B218","v":"POHOŘALÁ"},"Alžběta","9.A",9.5399999999999991,795.90057368308885,765.32154165544557,0,686.90500000000009,0,403.40000000000003,457.77777777777777,0,0,0,0,0,0,811.76487252124662,150,4071.0697656375592]
["14.",{"$f":"B219","v":"SCHOLZOVÁ"},"Laura","9.A",0,0,0,0,0,0,0,0,0,0,36,0,0,0,0,0,36]
["15.",{"$f":"B220","v":"VÁCLAVÍKOVÁ"},"Valerie","9.A",9.68,783.53775638464185,734.67576699623464,677.36114265000003,742.553,0,0,609.77777777777783,668.55741112429371,597.49,138,0,0,712,769.42492917847039,200,6633.3777841114188]
["16.",{"$f":"B221","v":"ZAPADLOVÁ"},"Emma","9.A",9.0399999999999991,843.17936297234507,798.97170172364872,703.55870184292041,0,804.5,776.5,397.33333333333326,689.24656505229348,0,66,0,0,0,821.17374881964133,250,6150.4634137441826]
["17.",{"$f":"B222","v":"ŽIŠKOVÁ"},"Mia","9.A",0,0,0,0,0,0,0,0,0,0,66,0,0,0,0,25,91]
["18.",{"$f":"B223","v":"FARSKÁ"},"Tereza","9.B",11.42,655.18034956246345,0,0,0,0,330.6,0,0,0,0,0,0,0,0,0,985.78034956246347]
["19.",{"$f":"B224","v":"FEIXOVÁ"},"Rozálie","9.B",0,0,0,0,0,0,276,0,0,0,0,0,0,0,0,0,276]
["20.",{"$f":"B225","v":"FIŠEROVÁ"},"Michaela","9.B",10.45,721.46340005454545,0,0,0,0,348.8,626.66666666666663,0,0,0,0,0,0,0,25,1721.9300667212119]
["21.",{"$f":"B226","v":"HAVLÍČKOVÁ"},"Kristýna","9.B",0,0,0,0,0,0,303.3,600,0,0,0,0,0,0,0,0,903.3]
["22.",{"$f":"B227","v":"KADAVÁ"},"Nikola","9.B",12.18,610.62361577476736,0,0,0,0,257.8,457.77777777777777,0,0,0,0,0,0,0,0,1326.2013935525451]
["23.",{"$f":"B228","v":"KŘIVINKOVÁ"},"Alžběta","9.B",10,756.57975020699996,0,0,0,0,458,635.55555555555554,0,0,0,0,0,0,0,0,1850.1353057625556]
["24.",{"$f":"B229","v":"LEŠÁKOVÁ"},"Lenka","9.B",10.39,725.96982933301251,0,0,0,0,221.4,502.22222222222223,0,0,0,0,0,0,0,0,1449.5920515552348]
["25.",{"$f":"B230","v":"NYKLÍČKOVÁ"},"Adéla","9.B",9.84,769.8395825138889,0,0,0,0,430.7,600,0,0,0,0,0,0,0,25,1825.5395825138889]
["26.",{"$f":"B231","v":"PLŮCHOVÁ"},"Petra","9.B",10.38,726.72596590912008,0,0,0,0,439.8,626.66666666666663,0,0,0,0,0,0,0,25,1818.1926325757868]
["27.",{"$f":"B232","v":"PODZIMKOVÁ"},"Eliška","9.B",11.59,644.70635054098352,0,0,0,0,494.40000000000003,484.44444444444446,0,0,0,0,0,0,0,0,1623.5507949854282]
["28.",{"$f":"B233","v":"RUTKAYOVÁ"},"Klára","9.B",11.06,678.42346918655812,0,0,0,0,312.40000000000003,0,0,0,0,0,0,0,0,0,990.82346918655821]
["29.",{"$f":"B234","v":"SEIDLOVÁ"},"Zuzana","9.B",10.36,728.24261823069514,0,0,0,0,621.80000000000007,742.22222222222217,0,0,0,0,0,0,0,0,2092.2648404529173]
["30.",{"$f":"B235","v":"TOMÁŠOVÁ"},"Sára","9.B",12.4,598.7449721024193,0,0,0,0,357.90000000000003,475.55555555555554,0,0,0,0,0,0,0,0,1432.2005276579748]
["31.",{"$f":"B236","v":"VANCLOVÁ"},"Barbora","9.B",10.28,734.36824122600524,0,0,0,0,439.8,502.22222222222223,0,0,0,746.39606415019762,0,0,0,0,2422.786527598425]
["32.",{"$f":"B237","v":"VOTOČKOVÁ"},"Veronika","9.B",12.62,587.28048082435294,0,0,0,0,257.8,502.22222222222223,0,0,0,0,0,0,0,0,1347.3027030465751]
[]
[]
[]
[]
[]
[]
[]
[]
[]
[]
[null,{"$f":"'D60'!B111","v":"FARSKÁ"},{"$f":"'D60'!C111","v":"Anna"},{"$f":"'D60'!D111","v":"6.A"},{"$f":"'D60'!E111","v":9.98},{"$f":"'D60'!H111","v":758.21397803640605},{"$f":"'D300'!H111","v":622.24997622749765},{"$f":"'D800'!H111","v":477.95266771987951},{"$f":"Ddál!H111","v":735.59700000000009},{"$f":"Dvýš!H111","v":642},{"$f":"Dmíč!H111","v":357.90000000000003},{"$f":"Dkou!H111","v":484.44444444444446},{"$f":"Dčlu!H111","v":551.03251424856637},{"$f":"Dls!H111","v":514.15000000000009},{"$f":"Dodbíj!H111","v":30},{"$f":"Dplav!H111","v":0},{"$f":"Dšplh!H111","v":493.3599776733713},{"$f":"Dšvih!H111","v":655.75},{"$f":"'Dz mís'!H111","v":755.31161473087832},{"$f":"Drepre!E4","v":125},{"$f":"SUM(F139:T139)","v":7202.9621730810441},null,{"$f":"FREQUENCY(F139:S139,0)","v":1}]
[null,{"$f":"'D60'!B112","v":"FARSKÁ"},{"$f":"'D60'!C112","v":"Eliška"},{"$f":"'D60'!D112","v":"6.A"},{"$f":"'D60'!E112","v":9.4499999999999993},{"$f":"'D60'!H112","v":804.04153092451486},{"$f":"'D300'!H112","v":521.35624888979487},{"$f":"'D800'!H112","v":608.15072472211466},{"$f":"Ddál!H112","v":794.72300000000007},{"$f":"Dvýš!H112","v":642},{"$f":"Dmíč!H112","v":367},{"$f":"Dkou!H112","v":436.44444444444446},{"$f":"Dčlu!H112","v":592.4416662675718},{"$f":"Dls!H112","v":361.36},{"$f":"Dodbíj!H112","v":27},{"$f":"Dplav!H112","v":0},{"$f":"Dšplh!H112","v":537.86200182533878},{"$f":"Dšvih!H112","v":687},{"$f":"'Dz mís'!H112","v":783.53824362606247},{"$f":"Drepre!E5","v":75},7237.9178606998421,null,1]
[null,{"$f":"'D60'!B113","v":"FEDORKOVÁ"},{"$f":"'D60'!C113","v":"Denisa"},{"$f":"'D60'!D113","v":"6.A"},{"$f":"'D60'!E113","v":11.32},{"$f":"'D60'!H113","v":661.48847929946976},{"$f":"'D300'!H113","v":391.68222888787022},{"$f":"'D800'!H113","v":0},{"$f":"Ddál!H113","v":565.17500000000007},{"$f":"Dvýš!H113","v":609.5},{"$f":"Dmíč!H113","v":276},{"$f":"Dkou!H113","v":353.77777777777777},{"$f":"Dčlu!H113","v":547.40466323940518},{"$f":"Dls!H113","v":236.35000000000002},{"$f":"Dodbíj!H113","v":27},{"$f":"Dplav!H113","v":0},{"$f":"Dšplh!H113","v":0},{"$f":"Dšvih!H113","v":680.75},{"$f":"'Dz mís'!H113","v":553.02077431539215},{"$f":"Drepre!E6","v":0},4902.148923519916,null,3]
[null,{"$f":"'D60'!B114","v":"HAUZEROVÁ"},{"$f":"'D60'!C114","v":"Tereza"},{"$f":"'D60'!D114","v":"6.A"},{"$f":"'D60'!E114","v":9.9600000000000009},{"$f":"'D60'!H114","v":759.85476902978576},{"$f":"'D300'!H114","v":547.72203540496423},{"$f":"'D800'!H114","v":515.47089492392536},{"$f":"Ddál!H114","v":711.25100000000009},{"$f":"Dvýš!H114","v":642},{"$f":"Dmíč!H114","v":257.8},{"$f":"Dkou!H114","v":319.11111111111109},{"$f":"Dčlu!H114","v":555.62884017859824},{"$f":"Dls!H114","v":291.91000000000003},{"$f":"Dodbíj!H114","v":21},{"$f":"Dplav!H114","v":0},{"$f":"Dšplh!H114","v":0},{"$f":"Dšvih!H114","v":587},{"$f":"'Dz mís'!H114","v":680.04060434372059},{"$f":"Drepre!E7","v":0},5888.7892549921062,null,2]
[null,{"$f":"'D60'!B115","v":"JOSKOVÁ"},{"$f":"'D60'!C115","v":"Ellen"},{"$f":"'D60'!D115","v":"6.A"},{"$f":"'D60'!E115","v":9.4},{"$f":"'D60'!H115","v":808.63164511382968},{"$f":"'D300'!H115","v":691.83105464531877},{"$f":"'D800'!H115","v":607.44439111599104},{"$f":"Ddál!H115","v":620.82300000000009},{"$f":"Dvýš!H115","v":609.5},{"$f":"Dmíč!H115","v":294.2},{"$f":"Dkou!H115","v":450.66666666666669},{"$f":"Dčlu!H115","v":592.4416662675718},{"$f":"Dls!H115","v":389.14},{"$f":"Dodbíj!H115","v":9},{"$f":"Dplav!H115","v":0},{"$f":"Dšplh!H115","v":0},{"$f":"Dšvih!H115","v":587},{"$f":"'Dz mís'!H115","v":670.63172804532587},{"$f":"Drepre!E8","v":75},6406.3101518547037,null,2]
[null,{"$f":"'D60'!B116","v":"KUŽELOVÁ"},{"$f":"'D60'!C116","v":"Amálie"},{"$f":"'D60'!D116","v":"6.A"},{"$f":"'D60'!E116","v":12.23},{"$f":"'D60'!H116","v":607.88639765358403},{"$f":"'D300'!H116","v":387.71567728427465},{"$f":"'D800'!H116","v":0},{"$f":"Ddál!H116","v":476.48600000000005},{"$f":"Dvýš!H116","v":0},{"$f":"Dmíč!H116","v":0},{"$f":"Dkou!H116","v":0},{"$f":"Dčlu!H116","v":459.8530448051315},{"$f":"Dls!H116","v":361.36},{"$f":"Dodbíj!H116","v":60},{"$f":"Dplav!H116","v":0},{"$f":"Dšplh!H116","v":0},{"$f":"Dšvih!H116","v":443.25},{"$f":"'Dz mís'!H116","v":0},{"$f":"Drepre!E9","v":0},2796.5511197429901,null,7]
[null,{"$f":"'D60'!B117","v":"RYŠAVÁ"},{"$f":"'D60'!C117","v":"Amálie"},{"$f":"'D60'!D117","v":"6.A"},{"$f":"'D60'!E117","v":10.73},{"$f":"'D60'!H117","v":701.09977151009628},{"$f":"'D300'!H117","v":415.95218175463776},{"$f":"'D800'!H117","v":556.58718703221439},{"$f":"Ddál!H117","v":620.82300000000009},{"$f":"Dvýš!H117","v":0},{"$f":"Dmíč!H117","v":348.8},{"$f":"Dkou!H117","v":440},{"$f":"Dčlu!H117","v":549.66699383606965},{"$f":"Dls!H117","v":97.45},{"$f":"Dodbíj!H117","v":75},{"$f":"Dplav!H117","v":0},{"$f":"Dšplh!H117","v":0},{"$f":"Dšvih!H117","v":918.25},{"$f":"'Dz mís'!H117","v":0},{"$f":"Drepre!E10","v":0},4723.6291341330179,null,4,{"$f":"SUM(W139:W145)","v":20}]
[null,{"$f":"'D60'!B118","v":"BANGOVÁ"},{"$f":"'D60'!C118","v":"Zuzana"},{"$f":"'D60'!D118","v":"6.B"},{"$f":"'D60'!E118","v":11.08},{"$f":"'D60'!H118","v":677.0925605117327},{"$f":"'D300'!H118","v":346.09707872691786},{"$f":"'D800'!H118","v":438.29737875774276},{"$f":"Ddál!H118","v":568.65300000000002},{"$f":"Dvýš!H118","v":609.5},{"$f":"Dmíč!H118","v":312.40000000000003},{"$f":"Dkou!H118","v":330.66666666666669},{"$f":"Dčlu!H118","v":0},{"$f":"Dls!H118","v":0},{"$f":"Dodbíj!H118","v":0},{"$f":"Dplav!H118","v":0},{"$f":"Dšplh!H118","v":0},{"$f":"Dšvih!H118","v":574.5},{"$f":"'Dz mís'!H118","v":501.27195467422098},{"$f":"Drepre!E11","v":0},4358.4786393372806,null,5]
[null,{"$f":"'D60'!B119","v":"HOLUBOVÁ"},{"$f":"'D60'!C119","v":"Denisa"},{"$f":"'D60'!D119","v":"6.B"},{"$f":"'D60'!E119","v":12},{"$f":"'D60'!H119","v":620.66646906138874},{"$f":"'D300'!H119","v":397.80115108181076},{"$f":"'D800'!H119","v":449.70335411193457},{"$f":"Ddál!H119","v":563.43600000000004},{"$f":"Dvýš!H119","v":642},{"$f":"Dmíč!H119","v":330.6},{"$f":"Dkou!H119","v":488.88888888888886},{"$f":"Dčlu!H119","v":570.32821678523646},{"$f":"Dls!H119","v":278.02},{"$f":"Dodbíj!H119","v":0},{"$f":"Dplav!H119","v":0},{"$f":"Dšplh!H119","v":0},{"$f":"Dšvih!H119","v":580.75},{"$f":"'Dz mís'!H119","v":505.97639282341834},{"$f":"Drepre!E12","v":0},5428.1704727526776,null,3]
[null,{"$f":"'D60'!B120","v":"HURKALO"},{"$f":"'D60'!C120","v":"Karolina"},{"$f":"'D60'!D120","v":"6.B"},{"$f":"'D60'!E120","v":15.65},{"$f":"'D60'!H120","v":462.1733456807242},{"$f":"'D300'!H120","v":259.3769650597817},{"$f":"'D800'!H120","v":0},{"$f":"Ddál!H120","v":0},{"$f":"Dvýš!H120","v":0},{"$f":"Dmíč!H120","v":185},{"$f":"Dkou!H120","v":0},{"$f":"Dčlu!H120","v":0},{"$f":"Dls!H120","v":0},{"$f":"Dodbíj!H120","v":0},{"$f":"Dplav!H120","v":0},{"$f":"Dšplh!H120","v":0},{"$f":"Dšvih!H120","v":418.25},{"$f":"'Dz mís'!H120","v":0},{"$f":"Drepre!E13","v":0},1324.8003107405059,null,10]
[null,{"$f":"'D60'!B121","v":"HUTNIK-MAMONOVA"},{"$f":"'D60'!C121","v":"Nana"},{"$f":"'D60'!D121","v":"6.B"},{"$f":"'D60'!E121","v":14},{"$f":"'D60'!H121","v":523.58555395738085},{"$f":"'D300'!H121","v":0},{"$f":"'D800'!H121","v":0},{"$f":"Ddál!H121","v":0},{"$f":"Dvýš!H121","v":0},{"$f":"Dmíč!H121","v":94},{"$f":"Dkou!H121","v":0},{"$f":"Dčlu!H121","v":560.76547889083076},{"$f":"Dls!H121","v":0},{"$f":"Dodbíj!H121","v":0},{"$f":"Dplav!H121","v":0},{"$f":"Dšplh!H121","v":0},{"$f":"Dšvih!H121","v":80.75},{"$f":"'Dz mís'!H121","v":0},{"$f":"Drepre!E14","v":0},1259.1010328482116,null,10]
[null,{"$f":"'D60'!B122","v":"MARINOVA"},{"$f":"'D60'!C122","v":"Darja"},{"$f":"'D60'!D122","v":"6.B"},{"$f":"'D60'!E122","v":12},{"$f":"'D60'!H122","v":620.66646906138874},{"$f":"'D300'!H122","v":495.99521518468077},{"$f":"'D800'!H122","v":0},{"$f":"Ddál!H122","v":0},{"$f":"Dvýš!H122","v":0},{"$f":"Dmíč!H122","v":0},{"$f":"Dkou!H122","v":0},{"$f":"Dčlu!H122","v":0},{"$f":"Dls!H122","v":430.81},{"$f":"Dodbíj!H122","v":0},{"$f":"Dplav!H122","v":0},{"$f":"Dšplh!H122","v":0},{"$f":"Dšvih!H122","v":418.25},{"$f":"'Dz mís'!H122","v":0},{"$f":"Drepre!E15","v":0},1965.7216842460693,null,10]
[null,{"$f":"'D60'!B123","v":"NYKLÍČKOVÁ"},{"$f":"'D60'!C123","v":"Klára"},{"$f":"'D60'!D123","v":"6.B"},{"$f":"'D60'!E123","v":10.58},{"$f":"'D60'!H123","v":711.8748146316949},{"$f":"'D300'!H123","v":600.91319749562012},{"$f":"'D800'!H123","v":634.13304470646301},{"$f":"Ddál!H123","v":568.65300000000002},{"$f":"Dvýš!H123","v":544.5},{"$f":"Dmíč!H123","v":357.90000000000003},{"$f":"Dkou!H123","v":335.99999999999994},{"$f":"Dčlu!H123","v":651.44822263095227},{"$f":"Dls!H123","v":430.81},{"$f":"Dodbíj!H123","v":24},{"$f":"Dplav!H123","v":0},{"$f":"Dšplh!H123","v":0},{"$f":"Dšvih!H123","v":980.75},{"$f":"'Dz mís'!H123","v":703.56279508970738},{"$f":"Drepre!E16","v":0},6544.5450745544385,null,2]
[null,{"$f":"'D60'!B124","v":"PANCHAYEVA"},{"$f":"'D60'!C124","v":"Sofiia"},{"$f":"'D60'!D124","v":"6.B"},{"$f":"'D60'!E124","v":12},{"$f":"'D60'!H124","v":620.66646906138874},{"$f":"'D300'!H124","v":383.26464173534737},{"$f":"'D800'!H124","v":480.20637024820041},{"$f":"Ddál!H124","v":0},{"$f":"Dvýš!H124","v":0},{"$f":"Dmíč!H124","v":112.2},{"$f":"Dkou!H124","v":0},{"$f":"Dčlu!H124","v":584.73043971349637},{"$f":"Dls!H124","v":375.25},{"$f":"Dodbíj!H124","v":0},{"$f":"Dplav!H124","v":0},{"$f":"Dšplh!H124","v":0},{"$f":"Dšvih!H124","v":0},{"$f":"'Dz mís'!H124","v":0},{"$f":"Drepre!E17","v":0},2556.317920758433,null,8]
[null,{"$f":"'D60'!B125","v":"PIČMANOVÁ"},{"$f":"'D60'!C125","v":"Klára"},{"$f":"'D60'!D125","v":"6.B"},{"$f":"'D60'!E125","v":11.14},{"$f":"'D60'!H125","v":673.12850756463183},{"$f":"'D300'!H125","v":378.08835198988345},{"$f":"'D800'!H125","v":0},{"$f":"Ddál!H125","v":565.17500000000007},{"$f":"Dvýš!H125","v":0},{"$f":"Dmíč!H125","v":0},{"$f":"Dkou!H125","v":0},{"$f":"Dčlu!H125","v":530.31949026517339},{"$f":"Dls!H125","v":0},{"$f":"Dodbíj!H125","v":0},{"$f":"Dplav!H125","v":0},{"$f":"Dšplh!H125","v":0},{"$f":"Dšvih!H125","v":0},{"$f":"'Dz mís'!H125","v":0},{"$f":"Drepre!E18","v":0},2146.7113498196891,null,10]
[null,{"$f":"'D60'!B126","v":"ŠIMŮNKOVÁ"},{"$f":"'D60'!C126","v":"Anežka"},{"$f":"'D60'!D126","v":"6.B"},{"$f":"'D60'!E126","v":10.36},{"$f":"'D60'!H126","v":728.24261823069514},{"$f":"'D300'!H126","v":443.94589452659591},{"$f":"'D800'!H126","v":446.05952696921713},{"$f":"Ddál!H126","v":636.47400000000005},{"$f":"Dvýš!H126","v":642},{"$f":"Dmíč!H126","v":0},{"$f":"Dkou!H126","v":369.77777777777777},{"$f":"Dčlu!H126","v":536.77551028268806},{"$f":"Dls!H126","v":430.81},{"$f":"Dodbíj!H126","v":15},{"$f":"Dplav!H126","v":0},{"$f":"Dšplh!H126","v":0},{"$f":"Dšvih!H126","v":712},{"$f":"'Dz mís'!H126","v":632.99622285174701},{"$f":"Drepre!E19","v":0},5594.0815506387216,null,3]
[null,{"$f":"'D60'!B127","v":"TRPIŠOVSKÁ"},{"$f":"'D60'!C127","v":"Nela"},{"$f":"'D60'!D127","v":"6.B"},{"$f":"'D60'!E127","v":10.18},{"$f":"'D60'!H127","v":742.16065947642437},{"$f":"'D300'!H127","v":469.94561211744815},{"$f":"'D800'!H127","v":461.37021268111266},{"$f":"Ddál!H127","v":638.21300000000008},{"$f":"Dvýš!H127","v":642},{"$f":"Dmíč!H127","v":376.1},{"$f":"Dkou!H127","v":377.77777777777777},{"$f":"Dčlu!H127","v":631.01519605217129},{"$f":"Dls!H127","v":514.15000000000009},{"$f":"Dodbíj!H127","v":18},{"$f":"Dplav!H127","v":0},{"$f":"Dšplh!H127","v":0},{"$f":"Dšvih!H127","v":830.75},{"$f":"'Dz mís'!H127","v":670.63172804532587},{"$f":"Drepre!E20","v":25},6397.1141861502601,null,2,{"$f":"SUM(W146:W155)","v":63}]
[null,{"$f":"'D60'!B128","v":"HEJRALOVÁ"},{"$f":"'D60'!C128","v":"Natálie"},{"$f":"'D60'!D128","v":"7.A"},{"$f":"'D60'!E128","v":9.86},{"$f":"'D60'!H128","v":768.15856929039899},{"$f":"'D300'!H128","v":697.55772541198155},{"$f":"'D800'!H128","v":685.20261542453602},{"$f":"Ddál!H128","v":721.68500000000006},{"$f":"Dvýš!H128","v":739.5},{"$f":"Dmíč!H128","v":412.5},{"$f":"Dkou!H128","v":564.44444444444446},{"$f":"Dčlu!H128","v":671.16245086571166},{"$f":"Dls!H128","v":597.49},{"$f":"Dodbíj!H128","v":39},{"$f":"Dplav!H128","v":507.96480402700746},{"$f":"Dšplh!H128","v":0},{"$f":"Dšvih!H128","v":655.75},{"$f":"'Dz mís'!H128","v":675.33616619452323},{"$f":"Drepre!E21","v":75},7810.7517756586039,null,1]
[null,{"$f":"'D60'!B129","v":"KERLE"},{"$f":"'D60'!C129","v":"Nikita"},{"$f":"'D60'!D129","v":"7.A"},{"$f":"'D60'!E129","v":9.82},{"$f":"'D60'!H129","v":771.52744304175155},{"$f":"'D300'!H129","v":720.87869476436185},{"$f":"'D800'!H129","v":736.17880838323788},{"$f":"Ddál!H129","v":824.28600000000006},{"$f":"Dvýš!H129","v":674.5},{"$f":"Dmíč!H129","v":458},{"$f":"Dkou!H129","v":486.22222222222217},{"$f":"Dčlu!H129","v":678.42346918655812},{"$f":"Dls!H129","v":722.5},{"$f":"Dodbíj!H129","v":42},{"$f":"Dplav!H129","v":0},{"$f":"Dšplh!H129","v":490.17333200324731},{"$f":"Dšvih!H129","v":674.5},{"$f":"'Dz mís'!H129","v":694.15391879131289},{"$f":"Drepre!E22","v":225},8198.343888392692,null,1]
[null,{"$f":"'D60'!B130","v":"MUNZAROVÁ"},{"$f":"'D60'!C130","v":"Aneta"},{"$f":"'D60'!D130","v":"7.A"},{"$f":"'D60'!E130","v":0},{"$f":"'D60'!H130","v":0},{"$f":"'D300'!H130","v":0},{"$f":"'D800'!H130","v":0},{"$f":"Ddál!H130","v":0},{"$f":"Dvýš!H130","v":0},{"$f":"Dmíč!H130","v":221.4},{"$f":"Dkou!H130","v":0},{"$f":"Dčlu!H130","v":540.27690894219938},{"$f":"Dls!H130","v":458.59000000000003},{"$f":"Dodbíj!H130","v":15},{"$f":"Dplav!H130","v":0},{"$f":"Dšplh!H130","v":0},{"$f":"Dšvih!H130","v":0},{"$f":"'Dz mís'!H130","v":501.27195467422098},{"$f":"Drepre!E23","v":0},1736.5388636164203,null,9]
[null,{"$f":"'D60'!B131","v":"PACLÍKOVÁ"},{"$f":"'D60'!C131","v":"Markéta"},{"$f":"'D60'!D131","v":"7.A"},{"$f":"'D60'!E131","v":9.4},{"$f":"'D60'!H131","v":808.63164511382968},{"$f":"'D300'!H131","v":713.88728252063936},{"$f":"'D800'!H131","v":712.5475324469885},{"$f":"Ddál!H131","v":747.7700000000001},{"$f":"Dvýš!H131","v":804.5},{"$f":"Dmíč!H131","v":594.13599999999997},{"$f":"Dkou!H131","v":520.88888888888891},{"$f":"Dčlu!H131","v":682.44523321848476},{"$f":"Dls!H131","v":708.61},{"$f":"Dodbíj!H131","v":360.8},{"$f":"Dplav!H131","v":521.68668828400882},{"$f":"Dšplh!H131","v":460.31159011685509},{"$f":"Dšvih!H131","v":674.5},{"$f":"'Dz mís'!H131","v":778.83380547686511},{"$f":"Drepre!E24","v":175},9264.5486660665592,null,0]
[null,{"$f":"'D60'!B132","v":"PLŮCHOVÁ"},{"$f":"'D60'!C132","v":"Michaela"},{"$f":"'D60'!D132","v":"7.A"},{"$f":"'D60'!E132","v":9.4},{"$f":"'D60'!H132","v":808.63164511382968},{"$f":"'D300'!H132","v":733.66476192136281},{"$f":"'D800'!H132","v":713.00835299463017},{"$f":"Ddál!H132","v":770.37700000000007},{"$f":"Dvýš!H132","v":804.5},{"$f":"Dmíč!H132","v":439.8},{"$f":"Dkou!H132","v":633.77777777777771},{"$f":"Dčlu!H132","v":644.70635054098352},{"$f":"Dls!H132","v":500.26},{"$f":"Dodbíj!H132","v":42},{"$f":"Dplav!H132","v":0},{"$f":"Dšplh!H132","v":394.35133854331809},{"$f":"Dšvih!H132","v":674.5},{"$f":"'Dz mís'!H132","v":661.22285174693116},{"$f":"Drepre!E25","v":225},8045.8000786388329,null,1]
[null,{"$f":"'D60'!B133","v":"ŠERCLOVÁ"},{"$f":"'D60'!C133","v":"Nikola"},{"$f":"'D60'!D133","v":"7.A"},{"$f":"'D60'!E133","v":0},{"$f":"'D60'!H133","v":0},{"$f":"'D300'!H133","v":543.17947790538858},{"$f":"'D800'!H133","v":602.72760258372227},{"$f":"Ddál!H133","v":0},{"$f":"Dvýš!H133","v":609.5},{"$f":"Dmíč!H133","v":403.40000000000003},{"$f":"Dkou!H133","v":423.99999999999994},{"$f":"Dčlu!H133","v":580.1907270274296},{"$f":"Dls!H133","v":444.70000000000005},{"$f":"Dodbíj!H133","v":30},{"$f":"Dplav!H133","v":0},{"$f":"Dšplh!H133","v":0},{"$f":"Dšvih!H133","v":493.25},{"$f":"'Dz mís'!H133","v":670.63172804532587},{"$f":"Drepre!E26","v":25},4826.5795355618666,null,4]
[null,{"$f":"'D60'!B134","v":"VÁCLAVÍKOVÁ"},{"$f":"'D60'!C134","v":"Alena"},{"$f":"'D60'!D134","v":"7.A"},{"$f":"'D60'!E134","v":10.039999999999999},{"$f":"'D60'!H134","v":753.33082715172645},{"$f":"'D300'!H134","v":697.40199969092157},{"$f":"'D800'!H134","v":645.03126695323635},{"$f":"Ddál!H134","v":671.25400000000002},{"$f":"Dvýš!H134","v":609.5},{"$f":"Dmíč!H134","v":385.2},{"$f":"Dkou!H134","v":297.77777777777777},{"$f":"Dčlu!H134","v":675.76644790420426},{"$f":"Dls!H134","v":528.04},{"$f":"Dodbíj!H134","v":42},{"$f":"Dplav!H134","v":0},{"$f":"Dšplh!H134","v":0},{"$f":"Dšvih!H134","v":0},{"$f":"'Dz mís'!H134","v":698.85835694051002},{"$f":"Drepre!E27","v":25},6029.1606764183762,null,3,{"$f":"SUM(W156:W162)","v":19}]
[null,{"$f":"'D60'!B135","v":"DUCHÁČKOVÁ"},{"$f":"'D60'!C135","v":"Tereza"},{"$f":"'D60'!D135","v":"7.B"},{"$f":"'D60'!E135","v":11.99},{"$f":"'D60'!H135","v":621.2332467142063},{"$f":"'D300'!H135","v":383.93481048379067},{"$f":"'D800'!H135","v":364.44689410826766},{"$f":"Ddál!H135","v":0},{"$f":"Dvýš!H135","v":577},{"$f":"Dmíč!H135","v":257.8},{"$f":"Dkou!H135","v":334.22222222222217},{"$f":"Dčlu!H135","v":549.66699383606965},{"$f":"Dls!H135","v":458.59000000000003},{"$f":"Dodbíj!H135","v":30},{"$f":"Dplav!H135","v":0},{"$f":"Dšplh!H135","v":0},{"$f":"Dšvih!H135","v":255.75},{"$f":"'Dz mís'!H135","v":411.88762983947129},{"$f":"Drepre!E28","v":0},4244.5317972040284,null,3]
[null,{"$f":"'D60'!B136","v":"FLAŠKOVÁ"},{"$f":"'D60'!C136","v":"Anna Sabriel"},{"$f":"'D60'!D136","v":"7.B"},{"$f":"'D60'!E136","v":11.25},{"$f":"'D60'!H136","v":665.97089610992589},{"$f":"'D300'!H136","v":0},{"$f":"'D800'!H136","v":0},{"$f":"Ddál!H136","v":678.21},{"$f":"Dvýš!H136","v":609.5},{"$f":"Dmíč!H136","v":430.7},{"$f":"Dkou!H136","v":364.44444444444446},{"$f":"Dčlu!H136","v":543.81971364646461},{"$f":"Dls!H136","v":444.70000000000005},{"$f":"Dodbíj!H136","v":21},{"$f":"Dplav!H136","v":0},{"$f":"Dšplh!H136","v":0},{"$f":"Dšvih!H136","v":255.75},{"$f":"'Dz mís'!H136","v":515.38526912181328},{"$f":"Drepre!E29","v":0},4529.4803233226485,null,4]
[null,{"$f":"'D60'!B137","v":"HAASOVÁ"},{"$f":"'D60'!C137","v":"Julie"},{"$f":"'D60'!D137","v":"7.B"},{"$f":"'D60'!E137","v":10.029999999999999},{"$f":"'D60'!H137","v":754.14062851146559},{"$f":"'D300'!H137","v":0},{"$f":"'D800'!H137","v":0},{"$f":"Ddál!H137","v":742.553},{"$f":"Dvýš!H137","v":0},{"$f":"Dmíč!H137","v":330.6},{"$f":"Dkou!H137","v":0},{"$f":"Dčlu!H137","v":0},{"$f":"Dls!H137","v":0},{"$f":"Dodbíj!H137","v":0},{"$f":"Dplav!H137","v":0},{"$f":"Dšplh!H137","v":0},{"$f":"Dšvih!H137","v":0},{"$f":"'Dz mís'!H137","v":0},{"$f":"Drepre!E30","v":50},1877.2936285114656,null,11]
[null,{"$f":"'D60'!B138","v":"HEGROVÁ"},{"$f":"'D60'!C138","v":"Štěpánka"},{"$f":"'D60'!D138","v":"7.B"},{"$f":"'D60'!E138","v":10.65},{"$f":"'D60'!H138","v":706.8086895057902},{"$f":"'D300'!H138","v":570.69881604537841},{"$f":"'D800'!H138","v":443.56508788193503},{"$f":"Ddál!H138","v":659.08100000000002},{"$f":"Dvýš!H138","v":0},{"$f":"Dmíč!H138","v":321.5},{"$f":"Dkou!H138","v":352},{"$f":"Dčlu!H138","v":0},{"$f":"Dls!H138","v":0},{"$f":"Dodbíj!H138","v":18},{"$f":"Dplav!H138","v":0},{"$f":"Dšplh!H138","v":0},{"$f":"Dšvih!H138","v":249.5},{"$f":"'Dz mís'!H138","v":0},{"$f":"Drepre!E31","v":0},3321.1535934331037,null,6]
[null,{"$f":"'D60'!B139","v":"HOBLOVÁ"},{"$f":"'D60'!C139","v":"Barbora"},{"$f":"'D60'!D139","v":"7.B"},{"$f":"'D60'!E139","v":9.7100000000000009},{"$f":"'D60'!H139","v":780.93496227634739},{"$f":"'D300'!H139","v":697.40199969092157},{"$f":"'D800'!H139","v":0},{"$f":"Ddál!H139","v":652.125},{"$f":"Dvýš!H139","v":609.5},{"$f":"Dmíč!H139","v":376.1},{"$f":"Dkou!H139","v":424.88888888888891},{"$f":"Dčlu!H139","v":578.19356870338538},{"$f":"Dls!H139","v":319.69},{"$f":"Dodbíj!H139","v":30},{"$f":"Dplav!H139","v":0},{"$f":"Dšplh!H139","v":520.17289247563417},{"$f":"Dšvih!H139","v":562},{"$f":"'Dz mís'!H139","v":623.58734655335252},{"$f":"Drepre!E32","v":0},6174.5946585885295,null,2]
[null,{"$f":"'D60'!B140","v":"HORÁČKOVÁ"},{"$f":"'D60'!C140","v":"Valérie"},{"$f":"'D60'!D140","v":"7.B"},{"$f":"'D60'!E140","v":8.8800000000000008},{"$f":"'D60'!H140","v":859.43304404692185},{"$f":"'D300'!H140","v":754.65433227943402},{"$f":"'D800'!H140","v":722.9320854899637},{"$f":"Ddál!H140","v":754.726},{"$f":"Dvýš!H140","v":674.5},{"$f":"Dmíč!H140","v":367},{"$f":"Dkou!H140","v":466.66666666666663},{"$f":"Dčlu!H140","v":679.75919999426321},{"$f":"Dls!H140","v":528.04},{"$f":"Dodbíj!H140","v":36},{"$f":"Dplav!H140","v":652.45096338546455},{"$f":"Dšplh!H140","v":0},{"$f":"Dšvih!H140","v":387},{"$f":"'Dz mís'!H140","v":741.19830028328624},{"$f":"Drepre!E33","v":125},7749.3605921460003,null,1]
[null,{"$f":"'D60'!B141","v":"JIRANOVÁ"},{"$f":"'D60'!C141","v":"Anežka"},{"$f":"'D60'!D141","v":"7.B"},{"$f":"'D60'!E141","v":12.5},{"$f":"'D60'!H141","v":593.48381283226661},{"$f":"'D300'!H141","v":418.94458005558454},{"$f":"'D800'!H141","v":410.26461023024342},{"$f":"Ddál!H141","v":0},{"$f":"Dvýš!H141","v":0},{"$f":"Dmíč!H141","v":367},{"$f":"Dkou!H141","v":434.66666666666663},{"$f":"Dčlu!H141","v":547.85578273338285},{"$f":"Dls!H141","v":403.03000000000003},{"$f":"Dodbíj!H141","v":27},{"$f":"Dplav!H141","v":0},{"$f":"Dšplh!H141","v":0},{"$f":"Dšvih!H141","v":243.25},{"$f":"'Dz mís'!H141","v":402.47875354107657},{"$f":"Drepre!E34","v":25},3872.9742060592207,null,4]
[null,{"$f":"'D60'!B142","v":"KRČÍKOVÁ"},{"$f":"'D60'!C142","v":"Beatrix"},{"$f":"'D60'!D142","v":"7.B"},{"$f":"'D60'!E142","v":9.35},{"$f":"'D60'!H142","v":813.27085143351144},{"$f":"'D300'!H142","v":671.97354979907107},{"$f":"'D800'!H142","v":663.41962636259291},{"$f":"Ddál!H142","v":792.98400000000004},{"$f":"Dvýš!H142","v":804.5},{"$f":"Dmíč!H142","v":582.48799999999994},{"$f":"Dkou!H142","v":614.22222222222217},{"$f":"Dčlu!H142","v":657.69029784446377},{"$f":"Dls!H142","v":708.61},{"$f":"Dodbíj!H142","v":42},{"$f":"Dplav!H142","v":0},{"$f":"Dšplh!H142","v":487.33907490158168},{"$f":"Dšvih!H142","v":437},{"$f":"'Dz mís'!H142","v":741.19830028328624},{"$f":"Drepre!E35","v":225},8241.6959228467294,null,1]
[null,{"$f":"'D60'!B143","v":"KUBÁTOVÁ"},{"$f":"'D60'!C143","v":"Veronika"},{"$f":"'D60'!D143","v":"7.B"},{"$f":"'D60'!E143","v":11.9},{"$f":"'D60'!H143","v":626.37711112633042},{"$f":"'D300'!H143","v":406.63578923250793},{"$f":"'D800'!H143","v":382.99800298524974},{"$f":"Ddál!H143","v":0},{"$f":"Dvýš!H143","v":0},{"$f":"Dmíč!H143","v":203.20000000000002},{"$f":"Dkou!H143","v":266.66666666666669},{"$f":"Dčlu!H143","v":572.76519646553061},{"$f":"Dls!H143","v":291.91000000000003},{"$f":"Dodbíj!H143","v":30},{"$f":"Dplav!H143","v":0},{"$f":"Dšplh!H143","v":0},{"$f":"Dšvih!H143","v":130.75},{"$f":"'Dz mís'!H143","v":567.13408876298399},{"$f":"Drepre!E36","v":0},{"$f":"SUM(F171:T171)","v":3478.4368552392693},null,{"$f":"FREQUENCY(F171:S171,0)","v":4}]
[null,{"$f":"'D60'!B144","v":"LENČEŠOVÁ"},{"$f":"'D60'!C144","v":"Silvie"},{"$f":"'D60'!D144","v":"7.B"},{"$f":"'D60'!E144","v":11.46},{"$f":"'D60'!H144","v":652.68792273443864},{"$f":"'D300'!H144","v":623.69463422569402},{"$f":"'D800'!H144","v":627.50978446946226},{"$f":"Ddál!H144","v":652.125},{"$f":"Dvýš!H144","v":577},{"$f":"Dmíč!H144","v":458},{"$f":"Dkou!H144","v":337.77777777777777},{"$f":"Dčlu!H144","v":571.78814289533375},{"$f":"Dls!H144","v":389.14},{"$f":"Dodbíj!H144","v":42},{"$f":"Dplav!H144","v":0},{"$f":"Dšplh!H144","v":0},{"$f":"Dšvih!H144","v":512},{"$f":"'Dz mís'!H144","v":576.54296506137871},{"$f":"Drepre!E37","v":0},6020.2662271640856,null,2]
[null,{"$f":"'D60'!B145","v":"LUKEŠOVÁ"},{"$f":"'D60'!C145","v":"Lucie"},{"$f":"'D60'!D145","v":"7.B"},{"$f":"'D60'!E145","v":11.25},{"$f":"'D60'!H145","v":665.97089610992589},{"$f":"'D300'!H145","v":597.93588310609687},{"$f":"'D800'!H145","v":513.36447451858442},{"$f":"Ddál!H145","v":619.08400000000006},{"$f":"Dvýš!H145","v":0},{"$f":"Dmíč!H145","v":348.8},{"$f":"Dkou!H145","v":324.44444444444446},{"$f":"Dčlu!H145","v":0},{"$f":"Dls!H145","v":0},{"$f":"Dodbíj!H145","v":30},{"$f":"Dplav!H145","v":0},{"$f":"Dšplh!H145","v":0},{"$f":"Dšvih!H145","v":493.25},{"$f":"'Dz mís'!H145","v":0},{"$f":"Drepre!E38","v":0},3592.8496981790513,null,6]
[null,{"$f":"'D60'!B146","v":"MATERNOVÁ"},{"$f":"'D60'!C146","v":"Lenka"},{"$f":"'D60'!D146","v":"7.B"},{"$f":"'D60'!E146","v":9.42},{"$f":"'D60'!H146","v":806.78975215888181},{"$f":"'D300'!H146","v":737.72175306286545},{"$f":"'D800'!H146","v":702.9035171688447},{"$f":"Ddál!H146","v":0},{"$f":"Dvýš!H146","v":674.5},{"$f":"Dmíč!H146","v":266.90000000000003},{"$f":"Dkou!H146","v":328},{"$f":"Dčlu!H146","v":658.95190037001169},{"$f":"Dls!H146","v":583.6},{"$f":"Dodbíj!H146","v":42},{"$f":"Dplav!H146","v":0},{"$f":"Dšplh!H146","v":796.762157260462},{"$f":"Dšvih!H146","v":443.25},{"$f":"'Dz mís'!H146","v":694.15391879131289},{"$f":"Drepre!E39","v":50},6785.5329988123794,null,2]
[null,{"$f":"'D60'!B147","v":"TÓTHOVÁ"},{"$f":"'D60'!C147","v":"Viktorie"},{"$f":"'D60'!D147","v":"7.B"},{"$f":"'D60'!E147","v":10.46},{"$f":"'D60'!H147","v":720.71735479955373},{"$f":"'D300'!H147","v":636.1107653914039},{"$f":"'D800'!H147","v":640.90819787651765},{"$f":"Ddál!H147","v":0},{"$f":"Dvýš!H147","v":642},{"$f":"Dmíč!H147","v":403.40000000000003},{"$f":"Dkou!H147","v":467.55555555555549},{"$f":"Dčlu!H147","v":592.96232302451369},{"$f":"Dls!H147","v":514.15000000000009},{"$f":"Dodbíj!H147","v":27},{"$f":"Dplav!H147","v":0},{"$f":"Dšplh!H147","v":0},{"$f":"Dšvih!H147","v":368.25},{"$f":"'Dz mís'!H147","v":736.49386213408889},{"$f":"Drepre!E40","v":0},5749.5480587816337,null,3,{"$f":"SUM(W163:W175)","v":49}]
[null,{"$f":"'D60'!B148","v":"DUONG"},{"$f":"'D60'!C148","v":"Ngoc Linh"},{"$f":"'D60'!D148","v":"8.A"},{"$f":"'D60'!E148","v":9.93},{"$f":"'D60'!H148","v":762.32834820107416},{"$f":"'D300'!H148","v":0},{"$f":"'D800'!H148","v":0},{"$f":"Ddál!H148","v":758.20400000000006},{"$f":"Dvýš!H148","v":707},{"$f":"Dmíč!H148","v":630.9},{"$f":"Dkou!H148","v":718.22222222222217},{"$f":"Dčlu!H148","v":0},{"$f":"Dls!H148","v":0},{"$f":"Dodbíj!H148","v":0},{"$f":"Dplav!H148","v":0},{"$f":"Dšplh!H148","v":0},{"$f":"Dšvih!H148","v":0},{"$f":"'Dz mís'!H148","v":0},{"$f":"Drepre!E41","v":125},3701.6545704232967,null,9]
[null,{"$f":"'D60'!B149","v":"GINGALOVÁ"},{"$f":"'D60'!C149","v":"Linda"},{"$f":"'D60'!D149","v":"8.A"},{"$f":"'D60'!E149","v":9.5},{"$f":"'D60'!H149","v":799.49973372666659},{"$f":"'D300'!H149","v":720.06033721385108},{"$f":"'D800'!H149","v":590.58243003452105},{"$f":"Ddál!H149","v":759.9430000000001},{"$f":"Dvýš!H149","v":811},{"$f":"Dmíč!H149","v":558.1},{"$f":"Dkou!H149","v":538.66666666666663},{"$f":"Dčlu!H149","v":0},{"$f":"Dls!H149","v":514.15000000000009},{"$f":"Dodbíj!H149","v":60},{"$f":"Dplav!H149","v":0},{"$f":"Dšplh!H149","v":0},{"$f":"Dšvih!H149","v":0},{"$f":"'Dz mís'!H149","v":778.83380547686511},{"$f":"Drepre!E42","v":75},6205.8359731185701,null,4]
[null,{"$f":"'D60'!B150","v":"HOFMANOVÁ "},{"$f":"'D60'!C150","v":"Nicol"},{"$f":"'D60'!D150","v":"8.A"},{"$f":"'D60'!E150","v":10.83},{"$f":"'D60'!H150","v":694.08223034502919},{"$f":"'D300'!H150","v":0},{"$f":"'D800'!H150","v":0},{"$f":"Ddál!H150","v":0},{"$f":"Dvýš!H150","v":0},{"$f":"Dmíč!H150","v":0},{"$f":"Dkou!H150","v":0},{"$f":"Dčlu!H150","v":0},{"$f":"Dls!H150","v":458.59000000000003},{"$f":"Dodbíj!H150","v":0},{"$f":"Dplav!H150","v":0},{"$f":"Dšplh!H150","v":0},{"$f":"Dšvih!H150","v":468.25},{"$f":"'Dz mís'!H150","v":482.45420207743166},{"$f":"Drepre!E43","v":0},2103.3764324224608,null,10]
[null,{"$f":"'D60'!B151","v":"HOLEŠOVSKÁ"},{"$f":"'D60'!C151","v":"Aneta"},{"$f":"'D60'!D151","v":"8.A"},{"$f":"'D60'!E151","v":10.26},{"$f":"'D60'!H151","v":735.91457295679004},{"$f":"'D300'!H151","v":538.05379129419737},{"$f":"'D800'!H151","v":0},{"$f":"Ddál!H151","v":0},{"$f":"Dvýš!H151","v":0},{"$f":"Dmíč!H151","v":439.8},{"$f":"Dkou!H151","v":0},{"$f":"Dčlu!H151","v":590.36732995249474},{"$f":"Dls!H151","v":0},{"$f":"Dodbíj!H151","v":0},{"$f":"Dplav!H151","v":0},{"$f":"Dšplh!H151","v":0},{"$f":"Dšvih!H151","v":612},{"$f":"'Dz mís'!H151","v":0},{"$f":"Drepre!E44","v":25},2941.1356942034822,null,9]
[null,{"$f":"'D60'!B152","v":"HOLUBCOVÁ"},{"$f":"'D60'!C152","v":"Alena"},{"$f":"'D60'!D152","v":"8.A"},{"$f":"'D60'!E152","v":9.08},{"$f":"'D60'!H152","v":839.20544535279009},{"$f":"'D300'!H152","v":792.09605635501987},{"$f":"'D800'!H152","v":656.50016216492304},{"$f":"Ddál!H152","v":765.16000000000008},{"$f":"Dvýš!H152","v":674.5},{"$f":"Dmíč!H152","v":685.5},{"$f":"Dkou!H152","v":754.66666666666674},{"$f":"Dčlu!H152","v":712.60402442478699},{"$f":"Dls!H152","v":778.06000000000006},{"$f":"Dodbíj!H152","v":93},{"$f":"Dplav!H152","v":456.37652827012988},{"$f":"Dšplh!H152","v":0},{"$f":"Dšvih!H152","v":549.5},{"$f":"'Dz mís'!H152","v":811.76487252124662},{"$f":"Drepre!E45","v":200},8768.9337557555627,null,1]
[null,{"$f":"'D60'!B153","v":"KOHOUTOVÁ"},{"$f":"'D60'!C153","v":"Anna"},{"$f":"'D60'!D153","v":"8.A"},{"$f":"'D60'!E153","v":11.35},{"$f":"'D60'!H153","v":659.5843689488986},{"$f":"'D300'!H153","v":517.42231756010949},{"$f":"'D800'!H153","v":598.94724606452337},{"$f":"Ddál!H153","v":0},{"$f":"Dvýš!H153","v":609.5},{"$f":"Dmíč!H153","v":321.5},{"$f":"Dkou!H153","v":537.77777777777771},{"$f":"Dčlu!H153","v":509.77487984216629},{"$f":"Dls!H153","v":375.25},{"$f":"Dodbíj!H153","v":42},{"$f":"Dplav!H153","v":0},{"$f":"Dšplh!H153","v":0},{"$f":"Dšvih!H153","v":618.25},{"$f":"'Dz mís'!H153","v":473.04532577903683},{"$f":"Drepre!E46","v":0},5263.0519159725127,null,3]
[null,{"$f":"'D60'!B154","v":"KRAUSOVÁ"},{"$f":"'D60'!C154","v":"Anežka"},{"$f":"'D60'!D154","v":"8.A"},{"$f":"'D60'!E154","v":10.36},{"$f":"'D60'!H154","v":728.24261823069514},{"$f":"'D300'!H154","v":583.01192808788062},{"$f":"'D800'!H154","v":537.47702833550841},{"$f":"Ddál!H154","v":0},{"$f":"Dvýš!H154","v":674.5},{"$f":"Dmíč!H154","v":494.40000000000003},{"$f":"Dkou!H154","v":568.88888888888891},{"$f":"Dčlu!H154","v":613.93808880665574},{"$f":"Dls!H154","v":569.71},{"$f":"Dodbíj!H154","v":27},{"$f":"Dplav!H154","v":0},{"$f":"Dšplh!H154","v":0},{"$f":"Dšvih!H154","v":599.5},{"$f":"'Dz mís'!H154","v":661.22285174693116},{"$f":"Drepre!E47","v":25},6082.8914040965592,null,3]
[null,{"$f":"'D60'!B155","v":"KUŽELOVÁ"},{"$f":"'D60'!C155","v":"Apoléna"},{"$f":"'D60'!D155","v":"8.A"},{"$f":"'D60'!E155","v":10.4},{"$f":"'D60'!H155","v":725.21514686570504},{"$f":"'D300'!H155","v":0},{"$f":"'D800'!H155","v":398.87216914387989},{"$f":"Ddál!H155","v":0},{"$f":"Dvýš!H155","v":0},{"$f":"Dmíč!H155","v":421.6},{"$f":"Dkou!H155","v":0},{"$f":"Dčlu!H155","v":621.80097057345563},{"$f":"Dls!H155","v":458.59000000000003},{"$f":"Dodbíj!H155","v":24},{"$f":"Dplav!H155","v":0},{"$f":"Dšplh!H155","v":0},{"$f":"Dšvih!H155","v":574.5},{"$f":"'Dz mís'!H155","v":0},{"$f":"Drepre!E48","v":0},3224.5782865830406,null,7]
[null,{"$f":"'D60'!B156","v":"MORÁVKOVÁ"},{"$f":"'D60'!C156","v":"Lucie"},{"$f":"'D60'!D156","v":"8.A"},{"$f":"'D60'!E156","v":11.78},{"$f":"'D60'!H156","v":633.35786203763439},{"$f":"'D300'!H156","v":507.52478624172966},{"$f":"'D800'!H156","v":394.71478083925479},{"$f":"Ddál!H156","v":0},{"$f":"Dvýš!H156","v":0},{"$f":"Dmíč!H156","v":312.40000000000003},{"$f":"Dkou!H156","v":546.66666666666663},{"$f":"Dčlu!H156","v":575.71460564747088},{"$f":"Dls!H156","v":333.58000000000004},{"$f":"Dodbíj!H156","v":42},{"$f":"Dplav!H156","v":0},{"$f":"Dšplh!H156","v":0},{"$f":"Dšvih!H156","v":430.75},{"$f":"'Dz mís'!H156","v":0},{"$f":"Drepre!E49","v":0},3776.7087014327562,null,5]
[null,{"$f":"'D60'!B157","v":"SKLENÁROVÁ"},{"$f":"'D60'!C157","v":"Eliška"},{"$f":"'D60'!D157","v":"8.A"},{"$f":"'D60'!E157","v":0},{"$f":"'D60'!H157","v":0},{"$f":"'D300'!H157","v":0},{"$f":"'D800'!H157","v":0},{"$f":"Ddál!H157","v":0},{"$f":"Dvýš!H157","v":707},{"$f":"Dmíč!H157","v":448.90000000000003},{"$f":"Dkou!H157","v":0},{"$f":"Dčlu!H157","v":0},{"$f":"Dls!H157","v":625.27},{"$f":"Dodbíj!H157","v":0},{"$f":"Dplav!H157","v":0},{"$f":"Dšplh!H157","v":0},{"$f":"Dšvih!H157","v":499.5},{"$f":"'Dz mís'!H157","v":614.17847025495757},{"$f":"Drepre!E50","v":0},2894.8484702549576,null,9]
[null,{"$f":"'D60'!B158","v":"ŠEJNOVÁ"},{"$f":"'D60'!C158","v":"Karolína"},{"$f":"'D60'!D158","v":"8.A"},{"$f":"'D60'!E158","v":10.62},{"$f":"'D60'!H158","v":708.97170822379167},{"$f":"'D300'!H158","v":571.2765320865883},{"$f":"'D800'!H158","v":526.01021462028439},{"$f":"Ddál!H158","v":0},{"$f":"Dvýš!H158","v":0},{"$f":"Dmíč!H158","v":330.6},{"$f":"Dkou!H158","v":0},{"$f":"Dčlu!H158","v":577.69622794977874},{"$f":"Dls!H158","v":430.81},{"$f":"Dodbíj!H158","v":42},{"$f":"Dplav!H158","v":0},{"$f":"Dšplh!H158","v":0},{"$f":"Dšvih!H158","v":230.75},{"$f":"'Dz mís'!H158","v":670.63172804532587},{"$f":"Drepre!E51","v":0},4088.7464109257689,null,5]
[null,{"$f":"'D60'!B159","v":"ŠTOLFOVÁ"},{"$f":"'D60'!C159","v":"Tereza"},{"$f":"'D60'!D159","v":"8.A"},{"$f":"'D60'!E159","v":10.11},{"$f":"'D60'!H159","v":747.7070730995714},{"$f":"'D300'!H159","v":607.56598741366156},{"$f":"'D800'!H159","v":549.76040400270631},{"$f":"Ddál!H159","v":0},{"$f":"Dvýš!H159","v":609.5},{"$f":"Dmíč!H159","v":0},{"$f":"Dkou!H159","v":0},{"$f":"Dčlu!H159","v":0},{"$f":"Dls!H159","v":569.71},{"$f":"Dodbíj!H159","v":0},{"$f":"Dplav!H159","v":0},{"$f":"Dšplh!H159","v":0},{"$f":"Dšvih!H159","v":230.75},{"$f":"'Dz mís'!H159","v":538.90745986779984},{"$f":"Drepre!E52","v":0},3853.900924383739,null,7]
[null,{"$f":"'D60'!B160","v":"ŠUBÍKOVÁ"},{"$f":"'D60'!C160","v":"Klára"},{"$f":"'D60'!D160","v":"8.A"},{"$f":"'D60'!E160","v":9.9},{"$f":"'D60'!H160","v":764.81691876127945},{"$f":"'D300'!H160","v":686.93590725182173},{"$f":"'D800'!H160","v":610.08398429120666},{"$f":"Ddál!H160","v":768.63800000000003},{"$f":"Dvýš!H160","v":739.5},{"$f":"Dmíč!H160","v":421.6},{"$f":"Dkou!H160","v":578.66666666666663},{"$f":"Dčlu!H160","v":676.42890632131048},{"$f":"Dls!H160","v":639.16000000000008},{"$f":"Dodbíj!H160","v":93},{"$f":"Dplav!H160","v":0},{"$f":"Dšplh!H160","v":470.0063093513067},{"$f":"Dšvih!H160","v":705.75},{"$f":"'Dz mís'!H160","v":750.60717658168096},{"$f":"Drepre!E53","v":75},7980.1938692252716,null,1]
[null,{"$f":"'D60'!B161","v":"ŠULKOVSKÁ"},{"$f":"'D60'!C161","v":"Klára"},{"$f":"'D60'!D161","v":"8.A"},{"$f":"'D60'!E161","v":0},{"$f":"'D60'!H161","v":0},{"$f":"'D300'!H161","v":0},{"$f":"'D800'!H161","v":0},{"$f":"Ddál!H161","v":0},{"$f":"Dvýš!H161","v":0},{"$f":"Dmíč!H161","v":0},{"$f":"Dkou!H161","v":0},{"$f":"Dčlu!H161","v":0},{"$f":"Dls!H161","v":528.04},{"$f":"Dodbíj!H161","v":0},{"$f":"Dplav!H161","v":0},{"$f":"Dšplh!H161","v":524.01137808191447},{"$f":"Dšvih!H161","v":274.5},{"$f":"'Dz mís'!H161","v":0},{"$f":"Drepre!E54","v":25},1351.5513780819144,null,11]
[null,{"$f":"'D60'!B162","v":"TULÁČKOVÁ"},{"$f":"'D60'!C162","v":"Natálie"},{"$f":"'D60'!D162","v":"8.A"},{"$f":"'D60'!E162","v":10.54},{"$f":"'D60'!H162","v":714.79995600284633},{"$f":"'D300'!H162","v":620.41850284199995},{"$f":"'D800'!H162","v":549.70590108386784},{"$f":"Ddál!H162","v":791.245},{"$f":"Dvýš!H162","v":0},{"$f":"Dmíč!H162","v":430.7},{"$f":"Dkou!H162","v":448.88888888888886},{"$f":"Dčlu!H162","v":622.9392664049609},{"$f":"Dls!H162","v":0},{"$f":"Dodbíj!H162","v":0},{"$f":"Dplav!H162","v":0},{"$f":"Dšplh!H162","v":0},{"$f":"Dšvih!H162","v":0},{"$f":"'Dz mís'!H162","v":0},{"$f":"Drepre!E55","v":0},4178.6975152225632,null,7]
[null,{"$f":"'D60'!B163","v":"VOJTÍŠKOVÁ"},{"$f":"'D60'!C163","v":"Ella"},{"$f":"'D60'!D163","v":"8.A"},{"$f":"'D60'!E163","v":9.32},{"$f":"'D60'!H163","v":816.07826813340478},{"$f":"'D300'!H163","v":767.48320988401326},{"$f":"'D800'!H163","v":745.88903214543836},{"$f":"Ddál!H163","v":759.9430000000001},{"$f":"Dvýš!H163","v":882.5},{"$f":"Dmíč!H163","v":676.4},{"$f":"Dkou!H163","v":682.66666666666663},{"$f":"Dčlu!H163","v":712.60402442478699},{"$f":"Dls!H163","v":583.6},{"$f":"Dodbíj!H163","v":165},{"$f":"Dplav!H163","v":0},{"$f":"Dšplh!H163","v":408.61998836141686},{"$f":"Dšvih!H163","v":612},{"$f":"'Dz mís'!H163","v":774.12936732766775},{"$f":"Drepre!E56","v":75},8661.9135569433965,null,1,{"$f":"SUM(W176:W191)","v":92}]
[null,{"$f":"'D60'!B164","v":"DRUGÁČOVÁ"},{"$f":"'D60'!C164","v":"Kristinka"},{"$f":"'D60'!D164","v":"8.B"},{"$f":"'D60'!E164","v":0},{"$f":"'D60'!H164","v":0},{"$f":"'D300'!H164","v":0},{"$f":"'D800'!H164","v":0},{"$f":"Ddál!H164","v":0},{"$f":"Dvýš!H164","v":0},{"$f":"Dmíč!H164","v":0},{"$f":"Dkou!H164","v":0},{"$f":"Dčlu!H164","v":0},{"$f":"Dls!H164","v":0},{"$f":"Dodbíj!H164","v":0},{"$f":"Dplav!H164","v":0},{"$f":"Dšplh!H164","v":0},{"$f":"Dšvih!H164","v":874.5},{"$f":"'Dz mís'!H164","v":0},{"$f":"Drepre!E57","v":0},874.5,null,13]
[null,{"$f":"'D60'!B165","v":"FAJSTAVROVÁ"},{"$f":"'D60'!C165","v":"Karolína"},{"$f":"'D60'!D165","v":"8.B"},{"$f":"'D60'!E165","v":8.76},{"$f":"'D60'!H165","v":872.01294789231349},{"$f":"'D300'!H165","v":786.06218370881879},{"$f":"'D800'!H165","v":854.01532180542665},{"$f":"Ddál!H165","v":779.072},{"$f":"Dvýš!H165","v":642},{"$f":"Dmíč!H165","v":458},{"$f":"Dkou!H165","v":704},{"$f":"Dčlu!H165","v":693.38759734963094},{"$f":"Dls!H165","v":430.81},{"$f":"Dodbíj!H165","v":60},{"$f":"Dplav!H165","v":0},{"$f":"Dšplh!H165","v":0},{"$f":"Dšvih!H165","v":537},{"$f":"'Dz mís'!H165","v":745.9027384324836},{"$f":"Drepre!E58","v":350},7912.2627891886741,null,2]
[null,{"$f":"'D60'!B166","v":"FAJSTAVROVÁ"},{"$f":"'D60'!C166","v":"Magdaléna"},{"$f":"'D60'!D166","v":"8.B"},{"$f":"'D60'!E166","v":9.0500000000000007},{"$f":"'D60'!H166","v":842.18259026556154},{"$f":"'D300'!H166","v":856.26254722276099},{"$f":"'D800'!H166","v":914.06576725535751},{"$f":"Ddál!H166","v":730.38},{"$f":"Dvýš!H166","v":609.5},{"$f":"Dmíč!H166","v":630.9},{"$f":"Dkou!H166","v":511.11111111111109},{"$f":"Dčlu!H166","v":732.82791466699018},{"$f":"Dls!H166","v":541.93000000000006},{"$f":"Dodbíj!H166","v":27},{"$f":"Dplav!H166","v":0},{"$f":"Dšplh!H166","v":412.31897793194071},{"$f":"Dšvih!H166","v":743.25},{"$f":"'Dz mís'!H166","v":788.24268177525983},{"$f":"Drepre!E59","v":250},8589.9715902289827,null,1]
[null,{"$f":"'D60'!B167","v":"JINDROVÁ"},{"$f":"'D60'!C167","v":"Barbora"},{"$f":"'D60'!D167","v":"8.B"},{"$f":"'D60'!E167","v":10.54},{"$f":"'D60'!H167","v":714.79995600284633},{"$f":"'D300'!H167","v":0},{"$f":"'D800'!H167","v":604.88726089756619},{"$f":"Ddál!H167","v":740.81400000000008},{"$f":"Dvýš!H167","v":739.5},{"$f":"Dmíč!H167","v":303.3},{"$f":"Dkou!H167","v":342.22222222222223},{"$f":"Dčlu!H167","v":603.01539358793286},{"$f":"Dls!H167","v":444.70000000000005},{"$f":"Dodbíj!H167","v":30},{"$f":"Dplav!H167","v":0},{"$f":"Dšplh!H167","v":451.69735399586978},{"$f":"Dšvih!H167","v":543.25},{"$f":"'Dz mís'!H167","v":0},{"$f":"Drepre!E60","v":25},5543.1861867064381,null,3]
[null,{"$f":"'D60'!B168","v":"MAŘASOVÁ"},{"$f":"'D60'!C168","v":"Vendula"},{"$f":"'D60'!D168","v":"8.B"},{"$f":"'D60'!E168","v":10.44},{"$f":"'D60'!H168","v":722.21087451500637},{"$f":"'D300'!H168","v":657.21485614825451},{"$f":"'D800'!H168","v":526.26413767597239},{"$f":"Ddál!H168","v":620.82300000000009},{"$f":"Dvýš!H168","v":707},{"$f":"Dmíč!H168","v":367},{"$f":"Dkou!H168","v":484.44444444444446},{"$f":"Dčlu!H168","v":584.22284477944265},{"$f":"Dls!H168","v":472.48},{"$f":"Dodbíj!H168","v":51},{"$f":"Dplav!H168","v":0},{"$f":"Dšplh!H168","v":0},{"$f":"Dšvih!H168","v":493.25},{"$f":"'Dz mís'!H168","v":0},{"$f":"Drepre!E61","v":25},5710.9101575631194,null,3]
[null,{"$f":"'D60'!B169","v":"PETŘÍČKOVÁ"},{"$f":"'D60'!C169","v":"Natálie"},{"$f":"'D60'!D169","v":"8.B"},{"$f":"'D60'!E169","v":9.08},{"$f":"'D60'!H169","v":839.20544535279009},{"$f":"'D300'!H169","v":709.23082855467578},{"$f":"'D800'!H169","v":611.44330240594513},{"$f":"Ddál!H169","v":808.63499999999999},{"$f":"Dvýš!H169","v":0},{"$f":"Dmíč!H169","v":485.3},{"$f":"Dkou!H169","v":502.22222222222223},{"$f":"Dčlu!H169","v":692.00216911019038},{"$f":"Dls!H169","v":0},{"$f":"Dodbíj!H169","v":0},{"$f":"Dplav!H169","v":0},{"$f":"Dšplh!H169","v":0},{"$f":"Dšvih!H169","v":0},{"$f":"'Dz mís'!H169","v":821.17374881964133},{"$f":"Drepre!E62","v":75},5544.2127164654657,null,6]
[null,{"$f":"'D60'!B170","v":"PETŘÍKOVÁ"},{"$f":"'D60'!C170","v":"Adéla"},{"$f":"'D60'!D170","v":"8.B"},{"$f":"'D60'!E170","v":10.43},{"$f":"'D60'!H170","v":722.9597822917865},{"$f":"'D300'!H170","v":676.11273636479996},{"$f":"'D800'!H170","v":625.98983350455899},{"$f":"Ddál!H170","v":0},{"$f":"Dvýš!H170","v":577},{"$f":"Dmíč!H170","v":303.3},{"$f":"Dkou!H170","v":0},{"$f":"Dčlu!H170","v":549.213178078797},{"$f":"Dls!H170","v":444.70000000000005},{"$f":"Dodbíj!H170","v":18},{"$f":"Dplav!H170","v":0},{"$f":"Dšplh!H170","v":0},{"$f":"Dšvih!H170","v":262},{"$f":"'Dz mís'!H170","v":388.3654390934845},{"$f":"Drepre!E63","v":0},4567.6409693334272,null,4]
[null,{"$f":"'D60'!B171","v":"REGÁLOVÁ"},{"$f":"'D60'!C171","v":"Karolína"},{"$f":"'D60'!D171","v":"8.B"},{"$f":"'D60'!E171","v":10.119999999999999},{"$f":"'D60'!H171","v":746.91003059980244},{"$f":"'D300'!H171","v":517.42231756010949},{"$f":"'D800'!H171","v":501.80860805324198},{"$f":"Ddál!H171","v":0},{"$f":"Dvýš!H171","v":0},{"$f":"Dmíč!H171","v":530.80000000000007},{"$f":"Dkou!H171","v":475.55555555555554},{"$f":"Dčlu!H171","v":631.59937482670045},{"$f":"Dls!H171","v":541.93000000000006},{"$f":"Dodbíj!H171","v":93},{"$f":"Dplav!H171","v":0},{"$f":"Dšplh!H171","v":0},{"$f":"Dšvih!H171","v":0},{"$f":"'Dz mís'!H171","v":0},{"$f":"Drepre!E64","v":25},4064.0258865954102,null,6]
[null,{"$f":"'D60'!B172","v":"RIEGROVÁ"},{"$f":"'D60'!C172","v":"Magdaléna"},{"$f":"'D60'!D172","v":"8.B"},{"$f":"'D60'!E172","v":10.49},{"$f":"'D60'!H172","v":718.48775339402607},{"$f":"'D300'!H172","v":0},{"$f":"'D800'!H172","v":547.7496001220818},{"$f":"Ddál!H172","v":0},{"$f":"Dvýš!H172","v":642},{"$f":"Dmíč!H172","v":321.5},{"$f":"Dkou!H172","v":0},{"$f":"Dčlu!H172","v":598.21504066908403},{"$f":"Dls!H172","v":0},{"$f":"Dodbíj!H172","v":18},{"$f":"Dplav!H172","v":0},{"$f":"Dšplh!H172","v":504.74963455092563},{"$f":"Dšvih!H172","v":0},{"$f":"'Dz mís'!H172","v":604.76959395656286},{"$f":"Drepre!E65","v":0},3955.4716226926803,null,6]
[null,{"$f":"'D60'!B173","v":"RYBENSKÁ"},{"$f":"'D60'!C173","v":"Sabina"},{"$f":"'D60'!D173","v":"8.B"},{"$f":"'D60'!E173","v":10.17},{"$f":"'D60'!H173","v":742.94832967912157},{"$f":"'D300'!H173","v":620.41850284199995},{"$f":"'D800'!H173","v":597.07165814270559},{"$f":"Ddál!H173","v":0},{"$f":"Dvýš!H173","v":0},{"$f":"Dmíč!H173","v":294.2},{"$f":"Dkou!H173","v":360},{"$f":"Dčlu!H173","v":658.32054431281153},{"$f":"Dls!H173","v":458.59000000000003},{"$f":"Dodbíj!H173","v":24},{"$f":"Dplav!H173","v":0},{"$f":"Dšplh!H173","v":0},{"$f":"Dšvih!H173","v":374.5},{"$f":"'Dz mís'!H173","v":0},{"$f":"Drepre!E66","v":0},4130.0490349766387,null,5]
[null,{"$f":"'D60'!B174","v":"STEINEROVÁ"},{"$f":"'D60'!C174","v":"Barbora"},{"$f":"'D60'!D174","v":"8.B"},{"$f":"'D60'!E174","v":9.51},{"$f":"'D60'!H174","v":798.5971052614791},{"$f":"'D300'!H174","v":749.23338921348966},{"$f":"'D800'!H174","v":593.41101660874904},{"$f":"Ddál!H174","v":846.89300000000003},{"$f":"Dvýš!H174","v":772},{"$f":"Dmíč!H174","v":612.70000000000005},{"$f":"Dkou!H174","v":440},{"$f":"Dčlu!H174","v":693.38759734963094},{"$f":"Dls!H174","v":458.59000000000003},{"$f":"Dodbíj!H174","v":33},{"$f":"Dplav!H174","v":0},{"$f":"Dšplh!H174","v":541.87367411945434},{"$f":"Dšvih!H174","v":530.75},{"$f":"'Dz mís'!H174","v":905.85363550519355},{"$f":"Drepre!E67","v":0},7976.289418057997,null,1]
[null,{"$f":"'D60'!B175","v":"ŠERCLOVÁ"},{"$f":"'D60'!C175","v":"Andrea"},{"$f":"'D60'!D175","v":"8.B"},{"$f":"'D60'!E175","v":0},{"$f":"'D60'!H175","v":0},{"$f":"'D300'!H175","v":488.51110765642102},{"$f":"'D800'!H175","v":0},{"$f":"Ddál!H175","v":0},{"$f":"Dvýš!H175","v":0},{"$f":"Dmíč!H175","v":0},{"$f":"Dkou!H175","v":0},{"$f":"Dčlu!H175","v":0},{"$f":"Dls!H175","v":375.25},{"$f":"Dodbíj!H175","v":0},{"$f":"Dplav!H175","v":0},{"$f":"Dšplh!H175","v":0},{"$f":"Dšvih!H175","v":187},{"$f":"'Dz mís'!H175","v":411.88762983947129},{"$f":"Drepre!E68","v":0},{"$f":"SUM(F203:T203)","v":1462.6487374958924},null,{"$f":"FREQUENCY(F203:S203,0)","v":10}]
[null,{"$f":"'D60'!B176","v":"TOMEŠOVÁ"},{"$f":"'D60'!C176","v":"Martina"},{"$f":"'D60'!D176","v":"8.B"},{"$f":"'D60'!E176","v":9.73},{"$f":"'D60'!H176","v":779.20868293627962},{"$f":"'D300'!H176","v":724.49655125440188},{"$f":"'D800'!H176","v":594.27630382554776},{"$f":"Ddál!H176","v":786.02800000000002},{"$f":"Dvýš!H176","v":0},{"$f":"Dmíč!H176","v":494.40000000000003},{"$f":"Dkou!H176","v":0},{"$f":"Dčlu!H176","v":679.09073018733022},{"$f":"Dls!H176","v":514.15000000000009},{"$f":"Dodbíj!H176","v":15},{"$f":"Dplav!H176","v":0},{"$f":"Dšplh!H176","v":0},{"$f":"Dšvih!H176","v":387},{"$f":"'Dz mís'!H176","v":774.12936732766775},{"$f":"Drepre!E69","v":0},5747.7796355312275,null,4]
[null,{"$f":"'D60'!B177","v":"VOHNOUTOVÁ"},{"$f":"'D60'!C177","v":"Aneta"},{"$f":"'D60'!D177","v":"8.B"},{"$f":"'D60'!E177","v":8.94},{"$f":"'D60'!H177","v":853.26973545152873},{"$f":"'D300'!H177","v":752.89899315510479},{"$f":"'D800'!H177","v":711.41856056761776},{"$f":"Ddál!H177","v":812.11300000000006},{"$f":"Dvýš!H177","v":876},{"$f":"Dmíč!H177","v":626.89600000000007},{"$f":"Dkou!H177","v":676.44444444444446},{"$f":"Dčlu!H177","v":710.42052264811321},{"$f":"Dls!H177","v":597.49},{"$f":"Dodbíj!H177","v":123},{"$f":"Dplav!H177","v":622.19191064215136},{"$f":"Dšplh!H177","v":494.717855064714},{"$f":"Dšvih!H177","v":468.25},{"$f":"'Dz mís'!H177","v":830.58262511803605},{"$f":"Drepre!E70","v":100},9255.6936470917099,null,0,{"$f":"SUM(W192:W205)","v":64}]
[null,{"$f":"'D60'!B178","v":"HAVLÍKOVÁ"},{"$f":"'D60'!C178","v":"Michaela"},{"$f":"'D60'!D178","v":"9.A"},{"$f":"'D60'!E178","v":10.1},{"$f":"'D60'!H178","v":748.50569390132011},{"$f":"'D300'!H178","v":595.59420833668889},{"$f":"'D800'!H178","v":0},{"$f":"Ddál!H178","v":695.6},{"$f":"Dvýš!H178","v":609.5},{"$f":"Dmíč!H178","v":339.7},{"$f":"Dkou!H178","v":335.99999999999994},{"$f":"Dčlu!H178","v":650.21283452782598},{"$f":"Dls!H178","v":375.25},{"$f":"Dodbíj!H178","v":0},{"$f":"Dplav!H178","v":0},{"$f":"Dšplh!H178","v":436.90493379763973},{"$f":"Dšvih!H178","v":455.75},{"$f":"'Dz mís'!H178","v":632.99622285174701},{"$f":"Drepre!E71","v":0},5876.0138934152219,null,3]
[null,{"$f":"'D60'!B179","v":"HOLUBCOVÁ"},{"$f":"'D60'!C179","v":"Sára"},{"$f":"'D60'!D179","v":"9.A"},{"$f":"'D60'!E179","v":9.23},{"$f":"'D60'!H179","v":824.61001660924524},{"$f":"'D300'!H179","v":0},{"$f":"'D800'!H179","v":0},{"$f":"Ddál!H179","v":0},{"$f":"Dvýš!H179","v":0},{"$f":"Dmíč!H179","v":0},{"$f":"Dkou!H179","v":0},{"$f":"Dčlu!H179","v":676.42890632131048},{"$f":"Dls!H179","v":541.93000000000006},{"$f":"Dodbíj!H179","v":129},{"$f":"Dplav!H179","v":0},{"$f":"Dšplh!H179","v":475.64641948989834},{"$f":"Dšvih!H179","v":630.75},{"$f":"'Dz mís'!H179","v":722.38054768649681},{"$f":"Drepre!E72","v":200},4200.7458901069513,null,7]
[null,{"$f":"'D60'!B180","v":"HONCŮ"},{"$f":"'D60'!C180","v":"Tereza"},{"$f":"'D60'!D180","v":"9.A"},{"$f":"'D60'!E180","v":10.54},{"$f":"'D60'!H180","v":714.79995600284633},{"$f":"'D300'!H180","v":0},{"$f":"'D800'!H180","v":0},{"$f":"Ddál!H180","v":0},{"$f":"Dvýš!H180","v":707},{"$f":"Dmíč!H180","v":458},{"$f":"Dkou!H180","v":0},{"$f":"Dčlu!H180","v":662.1254275010316},{"$f":"Dls!H180","v":583.6},{"$f":"Dodbíj!H180","v":51},{"$f":"Dplav!H180","v":0},{"$f":"Dšplh!H180","v":0},{"$f":"Dšvih!H180","v":524.5},{"$f":"'Dz mís'!H180","v":0},{"$f":"Drepre!E73","v":0},3701.0253835038779,null,7]
[null,{"$f":"'D60'!B181","v":"HORÁČKOVÁ"},{"$f":"'D60'!C181","v":"Kateřina"},{"$f":"'D60'!D181","v":"9.A"},{"$f":"'D60'!E181","v":9.26},{"$f":"'D60'!H181","v":821.74767334809212},{"$f":"'D300'!H181","v":668.01844643910817},{"$f":"'D800'!H181","v":686.30158861783809},{"$f":"Ddál!H181","v":799.94},{"$f":"Dvýš!H181","v":804.5},{"$f":"Dmíč!H181","v":476.2},{"$f":"Dkou!H181","v":669.33333333333326},{"$f":"Dčlu!H181","v":696.87363782236639},{"$f":"Dls!H181","v":653.05000000000007},{"$f":"Dodbíj!H181","v":81},{"$f":"Dplav!H181","v":546.44384978386643},{"$f":"Dšplh!H181","v":504.44962869511107},{"$f":"Dšvih!H181","v":562},{"$f":"'Dz mís'!H181","v":858.8092540132202},{"$f":"Drepre!E74","v":225},9053.6674120529351,null,0]
[null,{"$f":"'D60'!B182","v":"JOUDALOVÁ"},{"$f":"'D60'!C182","v":"Daniela"},{"$f":"'D60'!D182","v":"9.A"},{"$f":"'D60'!E182","v":0},{"$f":"'D60'!H182","v":0},{"$f":"'D300'!H182","v":0},{"$f":"'D800'!H182","v":0},{"$f":"Ddál!H182","v":0},{"$f":"Dvýš!H182","v":0},{"$f":"Dmíč!H182","v":0},{"$f":"Dkou!H182","v":0},{"$f":"Dčlu!H182","v":0},{"$f":"Dls!H182","v":0},{"$f":"Dodbíj!H182","v":0},{"$f":"Dplav!H182","v":0},{"$f":"Dšplh!H182","v":0},{"$f":"Dšvih!H182","v":0},{"$f":"'Dz mís'!H182","v":0},{"$f":"Drepre!E75","v":0},0,null,14]
[null,{"$f":"'D60'!B183","v":"KLÍMOVÁ"},{"$f":"'D60'!C183","v":"Anna"},{"$f":"'D60'!D183","v":"9.A"},{"$f":"'D60'!E183","v":9.77},{"$f":"'D60'!H183","v":775.77732727772093},{"$f":"'D300'!H183","v":0},{"$f":"'D800'!H183","v":0},{"$f":"Ddál!H183","v":686.90500000000009},{"$f":"Dvýš!H183","v":674.5},{"$f":"Dmíč!H183","v":439.8},{"$f":"Dkou!H183","v":0},{"$f":"Dčlu!H183","v":0},{"$f":"Dls!H183","v":0},{"$f":"Dodbíj!H183","v":81},{"$f":"Dplav!H183","v":0},{"$f":"Dšplh!H183","v":0},{"$f":"Dšvih!H183","v":0},{"$f":"'Dz mís'!H183","v":778.83380547686511},{"$f":"Drepre!E76","v":0},3436.8161327545863,null,8]
[null,{"$f":"'D60'!B184","v":"KOHOUTOVÁ"},{"$f":"'D60'!C184","v":"Veronika"},{"$f":"'D60'!D184","v":"9.A"},{"$f":"'D60'!E184","v":9.4},{"$f":"'D60'!H184","v":808.63164511382968},{"$f":"'D300'!H184","v":678.19685068306046},{"$f":"'D800'!H184","v":588.53636193842158},{"$f":"Ddál!H184","v":740.81400000000008},{"$f":"Dvýš!H184","v":674.5},{"$f":"Dmíč!H184","v":530.80000000000007},{"$f":"Dkou!H184","v":555.55555555555554},{"$f":"Dčlu!H184","v":657.69029784446377},{"$f":"Dls!H184","v":583.6},{"$f":"Dodbíj!H184","v":129},{"$f":"Dplav!H184","v":0},{"$f":"Dšplh!H184","v":468.75571596767719},{"$f":"Dšvih!H184","v":1087},{"$f":"'Dz mís'!H184","v":703.56279508970738},{"$f":"Drepre!E77","v":200},8406.6432221927171,null,1]
[null,{"$f":"'D60'!B185","v":"KOVÁŘOVÁ"},{"$f":"'D60'!C185","v":"Viktorie"},{"$f":"'D60'!D185","v":"9.A"},{"$f":"'D60'!E185","v":9.75},{"$f":"'D60'!H185","v":777.48948576786313},{"$f":"'D300'!H185","v":720.71490867847388},{"$f":"'D800'!H185","v":0},{"$f":"Ddál!H185","v":0},{"$f":"Dvýš!H185","v":0},{"$f":"Dmíč!H185","v":549},{"$f":"Dkou!H185","v":509.33333333333337},{"$f":"Dčlu!H185","v":669.20692661339285},{"$f":"Dls!H185","v":0},{"$f":"Dodbíj!H185","v":36},{"$f":"Dplav!H185","v":0},{"$f":"Dšplh!H185","v":0},{"$f":"Dšvih!H185","v":0},{"$f":"'Dz mís'!H185","v":760.01605288007568},{"$f":"Drepre!E78","v":25},4046.7607072731394,null,7]
[null,{"$f":"'D60'!B186","v":"KYNČLOVÁ"},{"$f":"'D60'!C186","v":"Anna"},{"$f":"'D60'!D186","v":"9.A"},{"$f":"'D60'!E186","v":9.0399999999999991},{"$f":"'D60'!H186","v":843.17936297234507},{"$f":"'D300'!H186","v":791.90639702237263},{"$f":"'D800'!H186","v":988.37625291490758},{"$f":"Ddál!H186","v":786.02800000000002},{"$f":"Dvýš!H186","v":915},{"$f":"Dmíč!H186","v":485.3},{"$f":"Dkou!H186","v":440},{"$f":"Dčlu!H186","v":722.21087451500637},{"$f":"Dls!H186","v":694.72},{"$f":"Dodbíj!H186","v":51},{"$f":"Dplav!H186","v":550.85586753150733},{"$f":"Dšplh!H186","v":584.21011522482115},{"$f":"Dšvih!H186","v":668.25},{"$f":"'Dz mís'!H186","v":821.17374881964133},{"$f":"Drepre!E79","v":250},9592.2106190006016,null,0]
[null,{"$f":"'D60'!B187","v":"MATOUŠOVÁ"},{"$f":"'D60'!C187","v":"Tereza"},{"$f":"'D60'!D187","v":"9.A"},{"$f":"'D60'!E187","v":10.24},{"$f":"'D60'!H187","v":737.46694504589846},{"$f":"'D300'!H187","v":0},{"$f":"'D800'!H187","v":0},{"$f":"Ddál!H187","v":0},{"$f":"Dvýš!H187","v":0},{"$f":"Dmíč!H187","v":458},{"$f":"Dkou!H187","v":0},{"$f":"Dčlu!H187","v":647.14308227157278},{"$f":"Dls!H187","v":625.27},{"$f":"Dodbíj!H187","v":0},{"$f":"Dplav!H187","v":0},{"$f":"Dšplh!H187","v":0},{"$f":"Dšvih!H187","v":112},{"$f":"'Dz mís'!H187","v":0},{"$f":"Drepre!E80","v":25},2604.8800273174711,null,9]
[null,{"$f":"'D60'!B188","v":"MAZÁNKOVÁ"},{"$f":"'D60'!C188","v":"Zuzana"},{"$f":"'D60'!D188","v":"9.A"},{"$f":"'D60'!E188","v":10.1},{"$f":"'D60'!H188","v":748.50569390132011},{"$f":"'D300'!H188","v":623.56309570087842},{"$f":"'D800'!H188","v":0},{"$f":"Ddál!H188","v":0},{"$f":"Dvýš!H188","v":609.5},{"$f":"Dmíč!H188","v":294.2},{"$f":"Dkou!H188","v":466.66666666666663},{"$f":"Dčlu!H188","v":650.82999098665505},{"$f":"Dls!H188","v":486.37},{"$f":"Dodbíj!H188","v":0},{"$f":"Dplav!H188","v":0},{"$f":"Dšplh!H188","v":0},{"$f":"Dšvih!H188","v":149.5},{"$f":"'Dz mís'!H188","v":698.85835694051002},{"$f":"Drepre!E81","v":0},4727.9938041960304,null,5]
[null,{"$f":"'D60'!B189","v":"MORKESOVÁ"},{"$f":"'D60'!C189","v":"Sabrina"},{"$f":"'D60'!D189","v":"9.A"},{"$f":"'D60'!E189","v":9.15},{"$f":"'D60'!H189","v":832.33469379635699},{"$f":"'D300'!H189","v":663.52067830903718},{"$f":"'D800'!H189","v":700.69985279287107},{"$f":"Ddál!H189","v":827.76400000000001},{"$f":"Dvýš!H189","v":739.5},{"$f":"Dmíč!H189","v":834.01199999999994},{"$f":"Dkou!H189","v":684.44444444444446},{"$f":"Dčlu!H189","v":730.52860822555658},{"$f":"Dls!H189","v":639.16000000000008},{"$f":"Dodbíj!H189","v":138},{"$f":"Dplav!H189","v":0},{"$f":"Dšplh!H189","v":485.07974685864622},{"$f":"Dšvih!H189","v":687},{"$f":"'Dz mís'!H189","v":811.76487252124662},{"$f":"Drepre!E82","v":250},9023.8088969481578,null,1]
[null,{"$f":"'D60'!B190","v":"POHOŘALÁ"},{"$f":"'D60'!C190","v":"Alžběta"},{"$f":"'D60'!D190","v":"9.A"},{"$f":"'D60'!E190","v":9.5399999999999991},{"$f":"'D60'!H190","v":795.90057368308885},{"$f":"'D300'!H190","v":765.32154165544557},{"$f":"'D800'!H190","v":0},{"$f":"Ddál!H190","v":686.90500000000009},{"$f":"Dvýš!H190","v":0},{"$f":"Dmíč!H190","v":403.40000000000003},{"$f":"Dkou!H190","v":457.77777777777777},{"$f":"Dčlu!H190","v":0},{"$f":"Dls!H190","v":0},{"$f":"Dodbíj!H190","v":0},{"$f":"Dplav!H190","v":0},{"$f":"Dšplh!H190","v":0},{"$f":"Dšvih!H190","v":0},{"$f":"'Dz mís'!H190","v":811.76487252124662},{"$f":"Drepre!E83","v":150},4071.0697656375592,null,8]
[null,{"$f":"'D60'!B191","v":"SCHOLZOVÁ"},{"$f":"'D60'!C191","v":"Laura"},{"$f":"'D60'!D191","v":"9.A"},{"$f":"'D60'!E191","v":0},{"$f":"'D60'!H191","v":0},{"$f":"'D300'!H191","v":0},{"$f":"'D800'!H191","v":0},{"$f":"Ddál!H191","v":0},{"$f":"Dvýš!H191","v":0},{"$f":"Dmíč!H191","v":0},{"$f":"Dkou!H191","v":0},{"$f":"Dčlu!H191","v":0},{"$f":"Dls!H191","v":0},{"$f":"Dodbíj!H191","v":36},{"$f":"Dplav!H191","v":0},{"$f":"Dšplh!H191","v":0},{"$f":"Dšvih!H191","v":0},{"$f":"'Dz mís'!H191","v":0},{"$f":"Drepre!E84","v":0},36,null,13]
[null,{"$f":"'D60'!B192","v":"VÁCLAVÍKOVÁ"},{"$f":"'D60'!C192","v":"Valerie"},{"$f":"'D60'!D192","v":"9.A"},{"$f":"'D60'!E192","v":9.68},{"$f":"'D60'!H192","v":783.53775638464185},{"$f":"'D300'!H192","v":734.67576699623464},{"$f":"'D800'!H192","v":677.36114265000003},{"$f":"Ddál!H192","v":742.553},{"$f":"Dvýš!H192","v":0},{"$f":"Dmíč!H192","v":0},{"$f":"Dkou!H192","v":609.77777777777783},{"$f":"Dčlu!H192","v":668.55741112429371},{"$f":"Dls!H192","v":597.49},{"$f":"Dodbíj!H192","v":138},{"$f":"Dplav!H192","v":0},{"$f":"Dšplh!H192","v":0},{"$f":"Dšvih!H192","v":712},{"$f":"'Dz mís'!H192","v":769.42492917847039},{"$f":"Drepre!E85","v":200},6633.3777841114188,null,4]
[null,{"$f":"'D60'!B193","v":"ZAPADLOVÁ"},{"$f":"'D60'!C193","v":"Emma"},{"$f":"'D60'!D193","v":"9.A"},{"$f":"'D60'!E193","v":9.0399999999999991},{"$f":"'D60'!H193","v":843.17936297234507},{"$f":"'D300'!H193","v":798.97170172364872},{"$f":"'D800'!H193","v":703.55870184292041},{"$f":"Ddál!H193","v":0},{"$f":"Dvýš!H193","v":804.5},{"$f":"Dmíč!H193","v":776.5},{"$f":"Dkou!H193","v":397.33333333333326},{"$f":"Dčlu!H193","v":689.24656505229348},{"$f":"Dls!H193","v":0},{"$f":"Dodbíj!H193","v":66},{"$f":"Dplav!H193","v":0},{"$f":"Dšplh!H193","v":0},{"$f":"Dšvih!H193","v":0},{"$f":"'Dz mís'!H193","v":821.17374881964133},{"$f":"Drepre!E86","v":250},6150.4634137441826,null,5]
[null,{"$f":"'D60'!B194","v":"ŽIŠKOVÁ"},{"$f":"'D60'!C194","v":"Mia"},{"$f":"'D60'!D194","v":"9.A"},{"$f":"'D60'!E194","v":0},{"$f":"'D60'!H194","v":0},{"$f":"'D300'!H194","v":0},{"$f":"'D800'!H194","v":0},{"$f":"Ddál!H194","v":0},{"$f":"Dvýš!H194","v":0},{"$f":"Dmíč!H194","v":0},{"$f":"Dkou!H194","v":0},{"$f":"Dčlu!H194","v":0},{"$f":"Dls!H194","v":0},{"$f":"Dodbíj!H194","v":66},{"$f":"Dplav!H194","v":0},{"$f":"Dšplh!H194","v":0},{"$f":"Dšvih!H194","v":0},{"$f":"'Dz mís'!H194","v":0},{"$f":"Drepre!E87","v":25},91,null,13,{"$f":"SUM(W206:W222)","v":105}]
[null,{"$f":"'D60'!B195","v":"FARSKÁ"},{"$f":"'D60'!C195","v":"Tereza"},{"$f":"'D60'!D195","v":"9.B"},{"$f":"'D60'!E195","v":11.42},{"$f":"'D60'!H195","v":655.18034956246345},{"$f":"'D300'!H195","v":0},{"$f":"'D800'!H195","v":0},{"$f":"Ddál!H195","v":0},{"$f":"Dvýš!H195","v":0},{"$f":"Dmíč!H195","v":330.6},{"$f":"Dkou!H195","v":0},{"$f":"Dčlu!H195","v":0},{"$f":"Dls!H195","v":0},{"$f":"Dodbíj!H195","v":0},{"$f":"Dplav!H195","v":0},{"$f":"Dšplh!H195","v":0},{"$f":"Dšvih!H195","v":0},{"$f":"'Dz mís'!H195","v":0},{"$f":"Drepre!E88","v":0},985.78034956246347,null,12]
[null,{"$f":"'D60'!B196","v":"FEIXOVÁ"},{"$f":"'D60'!C196","v":"Rozálie"},{"$f":"'D60'!D196","v":"9.B"},{"$f":"'D60'!E196","v":0},{"$f":"'D60'!H196","v":0},{"$f":"'D300'!H196","v":0},{"$f":"'D800'!H196","v":0},{"$f":"Ddál!H196","v":0},{"$f":"Dvýš!H196","v":0},{"$f":"Dmíč!H196","v":276},{"$f":"Dkou!H196","v":0},{"$f":"Dčlu!H196","v":0},{"$f":"Dls!H196","v":0},{"$f":"Dodbíj!H196","v":0},{"$f":"Dplav!H196","v":0},{"$f":"Dšplh!H196","v":0},{"$f":"Dšvih!H196","v":0},{"$f":"'Dz mís'!H196","v":0},{"$f":"Drepre!E89","v":0},276,null,13]
[null,{"$f":"'D60'!B197","v":"FIŠEROVÁ"},{"$f":"'D60'!C197","v":"Michaela"},{"$f":"'D60'!D197","v":"9.B"},{"$f":"'D60'!E197","v":10.45},{"$f":"'D60'!H197","v":721.46340005454545},{"$f":"'D300'!H197","v":0},{"$f":"'D800'!H197","v":0},{"$f":"Ddál!H197","v":0},{"$f":"Dvýš!H197","v":0},{"$f":"Dmíč!H197","v":348.8},{"$f":"Dkou!H197","v":626.66666666666663},{"$f":"Dčlu!H197","v":0},{"$f":"Dls!H197","v":0},{"$f":"Dodbíj!H197","v":0},{"$f":"Dplav!H197","v":0},{"$f":"Dšplh!H197","v":0},{"$f":"Dšvih!H197","v":0},{"$f":"'Dz mís'!H197","v":0},{"$f":"Drepre!E90","v":25},1721.9300667212119,null,11]
[null,{"$f":"'D60'!B198","v":"HAVLÍČKOVÁ"},{"$f":"'D60'!C198","v":"Kristýna"},{"$f":"'D60'!D198","v":"9.B"},{"$f":"'D60'!E198","v":0},{"$f":"'D60'!H198","v":0},{"$f":"'D300'!H198","v":0},{"$f":"'D800'!H198","v":0},{"$f":"Ddál!H198","v":0},{"$f":"Dvýš!H198","v":0},{"$f":"Dmíč!H198","v":303.3},{"$f":"Dkou!H198","v":600},{"$f":"Dčlu!H198","v":0},{"$f":"Dls!H198","v":0},{"$f":"Dodbíj!H198","v":0},{"$f":"Dplav!H198","v":0},{"$f":"Dšplh!H198","v":0},{"$f":"Dšvih!H198","v":0},{"$f":"'Dz mís'!H198","v":0},{"$f":"Drepre!E91","v":0},903.3,null,12]
[null,{"$f":"'D60'!B199","v":"KADAVÁ"},{"$f":"'D60'!C199","v":"Nikola"},{"$f":"'D60'!D199","v":"9.B"},{"$f":"'D60'!E199","v":12.18},{"$f":"'D60'!H199","v":610.62361577476736},{"$f":"'D300'!H199","v":0},{"$f":"'D800'!H199","v":0},{"$f":"Ddál!H199","v":0},{"$f":"Dvýš!H199","v":0},{"$f":"Dmíč!H199","v":257.8},{"$f":"Dkou!H199","v":457.77777777777777},{"$f":"Dčlu!H199","v":0},{"$f":"Dls!H199","v":0},{"$f":"Dodbíj!H199","v":0},{"$f":"Dplav!H199","v":0},{"$f":"Dšplh!H199","v":0},{"$f":"Dšvih!H199","v":0},{"$f":"'Dz mís'!H199","v":0},{"$f":"Drepre!E92","v":0},1326.2013935525451,null,11]
[null,{"$f":"'D60'!B200","v":"KŘIVINKOVÁ"},{"$f":"'D60'!C200","v":"Alžběta"},{"$f":"'D60'!D200","v":"9.B"},{"$f":"'D60'!E200","v":10},{"$f":"'D60'!H200","v":756.57975020699996},{"$f":"'D300'!H200","v":0},{"$f":"'D800'!H200","v":0},{"$f":"Ddál!H200","v":0},{"$f":"Dvýš!H200","v":0},{"$f":"Dmíč!H200","v":458},{"$f":"Dkou!H200","v":635.55555555555554},{"$f":"Dčlu!H200","v":0},{"$f":"Dls!H200","v":0},{"$f":"Dodbíj!H200","v":0},{"$f":"Dplav!H200","v":0},{"$f":"Dšplh!H200","v":0},{"$f":"Dšvih!H200","v":0},{"$f":"'Dz mís'!H200","v":0},{"$f":"Drepre!E93","v":0},1850.1353057625556,null,11]
[null,{"$f":"'D60'!B201","v":"LEŠÁKOVÁ"},{"$f":"'D60'!C201","v":"Lenka"},{"$f":"'D60'!D201","v":"9.B"},{"$f":"'D60'!E201","v":10.39},{"$f":"'D60'!H201","v":725.96982933301251},{"$f":"'D300'!H201","v":0},{"$f":"'D800'!H201","v":0},{"$f":"Ddál!H201","v":0},{"$f":"Dvýš!H201","v":0},{"$f":"Dmíč!H201","v":221.4},{"$f":"Dkou!H201","v":502.22222222222223},{"$f":"Dčlu!H201","v":0},{"$f":"Dls!H201","v":0},{"$f":"Dodbíj!H201","v":0},{"$f":"Dplav!H201","v":0},{"$f":"Dšplh!H201","v":0},{"$f":"Dšvih!H201","v":0},{"$f":"'Dz mís'!H201","v":0},{"$f":"Drepre!E94","v":0},1449.5920515552348,null,11]
[null,{"$f":"'D60'!B202","v":"NYKLÍČKOVÁ"},{"$f":"'D60'!C202","v":"Adéla"},{"$f":"'D60'!D202","v":"9.B"},{"$f":"'D60'!E202","v":9.84},{"$f":"'D60'!H202","v":769.8395825138889},{"$f":"'D300'!H202","v":0},{"$f":"'D800'!H202","v":0},{"$f":"Ddál!H202","v":0},{"$f":"Dvýš!H202","v":0},{"$f":"Dmíč!H202","v":430.7},{"$f":"Dkou!H202","v":600},{"$f":"Dčlu!H202","v":0},{"$f":"Dls!H202","v":0},{"$f":"Dodbíj!H202","v":0},{"$f":"Dplav!H202","v":0},{"$f":"Dšplh!H202","v":0},{"$f":"Dšvih!H202","v":0},{"$f":"'Dz mís'!H202","v":0},{"$f":"Drepre!E95","v":25},1825.5395825138889,null,11]
[null,{"$f":"'D60'!B203","v":"PLŮCHOVÁ"},{"$f":"'D60'!C203","v":"Petra"},{"$f":"'D60'!D203","v":"9.B"},{"$f":"'D60'!E203","v":10.38},{"$f":"'D60'!H203","v":726.72596590912008},{"$f":"'D300'!H203","v":0},{"$f":"'D800'!H203","v":0},{"$f":"Ddál!H203","v":0},{"$f":"Dvýš!H203","v":0},{"$f":"Dmíč!H203","v":439.8},{"$f":"Dkou!H203","v":626.66666666666663},{"$f":"Dčlu!H203","v":0},{"$f":"Dls!H203","v":0},{"$f":"Dodbíj!H203","v":0},{"$f":"Dplav!H203","v":0},{"$f":"Dšplh!H203","v":0},{"$f":"Dšvih!H203","v":0},{"$f":"'Dz mís'!H203","v":0},{"$f":"Drepre!E96","v":25},1818.1926325757868,null,11]
[null,{"$f":"'D60'!B204","v":"PODZIMKOVÁ"},{"$f":"'D60'!C204","v":"Eliška"},{"$f":"'D60'!D204","v":"9.B"},{"$f":"'D60'!E204","v":11.59},{"$f":"'D60'!H204","v":644.70635054098352},{"$f":"'D300'!H204","v":0},{"$f":"'D800'!H204","v":0},{"$f":"Ddál!H204","v":0},{"$f":"Dvýš!H204","v":0},{"$f":"Dmíč!H204","v":494.40000000000003},{"$f":"Dkou!H204","v":484.44444444444446},{"$f":"Dčlu!H204","v":0},{"$f":"Dls!H204","v":0},{"$f":"Dodbíj!H204","v":0},{"$f":"Dplav!H204","v":0},{"$f":"Dšplh!H204","v":0},{"$f":"Dšvih!H204","v":0},{"$f":"'Dz mís'!H204","v":0},{"$f":"Drepre!E97","v":0},1623.5507949854282,null,11]
[null,{"$f":"'D60'!B205","v":"RUTKAYOVÁ"},{"$f":"'D60'!C205","v":"Klára"},{"$f":"'D60'!D205","v":"9.B"},{"$f":"'D60'!E205","v":11.06},{"$f":"'D60'!H205","v":678.42346918655812},{"$f":"'D300'!H205","v":0},{"$f":"'D800'!H205","v":0},{"$f":"Ddál!H205","v":0},{"$f":"Dvýš!H205","v":0},{"$f":"Dmíč!H205","v":312.40000000000003},{"$f":"Dkou!H205","v":0},{"$f":"Dčlu!H205","v":0},{"$f":"Dls!H205","v":0},{"$f":"Dodbíj!H205","v":0},{"$f":"Dplav!H205","v":0},{"$f":"Dšplh!H205","v":0},{"$f":"Dšvih!H205","v":0},{"$f":"'Dz mís'!H205","v":0},{"$f":"Drepre!E98","v":0},990.82346918655821,null,12]
[null,{"$f":"'D60'!B206","v":"SEIDLOVÁ"},{"$f":"'D60'!C206","v":"Zuzana"},{"$f":"'D60'!D206","v":"9.B"},{"$f":"'D60'!E206","v":10.36},{"$f":"'D60'!H206","v":728.24261823069514},{"$f":"'D300'!H206","v":0},{"$f":"'D800'!H206","v":0},{"$f":"Ddál!H206","v":0},{"$f":"Dvýš!H206","v":0},{"$f":"Dmíč!H206","v":621.80000000000007},{"$f":"Dkou!H206","v":742.22222222222217},{"$f":"Dčlu!H206","v":0},{"$f":"Dls!H206","v":0},{"$f":"Dodbíj!H206","v":0},{"$f":"Dplav!H206","v":0},{"$f":"Dšplh!H206","v":0},{"$f":"Dšvih!H206","v":0},{"$f":"'Dz mís'!H206","v":0},{"$f":"Drepre!E99","v":0},2092.2648404529173,null,11]
[null,{"$f":"'D60'!B207","v":"TOMÁŠOVÁ"},{"$f":"'D60'!C207","v":"Sára"},{"$f":"'D60'!D207","v":"9.B"},{"$f":"'D60'!E207","v":12.4},{"$f":"'D60'!H207","v":598.7449721024193},{"$f":"'D300'!H207","v":0},{"$f":"'D800'!H207","v":0},{"$f":"Ddál!H207","v":0},{"$f":"Dvýš!H207","v":0},{"$f":"Dmíč!H207","v":357.90000000000003},{"$f":"Dkou!H207","v":475.55555555555554},{"$f":"Dčlu!H207","v":0},{"$f":"Dls!H207","v":0},{"$f":"Dodbíj!H207","v":0},{"$f":"Dplav!H207","v":0},{"$f":"Dšplh!H207","v":0},{"$f":"Dšvih!H207","v":0},{"$f":"'Dz mís'!H207","v":0},{"$f":"Drepre!E100","v":0},{"$f":"SUM(F235:T235)","v":1432.2005276579748},null,11]
[null,{"$f":"'D60'!B208","v":"VANCLOVÁ"},{"$f":"'D60'!C208","v":"Barbora"},{"$f":"'D60'!D208","v":"9.B"},{"$f":"'D60'!E208","v":10.28},{"$f":"'D60'!H208","v":734.36824122600524},{"$f":"'D300'!H208","v":0},{"$f":"'D800'!H208","v":0},{"$f":"Ddál!H208","v":0},{"$f":"Dvýš!H208","v":0},{"$f":"Dmíč!H208","v":439.8},{"$f":"Dkou!H208","v":502.22222222222223},{"$f":"Dčlu!H208","v":0},{"$f":"Dls!H208","v":0},{"$f":"Dodbíj!H208","v":0},{"$f":"Dplav!H208","v":746.39606415019762},{"$f":"Dšplh!H208","v":0},{"$f":"Dšvih!H208","v":0},{"$f":"'Dz mís'!H208","v":0},{"$f":"Drepre!E101","v":0},2422.786527598425,null,10]
[null,{"$f":"'D60'!B209","v":"VOTOČKOVÁ"},{"$f":"'D60'!C209","v":"Veronika"},{"$f":"'D60'!D209","v":"9.B"},{"$f":"'D60'!E209","v":12.62},{"$f":"'D60'!H209","v":587.28048082435294},{"$f":"'D300'!H209","v":0},{"$f":"'D800'!H209","v":0},{"$f":"Ddál!H209","v":0},{"$f":"Dvýš!H209","v":0},{"$f":"Dmíč!H209","v":257.8},{"$f":"Dkou!H209","v":502.22222222222223},{"$f":"Dčlu!H209","v":0},{"$f":"Dls!H209","v":0},{"$f":"Dodbíj!H209","v":0},{"$f":"Dplav!H209","v":0},{"$f":"Dšplh!H209","v":0},{"$f":"Dšvih!H209","v":0},{"$f":"'Dz mís'!H209","v":0},{"$f":"Drepre!E102","v":0},1347.3027030465751,null,11,{"$f":"SUM(W223:W237)","v":169}]

{"sheet":"D60","index":6,"n_rows":209,"n_cols":12,"rows_kept":209,"cut":false,"hidden":false,"merged":[[0,1,0,5]]}
[null,"VÝKONY  2022 - 2023",null,null,null,null,"60  M",null,null,null,"stav  k ",{"$f":"TODAY()","v":45103}]
[null,null,null,null,null,null,null,"   BODY",null,"   21 - 22   ","   20 - 21   ","   19 - 20   "]
["1.",{"$f":"B111","v":"FARSKÁ"},{"$f":"C111","v":"Anna"},"6.A",9.98,null,"Jilemnice  29.05.23",758.21397803640605,null,0,0,0]
["2. ",{"$f":"B112","v":"FARSKÁ"},"Eliška","6.A",9.4499999999999993,null,"Jilemnice  29.05.23",804.04153092451486,null,0,0,0]
["3. ",{"$f":"B113","v":"FEDORKOVÁ"},"Denisa","6.A",11.32,null,"Jilemnice  29.05.23",661.48847929946976,null,0,0,0]
["4.",{"$f":"B114","v":"HAUZEROVÁ"},"Tereza","6.A",9.9600000000000009,null,"Jilemnice  29.05.23",759.85476902978576,null,0,0,0]
["5.",{"$f":"B115","v":"JOSKOVÁ"},"Ellen","6.A",9.4,null,"Jilemnice  29.05.23",808.63164511382968,null,0,0,0]
["6.",{"$f":"B116","v":"KUŽELOVÁ"},"Amálie","6.A",12.23,null,"Jilemnice  29.05.23",607.88639765358403,null,0,0,0]
["7.",{"$f":"B117","v":"RYŠAVÁ"},"Amálie","6.A",10.73,null,"Jilemnice  29.05.23",701.09977151009628,null,0,0,0]
["8.",{"$f":"B118","v":"BANGOVÁ"},"Zuzana","6.B",11.08,null,"Jilemnice  08.09.22",677.0925605117327,null,0,0,0]
["9.",{"$f":"B119","v":"HOLUBOVÁ"},"Denisa","6.B",12,null,"Jilemnice  08.09.22",620.66646906138874,null,0,0,0]
["10.",{"$f":"B120","v":"HURKALO"},"Karolina","6.B",15.65,null,"Jilemnice  08.09.22",462.1733456807242,null,0,0,0]
["11.",{"$f":"B121","v":"HUTNIK-MAMONOVA"},"Nana","6.B",14,null,"Jilemnice  08.09.22",523.58555395738085,null,0,0,0]
["12.",{"$f":"B122","v":"MARINOVA"},"Darja","6.B",12,null,"Jilemnice  08.09.22",620.66646906138874,null,0,0,0]
["13.",{"$f":"B123","v":"NYKLÍČKOVÁ"},"Klára","6.B",10.58,null,"Jilemnice  29.05.23",711.8748146316949,null,0,0,0]
["14.",{"$f":"B124","v":"PANCHAYEVA"},"Sofiia","6.B",12,null,"Jilemnice  08.09.22",620.66646906138874,null,0,0,0]
["15.",{"$f":"B125","v":"PIČMANOVÁ"},"Klára","6.B",11.14,null,"Jilemnice  29.05.23",673.12850756463183,null,0,0,0]
["16.",{"$f":"B126","v":"ŠIMŮNKOVÁ"},"Anežka","6.B",10.36,null,"Jilemnice  29.05.23",728.24261823069514,null,0,0,0]
["17.",{"$f":"B127","v":"TRPIŠOVSKÁ"},"Nela","6.B",10.18,null,"Jilemnice  29.05.23",742.16065947642437,null,0,0,0]
["18.",{"$f":"B128","v":"HEJRALOVÁ"},"Natálie","7.A",9.86,null,"Jilemnice 12.06.23",768.15856929039899,null,9.9,0,0]
["19.",{"$f":"B129","v":"KERLE"},"Nikita","7.A",9.82,null,"Jilemnice 14.09.22",771.52744304175155,null,10.06,0,0]
["20.",{"$f":"B130","v":"MUNZAROVÁ"},"Aneta","7.A",0,null,0,0,null,0,0,0]
["21.",{"$f":"B131","v":"PACLÍKOVÁ"},"Markéta","7.A",9.4,null,"Jilemnice 12.06.23",808.63164511382968,null,9.85,0,0]
["22.",{"$f":"B132","v":"PLŮCHOVÁ"},"Michaela","7.A",9.4,null,"Jilemnice 12.06.23",808.63164511382968,null,9.85,0,0]
["23.",{"$f":"B133","v":"ŠERCLOVÁ"},"Nikola","7.A",0,null,0,0,null,12.1,0,0]
["24.",{"$f":"B134","v":"VÁCLAVÍKOVÁ"},"Alena","7.A",10.039999999999999,null,"Jilemnice 12.06.23",753.33082715172645,null,10.3,0,0]
["25.",{"$f":"B135","v":"DUCHÁČKOVÁ"},"Tereza","7.B",11.99,null,"Jilemnice 14.09.22",621.2332467142063,null,11.67,0,0]
["26.",{"$f":"B136","v":"FLAŠKOVÁ"},"Anna Sabriel","7.B",11.25,null,"Jilemnice 14.09.22",665.97089610992589,null,11.35,0,0]
["27.",{"$f":"B137","v":"HAASOVÁ"},"Julie","7.B",10.029999999999999,null,"Turnov   13.09.22",754.14062851146559,null,9.91,0,0]
["28.",{"$f":"B138","v":"HEGROVÁ"},"Štěpánka","7.B",10.65,null,"Jilemnice 07.05.23",706.8086895057902,null,0,0,0]
["29.",{"$f":"B139","v":"HOBLOVÁ"},"Barbora","7.B",9.7100000000000009,null,"Jilemnice 12.06.23",780.93496227634739,null,10.119999999999999,0,0]
["30.",{"$f":"B140","v":"HORÁČKOVÁ"},"Valérie","7.B",8.8800000000000008,null,"Jilemnice 19.06.23",859.43304404692185,null,10.09,0,0]
["31.",{"$f":"B141","v":"JIRANOVÁ"},"Anežka","7.B",12.5,null,"Jilemnice 14.09.22",593.48381283226661,null,13.54,0,0]
["32.",{"$f":"B142","v":"KRČÍKOVÁ"},"Beatrix","7.B",9.35,null,"Jilemnice 12.06.23",813.27085143351144,null,10.42,0,0]
["33.",{"$f":"B143","v":"KUBÁTOVÁ"},"Veronika","7.B",11.9,null,"Jilemnice 07.05.23",626.37711112633042,null,12.29,0,0]
["34.",{"$f":"B144","v":"LENČEŠOVÁ"},"Silvie","7.B",11.46,null,"Jilemnice 14.09.22",652.68792273443864,null,11.56,0,0]
["35.",{"$f":"B145","v":"LUKEŠOVÁ"},"Lucie","7.B",11.25,null,"Jilemnice 07.05.23",665.97089610992589,null,0,0,0]
["36.",{"$f":"B146","v":"MATERNOVÁ"},"Lenka","7.B",9.42,null,"Jilemnice 14.09.22",806.78975215888181,null,9.14,0,0]
["37.",{"$f":"B147","v":"TÓTHOVÁ"},"Viktorie","7.B",10.46,null,"Jilemnice 07.05.23",720.71735479955373,null,11.26,0,0]
["38.",{"$f":"B148","v":"DUONG"},"Ngoc Linh","8.A",9.93,null,"Jilemnice 07.06.23",762.32834820107416,null,11.4,11.58,0]
["39.",{"$f":"B149","v":"GINGALOVÁ"},"Linda","8.A",9.5,null,"Jilemnice 16.09.22",799.49973372666659,null,9.56,0,0]
["40.",{"$f":"B150","v":"HOFMANOVÁ "},"Nicol","8.A",10.83,null,"Jilemnice 28.04.23",694.08223034502919,null,10.92,11.92,0]
["41.",{"$f":"B151","v":"HOLEŠOVSKÁ"},"Aneta","8.A",10.26,null,"Jilemnice 28.04.23",735.91457295679004,null,10.51,10.99,0]
["42.",{"$f":"B152","v":"HOLUBCOVÁ"},"Alena","8.A",9.08,null,"Jilemnice 07.06.23",839.20544535279009,null,9.52,0,0]
["43.",{"$f":"B153","v":"KOHOUTOVÁ"},"Anna","8.A",11.35,null,"Jilemnice 28.04.23",659.5843689488986,null,11.42,13.25,0]
["44.",{"$f":"B154","v":"KRAUSOVÁ"},"Anežka","8.A",10.36,null,"Jilemnice 28.04.23",728.24261823069514,null,11.38,11.74,0]
["45.",{"$f":"B155","v":"KUŽELOVÁ"},"Apoléna","8.A",10.4,null,"Jilemnice 28.04.23",725.21514686570504,null,10.24,10.86,0]
["46.",{"$f":"B156","v":"MORÁVKOVÁ"},"Lucie","8.A",11.78,null,"Jilemnice 28.04.23",633.35786203763439,null,11.75,11.58,0]
["47.",{"$f":"B157","v":"SKLENÁROVÁ"},"Eliška","8.A",0,null,0,0,null,0,0,0]
["48.",{"$f":"B158","v":"ŠEJNOVÁ"},"Karolína","8.A",10.62,null,"Jilemnice 28.04.23",708.97170822379167,null,0,0,0]
["49.",{"$f":"B159","v":"ŠTOLFOVÁ"},"Tereza","8.A",10.11,null,"Jilemnice 28.04.23",747.7070730995714,null,10.77,10.82,0]
["50.",{"$f":"B160","v":"ŠUBÍKOVÁ"},"Klára","8.A",9.9,null,"Jilemnice 07.06.23",764.81691876127945,null,10.5,0,0]
["51.",{"$f":"B161","v":"ŠULKOVSKÁ"},"Klára","8.A",0,null,0,0,null,11.49,0,0]
["52.",{"$f":"B162","v":"TULÁČKOVÁ"},"Natálie","8.A",10.54,null,"Jilemnice 16.09.22",714.79995600284633,null,10.4,11.52,0]
["53.",{"$f":"B163","v":"VOJTÍŠKOVÁ"},"Ella","8.A",9.32,null,"Jilemnice 16.09.22",816.07826813340478,null,9.52,10.61,0]
["54.",{"$f":"B164","v":"DRUGÁČOVÁ"},"Kristinka","8.B",0,null,0,0,null,0,0,0]
["55.",{"$f":"B165","v":"FAJSTAVROVÁ"},"Karolína","8.B",8.76,null,"Turnov 16.05.23",872.01294789231349,null,9.02,10.61,0]
["56.",{"$f":"B166","v":"FAJSTAVROVÁ"},"Magdaléna","8.B",9.0500000000000007,null,"Jilemnice 28.04.23",842.18259026556154,null,9.68,10.25,0]
["57.",{"$f":"B167","v":"JINDROVÁ"},"Barbora","8.B",10.54,null,"Jilemnice 28.04.23",714.79995600284633,null,10.8,12.1,0]
["58.",{"$f":"B168","v":"MAŘASOVÁ"},"Vendula","8.B",10.44,null,"Jilemnice 28.04.23",722.21087451500637,null,10.78,0,0]
["59.",{"$f":"B169","v":"PETŘÍČKOVÁ"},"Natálie","8.B",9.08,null,"Jilemnice 28.04.23",839.20544535279009,null,8.9,10.78,0]
["60.",{"$f":"B170","v":"PETŘÍKOVÁ"},"Adéla","8.B",10.43,null,"Jilemnice 28.04.23",722.9597822917865,null,10.97,12.38,0]
["61.",{"$f":"B171","v":"REGÁLOVÁ"},"Karolína","8.B",10.119999999999999,null,"Jilemnice 28.04.23",746.91003059980244,null,10.52,11.39,0]
["62.",{"$f":"B172","v":"RIEGROVÁ"},"Magdaléna","8.B",10.49,null,"Jilemnice 28.04.23",718.48775339402607,null,0,0,0]
["63.",{"$f":"B173","v":"RYBENSKÁ"},"Sabina","8.B",10.17,null,"Jilemnice 16.09.22",742.94832967912157,null,10.38,11.01,0]
["64.",{"$f":"B174","v":"STEINEROVÁ"},"Barbora","8.B",9.51,null,"Jilemnice 16.09.22",798.5971052614791,null,9.98,11.26,0]
["65.",{"$f":"B175","v":"ŠERCLOVÁ"},"Andrea","8.B",0,null,0,0,null,0,0,0]
["66.",{"$f":"B176","v":"TOMEŠOVÁ"},"Martina","8.B",9.73,null,"Jilemnice 16.09.22",779.20868293627962,null,9.98,11.59,0]
["67.",{"$f":"B177","v":"VOHNOUTOVÁ"},"Aneta","8.B",8.94,null,"Jilemnice 16.09.22",853.26973545152873,null,9.17,10.210000000000001,0]
["68.",{"$f":"B178","v":"HAVLÍKOVÁ"},"Michaela","9.A",10.1,null,"Jilemnice 14.09.22",748.50569390132011,null,9.94,11.75,12.24]
["69.",{"$f":"B179","v":"HOLUBCOVÁ"},"Sára","9.A",9.23,null,"Jilemnice 14.09.22",824.61001660924524,null,9.02,9.58,9.9600000000000009]
["70.",{"$f":"B180","v":"HONCŮ"},"Tereza","9.A",10.54,null,"Jilemnice 14.09.22",714.79995600284633,null,10.199999999999999,11.17,0]
["71.",{"$f":"B181","v":"HORÁČKOVÁ"},"Kateřina","9.A",9.26,null,"Jilemnice 03.05.23",821.74767334809212,null,9.82,9.59,9.91]
["72.",{"$f":"B182","v":"JOUDALOVÁ"},"Daniela","9.A",0,null,0,0,null,0,0,13.96]
["73.",{"$f":"B183","v":"KLÍMOVÁ"},"Anna","9.A",9.77,null,"Jilemnice 14.09.22",775.77732727772093,null,10.9,10.81,11.09]
["74.",{"$f":"B184","v":"KOHOUTOVÁ"},"Veronika","9.A",9.4,null,"Jilemnice 14.09.22",808.63164511382968,null,9.39,0,9.9600000000000009]
["75.",{"$f":"B185","v":"KOVÁŘOVÁ"},"Viktorie","9.A",9.75,null,"Jilemnice 14.09.22",777.48948576786313,null,10.28,10.62,11.22]
["76.",{"$f":"B186","v":"KYNČLOVÁ"},"Anna","9.A",9.0399999999999991,null,"Jilemnice 14.09.22",843.17936297234507,null,9.39,9.5,10.51]
["77.",{"$f":"B187","v":"MATOUŠOVÁ"},"Tereza","9.A",10.24,null,"Jilemnice 14.09.22",737.46694504589846,null,10.51,10.81,11.37]
["78.",{"$f":"B188","v":"MAZÁNKOVÁ"},"Zuzana","9.A",10.1,null,"Jilemnice 14.09.22",748.50569390132011,null,10.66,10.26,11.5]
["79.",{"$f":"B189","v":"MORKESOVÁ"},"Sabrina","9.A",9.15,null,"Jilemnice 14.09.22",832.33469379635699,null,8.7799999999999994,0,9.39]
["80.",{"$f":"B190","v":"POHOŘALÁ"},"Alžběta","9.A",9.5399999999999991,null,"Jilemnice 14.09.22",795.90057368308885,null,9.66,9.5,10.59]
["81.",{"$f":"B191","v":"SCHOLZOVÁ"},"Laura","9.A",0,null,0,0,null,10.56,11.29,0]
["82.",{"$f":"B192","v":"VÁCLAVÍKOVÁ"},"Valerie","9.A",9.68,null,"Jilemnice 03.05.23",783.53775638464185,null,9.92,9.42,10.34]
["83.",{"$f":"B193","v":"ZAPADLOVÁ"},"Emma","9.A",9.0399999999999991,null,"Jilemnice 03.05.23",843.17936297234507,null,8.7100000000000009,9.52,0]
["84.",{"$f":"B194","v":"ŽIŠKOVÁ"},"Mia","9.A",0,null,0,0,null,0,9.58,10.58]
["85.",{"$f":"B195","v":"FARSKÁ"},"Tereza","9.B",11.42,null,"Jilemnice 14.09.22",655.18034956246345,null,10.91,11.55,11.73]
["86.",{"$f":"B196","v":"FEIXOVÁ"},"Rozálie","9.B",0,null,0,0,null,11.85,11.58,12.86]
["87.",{"$f":"B197","v":"FIŠEROVÁ"},"Michaela","9.B",10.45,null,"Jilemnice 14.09.22",721.46340005454545,null,11.45,10.9,11.71]
["88.",{"$f":"B198","v":"HAVLÍČKOVÁ"},"Kristýna","9.B",0,null,0,0,null,12.55,12.36,12.86]
["89.",{"$f":"B199","v":"KADAVÁ"},"Nikola","9.B",12.18,null,"Jilemnice 14.09.22",610.62361577476736,null,12.62,0,12.41]
["90.",{"$f":"B200","v":"KŘIVINKOVÁ"},"Alžběta","9.B",10,null,"Jilemnice 14.09.22",756.57975020699996,null,10.99,11.01,0]
["91.",{"$f":"B201","v":"LEŠÁKOVÁ"},"Lenka","9.B",10.39,null,"Jilemnice 14.09.22",725.96982933301251,null,13,12.4,12.92]
["92.",{"$f":"B202","v":"NYKLÍČKOVÁ"},"Adéla","9.B",9.84,null,"Jilemnice 03.05.23",769.8395825138889,null,9.68,10.11,10]
["93.",{"$f":"B203","v":"PLŮCHOVÁ"},"Petra","9.B",10.38,null,"Turnov 11.05.23",726.72596590912008,null,10.54,11.01,11.32]
["94.",{"$f":"B204","v":"PODZIMKOVÁ"},"Eliška","9.B",11.59,null,"Jilemnice 03.05.23",644.70635054098352,null,10.8,12.35,12.09]
["95.",{"$f":"B205","v":"RUTKAYOVÁ"},"Klára","9.B",11.06,null,"Jilemnice 03.05.23",678.42346918655812,null,13,0,0]
["96.",{"$f":"B206","v":"SEIDLOVÁ"},"Zuzana","9.B",10.36,null,"Jilemnice 14.09.22",728.24261823069514,null,10.88,12.14,0]
["97.",{"$f":"B207","v":"TOMÁŠOVÁ"},"Sára","9.B",12.4,null,"Jilemnice 14.09.22",598.7449721024193,null,0,12.51,12.51]
["98.",{"$f":"B208","v":"VANCLOVÁ"},"Barbora","9.B",10.28,null,"Jilemnice 03.05.23",734.36824122600524,null,10.68,9.9700000000000006,0]
["99.",{"$f":"B209","v":"VOTOČKOVÁ"},"Veronika","9.B",12.62,null,"Jilemnice 14.09.22",587.28048082435294,null,13.34,12.55,13.86]
[]
[]
[]
[]
[]
[]
[]
[]
[]
[null,"FARSKÁ","Anna","6.A",9.98,null,"Jilemnice  29.05.23",{"$f":"IF(E111=0,0,IF(E111>0,((1000 - 321 / E111 + 340 / E111*2 - 16600 / E111*3 + 32190000000 / E111*4)/15000000-62)*0.95))","v":758.21397803640605}]
[null,"FARSKÁ","Eliška","6.A",9.4499999999999993,null,"Jilemnice  29.05.23",804.04153092451486]
[null,"FEDORKOVÁ","Denisa","6.A",11.32,null,"Jilemnice  29.05.23",661.48847929946976]
[null,"HAUZEROVÁ","Tereza","6.A",9.9600000000000009,null,"Jilemnice  29.05.23",759.85476902978576]
[null,"JOSKOVÁ","Ellen","6.A",9.4,null,"Jilemnice  29.05.23",808.63164511382968]
[null,"KUŽELOVÁ","Amálie","6.A",12.23,null,"Jilemnice  29.05.23",607.88639765358403]
[null,"RYŠAVÁ","Amálie","6.A",10.73,null,"Jilemnice  29.05.23",701.09977151009628]
[null,"BANGOVÁ","Zuzana","6.B",11.08,null,"Jilemnice  08.09.22",677.0925605117327]
[null,"HOLUBOVÁ","Denisa","6.B",12,null,"Jilemnice  08.09.22",620.66646906138874]
[null,"HURKALO","Karolina","6.B",15.65,null,"Jilemnice  08.09.22",462.1733456807242]
[null,"HUTNIK-MAMONOVA","Nana","6.B",14,null,"Jilemnice  08.09.22",523.58555395738085]
[null,"MARINOVA","Darja","6.B",12,null,"Jilemnice  08.09.22",620.66646906138874]
[null,"NYKLÍČKOVÁ","Klára","6.B",10.58,null,"Jilemnice  29.05.23",711.8748146316949]
[null,"PANCHAYEVA","Sofiia","6.B",12,null,"Jilemnice  08.09.22",620.66646906138874]
[null,"PIČMANOVÁ","Klára","6.B",11.14,null,"Jilemnice  29.05.23",673.12850756463183]
[null,"ŠIMŮNKOVÁ","Anežka","6.B",10.36,null,"Jilemnice  29.05.23",728.24261823069514]
[null,"TRPIŠOVSKÁ","Nela","6.B",10.18,null,"Jilemnice  29.05.23",742.16065947642437]
[null,"HEJRALOVÁ","Natálie","7.A",9.86,null,"Jilemnice 12.06.23",768.15856929039899,null,9.9]
[null,"KERLE","Nikita","7.A",9.82,null,"Jilemnice 14.09.22",771.52744304175155,null,10.06]
[null,"MUNZAROVÁ","Aneta","7.A",null,null,null,0]
[null,"PACLÍKOVÁ","Markéta","7.A",9.4,null,"Jilemnice 12.06.23",808.63164511382968,null,9.85]
[null,"PLŮCHOVÁ","Michaela","7.A",9.4,null,"Jilemnice 12.06.23",808.63164511382968,null,9.85]
[null,"ŠERCLOVÁ","Nikola","7.A",null,null,null,0,null,12.1]
[null,"VÁCLAVÍKOVÁ","Alena","7.A",10.039999999999999,null,"Jilemnice 12.06.23",753.33082715172645,null,10.3]
[null,"DUCHÁČKOVÁ","Tereza","7.B",11.99,null,"Jilemnice 14.09.22",621.2332467142063,null,11.67]
[null,"FLAŠKOVÁ","Anna Sabriel","7.B",11.25,null,"Jilemnice 14.09.22",665.97089610992589,null,11.35]
[null,"HAASOVÁ","Julie","7.B",10.029999999999999,null,"Turnov   13.09.22",754.14062851146559,null,9.91]
[null,"HEGROVÁ","Štěpánka","7.B",10.65,null,"Jilemnice 07.05.23",706.8086895057902]
[null,"HOBLOVÁ","Barbora","7.B",9.7100000000000009,null,"Jilemnice 12.06.23",780.93496227634739,null,10.119999999999999]
[null,"HORÁČKOVÁ","Valérie","7.B",8.8800000000000008,null,"Jilemnice 19.06.23",859.43304404692185,null,10.09]
[null,"JIRANOVÁ","Anežka","7.B",12.5,null,"Jilemnice 14.09.22",593.48381283226661,null,13.54]
[null,"KRČÍKOVÁ","Beatrix","7.B",9.35,null,"Jilemnice 12.06.23",813.27085143351144,null,10.42]
[null,"KUBÁTOVÁ","Veronika","7.B",11.9,null,"Jilemnice 07.05.23",{"$f":"IF(E143=0,0,IF(E143>0,((1000 - 321 / E143 + 340 / E143*2 - 16600 / E143*3 + 32190000000 / E143*4)/15000000-62)*0.95))","v":626.37711112633042},null,12.29]
[null,"LENČEŠOVÁ","Silvie","7.B",11.46,null,"Jilemnice 14.09.22",652.68792273443864,null,11.56]
[null,"LUKEŠOVÁ","Lucie","7.B",11.25,null,"Jilemnice 07.05.23",665.97089610992589]
[null,"MATERNOVÁ","Lenka","7.B",9.42,null,"Jilemnice 14.09.22",806.78975215888181,null,9.14]
[null,"TÓTHOVÁ","Viktorie","7.B",10.46,null,"Jilemnice 07.05.23",720.71735479955373,null,11.26]
[null,"DUONG","Ngoc Linh","8.A",9.93,null,"Jilemnice 07.06.23",762.32834820107416,null,11.4,11.58]
[null,"GINGALOVÁ","Linda","8.A",9.5,null,"Jilemnice 16.09.22",799.49973372666659,null,9.56]
[null,"HOFMANOVÁ ","Nicol","8.A",10.83,null,"Jilemnice 28.04.23",694.08223034502919,null,10.92,11.92]
[null,"HOLEŠOVSKÁ","Aneta","8.A",10.26,null,"Jilemnice 28.04.23",735.91457295679004,null,10.51,10.99]
[null,"HOLUBCOVÁ","Alena","8.A",9.08,null,"Jilemnice 07.06.23",839.20544535279009,null,9.52]
[null,"KOHOUTOVÁ","Anna","8.A",11.35,null,"Jilemnice 28.04.23",659.5843689488986,null,11.42,13.25]
[null,"KRAUSOVÁ","Anežka","8.A",10.36,null,"Jilemnice 28.04.23",728.24261823069514,null,11.38,11.74]
[null,"KUŽELOVÁ","Apoléna","8.A",10.4,null,"Jilemnice 28.04.23",725.21514686570504,null,10.24,10.86]
[null,"MORÁVKOVÁ","Lucie","8.A",11.78,null,"Jilemnice 28.04.23",633.35786203763439,null,11.75,11.58]
[null,"SKLENÁROVÁ","Eliška","8.A",null,null,null,0]
[null,"ŠEJNOVÁ","Karolína","8.A",10.62,null,"Jilemnice 28.04.23",708.97170822379167]
[null,"ŠTOLFOVÁ","Tereza","8.A",10.11,null,"Jilemnice 28.04.23",747.7070730995714,null,10.77,10.82]
[null,"ŠUBÍKOVÁ","Klára","8.A",9.9,null,"Jilemnice 07.06.23",764.81691876127945,null,10.5]
[null,"ŠULKOVSKÁ","Klára","8.A",null,null,null,0,null,11.49]
[null,"TULÁČKOVÁ","Natálie","8.A",10.54,null,"Jilemnice 16.09.22",714.79995600284633,null,10.4,11.52]
[null,"VOJTÍŠKOVÁ","Ella","8.A",9.32,null,"Jilemnice 16.09.22",816.07826813340478,null,9.52,10.61]
[null,"DRUGÁČOVÁ","Kristinka","8.B",null,null,null,0]
[null,"FAJSTAVROVÁ","Karolína","8.B",8.76,null,"Turnov 16.05.23",872.01294789231349,null,9.02,10.61]
[null,"FAJSTAVROVÁ","Magdaléna","8.B",9.0500000000000007,null,"Jilemnice 28.04.23",842.18259026556154,null,9.68,10.25]
[null,"JINDROVÁ","Barbora","8.B",10.54,null,"Jilemnice 28.04.23",714.79995600284633,null,10.8,12.1]
[null,"MAŘASOVÁ","Vendula","8.B",10.44,null,"Jilemnice 28.04.23",722.21087451500637,null,10.78]
[null,"PETŘÍČKOVÁ","Natálie","8.B",9.08,null,"Jilemnice 28.04.23",839.20544535279009,null,8.9,10.78]
[null,"PETŘÍKOVÁ","Adéla","8.B",10.43,null,"Jilemnice 28.04.23",722.9597822917865,null,10.97,12.38]
[null,"REGÁLOVÁ","Karolína","8.B",10.119999999999999,null,"Jilemnice 28.04.23",746.91003059980244,null,10.52,11.39]
[null,"RIEGROVÁ","Magdaléna","8.B",10.49,null,"Jilemnice 28.04.23",718.48775339402607]
[null,"RYBENSKÁ","Sabina","8.B",10.17,null,"Jilemnice 16.09.22",742.94832967912157,null,10.38,11.01]
[null,"STEINEROVÁ","Barbora","8.B",9.51,null,"Jilemnice 16.09.22",798.5971052614791,null,9.98,11.26]
[null,"ŠERCLOVÁ","Andrea","8.B",null,null,null,{"$f":"IF(E175=0,0,IF(E175>0,((1000 - 321 / E175 + 340 / E175*2 - 16600 / E175*3 + 32190000000 / E175*4)/15000000-62)*0.95))","v":0}]
[null,"TOMEŠOVÁ","Martina","8.B",9.73,null,"Jilemnice 16.09.22",779.20868293627962,null,9.98,11.59]
[null,"VOHNOUTOVÁ","Aneta","8.B",8.94,null,"Jilemnice 16.09.22",853.26973545152873,null,9.17,10.210000000000001]
[null,"HAVLÍKOVÁ","Michaela","9.A",10.1,null,"Jilemnice 14.09.22",748.50569390132011,null,9.94,11.75,12.24]
[null,"HOLUBCOVÁ","Sára","9.A",9.23,null,"Jilemnice 14.09.22",824.61001660924524,null,9.02,9.58,9.9600000000000009]
[null,"HONCŮ","Tereza","9.A",10.54,null,"Jilemnice 14.09.22",714.79995600284633,null,10.199999999999999,11.17]
[null,"HORÁČKOVÁ","Kateřina","9.A",9.26,null,"Jilemnice 03.05.23",821.74767334809212,null,9.82,9.59,9.91]
[null,"JOUDALOVÁ","Daniela","9.A",null,null,null,0,null,null,null,13.96]
[null,"KLÍMOVÁ","Anna","9.A",9.77,null,"Jilemnice 14.09.22",775.77732727772093,null,10.9,10.81,11.09]
[null,"KOHOUTOVÁ","Veronika","9.A",9.4,null,"Jilemnice 14.09.22",808.63164511382968,null,9.39,null,9.9600000000000009]
[null,"KOVÁŘOVÁ","Viktorie","9.A",9.75,null,"Jilemnice 14.09.22",777.48948576786313,null,10.28,10.62,11.22]
[null,"KYNČLOVÁ","Anna","9.A",9.0399999999999991,null,"Jilemnice 14.09.22",843.17936297234507,null,9.39,9.5,10.51]
[null,"MATOUŠOVÁ","Tereza","9.A",10.24,null,"Jilemnice 14.09.22",737.46694504589846,null,10.51,10.81,11.37]
[null,"MAZÁNKOVÁ","Zuzana","9.A",10.1,null,"Jilemnice 14.09.22",748.50569390132011,null,10.66,10.26,11.5]
[null,"MORKESOVÁ","Sabrina","9.A",9.15,null,"Jilemnice 14.09.22",832.33469379635699,null,8.7799999999999994,null,9.39]
[null,"POHOŘALÁ","Alžběta","9.A",9.5399999999999991,null,"Jilemnice 14.09.22",795.90057368308885,null,9.66,9.5,10.59]
[null,"SCHOLZOVÁ","Laura","9.A",null,null,null,0,null,10.56,11.29]
[null,"VÁCLAVÍKOVÁ","Valerie","9.A",9.68,null,"Jilemnice 03.05.23",783.53775638464185,null,9.92,9.42,10.34]
[null,"ZAPADLOVÁ","Emma","9.A",9.0399999999999991,null,"Jilemnice 03.05.23",843.17936297234507,null,8.7100000000000009,9.52]
[null,"ŽIŠKOVÁ","Mia","9.A",null,null,null,0,null,null,9.58,10.58]
[null,"FARSKÁ","Tereza","9.B",11.42,null,"Jilemnice 14.09.22",655.18034956246345,null,10.91,11.55,11.73]
[null,"FEIXOVÁ","Rozálie","9.B",null,null,null,0,null,11.85,11.58,12.86]
[null,"FIŠEROVÁ","Michaela","9.B",10.45,null,"Jilemnice 14.09.22",721.46340005454545,null,11.45,10.9,11.71]
[null,"HAVLÍČKOVÁ","Kristýna","9.B",null,null,null,0,null,12.55,12.36,12.86]
[null,"KADAVÁ","Nikola","9.B",12.18,null,"Jilemnice 14.09.22",610.62361577476736,null,12.62,null,12.41]
[null,"KŘIVINKOVÁ","Alžběta","9.B",10,null,"Jilemnice 14.09.22",756.57975020699996,null,10.99,11.01]
[null,"LEŠÁKOVÁ","Lenka","9.B",10.39,null,"Jilemnice 14.09.22",725.96982933301251,null,13,12.4,12.92]
[null,"NYKLÍČKOVÁ","Adéla","9.B",9.84,null,"Jilemnice 03.05.23",769.8395825138889,null,9.68,10.11,10]
[null,"PLŮCHOVÁ","Petra","9.B",10.38,null,"Turnov 11.05.23",726.72596590912008,null,10.54,11.01,11.32]
[null,"PODZIMKOVÁ","Eliška","9.B",11.59,null,"Jilemnice 03.05.23",644.70635054098352,null,10.8,12.35,12.09]
[null,"RUTKAYOVÁ","Klára","9.B",11.06,null,"Jilemnice 03.05.23",678.42346918655812,null,13]
[null,"SEIDLOVÁ","Zuzana","9.B",10.36,null,"Jilemnice 14.09.22",728.24261823069514,null,10.88,12.14]
[null,"TOMÁŠOVÁ","Sára","9.B",12.4,null,"Jilemnice 14.09.22",598.7449721024193,null,null,12.51,12.51]
[null,"VANCLOVÁ","Barbora","9.B",10.28,null,"Jilemnice 03.05.23",734.36824122600524,null,10.68,9.9700000000000006]
[null,"VOTOČKOVÁ","Veronika","9.B",12.62,null,"Jilemnice 14.09.22",587.28048082435294,null,13.34,12.55,13.86]

{"sheet":"D300","index":7,"n_rows":209,"n_cols":12,"rows_kept":209,"cut":false,"hidden":false,"merged":[[0,1,0,5]]}
[null,"VÝKONY  2022 - 2023",null,null,null,null,"300 M",null,null,null,"stav  k ",{"$f":"TODAY()","v":"2023-06-26"}]
[null,null,null,null,null,null,null,"   BODY",null,"   21 - 22   ","   20 - 21   ","   19 - 20   "]
["1.",{"$f":"B111","v":"FARSKÁ"},{"$f":"C111","v":"Anna"},"6.A","00:01:03.860"," ","Jilemnice  31.10.22",622.24997622749765," ","00:00:00","00:00:00","00:00:00"]
["2.",{"$f":"B112","v":"FARSKÁ"},"Eliška","6.A","00:01:12.610"," ",{"$f":"G112","v":"Jilemnice  31.10.22"},521.35624888979487," ",{"$f":"J112","v":"00:00:00"},"00:00:00","00:00:00"]
["3.",{"$f":"B113","v":"FEDORKOVÁ"},"Denisa","6.A","00:01:28.130"," ",{"$f":"G113","v":"Jilemnice  31.10.22"},391.68222888787022," ",{"$f":"J113","v":"00:00:00"},"00:00:00","00:00:00"]
["4.",{"$f":"B114","v":"HAUZEROVÁ"},"Tereza","6.A","00:01:10.100"," ",{"$f":"G114","v":"Jilemnice  31.10.22"},547.72203540496423," ",{"$f":"J114","v":"00:00:00"},"00:00:00","00:00:00"]
["5.",{"$f":"B115","v":"JOSKOVÁ"},"Ellen","6.A","00:00:58.960"," ",{"$f":"G115","v":"Jilemnice  31.10.22"},691.83105464531877," ",{"$f":"J115","v":"00:00:00"},"00:00:00","00:00:00"]
["6.",{"$f":"B116","v":"KUŽELOVÁ"},"Amálie","6.A","00:01:28.710"," ",{"$f":"G116","v":"Jilemnice  31.10.22"},387.71567728427465," ",{"$f":"J116","v":"00:00:00"},"00:00:00","00:00:00"]
["7.",{"$f":"B117","v":"RYŠAVÁ"},"Amálie","6.A","00:01:24.740"," ",{"$f":"G117","v":"Jilemnice  31.10.22"},415.95218175463776," ",{"$f":"J117","v":"00:00:00"},"00:00:00","00:00:00"]
["8.",{"$f":"B118","v":"BANGOVÁ"},"Zuzana","6.B","00:01:35.290"," ",{"$f":"G118","v":"Jilemnice  31.10.22"},346.09707872691786," ",{"$f":"J118","v":"00:00:00"},"00:00:00","00:00:00"]
["9.",{"$f":"B119","v":"HOLUBOVÁ"},"Denisa","6.B","00:01:27.250"," ",{"$f":"G119","v":"Jilemnice  31.10.22"},397.80115108181076," ",{"$f":"J119","v":"00:00:00"},"00:00:00","00:00:00"]
["10.",{"$f":"B120","v":"HURKALO"},"Karolina","6.B","00:01:52.710"," ",{"$f":"G120","v":"Jilemnice  31.10.22"},259.3769650597817," ",{"$f":"J120","v":"00:00:00"},"00:00:00","00:00:00"]
["11.",{"$f":"B121","v":"HUTNIK-MAMONOVA"},"Nana","6.B","00:00:00"," ",{"$f":"G121","v":0},0," ",{"$f":"J121","v":"00:00:00"},"00:00:00","00:00:00"]
["12.",{"$f":"B122","v":"MARINOVA"},"Darja","6.B","00:01:15.200"," ",{"$f":"G122","v":"Jilemnice  31.10.22"},495.99521518468077," ",{"$f":"J122","v":"00:00:00"},"00:00:00","00:00:00"]
["13.",{"$f":"B123","v":"NYKLÍČKOVÁ"},"Klára","6.B","00:01:05.530"," ",{"$f":"G123","v":"Jilemnice  31.10.22"},600.91319749562012," ",{"$f":"J123","v":"00:00:00"},"00:00:00","00:00:00"]
["14.",{"$f":"B124","v":"PANCHAYEVA"},"Sofiia","6.B","00:01:29.370"," ",{"$f":"G124","v":"Jilemnice  31.10.22"},383.26464173534737," ",{"$f":"J124","v":"00:00:00"},"00:00:00","00:00:00"]
["15.",{"$f":"B125","v":"PIČMANOVÁ"},"Klára","6.B","00:01:30.150"," ",{"$f":"G125","v":"Jilemnice  31.10.22"},378.08835198988345," ",{"$f":"J125","v":"00:00:00"},"00:00:00","00:00:00"]
["16.",{"$f":"B126","v":"ŠIMŮNKOVÁ"},"Anežka","6.B","00:01:21.140"," ",{"$f":"G126","v":"Jilemnice  31.10.22"},443.94589452659591," ",{"$f":"J126","v":"00:00:00"},"00:00:00","00:00:00"]
["17.",{"$f":"B127","v":"TRPIŠOVSKÁ"},"Nela","6.B","00:01:18.060"," ",{"$f":"G127","v":"Jilemnice  31.10.22"},469.94561211744815," ",{"$f":"J127","v":"00:00:00"},"00:00:00","00:00:00"]
["18.",{"$f":"B128","v":"HEJRALOVÁ"},"Natálie","7.A","00:00:58.590"," ",{"$f":"G128","v":"Jilemnice 31.05.23"},697.55772541198155," ",{"$f":"J128","v":"00:00:55.050"},"00:00:00","00:00:00"]
["19.",{"$f":"B129","v":"KERLE"},"Nikita","7.A","00:00:57.130"," ",{"$f":"G129","v":"Jilemnice 31.05.23"},720.87869476436185," ",{"$f":"J129","v":"00:00:54.390"},"00:00:00","00:00:00"]
["20.",{"$f":"B130","v":"MUNZAROVÁ"},"Aneta","7.A","00:00:00"," ",{"$f":"G130","v":0},0," ",{"$f":"J130","v":"00:00:00"},"00:00:00","00:00:00"]
["21.",{"$f":"B131","v":"PACLÍKOVÁ"},"Markéta","7.A","00:00:57.560"," ",{"$f":"G131","v":"Jilemnice 31.05.23"},713.88728252063936," ",{"$f":"J131","v":"00:01:00.360"},"00:00:00","00:00:00"]
["22.",{"$f":"B132","v":"PLŮCHOVÁ"},"Michaela","7.A","00:00:56.360"," ",{"$f":"G132","v":"Jilemnice 31.05.23"},733.66476192136281," ",{"$f":"J132","v":"00:01:00.380"},"00:00:00","00:00:00"]
["23.",{"$f":"B133","v":"ŠERCLOVÁ"},"Nikola","7.A","00:01:10.520"," ",{"$f":"G133","v":"Jilemnice 31.05.23"},543.17947790538858," ",{"$f":"J133","v":"00:01:19.980"},"00:00:00","00:00:00"]
["24.",{"$f":"B134","v":"VÁCLAVÍKOVÁ"},"Alena","7.A","00:00:58.600"," ",{"$f":"G134","v":"Jilemnice 31.05.23"},697.40199969092157," ",{"$f":"J134","v":"00:01:04.060"},"00:00:00","00:00:00"]
["25.",{"$f":"B135","v":"DUCHÁČKOVÁ"},"Tereza","7.B","00:01:29.270"," ",{"$f":"G135","v":"Jilemnice 24.10.22"},383.93481048379067," ",{"$f":"J135","v":"00:01:12.790"},"00:00:00","00:00:00"]
["26.",{"$f":"B136","v":"FLAŠKOVÁ"},"Anna Sabriel","7.B","00:00:00"," ",{"$f":"G136","v":0},0," ",{"$f":"J136","v":"00:01:10.930"},"00:00:00","00:00:00"]
["27.",{"$f":"B137","v":"HAASOVÁ"},"Julie","7.B","00:00:00"," ",{"$f":"G137","v":0},0," ",{"$f":"J137","v":"00:01:00.470"},"00:00:00","00:00:00"]
["28.",{"$f":"B138","v":"HEGROVÁ"},"Štěpánka","7.B","00:01:08.050"," ",{"$f":"G138","v":"Jilemnice 31.05.23"},570.69881604537841," ",{"$f":"J138","v":"00:00:00"},"00:00:00","00:00:00"]
["29.",{"$f":"B139","v":"HOBLOVÁ"},"Barbora","7.B","00:00:58.600"," ",{"$f":"G139","v":"Jilemnice 31.05.23"},697.40199969092157," ",{"$f":"J139","v":"00:01:02.520"},"00:00:00","00:00:00"]
["30.",{"$f":"B140","v":"HORÁČKOVÁ"},"Valérie","7.B","00:00:55.140"," ",{"$f":"G140","v":"Jilemnice 31.05.23"},754.65433227943402," ",{"$f":"J140","v":"00:00:58.030"},"00:00:00","00:00:00"]
["31.",{"$f":"B141","v":"JIRANOVÁ"},"Anežka","7.B","00:01:24.340"," ",{"$f":"G141","v":"Jilemnice 31.05.23"},418.94458005558454," ",{"$f":"J141","v":"00:00:00"},"00:00:00","00:00:00"]
["32.",{"$f":"B142","v":"KRČÍKOVÁ"},"Beatrix","7.B","00:01:00.280"," ",{"$f":"G142","v":"Jilemnice 31.05.23"},671.97354979907107," ",{"$f":"J142","v":"00:01:04.060"},"00:00:00","00:00:00"]
["33.",{"$f":"B143","v":"KUBÁTOVÁ"},"Veronika","7.B","00:01:26.010"," ",{"$f":"G143","v":"Jilemnice 24.10.22"},406.63578923250793," ",{"$f":"J143","v":"00:01:16.940"},"00:00:00","00:00:00"]
["34.",{"$f":"B144","v":"LENČEŠOVÁ"},"Silvie","7.B","00:01:03.750"," ",{"$f":"G144","v":"Jilemnice 31.05.23"},623.69463422569402," ",{"$f":"J144","v":"00:01:07.700"},"00:00:00","00:00:00"]
["35.",{"$f":"B145","v":"LUKEŠOVÁ"},"Lucie","7.B","00:01:05.770"," ",{"$f":"G145","v":"Jilemnice 31.05.23"},597.93588310609687," ",{"$f":"J145","v":"00:00:00"},"00:00:00","00:00:00"]
["36.",{"$f":"B146","v":"MATERNOVÁ"},"Lenka","7.B","00:00:56.120"," ",{"$f":"G146","v":"Jilemnice 31.05.23"},737.72175306286545," ",{"$f":"J146","v":"00:00:53.800"},"00:00:00","00:00:00"]
["37.",{"$f":"B147","v":"TÓTHOVÁ"},"Viktorie","7.B","00:01:02.820"," ",{"$f":"G147","v":"Jilemnice 31.05.23"},636.1107653914039," ",{"$f":"J147","v":"00:01:07.190"},"00:00:00","00:00:00"]
["38.",{"$f":"B148","v":"DUONG"},"Ngoc Linh","8.A","00:00:00"," ",{"$f":"G148","v":0},0," ",{"$f":"J148","v":"00:01:20.200"},"00:00:00","00:00:00"]
["39.",{"$f":"B149","v":"GINGALOVÁ"},"Linda","8.A","00:00:57.180"," ",{"$f":"G149","v":"Jilemnice 05.06.23"},720.06033721385108," ",{"$f":"J149","v":"00:00:00"},"00:00:00","00:00:00"]
["40.",{"$f":"B150","v":"HOFMANOVÁ "},"Nicol","8.A","00:00:00"," ",{"$f":"G150","v":0},0," ",{"$f":"J150","v":"00:00:00"},"00:01:15.700","00:00:00"]
["41.",{"$f":"B151","v":"HOLEŠOVSKÁ"},"Aneta","8.A","00:01:11"," ",{"$f":"G151","v":"Jilemnice  17.10.22"},538.05379129419737," ",{"$f":"J151","v":"00:00:00"},"00:00:00","00:00:00"]
["42.",{"$f":"B152","v":"HOLUBCOVÁ"},"Alena","8.A","00:00:53.090"," ",{"$f":"G152","v":"Jilemnice 05.06.23"},792.09605635501987," ",{"$f":"J152","v":"00:01:06.230"},"00:00:59.270","00:00:00"]
["43.",{"$f":"B153","v":"KOHOUTOVÁ"},"Anna","8.A","00:01:13"," ",{"$f":"G153","v":"Jilemnice  17.10.22"},517.42231756010949," ",{"$f":"J153","v":"00:01:15.470"},"00:01:24.100","00:00:00"]
["44.",{"$f":"B154","v":"KRAUSOVÁ"},"Anežka","8.A","00:01:07"," ",{"$f":"G154","v":"Jilemnice  17.10.22"},583.01192808788062," ",{"$f":"J154","v":"00:01:10.810"},"00:01:04.100","00:00:00"]
["45.",{"$f":"B155","v":"KUŽELOVÁ"},"Apoléna","8.A","00:00:00"," ",{"$f":"G155","v":0},0," ",{"$f":"J155","v":"00:00:00"},"00:00:00","00:00:00"]
["46.",{"$f":"B156","v":"MORÁVKOVÁ"},"Lucie","8.A","00:01:14"," ",{"$f":"G156","v":"Jilemnice  17.10.22"},507.52478624172966," ",{"$f":"J156","v":"00:00:00"},"00:00:00","00:00:00"]
["47.",{"$f":"B157","v":"SKLENÁROVÁ"},"Eliška","8.A","00:00:00"," ",{"$f":"G157","v":0},0," ",{"$f":"J157","v":"00:00:00"},"00:01:17.530","00:00:00"]
["48.",{"$f":"B158","v":"ŠEJNOVÁ"},"Karolína","8.A","00:01:08"," ",{"$f":"G158","v":"Jilemnice  17.10.22"},571.2765320865883," ",{"$f":"J158","v":"00:01:08.750"},"00:00:00","00:00:00"]
["49.",{"$f":"B159","v":"ŠTOLFOVÁ"},"Tereza","8.A","00:01:05"," ",{"$f":"G159","v":"Jilemnice  17.10.22"},607.56598741366156," ",{"$f":"J159","v":"00:01:05.420"},"00:01:04.880","00:00:00"]
["50.",{"$f":"B160","v":"ŠUBÍKOVÁ"},"Klára","8.A","00:00:59.280"," ",{"$f":"G160","v":"Jilemnice 05.06.23"},686.93590725182173," ",{"$f":"J160","v":"00:01:03.080"},"00:01:06.100","00:00:00"]
["51.",{"$f":"B161","v":"ŠULKOVSKÁ"},"Klára","8.A","00:00:00"," ",{"$f":"G161","v":0},0," ",{"$f":"J161","v":"00:01:16.660"},"00:00:00","00:00:00"]
["52.",{"$f":"B162","v":"TULÁČKOVÁ"},"Natálie","8.A","00:01:04"," ",{"$f":"G162","v":"Jilemnice  17.10.22"},620.41850284199995," ",{"$f":"J162","v":"00:00:00"},"00:00:00","00:00:00"]
["53.",{"$f":"B163","v":"VOJTÍŠKOVÁ"},"Ella","8.A","00:00:54.420"," ",{"$f":"G163","v":"Jilemnice 05.06.23"},767.48320988401326," ",{"$f":"J163","v":"00:00:00"},"00:00:00","00:00:00"]
["54.",{"$f":"B164","v":"DRUGÁČOVÁ"},"Kristinka","8.B","00:00:00"," ",{"$f":"G164","v":0},0," ",{"$f":"J164","v":"00:00:00"},"00:01:03.360","00:00:00"]
["55.",{"$f":"B165","v":"FAJSTAVROVÁ"},"Karolína","8.B","00:00:53.410"," ",{"$f":"G165","v":"Jilemnice  17.10.22"},786.06218370881879," ",{"$f":"J165","v":"00:00:00"},"00:00:00","00:00:00"]
["56.",{"$f":"B166","v":"FAJSTAVROVÁ"},"Magdaléna","8.B","00:00:49.910"," ",{"$f":"G166","v":"Jilemnice 05.06.23"},856.26254722276099," ",{"$f":"J166","v":"00:00:00"},"00:00:00","00:00:00"]
["57.",{"$f":"B167","v":"JINDROVÁ"},"Barbora","8.B","00:00:00"," ",{"$f":"G167","v":0},0," ",{"$f":"J167","v":"00:00:00"},"00:00:00","00:00:00"]
["58.",{"$f":"B168","v":"MAŘASOVÁ"},"Vendula","8.B","00:01:01.300"," ",{"$f":"G168","v":"Jilemnice  17.10.22"},657.21485614825451," ",{"$f":"J168","v":"00:00:00"},"00:00:00","00:00:00"]
["59.",{"$f":"B169","v":"PETŘÍČKOVÁ"},"Natálie","8.B","00:00:57.850"," ",{"$f":"G169","v":"Jilemnice 05.06.23"},709.23082855467578," ",{"$f":"J169","v":"00:00:55.240"},"00:00:00","00:00:00"]
["60.",{"$f":"B170","v":"PETŘÍKOVÁ"},"Adéla","8.B","00:01:00"," ",{"$f":"G170","v":"Jilemnice  17.10.22"},676.11273636479996," ",{"$f":"J170","v":"00:01:01.950"},"00:01:10.660","00:00:00"]
["61.",{"$f":"B171","v":"REGÁLOVÁ"},"Karolína","8.B","00:01:13"," ",{"$f":"G171","v":"Jilemnice  17.10.22"},517.42231756010949," ",{"$f":"J171","v":"00:00:00"},"00:00:00","00:00:00"]
["62.",{"$f":"B172","v":"RIEGROVÁ"},"Magdaléna","8.B","00:00:00"," ",{"$f":"G172","v":0},0," ",{"$f":"J172","v":"00:00:00"},"00:01:13.300","00:00:00"]
["63.",{"$f":"B173","v":"RYBENSKÁ"},"Sabina","8.B","00:01:04"," ",{"$f":"G173","v":"Jilemnice  17.10.22"},620.41850284199995," ",{"$f":"J173","v":"00:00:00"},"00:00:00","00:00:00"]
["64.",{"$f":"B174","v":"STEINEROVÁ"},"Barbora","8.B","00:00:55.450"," ",{"$f":"G174","v":"Jilemnice 05.06.23"},749.23338921348966," ",{"$f":"J174","v":"00:01:07.540"},"00:00:00","00:00:00"]
["65.",{"$f":"B175","v":"ŠERCLOVÁ"},"Andrea","8.B","00:01:16"," ",{"$f":"G175","v":"Jilemnice  17.10.22"},488.51110765642102," ",{"$f":"J175","v":"00:00:00"},"00:00:00","00:00:00"]
["66.",{"$f":"B176","v":"TOMEŠOVÁ"},"Barbora","8.B","00:00:56.910"," ",{"$f":"G176","v":"Jilemnice 05.06.23"},724.49655125440188," ",{"$f":"J176","v":"00:00:00"},"00:00:00","00:00:00"]
["67.",{"$f":"B177","v":"VOHNOUTOVÁ"},"Aneta","8.B","00:00:55.240"," ",{"$f":"G177","v":"Jilemnice 05.06.23"},752.89899315510479," ",{"$f":"J177","v":"00:00:00"},"00:00:00","00:00:00"]
["68.",{"$f":"B178","v":"HAVLÍKOVÁ"},"Michaela","9.A","00:01:05.960"," ",{"$f":"G178","v":"Jilemnice 12.05.23"},595.59420833668889," ",{"$f":"J178","v":"00:01:09.740"},"00:00:00","00:01:18.970"]
["69.",{"$f":"B179","v":"HOLUBCOVÁ"},"Sára","9.A","00:00:00"," ",{"$f":"G179","v":0},0," ",{"$f":"J179","v":"00:00:57.550"},"00:00:00","00:00:58.890"]
["70.",{"$f":"B180","v":"HONCŮ"},"Tereza","9.A","00:00:00"," ",{"$f":"G180","v":0},0," ",{"$f":"J180","v":"00:01:04.060"},"00:00:00","00:01:07.580"]
["71.",{"$f":"B181","v":"HORÁČKOVÁ"},"Kateřina","9.A","00:01:00.550"," ",{"$f":"G181","v":"Jilemnice 15.06.23"},668.01844643910817," ",{"$f":"J181","v":"00:00:56.460"},"00:00:00","00:01:02.240"]
["72.",{"$f":"B182","v":"JOUDALOVÁ"},"Daniela","9.A","00:00:00"," ",{"$f":"G182","v":0},0," ",{"$f":"J182","v":"00:00:00"},"00:00:00","00:01:29.440"]
["73.",{"$f":"B183","v":"KLÍMOVÁ"},"Anna","9.A","00:00:00"," ",{"$f":"G183","v":0},0," ",{"$f":"J183","v":"00:01:02.190"},"00:00:00","00:01:03.720"]
["74.",{"$f":"B184","v":"KOHOUTOVÁ"},"Veronika","9.A","00:00:59.860"," ",{"$f":"G184","v":"Jilemnice 12.05.23"},678.19685068306046," ",{"$f":"J184","v":"00:00:57.510"},"00:00:00","00:00:59.130"]
["75.",{"$f":"B185","v":"KOVÁŘOVÁ"},"Viktorie","9.A","00:00:57.140"," ",{"$f":"G185","v":"Jilemnice 12.05.23"},720.71490867847388," ",{"$f":"J185","v":"00:00:59.520"},"00:00:00","00:01:04.860"]
["76.",{"$f":"B186","v":"KYNČLOVÁ"},"Anna","9.A","00:00:53.100"," ",{"$f":"G186","v":"Jilemnice 12.05.23"},791.90639702237263," ",{"$f":"J186","v":"00:00:48.500"},"00:00:00","00:00:59.780"]
["77.",{"$f":"B187","v":"MATOUŠOVÁ"},"Tereza","9.A","00:00:00"," ",{"$f":"G187","v":0},0," ",{"$f":"J187","v":"00:01:07.350"},"00:00:00","00:01:10.610"]
["78.",{"$f":"B188","v":"MAZÁNKOVÁ"},"Zuzana","9.A","00:01:03.760"," ",{"$f":"G188","v":"Jilemnice 12.05.23"},623.56309570087842," ",{"$f":"J188","v":"00:01:03.030"},"00:00:00","00:01:04.850"]
["79.",{"$f":"B189","v":"MORKESOVÁ"},"Sabrina","9.A","00:01:00.860"," ",{"$f":"G189","v":"Jilemnice 15.06.23"},663.52067830903718," ",{"$f":"J189","v":"00:00:57.420"},"00:00:00","00:01:00.680"]
["80.",{"$f":"B190","v":"POHOŘALÁ"},"Alžběta","9.A","00:00:54.540"," ",{"$f":"G190","v":"Jilemnice 12.05.23"},765.32154165544557," ",{"$f":"J190","v":"00:00:56.850"},"00:00:00","00:01:05.990"]
["81.",{"$f":"B191","v":"SCHOLZOVÁ"},"Laura","9.A","00:00:00"," ",{"$f":"G191","v":0},0," ",{"$f":"J191","v":"00:00:00"},"00:00:00","00:01:14.770"]
["82.",{"$f":"B192","v":"VÁCLAVÍKOVÁ"},"Valerie","9.A","00:00:56.300"," ",{"$f":"G192","v":"Jilemnice 15.06.23"},734.67576699623464," ",{"$f":"J192","v":"00:00:54.530"},"00:00:00","00:01:03.520"]
["83.",{"$f":"B193","v":"ZAPADLOVÁ"},"Emma","9.A","00:00:52.730"," ",{"$f":"G193","v":"Jilemnice 15.06.23"},798.97170172364872," ",{"$f":"J193","v":"00:00:56.120"},"00:00:00","00:01:04.690"]
["84.",{"$f":"B194","v":"ŽIŠKOVÁ"},"Mia","9.A","00:00:00"," ",{"$f":"G194","v":0},0," ",{"$f":"J194","v":"00:00:00"},"00:00:00","00:01:06.460"]
["85.",{"$f":"B195","v":"FARSKÁ"},"Tereza","9.B","00:00:00"," ",{"$f":"G195","v":0},0," ",{"$f":"J195","v":"00:00:00"},"00:00:00","00:01:14.230"]
["86.",{"$f":"B196","v":"FEIXOVÁ"},"Rozálie","9.B","00:00:00"," ",{"$f":"G196","v":0},0," ",{"$f":"J196","v":"00:00:00"},"00:00:00","00:01:28.320"]
["87.",{"$f":"B197","v":"FIŠEROVÁ"},"Michaela","9.B","00:00:00"," ",{"$f":"G197","v":0},0," ",{"$f":"J197","v":"00:01:24.900"},"00:00:00","00:01:19.320"]
["88.",{"$f":"B198","v":"HAVLÍČKOVÁ"},"Kristýna","9.B","00:00:00"," ",{"$f":"G198","v":0},0," ",{"$f":"J198","v":"00:01:16.300"},"00:00:00","00:00:00"]
["89.",{"$f":"B199","v":"KADAVÁ"},"Nikola","9.B","00:00:00"," ",{"$f":"G199","v":0},0," ",{"$f":"J199","v":"00:01:19"},"00:00:00","00:01:29.980"]
["90.",{"$f":"B200","v":"KŘIVINKOVÁ"},"Alžběta","9.B","00:00:00"," ",{"$f":"G200","v":0},0," ",{"$f":"J200","v":"00:00:00"},"00:00:00","00:01:12.620"]
["91.",{"$f":"B201","v":"LEŠÁKOVÁ"},"Lenka","9.B","00:00:00"," ",{"$f":"G201","v":0},0," ",{"$f":"J201","v":"00:01:15.300"},"00:00:00","00:01:32.350"]
["92.",{"$f":"B202","v":"NYKLÍČKOVÁ"},"Adéla","9.B","00:00:00"," ",{"$f":"G202","v":0},0," ",{"$f":"J202","v":"00:00:56.010"},"00:00:00","00:01:09.160"]
["93.",{"$f":"B203","v":"PLŮCHOVÁ"},"Petra","9.B","00:00:00"," ",{"$f":"G203","v":0},0," ",{"$f":"J203","v":"00:01:05.200"},"00:00:00","00:01:10.250"]
["94.",{"$f":"B204","v":"PODZIMKOVÁ"},"Eliška","9.B","00:00:00"," ",{"$f":"G204","v":0},0," ",{"$f":"J204","v":"00:01:24.900"},"00:00:00","00:01:21.100"]
["95.",{"$f":"B205","v":"RUTKAYOVÁ"},"Klára","9.B","00:00:00"," ",{"$f":"G205","v":0},0," ",{"$f":"J205","v":"00:00:00"},"00:00:00","00:01:19.660"]
["96.",{"$f":"B206","v":"SEIDLOVÁ"},"Zuzana","9.B","00:00:00"," ",{"$f":"G206","v":0},0," ",{"$f":"J206","v":"00:01:04"},"00:00:00","00:01:25.020"]
["97.",{"$f":"B207","v":"TOMÁŠOVÁ"},"Sára","9.B","00:00:00"," ",{"$f":"G207","v":0},0," ",{"$f":"J207","v":"00:01:23.900"},"00:00:00","00:00:00"]
["98.",{"$f":"B208","v":"VANCLOVÁ"},"Barbora","9.B","00:00:00"," ",{"$f":"G208","v":0},0," ",{"$f":"J208","v":"00:01:03.900"},"00:00:00","00:01:16.110"]
["99.",{"$f":"B209","v":"VOTOČKOVÁ"},"Veronika","9.B","00:00:00"," ",{"$f":"G209","v":0},0," ",{"$f":"J209","v":"00:00:00"},"00:00:00","00:01:36.510"]
[]
[]
[]
[]
[]
[]
[]
[]
[]
[null,"FARSKÁ","Anna","6.A","00:01:03.860",null,"Jilemnice  31.10.22",{"$f":"IF(E111=0,0,IF(E111>0,(1000000000 - 313216 / E111 + 34538300 / E111*2 - 1698600000 / E111*3 + 32198000000 / E111*4)/200000000000-215))","v":622.24997622749765}]
[null,"FARSKÁ","Eliška","6.A","00:01:12.610",null,"Jilemnice  31.10.22",521.35624888979487]
[null,"FEDORKOVÁ","Denisa","6.A","00:01:28.130",null,"Jilemnice  31.10.22",391.68222888787022]
[null,"HAUZEROVÁ","Tereza","6.A","00:01:10.100",null,"Jilemnice  31.10.22",547.72203540496423]
[null,"JOSKOVÁ","Ellen","6.A","00:00:58.960",null,"Jilemnice  31.10.22",691.83105464531877]
[null,"KUŽELOVÁ","Amálie","6.A","00:01:28.710",null,"Jilemnice  31.10.22",387.71567728427465]
[null,"RYŠAVÁ","Amálie","6.A","00:01:24.740",null,"Jilemnice  31.10.22",415.95218175463776]
[null,"BANGOVÁ","Zuzana","6.B","00:01:35.290",null,"Jilemnice  31.10.22",346.09707872691786]
[null,"HOLUBOVÁ","Denisa","6.B","00:01:27.250",null,"Jilemnice  31.10.22",397.80115108181076]
[null,"HURKALO","Karolina","6.B","00:01:52.710",null,"Jilemnice  31.10.22",259.3769650597817]
[null,"HUTNIK-MAMONOVA","Nana","6.B",null,null,null,0]
[null,"MARINOVA","Darja","6.B","00:01:15.200",null,"Jilemnice  31.10.22",495.99521518468077]
[null,"NYKLÍČKOVÁ","Klára","6.B","00:01:05.530",null,"Jilemnice  31.10.22",600.91319749562012]
[null,"PANCHAYEVA","Sofiia","6.B","00:01:29.370",null,"Jilemnice  31.10.22",383.26464173534737]
[null,"PIČMANOVÁ","Klára","6.B","00:01:30.150",null,"Jilemnice  31.10.22",378.08835198988345]
[null,"ŠIMŮNKOVÁ","Anežka","6.B","00:01:21.140",null,"Jilemnice  31.10.22",443.94589452659591]
[null,"TRPIŠOVSKÁ","Nela","6.B","00:01:18.060",null,"Jilemnice  31.10.22",469.94561211744815]
[null,"HEJRALOVÁ","Natálie","7.A","00:00:58.590",null,"Jilemnice 31.05.23",697.55772541198155,null,"00:00:55.050"]
[null,"KERLE","Nikita","7.A","00:00:57.130",null,"Jilemnice 31.05.23",720.87869476436185,null,"00:00:54.390"]
[null,"MUNZAROVÁ","Aneta","7.A",null,null,null,0]
[null,"PACLÍKOVÁ","Markéta","7.A","00:00:57.560",null,"Jilemnice 31.05.23",713.88728252063936,null,"00:01:00.360"]
[null,"PLŮCHOVÁ","Michaela","7.A","00:00:56.360",null,"Jilemnice 31.05.23",733.66476192136281,null,"00:01:00.380"]
[null,"ŠERCLOVÁ","Nikola","7.A","00:01:10.520",null,"Jilemnice 31.05.23",543.17947790538858,null,"00:01:19.980"]
[null,"VÁCLAVÍKOVÁ","Alena","7.A","00:00:58.600",null,"Jilemnice 31.05.23",697.40199969092157,null,"00:01:04.060"]
[null,"DUCHÁČKOVÁ","Tereza","7.B","00:01:29.270",null,"Jilemnice 24.10.22",383.93481048379067,null,"00:01:12.790"]
[null,"FLAŠKOVÁ","Anna Sabriel","7.B",null,null,null,0,null,"00:01:10.930"]
[null,"HAASOVÁ","Julie","7.B",null,null,null,0,null,"00:01:00.470"]
[null,"HEGROVÁ","Štěpánka","7.B","00:01:08.050",null,"Jilemnice 31.05.23",570.69881604537841]
[null,"HOBLOVÁ","Barbora","7.B","00:00:58.600",null,"Jilemnice 31.05.23",697.40199969092157,null,"00:01:02.520"]
[null,"HORÁČKOVÁ","Valérie","7.B","00:00:55.140",null,"Jilemnice 31.05.23",754.65433227943402,null,"00:00:58.030"]
[null,"JIRANOVÁ","Anežka","7.B","00:01:24.340",null,"Jilemnice 31.05.23",418.94458005558454]
[null,"KRČÍKOVÁ","Beatrix","7.B","00:01:00.280",null,"Jilemnice 31.05.23",671.97354979907107,null,"00:01:04.060"]
[null,"KUBÁTOVÁ","Veronika","7.B","00:01:26.010",null,"Jilemnice 24.10.22",{"$f":"IF(E143=0,0,IF(E143>0,(1000000000 - 313216 / E143 + 34538300 / E143*2 - 1698600000 / E143*3 + 32198000000 / E143*4)/200000000000-215))","v":406.63578923250793},null,"00:01:16.940"]
[null,"LENČEŠOVÁ","Silvie","7.B","00:01:03.750",null,"Jilemnice 31.05.23",623.69463422569402,null,"00:01:07.700"]
[null,"LUKEŠOVÁ","Lucie","7.B","00:01:05.770",null,"Jilemnice 31.05.23",597.93588310609687]
[null,"MATERNOVÁ","Lenka","7.B","00:00:56.120",null,"Jilemnice 31.05.23",737.72175306286545,null,"00:00:53.800"]
[null,"TÓTHOVÁ","Viktorie","7.B","00:01:02.820",null,"Jilemnice 31.05.23",636.1107653914039,null,"00:01:07.190"]
[null,"DUONG","Ngoc Linh","8.A",null,null,null,0,null,"00:01:20.200"]
[null,"GINGALOVÁ","Linda","8.A","00:00:57.180",null,"Jilemnice 05.06.23",720.06033721385108]
[null,"HOFMANOVÁ ","Nicol","8.A",null,null,null,0,null,null,"00:01:15.700"]
[null,"HOLEŠOVSKÁ","Aneta","8.A","00:01:11",null,"Jilemnice  17.10.22",538.05379129419737]
[null,"HOLUBCOVÁ","Alena","8.A","00:00:53.090",null,"Jilemnice 05.06.23",792.09605635501987,null,"00:01:06.230","00:00:59.270"]
[null,"KOHOUTOVÁ","Anna","8.A","00:01:13",null,"Jilemnice  17.10.22",517.42231756010949,null,"00:01:15.470","00:01:24.100"]
[null,"KRAUSOVÁ","Anežka","8.A","00:01:07",null,"Jilemnice  17.10.22",583.01192808788062,null,"00:01:10.810","00:01:04.100"]
[null,"KUŽELOVÁ","Apoléna","8.A",null,null,null,0]
[null,"MORÁVKOVÁ","Lucie","8.A","00:01:14",null,"Jilemnice  17.10.22",507.52478624172966]
[null,"SKLENÁROVÁ","Eliška","8.A",null,null,null,0,null,null,"00:01:17.530"]
[null,"ŠEJNOVÁ","Karolína","8.A","00:01:08",null,"Jilemnice  17.10.22",571.2765320865883,null,"00:01:08.750"]
[null,"ŠTOLFOVÁ","Tereza","8.A","00:01:05",null,"Jilemnice  17.10.22",607.56598741366156,null,"00:01:05.420","00:01:04.880"]
[null,"ŠUBÍKOVÁ","Klára","8.A","00:00:59.280",null,"Jilemnice 05.06.23",686.93590725182173,null,"00:01:03.080","00:01:06.100"]
[null,"ŠULKOVSKÁ","Klára","8.A",null,null,null,0,null,"00:01:16.660"]
[null,"TULÁČKOVÁ","Natálie","8.A","00:01:04",null,"Jilemnice  17.10.22",620.41850284199995]
[null,"VOJTÍŠKOVÁ","Ella","8.A","00:00:54.420",null,"Jilemnice 05.06.23",767.48320988401326]
[null,"DRUGÁČOVÁ","Kristinka","8.B",null,null,null,0,null,null,"00:01:03.360"]
[null,"FAJSTAVROVÁ","Karolína","8.B","00:00:53.410",null,"Jilemnice  17.10.22",786.06218370881879]
[null,"FAJSTAVROVÁ","Magdaléna","8.B","00:00:49.910",null,"Jilemnice 05.06.23",856.26254722276099]
[null,"JINDROVÁ","Barbora","8.B",null,null,null,0]
[null,"MAŘASOVÁ","Vendula","8.B","00:01:01.300",null,"Jilemnice  17.10.22",657.21485614825451]
[null,"PETŘÍČKOVÁ","Natálie","8.B","00:00:57.850",null,"Jilemnice 05.06.23",709.23082855467578,null,"00:00:55.240"]
[null,"PETŘÍKOVÁ","Adéla","8.B","00:01:00",null,"Jilemnice  17.10.22",676.11273636479996,null,"00:01:01.950","00:01:10.660"]
[null,"REGÁLOVÁ","Karolína","8.B","00:01:13",null,"Jilemnice  17.10.22",517.42231756010949]
[null,"RIEGROVÁ","Magdaléna","8.B",null,null,null,0,null,null,"00:01:13.300"]
[null,"RYBENSKÁ","Sabina","8.B","00:01:04",null,"Jilemnice  17.10.22",620.41850284199995]
[null,"STEINEROVÁ","Barbora","8.B","00:00:55.450",null,"Jilemnice 05.06.23",749.23338921348966,null,"00:01:07.540"]
[null,"ŠERCLOVÁ","Andrea","8.B","00:01:16",null,"Jilemnice  17.10.22",{"$f":"IF(E175=0,0,IF(E175>0,(1000000000 - 313216 / E175 + 34538300 / E175*2 - 1698600000 / E175*3 + 32198000000 / E175*4)/200000000000-215))","v":488.51110765642102}]
[null,"TOMEŠOVÁ","Barbora","8.B","00:00:56.910",null,"Jilemnice 05.06.23",724.49655125440188]
[null,"VOHNOUTOVÁ","Aneta","8.B","00:00:55.240",null,"Jilemnice 05.06.23",752.89899315510479]
[null,"HAVLÍKOVÁ","Michaela","9.A","00:01:05.960",null,"Jilemnice 12.05.23",595.59420833668889,null,"00:01:09.740",null,"00:01:18.970"]
[null,"HOLUBCOVÁ","Sára","9.A",null,null,null,0,null,"00:00:57.550",null,"00:00:58.890"]
[null,"HONCŮ","Tereza","9.A",null,null,null,0,null,"00:01:04.060",null,"00:01:07.580"]
[null,"HORÁČKOVÁ","Kateřina","9.A","00:01:00.550",null,"Jilemnice 15.06.23",668.01844643910817,null,"00:00:56.460",null,"00:01:02.240"]
[null,"JOUDALOVÁ","Daniela","9.A",null,null,null,0,null,null,null,"00:01:29.440"]
[null,"KLÍMOVÁ","Anna","9.A",null,null,null,0,null,"00:01:02.190",null,"00:01:03.720"]
[null,"KOHOUTOVÁ","Veronika","9.A","00:00:59.860",null,"Jilemnice 12.05.23",678.19685068306046,null,"00:00:57.510",null,"00:00:59.130"]
[null,"KOVÁŘOVÁ","Viktorie","9.A","00:00:57.140",null,"Jilemnice 12.05.23",720.71490867847388,null,"00:00:59.520",null,"00:01:04.860"]
[null,"KYNČLOVÁ","Anna","9.A","00:00:53.100",null,"Jilemnice 12.05.23",791.90639702237263,null,"00:00:48.500",null,"00:00:59.780"]
[null,"MATOUŠOVÁ","Tereza","9.A",null,null,null,0,null,"00:01:07.350",null,"00:01:10.610"]
[null,"MAZÁNKOVÁ","Zuzana","9.A","00:01:03.760",null,"Jilemnice 12.05.23",623.56309570087842,null,"00:01:03.030",null,"00:01:04.850"]
[null,"MORKESOVÁ","Sabrina","9.A","00:01:00.860",null,"Jilemnice 15.06.23",663.52067830903718,null,"00:00:57.420",null,"00:01:00.680"]
[null,"POHOŘALÁ","Alžběta","9.A","00:00:54.540",null,"Jilemnice 12.05.23",765.32154165544557,null,"00:00:56.850",null,"00:01:05.990"]
[null,"SCHOLZOVÁ","Laura","9.A",null,null,null,0,null,null,null,"00:01:14.770"]
[null,"VÁCLAVÍKOVÁ","Valerie","9.A","00:00:56.300",null,"Jilemnice 15.06.23",734.67576699623464,null,"00:00:54.530",null,"00:01:03.520"]
[null,"ZAPADLOVÁ","Emma","9.A","00:00:52.730",null,"Jilemnice 15.06.23",798.97170172364872,null,"00:00:56.120",null,"00:01:04.690"]
[null,"ŽIŠKOVÁ","Mia","9.A",null,null,null,0,null,null,null,"00:01:06.460"]
[null,"FARSKÁ","Tereza","9.B",null,null,null,0,null,null,null,"00:01:14.230"]
[null,"FEIXOVÁ","Rozálie","9.B",null,null,null,0,null,null,null,"00:01:28.320"]
[null,"FIŠEROVÁ","Michaela","9.B",null,null,null,0,null,"00:01:24.900",null,"00:01:19.320"]
[null,"HAVLÍČKOVÁ","Kristýna","9.B",null,null,null,0,null,"00:01:16.300"]
[null,"KADAVÁ","Nikola","9.B",null,null,null,0,null,"00:01:19",null,"00:01:29.980"]
[null,"KŘIVINKOVÁ","Alžběta","9.B",null,null,null,0,null,null,null,"00:01:12.620"]
[null,"LEŠÁKOVÁ","Lenka","9.B",null,null,null,0,null,"00:01:15.300",null,"00:01:32.350"]
[null,"NYKLÍČKOVÁ","Adéla","9.B",null,null,null,0,null,"00:00:56.010",null,"00:01:09.160"]
[null,"PLŮCHOVÁ","Petra","9.B",null,null,null,0,null,"00:01:05.200",null,"00:01:10.250"]
[null,"PODZIMKOVÁ","Eliška","9.B",null,null,null,0,null,"00:01:24.900",null,"00:01:21.100"]
[null,"RUTKAYOVÁ","Klára","9.B",null,null,null,0,null,null,null,"00:01:19.660"]
[null,"SEIDLOVÁ","Zuzana","9.B",null,null,null,0,null,"00:01:04",null,"00:01:25.020"]
[null,"TOMÁŠOVÁ","Sára","9.B",null,null,null,0,null,"00:01:23.900"]
[null,"VANCLOVÁ","Barbora","9.B",null,null,null,0,null,"00:01:03.900",null,"00:01:16.110"]
[null,"VOTOČKOVÁ","Veronika","9.B",null,null,null,0,null,null,null,"00:01:36.510"]

{"sheet":"D800","index":8,"n_rows":209,"n_cols":12,"rows_kept":209,"cut":false,"hidden":false,"merged":[[0,1,0,5]]}
[null,"VÝKONY  2022 - 2023",null,null,null,null,"800 M",null,null,null,"stav  k ",{"$f":"TODAY()","v":"2023-06-26"}]
[null,null,null,null,null,null,null,"   BODY",null,"   21 - 22   ","   20 - 21   ","   19 - 20   "]
["1.",{"$f":"B111","v":"FARSKÁ"},{"$f":"C111","v":"Anna"},"6.A","00:04:38.880"," ","Jilemnice 05.06.23",477.95266771987951,"  ","00:00:00","00:00:00","00:00:00"]
["2.",{"$f":"B112","v":"FARSKÁ"},"Eliška","6.A","00:03:49.690"," ",{"$f":"G112","v":"Jilemnice 05.06.23"},608.15072472211466,"  ",{"$f":"J112","v":"00:00:00"},"00:00:00","00:00:00"]
["3.",{"$f":"B113","v":"FEDORKOVÁ"},"Denisa","6.A","00:00:00"," ",{"$f":"G113","v":0},0,"  ",{"$f":"J113","v":"00:00:00"},"00:00:00","00:00:00"]
["4.",{"$f":"B114","v":"HAUZEROVÁ"},"Tereza","6.A","00:04:22.670"," ",{"$f":"G114","v":"Jilemnice 05.06.23"},515.47089492392536,"  ",{"$f":"J114","v":"00:00:00"},"00:00:00","00:00:00"]
["5.",{"$f":"B115","v":"JOSKOVÁ"},"Ellen","6.A","00:03:49.910"," ",{"$f":"G115","v":"Jilemnice 05.06.23"},607.44439111599104,"  ",{"$f":"J115","v":"00:00:00"},"00:00:00","00:00:00"]
["6.",{"$f":"B116","v":"KUŽELOVÁ"},"Amálie","6.A","00:00:00"," ",{"$f":"G116","v":0},0,"  ",{"$f":"J116","v":"00:00:00"},"00:00:00","00:00:00"]
["7.",{"$f":"B117","v":"RYŠAVÁ"},"Amálie","6.A","00:04:06.940"," ",{"$f":"G117","v":"Jilemnice 05.06.23"},556.58718703221439,"  ",{"$f":"J117","v":"00:00:00"},"00:00:00","00:00:00"]
["8.",{"$f":"B118","v":"BANGOVÁ"},"Zuzana","6.B","00:04:58.340"," ",{"$f":"G118","v":"Jilemnice 05.06.23"},438.29737875774276,"  ",{"$f":"J118","v":"00:00:00"},"00:00:00","00:00:00"]
["9.",{"$f":"B119","v":"HOLUBOVÁ"},"Denisa","6.B","00:04:52.470"," ",{"$f":"G119","v":"Jilemnice 05.06.23"},449.70335411193457,"  ",{"$f":"J119","v":"00:00:00"},"00:00:00","00:00:00"]
["10.",{"$f":"B120","v":"HURKALO"},"Karolina","6.B","00:00:00"," ",{"$f":"G120","v":0},0,"  ",{"$f":"J120","v":"00:00:00"},"00:00:00","00:00:00"]
["11.",{"$f":"B121","v":"HUTNIK-MAMONOVA"},"Nana","6.B","00:00:00"," ",{"$f":"G121","v":0},0,"  ",{"$f":"J121","v":"00:00:00"},"00:00:00","00:00:00"]
["12.",{"$f":"B122","v":"MARINOVA"},"Darja","6.B","00:00:00"," ",{"$f":"G122","v":0},0,"  ",{"$f":"J122","v":"00:00:00"},"00:00:00","00:00:00"]
["13.",{"$f":"B123","v":"NYKLÍČKOVÁ"},"Klára","6.B","00:03:41.880"," ",{"$f":"G123","v":"Jilemnice 05.06.23"},634.13304470646301,"  ",{"$f":"J123","v":"00:00:00"},"00:00:00","00:00:00"]
["14.",{"$f":"B124","v":"PANCHAYEVA"},"Sofiia","6.B","00:04:37.850"," ",{"$f":"G124","v":"Jilemnice 05.06.23"},480.20637024820041,"  ",{"$f":"J124","v":"00:00:00"},"00:00:00","00:00:00"]
["15.",{"$f":"B125","v":"PIČMANOVÁ"},"Klára","6.B","00:00:00"," ",{"$f":"G125","v":0},0,"  ",{"$f":"J125","v":"00:00:00"},"00:00:00","00:00:00"]
["16.",{"$f":"B126","v":"ŠIMŮNKOVÁ"},"Anežka","6.B","00:04:54.320"," ",{"$f":"G126","v":"Jilemnice 05.06.23"},446.05952696921713,"  ",{"$f":"J126","v":"00:00:00"},"00:00:00","00:00:00"]
["17.",{"$f":"B127","v":"TRPIŠOVSKÁ"},"Nela","6.B","00:04:46.700"," ",{"$f":"G127","v":"Jilemnice 05.06.23"},461.37021268111266,"  ",{"$f":"J127","v":"00:00:00"},"00:00:00","00:00:00"]
["18.",{"$f":"B128","v":"HEJRALOVÁ"},"Natálie","7.A","00:03:27.980"," ",{"$f":"G128","v":"Jilemnice 07.06.23"},685.20261542453602,"  ",{"$f":"J128","v":"00:03:31.050"},"00:00:00","00:00:00"]
["19.",{"$f":"B129","v":"KERLE"},"Nikita","7.A","00:03:15.740"," ",{"$f":"G129","v":"Jilemnice 07.06.23"},736.17880838323788,"  ",{"$f":"J129","v":"00:03:11.490"},"00:00:00","00:00:00"]
["20.",{"$f":"B130","v":"MUNZAROVÁ"},"Aneta","7.A","00:00:00"," ",{"$f":"G130","v":0},0,"  ",{"$f":"J130","v":"00:00:00"},"00:00:00","00:00:00"]
["21.",{"$f":"B131","v":"PACLÍKOVÁ"},"Markéta","7.A","00:03:21.230"," ",{"$f":"G131","v":"Jilemnice 07.06.23"},712.5475324469885,"  ",{"$f":"J131","v":"00:03:40.990"},"00:00:00","00:00:00"]
["22.",{"$f":"B132","v":"PLŮCHOVÁ"},"Michaela","7.A","00:03:21.120"," ",{"$f":"G132","v":"Jilemnice 07.06.23"},713.00835299463017,"  ",{"$f":"J132","v":"00:00:00"},"00:00:00","00:00:00"]
["23.",{"$f":"B133","v":"ŠERCLOVÁ"},"Nikola","7.A","00:03:51.390"," ",{"$f":"G133","v":"Jilemnice 07.06.23"},602.72760258372227,"  ",{"$f":"J133","v":"00:04:19.510"},"00:00:00","00:00:00"]
["24.",{"$f":"B134","v":"VÁCLAVÍKOVÁ"},"Alena","7.A","00:03:38.760"," ",{"$f":"G134","v":"Jilemnice 07.06.23"},645.03126695323635,"  ",{"$f":"J134","v":"00:03:41"},"00:00:00","00:00:00"]
["25.",{"$f":"B135","v":"DUCHÁČKOVÁ"},"Tereza","7.B","00:05:42.900"," ",{"$f":"G135","v":"Jilemnice 07.06.23"},364.44689410826766,"  ",{"$f":"J135","v":"00:00:00"},"00:00:00","00:00:00"]
["26.",{"$f":"B136","v":"FLAŠKOVÁ"},"Anna Sabriel","7.B","00:00:00"," ",{"$f":"G136","v":0},0,"  ",{"$f":"J136","v":"00:00:00"},"00:00:00","00:00:00"]
["27.",{"$f":"B137","v":"HAASOVÁ"},"Julie","7.B","00:00:00"," ",{"$f":"G137","v":0},0,"  ",{"$f":"J137","v":"00:03:42.600"},"00:00:00","00:00:00"]
["28.",{"$f":"B138","v":"HEGROVÁ"},"Štěpánka","7.B","00:04:55.600"," ",{"$f":"G138","v":"Jilemnice 07.06.23"},443.56508788193503,"  ",{"$f":"J138","v":"00:00:00"},"00:00:00","00:00:00"]
["29.",{"$f":"B139","v":"HOBLOVÁ"},"Barbora","7.B","00:00:00"," ",{"$f":"G139","v":0},0,"  ",{"$f":"J139","v":"00:03:50.020"},"00:00:00","00:00:00"]
["30.",{"$f":"B140","v":"HORÁČKOVÁ"},"Valérie","7.B","00:03:18.780"," ",{"$f":"G140","v":"Jilemnice 07.06.23"},722.9320854899637,"  ",{"$f":"J140","v":"00:03:52.200"},"00:00:00","00:00:00"]
["31.",{"$f":"B141","v":"JIRANOVÁ"},"Anežka","7.B","00:05:13.820"," ",{"$f":"G141","v":"Jilemnice 07.06.23"},410.26461023024342,"  ",{"$f":"J141","v":"00:05:28.300"},"00:00:00","00:00:00"]
["32.",{"$f":"B142","v":"KRČÍKOVÁ"},"Beatrix","7.B","00:03:33.690"," ",{"$f":"G142","v":"Jilemnice 14.06.23"},663.41962636259291,"  ",{"$f":"J142","v":"00:04:05.040"},"00:00:00","00:00:00"]
["33.",{"$f":"B143","v":"KUBÁTOVÁ"},"Veronika","7.B","00:05:30.500"," ",{"$f":"G143","v":"Jilemnice 07.06.23"},382.99800298524974,"  ",{"$f":"J143","v":"00:00:00"},"00:00:00","00:00:00"]
["34.",{"$f":"B144","v":"LENČEŠOVÁ"},"Silvie","7.B","00:03:43.820"," ",{"$f":"G144","v":"Jilemnice 07.06.23"},627.50978446946226,"  ",{"$f":"J144","v":"00:03:54.470"},"00:00:00","00:00:00"]
["35.",{"$f":"B145","v":"LUKEŠOVÁ"},"Lucie","7.B","00:04:23.530"," ",{"$f":"G145","v":"Jilemnice 07.06.23"},513.36447451858442,"  ",{"$f":"J145","v":"00:00:00"},"00:00:00","00:00:00"]
["36.",{"$f":"B146","v":"MATERNOVÁ"},"Lenka","7.B","00:03:23.560"," ",{"$f":"G146","v":"Jilemnice 07.06.23"},702.9035171688447,"  ",{"$f":"J146","v":"00:03:35.860"},"00:00:00","00:00:00"]
["37.",{"$f":"B147","v":"TÓTHOVÁ"},"Viktorie","7.B","00:03:39.930"," ",{"$f":"G147","v":"Jilemnice 07.06.23"},640.90819787651765,"  ",{"$f":"J147","v":"00:04:27.230"},"00:00:00","00:00:00"]
["38.",{"$f":"B148","v":"DUONG"},"Ngoc Linh","8.A","00:00:00"," ",{"$f":"G148","v":0},0,"  ",{"$f":"J148","v":"00:05:08.840"},"00:00:00","00:00:00"]
["39.",{"$f":"B149","v":"GINGALOVÁ"},"Linda","8.A","00:03:55.290"," ",{"$f":"G149","v":"Jilemnice 24.10.22"},590.58243003452105,"  ",{"$f":"J149","v":"00:05:08.800"},"00:00:00","00:00:00"]
["40.",{"$f":"B150","v":"HOFMANOVÁ "},"Nicol","8.A","00:00:00"," ",{"$f":"G150","v":0},0,"  ",{"$f":"J150","v":"00:00:00"},"00:00:00","00:00:00"]
["41.",{"$f":"B151","v":"HOLEŠOVSKÁ"},"Aneta","8.A","00:00:00"," ",{"$f":"G151","v":0},0,"  ",{"$f":"J151","v":"00:04:49.500"},"00:06:54","00:00:00"]
["42.",{"$f":"B152","v":"HOLUBCOVÁ"},"Alena","8.A","00:03:35.570"," ",{"$f":"G152","v":"Jilemnice 26.10.22"},656.50016216492304,"  ",{"$f":"J152","v":"00:04:04.630"},"00:00:00","00:00:00"]
["43.",{"$f":"B153","v":"KOHOUTOVÁ"},"Anna","8.A","00:03:52.590"," ",{"$f":"G153","v":"Jilemnice 26.10.22"},598.94724606452337,"  ",{"$f":"J153","v":"00:04:17.170"},"00:00:00","00:00:00"]
["44.",{"$f":"B154","v":"KRAUSOVÁ"},"Anežka","8.A","00:04:14.010"," ",{"$f":"G154","v":"Jilemnice 26.10.22"},537.47702833550841,"  ",{"$f":"J154","v":"00:00:00"},"00:00:00","00:00:00"]
["45.",{"$f":"B155","v":"KUŽELOVÁ"},"Apoléna","8.A","00:05:20.580"," ",{"$f":"G155","v":"Jilemnice 24.10.22"},398.87216914387989,"  ",{"$f":"J155","v":"00:04:34.300"},"00:04:22","00:00:00"]
["46.",{"$f":"B156","v":"MORÁVKOVÁ"},"Lucie","8.A","00:05:23.120"," ",{"$f":"G156","v":"Jilemnice 24.10.22"},394.71478083925479,"  ",{"$f":"J156","v":"00:04:49.900"},"00:04:54","00:00:00"]
["47.",{"$f":"B157","v":"SKLENÁROVÁ"},"Eliška","8.A","00:00:00"," ",{"$f":"G157","v":0},0,"  ",{"$f":"J157","v":"00:00:00"},"00:00:00","00:00:00"]
["48.",{"$f":"B158","v":"ŠEJNOVÁ"},"Karolína","8.A","00:04:18.450"," ",{"$f":"G158","v":"Jilemnice 26.10.22"},526.01021462028439,"  ",{"$f":"J158","v":"00:05:05.610"},"00:00:00","00:00:00"]
["49.",{"$f":"B159","v":"ŠTOLFOVÁ"},"Tereza","8.A","00:04:09.420"," ",{"$f":"G159","v":"Jilemnice 26.10.22"},549.76040400270631,"  ",{"$f":"J159","v":"00:00:00"},"00:00:00","00:00:00"]
["50.",{"$f":"B160","v":"ŠUBÍKOVÁ"},"Klára","8.A","00:03:49.090"," ",{"$f":"G160","v":"Jilemnice 26.10.22"},610.08398429120666,"  ",{"$f":"J160","v":"00:04:05.760"},"00:00:00","00:00:00"]
["51.",{"$f":"B161","v":"ŠULKOVSKÁ"},"Klára","8.A","00:00:00"," ",{"$f":"G161","v":0},0,"  ",{"$f":"J161","v":"00:00:00"},"00:00:00","00:00:00"]
["52.",{"$f":"B162","v":"TULÁČKOVÁ"},"Natálie","8.A","00:04:09.440"," ",{"$f":"G162","v":"Jilemnice 24.10.22"},549.70590108386784,"  ",{"$f":"J162","v":"00:04:18.400"},"00:04:48","00:00:00"]
["53.",{"$f":"B163","v":"VOJTÍŠKOVÁ"},"Ella","8.A","00:03:13.570"," ",{"$f":"G163","v":"Turnov 16.05.23"},745.88903214543836,"  ",{"$f":"J163","v":"00:04:44.200"},"00:00:00","00:00:00"]
["54.",{"$f":"B164","v":"DRUGÁČOVÁ"},"Kristinka","8.B","00:00:00"," ",{"$f":"G164","v":0},0,"  ",{"$f":"J164","v":"00:00:00"},"00:00:00","00:00:00"]
["55.",{"$f":"B165","v":"FAJSTAVROVÁ"},"Karolína","8.B","00:02:52.300"," ",{"$f":"G165","v":"Turnov 13.09.22"},854.01532180542665,"  ",{"$f":"J165","v":"00:03:22.300"},"00:03:11","00:00:00"]
["56.",{"$f":"B166","v":"FAJSTAVROVÁ"},"Magdaléna","8.B","00:02:42.390"," ",{"$f":"G166","v":"Turnov 16.05.23"},914.06576725535751,"  ",{"$f":"J166","v":"00:03:07.700"},"00:03:02","00:00:00"]
["57.",{"$f":"B167","v":"JINDROVÁ"},"Barbora","8.B","00:03:50.710"," ",{"$f":"G167","v":"Jilemnice 24.10.22"},604.88726089756619,"  ",{"$f":"J167","v":"00:04:03.100"},"00:04:04","00:00:00"]
["58.",{"$f":"B168","v":"MAŘASOVÁ"},"Vendula","8.B","00:04:18.350"," ",{"$f":"G168","v":"Jilemnice 24.10.22"},526.26413767597239,"  ",{"$f":"J168","v":"00:03:51.100"},"00:04:11","00:00:00"]
["59.",{"$f":"B169","v":"PETŘÍČKOVÁ"},"Natálie","8.B","00:03:48.670"," ",{"$f":"G169","v":"Jilemnice 24.10.22"},611.44330240594513,"  ",{"$f":"J169","v":"00:03:45.600"},"00:00:00","00:00:00"]
["60.",{"$f":"B170","v":"PETŘÍKOVÁ"},"Adéla","8.B","00:03:44.270"," ",{"$f":"G170","v":"Jilemnice 26.10.22"},625.98983350455899,"  ",{"$f":"J170","v":"00:00:00"},"00:00:00","00:00:00"]
["61.",{"$f":"B171","v":"REGÁLOVÁ"},"Karolína","8.B","00:04:28.350"," ",{"$f":"G171","v":"Jilemnice 24.10.22"},501.80860805324198,"  ",{"$f":"J171","v":"00:04:46.600"},"00:04:17","00:00:00"]
["62.",{"$f":"B172","v":"RIEGROVÁ"},"Magdaléna","8.B","00:04:10.160"," ",{"$f":"G172","v":"Jilemnice 26.10.22"},547.7496001220818,"  ",{"$f":"J172","v":"00:00:00"},"00:00:00","00:00:00"]
["63.",{"$f":"B173","v":"RYBENSKÁ"},"Sabina","8.B","00:03:53.190"," ",{"$f":"G173","v":"Jilemnice 24.10.22"},597.07165814270559,"  ",{"$f":"J173","v":"00:04:13.300"},"00:04:17","00:00:00"]
["64.",{"$f":"B174","v":"STEINEROVÁ"},"Barbora","8.B","00:03:54.370"," ",{"$f":"G174","v":"Jilemnice 24.10.22"},593.41101660874904,"  ",{"$f":"J174","v":"00:04:01.500"},"00:04:18","00:00:00"]
["65.",{"$f":"B175","v":"ŠERCLOVÁ"},"Andrea","8.B","00:00:00"," ",{"$f":"G175","v":0},0,"  ",{"$f":"J175","v":"00:00:00"},"00:00:00","00:00:00"]
["66.",{"$f":"B176","v":"TOMEŠOVÁ"},"Barbora","8.B","00:03:54.090"," ",{"$f":"G176","v":"Jilemnice 24.10.22"},594.27630382554776,"  ",{"$f":"J176","v":"00:03:45.400"},"00:04:20","00:00:00"]
["67.",{"$f":"B177","v":"VOHNOUTOVÁ"},"Aneta","8.B","00:03:21.500"," ",{"$f":"G177","v":"Turnov 16.05.23"},711.41856056761776,"  ",{"$f":"J177","v":"00:03:36.100"},"00:03:36","00:00:00"]
["68.",{"$f":"B178","v":"HAVLÍKOVÁ"},"Michaela","9.A","00:00:00"," ",{"$f":"G178","v":0},0,"  ",{"$f":"J178","v":"00:03:55.850"},"00:00:00","00:04:12.990"]
["69.",{"$f":"B179","v":"HOLUBCOVÁ"},"Sára","9.A","00:00:00"," ",{"$f":"G179","v":0},0,"  ",{"$f":"J179","v":"00:03:45.200"},"00:00:00","00:03:44.190"]
["70.",{"$f":"B180","v":"HONCŮ"},"Tereza","9.A","00:00:00"," ",{"$f":"G180","v":0},0,"  ",{"$f":"J180","v":"00:00:00"},"00:00:00","00:04:00.600"]
["71.",{"$f":"B181","v":"HORÁČKOVÁ"},"Kateřina","9.A","00:03:27.700"," ",{"$f":"G181","v":"Turnov   11.05.23"},686.30158861783809,"  ",{"$f":"J181","v":"00:03:33.880"},"00:00:00","00:03:39.880"]
["72.",{"$f":"B182","v":"JOUDALOVÁ"},"Daniela","9.A","00:00:00"," ",{"$f":"G182","v":0},0,"  ",{"$f":"J182","v":"00:00:00"},"00:00:00","00:00:00"]
["73.",{"$f":"B183","v":"KLÍMOVÁ"},"Anna","9.A","00:00:00"," ",{"$f":"G183","v":0},0,"  ",{"$f":"J183","v":"00:03:51.570"},"00:00:00","00:03:43.750"]
["74.",{"$f":"B184","v":"KOHOUTOVÁ"},"Veronika","9.A","00:03:55.960"," ",{"$f":"G184","v":"Jilemnice 21.06.23"},588.53636193842158,"  ",{"$f":"J184","v":"00:03:45.400"},"00:00:00","00:03:21.790"]
["75.",{"$f":"B185","v":"KOVÁŘOVÁ"},"Viktorie","9.A","00:00:00"," ",{"$f":"G185","v":0},0,"  ",{"$f":"J185","v":"00:03:21.100"},"00:00:00","00:03:46.100"]
["76.",{"$f":"B186","v":"KYNČLOVÁ"},"Anna","9.A","00:02:31.600"," ",{"$f":"G186","v":"Turnov   11.05.23"},988.37625291490758,"  ",{"$f":"J186","v":"00:02:39"},"00:00:00","00:03:11.460"]
["77.",{"$f":"B187","v":"MATOUŠOVÁ"},"Tereza","9.A","00:00:00"," ",{"$f":"G187","v":0},0,"  ",{"$f":"J187","v":"00:04:23.190"},"00:00:00","00:04:28.960"]
["78.",{"$f":"B188","v":"MAZÁNKOVÁ"},"Zuzana","9.A","00:00:00"," ",{"$f":"G188","v":0},0,"  ",{"$f":"J188","v":"00:03:41.410"},"00:00:00","00:04:00.600"]
["79.",{"$f":"B189","v":"MORKESOVÁ"},"Sabrina","9.A","00:03:24.100"," ",{"$f":"G189","v":"Turnov   13.09.22"},700.69985279287107,"  ",{"$f":"J189","v":"00:03:39.565"},"00:00:00","00:03:22.340"]
["80.",{"$f":"B190","v":"POHOŘALÁ"},"Alžběta","9.A","00:00:00"," ",{"$f":"G190","v":0},0,"  ",{"$f":"J190","v":"00:03:32.800"},"00:00:00","00:04:00.600"]
["81.",{"$f":"B191","v":"SCHOLZOVÁ"},"Laura","9.A","00:00:00"," ",{"$f":"G191","v":0},0,"  ",{"$f":"J191","v":"00:00:00"},"00:00:00","00:04:18.780"]
["82.",{"$f":"B192","v":"VÁCLAVÍKOVÁ"},"Valerie","9.A","00:03:30"," ",{"$f":"G192","v":"Turnov   13.09.22"},677.36114265000003,"  ",{"$f":"J192","v":"00:03:29.010"},"00:00:00","00:03:49.500"]
["83.",{"$f":"B193","v":"ZAPADLOVÁ"},"Emma","9.A","00:03:23.400"," ",{"$f":"G193","v":"Turnov   13.09.22"},703.55870184292041,"  ",{"$f":"J193","v":"00:00:00"},"00:00:00","00:03:24.360"]
["84.",{"$f":"B194","v":"ŽIŠKOVÁ"},"Mia","9.A","00:00:00"," ",{"$f":"G194","v":0},0,"  ",{"$f":"J194","v":"00:00:00"},"00:00:00","00:04:11.900"]
["85.",{"$f":"B195","v":"FARSKÁ"},"Tereza","9.B","00:00:00"," ",{"$f":"G195","v":0},0,"  ",{"$f":"J195","v":"00:00:00"},"00:00:00","00:00:00"]
["86.",{"$f":"B196","v":"FEIXOVÁ"},"Rozálie","9.B","00:00:00"," ",{"$f":"G196","v":0},0,"  ",{"$f":"J196","v":"00:05:19.700"},"00:00:00","00:00:00"]
["87.",{"$f":"B197","v":"FIŠEROVÁ"},"Michaela","9.B","00:00:00"," ",{"$f":"G197","v":0},0,"  ",{"$f":"J197","v":"00:04:32.900"},"00:00:00","00:00:00"]
["88.",{"$f":"B198","v":"HAVLÍČKOVÁ"},"Kristýna","9.B","00:00:00"," ",{"$f":"G198","v":0},0,"  ",{"$f":"J198","v":"00:05:08.700"},"00:00:00","00:00:00"]
["89.",{"$f":"B199","v":"KADAVÁ"},"Nikola","9.B","00:00:00"," ",{"$f":"G199","v":0},0,"  ",{"$f":"J199","v":"00:05:15.500"},"00:00:00","00:00:00"]
["90.",{"$f":"B200","v":"KŘIVINKOVÁ"},"Alžběta","9.B","00:00:00"," ",{"$f":"G200","v":0},0,"  ",{"$f":"J200","v":"00:04:34.100"},"00:00:00","00:00:00"]
["91.",{"$f":"B201","v":"LEŠÁKOVÁ"},"Lenka","9.B","00:00:00"," ",{"$f":"G201","v":0},0,"  ",{"$f":"J201","v":"00:04:43.300"},"00:00:00","00:00:00"]
["92.",{"$f":"B202","v":"NYKLÍČKOVÁ"},"Adéla","9.B","00:00:00"," ",{"$f":"G202","v":0},0,"  ",{"$f":"J202","v":"00:03:11.700"},"00:00:00","00:00:00"]
["93.",{"$f":"B203","v":"PLŮCHOVÁ"},"Petra","9.B","00:00:00"," ",{"$f":"G203","v":0},0,"  ",{"$f":"J203","v":"00:04:01.700"},"00:00:00","00:00:00"]
["94.",{"$f":"B204","v":"PODZIMKOVÁ"},"Eliška","9.B","00:00:00"," ",{"$f":"G204","v":0},0,"  ",{"$f":"J204","v":"00:04:50.900"},"00:00:00","00:00:00"]
["95.",{"$f":"B205","v":"RUTKAYOVÁ"},"Klára","9.B","00:00:00"," ",{"$f":"G205","v":0},0,"  ",{"$f":"J205","v":"00:04:48.100"},"00:00:00","00:00:00"]
["96.",{"$f":"B206","v":"SEIDLOVÁ"},"Zuzana","9.B","00:00:00"," ",{"$f":"G206","v":0},0,"  ",{"$f":"J206","v":"00:04:29"},"00:00:00","00:00:00"]
["97.",{"$f":"B207","v":"TOMÁŠOVÁ"},"Sára","9.B","00:00:00"," ",{"$f":"G207","v":0},0,"  ",{"$f":"J207","v":"00:00:00"},"00:00:00","00:00:00"]
["98.",{"$f":"B208","v":"VANCLOVÁ"},"Barbora","9.B","00:00:00"," ",{"$f":"G208","v":0},0,"  ",{"$f":"J208","v":"00:04:29.100"},"00:00:00","00:00:00"]
["99.",{"$f":"B209","v":"VOTOČKOVÁ"},"Veronika","9.B","00:00:00"," ",{"$f":"G209","v":0},0,"  ",{"$f":"J209","v":"00:05:08.500"},"00:00:00","00:00:00"]
[]
[]
[]
[]
[]
[]
[]
[]
[]
[null,"FARSKÁ","Anna","6.A","00:04:38.880",null,"Jilemnice 05.06.23",{"$f":"IF(E111=0,0,IF(E111>0,(100 - 313216 / E111 + 3453830 / E111*2 - 169860000 / E111*3 + 321980000/ E111*4)/400000000-130))","v":477.95266771987951}]
[null,"FARSKÁ","Eliška","6.A","00:03:49.690",null,"Jilemnice 05.06.23",608.15072472211466]
[null,"FEDORKOVÁ","Denisa","6.A",null,null,null,0]
[null,"HAUZEROVÁ","Tereza","6.A","00:04:22.670",null,"Jilemnice 05.06.23",515.47089492392536]
[null,"JOSKOVÁ","Ellen","6.A","00:03:49.910",null,"Jilemnice 05.06.23",607.44439111599104]
[null,"KUŽELOVÁ","Amálie","6.A",null,null,null,0]
[null,"RYŠAVÁ","Amálie","6.A","00:04:06.940",null,"Jilemnice 05.06.23",556.58718703221439]
[null,"BANGOVÁ","Zuzana","6.B","00:04:58.340",null,"Jilemnice 05.06.23",438.29737875774276]
[null,"HOLUBOVÁ","Denisa","6.B","00:04:52.470",null,"Jilemnice 05.06.23",449.70335411193457]
[null,"HURKALO","Karolina","6.B",null,null,null,0]
[null,"HUTNIK-MAMONOVA","Nana","6.B",null,null,null,0]
[null,"MARINOVA","Darja","6.B",null,null,null,0]
[null,"NYKLÍČKOVÁ","Klára","6.B","00:03:41.880",null,"Jilemnice 05.06.23",634.13304470646301]
[null,"PANCHAYEVA","Sofiia","6.B","00:04:37.850",null,"Jilemnice 05.06.23",480.20637024820041]
[null,"PIČMANOVÁ","Klára","6.B",null,null,null,0]
[null,"ŠIMŮNKOVÁ","Anežka","6.B","00:04:54.320",null,"Jilemnice 05.06.23",446.05952696921713]
[null,"TRPIŠOVSKÁ","Nela","6.B","00:04:46.700",null,"Jilemnice 05.06.23",461.37021268111266]
[null,"HEJRALOVÁ","Natálie","7.A","00:03:27.980",null,"Jilemnice 07.06.23",685.20261542453602,null,"00:03:31.050"]
[null,"KERLE","Nikita","7.A","00:03:15.740",null,"Jilemnice 07.06.23",736.17880838323788,null,"00:03:11.490"]
[null,"MUNZAROVÁ","Aneta","7.A",null,null,null,0]
[null,"PACLÍKOVÁ","Markéta","7.A","00:03:21.230",null,"Jilemnice 07.06.23",712.5475324469885,null,"00:03:40.990"]
[null,"PLŮCHOVÁ","Michaela","7.A","00:03:21.120",null,"Jilemnice 07.06.23",713.00835299463017]
[null,"ŠERCLOVÁ","Nikola","7.A","00:03:51.390",null,"Jilemnice 07.06.23",602.72760258372227,null,"00:04:19.510"]
[null,"VÁCLAVÍKOVÁ","Alena","7.A","00:03:38.760",null,"Jilemnice 07.06.23",645.03126695323635,null,"00:03:41"]
[null,"DUCHÁČKOVÁ","Tereza","7.B","00:05:42.900",null,"Jilemnice 07.06.23",364.44689410826766]
[null,"FLAŠKOVÁ","Anna Sabriel","7.B",null,null,null,0]
[null,"HAASOVÁ","Julie","7.B",null,null,null,0,null,"00:03:42.600"]
[null,"HEGROVÁ","Štěpánka","7.B","00:04:55.600",null,"Jilemnice 07.06.23",443.56508788193503]
[null,"HOBLOVÁ","Barbora","7.B",null,null,null,0,null,"00:03:50.020"]
[null,"HORÁČKOVÁ","Valérie","7.B","00:03:18.780",null,"Jilemnice 07.06.23",722.9320854899637,null,"00:03:52.200"]
[null,"JIRANOVÁ","Anežka","7.B","00:05:13.820",null,"Jilemnice 07.06.23",410.26461023024342,null,"00:05:28.300"]
[null,"KRČÍKOVÁ","Beatrix","7.B","00:03:33.690",null,"Jilemnice 14.06.23",663.41962636259291,null,"00:04:05.040"]
[null,"KUBÁTOVÁ","Veronika","7.B","00:05:30.500",null,"Jilemnice 07.06.23",{"$f":"IF(E143=0,0,IF(E143>0,(100 - 313216 / E143 + 3453830 / E143*2 - 169860000 / E143*3 + 321980000/ E143*4)/400000000-130))","v":382.99800298524974}]
[null,"LENČEŠOVÁ","Silvie","7.B","00:03:43.820",null,"Jilemnice 07.06.23",627.50978446946226,null,"00:03:54.470"]
[null,"LUKEŠOVÁ","Lucie","7.B","00:04:23.530",null,"Jilemnice 07.06.23",513.36447451858442]
[null,"MATERNOVÁ","Lenka","7.B","00:03:23.560",null,"Jilemnice 07.06.23",702.9035171688447,null,"00:03:35.860"]
[null,"TÓTHOVÁ","Viktorie","7.B","00:03:39.930",null,"Jilemnice 07.06.23",640.90819787651765,null,"00:04:27.230"]
[null,"DUONG","Ngoc Linh","8.A",null,null,null,0,null,"00:05:08.840"]
[null,"GINGALOVÁ","Linda","8.A","00:03:55.290",null,"Jilemnice 24.10.22",590.58243003452105,null,"00:05:08.800"]
[null,"HOFMANOVÁ ","Nicol","8.A",null,null,null,0]
[null,"HOLEŠOVSKÁ","Aneta","8.A",null,null,null,0,null,"00:04:49.500","00:06:54"]
[null,"HOLUBCOVÁ","Alena","8.A","00:03:35.570",null,"Jilemnice 26.10.22",656.50016216492304,null,"00:04:04.630"]
[null,"KOHOUTOVÁ","Anna","8.A","00:03:52.590",null,"Jilemnice 26.10.22",598.94724606452337,null,"00:04:17.170"]
[null,"KRAUSOVÁ","Anežka","8.A","00:04:14.010",null,"Jilemnice 26.10.22",537.47702833550841]
[null,"KUŽELOVÁ","Apoléna","8.A","00:05:20.580",null,"Jilemnice 24.10.22",398.87216914387989,null,"00:04:34.300","00:04:22"]
[null,"MORÁVKOVÁ","Lucie","8.A","00:05:23.120",null,"Jilemnice 24.10.22",394.71478083925479,null,"00:04:49.900","00:04:54"]
[null,"SKLENÁROVÁ","Eliška","8.A",null,null,null,0]
[null,"ŠEJNOVÁ","Karolína","8.A","00:04:18.450",null,"Jilemnice 26.10.22",526.01021462028439,null,"00:05:05.610"]
[null,"ŠTOLFOVÁ","Tereza","8.A","00:04:09.420",null,"Jilemnice 26.10.22",549.76040400270631]
[null,"ŠUBÍKOVÁ","Klára","8.A","00:03:49.090",null,"Jilemnice 26.10.22",610.08398429120666,null,"00:04:05.760"]
[null,"ŠULKOVSKÁ","Klára","8.A",null,null,null,0]
[null,"TULÁČKOVÁ","Natálie","8.A","00:04:09.440",null,"Jilemnice 24.10.22",549.70590108386784,null,"00:04:18.400","00:04:48"]
[null,"VOJTÍŠKOVÁ","Ella","8.A","00:03:13.570",null,"Turnov 16.05.23",745.88903214543836,null,"00:04:44.200"]
[null,"DRUGÁČOVÁ","Kristinka","8.B",null,null,null,0]
[null,"FAJSTAVROVÁ","Karolína","8.B","00:02:52.300",null,"Turnov 13.09.22",854.01532180542665,null,"00:03:22.300","00:03:11"]
[null,"FAJSTAVROVÁ","Magdaléna","8.B","00:02:42.390",null,"Turnov 16.05.23",914.06576725535751,null,"00:03:07.700","00:03:02"]
[null,"JINDROVÁ","Barbora","8.B","00:03:50.710",null,"Jilemnice 24.10.22",604.88726089756619,null,"00:04:03.100","00:04:04"]
[null,"MAŘASOVÁ","Vendula","8.B","00:04:18.350",null,"Jilemnice 24.10.22",526.26413767597239,null,"00:03:51.100","00:04:11"]
[null,"PETŘÍČKOVÁ","Natálie","8.B","00:03:48.670",null,"Jilemnice 24.10.22",611.44330240594513,null,"00:03:45.600"]
[null,"PETŘÍKOVÁ","Adéla","8.B","00:03:44.270",null,"Jilemnice 26.10.22",625.98983350455899]
[null,"REGÁLOVÁ","Karolína","8.B","00:04:28.350",null,"Jilemnice 24.10.22",501.80860805324198,null,"00:04:46.600","00:04:17"]
[null,"RIEGROVÁ","Magdaléna","8.B","00:04:10.160",null,"Jilemnice 26.10.22",547.7496001220818]
[null,"RYBENSKÁ","Sabina","8.B","00:03:53.190",null,"Jilemnice 24.10.22",597.07165814270559,null,"00:04:13.300","00:04:17"]
[null,"STEINEROVÁ","Barbora","8.B","00:03:54.370",null,"Jilemnice 24.10.22",593.41101660874904,null,"00:04:01.500","00:04:18"]
[null,"ŠERCLOVÁ","Andrea","8.B",null,null,null,{"$f":"IF(E175=0,0,IF(E175>0,(100 - 313216 / E175 + 3453830 / E175*2 - 169860000 / E175*3 + 321980000/ E175*4)/400000000-130))","v":0}]
[null,"TOMEŠOVÁ","Barbora","8.B","00:03:54.090",null,"Jilemnice 24.10.22",594.27630382554776,null,"00:03:45.400","00:04:20"]
[null,"VOHNOUTOVÁ","Aneta","8.B","00:03:21.500",null,"Turnov 16.05.23",711.41856056761776,null,"00:03:36.100","00:03:36"]
[null,"HAVLÍKOVÁ","Michaela","9.A",null,null,null,0,null,"00:03:55.850",null,"00:04:12.990"]
[null,"HOLUBCOVÁ","Sára","9.A",null,null,null,0,null,"00:03:45.200",null,"00:03:44.190"]
[null,"HONCŮ","Tereza","9.A",null,null,null,0,null,null,null,"00:04:00.600"]
[null,"HORÁČKOVÁ","Kateřina","9.A","00:03:27.700",null,"Turnov   11.05.23",686.30158861783809,null,"00:03:33.880",null,"00:03:39.880"]
[null,"JOUDALOVÁ","Daniela","9.A",null,null,null,0]
[null,"KLÍMOVÁ","Anna","9.A",null,null,null,0,null,"00:03:51.570",null,"00:03:43.750"]
[null,"KOHOUTOVÁ","Veronika","9.A","00:03:55.960",null,"Jilemnice 21.06.23",588.53636193842158,null,"00:03:45.400",null,"00:03:21.790"]
[null,"KOVÁŘOVÁ","Viktorie","9.A",null,null,null,0,null,"00:03:21.100",null,"00:03:46.100"]
[null,"KYNČLOVÁ","Anna","9.A","00:02:31.600",null,"Turnov   11.05.23",988.37625291490758,null,"00:02:39",null,"00:03:11.460"]
[null,"MATOUŠOVÁ","Tereza","9.A",null,null,null,0,null,"00:04:23.190",null,"00:04:28.960"]
[null,"MAZÁNKOVÁ","Zuzana","9.A",null,null,null,0,null,"00:03:41.410",null,"00:04:00.600"]
[null,"MORKESOVÁ","Sabrina","9.A","00:03:24.100",null,"Turnov   13.09.22",700.69985279287107,null,"00:03:39.565",null,"00:03:22.340"]
[null,"POHOŘALÁ","Alžběta","9.A",null,null,null,0,null,"00:03:32.800",null,"00:04:00.600"]
[null,"SCHOLZOVÁ","Laura","9.A",null,null,null,0,null,null,null,"00:04:18.780"]
[null,"VÁCLAVÍKOVÁ","Valerie","9.A","00:03:30",null,"Turnov   13.09.22",677.36114265000003,null,"00:03:29.010",null,"00:03:49.500"]
[null,"ZAPADLOVÁ","Emma","9.A","00:03:23.400",null,"Turnov   13.09.22",703.55870184292041,null,null,null,"00:03:24.360"]
[null,"ŽIŠKOVÁ","Mia","9.A",null,null,null,0,null,null,null,"00:04:11.900"]
[null,"FARSKÁ","Tereza","9.B",null,null,null,0]
[null,"FEIXOVÁ","Rozálie","9.B",null,null,null,0,null,"00:05:19.700"]
[null,"FIŠEROVÁ","Michaela","9.B",null,null,null,0,null,"00:04:32.900"]
[null,"HAVLÍČKOVÁ","Kristýna","9.B",null,null,null,0,null,"00:05:08.700"]
[null,"KADAVÁ","Nikola","9.B",null,null,null,0,null,"00:05:15.500"]
[null,"KŘIVINKOVÁ","Alžběta","9.B",null,null,null,0,null,"00:04:34.100"]
[null,"LEŠÁKOVÁ","Lenka","9.B",null,null,null,0,null,"00:04:43.300"]
[null,"NYKLÍČKOVÁ","Adéla","9.B",null,null,null,0,null,"00:03:11.700"]
[null,"PLŮCHOVÁ","Petra","9.B",null,null,null,0,null,"00:04:01.700"]
[null,"PODZIMKOVÁ","Eliška","9.B",null,null,null,0,null,"00:04:50.900"]
[null,"RUTKAYOVÁ","Klára","9.B",null,null,null,0,null,"00:04:48.100"]
[null,"SEIDLOVÁ","Zuzana","9.B",null,null,null,0,null,"00:04:29"]
[null,"TOMÁŠOVÁ","Sára","9.B",null,null,null,0]
[null,"VANCLOVÁ","Barbora","9.B",null,null,null,0,null,"00:04:29.100"]
[null,"VOTOČKOVÁ","Veronika","9.B",null,null,null,0,null,"00:05:08.500"]

{"sheet":"Ddál","index":9,"n_rows":209,"n_cols":12,"rows_kept":209,"cut":false,"hidden":false,"merged":[[0,1,0,5]]}
[null,"VÝKONY  2022 - 2023",null,null,null,null,"DÁLKA",null,null,null,"stav  k ",{"$f":"TODAY()","v":"2023-06-26"}]
[null,null,null,null,null,null,null,"   BODY",null,"   21 - 22   ","   20 - 21   ","   19 - 20   "]
["1.",{"$f":"B111","v":"FARSKÁ"},{"$f":"C111","v":"Anna"},"6.A",348," ",{"$f":"G111","v":"Jilemnice  16.06.23"},735.59700000000009," ",0,0,0]
["2.",{"$f":"B112","v":"FARSKÁ"},"Eliška","6.A",382," ",{"$f":"G112","v":"Jilemnice  16.06.23"},{"$f":"H112","v":794.72300000000007}," ",{"$f":"J112","v":0},0,0]
["3.",{"$f":"B113","v":"FEDORKOVÁ"},"Denisa","6.A",250," ","Jilemnice 11.05.23",{"$f":"H113","v":565.17500000000007}," ",{"$f":"J113","v":0},0,0]
["4.",{"$f":"B114","v":"HAUZEROVÁ"},"Tereza","6.A",334," ","Jilemnice  05.06.23",{"$f":"H114","v":711.25100000000009}," ",{"$f":"J114","v":0},0,0]
["5.",{"$f":"B115","v":"JOSKOVÁ"},"Ellen","6.A",282," ","Jilemnice 11.05.23",{"$f":"H115","v":620.82300000000009}," ",{"$f":"J115","v":0},0,0]
["6.",{"$f":"B116","v":"KUŽELOVÁ"},"Amálie","6.A",199," ","Jilemnice 11.05.23",{"$f":"H116","v":476.48600000000005}," ",{"$f":"J116","v":0},0,0]
["7.",{"$f":"B117","v":"RYŠAVÁ"},"Amálie","6.A",282," ","Jilemnice 16.06.23",{"$f":"H117","v":620.82300000000009}," ",{"$f":"J117","v":0},0,0]
["8.",{"$f":"B118","v":"BANGOVÁ"},"Zuzana","6.B",252," ","Jilemnice 11.05.23",{"$f":"H118","v":568.65300000000002}," ",{"$f":"J118","v":0},0,0]
["9.",{"$f":"B119","v":"HOLUBOVÁ"},"Denisa","6.B",249," ","Jilemnice 11.05.23",{"$f":"H119","v":563.43600000000004}," ",{"$f":"J119","v":0},0,0]
["10.",{"$f":"B120","v":"HURKALO"},"Karolina","6.B",0," ",0,{"$f":"H120","v":0}," ",{"$f":"J120","v":0},0,0]
["11.",{"$f":"B121","v":"HUTNIK-MAMONOVA"},"Nana","6.B",0," ",0,{"$f":"H121","v":0}," ",{"$f":"J121","v":0},0,0]
["12.",{"$f":"B122","v":"MARINOVA"},"Darja","6.B",0," ",0,{"$f":"H122","v":0}," ",{"$f":"J122","v":0},0,0]
["13.",{"$f":"B123","v":"NYKLÍČKOVÁ"},"Klára","6.B",252," ","Jilemnice 11.05.23",{"$f":"H123","v":568.65300000000002}," ",{"$f":"J123","v":0},0,0]
["14.",{"$f":"B124","v":"PANCHAYEVA"},"Sofiia","6.B",0," ",0,{"$f":"H124","v":0}," ",{"$f":"J124","v":0},0,0]
["15.",{"$f":"B125","v":"PIČMANOVÁ"},"Klára","6.B",250," ","Jilemnice 11.05.23",{"$f":"H125","v":565.17500000000007}," ",{"$f":"J125","v":0},0,0]
["16.",{"$f":"B126","v":"ŠIMŮNKOVÁ"},"Anežka","6.B",291," ","Jilemnice 11.05.23",{"$f":"H126","v":636.47400000000005}," ",{"$f":"J126","v":0},0,0]
["17.",{"$f":"B127","v":"TRPIŠOVSKÁ"},"Nela","6.B",292," ","Jilemnice 11.05.23",{"$f":"H127","v":638.21300000000008}," ",{"$f":"J127","v":0},0,0]
["18.",{"$f":"B128","v":"HEJRALOVÁ"},"Natálie","7.A",340," ","Jilemnice 29.05.23",{"$f":"H128","v":721.68500000000006}," ",{"$f":"J128","v":344},0,0]
["19.",{"$f":"B129","v":"KERLE"},"Nikita","7.A",399," ","Turnov   16.05.23",{"$f":"H129","v":824.28600000000006}," ",{"$f":"J129","v":377},0,0]
["20.",{"$f":"B130","v":"MUNZAROVÁ"},"Aneta","7.A",0," ",0,{"$f":"H130","v":0}," ",{"$f":"J130","v":0},0,0]
["21.",{"$f":"B131","v":"PACLÍKOVÁ"},"Markéta","7.A",355," ","Jilemnice 29.05.23",{"$f":"H131","v":747.7700000000001}," ",{"$f":"J131","v":335},0,0]
["22.",{"$f":"B132","v":"PLŮCHOVÁ"},"Michaela","7.A",368," ","Jilemnice 29.05.23",{"$f":"H132","v":770.37700000000007}," ",{"$f":"J132","v":318},0,0]
["23.",{"$f":"B133","v":"ŠERCLOVÁ"},"Nikola","7.A",0," ",0,{"$f":"H133","v":0}," ",{"$f":"J133","v":273},0,0]
["24.",{"$f":"B134","v":"VÁCLAVÍKOVÁ"},"Alena","7.A",311," ","Jilemnice 29.05.23",{"$f":"H134","v":671.25400000000002}," ",{"$f":"J134","v":309},0,0]
["25.",{"$f":"B135","v":"DUCHÁČKOVÁ"},"Tereza","7.B",0," ",0,{"$f":"H135","v":0}," ",{"$f":"J135","v":296},0,0]
["26.",{"$f":"B136","v":"FLAŠKOVÁ"},"Anna Sabriel","7.B",315," ","Jilemnice 29.05.23",{"$f":"H136","v":678.21}," ",{"$f":"J136","v":306},0,0]
["27.",{"$f":"B137","v":"HAASOVÁ"},"Julie","7.B",352," ","Turnov   13.09.22",{"$f":"H137","v":742.553}," ",{"$f":"J137","v":365},0,0]
["28.",{"$f":"B138","v":"HEGROVÁ"},"Štěpánka","7.B",304," ","Jilemnice 29.05.23",{"$f":"H138","v":659.08100000000002}," ",{"$f":"J138","v":0},0,0]
["29.",{"$f":"B139","v":"HOBLOVÁ"},"Barbora","7.B",300," ","Jilemnice 29.05.23",{"$f":"H139","v":652.125}," ",{"$f":"J139","v":281},0,0]
["30.",{"$f":"B140","v":"HORÁČKOVÁ"},"Valérie","7.B",359," ","Jilemnice 29.05.23",{"$f":"H140","v":754.726}," ",{"$f":"J140","v":307},0,0]
["31.",{"$f":"B141","v":"JIRANOVÁ"},"Anežka","7.B",0," ",0,{"$f":"H141","v":0}," ",{"$f":"J141","v":253},0,0]
["32.",{"$f":"B142","v":"KRČÍKOVÁ"},"Beatrix","7.B",381," ","Jilemnice 29.05.23",{"$f":"H142","v":792.98400000000004}," ",{"$f":"J142","v":349},0,0]
["33.",{"$f":"B143","v":"KUBÁTOVÁ"},"Veronika","7.B",0," ",0,{"$f":"H143","v":0}," ",{"$f":"J143","v":220},0,0]
["34.",{"$f":"B144","v":"LENČEŠOVÁ"},"Silvie","7.B",300," ","Jilemnice 29.05.23",{"$f":"H144","v":652.125}," ",{"$f":"J144","v":281},0,0]
["35.",{"$f":"B145","v":"LUKEŠOVÁ"},"Lucie","7.B",281," ","Jilemnice 29.05.23",{"$f":"H145","v":619.08400000000006}," ",{"$f":"J145","v":0},0,0]
["36.",{"$f":"B146","v":"MATERNOVÁ"},"Lenka","7.B",0," ",0,{"$f":"H146","v":0}," ",{"$f":"J146","v":286},0,0]
["37.",{"$f":"B147","v":"TÓTHOVÁ"},"Viktorie","7.B",0," ",0,{"$f":"H147","v":0}," ",{"$f":"J147","v":310},0,0]
["38.",{"$f":"B148","v":"DUONG"},"Ngoc Linh","8.A",361," ","Jilemnice 29.05.23",{"$f":"H148","v":758.20400000000006}," ",{"$f":"J148","v":270},253,0]
["39.",{"$f":"B149","v":"GINGALOVÁ"},"Linda","8.A",362," ","Jilemnice 29.05.23",{"$f":"H149","v":759.9430000000001}," ",{"$f":"J149","v":347},0,0]
["40.",{"$f":"B150","v":"HOFMANOVÁ "},"Nicol","8.A",0," ",0,{"$f":"H150","v":0}," ",{"$f":"J150","v":280},297,0]
["41.",{"$f":"B151","v":"HOLEŠOVSKÁ"},"Aneta","8.A",0," ",0,{"$f":"H151","v":0}," ",{"$f":"J151","v":316},283,0]
["42.",{"$f":"B152","v":"HOLUBCOVÁ"},"Alena","8.A",365," ","Jilemnice 29.05.23",{"$f":"H152","v":765.16000000000008}," ",{"$f":"J152","v":315},290,0]
["43.",{"$f":"B153","v":"KOHOUTOVÁ"},"Anna","8.A",0," ",0,{"$f":"H153","v":0}," ",{"$f":"J153","v":258},227,0]
["44.",{"$f":"B154","v":"KRAUSOVÁ"},"Anežka","8.A",0," ",0,{"$f":"H154","v":0}," ",{"$f":"J154","v":338},0,0]
["45.",{"$f":"B155","v":"KUŽELOVÁ"},"Apoléna","8.A",0," ",0,{"$f":"H155","v":0}," ",{"$f":"J155","v":305},274,0]
["46.",{"$f":"B156","v":"MORÁVKOVÁ"},"Lucie","8.A",0," ",0,{"$f":"H156","v":0}," ",{"$f":"J156","v":0},220,0]
["47.",{"$f":"B157","v":"SKLENÁROVÁ"},"Eliška","8.A",0," ",0,{"$f":"H157","v":0}," ",{"$f":"J157","v":269},0,0]
["48.",{"$f":"B158","v":"ŠEJNOVÁ"},"Karolína","8.A",0," ",0,{"$f":"H158","v":0}," ",{"$f":"J158","v":300},0,0]
["49.",{"$f":"B159","v":"ŠTOLFOVÁ"},"Tereza","8.A",0," ",0,{"$f":"H159","v":0}," ",{"$f":"J159","v":310},0,0]
["50.",{"$f":"B160","v":"ŠUBÍKOVÁ"},"Klára","8.A",367," ","Jilemnice  05.06.23",{"$f":"H160","v":768.63800000000003}," ",{"$f":"J160","v":333},310,0]
["51.",{"$f":"B161","v":"ŠULKOVSKÁ"},"Klára","8.A",0," ",0,{"$f":"H161","v":0}," ",{"$f":"J161","v":298},0,0]
["52.",{"$f":"B162","v":"TULÁČKOVÁ"},"Natálie","8.A",380," ","Jilemnice  05.09.22",{"$f":"H162","v":791.245}," ",{"$f":"J162","v":312},257,0]
["53.",{"$f":"B163","v":"VOJTÍŠKOVÁ"},"Ella","8.A",362," ","Jilemnice 29.05.23",{"$f":"H163","v":759.9430000000001}," ",{"$f":"J163","v":376},304,0]
["54.",{"$f":"B164","v":"DRUGÁČOVÁ"},"Kristinka","8.B",0," ",0,{"$f":"H164","v":0}," ",{"$f":"J164","v":355},307,0]
["55.",{"$f":"B165","v":"FAJSTAVROVÁ"},"Karolína","8.B",373," ","Turnov 13.09.22",{"$f":"H165","v":779.072}," ",{"$f":"J165","v":327},290,0]
["56.",{"$f":"B166","v":"FAJSTAVROVÁ"},"Magdaléna","8.B",345," ","Jilemnice 29.05.23",{"$f":"H166","v":730.38}," ",{"$f":"J166","v":321},0,0]
["57.",{"$f":"B167","v":"JINDROVÁ"},"Barbora","8.B",351," ",0,{"$f":"H167","v":740.81400000000008}," ",{"$f":"J167","v":319},295,0]
["58.",{"$f":"B168","v":"MAŘASOVÁ"},"Vendula","8.B",282," ","Jilemnice  05.09.22",{"$f":"H168","v":620.82300000000009}," ",{"$f":"J168","v":310},240,0]
["59.",{"$f":"B169","v":"PETŘÍČKOVÁ"},"Natálie","8.B",390," ","Turnov 16.05.23",{"$f":"H169","v":808.63499999999999}," ",{"$f":"J169","v":387},313,0]
["60.",{"$f":"B170","v":"PETŘÍKOVÁ"},"Adéla","8.B",0," ",0,{"$f":"H170","v":0}," ",{"$f":"J170","v":274},192,0]
["61.",{"$f":"B171","v":"REGÁLOVÁ"},"Karolína","8.B",0," ",0,{"$f":"H171","v":0}," ",{"$f":"J171","v":310},291,0]
["62.",{"$f":"B172","v":"RIEGROVÁ"},"Magdaléna","8.B",0," ",0,{"$f":"H172","v":0}," ",{"$f":"J172","v":287},0,0]
["63.",{"$f":"B173","v":"RYBENSKÁ"},"Sabina","8.B",0," ",0,{"$f":"H173","v":0}," ",{"$f":"J173","v":0},260,0]
["64.",{"$f":"B174","v":"STEINEROVÁ"},"Barbora","8.B",412," ","Jilemnice 29.05.23",{"$f":"H174","v":846.89300000000003}," ",{"$f":"J174","v":374},288,0]
["65.",{"$f":"B175","v":"ŠERCLOVÁ"},"Andrea","8.B",0," ",0,{"$f":"H175","v":0}," ",{"$f":"J175","v":0},0,0]
["66.",{"$f":"B176","v":"TOMEŠOVÁ"},"Barbora","8.B",377," ",{"$f":"G176","v":"Jilemnice 29.05.23"},{"$f":"H176","v":786.02800000000002}," ",{"$f":"J176","v":0},218,0]
["67.",{"$f":"B177","v":"VOHNOUTOVÁ"},"Aneta","8.B",392," ","Jilemnice  12.06.23",{"$f":"H177","v":812.11300000000006}," ",{"$f":"J177","v":365},0,0]
["68.",{"$f":"B178","v":"HAVLÍKOVÁ"},"Michaela","9.A",325," ","Jilemnice  05.05.23",{"$f":"H178","v":695.6}," ",{"$f":"J178","v":320},290,237]
["69.",{"$f":"B179","v":"HOLUBCOVÁ"},"Sára","9.A",0," ",0,{"$f":"H179","v":0}," ",{"$f":"J179","v":365},361,327]
["70.",{"$f":"B180","v":"HONCŮ"},"Tereza","9.A",0," ",0,{"$f":"H180","v":0}," ",{"$f":"J180","v":335},341,280]
["71.",{"$f":"B181","v":"HORÁČKOVÁ"},"Kateřina","9.A",385," ","Jilemnice  05.05.23",{"$f":"H181","v":799.94}," ",{"$f":"J181","v":0},359,293]
["72.",{"$f":"B182","v":"JOUDALOVÁ"},"Daniela","9.A",0," ",0,{"$f":"H182","v":0}," ",{"$f":"J182","v":0},0,0]
["73.",{"$f":"B183","v":"KLÍMOVÁ"},"Anna","9.A",320," ","Jilemnice  05.05.23",{"$f":"H183","v":686.90500000000009}," ",{"$f":"J183","v":320},0,277]
["74.",{"$f":"B184","v":"KOHOUTOVÁ"},"Veronika","9.A",351," ","Jilemnice  05.05.23",{"$f":"H184","v":740.81400000000008}," ",{"$f":"J184","v":362},374,323]
["75.",{"$f":"B185","v":"KOVÁŘOVÁ"},"Viktorie","9.A",0," ",0,{"$f":"H185","v":0}," ",{"$f":"J185","v":365},340,279]
["76.",{"$f":"B186","v":"KYNČLOVÁ"},"Anna","9.A",377," ","Jilemnice 12.06.23",{"$f":"H186","v":786.02800000000002}," ",{"$f":"J186","v":366},366,292]
["77.",{"$f":"B187","v":"MATOUŠOVÁ"},"Tereza","9.A",0," ",0,{"$f":"H187","v":0}," ",{"$f":"J187","v":330},350,260]
["78.",{"$f":"B188","v":"MAZÁNKOVÁ"},"Zuzana","9.A",0," ",0,{"$f":"H188","v":0}," ",{"$f":"J188","v":305},312,241]
["79.",{"$f":"B189","v":"MORKESOVÁ"},"Sabrina","9.A",401," ","Jilemnice  05.05.23",{"$f":"H189","v":827.76400000000001}," ",{"$f":"J189","v":380},366,350]
["80.",{"$f":"B190","v":"POHOŘALÁ"},"Alžběta","9.A",320," ","Jilemnice  05.05.23",{"$f":"H190","v":686.90500000000009}," ",{"$f":"J190","v":367},347,323]
["81.",{"$f":"B191","v":"SCHOLZOVÁ"},"Laura","9.A",0," ",0,{"$f":"H191","v":0}," ",{"$f":"J191","v":0},0,225]
["82.",{"$f":"B192","v":"VÁCLAVÍKOVÁ"},"Valerie","9.A",352," ","Jilemnice  05.05.23",{"$f":"H192","v":742.553}," ",{"$f":"J192","v":352},352,310]
["83.",{"$f":"B193","v":"ZAPADLOVÁ"},"Emma","9.A",0," ",0,{"$f":"H193","v":0}," ",{"$f":"J193","v":340},344,0]
["84.",{"$f":"B194","v":"ŽIŠKOVÁ"},"Mia","9.A",0," ",0,{"$f":"H194","v":0}," ",{"$f":"J194","v":0},342,0]
["85.",{"$f":"B195","v":"FARSKÁ"},"Tereza","9.B",0," ",0,{"$f":"H195","v":0}," ",{"$f":"J195","v":230},0,0]
["86.",{"$f":"B196","v":"FEIXOVÁ"},"Rozálie","9.B",0," ",0,{"$f":"H196","v":0}," ",{"$f":"J196","v":0},250,0]
["87.",{"$f":"B197","v":"FIŠEROVÁ"},"Michaela","9.B",0," ",0,{"$f":"H197","v":0}," ",{"$f":"J197","v":0},243,0]
["88.",{"$f":"B198","v":"HAVLÍČKOVÁ"},"Kristýna","9.B",0," ",0,{"$f":"H198","v":0}," ",{"$f":"J198","v":0},235,0]
["89.",{"$f":"B199","v":"KADAVÁ"},"Nikola","9.B",0," ",0,{"$f":"H199","v":0}," ",{"$f":"J199","v":275},0,0]
["90.",{"$f":"B200","v":"KŘIVINKOVÁ"},"Alžběta","9.B",0," ",0,{"$f":"H200","v":0}," ",{"$f":"J200","v":328},285,0]
["91.",{"$f":"B201","v":"LEŠÁKOVÁ"},"Lenka","9.B",0," ",0,{"$f":"H201","v":0}," ",{"$f":"J201","v":296},0,0]
["92.",{"$f":"B202","v":"NYKLÍČKOVÁ"},"Adéla","9.B",0," ",0,{"$f":"H202","v":0}," ",{"$f":"J202","v":360},325,0]
["93.",{"$f":"B203","v":"PLŮCHOVÁ"},"Petra","9.B",0," ",0,{"$f":"H203","v":0}," ",{"$f":"J203","v":289},225,0]
["94.",{"$f":"B204","v":"PODZIMKOVÁ"},"Eliška","9.B",0," ",0,{"$f":"H204","v":0}," ",{"$f":"J204","v":298},190,0]
["95.",{"$f":"B205","v":"RUTKAYOVÁ"},"Klára","9.B",0," ",0,{"$f":"H205","v":0}," ",{"$f":"J205","v":278},0,0]
["96.",{"$f":"B206","v":"SEIDLOVÁ"},"Zuzana","9.B",0," ",0,{"$f":"H206","v":0}," ",{"$f":"J206","v":340},284,0]
["97.",{"$f":"B207","v":"TOMÁŠOVÁ"},"Sára","9.B",0," ",0,{"$f":"H207","v":0}," ",{"$f":"J207","v":291},197,0]
["98.",{"$f":"B208","v":"VANCLOVÁ"},"Barbora","9.B",0," ",0,{"$f":"H208","v":0}," ",{"$f":"J208","v":0},278,0]
["99.",{"$f":"B209","v":"VOTOČKOVÁ"},"Veronika","9.B",0," ",0,{"$f":"H209","v":0}," ",{"$f":"J209","v":284},255,0]
[]
[]
[]
[]
[]
[]
[]
[]
[]
[null,"FARSKÁ","Anna","6.A",348,null,"Jilemnice  16.06.23",{"$f":"IF(E111=0,0,IF(E111>0,(E111+75)*1.739))","v":735.59700000000009}]
[null,"FARSKÁ","Eliška","6.A",382,null,"Jilemnice  16.06.23",794.72300000000007]
[null,"FEDORKOVÁ","Denisa","6.A",250,null,"Jilemnice 11.05.23",565.17500000000007]
[null,"HAUZEROVÁ","Tereza","6.A",334,null,"Jilemnice  05.06.23",711.25100000000009]
[null,"JOSKOVÁ","Ellen","6.A",282,null,"Jilemnice 11.05.23",620.82300000000009]
[null,"KUŽELOVÁ","Amálie","6.A",199,null,"Jilemnice 11.05.23",476.48600000000005]
[null,"RYŠAVÁ","Amálie","6.A",282,null,"Jilemnice 16.06.23",620.82300000000009]
[null,"BANGOVÁ","Zuzana","6.B",252,null,"Jilemnice 11.05.23",568.65300000000002]
[null,"HOLUBOVÁ","Denisa","6.B",249,null,"Jilemnice 11.05.23",563.43600000000004]
[null,"HURKALO","Karolina","6.B",null,null,null,0]
[null,"HUTNIK-MAMONOVA","Nana","6.B",null,null,null,0]
[null,"MARINOVA","Darja","6.B",null,null,null,0]
[null,"NYKLÍČKOVÁ","Klára","6.B",252,null,"Jilemnice 11.05.23",568.65300000000002]
[null,"PANCHAYEVA","Sofiia","6.B",null,null,null,0]
[null,"PIČMANOVÁ","Klára","6.B",250,null,"Jilemnice 11.05.23",565.17500000000007]
[null,"ŠIMŮNKOVÁ","Anežka","6.B",291,null,"Jilemnice 11.05.23",636.47400000000005]
[null,"TRPIŠOVSKÁ","Nela","6.B",292,null,"Jilemnice 11.05.23",638.21300000000008]
[null,"HEJRALOVÁ","Natálie","7.A",340,null,"Jilemnice 29.05.23",721.68500000000006,null,344]
[null,"KERLE","Nikita","7.A",399,null,"Turnov   16.05.23",824.28600000000006,null,377]
[null,"MUNZAROVÁ","Aneta","7.A",null,null,null,0]
[null,"PACLÍKOVÁ","Markéta","7.A",355,null,"Jilemnice 29.05.23",747.7700000000001,null,335]
[null,"PLŮCHOVÁ","Michaela","7.A",368,null,"Jilemnice 29.05.23",770.37700000000007,null,318]
[null,"ŠERCLOVÁ","Nikola","7.A",null,null,null,0,null,273]
[null,"VÁCLAVÍKOVÁ","Alena","7.A",311,null,"Jilemnice 29.05.23",671.25400000000002,null,309]
[null,"DUCHÁČKOVÁ","Tereza","7.B",null,null,null,0,null,296]
[null,"FLAŠKOVÁ","Anna Sabriel","7.B",315,null,"Jilemnice 29.05.23",678.21,null,306]
[null,"HAASOVÁ","Julie","7.B",352,null,"Turnov   13.09.22",742.553,null,365]
[null,"HEGROVÁ","Štěpánka","7.B",304,null,"Jilemnice 29.05.23",659.08100000000002]
[null,"HOBLOVÁ","Barbora","7.B",300,null,"Jilemnice 29.05.23",652.125,null,281]
[null,"HORÁČKOVÁ","Valérie","7.B",359,null,"Jilemnice 29.05.23",754.726,null,307]
[null,"JIRANOVÁ","Anežka","7.B",null,null,null,0,null,253]
[null,"KRČÍKOVÁ","Beatrix","7.B",381,null,"Jilemnice 29.05.23",792.98400000000004,null,349]
[null,"KUBÁTOVÁ","Veronika","7.B",null,null,null,{"$f":"IF(E143=0,0,IF(E143>0,(E143+75)*1.739))","v":0},null,220]
[null,"LENČEŠOVÁ","Silvie","7.B",300,null,"Jilemnice 29.05.23",652.125,null,281]
[null,"LUKEŠOVÁ","Lucie","7.B",281,null,"Jilemnice 29.05.23",619.08400000000006]
[null,"MATERNOVÁ","Lenka","7.B",null,null,null,0,null,286]
[null,"TÓTHOVÁ","Viktorie","7.B",null,null,null,0,null,310]
[null,"DUONG","Ngoc Linh","8.A",361,null,"Jilemnice 29.05.23",758.20400000000006,null,270,253]
[null,"GINGALOVÁ","Linda","8.A",362,null,"Jilemnice 29.05.23",759.9430000000001,null,347]
[null,"HOFMANOVÁ ","Nicol","8.A",null,null,null,0,null,280,297]
[null,"HOLEŠOVSKÁ","Aneta","8.A",null,null,null,0,null,316,283]
[null,"HOLUBCOVÁ","Alena","8.A",365,null,"Jilemnice 29.05.23",765.16000000000008,null,315,290]
[null,"KOHOUTOVÁ","Anna","8.A",null,null,null,0,null,258,227]
[null,"KRAUSOVÁ","Anežka","8.A",null,null,null,0,null,338,{"$f":"J216","v":0}]
[null,"KUŽELOVÁ","Apoléna","8.A",null,null,null,0,null,305,274]
[null,"MORÁVKOVÁ","Lucie","8.A",null,null,null,0,null,null,220]
[null,"SKLENÁROVÁ","Eliška","8.A",null,null,null,0,null,269,{"$f":"J219","v":0}]
[null,"ŠEJNOVÁ","Karolína","8.A",null,null,null,0,null,300]
[null,"ŠTOLFOVÁ","Tereza","8.A",null,null,null,0,null,310,{"$f":"J220","v":0}]
[null,"ŠUBÍKOVÁ","Klára","8.A",367,null,"Jilemnice  05.06.23",768.63800000000003,null,333,310]
[null,"ŠULKOVSKÁ","Klára","8.A",null,null,null,0,null,298]
[null,"TULÁČKOVÁ","Natálie","8.A",380,null,"Jilemnice  05.09.22",791.245,null,312,257]
[null,"VOJTÍŠKOVÁ","Ella","8.A",362,null,"Jilemnice 29.05.23",759.9430000000001,null,376,304]
[null,"DRUGÁČOVÁ","Kristinka","8.B",null,null,null,0,null,355,307]
[null,"FAJSTAVROVÁ","Karolína","8.B",373,null,"Turnov 13.09.22",779.072,null,327,290]
[null,"FAJSTAVROVÁ","Magdaléna","8.B",345,null,"Jilemnice 29.05.23",730.38,null,321,{"$f":"J226","v":0}]
[null,"JINDROVÁ","Barbora","8.B",351,null,null,740.81400000000008,null,319,295]
[null,"MAŘASOVÁ","Vendula","8.B",282,null,"Jilemnice  05.09.22",620.82300000000009,null,310,240]
[null,"PETŘÍČKOVÁ","Natálie","8.B",390,null,"Turnov 16.05.23",808.63499999999999,null,387,313]
[null,"PETŘÍKOVÁ","Adéla","8.B",null,null,null,0,null,274,192]
[null,"REGÁLOVÁ","Karolína","8.B",null,null,null,0,null,310,291]
[null,"RIEGROVÁ","Magdaléna","8.B",null,null,null,0,null,287,{"$f":"J233","v":0}]
[null,"RYBENSKÁ","Sabina","8.B",null,null,null,0,null,null,260]
[null,"STEINEROVÁ","Barbora","8.B",412,null,"Jilemnice 29.05.23",846.89300000000003,null,374,288]
[null,"ŠERCLOVÁ","Andrea","8.B"]
[null,"TOMEŠOVÁ","Barbora","8.B",377,null,"Jilemnice 29.05.23",{"$f":"IF(E176=0,0,IF(E176>0,(E176+75)*1.739))","v":786.02800000000002},null,null,218]
[null,"VOHNOUTOVÁ","Aneta","8.B",392,null,"Jilemnice  12.06.23",812.11300000000006,null,365,{"$f":"J237","v":0}]
[null,"HAVLÍKOVÁ","Michaela","9.A",325,null,"Jilemnice  05.05.23",695.6,null,320,290,237]
[null,"HOLUBCOVÁ","Sára","9.A",null,null,null,0,null,365,361,327]
[null,"HONCŮ","Tereza","9.A",null,null,null,0,null,335,341,280]
[null,"HORÁČKOVÁ","Kateřina","9.A",385,null,"Jilemnice  05.05.23",799.94,null,null,359,293]
[null,"JOUDALOVÁ","Daniela","9.A",null,null,null,0,null,null,{"$f":"J242","v":0}]
[null,"KLÍMOVÁ","Anna","9.A",320,null,"Jilemnice  05.05.23",686.90500000000009,null,320,{"$f":"J243","v":0},277]
[null,"KOHOUTOVÁ","Veronika","9.A",351,null,"Jilemnice  05.05.23",740.81400000000008,null,362,374,323]
[null,"KOVÁŘOVÁ","Viktorie","9.A",null,null,null,0,null,365,340,279]
[null,"KYNČLOVÁ","Anna","9.A",377,null,"Jilemnice 12.06.23",786.02800000000002,null,366,366,292]
[null,"MATOUŠOVÁ","Tereza","9.A",null,null,null,0,null,330,350,260]
[null,"MAZÁNKOVÁ","Zuzana","9.A",null,null,null,0,null,305,312,241]
[null,"MORKESOVÁ","Sabrina","9.A",401,null,"Jilemnice  05.05.23",827.76400000000001,null,380,366,350]
[null,"POHOŘALÁ","Alžběta","9.A",320,null,"Jilemnice  05.05.23",686.90500000000009,null,367,347,323]
[null,"SCHOLZOVÁ","Laura","9.A",null,null,null,0,null,null,{"$f":"J251","v":0},225]
[null,"VÁCLAVÍKOVÁ","Valerie","9.A",352,null,"Jilemnice  05.05.23",742.553,null,352,352,310]
[null,"ZAPADLOVÁ","Emma","9.A",null,null,null,0,null,340,344]
[null,"ŽIŠKOVÁ","Mia","9.A",null,null,null,0,null,null,342]
[null,"FARSKÁ","Tereza","9.B",null,null,null,0,null,230]
[null,"FEIXOVÁ","Rozálie","9.B",null,null,null,0,null,null,250]
[null,"FIŠEROVÁ","Michaela","9.B",null,null,null,0,null,null,243]
[null,"HAVLÍČKOVÁ","Kristýna","9.B",null,null,null,0,null,null,235]
[null,"KADAVÁ","Nikola","9.B",null,null,null,0,null,275,{"$f":"J260","v":0}]
[null,"KŘIVINKOVÁ","Alžběta","9.B",null,null,null,0,null,328,285]
[null,"LEŠÁKOVÁ","Lenka","9.B",null,null,null,0,null,296,{"$f":"J263","v":0}]
[null,"NYKLÍČKOVÁ","Adéla","9.B",null,null,null,0,null,360,325]
[null,"PLŮCHOVÁ","Petra","9.B",null,null,null,0,null,289,225]
[null,"PODZIMKOVÁ","Eliška","9.B",null,null,null,0,null,298,190]
[null,"RUTKAYOVÁ","Klára","9.B",null,null,null,0,null,278,{"$f":"J267","v":0}]
[null,"SEIDLOVÁ","Zuzana","9.B",null,null,null,0,null,340,284]
[null,"TOMÁŠOVÁ","Sára","9.B",null,null,null,0,null,291,197]
[null,"VANCLOVÁ","Barbora","9.B",null,null,null,0,null,null,278]
[null,"VOTOČKOVÁ","Veronika","9.B",null,null,null,0,null,284,255]

{"sheet":"Dvýš","index":10,"n_rows":209,"n_cols":12,"rows_kept":209,"cut":false,"hidden":false,"merged":[[0,1,0,5]]}
[null,"VÝKONY  2022 - 2023",null,null,null,null,"VÝŠKA",null,null,null,"stav  k ",{"$f":"TODAY()","v":"2023-06-26"}]
[null,null,null,null,null,null,null,"   BODY",null,"   21 - 22   ","   20 - 21   ","   19 - 20   "]
["1.",{"$f":"B111","v":"FARSKÁ"},{"$f":"C111","v":"Anna"},{"$f":"D111","v":"6.A"},{"$f":"E111","v":100},null,{"$f":"G111","v":"Jilemnice 19.06.23"},{"$f":"H111","v":642},null,{"$f":"J111","v":0},{"$f":"K111","v":0},{"$f":"L111","v":0}]
["2.",{"$f":"B112","v":"FARSKÁ"},"Eliška","6.A",100,null,{"$f":"G112","v":"Jilemnice 19.06.23"},642,null,{"$f":"J112","v":0},0,0]
["3.",{"$f":"B113","v":"FEDORKOVÁ"},"Denisa","6.A",95,null,{"$f":"G113","v":"Jilemnice 19.06.23"},609.5,null,{"$f":"J113","v":0},0,0]
["4.",{"$f":"B114","v":"HAUZEROVÁ"},"Tereza","6.A",100,null,{"$f":"G114","v":"Jilemnice 19.06.23"},642,null,{"$f":"J114","v":0},0,0]
["5.",{"$f":"B115","v":"JOSKOVÁ"},"Ellen","6.A",95,null,{"$f":"G115","v":"Jilemnice 19.06.23"},609.5,null,{"$f":"J115","v":0},0,0]
["6.",{"$f":"B116","v":"KUŽELOVÁ"},"Amálie","6.A",0,null,{"$f":"G116","v":0},0,null,{"$f":"J116","v":0},0,0]
["7.",{"$f":"B117","v":"RYŠAVÁ"},"Amálie","6.A",0,null,{"$f":"G117","v":0},0,null,{"$f":"J117","v":0},0,0]
["8.",{"$f":"B118","v":"BANGOVÁ"},"Zuzana","6.B",95,null,{"$f":"G118","v":"Jilemnice 19.06.23"},609.5,null,{"$f":"J118","v":0},0,0]
["9.",{"$f":"B119","v":"HOLUBOVÁ"},"Denisa","6.B",100,null,{"$f":"G119","v":"Jilemnice 19.06.23"},642,null,{"$f":"J119","v":0},0,0]
["10.",{"$f":"B120","v":"HURKALO"},"Karolina","6.B",0,null,{"$f":"G120","v":0},0,null,{"$f":"J120","v":0},0,0]
["11.",{"$f":"B121","v":"HUTNIK-MAMONOVA"},"Nana","6.B",0,null,{"$f":"G121","v":0},0,null,{"$f":"J121","v":0},0,0]
["12.",{"$f":"B122","v":"MARINOVA"},"Darja","6.B",0,null,{"$f":"G122","v":0},0,null,{"$f":"J122","v":0},0,0]
["13.",{"$f":"B123","v":"NYKLÍČKOVÁ"},"Klára","6.B",85,null,{"$f":"G123","v":"Jilemnice 19.06.23"},544.5,null,{"$f":"J123","v":0},0,0]
["14.",{"$f":"B124","v":"PANCHAYEVA"},"Sofiia","6.B",0,null,{"$f":"G124","v":0},0,null,{"$f":"J124","v":0},0,0]
["15.",{"$f":"B125","v":"PIČMANOVÁ"},"Klára","6.B",0,null,{"$f":"G125","v":0},0,null,{"$f":"J125","v":0},0,0]
["16.",{"$f":"B126","v":"ŠIMŮNKOVÁ"},"Anežka","6.B",100,null,{"$f":"G126","v":"Jilemnice 19.06.23"},642,null,{"$f":"J126","v":0},0,0]
["17.",{"$f":"B127","v":"TRPIŠOVSKÁ"},"Nela","6.B",100,null,{"$f":"G127","v":"Jilemnice 19.06.23"},642,null,{"$f":"J127","v":0},0,0]
["18.",{"$f":"B128","v":"HEJRALOVÁ"},"Natálie","7.A",115,null,{"$f":"G128","v":"Jilemnice 24.10.22"},739.5,null,{"$f":"J128","v":115},0,0]
["19.",{"$f":"B129","v":"KERLE"},"Nikita","7.A",105,null,{"$f":"G129","v":"Jilemnice 31.10.22"},674.5,null,{"$f":"J129","v":115},0,0]
["20.",{"$f":"B130","v":"MUNZAROVÁ"},"Aneta","7.A",0,null,{"$f":"G130","v":0},0,null,{"$f":"J130","v":0},0,0]
["21.",{"$f":"B131","v":"PACLÍKOVÁ"},"Markéta","7.A",125,null,{"$f":"G131","v":"Jilemnice 05.06.23"},804.5,null,{"$f":"J131","v":120},0,0]
["22.",{"$f":"B132","v":"PLŮCHOVÁ"},"Michaela","7.A",125,null,{"$f":"G132","v":"Turnov 11.05.23"},804.5,null,{"$f":"J132","v":110},0,0]
["23.",{"$f":"B133","v":"ŠERCLOVÁ"},"Nikola","7.A",95,null,{"$f":"G133","v":"Jilemnice 31.10.22"},609.5,null,{"$f":"J133","v":0},0,0]
["24.",{"$f":"B134","v":"VÁCLAVÍKOVÁ"},"Alena","7.A",95,null,{"$f":"G134","v":"Jilemnice 31.10.22"},609.5,null,{"$f":"J134","v":95},0,0]
["25.",{"$f":"B135","v":"DUCHÁČKOVÁ"},"Tereza","7.B",90,null,{"$f":"G135","v":"Jilemnice 31.10.22"},577,null,{"$f":"J135","v":85},0,0]
["26.",{"$f":"B136","v":"FLAŠKOVÁ"},"Anna Sabriel","7.B",95,null,{"$f":"G136","v":"Jilemnice 31.10.22"},609.5,null,{"$f":"J136","v":105},0,0]
["27.",{"$f":"B137","v":"HAASOVÁ"},"Julie","7.B",0,null,{"$f":"G137","v":0},0,null,{"$f":"J137","v":105},0,0]
["28.",{"$f":"B138","v":"HEGROVÁ"},"Štěpánka","7.B",0,null,{"$f":"G138","v":0},0,null,{"$f":"J138","v":0},0,0]
["29.",{"$f":"B139","v":"HOBLOVÁ"},"Barbora","7.B",95,null,{"$f":"G139","v":"Jilemnice 05.06.23"},609.5,null,{"$f":"J139","v":95},0,0]
["30.",{"$f":"B140","v":"HORÁČKOVÁ"},"Valérie","7.B",105,null,{"$f":"G140","v":"Jilemnice 31.10.22"},674.5,null,{"$f":"J140","v":100},0,0]
["31.",{"$f":"B141","v":"JIRANOVÁ"},"Anežka","7.B",0,null,{"$f":"G141","v":0},0,null,{"$f":"J141","v":80},0,0]
["32.",{"$f":"B142","v":"KRČÍKOVÁ"},"Beatrix","7.B",125,null,{"$f":"G142","v":"Turnov 11.05.23"},804.5,null,{"$f":"J142","v":110},0,0]
["33.",{"$f":"B143","v":"KUBÁTOVÁ"},"Veronika","7.B",0,null,{"$f":"G143","v":0},0,null,{"$f":"J143","v":0},0,0]
["34.",{"$f":"B144","v":"LENČEŠOVÁ"},"Silvie","7.B",90,null,{"$f":"G144","v":"Jilemnice 31.10.22"},577,null,{"$f":"J144","v":85},0,0]
["35.",{"$f":"B145","v":"LUKEŠOVÁ"},"Lucie","7.B",0,null,{"$f":"G145","v":0},0,null,{"$f":"J145","v":0},0,0]
["36.",{"$f":"B146","v":"MATERNOVÁ"},"Lenka","7.B",105,null,{"$f":"G146","v":"Jilemnice 31.10.22"},674.5,null,{"$f":"J146","v":110},0,0]
["37.",{"$f":"B147","v":"TÓTHOVÁ"},"Viktorie","7.B",100,null,{"$f":"G147","v":"Jilemnice 31.10.22"},642,null,{"$f":"J147","v":100},0,0]
["38.",{"$f":"B148","v":"DUONG"},"Ngoc Linh","8.A",110,null,{"$f":"G148","v":"Jilemnice 26.05.23"},707,null,{"$f":"J148","v":0},0,0]
["39.",{"$f":"B149","v":"GINGALOVÁ"},"Linda","8.A",126,null,{"$f":"G149","v":"Turnov 16.05.23"},811,null,{"$f":"J149","v":115},0,0]
["40.",{"$f":"B150","v":"HOFMANOVÁ "},"Nicol","8.A",0,null,{"$f":"G150","v":0},0,null,{"$f":"J150","v":0},0,0]
["41.",{"$f":"B151","v":"HOLEŠOVSKÁ"},"Aneta","8.A",0,null,{"$f":"G151","v":0},0,null,{"$f":"J151","v":0},0,0]
["42.",{"$f":"B152","v":"HOLUBCOVÁ"},"Alena","8.A",105,null,{"$f":"G152","v":"Jilemnice 31.10.22"},674.5,null,{"$f":"J152","v":115},0,0]
["43.",{"$f":"B153","v":"KOHOUTOVÁ"},"Anna","8.A",95,null,{"$f":"G153","v":"Jilemnice 31.10.22"},609.5,null,{"$f":"J153","v":105},0,0]
["44.",{"$f":"B154","v":"KRAUSOVÁ"},"Anežka","8.A",105,null,{"$f":"G154","v":"Jilemnice 31.10.23"},674.5,null,{"$f":"J154","v":105},0,0]
["45.",{"$f":"B155","v":"KUŽELOVÁ"},"Apoléna","8.A",0,null,{"$f":"G155","v":0},0,null,{"$f":"J155","v":105},0,0]
["46.",{"$f":"B156","v":"MORÁVKOVÁ"},"Lucie","8.A",0,null,{"$f":"G156","v":0},0,null,{"$f":"J156","v":0},0,0]
["47.",{"$f":"B157","v":"SKLENÁROVÁ"},"Eliška","8.A",110,null,{"$f":"G157","v":"Jilemnice 24.10.22"},707,null,{"$f":"J157","v":105},0,0]
["48.",{"$f":"B158","v":"ŠEJNOVÁ"},"Karolína","8.A",0,null,{"$f":"G158","v":0},0,null,{"$f":"J158","v":100},0,0]
["49.",{"$f":"B159","v":"ŠTOLFOVÁ"},"Tereza","8.A",95,null,{"$f":"G159","v":"Jilemnice 31.10.22"},609.5,null,{"$f":"J159","v":110},0,0]
["50.",{"$f":"B160","v":"ŠUBÍKOVÁ"},"Klára","8.A",115,null,{"$f":"G160","v":"Jilemnice 24.10.22"},739.5,null,{"$f":"J160","v":115},0,0]
["51.",{"$f":"B161","v":"ŠULKOVSKÁ"},"Klára","8.A",0,null,{"$f":"G161","v":0},0,null,{"$f":"J161","v":0},0,0]
["52.",{"$f":"B162","v":"TULÁČKOVÁ"},"Natálie","8.A",0,null,{"$f":"G162","v":0},0,null,{"$f":"J162","v":0},0,0]
["53.",{"$f":"B163","v":"VOJTÍŠKOVÁ"},"Ella","8.A",137,null,{"$f":"G163","v":"Jilemnice 19.06.23"},882.5,null,{"$f":"J163","v":128},0,0]
["54.",{"$f":"B164","v":"DRUGÁČOVÁ"},"Kristinka","8.B",0,null,{"$f":"G164","v":0},0,null,{"$f":"J164","v":0},0,0]
["55.",{"$f":"B165","v":"FAJSTAVROVÁ"},"Karolína","8.B",100,null,{"$f":"G165","v":"Jilemnice 26.05.23"},642,null,{"$f":"J165","v":0},0,0]
["56.",{"$f":"B166","v":"FAJSTAVROVÁ"},"Magdaléna","8.B",95,null,{"$f":"G166","v":"Jilemnice 05.06.23"},609.5,null,{"$f":"J166","v":0},0,0]
["57.",{"$f":"B167","v":"JINDROVÁ"},"Barbora","8.B",115,null,{"$f":"G167","v":"Jilemnice 26.05.23"},739.5,null,{"$f":"J167","v":0},0,0]
["58.",{"$f":"B168","v":"MAŘASOVÁ"},"Vendula","8.B",110,null,{"$f":"G168","v":"Jilemnice 26.05.23"},707,null,{"$f":"J168","v":85},0,0]
["59.",{"$f":"B169","v":"PETŘÍČKOVÁ"},"Natálie","8.B",0,null,{"$f":"G169","v":0},0,null,{"$f":"J169","v":105},0,0]
["60.",{"$f":"B170","v":"PETŘÍKOVÁ"},"Adéla","8.B",90,null,{"$f":"G170","v":"Jilemnice 31.10.22"},577,null,{"$f":"J170","v":0},0,0]
["61.",{"$f":"B171","v":"REGÁLOVÁ"},"Karolína","8.B",0,null,{"$f":"G171","v":0},0,null,{"$f":"J171","v":105},0,0]
["62.",{"$f":"B172","v":"RIEGROVÁ"},"Magdaléna","8.B",100,null,{"$f":"G172","v":"Jilemnice 31.10.22"},642,null,{"$f":"J172","v":0},0,0]
["63.",{"$f":"B173","v":"RYBENSKÁ"},"Sabina","8.B",0,null,{"$f":"G173","v":0},0,null,{"$f":"J173","v":0},0,0]
["64.",{"$f":"B174","v":"STEINEROVÁ"},"Barbora","8.B",120,null,{"$f":"G174","v":"Jilemnice 26.05.23"},772,null,{"$f":"J174","v":105},0,0]
["65.",{"$f":"B175","v":"ŠERCLOVÁ"},"Andrea","8.B",0,null,{"$f":"G175","v":0},0,null,{"$f":"J175","v":0},0,0]
["66.",{"$f":"B176","v":"TOMEŠOVÁ"},"Barbora","8.B",0,null,{"$f":"G176","v":0},0,null,{"$f":"J176","v":0},0,0]
["67.",{"$f":"B177","v":"VOHNOUTOVÁ"},"Aneta","8.B",136,null,{"$f":"G177","v":"Turnov 11.05.23"},876,null,{"$f":"J177","v":105},0,0]
["68.",{"$f":"B178","v":"HAVLÍKOVÁ"},"Michaela","9.A",95,null,{"$f":"G178","v":"Jilemnice 26.05.23"},609.5,null,{"$f":"J178","v":100},0,0]
["69.",{"$f":"B179","v":"HOLUBCOVÁ"},"Sára","9.A",0,null,{"$f":"G179","v":0},0,null,{"$f":"J179","v":115},0,0]
["70.",{"$f":"B180","v":"HONCŮ"},"Tereza","9.A",110,null,{"$f":"G180","v":"Jilemnice 26.05.23"},707,null,{"$f":"J180","v":110},0,0]
["71.",{"$f":"B181","v":"HORÁČKOVÁ"},"Kateřina","9.A",125,null,{"$f":"G181","v":"Turnov   13.09.22"},804.5,null,{"$f":"J181","v":120},0,0]
["72.",{"$f":"B182","v":"JOUDALOVÁ"},"Daniela","9.A",0,null,{"$f":"G182","v":0},0,null,{"$f":"J182","v":0},0,0]
["73.",{"$f":"B183","v":"KLÍMOVÁ"},"Anna","9.A",105,null,{"$f":"G183","v":"Jilemnice 26.05.23"},674.5,null,{"$f":"J183","v":110},0,0]
["74.",{"$f":"B184","v":"KOHOUTOVÁ"},"Veronika","9.A",105,null,{"$f":"G184","v":"Jilemnice 26.05.23"},674.5,null,{"$f":"J184","v":110},0,0]
["75.",{"$f":"B185","v":"KOVÁŘOVÁ"},"Viktorie","9.A",0,null,{"$f":"G185","v":0},0,null,{"$f":"J185","v":120},0,0]
["76.",{"$f":"B186","v":"KYNČLOVÁ"},"Anna","9.A",142,null,{"$f":"G186","v":"Turnov 11.05.23"},915,null,{"$f":"J186","v":110},0,0]
["77.",{"$f":"B187","v":"MATOUŠOVÁ"},"Tereza","9.A",0,null,{"$f":"G187","v":0},0,null,{"$f":"J187","v":125},0,0]
["78.",{"$f":"B188","v":"MAZÁNKOVÁ"},"Zuzana","9.A",95,null,{"$f":"G188","v":"Jilemnice 26.05.23"},609.5,null,{"$f":"J188","v":0},0,0]
["79.",{"$f":"B189","v":"MORKESOVÁ"},"Sabrina","9.A",115,null,{"$f":"G189","v":"Jilemnice 26.05.23"},739.5,null,{"$f":"J189","v":125},0,0]
["80.",{"$f":"B190","v":"POHOŘALÁ"},"Alžběta","9.A",0,null,{"$f":"G190","v":0},0,null,{"$f":"J190","v":115},0,0]
["81.",{"$f":"B191","v":"SCHOLZOVÁ"},"Laura","9.A",0,null,{"$f":"G191","v":0},0,null,{"$f":"J191","v":0},0,0]
["82.",{"$f":"B192","v":"VÁCLAVÍKOVÁ"},"Valerie","9.A",0,null,{"$f":"G192","v":0},0,null,{"$f":"J192","v":115},0,0]
["83.",{"$f":"B193","v":"ZAPADLOVÁ"},"Emma","9.A",125,null,{"$f":"G193","v":"Turnov   13.09.22"},804.5,null,{"$f":"J193","v":120},0,0]
["84.",{"$f":"B194","v":"ŽIŠKOVÁ"},"Mia","9.A",0,null,{"$f":"G194","v":0},0,null,{"$f":"J194","v":0},0,0]
["85.",{"$f":"B195","v":"FARSKÁ"},"Tereza","9.B",0,null,{"$f":"G195","v":0},0,null,{"$f":"J195","v":0},0,0]
["86.",{"$f":"B196","v":"FEIXOVÁ"},"Rozálie","9.B",0,null,{"$f":"G196","v":0},0,null,{"$f":"J196","v":0},0,0]
["87.",{"$f":"B197","v":"FIŠEROVÁ"},"Michaela","9.B",0,null,{"$f":"G197","v":0},0,null,{"$f":"J197","v":0},89,0]
["88.",{"$f":"B198","v":"HAVLÍČKOVÁ"},"Kristýna","9.B",0,null,{"$f":"G198","v":0},0,null,{"$f":"J198","v":0},0,0]
["89.",{"$f":"B199","v":"KADAVÁ"},"Nikola","9.B",0,null,{"$f":"G199","v":0},0,null,{"$f":"J199","v":0},0,0]
["90.",{"$f":"B200","v":"KŘIVINKOVÁ"},"Alžběta","9.B",0,null,{"$f":"G200","v":0},0,null,{"$f":"J200","v":0},0,0]
["91.",{"$f":"B201","v":"LEŠÁKOVÁ"},"Lenka","9.B",0,null,{"$f":"G201","v":0},0,null,{"$f":"J201","v":0},0,0]
["92.",{"$f":"B202","v":"NYKLÍČKOVÁ"},"Adéla","9.B",0,null,{"$f":"G202","v":0},0,null,{"$f":"J202","v":118},104,0]
["93.",{"$f":"B203","v":"PLŮCHOVÁ"},"Petra","9.B",0,null,{"$f":"G203","v":0},0,null,{"$f":"J203","v":0},104,0]
["94.",{"$f":"B204","v":"PODZIMKOVÁ"},"Eliška","9.B",0,null,{"$f":"G204","v":0},0,null,{"$f":"J204","v":0},93,0]
["95.",{"$f":"B205","v":"RUTKAYOVÁ"},"Klára","9.B",0,null,{"$f":"G205","v":0},0,null,{"$f":"J205","v":0},0,0]
["96.",{"$f":"B206","v":"SEIDLOVÁ"},"Zuzana","9.B",0,null,{"$f":"G206","v":0},0,null,{"$f":"J206","v":0},99,0]
["97.",{"$f":"B207","v":"TOMÁŠOVÁ"},"Sára","9.B",0,null,{"$f":"G207","v":0},0,null,{"$f":"J207","v":0},0,0]
["98.",{"$f":"B208","v":"VANCLOVÁ"},"Barbora","9.B",0,null,{"$f":"G208","v":0},0,null,{"$f":"J208","v":0},99,0]
["99.",{"$f":"B209","v":"VOTOČKOVÁ"},"Veronika","9.B",0,null,{"$f":"G209","v":0},0,null,{"$f":"J209","v":0},0,0]
[]
[]
[]
[]
[]
[]
[]
[]
[]
[null,"FARSKÁ","Anna","6.A",100,null,"Jilemnice 19.06.23",{"$f":"IF(E111=0,0,(IF(E111>0,E111*5*1.3-8)))","v":642}]
[null,"FARSKÁ","Eliška","6.A",100,null,"Jilemnice 19.06.23",642]
[null,"FEDORKOVÁ","Denisa","6.A",95,null,"Jilemnice 19.06.23",609.5]
[null,"HAUZEROVÁ","Tereza","6.A",100,null,"Jilemnice 19.06.23",642]
[null,"JOSKOVÁ","Ellen","6.A",95,null,"Jilemnice 19.06.23",609.5]
[null,"KUŽELOVÁ","Amálie","6.A",null,null,null,0]
[null,"RYŠAVÁ","Amálie","6.A",null,null,null,0]
[null,"BANGOVÁ","Zuzana","6.B",95,null,"Jilemnice 19.06.23",609.5]
[null,"HOLUBOVÁ","Denisa","6.B",100,null,"Jilemnice 19.06.23",642]
[null,"HURKALO","Karolina","6.B",null,null,null,0]
[null,"HUTNIK-MAMONOVA","Nana","6.B",null,null,null,0]
[null,"MARINOVA","Darja","6.B",null,null,null,0]
[null,"NYKLÍČKOVÁ","Klára","6.B",85,null,"Jilemnice 19.06.23",544.5]
[null,"PANCHAYEVA","Sofiia","6.B",null,null,null,0]
[null,"PIČMANOVÁ","Klára","6.B",null,null,null,0]
[null,"ŠIMŮNKOVÁ","Anežka","6.B",100,null,"Jilemnice 19.06.23",642]
[null,"TRPIŠOVSKÁ","Nela","6.B",100,null,"Jilemnice 19.06.23",642]
[null,"HEJRALOVÁ","Natálie","7.A",115,null,"Jilemnice 24.10.22",739.5,null,115]
[null,"KERLE","Nikita","7.A",105,null,"Jilemnice 31.10.22",674.5,null,115]
[null,"MUNZAROVÁ","Aneta","7.A",null,null,null,0]
[null,"PACLÍKOVÁ","Markéta","7.A",125,null,"Jilemnice 05.06.23",804.5,null,120]
[null,"PLŮCHOVÁ","Michaela","7.A",125,null,"Turnov 11.05.23",804.5,null,110]
[null,"ŠERCLOVÁ","Nikola","7.A",95,null,"Jilemnice 31.10.22",609.5]
[null,"VÁCLAVÍKOVÁ","Alena","7.A",95,null,"Jilemnice 31.10.22",609.5,null,95]
[null,"DUCHÁČKOVÁ","Tereza","7.B",90,null,"Jilemnice 31.10.22",577,null,85]
[null,"FLAŠKOVÁ","Anna Sabriel","7.B",95,null,"Jilemnice 31.10.22",609.5,null,105]
[null,"HAASOVÁ","Julie","7.B",null,null,null,0,null,105]
[null,"HEGROVÁ","Štěpánka","7.B",null,null,null,0]
[null,"HOBLOVÁ","Barbora","7.B",95,null,"Jilemnice 05.06.23",609.5,null,95]
[null,"HORÁČKOVÁ","Valérie","7.B",105,null,"Jilemnice 31.10.22",674.5,null,100]
[null,"JIRANOVÁ","Anežka","7.B",null,null,null,0,null,80]
[null,"KRČÍKOVÁ","Beatrix","7.B",125,null,"Turnov 11.05.23",804.5,null,110]
[null,"KUBÁTOVÁ","Veronika","7.B",null,null,null,{"$f":"IF(E143=0,0,(IF(E143>0,E143*5*1.3-8)))","v":0}]
[null,"LENČEŠOVÁ","Silvie","7.B",90,null,"Jilemnice 31.10.22",577,null,85]
[null,"LUKEŠOVÁ","Lucie","7.B",null,null,null,0]
[null,"MATERNOVÁ","Lenka","7.B",105,null,"Jilemnice 31.10.22",674.5,null,110]
[null,"TÓTHOVÁ","Viktorie","7.B",100,null,"Jilemnice 31.10.22",642,null,100]
[null,"DUONG","Ngoc Linh","8.A",110,null,"Jilemnice 26.05.23",707]
[null,"GINGALOVÁ","Linda","8.A",126,null,"Turnov 16.05.23",811,null,115]
[null,"HOFMANOVÁ ","Nicol","8.A",null,null,null,0]
[null,"HOLEŠOVSKÁ","Aneta","8.A",null,null,null,0]
[null,"HOLUBCOVÁ","Alena","8.A",105,null,"Jilemnice 31.10.22",674.5,null,115]
[null,"KOHOUTOVÁ","Anna","8.A",95,null,"Jilemnice 31.10.22",609.5,null,105]
[null,"KRAUSOVÁ","Anežka","8.A",105,null,"Jilemnice 31.10.23",674.5,null,105]
[null,"KUŽELOVÁ","Apoléna","8.A",null,null,null,0,null,105]
[null,"MORÁVKOVÁ","Lucie","8.A",null,null,null,0]
[null,"SKLENÁROVÁ","Eliška","8.A",110,null,"Jilemnice 24.10.22",707,null,105]
[null,"ŠEJNOVÁ","Karolína","8.A",null,null,null,0,null,100]
[null,"ŠTOLFOVÁ","Tereza","8.A",95,null,"Jilemnice 31.10.22",609.5,null,110]
[null,"ŠUBÍKOVÁ","Klára","8.A",115,null,"Jilemnice 24.10.22",739.5,null,115]
[null,"ŠULKOVSKÁ","Klára","8.A",null,null,null,0]
[null,"TULÁČKOVÁ","Natálie","8.A",null,null,null,0]
[null,"VOJTÍŠKOVÁ","Ella","8.A",137,null,"Jilemnice 19.06.23",882.5,null,128]
[null,"DRUGÁČOVÁ","Kristinka","8.B",null,null,null,0]
[null,"FAJSTAVROVÁ","Karolína","8.B",100,null,"Jilemnice 26.05.23",642]
[null,"FAJSTAVROVÁ","Magdaléna","8.B",95,null,"Jilemnice 05.06.23",609.5]
[null,"JINDROVÁ","Barbora","8.B",115,null,"Jilemnice 26.05.23",739.5]
[null,"MAŘASOVÁ","Vendula","8.B",110,null,"Jilemnice 26.05.23",707,null,85]
[null,"PETŘÍČKOVÁ","Natálie","8.B",null,null,null,0,null,105]
[null,"PETŘÍKOVÁ","Adéla","8.B",90,null,"Jilemnice 31.10.22",577]
[null,"REGÁLOVÁ","Karolína","8.B",null,null,null,0,null,105]
[null,"RIEGROVÁ","Magdaléna","8.B",100,null,"Jilemnice 31.10.22",642]
[null,"RYBENSKÁ","Sabina","8.B",null,null,null,0]
[null,"STEINEROVÁ","Barbora","8.B",120,null,"Jilemnice 26.05.23",772,null,105]
[null,"ŠERCLOVÁ","Andrea","8.B",null,null,null,{"$f":"IF(E175=0,0,(IF(E175>0,E175*5*1.3-8)))","v":0}]
[null,"TOMEŠOVÁ","Barbora","8.B",null,null,null,0]
[null,"VOHNOUTOVÁ","Aneta","8.B",136,null,"Turnov 11.05.23",876,null,105]
[null,"HAVLÍKOVÁ","Michaela","9.A",95,null,"Jilemnice 26.05.23",609.5,null,100]
[null,"HOLUBCOVÁ","Sára","9.A",null,null,null,0,null,115]
[null,"HONCŮ","Tereza","9.A",110,null,"Jilemnice 26.05.23",707,null,110]
[null,"HORÁČKOVÁ","Kateřina","9.A",125,null,"Turnov   13.09.22",804.5,null,120]
[null,"JOUDALOVÁ","Daniela","9.A",null,null,null,0]
[null,"KLÍMOVÁ","Anna","9.A",105,null,"Jilemnice 26.05.23",674.5,null,110]
[null,"KOHOUTOVÁ","Veronika","9.A",105,null,"Jilemnice 26.05.23",674.5,null,110]
[null,"KOVÁŘOVÁ","Viktorie","9.A",null,null,null,0,null,120]
[null,"KYNČLOVÁ","Anna","9.A",142,null,"Turnov 11.05.23",915,null,110]
[null,"MATOUŠOVÁ","Tereza","9.A",null,null,null,0,null,125]
[null,"MAZÁNKOVÁ","Zuzana","9.A",95,null,"Jilemnice 26.05.23",609.5]
[null,"MORKESOVÁ","Sabrina","9.A",115,null,"Jilemnice 26.05.23",739.5,null,125]
[null,"POHOŘALÁ","Alžběta","9.A",null,null,null,0,null,115]
[null,"SCHOLZOVÁ","Laura","9.A",null,null,null,0]
[null,"VÁCLAVÍKOVÁ","Valerie","9.A",null,null,null,0,null,115]
[null,"ZAPADLOVÁ","Emma","9.A",125,null,"Turnov   13.09.22",804.5,null,120]
[null,"ŽIŠKOVÁ","Mia","9.A",null,null,null,0]
[null,"FARSKÁ","Tereza","9.B",null,null,null,0]
[null,"FEIXOVÁ","Rozálie","9.B",null,null,null,0]
[null,"FIŠEROVÁ","Michaela","9.B",null,null,null,0,null,null,89]
[null,"HAVLÍČKOVÁ","Kristýna","9.B",null,null,null,0]
[null,"KADAVÁ","Nikola","9.B",null,null,null,0]
[null,"KŘIVINKOVÁ","Alžběta","9.B",null,null,null,0]
[null,"LEŠÁKOVÁ","Lenka","9.B",null,null,null,0]
[null,"NYKLÍČKOVÁ","Adéla","9.B",null,null,null,0,null,118,104]
[null,"PLŮCHOVÁ","Petra","9.B",null,null,null,0,null,null,104]
[null,"PODZIMKOVÁ","Eliška","9.B",null,null,null,0,null,null,93]
[null,"RUTKAYOVÁ","Klára","9.B",null,null,null,0]
[null,"SEIDLOVÁ","Zuzana","9.B",null,null,null,0,null,null,99]
[null,"TOMÁŠOVÁ","Sára","9.B",null,null,null,0]
[null,"VANCLOVÁ","Barbora","9.B",null,null,null,0,null,null,99]
[null,"VOTOČKOVÁ","Veronika","9.B",null,null,null,0]

{"sheet":"Dmíč","index":11,"n_rows":209,"n_cols":12,"rows_kept":209,"cut":false,"hidden":false,"merged":[[0,1,0,5]]}
[null,"VÝKONY  2022 - 2023",null,null,null,null,"MÍČEK",null,null,null,"stav  k ",{"$f":"TODAY()","v":45103}]
[null,null,null,null,null,null,null,"   BODY",null,"   21 - 22   ","   20 - 21   ","   19 - 20   "]
["1.",{"$f":"B111","v":"FARSKÁ"},{"$f":"C111","v":"Anna"},{"$f":"D111","v":"6.A"},{"$f":"E111","v":19.5},"  ",{"$f":"G111","v":"Jilemnice  15.09.23"},{"$f":"H111","v":357.90000000000003}," ",{"$f":"J111","v":0},{"$f":"K111","v":0},{"$f":"L111","v":0}]
["2.",{"$f":"B112","v":"FARSKÁ"},"Eliška","6.A",20,"  ",{"$f":"G112","v":"Jilemnice  15.09.23"},367," ",{"$f":"J112","v":0},0,0]
["3.",{"$f":"B113","v":"FEDORKOVÁ"},"Denisa","6.A",15,"  ",{"$f":"G113","v":"Jilemnice  15.09.23"},276," ",{"$f":"J113","v":0},0,0]
["4.",{"$f":"B114","v":"HAUZEROVÁ"},"Tereza","6.A",14,"  ",{"$f":"G114","v":"Jilemnice  15.09.23"},257.8," ",{"$f":"J114","v":0},0,0]
["5.",{"$f":"B115","v":"JOSKOVÁ"},"Ellen","6.A",16,"  ",{"$f":"G115","v":"Jilemnice  15.09.23"},294.2," ",{"$f":"J115","v":0},0,0]
["6.",{"$f":"B116","v":"KUŽELOVÁ"},"Amálie","6.A",0,"  ",{"$f":"G116","v":0},0," ",{"$f":"J116","v":0},0,0]
["7.",{"$f":"B117","v":"RYŠAVÁ"},"Amálie","6.A",19,"  ",{"$f":"G117","v":"Jilemnice  15.09.23"},348.8," ",{"$f":"J117","v":0},0,0]
["8.",{"$f":"B118","v":"BANGOVÁ"},"Zuzana","6.B",17,"  ",{"$f":"G118","v":"Jilemnice  15.09.23"},312.40000000000003," ",{"$f":"J118","v":0},0,0]
["9.",{"$f":"B119","v":"HOLUBOVÁ"},"Denisa","6.B",18,"  ",{"$f":"G119","v":"Jilemnice  15.09.23"},330.6," ",{"$f":"J119","v":0},0,0]
["10.",{"$f":"B120","v":"HURKALO"},"Karolina","6.B",10,"  ",{"$f":"G120","v":"Jilemnice  15.09.23"},185," ",{"$f":"J120","v":0},0,0]
["11.",{"$f":"B121","v":"HUTNIK-MAMONOVA"},"Nana","6.B",5,"  ",{"$f":"G121","v":"Jilemnice  15.09.23"},94," ",{"$f":"J121","v":0},0,0]
["12.",{"$f":"B122","v":"MARINOVA"},"Darja","6.B",0,"  ",{"$f":"G122","v":0},0," ",{"$f":"J122","v":0},0,0]
["13.",{"$f":"B123","v":"NYKLÍČKOVÁ"},"Klára","6.B",19.5,"  ",{"$f":"G123","v":"Jilemnice  15.09.23"},357.90000000000003," ",{"$f":"J123","v":0},0,0]
["14.",{"$f":"B124","v":"PANCHAYEVA"},"Sofiia","6.B",6,"  ",{"$f":"G124","v":"Jilemnice  15.09.23"},112.2," ",{"$f":"J124","v":0},0,0]
["15.",{"$f":"B125","v":"PIČMANOVÁ"},"Klára","6.B",0,"  ",{"$f":"G125","v":0},0," ",{"$f":"J125","v":0},0,0]
["16.",{"$f":"B126","v":"ŠIMŮNKOVÁ"},"Anežka","6.B",0,"  ",{"$f":"G126","v":0},0," ",{"$f":"J126","v":0},0,0]
["17.",{"$f":"B127","v":"TRPIŠOVSKÁ"},"Nela","6.B",20.5,"  ",{"$f":"G127","v":"Jilemnice  15.09.23"},376.1," ",{"$f":"J127","v":0},0,0]
["18.",{"$f":"B128","v":"HEJRALOVÁ"},"Natálie","7.A",22.5,"  ",{"$f":"G128","v":"Jilemnice 10.10.22"},412.5," ",{"$f":"J128","v":23},0,0]
["19.",{"$f":"B129","v":"KERLE"},"Nikita","7.A",25,"  ",{"$f":"G129","v":"Jilemnice 24.05.23"},458," ",{"$f":"J129","v":20.5},0,0]
["20.",{"$f":"B130","v":"MUNZAROVÁ"},"Aneta","7.A",12,"  ",{"$f":"G130","v":"Jilemnice 24.05.23"},221.4," ",{"$f":"J130","v":0},0,0]
["21.",{"$f":"B131","v":"PACLÍKOVÁ"},"Markéta","7.A",32.479999999999997,"  ",{"$f":"G131","v":"Turnov   11.05.23"},594.13599999999997," ",{"$f":"J131","v":27},0,0]
["22.",{"$f":"B132","v":"PLŮCHOVÁ"},"Michaela","7.A",24,"  ",{"$f":"G132","v":"Jilemnice 10.10.22"},439.8," ",{"$f":"J132","v":19},0,0]
["23.",{"$f":"B133","v":"ŠERCLOVÁ"},"Nikola","7.A",22,"  ",{"$f":"G133","v":"Jilemnice 24.05.23"},403.40000000000003," ",{"$f":"J133","v":0},0,0]
["24.",{"$f":"B134","v":"VÁCLAVÍKOVÁ"},"Alena","7.A",21,"  ",{"$f":"G134","v":"Jilemnice 24.05.23"},385.2," ",{"$f":"J134","v":0},0,0]
["25.",{"$f":"B135","v":"DUCHÁČKOVÁ"},"Tereza","7.B",14,"  ",{"$f":"G135","v":"Jilemnice 10.10.22"},257.8," ",{"$f":"J135","v":12.5},0,0]
["26.",{"$f":"B136","v":"FLAŠKOVÁ"},"Anna Sabriel","7.B",23.5,"  ",{"$f":"G136","v":"Jilemnice 10.10.22"},430.7," ",{"$f":"J136","v":23},0,0]
["27.",{"$f":"B137","v":"HAASOVÁ"},"Julie","7.B",18,"  ",{"$f":"G137","v":"Turnov   13.09.22"},330.6," ",{"$f":"J137","v":23},0,0]
["28.",{"$f":"B138","v":"HEGROVÁ"},"Štěpánka","7.B",17.5,"  ",{"$f":"G138","v":"Jilemnice 24.05.23"},321.5," ",{"$f":"J138","v":0},0,0]
["29.",{"$f":"B139","v":"HOBLOVÁ"},"Barbora","7.B",20.5,"  ",{"$f":"G139","v":"Jilemnice 24.05.23"},376.1," ",{"$f":"J139","v":20.5},0,0]
["30.",{"$f":"B140","v":"HORÁČKOVÁ"},"Valérie","7.B",20,"  ",{"$f":"G140","v":"Jilemnice 24.05.23"},367," ",{"$f":"J140","v":20},0,0]
["31.",{"$f":"B141","v":"JIRANOVÁ"},"Anežka","7.B",20,"  ",{"$f":"G141","v":"Jilemnice 24.05.23"},367," ",{"$f":"J141","v":17.5},0,0]
["32.",{"$f":"B142","v":"KRČÍKOVÁ"},"Beatrix","7.B",31.84,"  ",{"$f":"G142","v":"Turnov   16.05.23"},582.48799999999994," ",{"$f":"J142","v":23.5},0,0]
["33.",{"$f":"B143","v":"KUBÁTOVÁ"},"Veronika","7.B",11,"  ",{"$f":"G143","v":"Jilemnice 24.05.23"},203.20000000000002," ",{"$f":"J143","v":7},0,0]
["34.",{"$f":"B144","v":"LENČEŠOVÁ"},"Silvie","7.B",25,"  ",{"$f":"G144","v":"Jilemnice 24.05.23"},458," ",{"$f":"J144","v":21},0,0]
["35.",{"$f":"B145","v":"LUKEŠOVÁ"},"Lucie","7.B",19,"  ",{"$f":"G145","v":"Jilemnice 24.05.23"},348.8," ",{"$f":"J145","v":0},0,0]
["36.",{"$f":"B146","v":"MATERNOVÁ"},"Lenka","7.B",14.5,"  ",{"$f":"G146","v":"Jilemnice 10.10.22"},266.90000000000003," ",{"$f":"J146","v":15.5},0,0]
["37.",{"$f":"B147","v":"TÓTHOVÁ"},"Viktorie","7.B",22,"  ",{"$f":"G147","v":"Jilemnice 24.05.23"},403.40000000000003," ",{"$f":"J147","v":22},0,0]
["38.",{"$f":"B148","v":"DUONG"},"Ngoc Linh","8.A",34.5,"  ",{"$f":"G148","v":"Jilemnice 07.06.23"},630.9," ",{"$f":"J148","v":14.5},17.5,0]
["39.",{"$f":"B149","v":"GINGALOVÁ"},"Linda","8.A",30.5,"  ",{"$f":"G149","v":"Jilemnice 07.06.23"},558.1," ",{"$f":"J149","v":24},0,0]
["40.",{"$f":"B150","v":"HOFMANOVÁ "},"Nicol","8.A",0,"  ",{"$f":"G150","v":0},0," ",{"$f":"J150","v":21.5},15.5,0]
["41.",{"$f":"B151","v":"HOLEŠOVSKÁ"},"Aneta","8.A",24,"  ",{"$f":"G151","v":"Jilemnice 07.10.22"},439.8," ",{"$f":"J151","v":27.1},22.6,0]
["42.",{"$f":"B152","v":"HOLUBCOVÁ"},"Alena","8.A",37.5,"  ",{"$f":"G152","v":"Jilemnice 07.06.23"},685.5," ",{"$f":"J152","v":38.56},29,0]
["43.",{"$f":"B153","v":"KOHOUTOVÁ"},"Anna","8.A",17.5,"  ",{"$f":"G153","v":"Jilemnice 10.10.22"},321.5," ",{"$f":"J153","v":16},13,0]
["44.",{"$f":"B154","v":"KRAUSOVÁ"},"Anežka","8.A",27,"  ",{"$f":"G154","v":"Jilemnice 07.06.23"},494.40000000000003," ",{"$f":"J154","v":17.5},0,0]
["45.",{"$f":"B155","v":"KUŽELOVÁ"},"Apoléna","8.A",23,"  ",{"$f":"G155","v":"Jilemnice 07.10.22"},421.6," ",{"$f":"J155","v":22},18.399999999999999,0]
["46.",{"$f":"B156","v":"MORÁVKOVÁ"},"Lucie","8.A",17,"  ",{"$f":"G156","v":"Jilemnice 07.10.22"},312.40000000000003," ",{"$f":"J156","v":18},20.9,0]
["47.",{"$f":"B157","v":"SKLENÁROVÁ"},"Eliška","8.A",24.5,"  ",{"$f":"G157","v":"Jilemnice 10.10.22"},448.90000000000003," ",{"$f":"J157","v":0},0,0]
["48.",{"$f":"B158","v":"ŠEJNOVÁ"},"Karolína","8.A",18,"  ",{"$f":"G158","v":"Jilemnice 10.10.22"},330.6," ",{"$f":"J158","v":16},0,0]
["49.",{"$f":"B159","v":"ŠTOLFOVÁ"},"Tereza","8.A",0,"  ",{"$f":"G159","v":0},0," ",{"$f":"J159","v":14.5},14,0]
["50.",{"$f":"B160","v":"ŠUBÍKOVÁ"},"Klára","8.A",23,"  ",{"$f":"G160","v":"Jilemnice 07.06.23"},421.6," ",{"$f":"J160","v":22},13,0]
["51.",{"$f":"B161","v":"ŠULKOVSKÁ"},"Klára","8.A",0,"  ",{"$f":"G161","v":0},0," ",{"$f":"J161","v":21},0,0]
["52.",{"$f":"B162","v":"TULÁČKOVÁ"},"Natálie","8.A",23.5,"  ",{"$f":"G162","v":"Jilemnice 07.10.22"},430.7," ",{"$f":"J162","v":20},17.8,0]
["53.",{"$f":"B163","v":"VOJTÍŠKOVÁ"},"Ella","8.A",37,"  ",{"$f":"G163","v":"Jilemnice 05.06.23"},676.4," ",{"$f":"J163","v":0},24.6,0]
["54.",{"$f":"B164","v":"DRUGÁČOVÁ"},"Kristinka","8.B",0,"  ",{"$f":"G164","v":0},0," ",{"$f":"J164","v":0},16.5,0]
["55.",{"$f":"B165","v":"FAJSTAVROVÁ"},"Karolína","8.B",25,"  ",{"$f":"G165","v":"Jilemnice 07.10.22"},458," ",{"$f":"J165","v":30.5},22.4,0]
["56.",{"$f":"B166","v":"FAJSTAVROVÁ"},"Magdaléna","8.B",34.5,"  ",{"$f":"G166","v":"Jilemnice 07.10.22"},630.9," ",{"$f":"J166","v":28.5},29,0]
["57.",{"$f":"B167","v":"JINDROVÁ"},"Barbora","8.B",16.5,"  ",{"$f":"G167","v":"Jilemnice 07.10.22"},303.3," ",{"$f":"J167","v":16},12,0]
["58.",{"$f":"B168","v":"MAŘASOVÁ"},"Vendula","8.B",20,"  ",{"$f":"G168","v":"Jilemnice 07.10.22"},367," ",{"$f":"J168","v":17.5},13,0]
["59.",{"$f":"B169","v":"PETŘÍČKOVÁ"},"Natálie","8.B",26.5,"  ",{"$f":"G169","v":"Jilemnice 07.10.22"},485.3," ",{"$f":"J169","v":23.5},21.8,0]
["60.",{"$f":"B170","v":"PETŘÍKOVÁ"},"Adéla","8.B",16.5,"  ",{"$f":"G170","v":"Jilemnice 10.10.22"},303.3," ",{"$f":"J170","v":16},11,0]
["61.",{"$f":"B171","v":"REGÁLOVÁ"},"Karolína","8.B",29,"  ",{"$f":"G171","v":"Jilemnice 07.10.22"},530.80000000000007," ",{"$f":"J171","v":29},23.2,0]
["62.",{"$f":"B172","v":"RIEGROVÁ"},"Magdaléna","8.B",17.5,"  ",{"$f":"G172","v":"Jilemnice 10.10.22"},321.5," ",{"$f":"J172","v":20},15.5,0]
["63.",{"$f":"B173","v":"RYBENSKÁ"},"Sabina","8.B",16,"  ",{"$f":"G173","v":"Jilemnice 07.10.22"},294.2," ",{"$f":"J173","v":15.2},12.6,0]
["64.",{"$f":"B174","v":"STEINEROVÁ"},"Barbora","8.B",33.5,"  ",{"$f":"G174","v":"Jilemnice 07.10.22"},612.70000000000005," ",{"$f":"J174","v":33.36},24.4,0]
["65.",{"$f":"B175","v":"ŠERCLOVÁ"},"Andrea","8.B",0,"  ",{"$f":"G175","v":0},0," ",{"$f":"J175","v":0},0,0]
["66.",{"$f":"B176","v":"TOMEŠOVÁ"},"Barbora","8.B",27,"  ",{"$f":"G176","v":"Jilemnice 07.10.22"},494.40000000000003," ",{"$f":"J176","v":24},16.2,0]
["67.",{"$f":"B177","v":"VOHNOUTOVÁ"},"Aneta","8.B",34.28,"  ",{"$f":"G177","v":"Turnov 11.05.23"},626.89600000000007," ",{"$f":"J177","v":35.020000000000003},29,0]
["68.",{"$f":"B178","v":"HAVLÍKOVÁ"},"Michaela","9.A",18.5,"  ",{"$f":"G178","v":"Jilemnice 24.05.23"},339.7," ",{"$f":"J178","v":16},0,10.5]
["69.",{"$f":"B179","v":"HOLUBCOVÁ"},"Sára","9.A",0,"  ",{"$f":"G179","v":0},0," ",{"$f":"J179","v":26},25,0]
["70.",{"$f":"B180","v":"HONCŮ"},"Tereza","9.A",25,"  ",{"$f":"G180","v":"Jilemnice 24.05.23"},458," ",{"$f":"J180","v":25},22,18.5]
["71.",{"$f":"B181","v":"HORÁČKOVÁ"},"Kateřina","9.A",26,"  ",{"$f":"G181","v":"Jilemnice 24.05.23"},476.2," ",{"$f":"J181","v":27},22,21]
["72.",{"$f":"B182","v":"JOUDALOVÁ"},"Daniela","9.A",0,"  ",{"$f":"G182","v":0},0," ",{"$f":"J182","v":0},0,10]
["73.",{"$f":"B183","v":"KLÍMOVÁ"},"Anna","9.A",24,"  ",{"$f":"G183","v":"Jilemnice 24.05.23"},439.8," ",{"$f":"J183","v":25},0,17.5]
["74.",{"$f":"B184","v":"KOHOUTOVÁ"},"Veronika","9.A",29,"  ",{"$f":"G184","v":"Jilemnice 24.05.23"},530.80000000000007," ",{"$f":"J184","v":28},29.5,24]
["75.",{"$f":"B185","v":"KOVÁŘOVÁ"},"Viktorie","9.A",30,"  ",{"$f":"G185","v":"Jilemnice 24.05.23"},549," ",{"$f":"J185","v":24.5},19.5,17.5]
["76.",{"$f":"B186","v":"KYNČLOVÁ"},"Anna","9.A",26.5,"  ",{"$f":"G186","v":"Jilemnice 24.05.23"},485.3," ",{"$f":"J186","v":28},27.5,21]
["77.",{"$f":"B187","v":"MATOUŠOVÁ"},"Tereza","9.A",25,"  ",{"$f":"G187","v":"Jilemnice 24.05.23"},458," ",{"$f":"J187","v":23},20.5,17.5]
["78.",{"$f":"B188","v":"MAZÁNKOVÁ"},"Zuzana","9.A",16,"  ",{"$f":"G188","v":"Jilemnice 24.05.23"},294.2," ",{"$f":"J188","v":15.5},19,14.5]
["79.",{"$f":"B189","v":"MORKESOVÁ"},"Sabrina","9.A",45.66,"  ",{"$f":"G189","v":"Turnov   11.05.23"},834.01199999999994," ",{"$f":"J189","v":40},42,36.5]
["80.",{"$f":"B190","v":"POHOŘALÁ"},"Alžběta","9.A",22,"  ",{"$f":"G190","v":"Jilemnice 24.05.23"},403.40000000000003," ",{"$f":"J190","v":24},22.5,15.5]
["81.",{"$f":"B191","v":"SCHOLZOVÁ"},"Laura","9.A",0,"  ",{"$f":"G191","v":0},0," ",{"$f":"J191","v":0},0,0]
["82.",{"$f":"B192","v":"VÁCLAVÍKOVÁ"},"Valerie","9.A",0,"  ",{"$f":"G192","v":0},0," ",{"$f":"J192","v":29},26.5,25.5]
["83.",{"$f":"B193","v":"ZAPADLOVÁ"},"Emma","9.A",42.5,"  ",{"$f":"G193","v":"Turnov   13.09.22"},776.5," ",{"$f":"J193","v":37.5},33.5,27.5]
["84.",{"$f":"B194","v":"ŽIŠKOVÁ"},"Mia","9.A",0,"  ",{"$f":"G194","v":0},0," ",{"$f":"J194","v":24},22.5,0]
["85.",{"$f":"B195","v":"FARSKÁ"},"Tereza","9.B",18,"  ",{"$f":"G195","v":"Jilemnice  07.10.22"},330.6," ",{"$f":"J195","v":19},0,0]
["86.",{"$f":"B196","v":"FEIXOVÁ"},"Rozálie","9.B",15,"  ",{"$f":"G196","v":"Jilemnice  07.10.22"},276," ",{"$f":"J196","v":13.5},0,0]
["87.",{"$f":"B197","v":"FIŠEROVÁ"},"Michaela","9.B",19,"  ",{"$f":"G197","v":"Jilemnice  07.10.22"},348.8," ",{"$f":"J197","v":19.5},0,0]
["88.",{"$f":"B198","v":"HAVLÍČKOVÁ"},"Kristýna","9.B",16.5,"  ",{"$f":"G198","v":"Jilemnice  07.10.22"},303.3," ",{"$f":"J198","v":16},0,0]
["89.",{"$f":"B199","v":"KADAVÁ"},"Nikola","9.B",14,"  ",{"$f":"G199","v":"Jilemnice  07.10.22"},257.8," ",{"$f":"J199","v":15},0,0]
["90.",{"$f":"B200","v":"KŘIVINKOVÁ"},"Alžběta","9.B",25,"  ",{"$f":"G200","v":"Jilemnice  07.10.22"},458," ",{"$f":"J200","v":24},0,0]
["91.",{"$f":"B201","v":"LEŠÁKOVÁ"},"Lenka","9.B",12,"  ",{"$f":"G201","v":"Jilemnice  07.10.22"},221.4," ",{"$f":"J201","v":15},0,0]
["92.",{"$f":"B202","v":"NYKLÍČKOVÁ"},"Adéla","9.B",23.5,"  ",{"$f":"G202","v":"Jilemnice  07.10.22"},430.7," ",{"$f":"J202","v":23.5},0,0]
["93.",{"$f":"B203","v":"PLŮCHOVÁ"},"Petra","9.B",24,"  ",{"$f":"G203","v":"Jilemnice  07.10.22"},439.8," ",{"$f":"J203","v":24},0,0]
["94.",{"$f":"B204","v":"PODZIMKOVÁ"},"Eliška","9.B",27,"  ",{"$f":"G204","v":"Jilemnice  07.10.22"},494.40000000000003," ",{"$f":"J204","v":26},0,0]
["95.",{"$f":"B205","v":"RUTKAYOVÁ"},"Klára","9.B",17,"  ",{"$f":"G205","v":"Jilemnice  07.10.22"},312.40000000000003," ",{"$f":"J205","v":15},0,0]
["96.",{"$f":"B206","v":"SEIDLOVÁ"},"Zuzana","9.B",34,"  ",{"$f":"G206","v":"Jilemnice  07.10.22"},621.80000000000007," ",{"$f":"J206","v":28.8},0,0]
["97.",{"$f":"B207","v":"TOMÁŠOVÁ"},"Sára","9.B",19.5,"  ",{"$f":"G207","v":"Jilemnice  07.10.22"},357.90000000000003," ",{"$f":"J207","v":18.5},0,0]
["98.",{"$f":"B208","v":"VANCLOVÁ"},"Barbora","9.B",24,"  ",{"$f":"G208","v":"Jilemnice  07.10.22"},439.8," ",{"$f":"J208","v":0},0,0]
["99.",{"$f":"B209","v":"VOTOČKOVÁ"},"Veronika","9.B",14,"  ",{"$f":"G209","v":"Jilemnice  07.10.22"},257.8," ",{"$f":"J209","v":16},0,0]
[]
[]
[]
[]
[]
[]
[]
[]
[]
[null,"FARSKÁ","Anna","6.A",19.5,null,"Jilemnice  15.09.23",{"$f":"IF(E111=0,0,IF(E111>0,E111*10*1.82+3))","v":357.90000000000003}]
[null,"FARSKÁ","Eliška","6.A",20,null,"Jilemnice  15.09.23",367]
[null,"FEDORKOVÁ","Denisa","6.A",15,null,"Jilemnice  15.09.23",276]
[null,"HAUZEROVÁ","Tereza","6.A",14,null,"Jilemnice  15.09.23",257.8]
[null,"JOSKOVÁ","Ellen","6.A",16,null,"Jilemnice  15.09.23",294.2]
[null,"KUŽELOVÁ","Amálie","6.A",null,null,null,0]
[null,"RYŠAVÁ","Amálie","6.A",19,null,"Jilemnice  15.09.23",348.8]
[null,"BANGOVÁ","Zuzana","6.B",17,null,"Jilemnice  15.09.23",312.40000000000003]
[null,"HOLUBOVÁ","Denisa","6.B",18,null,"Jilemnice  15.09.23",330.6]
[null,"HURKALO","Karolina","6.B",10,null,"Jilemnice  15.09.23",185]
[null,"HUTNIK-MAMONOVA","Nana","6.B",5,null,"Jilemnice  15.09.23",94]
[null,"MARINOVA","Darja","6.B",null,null,null,0]
[null,"NYKLÍČKOVÁ","Klára","6.B",19.5,null,"Jilemnice  15.09.23",357.90000000000003]
[null,"PANCHAYEVA","Sofiia","6.B",6,null,"Jilemnice  15.09.23",112.2]
[null,"PIČMANOVÁ","Klára","6.B",null,null,null,0]
[null,"ŠIMŮNKOVÁ","Anežka","6.B",null,null,null,0]
[null,"TRPIŠOVSKÁ","Nela","6.B",20.5,null,"Jilemnice  15.09.23",376.1]
[null,"HEJRALOVÁ","Natálie","7.A",22.5,null,"Jilemnice 10.10.22",412.5,null,23]
[null,"KERLE","Nikita","7.A",25,null,"Jilemnice 24.05.23",458,null,20.5]
[null,"MUNZAROVÁ","Aneta","7.A",12,null,"Jilemnice 24.05.23",221.4]
[null,"PACLÍKOVÁ","Markéta","7.A",32.479999999999997,null,"Turnov   11.05.23",594.13599999999997,null,27]
[null,"PLŮCHOVÁ","Michaela","7.A",24,null,"Jilemnice 10.10.22",439.8,null,19]
[null,"ŠERCLOVÁ","Nikola","7.A",22,null,"Jilemnice 24.05.23",403.40000000000003]
[null,"VÁCLAVÍKOVÁ","Alena","7.A",21,null,"Jilemnice 24.05.23",385.2]
[null,"DUCHÁČKOVÁ","Tereza","7.B",14,null,"Jilemnice 10.10.22",257.8,null,12.5]
[null,"FLAŠKOVÁ","Anna Sabriel","7.B",23.5,null,"Jilemnice 10.10.22",430.7,null,23]
[null,"HAASOVÁ","Julie","7.B",18,null,"Turnov   13.09.22",330.6,null,23]
[null,"HEGROVÁ","Štěpánka","7.B",17.5,null,"Jilemnice 24.05.23",321.5]
[null,"HOBLOVÁ","Barbora","7.B",20.5,null,"Jilemnice 24.05.23",376.1,null,20.5]
[null,"HORÁČKOVÁ","Valérie","7.B",20,null,"Jilemnice 24.05.23",367,null,20]
[null,"JIRANOVÁ","Anežka","7.B",20,null,"Jilemnice 24.05.23",367,null,17.5]
[null,"KRČÍKOVÁ","Beatrix","7.B",31.84,null,"Turnov   16.05.23",582.48799999999994,null,23.5]
[null,"KUBÁTOVÁ","Veronika","7.B",11,null,"Jilemnice 24.05.23",{"$f":"IF(E143=0,0,IF(E143>0,E143*10*1.82+3))","v":203.20000000000002},null,7]
[null,"LENČEŠOVÁ","Silvie","7.B",25,null,"Jilemnice 24.05.23",458,null,21]
[null,"LUKEŠOVÁ","Lucie","7.B",19,null,"Jilemnice 24.05.23",348.8]
[null,"MATERNOVÁ","Lenka","7.B",14.5,null,"Jilemnice 10.10.22",266.90000000000003,null,15.5]
[null,"TÓTHOVÁ","Viktorie","7.B",22,null,"Jilemnice 24.05.23",403.40000000000003,null,22]
[null,"DUONG","Ngoc Linh","8.A",34.5,null,"Jilemnice 07.06.23",630.9,null,14.5,17.5]
[null,"GINGALOVÁ","Linda","8.A",30.5,null,"Jilemnice 07.06.23",558.1,null,24]
[null,"HOFMANOVÁ ","Nicol","8.A",null,null,null,0,null,21.5,15.5]
[null,"HOLEŠOVSKÁ","Aneta","8.A",24,null,"Jilemnice 07.10.22",439.8,null,27.1,22.6]
[null,"HOLUBCOVÁ","Alena","8.A",37.5,null,"Jilemnice 07.06.23",685.5,null,38.56,29]
[null,"KOHOUTOVÁ","Anna","8.A",17.5,null,"Jilemnice 10.10.22",321.5,null,16,13]
[null,"KRAUSOVÁ","Anežka","8.A",27,null,"Jilemnice 07.06.23",494.40000000000003,null,17.5]
[null,"KUŽELOVÁ","Apoléna","8.A",23,null,"Jilemnice 07.10.22",421.6,null,22,18.399999999999999]
[null,"MORÁVKOVÁ","Lucie","8.A",17,null,"Jilemnice 07.10.22",312.40000000000003,null,18,20.9]
[null,"SKLENÁROVÁ","Eliška","8.A",24.5,null,"Jilemnice 10.10.22",448.90000000000003]
[null,"ŠEJNOVÁ","Karolína","8.A",18,null,"Jilemnice 10.10.22",330.6,null,16]
[null,"ŠTOLFOVÁ","Tereza","8.A",null,null,null,0,null,14.5,14]
[null,"ŠUBÍKOVÁ","Klára","8.A",23,null,"Jilemnice 07.06.23",421.6,null,22,13]
[null,"ŠULKOVSKÁ","Klára","8.A",null,null,null,0,null,21]
[null,"TULÁČKOVÁ","Natálie","8.A",23.5,null,"Jilemnice 07.10.22",430.7,null,20,17.8]
[null,"VOJTÍŠKOVÁ","Ella","8.A",37,null,"Jilemnice 05.06.23",676.4,null,null,24.6]
[null,"DRUGÁČOVÁ","Kristinka","8.B",null,null,null,0,null,null,16.5]
[null,"FAJSTAVROVÁ","Karolína","8.B",25,null,"Jilemnice 07.10.22",458,null,30.5,22.4]
[null,"FAJSTAVROVÁ","Magdaléna","8.B",34.5,null,"Jilemnice 07.10.22",630.9,null,28.5,29]
[null,"JINDROVÁ","Barbora","8.B",16.5,null,"Jilemnice 07.10.22",303.3,null,16,12]
[null,"MAŘASOVÁ","Vendula","8.B",20,null,"Jilemnice 07.10.22",367,null,17.5,13]
[null,"PETŘÍČKOVÁ","Natálie","8.B",26.5,null,"Jilemnice 07.10.22",485.3,null,23.5,21.8]
[null,"PETŘÍKOVÁ","Adéla","8.B",16.5,null,"Jilemnice 10.10.22",303.3,null,16,11]
[null,"REGÁLOVÁ","Karolína","8.B",29,null,"Jilemnice 07.10.22",530.80000000000007,null,29,23.2]
[null,"RIEGROVÁ","Magdaléna","8.B",17.5,null,"Jilemnice 10.10.22",321.5,null,20,15.5]
[null,"RYBENSKÁ","Sabina","8.B",16,null,"Jilemnice 07.10.22",294.2,null,15.2,12.6]
[null,"STEINEROVÁ","Barbora","8.B",33.5,null,"Jilemnice 07.10.22",612.70000000000005,null,33.36,24.4]
[null,"ŠERCLOVÁ","Andrea","8.B",null,null,null,{"$f":"IF(E175=0,0,IF(E175>0,E175*10*1.82+3))","v":0}]
[null,"TOMEŠOVÁ","Barbora","8.B",27,null,"Jilemnice 07.10.22",494.40000000000003,null,24,16.2]
[null,"VOHNOUTOVÁ","Aneta","8.B",34.28,null,"Turnov 11.05.23",626.89600000000007,null,35.020000000000003,29]
[null,"HAVLÍKOVÁ","Michaela","9.A",18.5,null,"Jilemnice 24.05.23",339.7,null,16,null,10.5]
[null,"HOLUBCOVÁ","Sára","9.A",null,null,null,0,null,26,25]
[null,"HONCŮ","Tereza","9.A",25,null,"Jilemnice 24.05.23",458,null,25,22,18.5]
[null,"HORÁČKOVÁ","Kateřina","9.A",26,null,"Jilemnice 24.05.23",476.2,null,27,22,21]
[null,"JOUDALOVÁ","Daniela","9.A",null,null,null,0,null,null,null,10]
[null,"KLÍMOVÁ","Anna","9.A",24,null,"Jilemnice 24.05.23",439.8,null,25,null,17.5]
[null,"KOHOUTOVÁ","Veronika","9.A",29,null,"Jilemnice 24.05.23",530.80000000000007,null,28,29.5,24]
[null,"KOVÁŘOVÁ","Viktorie","9.A",30,null,"Jilemnice 24.05.23",549,null,24.5,19.5,17.5]
[null,"KYNČLOVÁ","Anna","9.A",26.5,null,"Jilemnice 24.05.23",485.3,null,28,27.5,21]
[null,"MATOUŠOVÁ","Tereza","9.A",25,null,"Jilemnice 24.05.23",458,null,23,20.5,17.5]
[null,"MAZÁNKOVÁ","Zuzana","9.A",16,null,"Jilemnice 24.05.23",294.2,null,15.5,19,14.5]
[null,"MORKESOVÁ","Sabrina","9.A",45.66,null,"Turnov   11.05.23",834.01199999999994,null,40,42,36.5]
[null,"POHOŘALÁ","Alžběta","9.A",22,null,"Jilemnice 24.05.23",403.40000000000003,null,24,22.5,15.5]
[null,"SCHOLZOVÁ","Laura","9.A",null,null,null,0]
[null,"VÁCLAVÍKOVÁ","Valerie","9.A",null,null,null,0,null,29,26.5,25.5]
[null,"ZAPADLOVÁ","Emma","9.A",42.5,null,"Turnov   13.09.22",776.5,null,37.5,33.5,27.5]
[null,"ŽIŠKOVÁ","Mia","9.A",null,null,null,0,null,24,22.5]
[null,"FARSKÁ","Tereza","9.B",18,null,"Jilemnice  07.10.22",330.6,null,19]
[null,"FEIXOVÁ","Rozálie","9.B",15,null,"Jilemnice  07.10.22",276,null,13.5]
[null,"FIŠEROVÁ","Michaela","9.B",19,null,"Jilemnice  07.10.22",348.8,null,19.5]
[null,"HAVLÍČKOVÁ","Kristýna","9.B",16.5,null,"Jilemnice  07.10.22",303.3,null,16]
[null,"KADAVÁ","Nikola","9.B",14,null,"Jilemnice  07.10.22",257.8,null,15]
[null,"KŘIVINKOVÁ","Alžběta","9.B",25,null,"Jilemnice  07.10.22",458,null,24]
[null,"LEŠÁKOVÁ","Lenka","9.B",12,null,"Jilemnice  07.10.22",221.4,null,15]
[null,"NYKLÍČKOVÁ","Adéla","9.B",23.5,null,"Jilemnice  07.10.22",430.7,null,23.5]
[null,"PLŮCHOVÁ","Petra","9.B",24,null,"Jilemnice  07.10.22",439.8,null,24]
[null,"PODZIMKOVÁ","Eliška","9.B",27,null,"Jilemnice  07.10.22",494.40000000000003,null,26]
[null,"RUTKAYOVÁ","Klára","9.B",17,null,"Jilemnice  07.10.22",312.40000000000003,null,15]
[null,"SEIDLOVÁ","Zuzana","9.B",34,null,"Jilemnice  07.10.22",621.80000000000007,null,28.8]
[null,"TOMÁŠOVÁ","Sára","9.B",19.5,null,"Jilemnice  07.10.22",357.90000000000003,null,18.5]
[null,"VANCLOVÁ","Barbora","9.B",24,null,"Jilemnice  07.10.22",439.8]
[null,"VOTOČKOVÁ","Veronika","9.B",14,null,"Jilemnice  07.10.22",257.8,null,16]

{"sheet":"Dkou","index":12,"n_rows":209,"n_cols":12,"rows_kept":209,"cut":false,"hidden":false,"merged":[[0,1,0,5]]}
[null,"VÝKONY  2022 - 2023",null,null,null,null,"KOULE",null,null,null,"stav  k ",{"$f":"TODAY()","v":"2023-06-26"}]
[null,null,null,null,null,null,null,"   BODY",null,"   21 - 22   ","   20 - 21   ","   19 - 20   "]
["1.",{"$f":"B111","v":"FARSKÁ"},{"$f":"C111","v":"Anna"},"6.A",5.2,null,"Jilemnice 16.06.23",484.44444444444446,null,0,0,0]
["2.",{"$f":"B112","v":"FARSKÁ"},"Eliška","6.A",4.66,null,{"$f":"G112","v":"Jilemnice 12.06.23"},436.44444444444446,null,{"$f":"J112","v":0},0,0]
["3.",{"$f":"B113","v":"FEDORKOVÁ"},"Denisa","6.A",3.73,null,{"$f":"G113","v":"Jilemnice 12.06.23"},353.77777777777777,null,{"$f":"J113","v":0},0,0]
["4.",{"$f":"B114","v":"HAUZEROVÁ"},"Tereza","6.A",3.34,null,{"$f":"G114","v":"Jilemnice 12.06.23"},319.11111111111109,null,{"$f":"J114","v":0},0,0]
["5.",{"$f":"B115","v":"JOSKOVÁ"},"Ellen","6.A",4.82,null,{"$f":"G115","v":"Jilemnice 12.06.23"},450.66666666666669,null,{"$f":"J115","v":0},0,0]
["6.",{"$f":"B116","v":"KUŽELOVÁ"},"Amálie","6.A",0,null,{"$f":"G116","v":0},0,null,{"$f":"J116","v":0},0,0]
["7.",{"$f":"B117","v":"RYŠAVÁ"},"Amálie","6.A",4.7,null,{"$f":"G117","v":"Jilemnice 16.06.23"},440,null,{"$f":"J117","v":0},0,0]
["8.",{"$f":"B118","v":"BANGOVÁ"},"Zuzana","6.B",3.47,null,{"$f":"G118","v":"Jilemnice 12.06.23"},330.66666666666669,null,{"$f":"J118","v":0},0,0]
["9.",{"$f":"B119","v":"HOLUBOVÁ"},"Denisa","6.B",5.25,null,{"$f":"G119","v":"Jilemnice 12.06.23"},488.88888888888886,null,{"$f":"J119","v":0},0,0]
["10.",{"$f":"B120","v":"HURKALO"},"Karolina","6.B",0,null,{"$f":"G120","v":0},0,null,{"$f":"J120","v":0},0,0]
["11.",{"$f":"B121","v":"HUTNIK-MAMONOVA"},"Nana","6.B",0,null,{"$f":"G121","v":0},0,null,{"$f":"J121","v":0},0,0]
["12.",{"$f":"B122","v":"MARINOVA"},"Darja","6.B",0,null,{"$f":"G122","v":0},0,null,{"$f":"J122","v":0},0,0]
["13.",{"$f":"B123","v":"NYKLÍČKOVÁ"},"Klára","6.B",3.53,null,{"$f":"G123","v":"Jilemnice 12.06.23"},335.99999999999994,null,{"$f":"J123","v":0},0,0]
["14.",{"$f":"B124","v":"PANCHAYEVA"},"Sofiia","6.B",0,null,{"$f":"G124","v":0},0,null,{"$f":"J124","v":0},0,0]
["15.",{"$f":"B125","v":"PIČMANOVÁ"},"Klára","6.B",0,null,{"$f":"G125","v":0},0,null,{"$f":"J125","v":0},0,0]
["16.",{"$f":"B126","v":"ŠIMŮNKOVÁ"},"Anežka","6.B",3.91,null,{"$f":"G126","v":"Jilemnice 12.06.23"},369.77777777777777,null,{"$f":"J126","v":0},0,0]
["17.",{"$f":"B127","v":"TRPIŠOVSKÁ"},"Nela","6.B",4,null,{"$f":"G127","v":"Jilemnice 12.06.23"},377.77777777777777,null,{"$f":"J127","v":0},0,0]
["18.",{"$f":"B128","v":"HEJRALOVÁ"},"Natálie","7.A",6.1,null,{"$f":"G128","v":"Jilemnice 05.06.23"},564.44444444444446,null,{"$f":"J128","v":3.35},0,0]
["19.",{"$f":"B129","v":"KERLE"},"Nikita","7.A",5.22,null,{"$f":"G129","v":"Jilemnice 10.05.23"},486.22222222222217,null,{"$f":"J129","v":3.05},0,0]
["20.",{"$f":"B130","v":"MUNZAROVÁ"},"Aneta","7.A",0,null,{"$f":"G130","v":0},0,null,{"$f":"J130","v":0},0,0]
["21.",{"$f":"B131","v":"PACLÍKOVÁ"},"Markéta","7.A",5.61,null,{"$f":"G131","v":"Jilemnice 05.06.23"},520.88888888888891,null,{"$f":"J131","v":4.25},0,0]
["22.",{"$f":"B132","v":"PLŮCHOVÁ"},"Michaela","7.A",6.88,null,{"$f":"G132","v":"Jilemnice 10.05.23"},633.77777777777771,null,{"$f":"J132","v":4.6399999999999997},0,0]
["23.",{"$f":"B133","v":"ŠERCLOVÁ"},"Nikola","7.A",4.5199999999999996,null,{"$f":"G133","v":"Jilemnice 10.05.23"},423.99999999999994,null,{"$f":"J133","v":3.07},0,0]
["24.",{"$f":"B134","v":"VÁCLAVÍKOVÁ"},"Alena","7.A",3.1,null,{"$f":"G134","v":"Jilemnice 10.05.23"},297.77777777777777,null,{"$f":"J134","v":3.12},0,0]
["25.",{"$f":"B135","v":"DUCHÁČKOVÁ"},"Tereza","7.B",3.51,null,{"$f":"G135","v":"Jilemnice 10.05.23"},334.22222222222217,null,{"$f":"J135","v":0},0,0]
["26.",{"$f":"B136","v":"FLAŠKOVÁ"},"Anna Sabriel","7.B",3.85,null,{"$f":"G136","v":"Jilemnice 10.05.23"},364.44444444444446,null,{"$f":"J136","v":2.77},0,0]
["27.",{"$f":"B137","v":"HAASOVÁ"},"Julie","7.B",0,null,{"$f":"G137","v":0},0,null,{"$f":"J137","v":0},0,0]
["28.",{"$f":"B138","v":"HEGROVÁ"},"Štěpánka","7.B",3.71,null,{"$f":"G138","v":"Jilemnice 10.05.23"},352,null,{"$f":"J138","v":0},0,0]
["29.",{"$f":"B139","v":"HOBLOVÁ"},"Barbora","7.B",4.53,null,{"$f":"G139","v":"Jilemnice 05.06.23"},424.88888888888891,null,{"$f":"J139","v":0},0,0]
["30.",{"$f":"B140","v":"HORÁČKOVÁ"},"Valérie","7.B",5,null,{"$f":"G140","v":"Jilemnice 12.06.23"},466.66666666666663,null,{"$f":"J140","v":4.1900000000000004},0,0]
["31.",{"$f":"B141","v":"JIRANOVÁ"},"Anežka","7.B",4.6399999999999997,null,{"$f":"G141","v":"Jilemnice 10.05.23"},434.66666666666663,null,{"$f":"J141","v":2.8},0,0]
["32.",{"$f":"B142","v":"KRČÍKOVÁ"},"Beatrix","7.B",6.66,null,{"$f":"G142","v":"Jilemnice 12.06.23"},614.22222222222217,null,{"$f":"J142","v":4.28},0,0]
["33.",{"$f":"B143","v":"KUBÁTOVÁ"},"Veronika","7.B",2.75,null,{"$f":"G143","v":"Jilemnice 10.05.23"},266.66666666666669,null,{"$f":"J143","v":0},0,0]
["34.",{"$f":"B144","v":"LENČEŠOVÁ"},"Silvie","7.B",3.55,null,{"$f":"G144","v":"Jilemnice 10.05.23"},337.77777777777777,null,{"$f":"J144","v":2.2400000000000002},0,0]
["35.",{"$f":"B145","v":"LUKEŠOVÁ"},"Lucie","7.B",3.4,null,{"$f":"G145","v":"Jilemnice 10.05.23"},324.44444444444446,null,{"$f":"J145","v":0},0,0]
["36.",{"$f":"B146","v":"MATERNOVÁ"},"Lenka","7.B",3.44,null,{"$f":"G146","v":"Jilemnice 10.05.23"},328,null,{"$f":"J146","v":0},0,0]
["37.",{"$f":"B147","v":"TÓTHOVÁ"},"Viktorie","7.B",5.01,null,{"$f":"G147","v":"Jilemnice 10.05.23"},467.55555555555549,null,{"$f":"J147","v":3.1},0,0]
["38.",{"$f":"B148","v":"DUONG"},"Ngoc Linh","8.A",7.83,null,{"$f":"G148","v":"Jilemnice 07.06.23"},718.22222222222217,null,{"$f":"J148","v":0},3.41,0]
["39.",{"$f":"B149","v":"GINGALOVÁ"},"Linda","8.A",5.81,null,{"$f":"G149","v":"Jilemnice 07.06.23"},538.66666666666663,null,{"$f":"J149","v":0},0,0]
["40.",{"$f":"B150","v":"HOFMANOVÁ "},"Nicol","8.A",0,null,{"$f":"G150","v":0},0,null,{"$f":"J150","v":4.8600000000000003},4.47,0]
["41.",{"$f":"B151","v":"HOLEŠOVSKÁ"},"Aneta","8.A",0,null,{"$f":"G151","v":0},0,null,{"$f":"J151","v":0},0,0]
["42.",{"$f":"B152","v":"HOLUBCOVÁ"},"Alena","8.A",8.24,null,{"$f":"G152","v":"Turnov 16.05.23"},754.66666666666674,null,{"$f":"J152","v":5.9},6.21,0]
["43.",{"$f":"B153","v":"KOHOUTOVÁ"},"Anna","8.A",5.8,null,{"$f":"G153","v":"Jilemnice  31.10.22"},537.77777777777771,null,{"$f":"J153","v":3.46},2.82,0]
["44.",{"$f":"B154","v":"KRAUSOVÁ"},"Anežka","8.A",6.15,null,{"$f":"G154","v":"Jilemnice 07.06.23"},568.88888888888891,null,{"$f":"J154","v":4.9000000000000004},0,0]
["45.",{"$f":"B155","v":"KUŽELOVÁ"},"Apoléna","8.A",0,null,{"$f":"G155","v":0},0,null,{"$f":"J155","v":0},0,0]
["46.",{"$f":"B156","v":"MORÁVKOVÁ"},"Lucie","8.A",5.9,null,{"$f":"G156","v":"Jilemnice  31.10.22"},546.66666666666663,null,{"$f":"J156","v":0},0,0]
["47.",{"$f":"B157","v":"SKLENÁROVÁ"},"Eliška","8.A",0,null,{"$f":"G157","v":0},0,null,{"$f":"J157","v":0},0,0]
["48.",{"$f":"B158","v":"ŠEJNOVÁ"},"Karolína","8.A",0,null,{"$f":"G158","v":0},0,null,{"$f":"J158","v":3.77},0,0]
["49.",{"$f":"B159","v":"ŠTOLFOVÁ"},"Tereza","8.A",0,null,{"$f":"G159","v":0},0,null,{"$f":"J159","v":3.34},3.05,0]
["50.",{"$f":"B160","v":"ŠUBÍKOVÁ"},"Klára","8.A",6.26,null,{"$f":"G160","v":"Jilemnice 07.06.23"},578.66666666666663,null,{"$f":"J160","v":3.2},3.85,0]
["51.",{"$f":"B161","v":"ŠULKOVSKÁ"},"Klára","8.A",0,null,{"$f":"G161","v":0},0,null,{"$f":"J161","v":4.0199999999999996},0,0]
["52.",{"$f":"B162","v":"TULÁČKOVÁ"},"Natálie","8.A",4.8,null,{"$f":"G162","v":"Jilemnice  31.10.22"},448.88888888888886,null,{"$f":"J162","v":0},0,0]
["53.",{"$f":"B163","v":"VOJTÍŠKOVÁ"},"Ella","8.A",7.43,null,{"$f":"G163","v":"Jilemnice 07.06.23"},682.66666666666663,null,{"$f":"J163","v":0},0,0]
["54.",{"$f":"B164","v":"DRUGÁČOVÁ"},"Kristinka","8.B",0,null,{"$f":"G164","v":0},0,null,{"$f":"J164","v":5.2},4,0]
["55.",{"$f":"B165","v":"FAJSTAVROVÁ"},"Karolína","8.B",7.67,null,{"$f":"G165","v":"Turnov 16.05.23"},704,null,{"$f":"J165","v":0},0,0]
["56.",{"$f":"B166","v":"FAJSTAVROVÁ"},"Magdaléna","8.B",5.5,null,{"$f":"G166","v":"Jilemnice  31.10.22"},511.11111111111109,null,{"$f":"J166","v":0},0,0]
["57.",{"$f":"B167","v":"JINDROVÁ"},"Barbora","8.B",3.6,null,{"$f":"G167","v":"Jilemnice  31.10.22"},342.22222222222223,null,{"$f":"J167","v":0},0,0]
["58.",{"$f":"B168","v":"MAŘASOVÁ"},"Vendula","8.B",5.2,null,{"$f":"G168","v":"Jilemnice  31.10.22"},484.44444444444446,null,{"$f":"J168","v":0},0,0]
["59.",{"$f":"B169","v":"PETŘÍČKOVÁ"},"Natálie","8.B",5.4,null,{"$f":"G169","v":"Jilemnice  31.10.22"},502.22222222222223,null,{"$f":"J169","v":0},0,0]
["60.",{"$f":"B170","v":"PETŘÍKOVÁ"},"Adéla","8.B",0,null,{"$f":"G170","v":0},0,null,{"$f":"J170","v":3.16},3.73,0]
["61.",{"$f":"B171","v":"REGÁLOVÁ"},"Karolína","8.B",5.0999999999999996,null,{"$f":"G171","v":"Jilemnice  31.10.22"},475.55555555555554,null,{"$f":"J171","v":0},0,0]
["62.",{"$f":"B172","v":"RIEGROVÁ"},"Magdaléna","8.B",0,null,{"$f":"G172","v":0},0,null,{"$f":"J172","v":3.6},2.64,0]
["63.",{"$f":"B173","v":"RYBENSKÁ"},"Sabina","8.B",3.8,null,{"$f":"G173","v":"Jilemnice  31.10.22"},360,null,{"$f":"J173","v":0},0,0]
["64.",{"$f":"B174","v":"STEINEROVÁ"},"Barbora","8.B",4.7,null,{"$f":"G174","v":"Jilemnice  31.10.22"},440,null,{"$f":"J174","v":0},0,0]
["65.",{"$f":"B175","v":"ŠERCLOVÁ"},"Andrea","8.B",0,null,{"$f":"G175","v":0},0,null,{"$f":"J175","v":0},0,0]
["66.",{"$f":"B176","v":"TOMEŠOVÁ"},"Barbora","8.B",0,null,{"$f":"G176","v":0},0,null,{"$f":"J176","v":0},0,0]
["67.",{"$f":"B177","v":"VOHNOUTOVÁ"},"Aneta","8.B",7.36,null,{"$f":"G177","v":"Turnov 16.05.23"},676.44444444444446,null,{"$f":"J177","v":0},0,0]
["68.",{"$f":"B178","v":"HAVLÍKOVÁ"},"Michaela","9.A",3.53,null,{"$f":"G178","v":"Jilemnice 10.05.23"},335.99999999999994,null,{"$f":"J178","v":3.21},2.61,0]
["69.",{"$f":"B179","v":"HOLUBCOVÁ"},"Sára","9.A",0,null,{"$f":"G179","v":0},0,null,{"$f":"J179","v":4.87},4.04,3.1]
["70.",{"$f":"B180","v":"HONCŮ"},"Tereza","9.A",0,null,{"$f":"G180","v":0},0,null,{"$f":"J180","v":4.62},3.76,2.62]
["71.",{"$f":"B181","v":"HORÁČKOVÁ"},"Kateřina","9.A",7.28,null,{"$f":"G181","v":"Jilemnice 10.05.23"},669.33333333333326,null,{"$f":"J181","v":7.38},5.5,4.9000000000000004]
["72.",{"$f":"B182","v":"JOUDALOVÁ"},"Daniela","9.A",0,null,{"$f":"G182","v":0},0,null,{"$f":"J182","v":0},3.85,2.87]
["73.",{"$f":"B183","v":"KLÍMOVÁ"},"Anna","9.A",0,null,{"$f":"G183","v":0},0,null,{"$f":"J183","v":5.28},4.5,4.4400000000000004]
["74.",{"$f":"B184","v":"KOHOUTOVÁ"},"Veronika","9.A",6,null,{"$f":"G184","v":"Jilemnice 10.05.23"},555.55555555555554,null,{"$f":"J184","v":5.35},5.31,3.57]
["75.",{"$f":"B185","v":"KOVÁŘOVÁ"},"Viktorie","9.A",5.48,null,{"$f":"G185","v":"Jilemnice 10.05.23"},509.33333333333337,null,{"$f":"J185","v":4.71},3.94,3.16]
["76.",{"$f":"B186","v":"KYNČLOVÁ"},"Anna","9.A",4.7,null,{"$f":"G186","v":"Jilemnice 12.06.23"},440,null,{"$f":"J186","v":4.4000000000000004},3.46,2.46]
["77.",{"$f":"B187","v":"MATOUŠOVÁ"},"Tereza","9.A",0,null,{"$f":"G187","v":0},0,null,{"$f":"J187","v":4.6500000000000004},4.6100000000000003,3.51]
["78.",{"$f":"B188","v":"MAZÁNKOVÁ"},"Zuzana","9.A",5,null,{"$f":"G188","v":"Jilemnice 10.05.23"},466.66666666666663,null,{"$f":"J188","v":4},4.5,3.66]
["79.",{"$f":"B189","v":"MORKESOVÁ"},"Sabrina","9.A",7.45,null,{"$f":"G189","v":"Jilemnice 10.05.23"},684.44444444444446,null,{"$f":"J189","v":6.9},6.62,5.65]
["80.",{"$f":"B190","v":"POHOŘALÁ"},"Alžběta","9.A",4.9000000000000004,null,{"$f":"G190","v":"Jilemnice 10.05.23"},457.77777777777777,null,{"$f":"J190","v":5.0999999999999996},4.26,3.78]
["81.",{"$f":"B191","v":"SCHOLZOVÁ"},"Laura","9.A",0,null,{"$f":"G191","v":0},0,null,{"$f":"J191","v":0},3.08,2.75]
["82.",{"$f":"B192","v":"VÁCLAVÍKOVÁ"},"Valerie","9.A",6.61,null,{"$f":"G192","v":"Jilemnice 10.05.23"},609.77777777777783,null,{"$f":"J192","v":8.08},5.92,5.56]
["83.",{"$f":"B193","v":"ZAPADLOVÁ"},"Emma","9.A",4.22,null,{"$f":"G193","v":"Jilemnice 10.05.23"},397.33333333333326,null,{"$f":"J193","v":5.25},4.26,5.08]
["84.",{"$f":"B194","v":"ŽIŠKOVÁ"},"Mia","9.A",0,null,{"$f":"G194","v":0},0,null,{"$f":"J194","v":0},0,3.84]
["85.",{"$f":"B195","v":"FARSKÁ"},"Tereza","9.B",0,null,{"$f":"G195","v":0},0,null,{"$f":"J195","v":5.0999999999999996},0,2.2000000000000002]
["86.",{"$f":"B196","v":"FEIXOVÁ"},"Rozálie","9.B",0,null,{"$f":"G196","v":0},0,null,{"$f":"J196","v":0},0,2.8]
["87.",{"$f":"B197","v":"FIŠEROVÁ"},"Michaela","9.B",6.8,null,{"$f":"G197","v":"Jilemnice  16.09.22"},626.66666666666663,null,{"$f":"J197","v":0},0,4.1500000000000004]
["88.",{"$f":"B198","v":"HAVLÍČKOVÁ"},"Kristýna","9.B",6.5,null,{"$f":"G198","v":"Jilemnice  16.09.22"},600,null,{"$f":"J198","v":5.6},0,3.75]
["89.",{"$f":"B199","v":"KADAVÁ"},"Nikola","9.B",4.9000000000000004,null,{"$f":"G199","v":"Jilemnice  16.09.22"},457.77777777777777,null,{"$f":"J199","v":6.1},0,3.79]
["90.",{"$f":"B200","v":"KŘIVINKOVÁ"},"Alžběta","9.B",6.9,null,{"$f":"G200","v":"Jilemnice  16.09.22"},635.55555555555554,null,{"$f":"J200","v":4.8},0,5.15]
["91.",{"$f":"B201","v":"LEŠÁKOVÁ"},"Lenka","9.B",5.4,null,{"$f":"G201","v":"Jilemnice  16.09.22"},502.22222222222223,null,{"$f":"J201","v":3.2},0,3.23]
["92.",{"$f":"B202","v":"NYKLÍČKOVÁ"},"Adéla","9.B",6.5,null,{"$f":"G202","v":"Jilemnice  16.09.22"},600,null,{"$f":"J202","v":0},0,4.28]
["93.",{"$f":"B203","v":"PLŮCHOVÁ"},"Petra","9.B",6.8,null,{"$f":"G203","v":"Jilemnice  16.09.22"},626.66666666666663,null,{"$f":"J203","v":6.1},0,5.53]
["94.",{"$f":"B204","v":"PODZIMKOVÁ"},"Eliška","9.B",5.2,null,{"$f":"G204","v":"Jilemnice  16.09.22"},484.44444444444446,null,{"$f":"J204","v":0},0,2.4]
["95.",{"$f":"B205","v":"RUTKAYOVÁ"},"Klára","9.B",0,null,{"$f":"G205","v":""},0,null,{"$f":"J205","v":0},0,4.3099999999999996]
["96.",{"$f":"B206","v":"SEIDLOVÁ"},"Zuzana","9.B",8.1,null,{"$f":"G206","v":"Jilemnice  16.09.22"},742.22222222222217,null,{"$f":"J206","v":0},0,5.9]
["97.",{"$f":"B207","v":"TOMÁŠOVÁ"},"Sára","9.B",5.0999999999999996,null,{"$f":"G207","v":"Jilemnice  16.09.22"},475.55555555555554,null,{"$f":"J207","v":5.13},0,4.8]
["98.",{"$f":"B208","v":"VANCLOVÁ"},"Barbora","9.B",5.4,null,{"$f":"G208","v":"Jilemnice  16.09.22"},502.22222222222223,null,{"$f":"J208","v":4.4000000000000004},0,3.98]
["99.",{"$f":"B209","v":"VOTOČKOVÁ"},"Veronika","9.B",5.4,null,{"$f":"G209","v":"Jilemnice  16.09.22"},502.22222222222223,null,{"$f":"J209","v":0},0,0]
[]
[]
[]
[]
[]
[]
[]
[]
[]
[null,"FARSKÁ","Anna","6.A",5.2,null,"Jilemnice 16.06.23",{"$f":"IF(E111=0,0,IF(E111>0,(40*E111+10)/0.45))","v":484.44444444444446}]
[null,"FARSKÁ","Eliška","6.A",4.66,null,"Jilemnice 12.06.23",436.44444444444446]
[null,"FEDORKOVÁ","Denisa","6.A",3.73,null,"Jilemnice 12.06.23",353.77777777777777]
[null,"HAUZEROVÁ","Tereza","6.A",3.34,null,"Jilemnice 12.06.23",319.11111111111109]
[null,"JOSKOVÁ","Ellen","6.A",4.82,null,"Jilemnice 12.06.23",450.66666666666669]
[null,"KUŽELOVÁ","Amálie","6.A",null,null,null,0]
[null,"RYŠAVÁ","Amálie","6.A",4.7,null,"Jilemnice 16.06.23",440]
[null,"BANGOVÁ","Zuzana","6.B",3.47,null,"Jilemnice 12.06.23",330.66666666666669]
[null,"HOLUBOVÁ","Denisa","6.B",5.25,null,"Jilemnice 12.06.23",488.88888888888886]
[null,"HURKALO","Karolina","6.B",null,null,null,0]
[null,"HUTNIK-MAMONOVA","Nana","6.B",null,null,null,0]
[null,"MARINOVA","Darja","6.B",null,null,null,0]
[null,"NYKLÍČKOVÁ","Klára","6.B",3.53,null,"Jilemnice 12.06.23",335.99999999999994]
[null,"PANCHAYEVA","Sofiia","6.B",null,null,null,0]
[null,"PIČMANOVÁ","Klára","6.B",null,null,null,0]
[null,"ŠIMŮNKOVÁ","Anežka","6.B",3.91,null,"Jilemnice 12.06.23",369.77777777777777]
[null,"TRPIŠOVSKÁ","Nela","6.B",4,null,"Jilemnice 12.06.23",377.77777777777777]
[null,"HEJRALOVÁ","Natálie","7.A",6.1,null,"Jilemnice 05.06.23",564.44444444444446,null,3.35]
[null,"KERLE","Nikita","7.A",5.22,null,"Jilemnice 10.05.23",486.22222222222217,null,3.05]
[null,"MUNZAROVÁ","Aneta","7.A",null,null,null,0]
[null,"PACLÍKOVÁ","Markéta","7.A",5.61,null,"Jilemnice 05.06.23",520.88888888888891,null,4.25]
[null,"PLŮCHOVÁ","Michaela","7.A",6.88,null,"Jilemnice 10.05.23",633.77777777777771,null,4.6399999999999997]
[null,"ŠERCLOVÁ","Nikola","7.A",4.5199999999999996,null,"Jilemnice 10.05.23",423.99999999999994,null,3.07]
[null,"VÁCLAVÍKOVÁ","Alena","7.A",3.1,null,"Jilemnice 10.05.23",297.77777777777777,null,3.12]
[null,"DUCHÁČKOVÁ","Tereza","7.B",3.51,null,"Jilemnice 10.05.23",334.22222222222217]
[null,"FLAŠKOVÁ","Anna Sabriel","7.B",3.85,null,"Jilemnice 10.05.23",364.44444444444446,null,2.77]
[null,"HAASOVÁ","Julie","7.B",null,null,null,0]
[null,"HEGROVÁ","Štěpánka","7.B",3.71,null,"Jilemnice 10.05.23",352]
[null,"HOBLOVÁ","Barbora","7.B",4.53,null,"Jilemnice 05.06.23",424.88888888888891]
[null,"HORÁČKOVÁ","Valérie","7.B",5,null,"Jilemnice 12.06.23",466.66666666666663,null,4.1900000000000004]
[null,"JIRANOVÁ","Anežka","7.B",4.6399999999999997,null,"Jilemnice 10.05.23",434.66666666666663,null,2.8]
[null,"KRČÍKOVÁ","Beatrix","7.B",6.66,null,"Jilemnice 12.06.23",614.22222222222217,null,4.28]
[null,"KUBÁTOVÁ","Veronika","7.B",2.75,null,"Jilemnice 10.05.23",{"$f":"IF(E143=0,0,IF(E143>0,(40*E143+10)/0.45))","v":266.66666666666669}]
[null,"LENČEŠOVÁ","Silvie","7.B",3.55,null,"Jilemnice 10.05.23",337.77777777777777,null,2.2400000000000002]
[null,"LUKEŠOVÁ","Lucie","7.B",3.4,null,"Jilemnice 10.05.23",324.44444444444446]
[null,"MATERNOVÁ","Lenka","7.B",3.44,null,"Jilemnice 10.05.23",328]
[null,"TÓTHOVÁ","Viktorie","7.B",5.01,null,"Jilemnice 10.05.23",467.55555555555549,null,3.1]
[null,"DUONG","Ngoc Linh","8.A",7.83,null,"Jilemnice 07.06.23",718.22222222222217,null,null,3.41]
[null,"GINGALOVÁ","Linda","8.A",5.81,null,"Jilemnice 07.06.23",538.66666666666663]
[null,"HOFMANOVÁ ","Nicol","8.A",null,null,null,0,null,4.8600000000000003,4.47]
[null,"HOLEŠOVSKÁ","Aneta","8.A",null,null,null,0]
[null,"HOLUBCOVÁ","Alena","8.A",8.24,null,"Turnov 16.05.23",754.66666666666674,null,5.9,6.21]
[null,"KOHOUTOVÁ","Anna","8.A",5.8,null,"Jilemnice  31.10.22",537.77777777777771,null,3.46,2.82]
[null,"KRAUSOVÁ","Anežka","8.A",6.15,null,"Jilemnice 07.06.23",568.88888888888891,null,4.9000000000000004]
[null,"KUŽELOVÁ","Apoléna","8.A",null,null,null,0]
[null,"MORÁVKOVÁ","Lucie","8.A",5.9,null,"Jilemnice  31.10.22",546.66666666666663]
[null,"SKLENÁROVÁ","Eliška","8.A",null,null,null,0]
[null,"ŠEJNOVÁ","Karolína","8.A",null,null,null,0,null,3.77]
[null,"ŠTOLFOVÁ","Tereza","8.A",null,null,null,0,null,3.34,3.05]
[null,"ŠUBÍKOVÁ","Klára","8.A",6.26,null,"Jilemnice 07.06.23",578.66666666666663,null,3.2,3.85]
[null,"ŠULKOVSKÁ","Klára","8.A",null,null,null,0,null,4.0199999999999996]
[null,"TULÁČKOVÁ","Natálie","8.A",4.8,null,"Jilemnice  31.10.22",448.88888888888886]
[null,"VOJTÍŠKOVÁ","Ella","8.A",7.43,null,"Jilemnice 07.06.23",682.66666666666663]
[null,"DRUGÁČOVÁ","Kristinka","8.B",null,null,null,0,null,5.2,4]
[null,"FAJSTAVROVÁ","Karolína","8.B",7.67,null,"Turnov 16.05.23",704]
[null,"FAJSTAVROVÁ","Magdaléna","8.B",5.5,null,"Jilemnice  31.10.22",511.11111111111109]
[null,"JINDROVÁ","Barbora","8.B",3.6,null,"Jilemnice  31.10.22",342.22222222222223]
[null,"MAŘASOVÁ","Vendula","8.B",5.2,null,"Jilemnice  31.10.22",484.44444444444446]
[null,"PETŘÍČKOVÁ","Natálie","8.B",5.4,null,"Jilemnice  31.10.22",502.22222222222223]
[null,"PETŘÍKOVÁ","Adéla","8.B",null,null,null,0,null,3.16,3.73]
[null,"REGÁLOVÁ","Karolína","8.B",5.0999999999999996,null,"Jilemnice  31.10.22",475.55555555555554]
[null,"RIEGROVÁ","Magdaléna","8.B",null,null,null,0,null,3.6,2.64]
[null,"RYBENSKÁ","Sabina","8.B",3.8,null,"Jilemnice  31.10.22",360]
[null,"STEINEROVÁ","Barbora","8.B",4.7,null,"Jilemnice  31.10.22",440]
[null,"ŠERCLOVÁ","Andrea","8.B",null,null,null,{"$f":"IF(E175=0,0,IF(E175>0,(40*E175+10)/0.45))","v":0}]
[null,"TOMEŠOVÁ","Barbora","8.B",null,null,null,0]
[null,"VOHNOUTOVÁ","Aneta","8.B",7.36,null,"Turnov 16.05.23",676.44444444444446]
[null,"HAVLÍKOVÁ","Michaela","9.A",3.53,null,"Jilemnice 10.05.23",335.99999999999994,null,3.21,2.61]
[null,"HOLUBCOVÁ","Sára","9.A",null,null,null,0,null,4.87,4.04,3.1]
[null,"HONCŮ","Tereza","9.A",null,null,null,0,null,4.62,3.76,2.62]
[null,"HORÁČKOVÁ","Kateřina","9.A",7.28,null,"Jilemnice 10.05.23",669.33333333333326,null,7.38,5.5,4.9000000000000004]
[null,"JOUDALOVÁ","Daniela","9.A",null,null,null,0,null,null,3.85,2.87]
[null,"KLÍMOVÁ","Anna","9.A",null,null,null,0,null,5.28,4.5,4.4400000000000004]
[null,"KOHOUTOVÁ","Veronika","9.A",6,null,"Jilemnice 10.05.23",555.55555555555554,null,5.35,5.31,3.57]
[null,"KOVÁŘOVÁ","Viktorie","9.A",5.48,null,"Jilemnice 10.05.23",509.33333333333337,null,4.71,3.94,3.16]
[null,"KYNČLOVÁ","Anna","9.A",4.7,null,"Jilemnice 12.06.23",440,null,4.4000000000000004,3.46,2.46]
[null,"MATOUŠOVÁ","Tereza","9.A",null,null,null,0,null,4.6500000000000004,4.6100000000000003,3.51]
[null,"MAZÁNKOVÁ","Zuzana","9.A",5,null,"Jilemnice 10.05.23",466.66666666666663,null,4,4.5,3.66]
[null,"MORKESOVÁ","Sabrina","9.A",7.45,null,"Jilemnice 10.05.23",684.44444444444446,null,6.9,6.62,5.65]
[null,"POHOŘALÁ","Alžběta","9.A",4.9000000000000004,null,"Jilemnice 10.05.23",457.77777777777777,null,5.0999999999999996,4.26,3.78]
[null,"SCHOLZOVÁ","Laura","9.A",null,null,null,0,null,null,3.08,2.75]
[null,"VÁCLAVÍKOVÁ","Valerie","9.A",6.61,null,"Jilemnice 10.05.23",609.77777777777783,null,8.08,5.92,5.56]
[null,"ZAPADLOVÁ","Emma","9.A",4.22,null,"Jilemnice 10.05.23",397.33333333333326,null,5.25,4.26,5.08]
[null,"ŽIŠKOVÁ","Mia","9.A",null,null,null,0,null,null,null,3.84]
[null,"FARSKÁ","Tereza","9.B",null,null,null,0,null,5.0999999999999996,null,2.2000000000000002]
[null,"FEIXOVÁ","Rozálie","9.B",null,null,null,0,null,null,null,2.8]
[null,"FIŠEROVÁ","Michaela","9.B",6.8,null,"Jilemnice  16.09.22",626.66666666666663,null,null,null,4.1500000000000004]
[null,"HAVLÍČKOVÁ","Kristýna","9.B",6.5,null,"Jilemnice  16.09.22",600,null,5.6,null,3.75]
[null,"KADAVÁ","Nikola","9.B",4.9000000000000004,null,"Jilemnice  16.09.22",457.77777777777777,null,6.1,null,3.79]
[null,"KŘIVINKOVÁ","Alžběta","9.B",6.9,null,"Jilemnice  16.09.22",635.55555555555554,null,4.8,null,5.15]
[null,"LEŠÁKOVÁ","Lenka","9.B",5.4,null,"Jilemnice  16.09.22",502.22222222222223,null,3.2,null,3.23]
[null,"NYKLÍČKOVÁ","Adéla","9.B",6.5,null,"Jilemnice  16.09.22",600,null,null,null,4.28]
[null,"PLŮCHOVÁ","Petra","9.B",6.8,null,"Jilemnice  16.09.22",626.66666666666663,null,6.1,null,5.53]
[null,"PODZIMKOVÁ","Eliška","9.B",5.2,null,"Jilemnice  16.09.22",484.44444444444446,null,null,null,2.4]
[null,"RUTKAYOVÁ","Klára","9.B",null,null," ",0,null,null,null,4.3099999999999996]
[null,"SEIDLOVÁ","Zuzana","9.B",8.1,null,"Jilemnice  16.09.22",742.22222222222217,null,null,null,5.9]
[null,"TOMÁŠOVÁ","Sára","9.B",5.0999999999999996,null,"Jilemnice  16.09.22",475.55555555555554,null,5.13,null,4.8]
[null,"VANCLOVÁ","Barbora","9.B",5.4,null,"Jilemnice  16.09.22",502.22222222222223,null,4.4000000000000004,null,3.98]
[null,"VOTOČKOVÁ","Veronika","9.B",5.4,null,"Jilemnice  16.09.22",502.22222222222223]

{"sheet":"Dčlu","index":13,"n_rows":209,"n_cols":12,"rows_kept":209,"cut":false,"hidden":false,"merged":[[0,1,0,5]]}
[null,"VÝKONY  2022 - 2023",null,null,null,null,"ČLUNEK",null,null,null,"stav  k ",{"$f":"TODAY()","v":"2023-06-26"}]
[null,null,null,null,null,null,null,"   BODY",null,"   21 - 22   ","   20 - 21   ","   19 - 20   "]
["1.",{"$f":"B111","v":"FARSKÁ"},{"$f":"C111","v":"Anna"},"6.A",13.37," ","Jilemnice  27.02.23",551.03251424856637," ",0,0,0]
["2.",{"$f":"B112","v":"FARSKÁ"},"Eliška","6.A",12.52," ",{"$f":"G112","v":"Jilemnice  27.02.23"},592.4416662675718," ",{"$f":"J112","v":0},0,0]
["3.",{"$f":"B113","v":"FEDORKOVÁ"},"Denisa","6.A",13.45," ",{"$f":"G113","v":"Jilemnice  27.02.23"},547.40466323940518," ",{"$f":"J113","v":0},0,0]
["4.",{"$f":"B114","v":"HAUZEROVÁ"},"Tereza","6.A",13.27," ",{"$f":"G114","v":"Jilemnice  27.02.23"},555.62884017859824," ",{"$f":"J114","v":0},0,0]
["5.",{"$f":"B115","v":"JOSKOVÁ"},"Ellen","6.A",12.52," ",{"$f":"G115","v":"Jilemnice  27.02.23"},592.4416662675718," ",{"$f":"J115","v":0},0,0]
["6.",{"$f":"B116","v":"KUŽELOVÁ"},"Amálie","6.A",15.72," ",{"$f":"G116","v":"Jilemnice  27.02.23"},459.8530448051315," ",{"$f":"J116","v":0},0,0]
["7.",{"$f":"B117","v":"RYŠAVÁ"},"Amálie","6.A",13.4," ",{"$f":"G117","v":"Jilemnice  27.02.23"},549.66699383606965," ",{"$f":"J117","v":0},0,0]
["8.",{"$f":"B118","v":"BANGOVÁ"},"Zuzana","6.B",0," ",{"$f":"G118","v":0},0," ",{"$f":"J118","v":0},0,0]
["9.",{"$f":"B119","v":"HOLUBOVÁ"},"Denisa","6.B",12.96," ",{"$f":"G119","v":"Jilemnice  27.02.23"},570.32821678523646," ",{"$f":"J119","v":0},0,0]
["10.",{"$f":"B120","v":"HURKALO"},"Karolina","6.B",0," ",{"$f":"G120","v":0},0," ",{"$f":"J120","v":0},0,0]
["11.",{"$f":"B121","v":"HUTNIK-MAMONOVA"},"Nana","6.B",13.16," ",{"$f":"G121","v":"Jilemnice  27.02.23"},560.76547889083076," ",{"$f":"J121","v":0},0,0]
["12.",{"$f":"B122","v":"MARINOVA"},"Darja","6.B",0," ",{"$f":"G122","v":0},0," ",{"$f":"J122","v":0},0,0]
["13.",{"$f":"B123","v":"NYKLÍČKOVÁ"},"Klára","6.B",11.48," ",{"$f":"G123","v":"Jilemnice 12.06.23"},651.44822263095227," ",{"$f":"J123","v":0},0,0]
["14.",{"$f":"B124","v":"PANCHAYEVA"},"Sofiia","6.B",12.67," ",{"$f":"G124","v":"Jilemnice  27.02.23"},584.73043971349637," ",{"$f":"J124","v":0},0,0]
["15.",{"$f":"B125","v":"PIČMANOVÁ"},"Klára","6.B",13.84," ",{"$f":"G125","v":"Jilemnice  27.02.23"},530.31949026517339," ",{"$f":"J125","v":0},0,0]
["16.",{"$f":"B126","v":"ŠIMŮNKOVÁ"},"Anežka","6.B",13.69," ",{"$f":"G126","v":"Jilemnice  27.02.23"},536.77551028268806," ",{"$f":"J126","v":0},0,0]
["17.",{"$f":"B127","v":"TRPIŠOVSKÁ"},"Nela","6.B",11.82," ",{"$f":"G127","v":"Jilemnice  27.02.23"},631.01519605217129," ",{"$f":"J127","v":0},0,0]
["18.",{"$f":"B128","v":"HEJRALOVÁ"},"Natálie","7.A",11.17," ",{"$f":"G128","v":"Jilemnice 09.11.22"},671.16245086571166," ",{"$f":"J128","v":12.05},0,0]
["19.",{"$f":"B129","v":"KERLE"},"Nikita","7.A",11.06," ",{"$f":"G129","v":"Jilemnice 09.11.22"},678.42346918655812," ",{"$f":"J129","v":11.46},0,0]
["20.",{"$f":"B130","v":"MUNZAROVÁ"},"Aneta","7.A",13.61," ",{"$f":"G130","v":"Jilemnice 09.11.22"},540.27690894219938," ",{"$f":"J130","v":0},0,0]
["21.",{"$f":"B131","v":"PACLÍKOVÁ"},"Markéta","7.A",11," ",{"$f":"G131","v":"Jilemnice 09.11.22"},682.44523321848476," ",{"$f":"J131","v":11.26},0,0]
["22.",{"$f":"B132","v":"PLŮCHOVÁ"},"Michaela","7.A",11.59," ",{"$f":"G132","v":"Jilemnice 09.11.22"},644.70635054098352," ",{"$f":"J132","v":11.41},0,0]
["23.",{"$f":"B133","v":"ŠERCLOVÁ"},"Nikola","7.A",12.76," ",{"$f":"G133","v":"Jilemnice 09.11.22"},580.1907270274296," ",{"$f":"J133","v":0},0,0]
["24.",{"$f":"B134","v":"VÁCLAVÍKOVÁ"},"Alena","7.A",11.1," ",{"$f":"G134","v":"Jilemnice 09.11.22"},675.76644790420426," ",{"$f":"J134","v":11.91},0,0]
["25.",{"$f":"B135","v":"DUCHÁČKOVÁ"},"Tereza","7.B",13.4," ",{"$f":"G135","v":"Jilemnice 09.11.22"},549.66699383606965," ",{"$f":"J135","v":13.48},0,0]
["26.",{"$f":"B136","v":"FLAŠKOVÁ"},"Anna Sabriel","7.B",13.53," ",{"$f":"G136","v":"Jilemnice 09.11.22"},543.81971364646461," ",{"$f":"J136","v":12.93},0,0]
["27.",{"$f":"B137","v":"HAASOVÁ"},"Julie","7.B",0," ",{"$f":"G137","v":0},0," ",{"$f":"J137","v":12.7},0,0]
["28.",{"$f":"B138","v":"HEGROVÁ"},"Štěpánka","7.B",0," ",{"$f":"G138","v":0},0," ",{"$f":"J138","v":0},0,0]
["29.",{"$f":"B139","v":"HOBLOVÁ"},"Barbora","7.B",12.8," ",{"$f":"G139","v":"Jilemnice 09.11.22"},578.19356870338538," ",{"$f":"J139","v":12.03},0,0]
["30.",{"$f":"B140","v":"HORÁČKOVÁ"},"Valérie","7.B",11.04," ",{"$f":"G140","v":"Jilemnice 09.11.22"},679.75919999426321," ",{"$f":"J140","v":11.46},0,0]
["31.",{"$f":"B141","v":"JIRANOVÁ"},"Anežka","7.B",13.44," ",{"$f":"G141","v":"Jilemnice 09.11.22"},547.85578273338285," ",{"$f":"J141","v":13.88},0,0]
["32.",{"$f":"B142","v":"KRČÍKOVÁ"},"Beatrix","7.B",11.38," ",{"$f":"G142","v":"Jilemnice 09.11.22"},657.69029784446377," ",{"$f":"J142","v":0},0,0]
["33.",{"$f":"B143","v":"KUBÁTOVÁ"},"Veronika","7.B",12.91," ",{"$f":"G143","v":"Jilemnice 09.11.22"},572.76519646553061," ",{"$f":"J143","v":0},0,0]
["34.",{"$f":"B144","v":"LENČEŠOVÁ"},"Silvie","7.B",12.93," ",{"$f":"G144","v":"Jilemnice 09.11.22"},571.78814289533375," ",{"$f":"J144","v":12.56},0,0]
["35.",{"$f":"B145","v":"LUKEŠOVÁ"},"Lucie","7.B",0," ",{"$f":"G145","v":0},0," ",{"$f":"J145","v":0},0,0]
["36.",{"$f":"B146","v":"MATERNOVÁ"},"Lenka","7.B",11.36," ",{"$f":"G146","v":"Jilemnice 09.11.22"},658.95190037001169," ",{"$f":"J146","v":11.81},0,0]
["37.",{"$f":"B147","v":"TÓTHOVÁ"},"Viktorie","7.B",12.51," ",{"$f":"G147","v":"Jilemnice 09.11.22"},592.96232302451369," ",{"$f":"J147","v":13.24},0,0]
["38.",{"$f":"B148","v":"DUONG"},"Ngoc Linh","8.A",0," ",{"$f":"G148","v":0},0," ",{"$f":"J148","v":12.84},0,0]
["39.",{"$f":"B149","v":"GINGALOVÁ"},"Linda","8.A",0," ",{"$f":"G149","v":0},0," ",{"$f":"J149","v":0},0,0]
["40.",{"$f":"B150","v":"HOFMANOVÁ "},"Nicol","8.A",0," ",{"$f":"G150","v":0},0," ",{"$f":"J150","v":13.91},12.25,0]
["41.",{"$f":"B151","v":"HOLEŠOVSKÁ"},"Aneta","8.A",12.56," ",{"$f":"G151","v":"Jilemnice 13.02.23"},590.36732995249474," ",{"$f":"J151","v":0},0,0]
["42.",{"$f":"B152","v":"HOLUBCOVÁ"},"Alena","8.A",10.57," ",{"$f":"G152","v":"Jilemnice 16.06.23"},712.60402442478699," ",{"$f":"J152","v":12.21},11.03,0]
["43.",{"$f":"B153","v":"KOHOUTOVÁ"},"Anna","8.A",14.34," ",{"$f":"G153","v":"Jilemnice 13.02.23"},509.77487984216629," ",{"$f":"J153","v":13.68},13.62,0]
["44.",{"$f":"B154","v":"KRAUSOVÁ"},"Anežka","8.A",12.12," ",{"$f":"G154","v":"Jilemnice 13.02.23"},613.93808880665574," ",{"$f":"J154","v":12.22},11.7,0]
["45.",{"$f":"B155","v":"KUŽELOVÁ"},"Apoléna","8.A",11.98," ",{"$f":"G155","v":"Jilemnice 13.02.23"},621.80097057345563," ",{"$f":"J155","v":0},0,0]
["46.",{"$f":"B156","v":"MORÁVKOVÁ"},"Lucie","8.A",12.85," ",{"$f":"G156","v":"Jilemnice 13.02.23"},575.71460564747088," ",{"$f":"J156","v":0},0,0]
["47.",{"$f":"B157","v":"SKLENÁROVÁ"},"Eliška","8.A",0," ",{"$f":"G157","v":0},0," ",{"$f":"J157","v":13.37},0,0]
["48.",{"$f":"B158","v":"ŠEJNOVÁ"},"Karolína","8.A",12.81," ",{"$f":"G158","v":"Jilemnice 13.02.23"},577.69622794977874," ",{"$f":"J158","v":12.49},0,0]
["49.",{"$f":"B159","v":"ŠTOLFOVÁ"},"Tereza","8.A",0," ",{"$f":"G159","v":0},0," ",{"$f":"J159","v":0},11.97,0]
["50.",{"$f":"B160","v":"ŠUBÍKOVÁ"},"Klára","8.A",11.09," ",{"$f":"G160","v":"Jilemnice 16.06.23"},676.42890632131048," ",{"$f":"J160","v":12.16},11.62,0]
["51.",{"$f":"B161","v":"ŠULKOVSKÁ"},"Klára","8.A",0," ",{"$f":"G161","v":0},0," ",{"$f":"J161","v":0},0,0]
["52.",{"$f":"B162","v":"TULÁČKOVÁ"},"Natálie","8.A",11.96," ",{"$f":"G162","v":"Jilemnice 13.02.23"},622.9392664049609," ",{"$f":"J162","v":0},0,0]
["53.",{"$f":"B163","v":"VOJTÍŠKOVÁ"},"Ella","8.A",10.57," ",{"$f":"G163","v":"Jilemnice 16.06.23"},712.60402442478699," ",{"$f":"J163","v":0},0,0]
["54.",{"$f":"B164","v":"DRUGÁČOVÁ"},"Kristinka","8.B",0," ",{"$f":"G164","v":0},0," ",{"$f":"J164","v":0},10.84,0]
["55.",{"$f":"B165","v":"FAJSTAVROVÁ"},"Karolína","8.B",10.84," ",{"$f":"G165","v":"Jilemnice 13.02.23"},693.38759734963094," ",{"$f":"J165","v":0},0,0]
["56.",{"$f":"B166","v":"FAJSTAVROVÁ"},"Magdaléna","8.B",10.3," ",{"$f":"G166","v":"Jilemnice 13.02.23"},732.82791466699018," ",{"$f":"J166","v":0},0,0]
["57.",{"$f":"B167","v":"JINDROVÁ"},"Barbora","8.B",12.32," ",{"$f":"G167","v":"Jilemnice 13.02.23"},603.01539358793286," ",{"$f":"J167","v":0},0,0]
["58.",{"$f":"B168","v":"MAŘASOVÁ"},"Vendula","8.B",12.68," ",{"$f":"G168","v":"Jilemnice 13.02.23"},584.22284477944265," ",{"$f":"J168","v":0},0,0]
["59.",{"$f":"B169","v":"PETŘÍČKOVÁ"},"Natálie","8.B",10.86," ",{"$f":"G169","v":"Jilemnice 13.02.23"},692.00216911019038," ",{"$f":"J169","v":0},0,0]
["60.",{"$f":"B170","v":"PETŘÍKOVÁ"},"Adéla","8.B",13.41," ",{"$f":"G170","v":"Jilemnice 13.02.23"},549.213178078797," ",{"$f":"J170","v":13.56},12.88,0]
["61.",{"$f":"B171","v":"REGÁLOVÁ"},"Karolína","8.B",11.81," ",{"$f":"G171","v":"Jilemnice 13.02.23"},631.59937482670045," ",{"$f":"J171","v":0},0,0]
["62.",{"$f":"B172","v":"RIEGROVÁ"},"Magdaléna","8.B",12.41," ",{"$f":"G172","v":"Jilemnice 13.02.23"},598.21504066908403," ",{"$f":"J172","v":12.82},12.61,0]
["63.",{"$f":"B173","v":"RYBENSKÁ"},"Sabina","8.B",11.37," ",{"$f":"G173","v":"Jilemnice 13.02.23"},658.32054431281153," ",{"$f":"J173","v":0},0,0]
["64.",{"$f":"B174","v":"STEINEROVÁ"},"Barbora","8.B",10.84," ",{"$f":"G174","v":"Jilemnice 13.02.23"},693.38759734963094," ",{"$f":"J174","v":0},0,0]
["65.",{"$f":"B175","v":"ŠERCLOVÁ"},"Andrea","8.B",0," ",{"$f":"G175","v":0},0," ",{"$f":"J175","v":0},0,0]
["66.",{"$f":"B176","v":"TOMEŠOVÁ"},"Barbora","8.B",11.05," ",{"$f":"G176","v":"Jilemnice 13.02.23"},679.09073018733022," ",{"$f":"J176","v":0},0,0]
["67.",{"$f":"B177","v":"VOHNOUTOVÁ"},"Aneta","8.B",10.6," ",{"$f":"G177","v":"Jilemnice 13.02.23"},710.42052264811321," ",{"$f":"J177","v":0},0,0]
["68.",{"$f":"B178","v":"HAVLÍKOVÁ"},"Michaela","9.A",11.5," ",{"$f":"G178","v":"Jilemnice 11.11.22"},650.21283452782598," ",{"$f":"J178","v":12.43},11.13,12.46]
["69.",{"$f":"B179","v":"HOLUBCOVÁ"},"Sára","9.A",11.09," ",{"$f":"G179","v":"Jilemnice 11.11.22"},676.42890632131048," ",{"$f":"J179","v":10.95},10.65,10.87]
["70.",{"$f":"B180","v":"HONCŮ"},"Tereza","9.A",11.31," ",{"$f":"G180","v":"Jilemnice 11.11.22"},662.1254275010316," ",{"$f":"J180","v":11.03},0,11.63]
["71.",{"$f":"B181","v":"HORÁČKOVÁ"},"Kateřina","9.A",10.79," ",{"$f":"G181","v":"Jilemnice 11.11.22"},696.87363782236639," ",{"$f":"J181","v":10.59},10.83,10.96]
["72.",{"$f":"B182","v":"JOUDALOVÁ"},"Daniela","9.A",0," ",{"$f":"G182","v":0},0," ",{"$f":"J182","v":0},0,14.45]
["73.",{"$f":"B183","v":"KLÍMOVÁ"},"Anna","9.A",0," ",{"$f":"G183","v":0},0," ",{"$f":"J183","v":11.5},11.3,11.46]
["74.",{"$f":"B184","v":"KOHOUTOVÁ"},"Veronika","9.A",11.38," ",{"$f":"G184","v":"Jilemnice 11.11.22"},657.69029784446377," ",{"$f":"J184","v":11},10.81,10.88]
["75.",{"$f":"B185","v":"KOVÁŘOVÁ"},"Viktorie","9.A",11.2," ",{"$f":"G185","v":"Jilemnice 11.11.22"},669.20692661339285," ",{"$f":"J185","v":11.2},10.85,12]
["76.",{"$f":"B186","v":"KYNČLOVÁ"},"Anna","9.A",10.44," ",{"$f":"G186","v":"Jilemnice 11.11.22"},722.21087451500637," ",{"$f":"J186","v":10.45},10.08,10.8]
["77.",{"$f":"B187","v":"MATOUŠOVÁ"},"Tereza","9.A",11.55," ",{"$f":"G187","v":"Jilemnice 11.11.22"},647.14308227157278," ",{"$f":"J187","v":12.54},11.86,12.46]
["78.",{"$f":"B188","v":"MAZÁNKOVÁ"},"Zuzana","9.A",11.49," ",{"$f":"G188","v":"Jilemnice 11.11.22"},650.82999098665505," ",{"$f":"J188","v":12.29},0,12.51]
["79.",{"$f":"B189","v":"MORKESOVÁ"},"Sabrina","9.A",10.33," ",{"$f":"G189","v":"Jilemnice 11.11.22"},730.52860822555658," ",{"$f":"J189","v":10.25},10.16,10.82]
["80.",{"$f":"B190","v":"POHOŘALÁ"},"Alžběta","9.A",0," ",{"$f":"G190","v":0},0," ",{"$f":"J190","v":10.71},10.75,11.52]
["81.",{"$f":"B191","v":"SCHOLZOVÁ"},"Laura","9.A",0," ",{"$f":"G191","v":0},0," ",{"$f":"J191","v":0},11.73,12.75]
["82.",{"$f":"B192","v":"VÁCLAVÍKOVÁ"},"Valerie","9.A",11.21," ",{"$f":"G192","v":"Jilemnice 11.11.22"},668.55741112429371," ",{"$f":"J192","v":10.76},10.97,0]
["83.",{"$f":"B193","v":"ZAPADLOVÁ"},"Emma","9.A",10.9," ",{"$f":"G193","v":"Jilemnice 11.11.22"},689.24656505229348," ",{"$f":"J193","v":11.3},10.88,12.18]
["84.",{"$f":"B194","v":"ŽIŠKOVÁ"},"Mia","9.A",0," ",{"$f":"G194","v":0},0," ",{"$f":"J194","v":0},0,11.37]
["85.",{"$f":"B195","v":"FARSKÁ"},"Tereza","9.B",0," ",{"$f":"G195","v":0},0," ",{"$f":"J195","v":12.82},0,0]
["86.",{"$f":"B196","v":"FEIXOVÁ"},"Rozálie","9.B",0," ",{"$f":"G196","v":0},0," ",{"$f":"J196","v":0},0,0]
["87.",{"$f":"B197","v":"FIŠEROVÁ"},"Michaela","9.B",0," ",{"$f":"G197","v":0},0," ",{"$f":"J197","v":11.67},0,0]
["88.",{"$f":"B198","v":"HAVLÍČKOVÁ"},"Kristýna","9.B",0," ",{"$f":"G198","v":0},0," ",{"$f":"J198","v":13.96},0,0]
["89.",{"$f":"B199","v":"KADAVÁ"},"Nikola","9.B",0," ",{"$f":"G199","v":0},0," ",{"$f":"J199","v":13.56},0,0]
["90.",{"$f":"B200","v":"KŘIVINKOVÁ"},"Alžběta","9.B",0," ",{"$f":"G200","v":0},0," ",{"$f":"J200","v":0},0,0]
["91.",{"$f":"B201","v":"LEŠÁKOVÁ"},"Lenka","9.B",0," ",{"$f":"G201","v":0},0," ",{"$f":"J201","v":13.13},0,0]
["92.",{"$f":"B202","v":"NYKLÍČKOVÁ"},"Adéla","9.B",0," ",{"$f":"G202","v":0},0," ",{"$f":"J202","v":10.93},0,0]
["93.",{"$f":"B203","v":"PLŮCHOVÁ"},"Petra","9.B",0," ",{"$f":"G203","v":0},0," ",{"$f":"J203","v":12.23},0,0]
["94.",{"$f":"B204","v":"PODZIMKOVÁ"},"Eliška","9.B",0," ",{"$f":"G204","v":0},0," ",{"$f":"J204","v":12.3},0,0]
["95.",{"$f":"B205","v":"RUTKAYOVÁ"},"Klára","9.B",0," ",{"$f":"G205","v":0},0," ",{"$f":"J205","v":0},0,0]
["96.",{"$f":"B206","v":"SEIDLOVÁ"},"Zuzana","9.B",0," ",{"$f":"G206","v":0},0," ",{"$f":"J206","v":0},0,0]
["97.",{"$f":"B207","v":"TOMÁŠOVÁ"},"Sára","9.B",0," ",{"$f":"G207","v":0},0," ",{"$f":"J207","v":14.24},0,0]
["98.",{"$f":"B208","v":"VANCLOVÁ"},"Barbora","9.B",0," ",{"$f":"G208","v":0},0," ",{"$f":"J208","v":0},0,0]
["99.",{"$f":"B209","v":"VOTOČKOVÁ"},"Veronika","9.B",0," ",{"$f":"G209","v":0},0," ",{"$f":"J209","v":0},0,0]
[]
[]
[]
[]
[]
[]
[]
[]
[]
[null,"FARSKÁ","Anna","6.A",13.37,null,"Jilemnice  27.02.23",{"$f":"IF(E111=0,0,IF(E111>0,((1000 - 321 / E111 + 340 / E111*2 - 16600 / E111*3 + 32190000000 / E111*4)/15000000-62)*0.95))","v":551.03251424856637}]
[null,"FARSKÁ","Eliška","6.A",12.52,null,"Jilemnice  27.02.23",592.4416662675718]
[null,"FEDORKOVÁ","Denisa","6.A",13.45,null,"Jilemnice  27.02.23",547.40466323940518]
[null,"HAUZEROVÁ","Tereza","6.A",13.27,null,"Jilemnice  27.02.23",555.62884017859824]
[null,"JOSKOVÁ","Ellen","6.A",12.52,null,"Jilemnice  27.02.23",592.4416662675718]
[null,"KUŽELOVÁ","Amálie","6.A",15.72,null,"Jilemnice  27.02.23",459.8530448051315]
[null,"RYŠAVÁ","Amálie","6.A",13.4,null,"Jilemnice  27.02.23",549.66699383606965]
[null,"BANGOVÁ","Zuzana","6.B",null,null,null,0]
[null,"HOLUBOVÁ","Denisa","6.B",12.96,null,"Jilemnice  27.02.23",570.32821678523646]
[null,"HURKALO","Karolina","6.B",null,null,null,0]
[null,"HUTNIK-MAMONOVA","Nana","6.B",13.16,null,"Jilemnice  27.02.23",560.76547889083076]
[null,"MARINOVA","Darja","6.B",null,null,null,0]
[null,"NYKLÍČKOVÁ","Klára","6.B",11.48,null,"Jilemnice 12.06.23",651.44822263095227]
[null,"PANCHAYEVA","Sofiia","6.B",12.67,null,"Jilemnice  27.02.23",584.73043971349637]
[null,"PIČMANOVÁ","Klára","6.B",13.84,null,"Jilemnice  27.02.23",530.31949026517339]
[null,"ŠIMŮNKOVÁ","Anežka","6.B",13.69,null,"Jilemnice  27.02.23",536.77551028268806]
[null,"TRPIŠOVSKÁ","Nela","6.B",11.82,null,"Jilemnice  27.02.23",631.01519605217129]
[null,"HEJRALOVÁ","Natálie","7.A",11.17,null,"Jilemnice 09.11.22",671.16245086571166,null,12.05]
[null,"KERLE","Nikita","7.A",11.06,null,"Jilemnice 09.11.22",678.42346918655812,null,11.46]
[null,"MUNZAROVÁ","Aneta","7.A",13.61,null,"Jilemnice 09.11.22",540.27690894219938]
[null,"PACLÍKOVÁ","Markéta","7.A",11,null,"Jilemnice 09.11.22",682.44523321848476,null,11.26]
[null,"PLŮCHOVÁ","Michaela","7.A",11.59,null,"Jilemnice 09.11.22",644.70635054098352,null,11.41]
[null,"ŠERCLOVÁ","Nikola","7.A",12.76,null,"Jilemnice 09.11.22",580.1907270274296]
[null,"VÁCLAVÍKOVÁ","Alena","7.A",11.1,null,"Jilemnice 09.11.22",675.76644790420426,null,11.91]
[null,"DUCHÁČKOVÁ","Tereza","7.B",13.4,null,"Jilemnice 09.11.22",549.66699383606965,null,13.48]
[null,"FLAŠKOVÁ","Anna Sabriel","7.B",13.53,null,"Jilemnice 09.11.22",543.81971364646461,null,12.93]
[null,"HAASOVÁ","Julie","7.B",null,null,null,0,null,12.7]
[null,"HEGROVÁ","Štěpánka","7.B",null,null,null,0]
[null,"HOBLOVÁ","Barbora","7.B",12.8,null,"Jilemnice 09.11.22",578.19356870338538,null,12.03]
[null,"HORÁČKOVÁ","Valérie","7.B",11.04,null,"Jilemnice 09.11.22",679.75919999426321,null,11.46]
[null,"JIRANOVÁ","Anežka","7.B",13.44,null,"Jilemnice 09.11.22",547.85578273338285,null,13.88]
[null,"KRČÍKOVÁ","Beatrix","7.B",11.38,null,"Jilemnice 09.11.22",657.69029784446377]
[null,"KUBÁTOVÁ","Veronika","7.B",12.91,null,"Jilemnice 09.11.22",{"$f":"IF(E143=0,0,IF(E143>0,((1000 - 321 / E143 + 340 / E143*2 - 16600 / E143*3 + 32190000000 / E143*4)/15000000-62)*0.95))","v":572.76519646553061}]
[null,"LENČEŠOVÁ","Silvie","7.B",12.93,null,"Jilemnice 09.11.22",571.78814289533375,null,12.56]
[null,"LUKEŠOVÁ","Lucie","7.B",null,null,null,0]
[null,"MATERNOVÁ","Lenka","7.B",11.36,null,"Jilemnice 09.11.22",658.95190037001169,null,11.81]
[null,"TÓTHOVÁ","Viktorie","7.B",12.51,null,"Jilemnice 09.11.22",592.96232302451369,null,13.24]
[null,"DUONG","Ngoc Linh","8.A",null,null,null,0,null,12.84]
[null,"GINGALOVÁ","Linda","8.A",null,null,null,0]
[null,"HOFMANOVÁ ","Nicol","8.A",null,null,null,0,null,13.91,12.25]
[null,"HOLEŠOVSKÁ","Aneta","8.A",12.56,null,"Jilemnice 13.02.23",590.36732995249474]
[null,"HOLUBCOVÁ","Alena","8.A",10.57,null,"Jilemnice 16.06.23",712.60402442478699,null,12.21,11.03]
[null,"KOHOUTOVÁ","Anna","8.A",14.34,null,"Jilemnice 13.02.23",509.77487984216629,null,13.68,13.62]
[null,"KRAUSOVÁ","Anežka","8.A",12.12,null,"Jilemnice 13.02.23",613.93808880665574,null,12.22,11.7]
[null,"KUŽELOVÁ","Apoléna","8.A",11.98,null,"Jilemnice 13.02.23",621.80097057345563]
[null,"MORÁVKOVÁ","Lucie","8.A",12.85,null,"Jilemnice 13.02.23",575.71460564747088]
[null,"SKLENÁROVÁ","Eliška","8.A",null,null,null,0,null,13.37]
[null,"ŠEJNOVÁ","Karolína","8.A",12.81,null,"Jilemnice 13.02.23",577.69622794977874,null,12.49]
[null,"ŠTOLFOVÁ","Tereza","8.A",null,null,null,0,null,null,11.97]
[null,"ŠUBÍKOVÁ","Klára","8.A",11.09,null,"Jilemnice 16.06.23",676.42890632131048,null,12.16,11.62]
[null,"ŠULKOVSKÁ","Klára","8.A",null,null,null,0]
[null,"TULÁČKOVÁ","Natálie","8.A",11.96,null,"Jilemnice 13.02.23",622.9392664049609]
[null,"VOJTÍŠKOVÁ","Ella","8.A",10.57,null,"Jilemnice 16.06.23",712.60402442478699]
[null,"DRUGÁČOVÁ","Kristinka","8.B",null,null,null,0,null,null,10.84]
[null,"FAJSTAVROVÁ","Karolína","8.B",10.84,null,"Jilemnice 13.02.23",693.38759734963094]
[null,"FAJSTAVROVÁ","Magdaléna","8.B",10.3,null,"Jilemnice 13.02.23",732.82791466699018]
[null,"JINDROVÁ","Barbora","8.B",12.32,null,"Jilemnice 13.02.23",603.01539358793286]
[null,"MAŘASOVÁ","Vendula","8.B",12.68,null,"Jilemnice 13.02.23",584.22284477944265]
[null,"PETŘÍČKOVÁ","Natálie","8.B",10.86,null,"Jilemnice 13.02.23",692.00216911019038]
[null,"PETŘÍKOVÁ","Adéla","8.B",13.41,null,"Jilemnice 13.02.23",549.213178078797,null,13.56,12.88]
[null,"REGÁLOVÁ","Karolína","8.B",11.81,null,"Jilemnice 13.02.23",631.59937482670045]
[null,"RIEGROVÁ","Magdaléna","8.B",12.41,null,"Jilemnice 13.02.23",598.21504066908403,null,12.82,12.61]
[null,"RYBENSKÁ","Sabina","8.B",11.37,null,"Jilemnice 13.02.23",658.32054431281153]
[null,"STEINEROVÁ","Barbora","8.B",10.84,null,"Jilemnice 13.02.23",693.38759734963094]
[null,"ŠERCLOVÁ","Andrea","8.B",null,null,null,{"$f":"IF(E175=0,0,IF(E175>0,((1000 - 321 / E175 + 340 / E175*2 - 16600 / E175*3 + 32190000000 / E175*4)/15000000-62)*0.95))","v":0}]
[null,"TOMEŠOVÁ","Barbora","8.B",11.05,null,"Jilemnice 13.02.23",679.09073018733022]
[null,"VOHNOUTOVÁ","Aneta","8.B",10.6,null,"Jilemnice 13.02.23",710.42052264811321]
[null,"HAVLÍKOVÁ","Michaela","9.A",11.5,null,"Jilemnice 11.11.22",650.21283452782598,null,12.43,11.13,12.46]
[null,"HOLUBCOVÁ","Sára","9.A",11.09,null,"Jilemnice 11.11.22",676.42890632131048,null,10.95,10.65,10.87]
[null,"HONCŮ","Tereza","9.A",11.31,null,"Jilemnice 11.11.22",662.1254275010316,null,11.03,null,11.63]
[null,"HORÁČKOVÁ","Kateřina","9.A",10.79,null,"Jilemnice 11.11.22",696.87363782236639,null,10.59,10.83,10.96]
[null,"JOUDALOVÁ","Daniela","9.A",null,null,null,0,null,null,null,14.45]
[null,"KLÍMOVÁ","Anna","9.A",null,null,null,0,null,11.5,11.3,11.46]
[null,"KOHOUTOVÁ","Veronika","9.A",11.38,null,"Jilemnice 11.11.22",657.69029784446377,null,11,10.81,10.88]
[null,"KOVÁŘOVÁ","Viktorie","9.A",11.2,null,"Jilemnice 11.11.22",669.20692661339285,null,11.2,10.85,12]
[null,"KYNČLOVÁ","Anna","9.A",10.44,null,"Jilemnice 11.11.22",722.21087451500637,null,10.45,10.08,10.8]
[null,"MATOUŠOVÁ","Tereza","9.A",11.55,null,"Jilemnice 11.11.22",647.14308227157278,null,12.54,11.86,12.46]
[null,"MAZÁNKOVÁ","Zuzana","9.A",11.49,null,"Jilemnice 11.11.22",650.82999098665505,null,12.29,null,12.51]
[null,"MORKESOVÁ","Sabrina","9.A",10.33,null,"Jilemnice 11.11.22",730.52860822555658,null,10.25,10.16,10.82]
[null,"POHOŘALÁ","Alžběta","9.A",null,null,null,0,null,10.71,10.75,11.52]
[null,"SCHOLZOVÁ","Laura","9.A",null,null,null,0,null,null,11.73,12.75]
[null,"VÁCLAVÍKOVÁ","Valerie","9.A",11.21,null,"Jilemnice 11.11.22",668.55741112429371,null,10.76,10.97]
[null,"ZAPADLOVÁ","Emma","9.A",10.9,null,"Jilemnice 11.11.22",689.24656505229348,null,11.3,10.88,12.18]
[null,"ŽIŠKOVÁ","Mia","9.A",null,null,null,0,null,null,null,11.37]
[null,"FARSKÁ","Tereza","9.B",null,null,null,0,null,12.82]
[null,"FEIXOVÁ","Rozálie","9.B",null,null,null,0]
[null,"FIŠEROVÁ","Michaela","9.B",null,null,null,0,null,11.67]
[null,"HAVLÍČKOVÁ","Kristýna","9.B",null,null,null,0,null,13.96]
[null,"KADAVÁ","Nikola","9.B",null,null,null,0,null,13.56]
[null,"KŘIVINKOVÁ","Alžběta","9.B",null,null,null,0]
[null,"LEŠÁKOVÁ","Lenka","9.B",null,null,null,0,null,13.13]
[null,"NYKLÍČKOVÁ","Adéla","9.B",null,null,null,0,null,10.93]
[null,"PLŮCHOVÁ","Petra","9.B",null,null,null,0,null,12.23]
[null,"PODZIMKOVÁ","Eliška","9.B",null,null,null,0,null,12.3]
[null,"RUTKAYOVÁ","Klára","9.B",null,null,null,0]
[null,"SEIDLOVÁ","Zuzana","9.B",null,null,null,0]
[null,"TOMÁŠOVÁ","Sára","9.B",null,null,null,0,null,14.24]
[null,"VANCLOVÁ","Barbora","9.B",null,null,null,0]
[null,"VOTOČKOVÁ","Veronika","9.B",null,null,null,0]

{"sheet":"Dls","index":14,"n_rows":209,"n_cols":12,"rows_kept":209,"cut":false,"hidden":false,"merged":[[0,1,0,5]]}
[null,"VÝKONY  2022 - 2023",null,null,null,null,"LEHSED",null,null,null,"stav  k ",{"$f":"TODAY()","v":"2023-06-26"}]
[null,null,null,null,null,null,null,"   BODY",null,"   21 - 22   ","   20 - 21   ","   19 - 20   "]
["1.",{"$f":"B111","v":"FARSKÁ"},{"$f":"C111","v":"Anna"},"6.A",35," ","Jilemnice  27.02.23",514.15000000000009," ",0,0,0]
["2.",{"$f":"B112","v":"FARSKÁ"},"Eliška","6.A",24," ",{"$f":"G112","v":"Jilemnice  27.02.23"},361.36," ",{"$f":"J112","v":0},0,0]
["3.",{"$f":"B113","v":"FEDORKOVÁ"},"Denisa","6.A",15," ",{"$f":"G113","v":"Jilemnice  27.02.23"},236.35000000000002," ",{"$f":"J113","v":0},0,0]
["4.",{"$f":"B114","v":"HAUZEROVÁ"},"Tereza","6.A",19," ",{"$f":"G114","v":"Jilemnice  27.02.23"},291.91000000000003," ",{"$f":"J114","v":0},0,0]
["5.",{"$f":"B115","v":"JOSKOVÁ"},"Ellen","6.A",26," ",{"$f":"G115","v":"Jilemnice  27.02.23"},389.14," ",{"$f":"J115","v":0},0,0]
["6.",{"$f":"B116","v":"KUŽELOVÁ"},"Amálie","6.A",24," ",{"$f":"G116","v":"Jilemnice  27.02.23"},361.36," ",{"$f":"J116","v":0},0,0]
["7.",{"$f":"B117","v":"RYŠAVÁ"},"Amálie","6.A",5," ",{"$f":"G117","v":"Jilemnice  27.02.23"},97.45," ",{"$f":"J117","v":0},0,0]
["8.",{"$f":"B118","v":"BANGOVÁ"},"Zuzana","6.B",0," ",{"$f":"G118","v":0},0," ",{"$f":"J118","v":0},0,0]
["9.",{"$f":"B119","v":"HOLUBOVÁ"},"Denisa","6.B",18," ",{"$f":"G119","v":"Jilemnice  27.02.23"},278.02," ",{"$f":"J119","v":0},0,0]
["10.",{"$f":"B120","v":"HURKALO"},"Karolina","6.B",0," ",{"$f":"G120","v":0},0," ",{"$f":"J120","v":0},0,0]
["11.",{"$f":"B121","v":"HUTNIK-MAMONOVA"},"Nana","6.B",0," ",{"$f":"G121","v":0},0," ",{"$f":"J121","v":0},0,0]
["12.",{"$f":"B122","v":"MARINOVA"},"Darja","6.B",29," ",{"$f":"G122","v":"Jilemnice  27.02.23"},430.81," ",{"$f":"J122","v":0},0,0]
["13.",{"$f":"B123","v":"NYKLÍČKOVÁ"},"Klára","6.B",29," ",{"$f":"G123","v":"Jilemnice  27.02.23"},430.81," ",{"$f":"J123","v":0},0,0]
["14.",{"$f":"B124","v":"PANCHAYEVA"},"Sofiia","6.B",25," ",{"$f":"G124","v":"Jilemnice  27.02.23"},375.25," ",{"$f":"J124","v":0},0,0]
["15.",{"$f":"B125","v":"PIČMANOVÁ"},"Klára","6.B",0," ",{"$f":"G125","v":0},0," ",{"$f":"J125","v":0},0,0]
["16.",{"$f":"B126","v":"ŠIMŮNKOVÁ"},"Anežka","6.B",29," ",{"$f":"G126","v":"Jilemnice  27.02.23"},430.81," ",{"$f":"J126","v":0},0,0]
["17.",{"$f":"B127","v":"TRPIŠOVSKÁ"},"Nela","6.B",35," ",{"$f":"G127","v":"Jilemnice  27.02.23"},514.15000000000009," ",{"$f":"J127","v":0},0,0]
["18.",{"$f":"B128","v":"HEJRALOVÁ"},"Natálie","7.A",41," ",{"$f":"G128","v":"Jilemnice 10.10.22"},597.49," ",{"$f":"J128","v":0},0,0]
["19.",{"$f":"B129","v":"KERLE"},"Nikita","7.A",50," ",{"$f":"G129","v":"Jilemnice 10.10.22"},722.5," ",{"$f":"J129","v":0},0,0]
["20.",{"$f":"B130","v":"MUNZAROVÁ"},"Aneta","7.A",31," ",{"$f":"G130","v":"Jilemnice 10.10.22"},458.59000000000003," ",{"$f":"J130","v":0},0,0]
["21.",{"$f":"B131","v":"PACLÍKOVÁ"},"Markéta","7.A",49," ",{"$f":"G131","v":"Jilemnice 10.10.22"},708.61," ",{"$f":"J131","v":0},0,0]
["22.",{"$f":"B132","v":"PLŮCHOVÁ"},"Michaela","7.A",34," ",{"$f":"G132","v":"Jilemnice 10.10.22"},500.26," ",{"$f":"J132","v":0},0,0]
["23.",{"$f":"B133","v":"ŠERCLOVÁ"},"Nikola","7.A",30," ",{"$f":"G133","v":"Jilemnice 10.10.22"},444.70000000000005," ",{"$f":"J133","v":0},0,0]
["24.",{"$f":"B134","v":"VÁCLAVÍKOVÁ"},"Alena","7.A",36," ",{"$f":"G134","v":"Jilemnice 10.10.22"},528.04," ",{"$f":"J134","v":0},0,0]
["25.",{"$f":"B135","v":"DUCHÁČKOVÁ"},"Tereza","7.B",31," ",{"$f":"G135","v":"Jilemnice 10.10.22"},458.59000000000003," ",{"$f":"J135","v":0},0,0]
["26.",{"$f":"B136","v":"FLAŠKOVÁ"},"Anna Sabriel","7.B",30," ",{"$f":"G136","v":"Jilemnice 10.10.22"},444.70000000000005," ",{"$f":"J136","v":0},0,0]
["27.",{"$f":"B137","v":"HAASOVÁ"},"Julie","7.B",0," ",{"$f":"G137","v":0},0," ",{"$f":"J137","v":0},0,0]
["28.",{"$f":"B138","v":"HEGROVÁ"},"Štěpánka","7.B",0," ",{"$f":"G138","v":0},0," ",{"$f":"J138","v":0},0,0]
["29.",{"$f":"B139","v":"HOBLOVÁ"},"Barbora","7.B",21," ",{"$f":"G139","v":"Jilemnice 10.10.22"},319.69," ",{"$f":"J139","v":0},0,0]
["30.",{"$f":"B140","v":"HORÁČKOVÁ"},"Valérie","7.B",36," ",{"$f":"G140","v":"Jilemnice 10.10.22"},528.04," ",{"$f":"J140","v":0},0,0]
["31.",{"$f":"B141","v":"JIRANOVÁ"},"Anežka","7.B",27," ",{"$f":"G141","v":"Jilemnice 10.10.22"},403.03000000000003," ",{"$f":"J141","v":0},0,0]
["32.",{"$f":"B142","v":"KRČÍKOVÁ"},"Beatrix","7.B",49," ",{"$f":"G142","v":"Jilemnice 10.10.22"},708.61," ",{"$f":"J142","v":0},0,0]
["33.",{"$f":"B143","v":"KUBÁTOVÁ"},"Veronika","7.B",19," ",{"$f":"G143","v":"Jilemnice 10.10.22"},291.91000000000003," ",{"$f":"J143","v":0},0,0]
["34.",{"$f":"B144","v":"LENČEŠOVÁ"},"Silvie","7.B",26," ",{"$f":"G144","v":"Jilemnice 10.10.22"},389.14," ",{"$f":"J144","v":0},0,0]
["35.",{"$f":"B145","v":"LUKEŠOVÁ"},"Lucie","7.B",0," ",{"$f":"G145","v":0},0," ",{"$f":"J145","v":0},0,0]
["36.",{"$f":"B146","v":"MATERNOVÁ"},"Lenka","7.B",40," ",{"$f":"G146","v":"Jilemnice 10.10.22"},583.6," ",{"$f":"J146","v":0},0,0]
["37.",{"$f":"B147","v":"TÓTHOVÁ"},"Viktorie","7.B",35," ",{"$f":"G147","v":"Jilemnice 10.10.22"},514.15000000000009," ",{"$f":"J147","v":0},0,0]
["38.",{"$f":"B148","v":"DUONG"},"Ngoc Linh","8.A",0," ",{"$f":"G148","v":0},0," ",{"$f":"J148","v":0},37,0]
["39.",{"$f":"B149","v":"GINGALOVÁ"},"Linda","8.A",35," ",{"$f":"G149","v":"Jilemnice 27.03.23"},514.15000000000009," ",{"$f":"J149","v":0},0,0]
["40.",{"$f":"B150","v":"HOFMANOVÁ "},"Nicol","8.A",31," ",{"$f":"G150","v":"Jilemnice 27.02.23"},458.59000000000003," ",{"$f":"J150","v":0},26,0]
["41.",{"$f":"B151","v":"HOLEŠOVSKÁ"},"Aneta","8.A",0," ",{"$f":"G151","v":0},0," ",{"$f":"J151","v":0},0,0]
["42.",{"$f":"B152","v":"HOLUBCOVÁ"},"Alena","8.A",54," ",{"$f":"G152","v":"Jilemnice 27.02.23"},778.06000000000006," ",{"$f":"J152","v":0},0,0]
["43.",{"$f":"B153","v":"KOHOUTOVÁ"},"Anna","8.A",25," ",{"$f":"G153","v":"Jilemnice 27.02.23"},375.25," ",{"$f":"J153","v":0},0,0]
["44.",{"$f":"B154","v":"KRAUSOVÁ"},"Anežka","8.A",39," ",{"$f":"G154","v":"Jilemnice 27.02.23"},569.71," ",{"$f":"J154","v":0},36,0]
["45.",{"$f":"B155","v":"KUŽELOVÁ"},"Apoléna","8.A",31," ",{"$f":"G155","v":"Jilemnice 27.02.23"},458.59000000000003," ",{"$f":"J155","v":0},0,0]
["46.",{"$f":"B156","v":"MORÁVKOVÁ"},"Lucie","8.A",22," ",{"$f":"G156","v":"Jilemnice 27.02.23"},333.58000000000004," ",{"$f":"J156","v":0},43,0]
["47.",{"$f":"B157","v":"SKLENÁROVÁ"},"Eliška","8.A",43," ",{"$f":"G157","v":"Jilemnice 27.02.23"},625.27," ",{"$f":"J157","v":0},40,0]
["48.",{"$f":"B158","v":"ŠEJNOVÁ"},"Karolína","8.A",29," ",{"$f":"G158","v":"Jilemnice 27.02.23"},430.81," ",{"$f":"J158","v":0},0,0]
["49.",{"$f":"B159","v":"ŠTOLFOVÁ"},"Tereza","8.A",39," ",{"$f":"G159","v":"Jilemnice 27.02.23"},569.71," ",{"$f":"J159","v":0},0,0]
["50.",{"$f":"B160","v":"ŠUBÍKOVÁ"},"Klára","8.A",44," ",{"$f":"G160","v":"Jilemnice 27.03.23"},639.16000000000008," ",{"$f":"J160","v":0},0,0]
["51.",{"$f":"B161","v":"ŠULKOVSKÁ"},"Klára","8.A",36," ",{"$f":"G161","v":"Jilemnice 27.02.23"},528.04," ",{"$f":"J161","v":0},0,0]
["52.",{"$f":"B162","v":"TULÁČKOVÁ"},"Natálie","8.A",0," ",{"$f":"G162","v":0},0," ",{"$f":"J162","v":0},46,0]
["53.",{"$f":"B163","v":"VOJTÍŠKOVÁ"},"Ella","8.A",40," ",{"$f":"G163","v":"Jilemnice 27.02.23"},583.6," ",{"$f":"J163","v":0},0,0]
["54.",{"$f":"B164","v":"DRUGÁČOVÁ"},"Kristinka","8.B",0," ",{"$f":"G164","v":0},0," ",{"$f":"J164","v":0},28,0]
["55.",{"$f":"B165","v":"FAJSTAVROVÁ"},"Karolína","8.B",29," ",{"$f":"G165","v":"Jilemnice 27.02.23"},430.81," ",{"$f":"J165","v":0},20,0]
["56.",{"$f":"B166","v":"FAJSTAVROVÁ"},"Magdaléna","8.B",37," ",{"$f":"G166","v":"Jilemnice 27.02.23"},541.93000000000006," ",{"$f":"J166","v":0},43,0]
["57.",{"$f":"B167","v":"JINDROVÁ"},"Barbora","8.B",30," ",{"$f":"G167","v":"Jilemnice 27.02.23"},444.70000000000005," ",{"$f":"J167","v":0},23,0]
["58.",{"$f":"B168","v":"MAŘASOVÁ"},"Vendula","8.B",32," ",{"$f":"G168","v":"Jilemnice 27.02.23"},472.48," ",{"$f":"J168","v":0},0,0]
["59.",{"$f":"B169","v":"PETŘÍČKOVÁ"},"Natálie","8.B",0," ",{"$f":"G169","v":0},0," ",{"$f":"J169","v":0},0,0]
["60.",{"$f":"B170","v":"PETŘÍKOVÁ"},"Adéla","8.B",30," ",{"$f":"G170","v":"Jilemnice 27.02.23"},444.70000000000005," ",{"$f":"J170","v":0},22,0]
["61.",{"$f":"B171","v":"REGÁLOVÁ"},"Karolína","8.B",37," ",{"$f":"G171","v":"Jilemnice 27.02.23"},541.93000000000006," ",{"$f":"J171","v":0},54,0]
["62.",{"$f":"B172","v":"RIEGROVÁ"},"Magdaléna","8.B",0," ",{"$f":"G172","v":0},0," ",{"$f":"J172","v":0},0,0]
["63.",{"$f":"B173","v":"RYBENSKÁ"},"Sabina","8.B",31," ",{"$f":"G173","v":"Jilemnice 27.02.23"},458.59000000000003," ",{"$f":"J173","v":0},0,0]
["64.",{"$f":"B174","v":"STEINEROVÁ"},"Barbora","8.B",31," ",{"$f":"G174","v":"Jilemnice 27.02.23"},458.59000000000003," ",{"$f":"J174","v":0},0,0]
["65.",{"$f":"B175","v":"ŠERCLOVÁ"},"Andrea","8.B",25," ",{"$f":"G175","v":"Jilemnice 27.02.23"},375.25," ",{"$f":"J175","v":0},0,0]
["66.",{"$f":"B176","v":"TOMEŠOVÁ"},"Barbora","8.B",35," ",{"$f":"G176","v":"Jilemnice 27.02.23"},514.15000000000009," ",{"$f":"J176","v":0},0,0]
["67.",{"$f":"B177","v":"VOHNOUTOVÁ"},"Aneta","8.B",41," ",{"$f":"G177","v":"Jilemnice 27.02.23"},597.49," ",{"$f":"J177","v":0},56,0]
["68.",{"$f":"B178","v":"HAVLÍKOVÁ"},"Michaela","9.A",25," ",{"$f":"G178","v":"Jilemnice 20.01.23"},375.25," ",{"$f":"J178","v":0},0,0]
["69.",{"$f":"B179","v":"HOLUBCOVÁ"},"Sára","9.A",37," ",{"$f":"G179","v":"Jilemnice 20.01.23"},541.93000000000006," ",{"$f":"J179","v":0},0,0]
["70.",{"$f":"B180","v":"HONCŮ"},"Tereza","9.A",40," ",{"$f":"G180","v":"Jilemnice 20.01.23"},583.6," ",{"$f":"J180","v":0},0,0]
["71.",{"$f":"B181","v":"HORÁČKOVÁ"},"Kateřina","9.A",45," ",{"$f":"G181","v":"Jilemnice 20.01.23"},653.05000000000007," ",{"$f":"J181","v":0},37,0]
["72.",{"$f":"B182","v":"JOUDALOVÁ"},"Daniela","9.A",0," ",{"$f":"G182","v":0},0," ",{"$f":"J182","v":0},0,0]
["73.",{"$f":"B183","v":"KLÍMOVÁ"},"Anna","9.A",0," ",{"$f":"G183","v":0},0," ",{"$f":"J183","v":0},0,0]
["74.",{"$f":"B184","v":"KOHOUTOVÁ"},"Veronika","9.A",40," ",{"$f":"G184","v":"Jilemnice 20.01.23"},583.6," ",{"$f":"J184","v":0},0,0]
["75.",{"$f":"B185","v":"KOVÁŘOVÁ"},"Viktorie","9.A",0," ",{"$f":"G185","v":0},0," ",{"$f":"J185","v":0},40,0]
["76.",{"$f":"B186","v":"KYNČLOVÁ"},"Anna","9.A",48," ",{"$f":"G186","v":"Jilemnice 20.01.23"},694.72," ",{"$f":"J186","v":0},51,0]
["77.",{"$f":"B187","v":"MATOUŠOVÁ"},"Tereza","9.A",43," ",{"$f":"G187","v":"Jilemnice 20.01.23"},625.27," ",{"$f":"J187","v":0},0,0]
["78.",{"$f":"B188","v":"MAZÁNKOVÁ"},"Zuzana","9.A",33," ",{"$f":"G188","v":"Jilemnice 20.01.23"},486.37," ",{"$f":"J188","v":0},0,0]
["79.",{"$f":"B189","v":"MORKESOVÁ"},"Sabrina","9.A",44," ",{"$f":"G189","v":"Jilemnice 20.01.23"},639.16000000000008," ",{"$f":"J189","v":0},37,0]
["80.",{"$f":"B190","v":"POHOŘALÁ"},"Alžběta","9.A",0," ",{"$f":"G190","v":0},0," ",{"$f":"J190","v":0},0,0]
["81.",{"$f":"B191","v":"SCHOLZOVÁ"},"Laura","9.A",0," ",{"$f":"G191","v":0},0," ",{"$f":"J191","v":0},0,0]
["82.",{"$f":"B192","v":"VÁCLAVÍKOVÁ"},"Valerie","9.A",41," ",{"$f":"G192","v":"Jilemnice 20.01.23"},597.49," ",{"$f":"J192","v":0},36,0]
["83.",{"$f":"B193","v":"ZAPADLOVÁ"},"Emma","9.A",0," ",{"$f":"G193","v":0},0," ",{"$f":"J193","v":0},33,0]
["84.",{"$f":"B194","v":"ŽIŠKOVÁ"},"Mia","9.A",0," ",{"$f":"G194","v":0},0," ",{"$f":"J194","v":0},0,0]
["85.",{"$f":"B195","v":"FARSKÁ"},"Tereza","9.B",0," ",{"$f":"G195","v":0},0," ",{"$f":"J195","v":0},32,0]
["86.",{"$f":"B196","v":"FEIXOVÁ"},"Rozálie","9.B",0," ",{"$f":"G196","v":0},0," ",{"$f":"J196","v":0},0,0]
["87.",{"$f":"B197","v":"FIŠEROVÁ"},"Michaela","9.B",0," ",{"$f":"G197","v":0},0," ",{"$f":"J197","v":0},0,0]
["88.",{"$f":"B198","v":"HAVLÍČKOVÁ"},"Kristýna","9.B",0," ",{"$f":"G198","v":0},0," ",{"$f":"J198","v":0},0,0]
["89.",{"$f":"B199","v":"KADAVÁ"},"Nikola","9.B",0," ",{"$f":"G199","v":0},0," ",{"$f":"J199","v":0},40,0]
["90.",{"$f":"B200","v":"KŘIVINKOVÁ"},"Alžběta","9.B",0," ",{"$f":"G200","v":0},0," ",{"$f":"J200","v":0},0,0]
["91.",{"$f":"B201","v":"LEŠÁKOVÁ"},"Lenka","9.B",0," ",{"$f":"G201","v":0},0," ",{"$f":"J201","v":0},0,0]
["92.",{"$f":"B202","v":"NYKLÍČKOVÁ"},"Adéla","9.B",0," ",{"$f":"G202","v":0},0," ",{"$f":"J202","v":0},0,0]
["93.",{"$f":"B203","v":"PLŮCHOVÁ"},"Petra","9.B",0," ",{"$f":"G203","v":0},0," ",{"$f":"J203","v":0},0,0]
["94.",{"$f":"B204","v":"PODZIMKOVÁ"},"Eliška","9.B",0," ",{"$f":"G204","v":0},0," ",{"$f":"J204","v":0},0,0]
["95.",{"$f":"B205","v":"RUTKAYOVÁ"},"Klára","9.B",0," ",{"$f":"G205","v":0},0," ",{"$f":"J205","v":0},40,0]
["96.",{"$f":"B206","v":"SEIDLOVÁ"},"Zuzana","9.B",0," ",{"$f":"G206","v":0},0," ",{"$f":"J206","v":0},25,0]
["97.",{"$f":"B207","v":"TOMÁŠOVÁ"},"Sára","9.B",0," ",{"$f":"G207","v":0},0," ",{"$f":"J207","v":0},0,0]
["98.",{"$f":"B208","v":"VANCLOVÁ"},"Barbora","9.B",0," ",{"$f":"G208","v":0},0," ",{"$f":"J208","v":0},0,0]
["99.",{"$f":"B209","v":"VOTOČKOVÁ"},"Veronika","9.B",0," ",{"$f":"G209","v":0},0," ",{"$f":"J209","v":0},0,0]
[]
[]
[]
[]
[]
[]
[]
[]
[]
[null,"FARSKÁ","Anna","6.A",35,null,"Jilemnice  27.02.23",{"$f":"IF(E111=0,0,IF(E111>0,(E111*13.89+28)))","v":514.15000000000009}]
[null,"FARSKÁ","Eliška","6.A",24,null,"Jilemnice  27.02.23",361.36]
[null,"FEDORKOVÁ","Denisa","6.A",15,null,"Jilemnice  27.02.23",236.35000000000002]
[null,"HAUZEROVÁ","Tereza","6.A",19,null,"Jilemnice  27.02.23",291.91000000000003]
[null,"JOSKOVÁ","Ellen","6.A",26,null,"Jilemnice  27.02.23",389.14]
[null,"KUŽELOVÁ","Amálie","6.A",24,null,"Jilemnice  27.02.23",361.36]
[null,"RYŠAVÁ","Amálie","6.A",5,null,"Jilemnice  27.02.23",97.45]
[null,"BANGOVÁ","Zuzana","6.B",null,null,null,0]
[null,"HOLUBOVÁ","Denisa","6.B",18,null,"Jilemnice  27.02.23",278.02]
[null,"HURKALO","Karolina","6.B",null,null,null,0]
[null,"HUTNIK-MAMONOVA","Nana","6.B",null,null,null,0]
[null,"MARINOVA","Darja","6.B",29,null,"Jilemnice  27.02.23",430.81]
[null,"NYKLÍČKOVÁ","Klára","6.B",29,null,"Jilemnice  27.02.23",430.81]
[null,"PANCHAYEVA","Sofiia","6.B",25,null,"Jilemnice  27.02.23",375.25]
[null,"PIČMANOVÁ","Klára","6.B",null,null,null,0]
[null,"ŠIMŮNKOVÁ","Anežka","6.B",29,null,"Jilemnice  27.02.23",430.81]
[null,"TRPIŠOVSKÁ","Nela","6.B",35,null,"Jilemnice  27.02.23",514.15000000000009]
[null,"HEJRALOVÁ","Natálie","7.A",41,null,"Jilemnice 10.10.22",597.49]
[null,"KERLE","Nikita","7.A",50,null,"Jilemnice 10.10.22",722.5]
[null,"MUNZAROVÁ","Aneta","7.A",31,null,"Jilemnice 10.10.22",458.59000000000003]
[null,"PACLÍKOVÁ","Markéta","7.A",49,null,"Jilemnice 10.10.22",708.61]
[null,"PLŮCHOVÁ","Michaela","7.A",34,null,"Jilemnice 10.10.22",500.26]
[null,"ŠERCLOVÁ","Nikola","7.A",30,null,"Jilemnice 10.10.22",444.70000000000005]
[null,"VÁCLAVÍKOVÁ","Alena","7.A",36,null,"Jilemnice 10.10.22",528.04]
[null,"DUCHÁČKOVÁ","Tereza","7.B",31,null,"Jilemnice 10.10.22",458.59000000000003]
[null,"FLAŠKOVÁ","Anna Sabriel","7.B",30,null,"Jilemnice 10.10.22",444.70000000000005]
[null,"HAASOVÁ","Julie","7.B",null,null,null,0]
[null,"HEGROVÁ","Štěpánka","7.B",null,null,null,0]
[null,"HOBLOVÁ","Barbora","7.B",21,null,"Jilemnice 10.10.22",319.69]
[null,"HORÁČKOVÁ","Valérie","7.B",36,null,"Jilemnice 10.10.22",528.04]
[null,"JIRANOVÁ","Anežka","7.B",27,null,"Jilemnice 10.10.22",403.03000000000003]
[null,"KRČÍKOVÁ","Beatrix","7.B",49,null,"Jilemnice 10.10.22",708.61]
[null,"KUBÁTOVÁ","Veronika","7.B",19,null,"Jilemnice 10.10.22",{"$f":"IF(E143=0,0,IF(E143>0,(E143*13.89+28)))","v":291.91000000000003}]
[null,"LENČEŠOVÁ","Silvie","7.B",26,null,"Jilemnice 10.10.22",389.14]
[null,"LUKEŠOVÁ","Lucie","7.B",null,null,null,0]
[null,"MATERNOVÁ","Lenka","7.B",40,null,"Jilemnice 10.10.22",583.6]
[null,"TÓTHOVÁ","Viktorie","7.B",35,null,"Jilemnice 10.10.22",514.15000000000009]
[null,"DUONG","Ngoc Linh","8.A",null,null,null,0,null,null,37]
[null,"GINGALOVÁ","Linda","8.A",35,null,"Jilemnice 27.03.23",514.15000000000009]
[null,"HOFMANOVÁ ","Nicol","8.A",31,null,"Jilemnice 27.02.23",458.59000000000003,null,null,26]
[null,"HOLEŠOVSKÁ","Aneta","8.A",null,null,null,0]
[null,"HOLUBCOVÁ","Alena","8.A",54,null,"Jilemnice 27.02.23",778.06000000000006]
[null,"KOHOUTOVÁ","Anna","8.A",25,null,"Jilemnice 27.02.23",375.25]
[null,"KRAUSOVÁ","Anežka","8.A",39,null,"Jilemnice 27.02.23",569.71,null,null,36]
[null,"KUŽELOVÁ","Apoléna","8.A",31,null,"Jilemnice 27.02.23",458.59000000000003]
[null,"MORÁVKOVÁ","Lucie","8.A",22,null,"Jilemnice 27.02.23",333.58000000000004,null,null,43]
[null,"SKLENÁROVÁ","Eliška","8.A",43,null,"Jilemnice 27.02.23",625.27,null,null,40]
[null,"ŠEJNOVÁ","Karolína","8.A",29,null,"Jilemnice 27.02.23",430.81]
[null,"ŠTOLFOVÁ","Tereza","8.A",39,null,"Jilemnice 27.02.23",569.71]
[null,"ŠUBÍKOVÁ","Klára","8.A",44,null,"Jilemnice 27.03.23",639.16000000000008]
[null,"ŠULKOVSKÁ","Klára","8.A",36,null,"Jilemnice 27.02.23",528.04]
[null,"TULÁČKOVÁ","Natálie","8.A",null,null,null,0,null,null,46]
[null,"VOJTÍŠKOVÁ","Ella","8.A",40,null,"Jilemnice 27.02.23",583.6]
[null,"DRUGÁČOVÁ","Kristinka","8.B",null,null,null,0,null,null,28]
[null,"FAJSTAVROVÁ","Karolína","8.B",29,null,"Jilemnice 27.02.23",430.81,null,null,20]
[null,"FAJSTAVROVÁ","Magdaléna","8.B",37,null,"Jilemnice 27.02.23",541.93000000000006,null,null,43]
[null,"JINDROVÁ","Barbora","8.B",30,null,"Jilemnice 27.02.23",444.70000000000005,null,null,23]
[null,"MAŘASOVÁ","Vendula","8.B",32,null,"Jilemnice 27.02.23",472.48]
[null,"PETŘÍČKOVÁ","Natálie","8.B",null,null,null,0]
[null,"PETŘÍKOVÁ","Adéla","8.B",30,null,"Jilemnice 27.02.23",444.70000000000005,null,null,22]
[null,"REGÁLOVÁ","Karolína","8.B",37,null,"Jilemnice 27.02.23",541.93000000000006,null,null,54]
[null,"RIEGROVÁ","Magdaléna","8.B",null,null,null,0]
[null,"RYBENSKÁ","Sabina","8.B",31,null,"Jilemnice 27.02.23",458.59000000000003]
[null,"STEINEROVÁ","Barbora","8.B",31,null,"Jilemnice 27.02.23",458.59000000000003]
[null,"ŠERCLOVÁ","Andrea","8.B",25,null,"Jilemnice 27.02.23",{"$f":"IF(E175=0,0,IF(E175>0,(E175*13.89+28)))","v":375.25}]
[null,"TOMEŠOVÁ","Barbora","8.B",35,null,"Jilemnice 27.02.23",514.15000000000009]
[null,"VOHNOUTOVÁ","Aneta","8.B",41,null,"Jilemnice 27.02.23",597.49,null,null,56]
[null,"HAVLÍKOVÁ","Michaela","9.A",25,null,"Jilemnice 20.01.23",375.25]
[null,"HOLUBCOVÁ","Sára","9.A",37,null,"Jilemnice 20.01.23",541.93000000000006]
[null,"HONCŮ","Tereza","9.A",40,null,"Jilemnice 20.01.23",583.6]
[null,"HORÁČKOVÁ","Kateřina","9.A",45,null,"Jilemnice 20.01.23",653.05000000000007,null,null,37]
[null,"JOUDALOVÁ","Daniela","9.A",null,null,null,0]
[null,"KLÍMOVÁ","Anna","9.A",null,null,null,0]
[null,"KOHOUTOVÁ","Veronika","9.A",40,null,"Jilemnice 20.01.23",583.6]
[null,"KOVÁŘOVÁ","Viktorie","9.A",null,null,null,0,null,null,40]
[null,"KYNČLOVÁ","Anna","9.A",48,null,"Jilemnice 20.01.23",694.72,null,null,51]
[null,"MATOUŠOVÁ","Tereza","9.A",43,null,"Jilemnice 20.01.23",625.27]
[null,"MAZÁNKOVÁ","Zuzana","9.A",33,null,"Jilemnice 20.01.23",486.37]
[null,"MORKESOVÁ","Sabrina","9.A",44,null,"Jilemnice 20.01.23",639.16000000000008,null,null,37]
[null,"POHOŘALÁ","Alžběta","9.A",null,null,null,0]
[null,"SCHOLZOVÁ","Laura","9.A",null,null,null,0]
[null,"VÁCLAVÍKOVÁ","Valerie","9.A",41,null,"Jilemnice 20.01.23",597.49,null,null,36]
[null,"ZAPADLOVÁ","Emma","9.A",null,null,null,0,null,null,33]
[null,"ŽIŠKOVÁ","Mia","9.A",null,null,null,0]
[null,"FARSKÁ","Tereza","9.B",null,null,null,0,null,null,32]
[null,"FEIXOVÁ","Rozálie","9.B",null,null,null,0]
[null,"FIŠEROVÁ","Michaela","9.B",null,null,null,0]
[null,"HAVLÍČKOVÁ","Kristýna","9.B",null,null,null,0]
[null,"KADAVÁ","Nikola","9.B",null,null,null,0,null,null,40]
[null,"KŘIVINKOVÁ","Alžběta","9.B",null,null,null,0]
[null,"LEŠÁKOVÁ","Lenka","9.B",null,null,null,0]
[null,"NYKLÍČKOVÁ","Adéla","9.B",null,null,null,0]
[null,"PLŮCHOVÁ","Petra","9.B",null,null,null,0]
[null,"PODZIMKOVÁ","Eliška","9.B",null,null,null,0]
[null,"RUTKAYOVÁ","Klára","9.B",null,null,null,0,null,null,40]
[null,"SEIDLOVÁ","Zuzana","9.B",null,null,null,0,null,null,25]
[null,"TOMÁŠOVÁ","Sára","9.B",null,null,null,0]
[null,"VANCLOVÁ","Barbora","9.B",null,null,null,0]
[null,"VOTOČKOVÁ","Veronika","9.B",null,null,null,0]

{"sheet":"Dodbíj","index":15,"n_rows":209,"n_cols":12,"rows_kept":209,"cut":false,"hidden":false,"merged":[[0,1,0,5]]}
[null,"VÝKONY  2022 - 2023",null,null,null,null,"ODBÍJENÍ",null,null,null,"stav  k ",{"$f":"TODAY()","v":"2023-06-26"}]
[null,null,null,null,null,null,null,"   BODY",null,"   21 - 22   ","   20 - 21   ","   19 - 20   "]
["1.",{"$f":"B111","v":"FARSKÁ"},{"$f":"C111","v":"Anna"},"6.A",10," ","Jilemnice  16.02.23",30," ",0,0,0]
["2.",{"$f":"B112","v":"FARSKÁ"},"Eliška","6.A",9," ",{"$f":"G112","v":"Jilemnice  16.02.23"},27," ",{"$f":"J112","v":0},0,0]
["3.",{"$f":"B113","v":"FEDORKOVÁ"},"Denisa","6.A",9," ",{"$f":"G113","v":"Jilemnice  16.02.23"},27," ",{"$f":"J113","v":0},0,0]
["4.",{"$f":"B114","v":"HAUZEROVÁ"},"Tereza","6.A",7," ",{"$f":"G114","v":"Jilemnice  16.02.23"},21," ",{"$f":"J114","v":0},0,0]
["5.",{"$f":"B115","v":"JOSKOVÁ"},"Ellen","6.A",3," ",{"$f":"G115","v":"Jilemnice  16.02.23"},9," ",{"$f":"J115","v":0},0,0]
["6.",{"$f":"B116","v":"KUŽELOVÁ"},"Amálie","6.A",20," ",{"$f":"G116","v":"Jilemnice  16.02.23"},60," ",{"$f":"J116","v":0},0,0]
["7.",{"$f":"B117","v":"RYŠAVÁ"},"Amálie","6.A",25," ",{"$f":"G117","v":"Jilemnice  16.02.23"},75," ",{"$f":"J117","v":0},0,0]
["8.",{"$f":"B118","v":"BANGOVÁ"},"Zuzana","6.B",0," ",{"$f":"G118","v":0},0," ",{"$f":"J118","v":0},0,0]
["9.",{"$f":"B119","v":"HOLUBOVÁ"},"Denisa","6.B",0," ",{"$f":"G119","v":0},0," ",{"$f":"J119","v":0},0,0]
["10.",{"$f":"B120","v":"HURKALO"},"Karolina","6.B",0," ",{"$f":"G120","v":0},0," ",{"$f":"J120","v":0},0,0]
["11.",{"$f":"B121","v":"HUTNIK-MAMONOVA"},"Nana","6.B",0," ",{"$f":"G121","v":0},0," ",{"$f":"J121","v":0},0,0]
["12.",{"$f":"B122","v":"MARINOVA"},"Darja","6.B",0," ",{"$f":"G122","v":0},0," ",{"$f":"J122","v":0},0,0]
["13.",{"$f":"B123","v":"NYKLÍČKOVÁ"},"Klára","6.B",8," ",{"$f":"G123","v":"Jilemnice  16.02.23"},24," ",{"$f":"J123","v":0},0,0]
["14.",{"$f":"B124","v":"PANCHAYEVA"},"Sofiia","6.B",0," ",{"$f":"G124","v":0},0," ",{"$f":"J124","v":0},0,0]
["15.",{"$f":"B125","v":"PIČMANOVÁ"},"Klára","6.B",0," ",{"$f":"G125","v":0},0," ",{"$f":"J125","v":0},0,0]
["16.",{"$f":"B126","v":"ŠIMŮNKOVÁ"},"Anežka","6.B",5," ",{"$f":"G126","v":"Jilemnice  16.02.23"},15," ",{"$f":"J126","v":0},0,0]
["17.",{"$f":"B127","v":"TRPIŠOVSKÁ"},"Nela","6.B",6," ",{"$f":"G127","v":"Jilemnice  16.02.23"},18," ",{"$f":"J127","v":0},0,0]
["18.",{"$f":"B128","v":"HEJRALOVÁ"},"Natálie","7.A",13," ",{"$f":"G128","v":"Jilemnice 27.02.23"},39," ",{"$f":"J128","v":0},0,0]
["19.",{"$f":"B129","v":"KERLE"},"Nikita","7.A",14," ",{"$f":"G129","v":"Jilemnice 27.02.23"},42," ",{"$f":"J129","v":0},0,0]
["20.",{"$f":"B130","v":"MUNZAROVÁ"},"Aneta","7.A",5," ",{"$f":"G130","v":"Jilemnice 27.02.23"},15," ",{"$f":"J130","v":0},0,0]
["21.",{"$f":"B131","v":"PACLÍKOVÁ"},"Markéta","7.A",152," ",{"$f":"G131","v":"Jilemnice 12.06.23"},360.8," ",{"$f":"J131","v":0},0,0]
["22.",{"$f":"B132","v":"PLŮCHOVÁ"},"Michaela","7.A",14," ",{"$f":"G132","v":"Jilemnice 27.02.23"},42," ",{"$f":"J132","v":0},0,0]
["23.",{"$f":"B133","v":"ŠERCLOVÁ"},"Nikola","7.A",10," ",{"$f":"G133","v":"Jilemnice 27.02.23"},30," ",{"$f":"J133","v":0},0,0]
["24.",{"$f":"B134","v":"VÁCLAVÍKOVÁ"},"Alena","7.A",14," ",{"$f":"G134","v":"Jilemnice 27.02.23"},42," ",{"$f":"J134","v":0},0,0]
["25.",{"$f":"B135","v":"DUCHÁČKOVÁ"},"Tereza","7.B",10," ",{"$f":"G135","v":"Jilemnice 27.02.23"},30," ",{"$f":"J135","v":0},0,0]
["26.",{"$f":"B136","v":"FLAŠKOVÁ"},"Anna Sabriel","7.B",7," ",{"$f":"G136","v":"Jilemnice 27.02.23"},21," ",{"$f":"J136","v":0},0,0]
["27.",{"$f":"B137","v":"HAASOVÁ"},"Julie","7.B",0," ",{"$f":"G137","v":0},0," ",{"$f":"J137","v":0},0,0]
["28.",{"$f":"B138","v":"HEGROVÁ"},"Štěpánka","7.B",6," ",{"$f":"G138","v":"Jilemnice 27.02.23"},18," ",{"$f":"J138","v":0},0,0]
["29.",{"$f":"B139","v":"HOBLOVÁ"},"Barbora","7.B",10," ",{"$f":"G139","v":"Jilemnice 27.02.23"},30," ",{"$f":"J139","v":0},0,0]
["30.",{"$f":"B140","v":"HORÁČKOVÁ"},"Valérie","7.B",12," ",{"$f":"G140","v":"Jilemnice 27.02.23"},36," ",{"$f":"J140","v":0},0,0]
["31.",{"$f":"B141","v":"JIRANOVÁ"},"Anežka","7.B",9," ",{"$f":"G141","v":"Jilemnice 27.02.23"},27," ",{"$f":"J141","v":0},0,0]
["32.",{"$f":"B142","v":"KRČÍKOVÁ"},"Beatrix","7.B",14," ",{"$f":"G142","v":"Jilemnice 27.02.23"},42," ",{"$f":"J142","v":0},0,0]
["33.",{"$f":"B143","v":"KUBÁTOVÁ"},"Veronika","7.B",10," ",{"$f":"G143","v":"Jilemnice 27.02.23"},30," ",{"$f":"J143","v":0},0,0]
["34.",{"$f":"B144","v":"LENČEŠOVÁ"},"Silvie","7.B",14," ",{"$f":"G144","v":"Jilemnice 27.02.23"},42," ",{"$f":"J144","v":0},0,0]
["35.",{"$f":"B145","v":"LUKEŠOVÁ"},"Lucie","7.B",10," ",{"$f":"G145","v":"Jilemnice 27.02.23"},30," ",{"$f":"J145","v":0},0,0]
["36.",{"$f":"B146","v":"MATERNOVÁ"},"Lenka","7.B",14," ",{"$f":"G146","v":"Jilemnice 27.02.23"},42," ",{"$f":"J146","v":0},0,0]
["37.",{"$f":"B147","v":"TÓTHOVÁ"},"Viktorie","7.B",9," ",{"$f":"G147","v":"Jilemnice 27.02.23"},27," ",{"$f":"J147","v":0},0,0]
["38.",{"$f":"B148","v":"DUONG"},"Ngoc Linh","8.A",0," ",{"$f":"G148","v":0},0," ",{"$f":"J148","v":17},0,0]
["39.",{"$f":"B149","v":"GINGALOVÁ"},"Linda","8.A",20," ",{"$f":"G149","v":"Jilemnice  27.02.23"},60," ",{"$f":"J149","v":0},0,0]
["40.",{"$f":"B150","v":"HOFMANOVÁ "},"Nicol","8.A",0," ",{"$f":"G150","v":0},0," ",{"$f":"J150","v":17},0,0]
["41.",{"$f":"B151","v":"HOLEŠOVSKÁ"},"Aneta","8.A",0," ",{"$f":"G151","v":0},0," ",{"$f":"J151","v":0},0,0]
["42.",{"$f":"B152","v":"HOLUBCOVÁ"},"Alena","8.A",31," ",{"$f":"G152","v":"Jilemnice 22.05.23"},93," ",{"$f":"J152","v":10},0,0]
["43.",{"$f":"B153","v":"KOHOUTOVÁ"},"Anna","8.A",14," ",{"$f":"G153","v":"Jilemnice 13.02.23"},42," ",{"$f":"J153","v":7},0,0]
["44.",{"$f":"B154","v":"KRAUSOVÁ"},"Anežka","8.A",9," ",{"$f":"G154","v":"Jilemnice 13.02.23"},27," ",{"$f":"J154","v":16},0,0]
["45.",{"$f":"B155","v":"KUŽELOVÁ"},"Apoléna","8.A",8," ",{"$f":"G155","v":"Jilemnice  27.02.23"},24," ",{"$f":"J155","v":0},0,0]
["46.",{"$f":"B156","v":"MORÁVKOVÁ"},"Lucie","8.A",14," ",{"$f":"G156","v":"Jilemnice  27.02.23"},42," ",{"$f":"J156","v":0},0,0]
["47.",{"$f":"B157","v":"SKLENÁROVÁ"},"Eliška","8.A",0," ",{"$f":"G157","v":0},0," ",{"$f":"J157","v":7},0,0]
["48.",{"$f":"B158","v":"ŠEJNOVÁ"},"Karolína","8.A",14," ",{"$f":"G158","v":"Jilemnice 13.02.23"},42," ",{"$f":"J158","v":17},0,0]
["49.",{"$f":"B159","v":"ŠTOLFOVÁ"},"Tereza","8.A",0," ",{"$f":"G159","v":0},0," ",{"$f":"J159","v":16},0,0]
["50.",{"$f":"B160","v":"ŠUBÍKOVÁ"},"Klára","8.A",31," ",{"$f":"G160","v":"Jilemnice 22.06.23"},93," ",{"$f":"J160","v":10},0,0]
["51.",{"$f":"B161","v":"ŠULKOVSKÁ"},"Klára","8.A",0," ",{"$f":"G161","v":0},0," ",{"$f":"J161","v":17},0,0]
["52.",{"$f":"B162","v":"TULÁČKOVÁ"},"Natálie","8.A",0," ",{"$f":"G162","v":0},0," ",{"$f":"J162","v":0},0,0]
["53.",{"$f":"B163","v":"VOJTÍŠKOVÁ"},"Ella","8.A",55," ",{"$f":"G163","v":"Jilemnice  22.05.23"},165," ",{"$f":"J163","v":0},0,0]
["54.",{"$f":"B164","v":"DRUGÁČOVÁ"},"Kristinka","8.B",0," ",{"$f":"G164","v":0},0," ",{"$f":"J164","v":0},0,0]
["55.",{"$f":"B165","v":"FAJSTAVROVÁ"},"Karolína","8.B",20," ",{"$f":"G165","v":"Jilemnice  27.02.23"},60," ",{"$f":"J165","v":0},0,0]
["56.",{"$f":"B166","v":"FAJSTAVROVÁ"},"Magdaléna","8.B",9," ",{"$f":"G166","v":"Jilemnice  27.02.23"},27," ",{"$f":"J166","v":0},0,0]
["57.",{"$f":"B167","v":"JINDROVÁ"},"Barbora","8.B",10," ",{"$f":"G167","v":"Jilemnice  27.02.23"},30," ",{"$f":"J167","v":0},0,0]
["58.",{"$f":"B168","v":"MAŘASOVÁ"},"Vendula","8.B",17," ",{"$f":"G168","v":"Jilemnice  27.02.23"},51," ",{"$f":"J168","v":0},0,0]
["59.",{"$f":"B169","v":"PETŘÍČKOVÁ"},"Natálie","8.B",0," ",{"$f":"G169","v":0},0," ",{"$f":"J169","v":0},0,0]
["60.",{"$f":"B170","v":"PETŘÍKOVÁ"},"Adéla","8.B",6," ",{"$f":"G170","v":"Jilemnice 13.02.23"},18," ",{"$f":"J170","v":6},0,0]
["61.",{"$f":"B171","v":"REGÁLOVÁ"},"Karolína","8.B",31," ",{"$f":"G171","v":"Jilemnice  27.02.23"},93," ",{"$f":"J171","v":0},0,0]
["62.",{"$f":"B172","v":"RIEGROVÁ"},"Magdaléna","8.B",6," ",{"$f":"G172","v":"Jilemnice 13.02.23"},18," ",{"$f":"J172","v":6},0,0]
["63.",{"$f":"B173","v":"RYBENSKÁ"},"Sabina","8.B",8," ",{"$f":"G173","v":"Jilemnice  27.02.23"},24," ",{"$f":"J173","v":0},0,0]
["64.",{"$f":"B174","v":"STEINEROVÁ"},"Barbora","8.B",11," ",{"$f":"G174","v":"Jilemnice  27.02.23"},33," ",{"$f":"J174","v":0},0,0]
["65.",{"$f":"B175","v":"ŠERCLOVÁ"},"Andrea","8.B",0," ",{"$f":"G175","v":0},0," ",{"$f":"J175","v":0},0,0]
["66.",{"$f":"B176","v":"TOMEŠOVÁ"},"Barbora","8.B",5," ",{"$f":"G176","v":"Jilemnice  27.02.23"},15," ",{"$f":"J176","v":0},0,0]
["67.",{"$f":"B177","v":"VOHNOUTOVÁ"},"Aneta","8.B",41," ",{"$f":"G177","v":"Jilemnice  27.02.23"},123," ",{"$f":"J177","v":0},0,0]
["68.",{"$f":"B178","v":"HAVLÍKOVÁ"},"Michaela","9.A",0," ",{"$f":"G178","v":0},0," ",{"$f":"J178","v":9},0,3]
["69.",{"$f":"B179","v":"HOLUBCOVÁ"},"Sára","9.A",43," ",{"$f":"G179","v":"Jilemnice 15.03.23"},129," ",{"$f":"J179","v":10},0,8]
["70.",{"$f":"B180","v":"HONCŮ"},"Tereza","9.A",17," ",{"$f":"G180","v":"Jilemnice 15.03.23"},51," ",{"$f":"J180","v":9},0,6]
["71.",{"$f":"B181","v":"HORÁČKOVÁ"},"Kateřina","9.A",27," ",{"$f":"G181","v":"Jilemnice 15.03.23"},81," ",{"$f":"J181","v":19},0,7]
["72.",{"$f":"B182","v":"JOUDALOVÁ"},"Daniela","9.A",0," ",{"$f":"G182","v":0},0," ",{"$f":"J182","v":0},0,0]
["73.",{"$f":"B183","v":"KLÍMOVÁ"},"Anna","9.A",27," ",{"$f":"G183","v":"Jilemnice 15.03.23"},81," ",{"$f":"J183","v":9},0,6]
["74.",{"$f":"B184","v":"KOHOUTOVÁ"},"Veronika","9.A",43," ",{"$f":"G184","v":"Jilemnice 15.03.23"},129," ",{"$f":"J184","v":10},0,6]
["75.",{"$f":"B185","v":"KOVÁŘOVÁ"},"Viktorie","9.A",12," ",{"$f":"G185","v":"Jilemnice 15.03.23"},36," ",{"$f":"J185","v":6},0,8]
["76.",{"$f":"B186","v":"KYNČLOVÁ"},"Anna","9.A",17," ",{"$f":"G186","v":"Jilemnice 15.03.23"},51," ",{"$f":"J186","v":6},0,10]
["77.",{"$f":"B187","v":"MATOUŠOVÁ"},"Tereza","9.A",0," ",{"$f":"G187","v":0},0," ",{"$f":"J187","v":10},0,9]
["78.",{"$f":"B188","v":"MAZÁNKOVÁ"},"Zuzana","9.A",0," ",{"$f":"G188","v":0},0," ",{"$f":"J188","v":0},0,6]
["79.",{"$f":"B189","v":"MORKESOVÁ"},"Sabrina","9.A",46," ",{"$f":"G189","v":"Jilemnice 15.03.23"},138," ",{"$f":"J189","v":19},0,9]
["80.",{"$f":"B190","v":"POHOŘALÁ"},"Alžběta","9.A",0," ",{"$f":"G190","v":0},0," ",{"$f":"J190","v":6},0,11]
["81.",{"$f":"B191","v":"SCHOLZOVÁ"},"Laura","9.A",12," ",{"$f":"G191","v":"Jilemnice 15.03.23"},36," ",{"$f":"J191","v":2},0,6]
["82.",{"$f":"B192","v":"VÁCLAVÍKOVÁ"},"Valerie","9.A",46," ",{"$f":"G192","v":"Jilemnice 15.03.23"},138," ",{"$f":"J192","v":10},0,11]
["83.",{"$f":"B193","v":"ZAPADLOVÁ"},"Emma","9.A",22," ",{"$f":"G193","v":"Jilemnice 15.03.23"},66," ",{"$f":"J193","v":8},0,10]
["84.",{"$f":"B194","v":"ŽIŠKOVÁ"},"Mia","9.A",22," ",{"$f":"G194","v":"Jilemnice 15.03.23"},66," ",{"$f":"J194","v":8},0,9]
["85.",{"$f":"B195","v":"FARSKÁ"},"Tereza","9.B",0," ",{"$f":"G195","v":0},0," ",{"$f":"J195","v":0},0,0]
["86.",{"$f":"B196","v":"FEIXOVÁ"},"Rozálie","9.B",0," ",{"$f":"G196","v":0},0," ",{"$f":"J196","v":0},0,0]
["87.",{"$f":"B197","v":"FIŠEROVÁ"},"Michaela","9.B",0," ",{"$f":"G197","v":0},0," ",{"$f":"J197","v":0},0,0]
["88.",{"$f":"B198","v":"HAVLÍČKOVÁ"},"Kristýna","9.B",0," ",{"$f":"G198","v":0},0," ",{"$f":"J198","v":0},0,0]
["89.",{"$f":"B199","v":"KADAVÁ"},"Nikola","9.B",0," ",{"$f":"G199","v":0},0," ",{"$f":"J199","v":0},0,0]
["90.",{"$f":"B200","v":"KŘIVINKOVÁ"},"Alžběta","9.B",0," ",{"$f":"G200","v":0},0," ",{"$f":"J200","v":0},0,0]
["91.",{"$f":"B201","v":"LEŠÁKOVÁ"},"Lenka","9.B",0," ",{"$f":"G201","v":0},0," ",{"$f":"J201","v":0},0,0]
["92.",{"$f":"B202","v":"NYKLÍČKOVÁ"},"Adéla","9.B",0," ",{"$f":"G202","v":0},0," ",{"$f":"J202","v":0},0,0]
["93.",{"$f":"B203","v":"PLŮCHOVÁ"},"Petra","9.B",0," ",{"$f":"G203","v":0},0," ",{"$f":"J203","v":0},0,0]
["94.",{"$f":"B204","v":"PODZIMKOVÁ"},"Eliška","9.B",0," ",{"$f":"G204","v":0},0," ",{"$f":"J204","v":0},0,0]
["95.",{"$f":"B205","v":"RUTKAYOVÁ"},"Klára","9.B",0," ",{"$f":"G205","v":0},0," ",{"$f":"J205","v":0},0,0]
["96.",{"$f":"B206","v":"SEIDLOVÁ"},"Zuzana","9.B",0," ",{"$f":"G206","v":0},0," ",{"$f":"J206","v":0},0,0]
["97.",{"$f":"B207","v":"TOMÁŠOVÁ"},"Sára","9.B",0," ",{"$f":"G207","v":0},0," ",{"$f":"J207","v":0},0,0]
["98.",{"$f":"B208","v":"VANCLOVÁ"},"Barbora","9.B",0," ",{"$f":"G208","v":0},0," ",{"$f":"J208","v":0},0,0]
["99.",{"$f":"B209","v":"VOTOČKOVÁ"},"Veronika","9.B",0," ",{"$f":"G209","v":0},0," ",{"$f":"J209","v":0},0,0]
[]
[]
[]
[]
[]
[]
[]
[]
[]
[null,"FARSKÁ","Anna","6.A",10,null,"Jilemnice  16.02.23",{"$f":"IF(E111=0,0,IF(E111<101,3*E111,IF(E111>80,300+E111/2.5)))","v":30}]
[null,"FARSKÁ","Eliška","6.A",9,null,"Jilemnice  16.02.23",27]
[null,"FEDORKOVÁ","Denisa","6.A",9,null,"Jilemnice  16.02.23",27]
[null,"HAUZEROVÁ","Tereza","6.A",7,null,"Jilemnice  16.02.23",21]
[null,"JOSKOVÁ","Ellen","6.A",3,null,"Jilemnice  16.02.23",9]
[null,"KUŽELOVÁ","Amálie","6.A",20,null,"Jilemnice  16.02.23",60]
[null,"RYŠAVÁ","Amálie","6.A",25,null,"Jilemnice  16.02.23",75]
[null,"BANGOVÁ","Zuzana","6.B",null,null,null,0]
[null,"HOLUBOVÁ","Denisa","6.B",null,null,null,0]
[null,"HURKALO","Karolina","6.B",null,null,null,0]
[null,"HUTNIK-MAMONOVA","Nana","6.B",null,null,null,0]
[null,"MARINOVA","Darja","6.B",null,null,null,0]
[null,"NYKLÍČKOVÁ","Klára","6.B",8,null,"Jilemnice  16.02.23",24]
[null,"PANCHAYEVA","Sofiia","6.B",null,null,null,0]
[null,"PIČMANOVÁ","Klára","6.B",null,null,null,0]
[null,"ŠIMŮNKOVÁ","Anežka","6.B",5,null,"Jilemnice  16.02.23",15]
[null,"TRPIŠOVSKÁ","Nela","6.B",6,null,"Jilemnice  16.02.23",18]
[null,"HEJRALOVÁ","Natálie","7.A",13,null,"Jilemnice 27.02.23",39]
[null,"KERLE","Nikita","7.A",14,null,"Jilemnice 27.02.23",42]
[null,"MUNZAROVÁ","Aneta","7.A",5,null,"Jilemnice 27.02.23",15]
[null,"PACLÍKOVÁ","Markéta","7.A",152,null,"Jilemnice 12.06.23",360.8]
[null,"PLŮCHOVÁ","Michaela","7.A",14,null,"Jilemnice 27.02.23",42]
[null,"ŠERCLOVÁ","Nikola","7.A",10,null,"Jilemnice 27.02.23",30]
[null,"VÁCLAVÍKOVÁ","Alena","7.A",14,null,"Jilemnice 27.02.23",42]
[null,"DUCHÁČKOVÁ","Tereza","7.B",10,null,"Jilemnice 27.02.23",30]
[null,"FLAŠKOVÁ","Anna Sabriel","7.B",7,null,"Jilemnice 27.02.23",21]
[null,"HAASOVÁ","Julie","7.B",null,null,null,0]
[null,"HEGROVÁ","Štěpánka","7.B",6,null,"Jilemnice 27.02.23",18]
[null,"HOBLOVÁ","Barbora","7.B",10,null,"Jilemnice 27.02.23",30]
[null,"HORÁČKOVÁ","Valérie","7.B",12,null,"Jilemnice 27.02.23",36]
[null,"JIRANOVÁ","Anežka","7.B",9,null,"Jilemnice 27.02.23",27]
[null,"KRČÍKOVÁ","Beatrix","7.B",14,null,"Jilemnice 27.02.23",42]
[null,"KUBÁTOVÁ","Veronika","7.B",10,null,"Jilemnice 27.02.23",{"$f":"IF(E143=0,0,IF(E143<101,3*E143,IF(E143>80,300+E143/2.5)))","v":30}]
[null,"LENČEŠOVÁ","Silvie","7.B",14,null,"Jilemnice 27.02.23",42]
[null,"LUKEŠOVÁ","Lucie","7.B",10,null,"Jilemnice 27.02.23",30]
[null,"MATERNOVÁ","Lenka","7.B",14,null,"Jilemnice 27.02.23",42]
[null,"TÓTHOVÁ","Viktorie","7.B",9,null,"Jilemnice 27.02.23",27]
[null,"DUONG","Ngoc Linh","8.A",null,null,null,0,null,17]
[null,"GINGALOVÁ","Linda","8.A",20,null,"Jilemnice  27.02.23",60]
[null,"HOFMANOVÁ ","Nicol","8.A",null,null,null,0,null,17]
[null,"HOLEŠOVSKÁ","Aneta","8.A",null,null,null,0]
[null,"HOLUBCOVÁ","Alena","8.A",31,null,"Jilemnice 22.05.23",93,null,10]
[null,"KOHOUTOVÁ","Anna","8.A",14,null,"Jilemnice 13.02.23",42,null,7]
[null,"KRAUSOVÁ","Anežka","8.A",9,null,"Jilemnice 13.02.23",27,null,16]
[null,"KUŽELOVÁ","Apoléna","8.A",8,null,"Jilemnice  27.02.23",24]
[null,"MORÁVKOVÁ","Lucie","8.A",14,null,"Jilemnice  27.02.23",42]
[null,"SKLENÁROVÁ","Eliška","8.A",null,null,null,0,null,7]
[null,"ŠEJNOVÁ","Karolína","8.A",14,null,"Jilemnice 13.02.23",42,null,17]
[null,"ŠTOLFOVÁ","Tereza","8.A",null,null,null,0,null,16]
[null,"ŠUBÍKOVÁ","Klára","8.A",31,null,"Jilemnice 22.06.23",93,null,10]
[null,"ŠULKOVSKÁ","Klára","8.A",null,null,null,0,null,17]
[null,"TULÁČKOVÁ","Natálie","8.A",null,null,null,0]
[null,"VOJTÍŠKOVÁ","Ella","8.A",55,null,"Jilemnice  22.05.23",165]
[null,"DRUGÁČOVÁ","Kristinka","8.B",null,null,null,0]
[null,"FAJSTAVROVÁ","Karolína","8.B",20,null,"Jilemnice  27.02.23",60]
[null,"FAJSTAVROVÁ","Magdaléna","8.B",9,null,"Jilemnice  27.02.23",27]
[null,"JINDROVÁ","Barbora","8.B",10,null,"Jilemnice  27.02.23",30]
[null,"MAŘASOVÁ","Vendula","8.B",17,null,"Jilemnice  27.02.23",51]
[null,"PETŘÍČKOVÁ","Natálie","8.B",null,null,null,0]
[null,"PETŘÍKOVÁ","Adéla","8.B",6,null,"Jilemnice 13.02.23",18,null,6]
[null,"REGÁLOVÁ","Karolína","8.B",31,null,"Jilemnice  27.02.23",93]
[null,"RIEGROVÁ","Magdaléna","8.B",6,null,"Jilemnice 13.02.23",18,null,6]
[null,"RYBENSKÁ","Sabina","8.B",8,null,"Jilemnice  27.02.23",24]
[null,"STEINEROVÁ","Barbora","8.B",11,null,"Jilemnice  27.02.23",33]
[null,"ŠERCLOVÁ","Andrea","8.B",null,null,null,{"$f":"IF(E175=0,0,IF(E175<101,3*E175,IF(E175>80,300+E175/2.5)))","v":0}]
[null,"TOMEŠOVÁ","Barbora","8.B",5,null,"Jilemnice  27.02.23",15]
[null,"VOHNOUTOVÁ","Aneta","8.B",41,null,"Jilemnice  27.02.23",123]
[null,"HAVLÍKOVÁ","Michaela","9.A",null,null,null,0,null,9,null,3]
[null,"HOLUBCOVÁ","Sára","9.A",43,null,"Jilemnice 15.03.23",129,null,10,null,8]
[null,"HONCŮ","Tereza","9.A",17,null,"Jilemnice 15.03.23",51,null,9,null,6]
[null,"HORÁČKOVÁ","Kateřina","9.A",27,null,"Jilemnice 15.03.23",81,null,19,null,7]
[null,"JOUDALOVÁ","Daniela","9.A",null,null,null,0]
[null,"KLÍMOVÁ","Anna","9.A",27,null,"Jilemnice 15.03.23",81,null,9,null,6]
[null,"KOHOUTOVÁ","Veronika","9.A",43,null,"Jilemnice 15.03.23",129,null,10,null,6]
[null,"KOVÁŘOVÁ","Viktorie","9.A",12,null,"Jilemnice 15.03.23",36,null,6,null,8]
[null,"KYNČLOVÁ","Anna","9.A",17,null,"Jilemnice 15.03.23",51,null,6,null,10]
[null,"MATOUŠOVÁ","Tereza","9.A",null,null,null,0,null,10,null,9]
[null,"MAZÁNKOVÁ","Zuzana","9.A",null,null,null,0,null,null,null,6]
[null,"MORKESOVÁ","Sabrina","9.A",46,null,"Jilemnice 15.03.23",138,null,19,null,9]
[null,"POHOŘALÁ","Alžběta","9.A",null,null,null,0,null,6,null,11]
[null,"SCHOLZOVÁ","Laura","9.A",12,null,"Jilemnice 15.03.23",36,null,2,null,6]
[null,"VÁCLAVÍKOVÁ","Valerie","9.A",46,null,"Jilemnice 15.03.23",138,null,10,null,11]
[null,"ZAPADLOVÁ","Emma","9.A",22,null,"Jilemnice 15.03.23",66,null,8,null,10]
[null,"ŽIŠKOVÁ","Mia","9.A",22,null,"Jilemnice 15.03.23",66,null,8,null,9]
[null,"FARSKÁ","Tereza","9.B",null,null,null,0]
[null,"FEIXOVÁ","Rozálie","9.B",null,null,null,0]
[null,"FIŠEROVÁ","Michaela","9.B",null,null,null,0]
[null,"HAVLÍČKOVÁ","Kristýna","9.B",null,null,null,0]
[null,"KADAVÁ","Nikola","9.B",null,null,null,0]
[null,"KŘIVINKOVÁ","Alžběta","9.B",null,null,null,0]
[null,"LEŠÁKOVÁ","Lenka","9.B",null,null,null,0]
[null,"NYKLÍČKOVÁ","Adéla","9.B",null,null,null,0]
[null,"PLŮCHOVÁ","Petra","9.B",null,null,null,0]
[null,"PODZIMKOVÁ","Eliška","9.B",null,null,null,0]
[null,"RUTKAYOVÁ","Klára","9.B",null,null,null,0]
[null,"SEIDLOVÁ","Zuzana","9.B",null,null,null,0]
[null,"TOMÁŠOVÁ","Sára","9.B",null,null,null,0]
[null,"VANCLOVÁ","Barbora","9.B",null,null,null,0]
[null,"VOTOČKOVÁ","Veronika","9.B",null,null,null,0]

{"sheet":"Dplav","index":16,"n_rows":209,"n_cols":12,"rows_kept":209,"cut":false,"hidden":false,"merged":[[0,1,0,5]]}
[null,"VÝKONY  2022 - 2023",null,null,null,null,"PLAVÁNÍ",null,null,null,"stav  k ",{"$f":"TODAY()","v":"2023-06-26"}]
[null,null,null,null,null,null,null,"   BODY",null,"   21 - 22   ","   20 - 21   ","   19 - 20   "]
["1.",{"$f":"B111","v":"FARSKÁ"},{"$f":"C111","v":"Anna"},"6.A",{"$f":"E111","v":0}," ",0,0,"  ",0,0,0]
["2.",{"$f":"B112","v":"FARSKÁ"},"Eliška","6.A",0," ",{"$f":"G112","v":0},0,"  ",{"$f":"J112","v":0},0,0]
["3.",{"$f":"B113","v":"FEDORKOVÁ"},"Denisa","6.A",0," ",{"$f":"G113","v":0},0,"  ",{"$f":"J113","v":0},0,0]
["4.",{"$f":"B114","v":"HAUZEROVÁ"},"Tereza","6.A",0," ",{"$f":"G114","v":0},0,"  ",{"$f":"J114","v":0},0,0]
["5.",{"$f":"B115","v":"JOSKOVÁ"},"Ellen","6.A",0," ",{"$f":"G115","v":0},0,"  ",{"$f":"J115","v":0},0,0]
["6.",{"$f":"B116","v":"KUŽELOVÁ"},"Amálie","6.A",0," ",{"$f":"G116","v":0},0,"  ",{"$f":"J116","v":0},0,0]
["7.",{"$f":"B117","v":"RYŠAVÁ"},"Amálie","6.A",0," ",{"$f":"G117","v":0},0,"  ",{"$f":"J117","v":0},0,0]
["8.",{"$f":"B118","v":"BANGOVÁ"},"Zuzana","6.B",0," ",{"$f":"G118","v":0},0,"  ",{"$f":"J118","v":0},0,0]
["9.",{"$f":"B119","v":"HOLUBOVÁ"},"Denisa","6.B",0," ",{"$f":"G119","v":0},0,"  ",{"$f":"J119","v":0},0,0]
["10.",{"$f":"B120","v":"HURKALO"},"Karolina","6.B",0," ",{"$f":"G120","v":0},0,"  ",{"$f":"J120","v":0},0,0]
["11.",{"$f":"B121","v":"HUTNIK-MAMONOVA"},"Nana","6.B",0," ",{"$f":"G121","v":0},0,"  ",{"$f":"J121","v":0},0,0]
["12.",{"$f":"B122","v":"MARINOVA"},"Darja","6.B",0," ",{"$f":"G122","v":0},0,"  ",{"$f":"J122","v":0},0,0]
["13.",{"$f":"B123","v":"NYKLÍČKOVÁ"},"Klára","6.B",0," ",{"$f":"G123","v":0},0,"  ",{"$f":"J123","v":0},0,0]
["14.",{"$f":"B124","v":"PANCHAYEVA"},"Sofiia","6.B",0," ",{"$f":"G124","v":0},0,"  ",{"$f":"J124","v":0},0,0]
["15.",{"$f":"B125","v":"PIČMANOVÁ"},"Klára","6.B",0," ",{"$f":"G125","v":0},0,"  ",{"$f":"J125","v":0},0,0]
["16.",{"$f":"B126","v":"ŠIMŮNKOVÁ"},"Anežka","6.B",0," ",{"$f":"G126","v":0},0,"  ",{"$f":"J126","v":0},0,0]
["17.",{"$f":"B127","v":"TRPIŠOVSKÁ"},"Nela","6.B",0," ",{"$f":"G127","v":0},0,"  ",{"$f":"J127","v":0},0,0]
["18.",{"$f":"B128","v":"HEJRALOVÁ"},"Natálie","7.A",30.16," ",{"$f":"G128","v":"Jilemnice 13.06.23"},507.96480402700746,"  ",{"$f":"J128","v":0},0,0]
["19.",{"$f":"B129","v":"KERLE"},"Nikita","7.A",0," ",{"$f":"G129","v":0},0,"  ",{"$f":"J129","v":0},0,0]
["20.",{"$f":"B130","v":"MUNZAROVÁ"},"Aneta","7.A",0," ",{"$f":"G130","v":0},0,"  ",{"$f":"J130","v":0},0,0]
["21.",{"$f":"B131","v":"PACLÍKOVÁ"},"Markéta","7.A",29.09," ",{"$f":"G131","v":"Jilemnice 13.06.23"},521.68668828400882,"  ",{"$f":"J131","v":0},0,0]
["22.",{"$f":"B132","v":"PLŮCHOVÁ"},"Michaela","7.A",0," ",{"$f":"G132","v":0},0,"  ",{"$f":"J132","v":0},0,0]
["23.",{"$f":"B133","v":"ŠERCLOVÁ"},"Nikola","7.A",0," ",{"$f":"G133","v":0},0,"  ",{"$f":"J133","v":0},0,0]
["24.",{"$f":"B134","v":"VÁCLAVÍKOVÁ"},"Alena","7.A",0," ",{"$f":"G134","v":0},0,"  ",{"$f":"J134","v":0},0,0]
["25.",{"$f":"B135","v":"DUCHÁČKOVÁ"},"Tereza","7.B",0," ",{"$f":"G135","v":0},0,"  ",{"$f":"J135","v":0},0,0]
["26.",{"$f":"B136","v":"FLAŠKOVÁ"},"Anna Sabriel","7.B",0," ",{"$f":"G136","v":0},0,"  ",{"$f":"J136","v":0},0,0]
["27.",{"$f":"B137","v":"HAASOVÁ"},"Julie","7.B",0," ",{"$f":"G137","v":0},0,"  ",{"$f":"J137","v":0},0,0]
["28.",{"$f":"B138","v":"HEGROVÁ"},"Štěpánka","7.B",0," ",{"$f":"G138","v":0},0,"  ",{"$f":"J138","v":0},0,0]
["29.",{"$f":"B139","v":"HOBLOVÁ"},"Barbora","7.B",0," ",{"$f":"G139","v":0},0,"  ",{"$f":"J139","v":0},0,0]
["30.",{"$f":"B140","v":"HORÁČKOVÁ"},"Valérie","7.B",21.74," ",{"$f":"G140","v":"Turnov 13.10.22"},652.45096338546455,"  ",{"$f":"J140","v":20.86},0,0]
["31.",{"$f":"B141","v":"JIRANOVÁ"},"Anežka","7.B",0," ",{"$f":"G141","v":0},0,"  ",{"$f":"J141","v":0},0,0]
["32.",{"$f":"B142","v":"KRČÍKOVÁ"},"Beatrix","7.B",0," ",{"$f":"G142","v":0},0,"  ",{"$f":"J142","v":0},0,0]
["33.",{"$f":"B143","v":"KUBÁTOVÁ"},"Veronika","7.B",0," ",{"$f":"G143","v":0},0,"  ",{"$f":"J143","v":0},0,0]
["34.",{"$f":"B144","v":"LENČEŠOVÁ"},"Silvie","7.B",0," ",{"$f":"G144","v":0},0,"  ",{"$f":"J144","v":0},0,0]
["35.",{"$f":"B145","v":"LUKEŠOVÁ"},"Lucie","7.B",0," ",{"$f":"G145","v":0},0,"  ",{"$f":"J145","v":0},0,0]
["36.",{"$f":"B146","v":"MATERNOVÁ"},"Lenka","7.B",0," ",{"$f":"G146","v":0},0,"  ",{"$f":"J146","v":0},0,0]
["37.",{"$f":"B147","v":"TÓTHOVÁ"},"Viktorie","7.B",0," ",{"$f":"G147","v":0},0,"  ",{"$f":"J147","v":0},0,0]
["38.",{"$f":"B148","v":"DUONG"},"Ngoc Linh","8.A",0," ",{"$f":"G148","v":0},0,"  ",{"$f":"J148","v":0},0,0]
["39.",{"$f":"B149","v":"GINGALOVÁ"},"Linda","8.A",0," ",{"$f":"G149","v":0},0,"  ",{"$f":"J149","v":0},0,0]
["40.",{"$f":"B150","v":"HOFMANOVÁ "},"Nicol","8.A",0," ",{"$f":"G150","v":0},0,"  ",{"$f":"J150","v":0},0,0]
["41.",{"$f":"B151","v":"HOLEŠOVSKÁ"},"Aneta","8.A",0," ",{"$f":"G151","v":0},0,"  ",{"$f":"J151","v":0},0,0]
["42.",{"$f":"B152","v":"HOLUBCOVÁ"},"Alena","8.A",35," ",{"$f":"G152","v":"Jilemnice 13.06.23"},456.37652827012988,"  ",{"$f":"J152","v":0},0,0]
["43.",{"$f":"B153","v":"KOHOUTOVÁ"},"Anna","8.A",0," ",{"$f":"G153","v":0},0,"  ",{"$f":"J153","v":0},0,0]
["44.",{"$f":"B154","v":"KRAUSOVÁ"},"Anežka","8.A",0," ",{"$f":"G154","v":0},0,"  ",{"$f":"J154","v":0},0,0]
["45.",{"$f":"B155","v":"KUŽELOVÁ"},"Apoléna","8.A",0," ",{"$f":"G155","v":0},0,"  ",{"$f":"J155","v":0},0,0]
["46.",{"$f":"B156","v":"MORÁVKOVÁ"},"Lucie","8.A",0," ",{"$f":"G156","v":0},0,"  ",{"$f":"J156","v":0},0,0]
["47.",{"$f":"B157","v":"SKLENÁROVÁ"},"Eliška","8.A",0," ",{"$f":"G157","v":0},0,"  ",{"$f":"J157","v":0},0,0]
["48.",{"$f":"B158","v":"ŠEJNOVÁ"},"Karolína","8.A",0," ",{"$f":"G158","v":0},0,"  ",{"$f":"J158","v":0},0,0]
["49.",{"$f":"B159","v":"ŠTOLFOVÁ"},"Tereza","8.A",0," ",{"$f":"G159","v":0},0,"  ",{"$f":"J159","v":0},0,0]
["50.",{"$f":"B160","v":"ŠUBÍKOVÁ"},"Klára","8.A",0," ",{"$f":"G160","v":0},0,"  ",{"$f":"J160","v":0},0,0]
["51.",{"$f":"B161","v":"ŠULKOVSKÁ"},"Klára","8.A",0," ",{"$f":"G161","v":0},0,"  ",{"$f":"J161","v":0},0,0]
["52.",{"$f":"B162","v":"TULÁČKOVÁ"},"Natálie","8.A",0," ",{"$f":"G162","v":0},0,"  ",{"$f":"J162","v":0},0,0]
["53.",{"$f":"B163","v":"VOJTÍŠKOVÁ"},"Ella","8.A",0," ",{"$f":"G163","v":0},0,"  ",{"$f":"J163","v":0},0,0]
["54.",{"$f":"B164","v":"DRUGÁČOVÁ"},"Kristinka","8.B",0," ",{"$f":"G164","v":0},0,"  ",{"$f":"J164","v":0},0,0]
["55.",{"$f":"B165","v":"FAJSTAVROVÁ"},"Karolína","8.B",0," ",{"$f":"G165","v":0},0,"  ",{"$f":"J165","v":0},0,0]
["56.",{"$f":"B166","v":"FAJSTAVROVÁ"},"Magdaléna","8.B",0," ",{"$f":"G166","v":0},0,"  ",{"$f":"J166","v":0},0,0]
["57.",{"$f":"B167","v":"JINDROVÁ"},"Barbora","8.B",0," ",{"$f":"G167","v":0},0,"  ",{"$f":"J167","v":0},0,0]
["58.",{"$f":"B168","v":"MAŘASOVÁ"},"Vendula","8.B",0," ",{"$f":"G168","v":0},0,"  ",{"$f":"J168","v":0},0,0]
["59.",{"$f":"B169","v":"PETŘÍČKOVÁ"},"Natálie","8.B",0," ",{"$f":"G169","v":0},0,"  ",{"$f":"J169","v":0},0,0]
["60.",{"$f":"B170","v":"PETŘÍKOVÁ"},"Adéla","8.B",0," ",{"$f":"G170","v":0},0,"  ",{"$f":"J170","v":0},0,0]
["61.",{"$f":"B171","v":"REGÁLOVÁ"},"Karolína","8.B",0," ",{"$f":"G171","v":0},0,"  ",{"$f":"J171","v":0},0,0]
["62.",{"$f":"B172","v":"RIEGROVÁ"},"Magdaléna","8.B",0," ",{"$f":"G172","v":0},0,"  ",{"$f":"J172","v":0},0,0]
["63.",{"$f":"B173","v":"RYBENSKÁ"},"Sabina","8.B",0," ",{"$f":"G173","v":0},0,"  ",{"$f":"J173","v":0},0,0]
["64.",{"$f":"B174","v":"STEINEROVÁ"},"Barbora","8.B",0," ",{"$f":"G174","v":0},0,"  ",{"$f":"J174","v":0},0,0]
["65.",{"$f":"B175","v":"ŠERCLOVÁ"},"Andrea","8.B",0," ",{"$f":"G175","v":0},0,"  ",{"$f":"J175","v":0},0,0]
["66.",{"$f":"B176","v":"TOMEŠOVÁ"},"Barbora","8.B",0," ",{"$f":"G176","v":0},0,"  ",{"$f":"J176","v":0},0,0]
["67.",{"$f":"B177","v":"VOHNOUTOVÁ"},"Aneta","8.B",23.09," ",{"$f":"G177","v":"Jičín 17.06.23"},622.19191064215136,"  ",{"$f":"J177","v":0},0,0]
["68.",{"$f":"B178","v":"HAVLÍKOVÁ"},"Michaela","9.A",0," ",{"$f":"G178","v":0},0,"  ",{"$f":"J178","v":0},0,0]
["69.",{"$f":"B179","v":"HOLUBCOVÁ"},"Sára","9.A",0," ",{"$f":"G179","v":0},0,"  ",{"$f":"J179","v":0},0,0]
["70.",{"$f":"B180","v":"HONCŮ"},"Tereza","9.A",0," ",{"$f":"G180","v":0},0,"  ",{"$f":"J180","v":0},0,0]
["71.",{"$f":"B181","v":"HORÁČKOVÁ"},"Kateřina","9.A",27.34," ",{"$f":"G181","v":"Jilemnice 13.06.23"},546.44384978386643,"  ",{"$f":"J181","v":0},0,0]
["72.",{"$f":"B182","v":"JOUDALOVÁ"},"Daniela","9.A",0," ",{"$f":"G182","v":0},0,"  ",{"$f":"J182","v":0},0,0]
["73.",{"$f":"B183","v":"KLÍMOVÁ"},"Anna","9.A",0," ",{"$f":"G183","v":0},0,"  ",{"$f":"J183","v":0},0,0]
["74.",{"$f":"B184","v":"KOHOUTOVÁ"},"Veronika","9.A",0," ",{"$f":"G184","v":0},0,"  ",{"$f":"J184","v":0},0,0]
["75.",{"$f":"B185","v":"KOVÁŘOVÁ"},"Viktorie","9.A",0," ",{"$f":"G185","v":0},0,"  ",{"$f":"J185","v":0},0,0]
["76.",{"$f":"B186","v":"KYNČLOVÁ"},"Anna","9.A",27.05," ",{"$f":"G186","v":"Jilemnice 13.06.23"},550.85586753150733,"  ",{"$f":"J186","v":0},0,0]
["77.",{"$f":"B187","v":"MATOUŠOVÁ"},"Tereza","9.A",0," ",{"$f":"G187","v":0},0,"  ",{"$f":"J187","v":0},30,26.05]
["78.",{"$f":"B188","v":"MAZÁNKOVÁ"},"Zuzana","9.A",0," ",{"$f":"G188","v":0},0,"  ",{"$f":"J188","v":0},0,0]
["79.",{"$f":"B189","v":"MORKESOVÁ"},"Sabrina","9.A",0," ",{"$f":"G189","v":0},0,"  ",{"$f":"J189","v":0},0,0]
["80.",{"$f":"B190","v":"POHOŘALÁ"},"Alžběta","9.A",0," ",{"$f":"G190","v":0},0,"  ",{"$f":"J190","v":0},30,0]
["81.",{"$f":"B191","v":"SCHOLZOVÁ"},"Laura","9.A",0," ",{"$f":"G191","v":0},0,"  ",{"$f":"J191","v":0},30,0]
["82.",{"$f":"B192","v":"VÁCLAVÍKOVÁ"},"Valerie","9.A",0," ",{"$f":"G192","v":0},0,"  ",{"$f":"J192","v":0},30,0]
["83.",{"$f":"B193","v":"ZAPADLOVÁ"},"Emma","9.A",0," ",{"$f":"G193","v":0},0,"  ",{"$f":"J193","v":16.510000000000002},30,0]
["84.",{"$f":"B194","v":"ŽIŠKOVÁ"},"Mia","9.A",0," ",{"$f":"G194","v":0},0,"  ",{"$f":"J194","v":0},0,0]
["85.",{"$f":"B195","v":"FARSKÁ"},"Tereza","9.B",0," ",{"$f":"G195","v":0},0,"  ",{"$f":"J195","v":0},0,0]
["86.",{"$f":"B196","v":"FEIXOVÁ"},"Rozálie","9.B",0," ",{"$f":"G196","v":0},0,"  ",{"$f":"J196","v":0},0,0]
["87.",{"$f":"B197","v":"FIŠEROVÁ"},"Michaela","9.B",0," ",{"$f":"G197","v":0},0,"  ",{"$f":"J197","v":21.2},0,0]
["88.",{"$f":"B198","v":"HAVLÍČKOVÁ"},"Kristýna","9.B",0," ",{"$f":"G198","v":0},0,"  ",{"$f":"J198","v":20.88},0,22.15]
["89.",{"$f":"B199","v":"KADAVÁ"},"Nikola","9.B",0," ",{"$f":"G199","v":0},0,"  ",{"$f":"J199","v":0},0,0]
["90.",{"$f":"B200","v":"KŘIVINKOVÁ"},"Alžběta","9.B",0," ",{"$f":"G200","v":0},0,"  ",{"$f":"J200","v":0},0,0]
["91.",{"$f":"B201","v":"LEŠÁKOVÁ"},"Lenka","9.B",0," ",{"$f":"G201","v":0},0,"  ",{"$f":"J201","v":0},0,0]
["92.",{"$f":"B202","v":"NYKLÍČKOVÁ"},"Adéla","9.B",0," ",{"$f":"G202","v":0},0,"  ",{"$f":"J202","v":0},0,0]
["93.",{"$f":"B203","v":"PLŮCHOVÁ"},"Petra","9.B",0," ",{"$f":"G203","v":0},0,"  ",{"$f":"J203","v":0},0,34.65]
["94.",{"$f":"B204","v":"PODZIMKOVÁ"},"Eliška","9.B",0," ",{"$f":"G204","v":0},0,"  ",{"$f":"J204","v":0},0,0]
["95.",{"$f":"B205","v":"RUTKAYOVÁ"},"Klára","9.B",0," ",{"$f":"G205","v":0},0,"  ",{"$f":"J205","v":0},0,0]
["96.",{"$f":"B206","v":"SEIDLOVÁ"},"Zuzana","9.B",0," ",{"$f":"G206","v":0},0,"  ",{"$f":"J206","v":0},0,0]
["97.",{"$f":"B207","v":"TOMÁŠOVÁ"},"Sára","9.B",0," ",{"$f":"G207","v":0},0,"  ",{"$f":"J207","v":0},0,0]
["98.",{"$f":"B208","v":"VANCLOVÁ"},"Barbora","9.B",18.399999999999999," ",{"$f":"G208","v":"Jilemnice  16.01.23"},746.39606415019762,"  ",{"$f":"J208","v":20},0,0]
["99.",{"$f":"B209","v":"VOTOČKOVÁ"},"Veronika","9.B",0," ",{"$f":"G209","v":0},0,"  ",{"$f":"J209","v":0},0,0]
[]
[]
[]
[]
[]
[]
[]
[]
[]
[null,"FARSKÁ","Anna","6.A",null,null,null,{"$f":"IF(E111=0,0,IF(E111>0,(1000000000 - 313216 /E111 + 34538300 /E111*2 - 1698600000 /E111*3 + 32198000000 /E111*4)/11000000+44))","v":0}]
[null,"FARSKÁ","Eliška","6.A",null,null,null,0]
[null,"FEDORKOVÁ","Denisa","6.A",null,null,null,0]
[null,"HAUZEROVÁ","Tereza","6.A",null,null,null,0]
[null,"JOSKOVÁ","Ellen","6.A",null,null,null,0]
[null,"KUŽELOVÁ","Amálie","6.A",null,null,null,0]
[null,"RYŠAVÁ","Amálie","6.A",null,null,null,0]
[null,"BANGOVÁ","Zuzana","6.B",null,null,null,0]
[null,"HOLUBOVÁ","Denisa","6.B",null,null,null,0]
[null,"HURKALO","Karolina","6.B",null,null,null,0]
[null,"HUTNIK-MAMONOVA","Nana","6.B",null,null,null,0]
[null,"MARINOVA","Darja","6.B",null,null,null,0]
[null,"NYKLÍČKOVÁ","Klára","6.B",null,null,null,0]
[null,"PANCHAYEVA","Sofiia","6.B",null,null,null,0]
[null,"PIČMANOVÁ","Klára","6.B",null,null,null,0]
[null,"ŠIMŮNKOVÁ","Anežka","6.B",null,null,null,0]
[null,"TRPIŠOVSKÁ","Nela","6.B",null,null,null,0]
[null,"HEJRALOVÁ","Natálie","7.A",30.16,null,"Jilemnice 13.06.23",507.96480402700746]
[null,"KERLE","Nikita","7.A",null,null,null,0]
[null,"MUNZAROVÁ","Aneta","7.A",null,null,null,0]
[null,"PACLÍKOVÁ","Markéta","7.A",29.09,null,"Jilemnice 13.06.23",521.68668828400882]
[null,"PLŮCHOVÁ","Michaela","7.A",null,null,null,0]
[null,"ŠERCLOVÁ","Nikola","7.A",null,null,null,0]
[null,"VÁCLAVÍKOVÁ","Alena","7.A",null,null,null,0]
[null,"DUCHÁČKOVÁ","Tereza","7.B",null,null,null,0]
[null,"FLAŠKOVÁ","Anna Sabriel","7.B",null,null,null,0]
[null,"HAASOVÁ","Julie","7.B",null,null,null,0]
[null,"HEGROVÁ","Štěpánka","7.B",null,null,null,0]
[null,"HOBLOVÁ","Barbora","7.B",null,null,null,0]
[null,"HORÁČKOVÁ","Valérie","7.B",21.74,null,"Turnov 13.10.22",652.45096338546455,null,20.86]
[null,"JIRANOVÁ","Anežka","7.B",null,null,null,0]
[null,"KRČÍKOVÁ","Beatrix","7.B",null,null,null,0]
[null,"KUBÁTOVÁ","Veronika","7.B",null,null,null,{"$f":"IF(E143=0,0,IF(E143>0,(1000000000 - 313216 /E143 + 34538300 /E143*2 - 1698600000 /E143*3 + 32198000000 /E143*4)/11000000+44))","v":0}]
[null,"LENČEŠOVÁ","Silvie","7.B",null,null,null,0]
[null,"LUKEŠOVÁ","Lucie","7.B",null,null,null,0]
[null,"MATERNOVÁ","Lenka","7.B",null,null,null,0]
[null,"TÓTHOVÁ","Viktorie","7.B",null,null,null,0]
[null,"DUONG","Ngoc Linh","8.A",null,null,null,0]
[null,"GINGALOVÁ","Linda","8.A",null,null,null,0]
[null,"HOFMANOVÁ ","Nicol","8.A",null,null,null,0]
[null,"HOLEŠOVSKÁ","Aneta","8.A",null,null,null,0]
[null,"HOLUBCOVÁ","Alena","8.A",35,null,"Jilemnice 13.06.23",456.37652827012988]
[null,"KOHOUTOVÁ","Anna","8.A",null,null,null,0]
[null,"KRAUSOVÁ","Anežka","8.A",null,null,null,0]
[null,"KUŽELOVÁ","Apoléna","8.A",null,null,null,0]
[null,"MORÁVKOVÁ","Lucie","8.A",null,null,null,0]
[null,"SKLENÁROVÁ","Eliška","8.A",null,null,null,0]
[null,"ŠEJNOVÁ","Karolína","8.A",null,null,null,0]
[null,"ŠTOLFOVÁ","Tereza","8.A",null,null,null,0]
[null,"ŠUBÍKOVÁ","Klára","8.A",null,null,null,0]
[null,"ŠULKOVSKÁ","Klára","8.A",null,null,null,0]
[null,"TULÁČKOVÁ","Natálie","8.A",null,null,null,0]
[null,"VOJTÍŠKOVÁ","Ella","8.A",null,null,null,0]
[null,"DRUGÁČOVÁ","Kristinka","8.B",null,null,null,0]
[null,"FAJSTAVROVÁ","Karolína","8.B",null,null,null,0]
[null,"FAJSTAVROVÁ","Magdaléna","8.B",null,null,null,0]
[null,"JINDROVÁ","Barbora","8.B",null,null,null,0]
[null,"MAŘASOVÁ","Vendula","8.B",null,null,null,0]
[null,"PETŘÍČKOVÁ","Natálie","8.B",null,null,null,0]
[null,"PETŘÍKOVÁ","Adéla","8.B",null,null,null,0]
[null,"REGÁLOVÁ","Karolína","8.B",null,null,null,0]
[null,"RIEGROVÁ","Magdaléna","8.B",null,null,null,0]
[null,"RYBENSKÁ","Sabina","8.B",null,null,null,0]
[null,"STEINEROVÁ","Barbora","8.B",null,null,null,0]
[null,"ŠERCLOVÁ","Andrea","8.B",null,null,null,{"$f":"IF(E175=0,0,IF(E175>0,(1000000000 - 313216 /E175 + 34538300 /E175*2 - 1698600000 /E175*3 + 32198000000 /E175*4)/11000000+44))","v":0}]
[null,"TOMEŠOVÁ","Barbora","8.B",null,null,null,0]
[null,"VOHNOUTOVÁ","Aneta","8.B",23.09,null,"Jičín 17.06.23",622.19191064215136]
[null,"HAVLÍKOVÁ","Michaela","9.A",null,null,null,0]
[null,"HOLUBCOVÁ","Sára","9.A",null,null,null,0]
[null,"HONCŮ","Tereza","9.A",null,null,null,0]
[null,"HORÁČKOVÁ","Kateřina","9.A",27.34,null,"Jilemnice 13.06.23",546.44384978386643]
[null,"JOUDALOVÁ","Daniela","9.A",null,null,null,0]
[null,"KLÍMOVÁ","Anna","9.A",null,null,null,0]
[null,"KOHOUTOVÁ","Veronika","9.A",null,null,null,0]
[null,"KOVÁŘOVÁ","Viktorie","9.A",null,null,null,0]
[null,"KYNČLOVÁ","Anna","9.A",27.05,null,"Jilemnice 13.06.23",550.85586753150733]
[null,"MATOUŠOVÁ","Tereza","9.A",null,null,null,0,null,null,30,26.05]
[null,"MAZÁNKOVÁ","Zuzana","9.A",null,null,null,0]
[null,"MORKESOVÁ","Sabrina","9.A",null,null,null,0]
[null,"POHOŘALÁ","Alžběta","9.A",null,null,null,0,null,null,30]
[null,"SCHOLZOVÁ","Laura","9.A",null,null,null,0,null,null,30]
[null,"VÁCLAVÍKOVÁ","Valerie","9.A",null,null,null,0,null,null,30]
[null,"ZAPADLOVÁ","Emma","9.A",null,null,null,0,null,16.510000000000002,30]
[null,"ŽIŠKOVÁ","Mia","9.A",null,null,null,0]
[null,"FARSKÁ","Tereza","9.B",null,null,null,0]
[null,"FEIXOVÁ","Rozálie","9.B",null,null,null,0]
[null,"FIŠEROVÁ","Michaela","9.B",null,null,null,0,null,21.2]
[null,"HAVLÍČKOVÁ","Kristýna","9.B",null,null,null,0,null,20.88,null,22.15]
[null,"KADAVÁ","Nikola","9.B",null,null,null,0]
[null,"KŘIVINKOVÁ","Alžběta","9.B",null,null,null,0]
[null,"LEŠÁKOVÁ","Lenka","9.B",null,null,null,0]
[null,"NYKLÍČKOVÁ","Adéla","9.B",null,null,null,0]
[null,"PLŮCHOVÁ","Petra","9.B",null,null,null,0,null,null,null,34.65]
[null,"PODZIMKOVÁ","Eliška","9.B",null,null,null,0]
[null,"RUTKAYOVÁ","Klára","9.B",null,null,null,0]
[null,"SEIDLOVÁ","Zuzana","9.B",null,null,null,0]
[null,"TOMÁŠOVÁ","Sára","9.B",null,null,null,0]
[null,"VANCLOVÁ","Barbora","9.B",18.399999999999999,null,"Jilemnice  16.01.23",746.39606415019762,null,20]
[null,"VOTOČKOVÁ","Veronika","9.B",null,null,null,0]

{"sheet":"Dšplh","index":17,"n_rows":209,"n_cols":12,"rows_kept":209,"cut":false,"hidden":false,"merged":[[0,1,0,5]]}
[null,"VÝKONY  2022 - 2023",null,null,null,null,"ŠPLH",null,null,null,"stav  k ",{"$f":"TODAY()","v":"2023-06-26"}]
[null,null,null,null,null,null,null,"   BODY",null,"   21 - 22   ","   20 - 21   ","   19 - 20   "]
["1.",{"$f":"B111","v":"FARSKÁ"},{"$f":"C111","v":"Anna"},"6.A",8.7899999999999991," ","Jilemnice  13.02.23",493.3599776733713," ",0,0,0]
["2.",{"$f":"B112","v":"FARSKÁ"},"Eliška","6.A",7.43," ",{"$f":"G112","v":"Jilemnice  13.02.23"},537.86200182533878," ",{"$f":"J112","v":0},0,0]
["3.",{"$f":"B113","v":"FEDORKOVÁ"},"Denisa","6.A",0," ",{"$f":"G113","v":0},0," ",{"$f":"J113","v":0},0,0]
["4.",{"$f":"B114","v":"HAUZEROVÁ"},"Tereza","6.A",0," ",{"$f":"G114","v":0},0," ",{"$f":"J114","v":0},0,0]
["5.",{"$f":"B115","v":"JOSKOVÁ"},"Ellen","6.A",0," ",{"$f":"G115","v":0},0," ",{"$f":"J115","v":0},0,0]
["6.",{"$f":"B116","v":"KUŽELOVÁ"},"Amálie","6.A",0," ",{"$f":"G116","v":0},0," ",{"$f":"J116","v":0},0,0]
["7.",{"$f":"B117","v":"RYŠAVÁ"},"Amálie","6.A",0," ",{"$f":"G117","v":0},0," ",{"$f":"J117","v":0},0,0]
["8.",{"$f":"B118","v":"BANGOVÁ"},"Zuzana","6.B",0," ",{"$f":"G118","v":0},0," ",{"$f":"J118","v":0},0,0]
["9.",{"$f":"B119","v":"HOLUBOVÁ"},"Denisa","6.B",0," ",{"$f":"G119","v":0},0," ",{"$f":"J119","v":0},0,0]
["10.",{"$f":"B120","v":"HURKALO"},"Karolina","6.B",0," ",{"$f":"G120","v":0},0," ",{"$f":"J120","v":0},0,0]
["11.",{"$f":"B121","v":"HUTNIK-MAMONOVA"},"Nana","6.B",0," ",{"$f":"G121","v":0},0," ",{"$f":"J121","v":0},0,0]
["12.",{"$f":"B122","v":"MARINOVA"},"Darja","6.B",0," ",{"$f":"G122","v":0},0," ",{"$f":"J122","v":0},0,0]
["13.",{"$f":"B123","v":"NYKLÍČKOVÁ"},"Klára","6.B",0," ",{"$f":"G123","v":0},0," ",{"$f":"J123","v":0},0,0]
["14.",{"$f":"B124","v":"PANCHAYEVA"},"Sofiia","6.B",0," ",{"$f":"G124","v":0},0," ",{"$f":"J124","v":0},0,0]
["15.",{"$f":"B125","v":"PIČMANOVÁ"},"Klára","6.B",0," ",{"$f":"G125","v":0},0," ",{"$f":"J125","v":0},0,0]
["16.",{"$f":"B126","v":"ŠIMŮNKOVÁ"},"Anežka","6.B",0," ",{"$f":"G126","v":0},0," ",{"$f":"J126","v":0},0,0]
["17.",{"$f":"B127","v":"TRPIŠOVSKÁ"},"Nela","6.B",0," ",{"$f":"G127","v":0},0," ",{"$f":"J127","v":0},0,0]
["18.",{"$f":"B128","v":"HEJRALOVÁ"},"Natálie","7.A",0," ",{"$f":"G128","v":0},0," ",{"$f":"J128","v":0},0,0]
["19.",{"$f":"B129","v":"KERLE"},"Nikita","7.A",8.91," ",{"$f":"G129","v":"Jilemnice 09.01.23"},490.17333200324731," ",{"$f":"J129","v":7.84},0,0]
["20.",{"$f":"B130","v":"MUNZAROVÁ"},"Aneta","7.A",0," ",{"$f":"G130","v":0},0," ",{"$f":"J130","v":0},0,0]
["21.",{"$f":"B131","v":"PACLÍKOVÁ"},"Markéta","7.A",10.26," ",{"$f":"G131","v":"Jilemnice 19.06.23"},460.31159011685509," ",{"$f":"J131","v":10.75},0,0]
["22.",{"$f":"B132","v":"PLŮCHOVÁ"},"Michaela","7.A",17.52," ",{"$f":"G132","v":"Jilemnice 09.01.23"},394.35133854331809," ",{"$f":"J132","v":15.77},0,0]
["23.",{"$f":"B133","v":"ŠERCLOVÁ"},"Nikola","7.A",0," ",{"$f":"G133","v":0},0," ",{"$f":"J133","v":0},0,0]
["24.",{"$f":"B134","v":"VÁCLAVÍKOVÁ"},"Alena","7.A",0," ",{"$f":"G134","v":0},0," ",{"$f":"J134","v":0},0,0]
["25.",{"$f":"B135","v":"DUCHÁČKOVÁ"},"Tereza","7.B",0," ",{"$f":"G135","v":0},0," ",{"$f":"J135","v":0},0,0]
["26.",{"$f":"B136","v":"FLAŠKOVÁ"},"Anna Sabriel","7.B",0," ",{"$f":"G136","v":0},0," ",{"$f":"J136","v":0},0,0]
["27.",{"$f":"B137","v":"HAASOVÁ"},"Julie","7.B",0," ",{"$f":"G137","v":0},0," ",{"$f":"J137","v":13.64},0,0]
["28.",{"$f":"B138","v":"HEGROVÁ"},"Štěpánka","7.B",0," ",{"$f":"G138","v":0},0," ",{"$f":"J138","v":0},0,0]
["29.",{"$f":"B139","v":"HOBLOVÁ"},"Barbora","7.B",7.91," ",{"$f":"G139","v":"Jilemnice 09.01.23"},520.17289247563417," ",{"$f":"J139","v":10.08},0,0]
["30.",{"$f":"B140","v":"HORÁČKOVÁ"},"Valérie","7.B",0," ",{"$f":"G140","v":0},0," ",{"$f":"J140","v":0},0,0]
["31.",{"$f":"B141","v":"JIRANOVÁ"},"Anežka","7.B",0," ",{"$f":"G141","v":0},0," ",{"$f":"J141","v":0},0,0]
["32.",{"$f":"B142","v":"KRČÍKOVÁ"},"Beatrix","7.B",9.02," ",{"$f":"G142","v":"Jilemnice 09.01.23"},487.33907490158168," ",{"$f":"J142","v":0},0,0]
["33.",{"$f":"B143","v":"KUBÁTOVÁ"},"Veronika","7.B",0," ",{"$f":"G143","v":0},0," ",{"$f":"J143","v":0},0,0]
["34.",{"$f":"B144","v":"LENČEŠOVÁ"},"Silvie","7.B",0," ",{"$f":"G144","v":0},0," ",{"$f":"J144","v":0},0,0]
["35.",{"$f":"B145","v":"LUKEŠOVÁ"},"Lucie","7.B",0," ",{"$f":"G145","v":0},0," ",{"$f":"J145","v":0},0,0]
["36.",{"$f":"B146","v":"MATERNOVÁ"},"Lenka","7.B",4.04," ",{"$f":"G146","v":"Jilemnice 09.01.23"},796.762157260462," ",{"$f":"J146","v":4.8099999999999996},0,0]
["37.",{"$f":"B147","v":"TÓTHOVÁ"},"Viktorie","7.B",0," ",{"$f":"G147","v":0},0," ",{"$f":"J147","v":0},0,0]
["38.",{"$f":"B148","v":"DUONG"},"Ngoc Linh","8.A",0," ",{"$f":"G148","v":0},0," ",{"$f":"J148","v":0},0,0]
["39.",{"$f":"B149","v":"GINGALOVÁ"},"Linda","8.A",0," ",{"$f":"G149","v":0},0," ",{"$f":"J149","v":0},0,0]
["40.",{"$f":"B150","v":"HOFMANOVÁ "},"Nicol","8.A",0," ",{"$f":"G150","v":0},0," ",{"$f":"J150","v":0},0,0]
["41.",{"$f":"B151","v":"HOLEŠOVSKÁ"},"Aneta","8.A",0," ",{"$f":"G151","v":0},0," ",{"$f":"J151","v":0},0,0]
["42.",{"$f":"B152","v":"HOLUBCOVÁ"},"Alena","8.A",0," ",{"$f":"G152","v":0},0," ",{"$f":"J152","v":0},0,0]
["43.",{"$f":"B153","v":"KOHOUTOVÁ"},"Anna","8.A",0," ",{"$f":"G153","v":0},0," ",{"$f":"J153","v":0},0,0]
["44.",{"$f":"B154","v":"KRAUSOVÁ"},"Anežka","8.A",0," ",{"$f":"G154","v":0},0," ",{"$f":"J154","v":0},0,0]
["45.",{"$f":"B155","v":"KUŽELOVÁ"},"Apoléna","8.A",0," ",{"$f":"G155","v":0},0," ",{"$f":"J155","v":0},0,0]
["46.",{"$f":"B156","v":"MORÁVKOVÁ"},"Lucie","8.A",0," ",{"$f":"G156","v":0},0," ",{"$f":"J156","v":0},0,0]
["47.",{"$f":"B157","v":"SKLENÁROVÁ"},"Eliška","8.A",0," ",{"$f":"G157","v":0},0," ",{"$f":"J157","v":0},0,0]
["48.",{"$f":"B158","v":"ŠEJNOVÁ"},"Karolína","8.A",0," ",{"$f":"G158","v":0},0," ",{"$f":"J158","v":0},0,0]
["49.",{"$f":"B159","v":"ŠTOLFOVÁ"},"Tereza","8.A",0," ",{"$f":"G159","v":0},0," ",{"$f":"J159","v":0},0,0]
["50.",{"$f":"B160","v":"ŠUBÍKOVÁ"},"Klára","8.A",9.77," ",{"$f":"G160","v":"Jilemnice 23.06.23"},470.0063093513067," ",{"$f":"J160","v":11.1},0,0]
["51.",{"$f":"B161","v":"ŠULKOVSKÁ"},"Klára","8.A",7.8," ",{"$f":"G161","v":"Jilemnice 10.02.23"},524.01137808191447," ",{"$f":"J161","v":10.62},0,0]
["52.",{"$f":"B162","v":"TULÁČKOVÁ"},"Natálie","8.A",0," ",{"$f":"G162","v":0},0," ",{"$f":"J162","v":0},0,0]
["53.",{"$f":"B163","v":"VOJTÍŠKOVÁ"},"Ella","8.A",14.68," ",{"$f":"G163","v":"Jilemnice 23.03.23"},408.61998836141686," ",{"$f":"J163","v":0},0,0]
["54.",{"$f":"B164","v":"DRUGÁČOVÁ"},"Kristinka","8.B",0," ",{"$f":"G164","v":0},0," ",{"$f":"J164","v":0},0,0]
["55.",{"$f":"B165","v":"FAJSTAVROVÁ"},"Karolína","8.B",0," ",{"$f":"G165","v":0},0," ",{"$f":"J165","v":0},0,0]
["56.",{"$f":"B166","v":"FAJSTAVROVÁ"},"Magdaléna","8.B",14.17," ",{"$f":"G166","v":"Jilemnice 23.03.23"},412.31897793194071," ",{"$f":"J166","v":11.2},0,0]
["57.",{"$f":"B167","v":"JINDROVÁ"},"Barbora","8.B",10.75," ",{"$f":"G167","v":"Jilemnice 23.03.23"},451.69735399586978," ",{"$f":"J167","v":12.2},0,0]
["58.",{"$f":"B168","v":"MAŘASOVÁ"},"Vendula","8.B",0," ",{"$f":"G168","v":0},0," ",{"$f":"J168","v":0},0,0]
["59.",{"$f":"B169","v":"PETŘÍČKOVÁ"},"Natálie","8.B",0," ",{"$f":"G169","v":0},0," ",{"$f":"J169","v":6.59},0,0]
["60.",{"$f":"B170","v":"PETŘÍKOVÁ"},"Adéla","8.B",0," ",{"$f":"G170","v":0},0," ",{"$f":"J170","v":0},0,0]
["61.",{"$f":"B171","v":"REGÁLOVÁ"},"Karolína","8.B",0," ",{"$f":"G171","v":0},0," ",{"$f":"J171","v":0},0,0]
["62.",{"$f":"B172","v":"RIEGROVÁ"},"Magdaléna","8.B",8.39," ",{"$f":"G172","v":"Jilemnice 10.02.23"},504.74963455092563," ",{"$f":"J172","v":14.59},0,0]
["63.",{"$f":"B173","v":"RYBENSKÁ"},"Sabina","8.B",0," ",{"$f":"G173","v":0},0," ",{"$f":"J173","v":0},0,0]
["64.",{"$f":"B174","v":"STEINEROVÁ"},"Barbora","8.B",7.33," ",{"$f":"G174","v":"Jilemnice 23.03.23"},541.87367411945434," ",{"$f":"J174","v":8.3699999999999992},0,0]
["65.",{"$f":"B175","v":"ŠERCLOVÁ"},"Andrea","8.B",0," ",{"$f":"G175","v":0},0," ",{"$f":"J175","v":0},0,0]
["66.",{"$f":"B176","v":"TOMEŠOVÁ"},"Barbora","8.B",0," ",{"$f":"G176","v":0},0," ",{"$f":"J176","v":0},0,0]
["67.",{"$f":"B177","v":"VOHNOUTOVÁ"},"Aneta","8.B",8.74," ",{"$f":"G177","v":"Jilemnice 23.03.23"},494.717855064714," ",{"$f":"J177","v":0},0,0]
["68.",{"$f":"B178","v":"HAVLÍKOVÁ"},"Michaela","9.A",11.75," ",{"$f":"G178","v":"Jilemnice 16.12.22"},436.90493379763973," ",{"$f":"J178","v":0},0,25.69]
["69.",{"$f":"B179","v":"HOLUBCOVÁ"},"Sára","9.A",9.51," ",{"$f":"G179","v":"Jilemnice 16.12.22"},475.64641948989834," ",{"$f":"J179","v":11.03},0,0]
["70.",{"$f":"B180","v":"HONCŮ"},"Tereza","9.A",0," ",{"$f":"G180","v":0},0," ",{"$f":"J180","v":0},0,0]
["71.",{"$f":"B181","v":"HORÁČKOVÁ"},"Kateřina","9.A",8.4," ",{"$f":"G181","v":"Jilemnice 16.12.22"},504.44962869511107," ",{"$f":"J181","v":11.23},0,20.13]
["72.",{"$f":"B182","v":"JOUDALOVÁ"},"Daniela","9.A",0," ",{"$f":"G182","v":0},0," ",{"$f":"J182","v":0},0,0]
["73.",{"$f":"B183","v":"KLÍMOVÁ"},"Anna","9.A",0," ",{"$f":"G183","v":0},0," ",{"$f":"J183","v":12.93},0,0]
["74.",{"$f":"B184","v":"KOHOUTOVÁ"},"Veronika","9.A",9.83," ",{"$f":"G184","v":"Jilemnice 16.12.22"},468.75571596767719," ",{"$f":"J184","v":9.4600000000000009},0,11.58]
["75.",{"$f":"B185","v":"KOVÁŘOVÁ"},"Viktorie","9.A",0," ",{"$f":"G185","v":0},0," ",{"$f":"J185","v":14.48},0,9.7899999999999991]
["76.",{"$f":"B186","v":"KYNČLOVÁ"},"Anna","9.A",6.43," ",{"$f":"G186","v":"Jilemnice 16.12.22"},584.21011522482115," ",{"$f":"J186","v":9.5299999999999994},0,8.3699999999999992]
["77.",{"$f":"B187","v":"MATOUŠOVÁ"},"Tereza","9.A",0," ",{"$f":"G187","v":0},0," ",{"$f":"J187","v":0},0,0]
["78.",{"$f":"B188","v":"MAZÁNKOVÁ"},"Zuzana","9.A",0," ",{"$f":"G188","v":0},0," ",{"$f":"J188","v":0},0,0]
["79.",{"$f":"B189","v":"MORKESOVÁ"},"Sabrina","9.A",9.11," ",{"$f":"G189","v":"Jilemnice 16.12.22"},485.07974685864622," ",{"$f":"J189","v":20.39},0,10.89]
["80.",{"$f":"B190","v":"POHOŘALÁ"},"Alžběta","9.A",0," ",{"$f":"G190","v":0},0," ",{"$f":"J190","v":0},0,0]
["81.",{"$f":"B191","v":"SCHOLZOVÁ"},"Laura","9.A",0," ",{"$f":"G191","v":0},0," ",{"$f":"J191","v":0},0,0]
["82.",{"$f":"B192","v":"VÁCLAVÍKOVÁ"},"Valerie","9.A",0," ",{"$f":"G192","v":0},0," ",{"$f":"J192","v":0},0,0]
["83.",{"$f":"B193","v":"ZAPADLOVÁ"},"Emma","9.A",0," ",{"$f":"G193","v":0},0," ",{"$f":"J193","v":5.41},0,12.01]
["84.",{"$f":"B194","v":"ŽIŠKOVÁ"},"Mia","9.A",0," ",{"$f":"G194","v":0},0," ",{"$f":"J194","v":0},0,0]
["85.",{"$f":"B195","v":"FARSKÁ"},"Tereza","9.B",0," ",{"$f":"G195","v":0},0," ",{"$f":"J195","v":0},0,0]
["86.",{"$f":"B196","v":"FEIXOVÁ"},"Rozálie","9.B",0," ",{"$f":"G196","v":0},0," ",{"$f":"J196","v":0},0,0]
["87.",{"$f":"B197","v":"FIŠEROVÁ"},"Michaela","9.B",0," ",{"$f":"G197","v":0},0," ",{"$f":"J197","v":0},0,0]
["88.",{"$f":"B198","v":"HAVLÍČKOVÁ"},"Kristýna","9.B",0," ",{"$f":"G198","v":0},0," ",{"$f":"J198","v":0},0,0]
["89.",{"$f":"B199","v":"KADAVÁ"},"Nikola","9.B",0," ",{"$f":"G199","v":0},0," ",{"$f":"J199","v":0},0,0]
["90.",{"$f":"B200","v":"KŘIVINKOVÁ"},"Alžběta","9.B",0," ",{"$f":"G200","v":0},0," ",{"$f":"J200","v":0},0,0]
["91.",{"$f":"B201","v":"LEŠÁKOVÁ"},"Lenka","9.B",0," ",{"$f":"G201","v":0},0," ",{"$f":"J201","v":0},0,0]
["92.",{"$f":"B202","v":"NYKLÍČKOVÁ"},"Adéla","9.B",0," ",{"$f":"G202","v":0},0," ",{"$f":"J202","v":0},0,0]
["93.",{"$f":"B203","v":"PLŮCHOVÁ"},"Petra","9.B",0," ",{"$f":"G203","v":0},0," ",{"$f":"J203","v":0},0,0]
["94.",{"$f":"B204","v":"PODZIMKOVÁ"},"Eliška","9.B",0," ",{"$f":"G204","v":0},0," ",{"$f":"J204","v":0},0,0]
["95.",{"$f":"B205","v":"RUTKAYOVÁ"},"Klára","9.B",0," ",{"$f":"G205","v":0},0," ",{"$f":"J205","v":0},0,0]
["96.",{"$f":"B206","v":"SEIDLOVÁ"},"Zuzana","9.B",0," ",{"$f":"G206","v":0},0," ",{"$f":"J206","v":0},0,0]
["97.",{"$f":"B207","v":"TOMÁŠOVÁ"},"Sára","9.B",0," ",{"$f":"G207","v":0},0," ",{"$f":"J207","v":0},0,0]
["98.",{"$f":"B208","v":"VANCLOVÁ"},"Barbora","9.B",0," ",{"$f":"G208","v":0},0," ",{"$f":"J208","v":0},0,0]
["99.",{"$f":"B209","v":"VOTOČKOVÁ"},"Veronika","9.B",0," ",{"$f":"G209","v":0},0," ",{"$f":"J209","v":0},0,0]
[]
[]
[]
[]
[]
[]
[]
[]
[]
[null,"FARSKÁ","Anna","6.A",8.7899999999999991,null,"Jilemnice  13.02.23",{"$f":"IF(E111=0,0,IF(E111>0,((1000000000-313216/E111+34538300/E111*2-1698600/E111*3+32198000000/E111*4)/60000000+E111*3.9)*1.129+160))","v":493.3599776733713}]
[null,"FARSKÁ","Eliška","6.A",7.43,null,"Jilemnice  13.02.23",537.86200182533878]
[null,"FEDORKOVÁ","Denisa","6.A",null,null,null,0]
[null,"HAUZEROVÁ","Tereza","6.A",null,null,null,0]
[null,"JOSKOVÁ","Ellen","6.A",null,null,null,0]
[null,"KUŽELOVÁ","Amálie","6.A",null,null,null,0]
[null,"RYŠAVÁ","Amálie","6.A",null,null,null,0]
[null,"BANGOVÁ","Zuzana","6.B",null,null,null,0]
[null,"HOLUBOVÁ","Denisa","6.B",null,null,null,0]
[null,"HURKALO","Karolina","6.B",null,null,null,0]
[null,"HUTNIK-MAMONOVA","Nana","6.B",null,null,null,0]
[null,"MARINOVA","Darja","6.B",null,null,null,0]
[null,"NYKLÍČKOVÁ","Klára","6.B",null,null,null,0]
[null,"PANCHAYEVA","Sofiia","6.B",null,null,null,0]
[null,"PIČMANOVÁ","Klára","6.B",null,null,null,0]
[null,"ŠIMŮNKOVÁ","Anežka","6.B",null,null,null,0]
[null,"TRPIŠOVSKÁ","Nela","6.B",null,null,null,0]
[null,"HEJRALOVÁ","Natálie","7.A",null,null,null,0]
[null,"KERLE","Nikita","7.A",8.91,null,"Jilemnice 09.01.23",490.17333200324731,null,7.84]
[null,"MUNZAROVÁ","Aneta","7.A",null,null,null,0]
[null,"PACLÍKOVÁ","Markéta","7.A",10.26,null,"Jilemnice 19.06.23",460.31159011685509,null,10.75]
[null,"PLŮCHOVÁ","Michaela","7.A",17.52,null,"Jilemnice 09.01.23",394.35133854331809,null,15.77]
[null,"ŠERCLOVÁ","Nikola","7.A",null,null,null,0]
[null,"VÁCLAVÍKOVÁ","Alena","7.A",null,null,null,0]
[null,"DUCHÁČKOVÁ","Tereza","7.B",null,null,null,0]
[null,"FLAŠKOVÁ","Anna Sabriel","7.B",null,null,null,0]
[null,"HAASOVÁ","Julie","7.B",null,null,null,0,null,13.64]
[null,"HEGROVÁ","Štěpánka","7.B",null,null,null,0]
[null,"HOBLOVÁ","Barbora","7.B",7.91,null,"Jilemnice 09.01.23",520.17289247563417,null,10.08]
[null,"HORÁČKOVÁ","Valérie","7.B",null,null,null,0]
[null,"JIRANOVÁ","Anežka","7.B",null,null,null,0]
[null,"KRČÍKOVÁ","Beatrix","7.B",9.02,null,"Jilemnice 09.01.23",487.33907490158168]
[null,"KUBÁTOVÁ","Veronika","7.B",null,null,null,{"$f":"IF(E143=0,0,IF(E143>0,((1000000000-313216/E143+34538300/E143*2-1698600/E143*3+32198000000/E143*4)/60000000+E143*3.9)*1.129+160))","v":0}]
[null,"LENČEŠOVÁ","Silvie","7.B",null,null,null,0]
[null,"LUKEŠOVÁ","Lucie","7.B",null,null,null,0]
[null,"MATERNOVÁ","Lenka","7.B",4.04,null,"Jilemnice 09.01.23",796.762157260462,null,4.8099999999999996]
[null,"TÓTHOVÁ","Viktorie","7.B",null,null,null,0]
[null,"DUONG","Ngoc Linh","8.A",null,null,null,0]
[null,"GINGALOVÁ","Linda","8.A",null,null,null,0]
[null,"HOFMANOVÁ ","Nicol","8.A",null,null,null,0]
[null,"HOLEŠOVSKÁ","Aneta","8.A",null,null,null,0]
[null,"HOLUBCOVÁ","Alena","8.A",null,null,null,0]
[null,"KOHOUTOVÁ","Anna","8.A",null,null,null,0]
[null,"KRAUSOVÁ","Anežka","8.A",null,null,null,0]
[null,"KUŽELOVÁ","Apoléna","8.A",null,null,null,0]
[null,"MORÁVKOVÁ","Lucie","8.A",null,null,null,0]
[null,"SKLENÁROVÁ","Eliška","8.A",null,null,null,0]
[null,"ŠEJNOVÁ","Karolína","8.A",null,null,null,0]
[null,"ŠTOLFOVÁ","Tereza","8.A",null,null,null,0]
[null,"ŠUBÍKOVÁ","Klára","8.A",9.77,null,"Jilemnice 23.06.23",470.0063093513067,null,11.1]
[null,"ŠULKOVSKÁ","Klára","8.A",7.8,null,"Jilemnice 10.02.23",524.01137808191447,null,10.62]
[null,"TULÁČKOVÁ","Natálie","8.A",null,null,null,0]
[null,"VOJTÍŠKOVÁ","Ella","8.A",14.68,null,"Jilemnice 23.03.23",408.61998836141686]
[null,"DRUGÁČOVÁ","Kristinka","8.B",null,null,null,0,null,0]
[null,"FAJSTAVROVÁ","Karolína","8.B",null,null,null,0,null,0]
[null,"FAJSTAVROVÁ","Magdaléna","8.B",14.17,null,"Jilemnice 23.03.23",412.31897793194071,null,11.2]
[null,"JINDROVÁ","Barbora","8.B",10.75,null,"Jilemnice 23.03.23",451.69735399586978,null,12.2]
[null,"MAŘASOVÁ","Vendula","8.B",null,null,null,0,null,0]
[null,"PETŘÍČKOVÁ","Natálie","8.B",null,null,null,0,null,6.59]
[null,"PETŘÍKOVÁ","Adéla","8.B",null,null,null,0,null,0]
[null,"REGÁLOVÁ","Karolína","8.B",null,null,null,0,null,0]
[null,"RIEGROVÁ","Magdaléna","8.B",8.39,null,"Jilemnice 10.02.23",504.74963455092563,null,14.59]
[null,"RYBENSKÁ","Sabina","8.B",null,null,null,0,null,0]
[null,"STEINEROVÁ","Barbora","8.B",7.33,null,"Jilemnice 23.03.23",541.87367411945434,null,8.3699999999999992]
[null,"ŠERCLOVÁ","Andrea","8.B",null,null,null,{"$f":"IF(E175=0,0,IF(E175>0,((1000000000-313216/E175+34538300/E175*2-1698600/E175*3+32198000000/E175*4)/60000000+E175*3.9)*1.129+160))","v":0}]
[null,"TOMEŠOVÁ","Barbora","8.B",null,null,null,0,null,0]
[null,"VOHNOUTOVÁ","Aneta","8.B",8.74,null,"Jilemnice 23.03.23",494.717855064714,null,0]
[null,"HAVLÍKOVÁ","Michaela","9.A",11.75,null,"Jilemnice 16.12.22",436.90493379763973,null,null,null,25.69]
[null,"HOLUBCOVÁ","Sára","9.A",9.51,null,"Jilemnice 16.12.22",475.64641948989834,null,11.03]
[null,"HONCŮ","Tereza","9.A",null,null,null,0]
[null,"HORÁČKOVÁ","Kateřina","9.A",8.4,null,"Jilemnice 16.12.22",504.44962869511107,null,11.23,null,20.13]
[null,"JOUDALOVÁ","Daniela","9.A",null,null,null,0]
[null,"KLÍMOVÁ","Anna","9.A",null,null,null,0,null,12.93]
[null,"KOHOUTOVÁ","Veronika","9.A",9.83,null,"Jilemnice 16.12.22",468.75571596767719,null,9.4600000000000009,null,11.58]
[null,"KOVÁŘOVÁ","Viktorie","9.A",null,null,null,0,null,14.48,null,9.7899999999999991]
[null,"KYNČLOVÁ","Anna","9.A",6.43,null,"Jilemnice 16.12.22",584.21011522482115,null,9.5299999999999994,null,8.3699999999999992]
[null,"MATOUŠOVÁ","Tereza","9.A",null,null,null,0]
[null,"MAZÁNKOVÁ","Zuzana","9.A",null,null,null,0]
[null,"MORKESOVÁ","Sabrina","9.A",9.11,null,"Jilemnice 16.12.22",485.07974685864622,null,20.39,null,10.89]
[null,"POHOŘALÁ","Alžběta","9.A",null,null,null,0]
[null,"SCHOLZOVÁ","Laura","9.A",null,null,null,0]
[null,"VÁCLAVÍKOVÁ","Valerie","9.A",null,null,null,0]
[null,"ZAPADLOVÁ","Emma","9.A",null,null,null,0,null,5.41,null,12.01]
[null,"ŽIŠKOVÁ","Mia","9.A",null,null,null,0]
[null,"FARSKÁ","Tereza","9.B",null,null,null,0]
[null,"FEIXOVÁ","Rozálie","9.B",null,null,null,0]
[null,"FIŠEROVÁ","Michaela","9.B",null,null,null,0]
[null,"HAVLÍČKOVÁ","Kristýna","9.B",null,null,null,0]
[null,"KADAVÁ","Nikola","9.B",null,null,null,0]
[null,"KŘIVINKOVÁ","Alžběta","9.B",null,null,null,0]
[null,"LEŠÁKOVÁ","Lenka","9.B",null,null,null,0]
[null,"NYKLÍČKOVÁ","Adéla","9.B",null,null,null,0]
[null,"PLŮCHOVÁ","Petra","9.B",null,null,null,0]
[null,"PODZIMKOVÁ","Eliška","9.B",null,null,null,0]
[null,"RUTKAYOVÁ","Klára","9.B",null,null,null,0]
[null,"SEIDLOVÁ","Zuzana","9.B",null,null,null,0]
[null,"TOMÁŠOVÁ","Sára","9.B",null,null,null,0]
[null,"VANCLOVÁ","Barbora","9.B",null,null,null,0]
[null,"VOTOČKOVÁ","Veronika","9.B",null,null,null,0]

{"sheet":"Dšvih","index":18,"n_rows":209,"n_cols":12,"rows_kept":209,"cut":false,"hidden":false,"merged":[[0,1,0,5]]}
[null,"VÝKONY  2022 - 2023",null,null,null,null,"ŠVIHADLO",null,null,null,"stav  k ",{"$f":"TODAY()","v":"2023-06-26"}]
[null,null,null,null,null,null,null,null,null,"   21 - 22   ","   20 - 21   ","   19 - 20   "]
["1.",{"$f":"B111","v":"FARSKÁ"},{"$f":"C111","v":"Anna"},"6.A",115," ","Jilemnice  09.01.23",655.75," ",0,0,0]
["2.",{"$f":"B112","v":"FARSKÁ"},"Eliška","6.A",120," ",{"$f":"G112","v":"Jilemnice  09.01.23"},687," ",{"$f":"J112","v":0},0,0]
["3.",{"$f":"B113","v":"FEDORKOVÁ"},"Denisa","6.A",119," ",{"$f":"G113","v":"Jilemnice  09.01.23"},680.75," ",{"$f":"J113","v":0},0,0]
["4.",{"$f":"B114","v":"HAUZEROVÁ"},"Tereza","6.A",104," ",{"$f":"G114","v":"Jilemnice  09.01.23"},587," ",{"$f":"J114","v":0},0,0]
["5.",{"$f":"B115","v":"JOSKOVÁ"},"Ellen","6.A",104," ",{"$f":"G115","v":"Jilemnice  09.01.23"},587," ",{"$f":"J115","v":0},0,0]
["6.",{"$f":"B116","v":"KUŽELOVÁ"},"Amálie","6.A",81," ",{"$f":"G116","v":"Jilemnice  09.01.23"},443.25," ",{"$f":"J116","v":0},0,0]
["7.",{"$f":"B117","v":"RYŠAVÁ"},"Amálie","6.A",157," ",{"$f":"G117","v":"Jilemnice  09.01.23"},918.25," ",{"$f":"J117","v":0},0,0]
["8.",{"$f":"B118","v":"BANGOVÁ"},"Zuzana","6.B",102," ",{"$f":"G118","v":"Jilemnice  09.01.23"},574.5," ",{"$f":"J118","v":0},0,0]
["9.",{"$f":"B119","v":"HOLUBOVÁ"},"Denisa","6.B",103," ",{"$f":"G119","v":"Jilemnice  09.01.23"},580.75," ",{"$f":"J119","v":0},0,0]
["10.",{"$f":"B120","v":"HURKALO"},"Karolina","6.B",77," ",{"$f":"G120","v":"Jilemnice  09.01.23"},418.25," ",{"$f":"J120","v":0},0,0]
["11.",{"$f":"B121","v":"HUTNIK-MAMONOVA"},"Nana","6.B",23," ",{"$f":"G121","v":"Jilemnice  09.01.23"},80.75," ",{"$f":"J121","v":0},0,0]
["12.",{"$f":"B122","v":"MARINOVA"},"Darja","6.B",77," ",{"$f":"G122","v":"Jilemnice  09.01.23"},418.25," ",{"$f":"J122","v":0},0,0]
["13.",{"$f":"B123","v":"NYKLÍČKOVÁ"},"Klára","6.B",167," ",{"$f":"G123","v":"Jilemnice  09.01.23"},980.75," ",{"$f":"J123","v":0},0,0]
["14.",{"$f":"B124","v":"PANCHAYEVA"},"Sofiia","6.B",0," ",{"$f":"G124","v":0},0," ",{"$f":"J124","v":0},0,0]
["15.",{"$f":"B125","v":"PIČMANOVÁ"},"Klára","6.B",0," ",{"$f":"G125","v":0},0," ",{"$f":"J125","v":0},0,0]
["16.",{"$f":"B126","v":"ŠIMŮNKOVÁ"},"Anežka","6.B",124," ",{"$f":"G126","v":"Jilemnice  09.01.23"},712," ",{"$f":"J126","v":0},0,0]
["17.",{"$f":"B127","v":"TRPIŠOVSKÁ"},"Nela","6.B",143," ",{"$f":"G127","v":"Jilemnice  09.01.23"},830.75," ",{"$f":"J127","v":0},0,0]
["18.",{"$f":"B128","v":"HEJRALOVÁ"},"Natálie","7.A",115," ",{"$f":"G128","v":"Jilemnice 13.02.23"},655.75," ",{"$f":"J128","v":110},0,0]
["19.",{"$f":"B129","v":"KERLE"},"Nikita","7.A",118," ",{"$f":"G129","v":"Jilemnice 13.02.23"},674.5," ",{"$f":"J129","v":110},0,0]
["20.",{"$f":"B130","v":"MUNZAROVÁ"},"Aneta","7.A",0," ",{"$f":"G130","v":0},0," ",{"$f":"J130","v":0},0,0]
["21.",{"$f":"B131","v":"PACLÍKOVÁ"},"Markéta","7.A",118," ",{"$f":"G131","v":"Jilemnice 13.02.23"},674.5," ",{"$f":"J131","v":120},0,0]
["22.",{"$f":"B132","v":"PLŮCHOVÁ"},"Michaela","7.A",118," ",{"$f":"G132","v":"Jilemnice 13.02.23"},674.5," ",{"$f":"J132","v":131},0,0]
["23.",{"$f":"B133","v":"ŠERCLOVÁ"},"Nikola","7.A",89," ",{"$f":"G133","v":"Jilemnice 13.02.23"},493.25," ",{"$f":"J133","v":45},0,0]
["24.",{"$f":"B134","v":"VÁCLAVÍKOVÁ"},"Alena","7.A",0," ",{"$f":"G134","v":0},0," ",{"$f":"J134","v":100},0,0]
["25.",{"$f":"B135","v":"DUCHÁČKOVÁ"},"Tereza","7.B",51," ",{"$f":"G135","v":"Jilemnice 13.02.23"},255.75," ",{"$f":"J135","v":60},0,0]
["26.",{"$f":"B136","v":"FLAŠKOVÁ"},"Anna Sabriel","7.B",51," ",{"$f":"G136","v":"Jilemnice 13.02.23"},255.75," ",{"$f":"J136","v":56},0,0]
["27.",{"$f":"B137","v":"HAASOVÁ"},"Julie","7.B",0," ",{"$f":"G137","v":0},0," ",{"$f":"J137","v":89},0,0]
["28.",{"$f":"B138","v":"HEGROVÁ"},"Štěpánka","7.B",50," ",{"$f":"G138","v":"Jilemnice 13.02.23"},249.5," ",{"$f":"J138","v":0},0,0]
["29.",{"$f":"B139","v":"HOBLOVÁ"},"Barbora","7.B",100," ",{"$f":"G139","v":"Jilemnice 13.02.23"},562," ",{"$f":"J139","v":108},0,0]
["30.",{"$f":"B140","v":"HORÁČKOVÁ"},"Valérie","7.B",72," ",{"$f":"G140","v":"Jilemnice 13.02.23"},387," ",{"$f":"J140","v":0},0,0]
["31.",{"$f":"B141","v":"JIRANOVÁ"},"Anežka","7.B",49," ",{"$f":"G141","v":"Jilemnice 13.02.23"},243.25," ",{"$f":"J141","v":55},0,0]
["32.",{"$f":"B142","v":"KRČÍKOVÁ"},"Beatrix","7.B",80," ",{"$f":"G142","v":"Jilemnice 13.02.23"},437," ",{"$f":"J142","v":83},0,0]
["33.",{"$f":"B143","v":"KUBÁTOVÁ"},"Veronika","7.B",31," ",{"$f":"G143","v":"Jilemnice 13.02.23"},130.75," ",{"$f":"J143","v":11},0,0]
["34.",{"$f":"B144","v":"LENČEŠOVÁ"},"Silvie","7.B",92," ",{"$f":"G144","v":"Jilemnice 13.02.23"},512," ",{"$f":"J144","v":105},0,0]
["35.",{"$f":"B145","v":"LUKEŠOVÁ"},"Lucie","7.B",89," ",{"$f":"G145","v":"Jilemnice 13.02.23"},493.25," ",{"$f":"J145","v":0},0,0]
["36.",{"$f":"B146","v":"MATERNOVÁ"},"Lenka","7.B",81," ",{"$f":"G146","v":"Jilemnice 13.02.23"},443.25," ",{"$f":"J146","v":65},0,0]
["37.",{"$f":"B147","v":"TÓTHOVÁ"},"Viktorie","7.B",69," ",{"$f":"G147","v":"Jilemnice 13.02.23"},368.25," ",{"$f":"J147","v":71},0,0]
["38.",{"$f":"B148","v":"DUONG"},"Ngoc Linh","8.A",0," ",{"$f":"G148","v":0},0," ",{"$f":"J148","v":0},38,0]
["39.",{"$f":"B149","v":"GINGALOVÁ"},"Linda","8.A",0," ",{"$f":"G149","v":0},0," ",{"$f":"J149","v":105},0,0]
["40.",{"$f":"B150","v":"HOFMANOVÁ "},"Nicol","8.A",85," ",{"$f":"G150","v":"Jilemnice 27.02.23"},468.25," ",{"$f":"J150","v":69},61,0]
["41.",{"$f":"B151","v":"HOLEŠOVSKÁ"},"Aneta","8.A",108," ",{"$f":"G151","v":"Jilemnice 23.03.23"},612," ",{"$f":"J151","v":190},0,0]
["42.",{"$f":"B152","v":"HOLUBCOVÁ"},"Alena","8.A",98," ",{"$f":"G152","v":"Jilemnice 27.03.23"},549.5," ",{"$f":"J152","v":90},0,0]
["43.",{"$f":"B153","v":"KOHOUTOVÁ"},"Anna","8.A",109," ",{"$f":"G153","v":"Jilemnice 27.02.23"},618.25," ",{"$f":"J153","v":96},0,0]
["44.",{"$f":"B154","v":"KRAUSOVÁ"},"Anežka","8.A",106," ",{"$f":"G154","v":"Jilemnice 27.02.23"},599.5," ",{"$f":"J154","v":90},0,0]
["45.",{"$f":"B155","v":"KUŽELOVÁ"},"Apoléna","8.A",102," ",{"$f":"G155","v":"Jilemnice 23.03.23"},574.5," ",{"$f":"J155","v":145},0,0]
["46.",{"$f":"B156","v":"MORÁVKOVÁ"},"Lucie","8.A",79," ",{"$f":"G156","v":"Jilemnice 23.03.23"},430.75," ",{"$f":"J156","v":0},89,0]
["47.",{"$f":"B157","v":"SKLENÁROVÁ"},"Eliška","8.A",90," ",{"$f":"G157","v":"Jilemnice 27.02.23"},499.5," ",{"$f":"J157","v":64},49,0]
["48.",{"$f":"B158","v":"ŠEJNOVÁ"},"Karolína","8.A",47," ",{"$f":"G158","v":"Jilemnice 27.02.23"},230.75," ",{"$f":"J158","v":58},0,0]
["49.",{"$f":"B159","v":"ŠTOLFOVÁ"},"Tereza","8.A",47," ",{"$f":"G159","v":"Jilemnice 27.02.23"},230.75," ",{"$f":"J159","v":65},0,0]
["50.",{"$f":"B160","v":"ŠUBÍKOVÁ"},"Klára","8.A",123," ",{"$f":"G160","v":"Jilemnice 27.03.23"},705.75," ",{"$f":"J160","v":88},0,0]
["51.",{"$f":"B161","v":"ŠULKOVSKÁ"},"Klára","8.A",54," ",{"$f":"G161","v":"Jilemnice 27.02.23"},274.5," ",{"$f":"J161","v":50},0,0]
["52.",{"$f":"B162","v":"TULÁČKOVÁ"},"Natálie","8.A",0," ",{"$f":"G162","v":0},0," ",{"$f":"J162","v":122},52,0]
["53.",{"$f":"B163","v":"VOJTÍŠKOVÁ"},"Ella","8.A",108," ",{"$f":"G163","v":"Jilemnice 23.03.23"},612," ",{"$f":"J163","v":120},143,0]
["54.",{"$f":"B164","v":"DRUGÁČOVÁ"},"Kristinka","8.B",150," ",{"$f":"G164","v":"Jilemnice 27.02.23"},874.5," ",{"$f":"J164","v":0},0,0]
["55.",{"$f":"B165","v":"FAJSTAVROVÁ"},"Karolína","8.B",96," ",{"$f":"G165","v":"Jilemnice 23.03.23"},537," ",{"$f":"J165","v":166},64,0]
["56.",{"$f":"B166","v":"FAJSTAVROVÁ"},"Magdaléna","8.B",129," ",{"$f":"G166","v":"Jilemnice 23.03.23"},743.25," ",{"$f":"J166","v":201},0,0]
["57.",{"$f":"B167","v":"JINDROVÁ"},"Barbora","8.B",97," ",{"$f":"G167","v":"Jilemnice 23.03.23"},543.25," ",{"$f":"J167","v":200},68,0]
["58.",{"$f":"B168","v":"MAŘASOVÁ"},"Vendula","8.B",89," ",{"$f":"G168","v":"Jilemnice 23.03.23"},493.25," ",{"$f":"J168","v":0},54,0]
["59.",{"$f":"B169","v":"PETŘÍČKOVÁ"},"Natálie","8.B",0," ",{"$f":"G169","v":0},0," ",{"$f":"J169","v":0},0,0]
["60.",{"$f":"B170","v":"PETŘÍKOVÁ"},"Adéla","8.B",52," ",{"$f":"G170","v":"Jilemnice 27.02.23"},262," ",{"$f":"J170","v":39},0,0]
["61.",{"$f":"B171","v":"REGÁLOVÁ"},"Karolína","8.B",0," ",{"$f":"G171","v":0},0," ",{"$f":"J171","v":161},0,0]
["62.",{"$f":"B172","v":"RIEGROVÁ"},"Magdaléna","8.B",0," ",{"$f":"G172","v":0},0," ",{"$f":"J172","v":105},84,0]
["63.",{"$f":"B173","v":"RYBENSKÁ"},"Sabina","8.B",70," ",{"$f":"G173","v":"Jilemnice 23.03.23"},374.5," ",{"$f":"J173","v":0},0,0]
["64.",{"$f":"B174","v":"STEINEROVÁ"},"Barbora","8.B",95," ",{"$f":"G174","v":"Jilemnice 23.03.23"},530.75," ",{"$f":"J174","v":120},89,0]
["65.",{"$f":"B175","v":"ŠERCLOVÁ"},"Andrea","8.B",40," ",{"$f":"G175","v":"Jilemnice 27.02.23"},187," ",{"$f":"J175","v":0},0,0]
["66.",{"$f":"B176","v":"TOMEŠOVÁ"},"Barbora","8.B",72," ",{"$f":"G176","v":"Jilemnice 23.03.23"},387," ",{"$f":"J176","v":132},0,0]
["67.",{"$f":"B177","v":"VOHNOUTOVÁ"},"Aneta","8.B",85," ",{"$f":"G177","v":"Jilemnice 23.03.23"},468.25," ",{"$f":"J177","v":162},30,0]
["68.",{"$f":"B178","v":"HAVLÍKOVÁ"},"Michaela","9.A",83," ",{"$f":"G178","v":"Jilemnice 03.03.23"},455.75," ",{"$f":"J178","v":72},0,0]
["69.",{"$f":"B179","v":"HOLUBCOVÁ"},"Sára","9.A",111," ",{"$f":"G179","v":"Jilemnice 03.03.23"},630.75," ",{"$f":"J179","v":91},68,0]
["70.",{"$f":"B180","v":"HONCŮ"},"Tereza","9.A",94," ",{"$f":"G180","v":"Jilemnice 03.03.23"},524.5," ",{"$f":"J180","v":0},0,0]
["71.",{"$f":"B181","v":"HORÁČKOVÁ"},"Kateřina","9.A",100," ",{"$f":"G181","v":"Jilemnice 03.03.23"},562," ",{"$f":"J181","v":88},44,0]
["72.",{"$f":"B182","v":"JOUDALOVÁ"},"Daniela","9.A",0," ",{"$f":"G182","v":0},0," ",{"$f":"J182","v":0},0,0]
["73.",{"$f":"B183","v":"KLÍMOVÁ"},"Anna","9.A",0," ",{"$f":"G183","v":0},0," ",{"$f":"J183","v":93},0,0]
["74.",{"$f":"B184","v":"KOHOUTOVÁ"},"Veronika","9.A",184," ",{"$f":"G184","v":"Jilemnice 03.03.23"},1087," ",{"$f":"J184","v":107},0,0]
["75.",{"$f":"B185","v":"KOVÁŘOVÁ"},"Viktorie","9.A",0," ",{"$f":"G185","v":0},0," ",{"$f":"J185","v":86},0,0]
["76.",{"$f":"B186","v":"KYNČLOVÁ"},"Anna","9.A",117," ",{"$f":"G186","v":"Jilemnice 03.03.23"},668.25," ",{"$f":"J186","v":102},67,0]
["77.",{"$f":"B187","v":"MATOUŠOVÁ"},"Tereza","9.A",28," ",{"$f":"G187","v":"Jilemnice 03.03.23"},112," ",{"$f":"J187","v":61},60,0]
["78.",{"$f":"B188","v":"MAZÁNKOVÁ"},"Zuzana","9.A",34," ",{"$f":"G188","v":"Jilemnice 03.03.23"},149.5," ",{"$f":"J188","v":0},0,0]
["79.",{"$f":"B189","v":"MORKESOVÁ"},"Sabrina","9.A",120," ",{"$f":"G189","v":"Jilemnice 03.03.23"},687," ",{"$f":"J189","v":100},76,0]
["80.",{"$f":"B190","v":"POHOŘALÁ"},"Alžběta","9.A",0," ",{"$f":"G190","v":0},0," ",{"$f":"J190","v":87},0,0]
["81.",{"$f":"B191","v":"SCHOLZOVÁ"},"Laura","9.A",0," ",{"$f":"G191","v":0},0," ",{"$f":"J191","v":77},0,0]
["82.",{"$f":"B192","v":"VÁCLAVÍKOVÁ"},"Valerie","9.A",124," ",{"$f":"G192","v":"Jilemnice 03.03.23"},712," ",{"$f":"J192","v":95},56,0]
["83.",{"$f":"B193","v":"ZAPADLOVÁ"},"Emma","9.A",0," ",{"$f":"G193","v":0},0," ",{"$f":"J193","v":100},76,0]
["84.",{"$f":"B194","v":"ŽIŠKOVÁ"},"Mia","9.A",0," ",{"$f":"G194","v":0},0," ",{"$f":"J194","v":0},0,0]
["85.",{"$f":"B195","v":"FARSKÁ"},"Tereza","9.B",0," ",{"$f":"G195","v":0},0," ",{"$f":"J195","v":125},0,106]
["86.",{"$f":"B196","v":"FEIXOVÁ"},"Rozálie","9.B",0," ",{"$f":"G196","v":0},0," ",{"$f":"J196","v":92},0,83]
["87.",{"$f":"B197","v":"FIŠEROVÁ"},"Michaela","9.B",0," ",{"$f":"G197","v":0},0," ",{"$f":"J197","v":150},0,109]
["88.",{"$f":"B198","v":"HAVLÍČKOVÁ"},"Kristýna","9.B",0," ",{"$f":"G198","v":0},0," ",{"$f":"J198","v":91},0,105]
["89.",{"$f":"B199","v":"KADAVÁ"},"Nikola","9.B",0," ",{"$f":"G199","v":0},0," ",{"$f":"J199","v":60},0,80]
["90.",{"$f":"B200","v":"KŘIVINKOVÁ"},"Alžběta","9.B",0," ",{"$f":"G200","v":0},0," ",{"$f":"J200","v":86},0,106]
["91.",{"$f":"B201","v":"LEŠÁKOVÁ"},"Lenka","9.B",0," ",{"$f":"G201","v":0},0," ",{"$f":"J201","v":124},0,0]
["92.",{"$f":"B202","v":"NYKLÍČKOVÁ"},"Adéla","9.B",0," ",{"$f":"G202","v":0},0," ",{"$f":"J202","v":220},0,58]
["93.",{"$f":"B203","v":"PLŮCHOVÁ"},"Petra","9.B",0," ",{"$f":"G203","v":0},0," ",{"$f":"J203","v":239},0,88]
["94.",{"$f":"B204","v":"PODZIMKOVÁ"},"Eliška","9.B",0," ",{"$f":"G204","v":0},0," ",{"$f":"J204","v":170},0,24]
["95.",{"$f":"B205","v":"RUTKAYOVÁ"},"Klára","9.B",0," ",{"$f":"G205","v":0},0," ",{"$f":"J205","v":75},0,31]
["96.",{"$f":"B206","v":"SEIDLOVÁ"},"Zuzana","9.B",0," ",{"$f":"G206","v":0},0," ",{"$f":"J206","v":127},0,0]
["97.",{"$f":"B207","v":"TOMÁŠOVÁ"},"Sára","9.B",0," ",{"$f":"G207","v":0},0," ",{"$f":"J207","v":77},0,0]
["98.",{"$f":"B208","v":"VANCLOVÁ"},"Barbora","9.B",0," ",{"$f":"G208","v":0},0," ",{"$f":"J208","v":172},0,70]
["99.",{"$f":"B209","v":"VOTOČKOVÁ"},"Veronika","9.B",0," ",{"$f":"G209","v":0},0," ",{"$f":"J209","v":55},80,75]
[]
[]
[]
[]
[]
[]
[]
[]
[]
[null,"FARSKÁ","Anna","6.A",115,null,"Jilemnice  09.01.23",{"$f":"IF(E111=0,0,IF(E111>0,(E111*6.25-63)))","v":655.75}]
[null,"FARSKÁ","Eliška","6.A",120,null,"Jilemnice  09.01.23",687]
[null,"FEDORKOVÁ","Denisa","6.A",119,null,"Jilemnice  09.01.23",680.75]
[null,"HAUZEROVÁ","Tereza","6.A",104,null,"Jilemnice  09.01.23",587]
[null,"JOSKOVÁ","Ellen","6.A",104,null,"Jilemnice  09.01.23",587]
[null,"KUŽELOVÁ","Amálie","6.A",81,null,"Jilemnice  09.01.23",443.25]
[null,"RYŠAVÁ","Amálie","6.A",157,null,"Jilemnice  09.01.23",918.25]
[null,"BANGOVÁ","Zuzana","6.B",102,null,"Jilemnice  09.01.23",574.5]
[null,"HOLUBOVÁ","Denisa","6.B",103,null,"Jilemnice  09.01.23",580.75]
[null,"HURKALO","Karolina","6.B",77,null,"Jilemnice  09.01.23",418.25]
[null,"HUTNIK-MAMONOVA","Nana","6.B",23,null,"Jilemnice  09.01.23",80.75]
[null,"MARINOVA","Darja","6.B",77,null,"Jilemnice  09.01.23",418.25]
[null,"NYKLÍČKOVÁ","Klára","6.B",167,null,"Jilemnice  09.01.23",980.75]
[null,"PANCHAYEVA","Sofiia","6.B",null,null,null,0]
[null,"PIČMANOVÁ","Klára","6.B",null,null,null,0]
[null,"ŠIMŮNKOVÁ","Anežka","6.B",124,null,"Jilemnice  09.01.23",712]
[null,"TRPIŠOVSKÁ","Nela","6.B",143,null,"Jilemnice  09.01.23",830.75]
[null,"HEJRALOVÁ","Natálie","7.A",115,null,"Jilemnice 13.02.23",655.75,null,110]
[null,"KERLE","Nikita","7.A",118,null,"Jilemnice 13.02.23",674.5,null,110]
[null,"MUNZAROVÁ","Aneta","7.A",null,null,null,0]
[null,"PACLÍKOVÁ","Markéta","7.A",118,null,"Jilemnice 13.02.23",674.5,null,120]
[null,"PLŮCHOVÁ","Michaela","7.A",118,null,"Jilemnice 13.02.23",674.5,null,131]
[null,"ŠERCLOVÁ","Nikola","7.A",89,null,"Jilemnice 13.02.23",493.25,null,45]
[null,"VÁCLAVÍKOVÁ","Alena","7.A",null,null,null,0,null,100]
[null,"DUCHÁČKOVÁ","Tereza","7.B",51,null,"Jilemnice 13.02.23",255.75,null,60]
[null,"FLAŠKOVÁ","Anna Sabriel","7.B",51,null,"Jilemnice 13.02.23",255.75,null,56]
[null,"HAASOVÁ","Julie","7.B",null,null,null,0,null,89]
[null,"HEGROVÁ","Štěpánka","7.B",50,null,"Jilemnice 13.02.23",249.5]
[null,"HOBLOVÁ","Barbora","7.B",100,null,"Jilemnice 13.02.23",562,null,108]
[null,"HORÁČKOVÁ","Valérie","7.B",72,null,"Jilemnice 13.02.23",387]
[null,"JIRANOVÁ","Anežka","7.B",49,null,"Jilemnice 13.02.23",243.25,null,55]
[null,"KRČÍKOVÁ","Beatrix","7.B",80,null,"Jilemnice 13.02.23",437,null,83]
[null,"KUBÁTOVÁ","Veronika","7.B",31,null,"Jilemnice 13.02.23",{"$f":"IF(E143=0,0,IF(E143>0,(E143*6.25-63)))","v":130.75},null,11]
[null,"LENČEŠOVÁ","Silvie","7.B",92,null,"Jilemnice 13.02.23",512,null,105]
[null,"LUKEŠOVÁ","Lucie","7.B",89,null,"Jilemnice 13.02.23",493.25]
[null,"MATERNOVÁ","Lenka","7.B",81,null,"Jilemnice 13.02.23",443.25,null,65]
[null,"TÓTHOVÁ","Viktorie","7.B",69,null,"Jilemnice 13.02.23",368.25,null,71]
[null,"DUONG","Ngoc Linh","8.A",null,null,null,0,null,null,38]
[null,"GINGALOVÁ","Linda","8.A",null,null,null,0,null,105]
[null,"HOFMANOVÁ ","Nicol","8.A",85,null,"Jilemnice 27.02.23",468.25,null,69,61]
[null,"HOLEŠOVSKÁ","Aneta","8.A",108,null,"Jilemnice 23.03.23",612,null,190]
[null,"HOLUBCOVÁ","Alena","8.A",98,null,"Jilemnice 27.03.23",549.5,null,90]
[null,"KOHOUTOVÁ","Anna","8.A",109,null,"Jilemnice 27.02.23",618.25,null,96]
[null,"KRAUSOVÁ","Anežka","8.A",106,null,"Jilemnice 27.02.23",599.5,null,90]
[null,"KUŽELOVÁ","Apoléna","8.A",102,null,"Jilemnice 23.03.23",574.5,null,145]
[null,"MORÁVKOVÁ","Lucie","8.A",79,null,"Jilemnice 23.03.23",430.75,null,null,89]
[null,"SKLENÁROVÁ","Eliška","8.A",90,null,"Jilemnice 27.02.23",499.5,null,64,49]
[null,"ŠEJNOVÁ","Karolína","8.A",47,null,"Jilemnice 27.02.23",230.75,null,58]
[null,"ŠTOLFOVÁ","Tereza","8.A",47,null,"Jilemnice 27.02.23",230.75,null,65]
[null,"ŠUBÍKOVÁ","Klára","8.A",123,null,"Jilemnice 27.03.23",705.75,null,88]
[null,"ŠULKOVSKÁ","Klára","8.A",54,null,"Jilemnice 27.02.23",274.5,null,50]
[null,"TULÁČKOVÁ","Natálie","8.A",null,null,null,0,null,122,52]
[null,"VOJTÍŠKOVÁ","Ella","8.A",108,null,"Jilemnice 23.03.23",612,null,120,143]
[null,"DRUGÁČOVÁ","Kristinka","8.B",150,null,"Jilemnice 27.02.23",874.5]
[null,"FAJSTAVROVÁ","Karolína","8.B",96,null,"Jilemnice 23.03.23",537,null,166,64]
[null,"FAJSTAVROVÁ","Magdaléna","8.B",129,null,"Jilemnice 23.03.23",743.25,null,201]
[null,"JINDROVÁ","Barbora","8.B",97,null,"Jilemnice 23.03.23",543.25,null,200,68]
[null,"MAŘASOVÁ","Vendula","8.B",89,null,"Jilemnice 23.03.23",493.25,null,null,54]
[null,"PETŘÍČKOVÁ","Natálie","8.B",null,null,null,0]
[null,"PETŘÍKOVÁ","Adéla","8.B",52,null,"Jilemnice 27.02.23",262,null,39]
[null,"REGÁLOVÁ","Karolína","8.B",null,null,null,0,null,161]
[null,"RIEGROVÁ","Magdaléna","8.B",null,null,null,0,null,105,84]
[null,"RYBENSKÁ","Sabina","8.B",70,null,"Jilemnice 23.03.23",374.5]
[null,"STEINEROVÁ","Barbora","8.B",95,null,"Jilemnice 23.03.23",530.75,null,120,89]
[null,"ŠERCLOVÁ","Andrea","8.B",40,null,"Jilemnice 27.02.23",{"$f":"IF(E175=0,0,IF(E175>0,(E175*6.25-63)))","v":187}]
[null,"TOMEŠOVÁ","Barbora","8.B",72,null,"Jilemnice 23.03.23",387,null,132]
[null,"VOHNOUTOVÁ","Aneta","8.B",85,null,"Jilemnice 23.03.23",468.25,null,162,30]
[null,"HAVLÍKOVÁ","Michaela","9.A",83,null,"Jilemnice 03.03.23",455.75,null,72]
[null,"HOLUBCOVÁ","Sára","9.A",111,null,"Jilemnice 03.03.23",630.75,null,91,68]
[null,"HONCŮ","Tereza","9.A",94,null,"Jilemnice 03.03.23",524.5]
[null,"HORÁČKOVÁ","Kateřina","9.A",100,null,"Jilemnice 03.03.23",562,null,88,44]
[null,"JOUDALOVÁ","Daniela","9.A",null,null,null,0]
[null,"KLÍMOVÁ","Anna","9.A",null,null,null,0,null,93]
[null,"KOHOUTOVÁ","Veronika","9.A",184,null,"Jilemnice 03.03.23",1087,null,107]
[null,"KOVÁŘOVÁ","Viktorie","9.A",null,null,null,0,null,86]
[null,"KYNČLOVÁ","Anna","9.A",117,null,"Jilemnice 03.03.23",668.25,null,102,67]
[null,"MATOUŠOVÁ","Tereza","9.A",28,null,"Jilemnice 03.03.23",112,null,61,60]
[null,"MAZÁNKOVÁ","Zuzana","9.A",34,null,"Jilemnice 03.03.23",149.5]
[null,"MORKESOVÁ","Sabrina","9.A",120,null,"Jilemnice 03.03.23",687,null,100,76]
[null,"POHOŘALÁ","Alžběta","9.A",null,null,null,0,null,87]
[null,"SCHOLZOVÁ","Laura","9.A",null,null,null,0,null,77]
[null,"VÁCLAVÍKOVÁ","Valerie","9.A",124,null,"Jilemnice 03.03.23",712,null,95,56]
[null,"ZAPADLOVÁ","Emma","9.A",null,null,null,0,null,100,76]
[null,"ŽIŠKOVÁ","Mia","9.A",null,null,null,0]
[null,"FARSKÁ","Tereza","9.B",null,null,null,0,null,125,null,106]
[null,"FEIXOVÁ","Rozálie","9.B",null,null,null,0,null,92,null,83]
[null,"FIŠEROVÁ","Michaela","9.B",null,null,null,0,null,150,null,109]
[null,"HAVLÍČKOVÁ","Kristýna","9.B",null,null,null,0,null,91,null,105]
[null,"KADAVÁ","Nikola","9.B",null,null,null,0,null,60,null,80]
[null,"KŘIVINKOVÁ","Alžběta","9.B",null,null,null,0,null,86,null,106]
[null,"LEŠÁKOVÁ","Lenka","9.B",null,null,null,0,null,124]
[null,"NYKLÍČKOVÁ","Adéla","9.B",null,null,null,0,null,220,null,58]
[null,"PLŮCHOVÁ","Petra","9.B",null,null,null,0,null,239,null,88]
[null,"PODZIMKOVÁ","Eliška","9.B",null,null,null,0,null,170,null,24]
[null,"RUTKAYOVÁ","Klára","9.B",null,null,null,0,null,75,null,31]
[null,"SEIDLOVÁ","Zuzana","9.B",null,null,null,0,null,127]
[null,"TOMÁŠOVÁ","Sára","9.B",null,null,null,0,null,77]
[null,"VANCLOVÁ","Barbora","9.B",null,null,null,0,null,172,null,70]
[null,"VOTOČKOVÁ","Veronika","9.B",null,null,null,0,null,55,80,75]

{"sheet":"Dz mís","index":19,"n_rows":209,"n_cols":12,"rows_kept":209,"cut":false,"hidden":false,"merged":[[0,1,0,5]]}
[null,"VÝKONY  2022 - 2023",null,null,null,null,"Z MÍSTA",null,null,null,"stav  k ",{"$f":"TODAY()","v":"2023-06-26"}]
[null,null,null,null,null,null,null,"   BODY",null,"   21 - 22   ","   20 - 21   ","   19 - 20   "]
["1.",{"$f":"B111","v":"FARSKÁ"},{"$f":"C111","v":"Anna"},"6.A",198," ","Jilemnice 19.06.23",755.31161473087832," ",0,0,0]
["2.",{"$f":"B112","v":"FARSKÁ"},"Eliška","6.A",204," ",{"$f":"G112","v":"Jilemnice 19.06.23"},783.53824362606247," ",{"$f":"J112","v":0},0,0]
["3.",{"$f":"B113","v":"FEDORKOVÁ"},"Denisa","6.A",155," ",{"$f":"G113","v":"Jilemnice 19.06.23"},553.02077431539215," ",{"$f":"J113","v":0},0,0]
["4.",{"$f":"B114","v":"HAUZEROVÁ"},"Tereza","6.A",182," ",{"$f":"G114","v":"Jilemnice 19.06.23"},680.04060434372059," ",{"$f":"J114","v":0},0,0]
["5.",{"$f":"B115","v":"JOSKOVÁ"},"Ellen","6.A",180," ",{"$f":"G115","v":"Jilemnice 19.06.23"},670.63172804532587," ",{"$f":"J115","v":0},0,0]
["6.",{"$f":"B116","v":"KUŽELOVÁ"},"Amálie","6.A",0," ",{"$f":"G116","v":0},0," ",{"$f":"J116","v":0},0,0]
["7.",{"$f":"B117","v":"RYŠAVÁ"},"Amálie","6.A",0," ",{"$f":"G117","v":0},0," ",{"$f":"J117","v":0},0,0]
["8.",{"$f":"B118","v":"BANGOVÁ"},"Zuzana","6.B",144," ",{"$f":"G118","v":"Jilemnice 19.06.23"},501.27195467422098," ",{"$f":"J118","v":0},0,0]
["9.",{"$f":"B119","v":"HOLUBOVÁ"},"Denisa","6.B",145," ",{"$f":"G119","v":"Jilemnice 19.06.23"},505.97639282341834," ",{"$f":"J119","v":0},0,0]
["10.",{"$f":"B120","v":"HURKALO"},"Karolina","6.B",0," ",{"$f":"G120","v":0},0," ",{"$f":"J120","v":0},0,0]
["11.",{"$f":"B121","v":"HUTNIK-MAMONOVA"},"Nana","6.B",0," ",{"$f":"G121","v":0},0," ",{"$f":"J121","v":0},0,0]
["12.",{"$f":"B122","v":"MARINOVA"},"Darja","6.B",0," ",{"$f":"G122","v":0},0," ",{"$f":"J122","v":0},0,0]
["13.",{"$f":"B123","v":"NYKLÍČKOVÁ"},"Klára","6.B",187," ",{"$f":"G123","v":"Jilemnice 19.06.23"},703.56279508970738," ",{"$f":"J123","v":0},0,0]
["14.",{"$f":"B124","v":"PANCHAYEVA"},"Sofiia","6.B",0," ",{"$f":"G124","v":0},0," ",{"$f":"J124","v":0},0,0]
["15.",{"$f":"B125","v":"PIČMANOVÁ"},"Klára","6.B",0," ",{"$f":"G125","v":0},0," ",{"$f":"J125","v":0},0,0]
["16.",{"$f":"B126","v":"ŠIMŮNKOVÁ"},"Anežka","6.B",172," ",{"$f":"G126","v":"Jilemnice 19.06.23"},632.99622285174701," ",{"$f":"J126","v":0},0,0]
["17.",{"$f":"B127","v":"TRPIŠOVSKÁ"},"Nela","6.B",180," ",{"$f":"G127","v":"Jilemnice 19.06.23"},670.63172804532587," ",{"$f":"J127","v":0},0,0]
["18.",{"$f":"B128","v":"HEJRALOVÁ"},"Natálie","7.A",181," ",{"$f":"G128","v":"Jilemnice 09.11.22"},675.33616619452323," ",{"$f":"J128","v":159},0,0]
["19.",{"$f":"B129","v":"KERLE"},"Nikita","7.A",185," ",{"$f":"G129","v":"Jilemnice 09.11.22"},694.15391879131289," ",{"$f":"J129","v":174},0,0]
["20.",{"$f":"B130","v":"MUNZAROVÁ"},"Aneta","7.A",144," ",{"$f":"G130","v":"Jilemnice 09.11.22"},501.27195467422098," ",{"$f":"J130","v":0},0,0]
["21.",{"$f":"B131","v":"PACLÍKOVÁ"},"Markéta","7.A",203," ",{"$f":"G131","v":"Jilemnice 09.11.22"},778.83380547686511," ",{"$f":"J131","v":193},0,0]
["22.",{"$f":"B132","v":"PLŮCHOVÁ"},"Michaela","7.A",178," ",{"$f":"G132","v":"Jilemnice 09.11.22"},661.22285174693116," ",{"$f":"J132","v":183},0,0]
["23.",{"$f":"B133","v":"ŠERCLOVÁ"},"Nikola","7.A",180," ",{"$f":"G133","v":"Jilemnice 09.11.22"},670.63172804532587," ",{"$f":"J133","v":155},0,0]
["24.",{"$f":"B134","v":"VÁCLAVÍKOVÁ"},"Alena","7.A",186," ",{"$f":"G134","v":"Jilemnice 09.11.22"},698.85835694051002," ",{"$f":"J134","v":172},0,0]
["25.",{"$f":"B135","v":"DUCHÁČKOVÁ"},"Tereza","7.B",125," ",{"$f":"G135","v":"Jilemnice 09.11.22"},411.88762983947129," ",{"$f":"J135","v":128},0,0]
["26.",{"$f":"B136","v":"FLAŠKOVÁ"},"Anna Sabriel","7.B",147," ",{"$f":"G136","v":"Jilemnice 09.11.22"},515.38526912181328," ",{"$f":"J136","v":125},0,0]
["27.",{"$f":"B137","v":"HAASOVÁ"},"Julie","7.B",0," ",{"$f":"G137","v":0},0," ",{"$f":"J137","v":185},0,0]
["28.",{"$f":"B138","v":"HEGROVÁ"},"Štěpánka","7.B",0," ",{"$f":"G138","v":0},0," ",{"$f":"J138","v":0},0,0]
["29.",{"$f":"B139","v":"HOBLOVÁ"},"Barbora","7.B",170," ",{"$f":"G139","v":"Jilemnice 12.06.23"},623.58734655335252," ",{"$f":"J139","v":161},0,0]
["30.",{"$f":"B140","v":"HORÁČKOVÁ"},"Valérie","7.B",195," ",{"$f":"G140","v":"Jilemnice 09.11.22"},741.19830028328624," ",{"$f":"J140","v":181},0,0]
["31.",{"$f":"B141","v":"JIRANOVÁ"},"Anežka","7.B",123," ",{"$f":"G141","v":"Jilemnice 09.11.22"},402.47875354107657," ",{"$f":"J141","v":109},0,0]
["32.",{"$f":"B142","v":"KRČÍKOVÁ"},"Beatrix","7.B",195," ",{"$f":"G142","v":"Jilemnice 09.11.22"},741.19830028328624," ",{"$f":"J142","v":184},0,0]
["33.",{"$f":"B143","v":"KUBÁTOVÁ"},"Veronika","7.B",158," ",{"$f":"G143","v":"Jilemnice 09.11.22"},567.13408876298399," ",{"$f":"J143","v":140},0,0]
["34.",{"$f":"B144","v":"LENČEŠOVÁ"},"Silvie","7.B",160," ",{"$f":"G144","v":"Jilemnice 09.11.22"},576.54296506137871," ",{"$f":"J144","v":145},0,0]
["35.",{"$f":"B145","v":"LUKEŠOVÁ"},"Lucie","7.B",0," ",{"$f":"G145","v":0},0," ",{"$f":"J145","v":0},0,0]
["36.",{"$f":"B146","v":"MATERNOVÁ"},"Lenka","7.B",185," ",{"$f":"G146","v":"Jilemnice 09.11.22"},694.15391879131289," ",{"$f":"J146","v":148},0,0]
["37.",{"$f":"B147","v":"TÓTHOVÁ"},"Viktorie","7.B",194," ",{"$f":"G147","v":"Jilemnice 09.11.22"},736.49386213408889," ",{"$f":"J147","v":178},0,0]
["38.",{"$f":"B148","v":"DUONG"},"Ngoc Linh","8.A",0," ",{"$f":"G148","v":0},0," ",{"$f":"J148","v":142},134,0]
["39.",{"$f":"B149","v":"GINGALOVÁ"},"Linda","8.A",203," ",{"$f":"G149","v":"Jilemnice 05.06.23"},778.83380547686511," ",{"$f":"J149","v":0},0,0]
["40.",{"$f":"B150","v":"HOFMANOVÁ "},"Nicol","8.A",140," ",{"$f":"G150","v":"Jilemnice 10.03.23"},482.45420207743166," ",{"$f":"J150","v":166},180,0]
["41.",{"$f":"B151","v":"HOLEŠOVSKÁ"},"Aneta","8.A",0," ",{"$f":"G151","v":0},0," ",{"$f":"J151","v":0},0,0]
["42.",{"$f":"B152","v":"HOLUBCOVÁ"},"Alena","8.A",210," ",{"$f":"G152","v":"Jilemnice 05.06.23"},811.76487252124662," ",{"$f":"J152","v":190},185,0]
["43.",{"$f":"B153","v":"KOHOUTOVÁ"},"Anna","8.A",138," ",{"$f":"G153","v":"Jilemnice 10.03.23"},473.04532577903683," ",{"$f":"J153","v":140},0,0]
["44.",{"$f":"B154","v":"KRAUSOVÁ"},"Anežka","8.A",178," ",{"$f":"G154","v":"Jilemnice 10.03.23"},661.22285174693116," ",{"$f":"J154","v":169},185,0]
["45.",{"$f":"B155","v":"KUŽELOVÁ"},"Apoléna","8.A",0," ",{"$f":"G155","v":0},0," ",{"$f":"J155","v":0},0,0]
["46.",{"$f":"B156","v":"MORÁVKOVÁ"},"Lucie","8.A",0," ",{"$f":"G156","v":0},0," ",{"$f":"J156","v":0},0,0]
["47.",{"$f":"B157","v":"SKLENÁROVÁ"},"Eliška","8.A",168," ",{"$f":"G157","v":"Jilemnice 10.03.23"},614.17847025495757," ",{"$f":"J157","v":164},155,0]
["48.",{"$f":"B158","v":"ŠEJNOVÁ"},"Karolína","8.A",180," ",{"$f":"G158","v":"Jilemnice 10.03.23"},670.63172804532587," ",{"$f":"J158","v":185},0,0]
["49.",{"$f":"B159","v":"ŠTOLFOVÁ"},"Tereza","8.A",152," ",{"$f":"G159","v":"Jilemnice 10.03.23"},538.90745986779984," ",{"$f":"J159","v":0},142,0]
["50.",{"$f":"B160","v":"ŠUBÍKOVÁ"},"Klára","8.A",197," ",{"$f":"G160","v":"Jilemnice 05.06.23"},750.60717658168096," ",{"$f":"J160","v":170},170,0]
["51.",{"$f":"B161","v":"ŠULKOVSKÁ"},"Klára","8.A",0," ",{"$f":"G161","v":0},0," ",{"$f":"J161","v":0},0,0]
["52.",{"$f":"B162","v":"TULÁČKOVÁ"},"Natálie","8.A",0," ",{"$f":"G162","v":0},0," ",{"$f":"J162","v":0},0,0]
["53.",{"$f":"B163","v":"VOJTÍŠKOVÁ"},"Ella","8.A",202," ",{"$f":"G163","v":"Jilemnice 05.06.23"},774.12936732766775," ",{"$f":"J163","v":0},158,0]
["54.",{"$f":"B164","v":"DRUGÁČOVÁ"},"Kristinka","8.B",0," ",{"$f":"G164","v":0},0," ",{"$f":"J164","v":0},187,0]
["55.",{"$f":"B165","v":"FAJSTAVROVÁ"},"Karolína","8.B",196," ",{"$f":"G165","v":"Jilemnice 05.06.23"},745.9027384324836," ",{"$f":"J165","v":0},103,0]
["56.",{"$f":"B166","v":"FAJSTAVROVÁ"},"Magdaléna","8.B",205," ",{"$f":"G166","v":"Jilemnice 05.06.23"},788.24268177525983," ",{"$f":"J166","v":0},191,0]
["57.",{"$f":"B167","v":"JINDROVÁ"},"Barbora","8.B",0," ",{"$f":"G167","v":0},0," ",{"$f":"J167","v":0},139,0]
["58.",{"$f":"B168","v":"MAŘASOVÁ"},"Vendula","8.B",0," ",{"$f":"G168","v":0},0," ",{"$f":"J168","v":0},0,0]
["59.",{"$f":"B169","v":"PETŘÍČKOVÁ"},"Natálie","8.B",212," ",{"$f":"G169","v":"Jilemnice 05.06.23"},821.17374881964133," ",{"$f":"J169","v":0},0,0]
["60.",{"$f":"B170","v":"PETŘÍKOVÁ"},"Adéla","8.B",120," ",{"$f":"G170","v":"Jilemnice 10.03.23"},388.3654390934845," ",{"$f":"J170","v":117},160,0]
["61.",{"$f":"B171","v":"REGÁLOVÁ"},"Karolína","8.B",0," ",{"$f":"G171","v":0},0," ",{"$f":"J171","v":0},129,0]
["62.",{"$f":"B172","v":"RIEGROVÁ"},"Magdaléna","8.B",166," ",{"$f":"G172","v":"Jilemnice 10.03.23"},604.76959395656286," ",{"$f":"J172","v":0},163,0]
["63.",{"$f":"B173","v":"RYBENSKÁ"},"Sabina","8.B",0," ",{"$f":"G173","v":0},0," ",{"$f":"J173","v":0},0,0]
["64.",{"$f":"B174","v":"STEINEROVÁ"},"Barbora","8.B",230," ",{"$f":"G174","v":"Jilemnice 05.06.23"},905.85363550519355," ",{"$f":"J174","v":0},0,0]
["65.",{"$f":"B175","v":"ŠERCLOVÁ"},"Andrea","8.B",125," ",{"$f":"G175","v":"Jilemnice 10.03.23"},411.88762983947129," ",{"$f":"J175","v":0},0,0]
["66.",{"$f":"B176","v":"TOMEŠOVÁ"},"Barbora","8.B",202," ",{"$f":"G176","v":"Jilemnice 05.06.23"},774.12936732766775," ",{"$f":"J176","v":0},0,0]
["67.",{"$f":"B177","v":"VOHNOUTOVÁ"},"Aneta","8.B",214," ",{"$f":"G177","v":"Jilemnice 12.06.23"},830.58262511803605," ",{"$f":"J177","v":0},135,0]
["68.",{"$f":"B178","v":"HAVLÍKOVÁ"},"Michaela","9.A",172," ",{"$f":"G178","v":"Jilemnice 06.06.23"},632.99622285174701," ",{"$f":"J178","v":168},0,137]
["69.",{"$f":"B179","v":"HOLUBCOVÁ"},"Sára","9.A",191," ",{"$f":"G179","v":"Jilemnice 03.03.23"},722.38054768649681," ",{"$f":"J179","v":210},0,177]
["70.",{"$f":"B180","v":"HONCŮ"},"Tereza","9.A",0," ",{"$f":"G180","v":0},0," ",{"$f":"J180","v":190},0,166]
["71.",{"$f":"B181","v":"HORÁČKOVÁ"},"Kateřina","9.A",220," ",{"$f":"G181","v":"Jilemnice 06.06.23"},858.8092540132202," ",{"$f":"J181","v":214},0,197]
["72.",{"$f":"B182","v":"JOUDALOVÁ"},"Daniela","9.A",0," ",{"$f":"G182","v":0},0," ",{"$f":"J182","v":0},0,133]
["73.",{"$f":"B183","v":"KLÍMOVÁ"},"Anna","9.A",203," ",{"$f":"G183","v":"Jilemnice 06.06.23"},778.83380547686511," ",{"$f":"J183","v":182},0,166]
["74.",{"$f":"B184","v":"KOHOUTOVÁ"},"Veronika","9.A",187," ",{"$f":"G184","v":"Jilemnice 06.06.23"},703.56279508970738," ",{"$f":"J184","v":180},0,0]
["75.",{"$f":"B185","v":"KOVÁŘOVÁ"},"Viktorie","9.A",199," ",{"$f":"G185","v":"Jilemnice 06.06.23"},760.01605288007568," ",{"$f":"J185","v":191},0,179]
["76.",{"$f":"B186","v":"KYNČLOVÁ"},"Anna","9.A",212," ",{"$f":"G186","v":"Jilemnice 12.06.23"},821.17374881964133," ",{"$f":"J186","v":220},0,180]
["77.",{"$f":"B187","v":"MATOUŠOVÁ"},"Tereza","9.A",0," ",{"$f":"G187","v":0},0," ",{"$f":"J187","v":143},0,145]
["78.",{"$f":"B188","v":"MAZÁNKOVÁ"},"Zuzana","9.A",186," ",{"$f":"G188","v":"Jilemnice 06.06.23"},698.85835694051002," ",{"$f":"J188","v":0},0,140]
["79.",{"$f":"B189","v":"MORKESOVÁ"},"Sabrina","9.A",210," ",{"$f":"G189","v":"Jilemnice 16.06.23"},811.76487252124662," ",{"$f":"J189","v":212},173,199]
["80.",{"$f":"B190","v":"POHOŘALÁ"},"Alžběta","9.A",210," ",{"$f":"G190","v":"Jilemnice 06.06.23"},811.76487252124662," ",{"$f":"J190","v":186},0,181]
["81.",{"$f":"B191","v":"SCHOLZOVÁ"},"Laura","9.A",0," ",{"$f":"G191","v":0},0," ",{"$f":"J191","v":140},0,128]
["82.",{"$f":"B192","v":"VÁCLAVÍKOVÁ"},"Valerie","9.A",201," ",{"$f":"G192","v":"Jilemnice 06.06.23"},769.42492917847039," ",{"$f":"J192","v":187},139,167]
["83.",{"$f":"B193","v":"ZAPADLOVÁ"},"Emma","9.A",212," ",{"$f":"G193","v":"Jilemnice 06.06.23"},821.17374881964133," ",{"$f":"J193","v":185},0,170]
["84.",{"$f":"B194","v":"ŽIŠKOVÁ"},"Mia","9.A",0," ",{"$f":"G194","v":0},0," ",{"$f":"J194","v":0},0,181]
["85.",{"$f":"B195","v":"FARSKÁ"},"Tereza","9.B",0," ",{"$f":"G195","v":0},0," ",{"$f":"J195","v":0},128,0]
["86.",{"$f":"B196","v":"FEIXOVÁ"},"Rozálie","9.B",0," ",{"$f":"G196","v":0},0," ",{"$f":"J196","v":0},0,115]
["87.",{"$f":"B197","v":"FIŠEROVÁ"},"Michaela","9.B",0," ",{"$f":"G197","v":0},0," ",{"$f":"J197","v":0},0,154]
["88.",{"$f":"B198","v":"HAVLÍČKOVÁ"},"Kristýna","9.B",0," ",{"$f":"G198","v":0},0," ",{"$f":"J198","v":0},0,0]
["89.",{"$f":"B199","v":"KADAVÁ"},"Nikola","9.B",0," ",{"$f":"G199","v":0},0," ",{"$f":"J199","v":0},0,128]
["90.",{"$f":"B200","v":"KŘIVINKOVÁ"},"Alžběta","9.B",0," ",{"$f":"G200","v":0},0," ",{"$f":"J200","v":0},0,179]
["91.",{"$f":"B201","v":"LEŠÁKOVÁ"},"Lenka","9.B",0," ",{"$f":"G201","v":0},0," ",{"$f":"J201","v":0},0,135]
["92.",{"$f":"B202","v":"NYKLÍČKOVÁ"},"Adéla","9.B",0," ",{"$f":"G202","v":0},0," ",{"$f":"J202","v":0},0,195]
["93.",{"$f":"B203","v":"PLŮCHOVÁ"},"Petra","9.B",0," ",{"$f":"G203","v":0},0," ",{"$f":"J203","v":0},0,164]
["94.",{"$f":"B204","v":"PODZIMKOVÁ"},"Eliška","9.B",0," ",{"$f":"G204","v":0},0," ",{"$f":"J204","v":0},0,155]
["95.",{"$f":"B205","v":"RUTKAYOVÁ"},"Klára","9.B",0," ",{"$f":"G205","v":0},0," ",{"$f":"J205","v":0},0,165]
["96.",{"$f":"B206","v":"SEIDLOVÁ"},"Zuzana","9.B",0," ",{"$f":"G206","v":0},0," ",{"$f":"J206","v":0},139,150]
["97.",{"$f":"B207","v":"TOMÁŠOVÁ"},"Sára","9.B",0," ",{"$f":"G207","v":0},0," ",{"$f":"J207","v":0},0,121]
["98.",{"$f":"B208","v":"VANCLOVÁ"},"Barbora","9.B",0," ",{"$f":"G208","v":0},0," ",{"$f":"J208","v":0},0,0]
["99.",{"$f":"B209","v":"VOTOČKOVÁ"},"Veronika","9.B",0," ",{"$f":"G209","v":0},0," ",{"$f":"J209","v":0},0,131]
[]
[]
[]
[]
[]
[]
[]
[]
[]
[null,"FARSKÁ","Anna","6.A",198,null,"Jilemnice 19.06.23",{"$f":"IF(E111=0,0,IF(E111>0,(E111+75)*4.982/1.059-529))","v":755.31161473087832}]
[null,"FARSKÁ","Eliška","6.A",204,null,"Jilemnice 19.06.23",783.53824362606247]
[null,"FEDORKOVÁ","Denisa","6.A",155,null,"Jilemnice 19.06.23",553.02077431539215]
[null,"HAUZEROVÁ","Tereza","6.A",182,null,"Jilemnice 19.06.23",680.04060434372059]
[null,"JOSKOVÁ","Ellen","6.A",180,null,"Jilemnice 19.06.23",670.63172804532587]
[null,"KUŽELOVÁ","Amálie","6.A",null,null,null,0]
[null,"RYŠAVÁ","Amálie","6.A",null,null,null,0]
[null,"BANGOVÁ","Zuzana","6.B",144,null,"Jilemnice 19.06.23",501.27195467422098]
[null,"HOLUBOVÁ","Denisa","6.B",145,null,"Jilemnice 19.06.23",505.97639282341834]
[null,"HURKALO","Karolina","6.B",null,null,null,0]
[null,"HUTNIK-MAMONOVA","Nana","6.B",null,null,null,0]
[null,"MARINOVA","Darja","6.B",null,null,null,0]
[null,"NYKLÍČKOVÁ","Klára","6.B",187,null,"Jilemnice 19.06.23",703.56279508970738]
[null,"PANCHAYEVA","Sofiia","6.B",null,null,null,0]
[null,"PIČMANOVÁ","Klára","6.B",null,null,null,0]
[null,"ŠIMŮNKOVÁ","Anežka","6.B",172,null,"Jilemnice 19.06.23",632.99622285174701]
[null,"TRPIŠOVSKÁ","Nela","6.B",180,null,"Jilemnice 19.06.23",670.63172804532587]
[null,"HEJRALOVÁ","Natálie","7.A",181,null,"Jilemnice 09.11.22",675.33616619452323,null,159]
[null,"KERLE","Nikita","7.A",185,null,"Jilemnice 09.11.22",694.15391879131289,null,174]
[null,"MUNZAROVÁ","Aneta","7.A",144,null,"Jilemnice 09.11.22",501.27195467422098]
[null,"PACLÍKOVÁ","Markéta","7.A",203,null,"Jilemnice 09.11.22",778.83380547686511,null,193]
[null,"PLŮCHOVÁ","Michaela","7.A",178,null,"Jilemnice 09.11.22",661.22285174693116,null,183]
[null,"ŠERCLOVÁ","Nikola","7.A",180,null,"Jilemnice 09.11.22",670.63172804532587,null,155]
[null,"VÁCLAVÍKOVÁ","Alena","7.A",186,null,"Jilemnice 09.11.22",698.85835694051002,null,172]
[null,"DUCHÁČKOVÁ","Tereza","7.B",125,null,"Jilemnice 09.11.22",411.88762983947129,null,128]
[null,"FLAŠKOVÁ","Anna Sabriel","7.B",147,null,"Jilemnice 09.11.22",515.38526912181328,null,125]
[null,"HAASOVÁ","Julie","7.B",null,null,null,0,null,185]
[null,"HEGROVÁ","Štěpánka","7.B",null,null,null,0]
[null,"HOBLOVÁ","Barbora","7.B",170,null,"Jilemnice 12.06.23",623.58734655335252,null,161]
[null,"HORÁČKOVÁ","Valérie","7.B",195,null,"Jilemnice 09.11.22",741.19830028328624,null,181]
[null,"JIRANOVÁ","Anežka","7.B",123,null,"Jilemnice 09.11.22",402.47875354107657,null,109]
[null,"KRČÍKOVÁ","Beatrix","7.B",195,null,"Jilemnice 09.11.22",741.19830028328624,null,184]
[null,"KUBÁTOVÁ","Veronika","7.B",158,null,"Jilemnice 09.11.22",{"$f":"IF(E143=0,0,IF(E143>0,(E143+75)*4.982/1.059-529))","v":567.13408876298399},null,140]
[null,"LENČEŠOVÁ","Silvie","7.B",160,null,"Jilemnice 09.11.22",576.54296506137871,null,145]
[null,"LUKEŠOVÁ","Lucie","7.B",null,null,null,0]
[null,"MATERNOVÁ","Lenka","7.B",185,null,"Jilemnice 09.11.22",694.15391879131289,null,148]
[null,"TÓTHOVÁ","Viktorie","7.B",194,null,"Jilemnice 09.11.22",736.49386213408889,null,178]
[null,"DUONG","Ngoc Linh","8.A",null,null,null,0,null,142,134]
[null,"GINGALOVÁ","Linda","8.A",203,null,"Jilemnice 05.06.23",778.83380547686511]
[null,"HOFMANOVÁ ","Nicol","8.A",140,null,"Jilemnice 10.03.23",482.45420207743166,null,166,180]
[null,"HOLEŠOVSKÁ","Aneta","8.A",null,null,null,0]
[null,"HOLUBCOVÁ","Alena","8.A",210,null,"Jilemnice 05.06.23",811.76487252124662,null,190,185]
[null,"KOHOUTOVÁ","Anna","8.A",138,null,"Jilemnice 10.03.23",473.04532577903683,null,140]
[null,"KRAUSOVÁ","Anežka","8.A",178,null,"Jilemnice 10.03.23",661.22285174693116,null,169,185]
[null,"KUŽELOVÁ","Apoléna","8.A",null,null,null,0]
[null,"MORÁVKOVÁ","Lucie","8.A",null,null,null,0]
[null,"SKLENÁROVÁ","Eliška","8.A",168,null,"Jilemnice 10.03.23",614.17847025495757,null,164,155]
[null,"ŠEJNOVÁ","Karolína","8.A",180,null,"Jilemnice 10.03.23",670.63172804532587,null,185]
[null,"ŠTOLFOVÁ","Tereza","8.A",152,null,"Jilemnice 10.03.23",538.90745986779984,null,null,142]
[null,"ŠUBÍKOVÁ","Klára","8.A",197,null,"Jilemnice 05.06.23",750.60717658168096,null,170,170]
[null,"ŠULKOVSKÁ","Klára","8.A",null,null,null,0]
[null,"TULÁČKOVÁ","Natálie","8.A",null,null,null,0]
[null,"VOJTÍŠKOVÁ","Ella","8.A",202,null,"Jilemnice 05.06.23",774.12936732766775,null,null,158]
[null,"DRUGÁČOVÁ","Kristinka","8.B",null,null,null,0,null,null,187]
[null,"FAJSTAVROVÁ","Karolína","8.B",196,null,"Jilemnice 05.06.23",745.9027384324836,null,null,103]
[null,"FAJSTAVROVÁ","Magdaléna","8.B",205,null,"Jilemnice 05.06.23",788.24268177525983,null,null,191]
[null,"JINDROVÁ","Barbora","8.B",null,null,null,0,null,null,139]
[null,"MAŘASOVÁ","Vendula","8.B",null,null,null,0]
[null,"PETŘÍČKOVÁ","Natálie","8.B",212,null,"Jilemnice 05.06.23",821.17374881964133]
[null,"PETŘÍKOVÁ","Adéla","8.B",120,null,"Jilemnice 10.03.23",388.3654390934845,null,117,160]
[null,"REGÁLOVÁ","Karolína","8.B",null,null,null,0,null,null,129]
[null,"RIEGROVÁ","Magdaléna","8.B",166,null,"Jilemnice 10.03.23",604.76959395656286,null,null,163]
[null,"RYBENSKÁ","Sabina","8.B",null,null,null,0]
[null,"STEINEROVÁ","Barbora","8.B",230,null,"Jilemnice 05.06.23",905.85363550519355]
[null,"ŠERCLOVÁ","Andrea","8.B",125,null,"Jilemnice 10.03.23",{"$f":"IF(E175=0,0,IF(E175>0,(E175+75)*4.982/1.059-529))","v":411.88762983947129}]
[null,"TOMEŠOVÁ","Barbora","8.B",202,null,"Jilemnice 05.06.23",774.12936732766775]
[null,"VOHNOUTOVÁ","Aneta","8.B",214,null,"Jilemnice 12.06.23",830.58262511803605,null,null,135]
[null,"HAVLÍKOVÁ","Michaela","9.A",172,null,"Jilemnice 06.06.23",632.99622285174701,null,168,null,137]
[null,"HOLUBCOVÁ","Sára","9.A",191,null,"Jilemnice 03.03.23",722.38054768649681,null,210,null,177]
[null,"HONCŮ","Tereza","9.A",null,null,null,0,null,190,null,166]
[null,"HORÁČKOVÁ","Kateřina","9.A",220,null,"Jilemnice 06.06.23",858.8092540132202,null,214,null,197]
[null,"JOUDALOVÁ","Daniela","9.A",null,null,null,0,null,null,null,133]
[null,"KLÍMOVÁ","Anna","9.A",203,null,"Jilemnice 06.06.23",778.83380547686511,null,182,null,166]
[null,"KOHOUTOVÁ","Veronika","9.A",187,null,"Jilemnice 06.06.23",703.56279508970738,null,180]
[null,"KOVÁŘOVÁ","Viktorie","9.A",199,null,"Jilemnice 06.06.23",760.01605288007568,null,191,null,179]
[null,"KYNČLOVÁ","Anna","9.A",212,null,"Jilemnice 12.06.23",821.17374881964133,null,220,null,180]
[null,"MATOUŠOVÁ","Tereza","9.A",null,null,null,0,null,143,null,145]
[null,"MAZÁNKOVÁ","Zuzana","9.A",186,null,"Jilemnice 06.06.23",698.85835694051002,null,null,null,140]
[null,"MORKESOVÁ","Sabrina","9.A",210,null,"Jilemnice 16.06.23",811.76487252124662,null,212,173,199]
[null,"POHOŘALÁ","Alžběta","9.A",210,null,"Jilemnice 06.06.23",811.76487252124662,null,186,null,181]
[null,"SCHOLZOVÁ","Laura","9.A",null,null,null,0,null,140,null,128]
[null,"VÁCLAVÍKOVÁ","Valerie","9.A",201,null,"Jilemnice 06.06.23",769.42492917847039,null,187,139,167]
[null,"ZAPADLOVÁ","Emma","9.A",212,null,"Jilemnice 06.06.23",821.17374881964133,null,185,null,170]
[null,"ŽIŠKOVÁ","Mia","9.A",null,null,null,0,null,null,null,181]
[null,"FARSKÁ","Tereza","9.B",null,null,null,0,null,null,128]
[null,"FEIXOVÁ","Rozálie","9.B",null,null,null,0,null,null,null,115]
[null,"FIŠEROVÁ","Michaela","9.B",null,null,null,0,null,null,null,154]
[null,"HAVLÍČKOVÁ","Kristýna","9.B",null,null,null,0]
[null,"KADAVÁ","Nikola","9.B",null,null,null,0,null,null,null,128]
[null,"KŘIVINKOVÁ","Alžběta","9.B",null,null,null,0,null,null,null,179]
[null,"LEŠÁKOVÁ","Lenka","9.B",null,null,null,0,null,null,null,135]
[null,"NYKLÍČKOVÁ","Adéla","9.B",null,null,null,0,null,null,null,195]
[null,"PLŮCHOVÁ","Petra","9.B",null,null,null,0,null,null,null,164]
[null,"PODZIMKOVÁ","Eliška","9.B",null,null,null,0,null,null,null,155]
[null,"RUTKAYOVÁ","Klára","9.B",null,null,null,0,null,null,null,165]
[null,"SEIDLOVÁ","Zuzana","9.B",null,null,null,0,null,null,139,150]
[null,"TOMÁŠOVÁ","Sára","9.B",null,null,null,0,null,null,null,121]
[null,"VANCLOVÁ","Barbora","9.B",null,null,null,0]
[null,"VOTOČKOVÁ","Veronika","9.B",null,null,null,0,null,null,null,131]

{"sheet":"Drepre","index":20,"n_rows":102,"n_cols":22,"rows_kept":102,"cut":false,"hidden":false,"merged":[]}
[]
[null,null,null,null,null,"OF","OF","OF ","OKRSEK",null,"OF","KF","okrsek","OF","OF","of BASK "," KF","OF","JIL ","OF ","štaf","OVVO "]
[null,null,null,null,"CELKEM","4boj","přespole","PLAV","FLORB","   ŠTAF","FLORB","PLAV","kopaná","fotbal","and 1","8.-9.","bask","VOLEJ","laťka","PoRo",null,"OF"]
[null,"FARSKÁ","Anna","6.A",{"$f":"SUM(F4:V4)","v":125},null,50,null,25,null,null,null,null,null,null,null,null,null,null,50]
[null,"FARSKÁ","Eliška","6.A",75,null,50,null,25]
[null,"FEDORKOVÁ","Denisa","6.A",0]
[null,"HAUZEROVÁ","Tereza","6.A",0]
[null,"JOSKOVÁ","Ellen","6.A",75,null,null,null,25,null,null,null,null,null,null,null,null,null,null,50]
[null,"KUŽELOVÁ","Amálie","6.A",0]
[null,"RYŠAVÁ","Amálie","6.A",0]
[null,"BANGOVÁ","Zuzana","6.B",0]
[null,"HOLUBOVÁ","Denisa","6.B",0]
[null,"HURKALO","Karolina","6.B",0]
[null,"HUTNIK-MAMONOVA","Nana","6.B",0]
[null,"MARINOVA","Darja","6.B",0]
[null,"NYKLÍČKOVÁ","Klára","6.B",0]
[null,"PANCHAYEVA","Sofiia","6.B",0]
[null,"PIČMANOVÁ","Klára","6.B",0]
[null,"ŠIMŮNKOVÁ","Anežka","6.B",0]
[null,"TRPIŠOVSKÁ","Nela","6.B",25,null,null,null,25]
[null,"HEJRALOVÁ","Natálie","7.A",{"$f":"SUM(F21:V21)","v":75},null,null,null,25,null,null,null,null,null,null,null,null,null,null,50]
[null,"KERLE","Nikita","7.A",225,100,50,null,25,null,null,null,null,null,null,null,null,null,null,50]
[null,"MUNZAROVÁ","Aneta","7.A",0]
[null,"PACLÍKOVÁ","Markéta","7.A",175,100,null,null,25,null,null,null,null,null,null,null,null,null,null,50]
[null,"PLŮCHOVÁ","Michaela","7.A",225,100,50,null,25,null,null,null,null,null,null,null,null,null,null,50]
[null,"ŠERCLOVÁ","Nikola","7.A",25,null,null,null,25]
[null,"VÁCLAVÍKOVÁ","Alena","7.A",25,null,null,null,25]
[null,"DUCHÁČKOVÁ","Tereza","7.B",0]
[null,"FLAŠKOVÁ","Anna Sabriel","7.B",0]
[null,"HAASOVÁ","Julie","7.B",50,50]
[null,"HEGROVÁ","Štěpánka","7.B"]
[null,"HOBLOVÁ","Barbora","7.B",0]
[null,"HORÁČKOVÁ","Valérie","7.B",125,50,null,null,25,null,null,null,null,null,null,null,null,null,null,50]
[null,"JIRANOVÁ","Anežka","7.B",25,null,null,null,25]
[null,"KRČÍKOVÁ","Beatrix","7.B",225,100,50,null,25,null,null,null,null,null,null,null,null,null,null,50]
[null,"KUBÁTOVÁ","Veronika","7.B",0]
[null,"LENČEŠOVÁ","Silvie","7.B",0]
[null,"LUKEŠOVÁ","Lucie","7.B"]
[null,"MATERNOVÁ","Lenka","7.B",50,null,null,null,null,null,null,null,null,null,null,null,null,null,null,50]
[null,"TÓTHOVÁ","Viktorie","7.B",0]
[null,"DUONG","Ngoc Linh","8.A",{"$f":"SUM(F41:V41)","v":125},null,null,null,null,null,50,null,null,null,null,null,75]
[null,"GINGALOVÁ","Linda","8.A",75,null,null,null,25,null,null,null,null,null,null,null,null,null,null,50]
[null,"HOFMANOVÁ ","Nicol","8.A",0]
[null,"HOLEŠOVSKÁ","Aneta","8.A",25,null,null,null,25]
[null,"HOLUBCOVÁ","Alena","8.A",200,null,null,null,25,null,50,null,null,null,null,null,75,null,null,50]
[null,"KOHOUTOVÁ","Anna","8.A",0]
[null,"KRAUSOVÁ","Anežka","8.A",25,null,null,null,25]
[null,"KUŽELOVÁ","Apoléna","8.A",0]
[null,"MORÁVKOVÁ","Lucie","8.A",0]
[null,"SKLENÁROVÁ","Eliška","8.A",0]
[null,"ŠEJNOVÁ","Karolína","8.A",0]
[null,"ŠTOLFOVÁ","Tereza","8.A",0]
[null,"ŠUBÍKOVÁ","Klára","8.A",75,null,null,null,25,null,null,null,null,null,null,null,null,null,null,50]
[null,"ŠULKOVSKÁ","Klára","8.A",25,null,null,null,25]
[null,"TULÁČKOVÁ","Natálie","8.A",0]
[null,"VOJTÍŠKOVÁ","Ella","8.A",75,null,null,null,25,null,null,null,null,null,null,null,null,null,null,50]
[null,"DRUGÁČOVÁ","Kristinka","8.B",0]
[null,"FAJSTAVROVÁ","Karolína","8.B",350,100,50,null,25,null,50,null,null,null,null,null,75,null,null,50]
[null,"FAJSTAVROVÁ","Magdaléna","8.B",250,null,50,null,25,null,50,null,null,null,null,null,75,null,null,50]
[null,"JINDROVÁ","Barbora","8.B",25,null,null,null,25]
[null,"MAŘASOVÁ","Vendula","8.B",25,null,null,null,25]
[null,"PETŘÍČKOVÁ","Natálie","8.B",75,null,null,null,25,null,null,null,null,null,null,null,null,null,null,50]
[null,"PETŘÍKOVÁ","Adéla","8.B",0]
[null,"REGÁLOVÁ","Karolína","8.B",25,null,null,null,25]
[null,"RIEGROVÁ","Magdaléna","8.B",0]
[null,"RYBENSKÁ","Sabina","8.B",0]
[null,"STEINEROVÁ","Barbora","8.B",0]
[null,"ŠERCLOVÁ","Andrea","8.B",0]
[null,"TOMEŠOVÁ","Barbora","8.B",0]
[null,"VOHNOUTOVÁ","Aneta","8.B",100,50,null,null,null,null,null,null,null,null,null,null,null,null,null,50]
[null,"HAVLÍKOVÁ","Michaela","9.A",0]
[null,"HOLUBCOVÁ","Sára","9.A",200,null,50,null,25,null,50,null,null,null,null,null,75]
[null,"HONCŮ","Tereza","9.A",0]
[null,"HORÁČKOVÁ","Kateřina","9.A",225,100,null,null,null,null,50,null,null,null,null,null,75]
[null,"JOUDALOVÁ","Daniela","9.A",0]
[null,"KLÍMOVÁ","Anna","9.A",0]
[null,"KOHOUTOVÁ","Veronika","9.A",200,null,50,null,25,null,50,null,null,null,null,null,75]
[null,"KOVÁŘOVÁ","Viktorie","9.A",25,null,null,null,25]
[null,"KYNČLOVÁ","Anna","9.A",250,50,50,null,25,null,50,null,null,null,null,null,75]
[null,"MATOUŠOVÁ","Tereza","9.A",25,null,null,null,25]
[null,"MAZÁNKOVÁ","Zuzana","9.A",0]
[null,"MORKESOVÁ","Sabrina","9.A",250,100,null,null,25,null,50,null,null,null,null,null,75]
[null,"POHOŘALÁ","Alžběta","9.A",150,null,null,null,25,null,50,null,null,null,null,null,75]
[null,"SCHOLZOVÁ","Laura","9.A",0]
[null,"VÁCLAVÍKOVÁ","Valerie","9.A",200,50,null,null,25,null,50,null,null,null,null,null,75]
[null,"ZAPADLOVÁ","Emma","9.A",250,50,50,null,25,null,50,null,null,null,null,null,75]
[null,"ŽIŠKOVÁ","Mia","9.A",{"$f":"SUM(F87:V87)","v":25},null,null,null,25]
[null,"FARSKÁ","Tereza","9.B",0]
[null,"FEIXOVÁ","Rozálie","9.B",0]
[null,"FIŠEROVÁ","Michaela","9.B",25,null,null,null,25]
[null,"HAVLÍČKOVÁ","Kristýna","9.B",0]
[null,"KADAVÁ","Nikola","9.B",0]
[null,"KŘIVINKOVÁ","Alžběta","9.B",0]
[null,"LEŠÁKOVÁ","Lenka","9.B",0]
[null,"NYKLÍČKOVÁ","Adéla","9.B",25,null,null,null,25]
[null,"PLŮCHOVÁ","Petra","9.B",25,null,null,null,25]
[null,"PODZIMKOVÁ","Eliška","9.B",0]
[null,"RUTKAYOVÁ","Klára","9.B",0]
[null,"SEIDLOVÁ","Zuzana","9.B",0]
[null,"TOMÁŠOVÁ","Sára","9.B",{"$f":"SUM(F100:V100)","v":0}]
[null,"VANCLOVÁ","Barbora","9.B",{"$f":"SUM(F101:V101)","v":0}]
[null,"VOTOČKOVÁ","Veronika","9.B",{"$f":"SUM(F102:V102)","v":0}]

{"sheet":"Drekordy","index":21,"n_rows":36,"n_cols":15,"rows_kept":36,"cut":false,"hidden":false,"merged":[]}
["REKORDY SPORTOVCE ŠKOLY",null,null,null,null,null,null,"6.  ročník",null,"REKORDY SPORTOVCE ŠKOLY",null,null,null,null,"7.  ročník"]
[" ",null,null,null,null,null,null,{"$f":"TODAY()","v":"2023-06-26"},null,null,null,null,null,null,{"$f":"TODAY()","v":"2023-06-26"}]
["   60  m",null,null,"PRCHLÍKOVÁ","Lenka",8.6,null,"Turnov 08.06.11",null,"   60  m","HOLCOVÁ","Kristina",8.3000000000000007,null,"Turnov 29.05.07"]
[" 300  m",null,null,"JUNGOVÁ ","Lucie","00:00:53.350",null,"Jilemnice 05.06.18",null," 300  m","JUNGOVÁ ","Lucie","00:00:51.060",null,"Jilemnice  22.10.18"]
[" 800  m",null,null,"NOVÁKOVÁ","Lucie","00:02:52.700",null,"Turnov 11.06.10",null," 800  m","TROJANOVÁ","Hana","00:02:38.890",null,"Turnov 14.06.13"]
["dálka",null,null,"MÁČKOVÁ","Pavla",409," ","Jilemnice 18.06.09"," ","dálka","HOLCOVÁ","Kristina",448,null,"Turnov 10.05.07"]
["výška",null,null,"MÁČKOVÁ","Pavla",135,null,"Turnov 16.06.09",null,"výška","SVOBODOVÁ","Kristýna",135,null,"Jilemnice 26.04.12"]
["míček",null,null,"SPROSTÁ","Karolína",44,null,"Turnov 18.05.09",null,"míček","SPROSTÁ","Karolína",46,null,"Jilemnice 08.10.09"]
["koule  3",null,null,"MAREŠOVÁ","Tereza",6.85,null,"Jilemnice 13.06.07",null,"koule  3","MENDŘICKÁ","Marta",9.0399999999999991,null,"Jilemnice 28.04.10"]
["člunk. běh",null,null,"NECHANICKÁ","Natálie",10.65,null,"Jilemnice 13.02.15",null,"člunk. běh","RYŠAVÁ","Kateřina",10.130000000000001,null,"Jilemnice 13.11.15"]
["lehsedy",null,null,"ŠUPOVÁ","Nikola",60,null,"Jilemnice 30.03.15",null,"lehsedy","MÁČKOVÁ","Pavla",55,null,"Jilemnice 22.04.10"]
["odbíjení",null,null,"HRUBÁ","Martina",280,null,"Jilemnice 03.12.09",null,"odbíjení","MÁČKOVÁ","Denisa",649,null,"Jilemnice 07.04.10"]
[null,null,null," ",null,null,null,null,null,null,"MÁČKOVÁ","Pavla",649,null,"Jilemnice 07.04.10"]
["plavání 25 m",null,null,"RYPLOVÁ","Adéla",15.4,null,"Jilemnice 21.12.06",null,"plavání 25 m","MÁČKOVÁ","Denisa",15.3,null,"Jilemnice 12.04.10"]
["šplh",null,null,"URBANOVÁ","Nikola",4.7300000000000004,null,"Jilemnice 15.04.13",null,"šplh","VOTOČKOVÁ ","Nikola",3.64,null,"Jilemnice  06.05.19"]
["švihadlo",null,null,"PRCHLÍKOVÁ","Lenka",165,null,"Jilemnice 07.03.11",null,"švihadlo","PRCHLÍKOVÁ","Lenka",154,null,"Jilemnice 08.03.12"]
["z místa",null,null,"HONCŮ","Rozálie",207,null,"Jilemnice 05.06.19",null,"z místa","JANATOVÁ","Nikola",225,null,"Jilemnice 26.05.16"]
[]
["REKORDY SPORTOVCE ŠKOLY",null,null,null,null,null,null,"8.  ročník",null,"REKORDY SPORTOVCE ŠKOLY",null,null,null,null,"9.  ročník"]
[null,null,null,null,null,null,null,{"$f":"TODAY()","v":"2023-06-26"},null,null,null,null,null,null,{"$f":"TODAY()","v":"2023-06-26"}]
["   60  m",null,null,"HOLCOVÁ","Kristina",8.1,null,"Turnov 13.05.08",null,"   60  m","PAVLOUSKOVÁ","Lenka",8.3000000000000007,null,"Turnov 19.05.10"]
[null,null,null,null,null,null,null,null,null,null,"HOLCOVÁ","Kristina",8.3000000000000007,null,"Turnov 07.05.09"]
[" 300  m",null,null,"FRKOVÁ","Dita","00:00:47.200",null,"Turnov 11.06.10",null," 300  m","VRBINIAKOVÁ","Šárka","00:00:47.500",null,"Turnov 16.06.09"]
[" 800  m",null,null,"TROJANOVÁ","Hana","00:02:35.300",null,"Turnov 14.05.14",null," 800  m","TROJANOVÁ","Hana","00:02:31.570",null,"Turnov 13.05.15"]
["dálka",null,null,"PRCHLÍKOVÁ","Lenka",463,null,"Jablonné vP.27.05.13",null,"dálka","HOLCOVÁ","Kristina",481,null,"Jilemnice 26.09.08"]
["výška",null,null,"KAVANOVÁ","Michaela",143,null,"Turnov 21.09.17",null,"výška","KYNČLOVÁ","Anna",142,null,"Turnov 11.05.23"]
["míček",null,null,"MÁČKOVÁ","Denisa",46.5,null,"Jilemnice 07.10.10",null,"míček","SPROSTÁ","Karolína",48,null,"Jilemnice 05.10.11"]
["koule  3",null,null,"HOLCOVÁ","Kristina",8.75,null,"Jilemnice 31.10.07",null,"koule  3","HOLCOVÁ","Kristina",9.15,null,"Jilemnice 29.09.08"]
["člunk. běh",null,null,"PRCHLÍKOVÁ","Lenka",10.17,null,"Jilemnice 07.12.12",null,"člunk. běh","PRCHLÍKOVÁ","Lenka",9.98,null,"Jilemnice 22.11.13"]
["lehsedy",null,null,"MÁČKOVÁ","Pavla",56,null,"Jilemnice 20.10.10",null,"lehsedy","RYŠAVÁ","Kateřina",57,null,"Jilemnice 17.05.18"]
["odbíjení",null,null,"MÁČKOVÁ","Denisa",2043,null,"Jilemnice 07.03.11",null,"odbíjení","OUTOLNÁ","Kateřina",1598,null,"Jilemnice 03.05.10"]
[null,null,null,"MÁČKOVÁ","Pavla",2043,null,"Jilemnice 07.03.11",null,null,"PAVLOUSKOVÁ","Lenka",1598,null,"Jilemnice 03.05.10"]
["plavání 25 m",null,null,"RYPLOVÁ","Adéla",15.6,null,"Jilemnice 18.12.08",null,"plavání 25 m","ŠÍROVÁ","Lucie",16.2,null,"Jilemnice 18.12.08"]
["šplh",null,null,"URBANOVÁ","Nikola",4.42,null,"Jilemnice 27.02.15",null,"šplh","NOSKOVÁ","Gabriela",4.13,null,"Jilemnice 24.02.12"]
["švihadlo",null,null,"JOHANOVÁ","Adéla",171,null,"Jilemnice 03.03.14",null,"švihadlo","KOHOUTOVÁ","Veronika",184,null,"Jilemnice 03.03.23"]
["z místa",null,null,"STEINEROVÁ","Barbora",230,null,"Jilemnice 05.06.23",null,"z místa","HOLCOVÁ","Kristina",223,null,"Jilemnice 12.01.09"]

{"sheet":"Dvýk","index":22,"n_rows":0,"n_cols":0,"rows_kept":0,"cut":false,"hidden":false,"merged":[]}