{"text_format":"1","workbook":"xlsx","n_sheets":28,"sheets":["HOME","TVOJE","TVOJE2","FOTO","CH15","ROČ","60","300","1000","DÁLKA","VÝŠKA","MÍČEK","KOULE","OŠTĚP","ČLUNEK","LEHSED","ODBÍJENÍ","PLAVÁNÍ","SHYBY","ŠPLH","ŠVIHADLO","Z MÍSTA","REPRE","VÝK","rekordy","press","week","%SPLNĚNO"],"not_rendered":{"charts":0,"images":0,"macros":1,"external_links":0,"defined_names":4,"comments":0,"pivot_tables":0},"unopened":[],"bounds":{"document_bytes":16777216,"sheet_cells":100000,"rows_first":2000,"rows_last":500,"rows_between":2000,"halvings":0,"cell_chars":16384,"cell_head_chars":4096},"cells_cut":0,"cells_raw":0,"read":"whole","date_system":"1900"}

{"sheet":"HOME","index":0,"n_rows":25,"n_cols":2,"rows_kept":25,"cut":false,"hidden":false,"merged":[[0,0,0,3],[8,1,8,3]]}
["CHLAPCI"]
[]
[]
[]
[]
[]
[]
[]
[null,"DISCIPLÍNY"]
[]
[]
[]
[]
[]
[]
[]
[]
[]
[]
[]
[]
[]
[]
[]
[null," "]

{"sheet":"TVOJE","index":1,"n_rows":1,"n_cols":23,"rows_kept":1,"cut":false,"hidden":false,"merged":[]}
[null,"6.A",null,null,"6.B",null,null,"7.A",null,null,"7.B",null,null,"8.A",null,null,"8.B",null,null,"8.B",null,null,"9.A"]

{"sheet":"TVOJE2","index":2,"n_rows":34,"n_cols":11,"rows_kept":34,"cut":false,"hidden":false,"merged":[]}
[null,null,null,null,null,null,null,null,","]
[]
[null,null,null,null,null,null,"body",null,"21  - 22","20  - 21","19  - 20"]
[null,null,"60 m"]
[]
[null,null,"300 m"]
[]
[null,null,"1000 m"]
[]
[null,null,"dálka"]
[]
[null,null,"výška"]
[]
[null,null,"míček"]
[]
[null,null,"koule"]
[]
[null,null,"oštěp"]
[]
[null,null,"člunek"]
[]
[null,null,"lehsed"]
[]
[null,null,"odbíjení"]
[]
[null,null,"plavání"]
[]
[null,null,"shyby"]
[]
[null,null,"šplh"]
[]
[null,null,"švihadlo"]
[]
[" ",null,"z místa"]

{"sheet":"FOTO","index":3,"n_rows":20,"n_cols":6,"rows_kept":20,"cut":false,"hidden":false,"merged":[[1,1,1,2]]}
[]
[null,"PRO  ZOBRAZENÍ  FOTOGRAFIÍ  JE  TŘEBA  PŘÍSTUP  K  INTERNETU"]
[]
[]
[null,null,null,null,"DALŠÍ  SPORTOVNÍ  AKCE"]
[]
[null,2020,"VYHLÁŠENÍ  SE  NEUSKUTEČNILO",null,"10.12.2019  OF  FLORBAL  STARŠÍ ŽÁCI","13.11.2019  OF  PLAVÁNÍ    JILEMNICE"]
[null,null,null,null,"19.12.2019  OF  FLORBAL ML.ŽÁCI  JIL.","25.9.2019   JILEMNICKÉ  ŠTAFETY"]
[null,null,null,null,"24. 9.2019  OF  ČTYŘBOJ   TURNOV"]
[]
[null,2019,"VYHLÁŠENÍ  SPORTOVCE  ŠKOLY     13. ROČNÍK",null,"6. 12. 2018  OF  FLORBAL  6.-7. ROČ","14.11.2018  OF  PLAVÁNÍ  JILEMNICE"]
[null,null,null,null,"26. 9.2018  OF  ČTYŘBOJ  TURNOV"]
[null,2018,"VYHLÁŠENÍ  SPORTOVCE  ŠKOLY     12. ROČNÍK"]
[]
[null,2017,"VYHLÁŠENÍ  SPORTOVCE  ŠKOLY     11. ROČNÍK"]
[]
[null,2016,"VYHLÁŠENÍ  SPORTOVCE  ŠKOLY     10. ROČNÍK",null,"11. 5. 2016  POHÁR  ROZHLASU  TURNOV"]
[]
[]
[null,null,"průběžně budu přídávat další"]

{"sheet":"CH15","index":4,"n_rows":117,"n_cols":24,"rows_kept":117,"cut":false,"hidden":false,"merged":[]}
[null,null,"T O P     1 5",null,null,null,null,null,null,null,null,null,null,null,null,null,null,null,"stav  k ",null,{"$f":"TODAY()","v":"2023-06-26"}]
[]
[null,null,null,null,null,"60  m  ","300m","1000m","dálka","výška","míček","koule","člunek","lehsed","odbíjení ","plavání","šplh","švihadlo","z místa"," REPRE","       CELKEM"]
[]
["1.",{"$f":"B35","v":"HONCŮ"},"Filip","6.A",null,577.80956486567152,0,0,558.71399999999994,525.40000000000009,0,392.77777777777777,647.57677290322579,437.5,0,0,0,0,0,25,3164.7781155466751]
["2.",{"$f":"B36","v":"JÍLEK"},"Lukáš","6.A",null,0,0,0,0,0,0,0,0,0,0,0,0,0,0,0,0]
["3.",{"$f":"B37","v":"KUČERA"},"Tadeáš","6.A",null,636.02085455462191,0,671.13461525630532,567.60599999999999,525.40000000000009,200,427.22222222222223,714.12001578210504,500,56,0,309.37869411961907,400,566.19999999999993,75,5648.0824019348738]
["4.",{"$f":"B38","v":"ROZUMEK"},"Lukáš","6.A",null,592.01908993846155,0,0,444.6,0,387.5,508.88888888888886,583.87000074186483,375,0,0,0,500,0,0,3391.8779795692153]
["5.",{"$f":"B39","v":"ŘEHOŘEK"},"Marek","6.A",null,627.42546852892565,0,0,0,439.6,287.5,0,0,312.5,0,0,0,387.5,608,25,2687.5254685289256]
["6.",{"$f":"B40","v":"ŘÍHA"},"Tadeáš","6.A",null,649.46966975862074,0,0,708.39599999999996,639.80000000000007,525.75,550,721.42660084582849,400,56,631.02190363728323,0,493.75,714.4,50,6140.0141742417327]
["7.",{"$f":"B41","v":"SKRBEK"},"Richard","6.A",null,649.46966975862074,0,0,580.94399999999996,468.2000000000001,0,490,603.03986398763539,325,0,0,0,193.75,0,0,3310.403533746256]
["8.",{"$f":"B42","v":"ŠIMEK"},"Erik","6.A",null,705.35696849523811,0,0,0,697,462.5,590,705.9736758201509,537.5,0,0,449.34095750648885,506.25,0,0,4653.9216018218776]
["9.",{"$f":"B43","v":"ŠÍR"},"Jan","6.A",null,678.56801538181821,0,0,583.90800000000002,611.20000000000005,325,483.33333333333331,650.95984830396742,375,0,0,341.49409255359996,587.5,0,0,4636.9632895727191]
["10.",{"$f":"B44","v":"ŠÍR"},"Stanislav","6.A",null,654.10853645217389,0,0,0,525.40000000000009,425,404.44444444444446,669.79140203795225,425,0,0,437.18591006004294,468.75,0,0,4009.6802929946134]
["11.",{"$f":"B45","v":"ŠPINAR"},"František","6.A",null,592.01908993846155,0,0,499.43399999999997,525.40000000000009,337.5,486.11111111111109,538.92519685615855,0,0,457.6656968758993,0,0,0,0,3437.0550947816305]
["12.",{"$f":"B46","v":"TOTH"},"Mikuláš","6.A",null,615.05227170967737,0,0,0,525.40000000000009,356.25,0,571.28398423010719,537.5,0,0,0,568.75,0,0,3174.2362559397848]
["13.",{"$f":"B47","v":"WEISZLEMLEIN"},"Adam","6.A",null,631.68734743333334,0,0,466.83,0,0,0,587.83432909932026,0,0,0,0,0,596.6,0,2282.9516765326534]
["14.",{"$f":"B48","v":"ČERNÝ"},"Filip","6.B",null,0,0,0,0,0,0,0,0,0,0,0,0,0,0,0,0]
["15.",{"$f":"B49","v":"GINGAL"},"Patrik","6.B",null,688.98594159259255,0,0,0,0,406.25,0,650.1129287613403,375,0,0,0,0,0,0,2120.3488703539329]
[]
[]
[]
[]
[]
[]
[]
[]
[]
[]
[]
[]
[]
[]
[null,null,null,null,null,"60  m  ","300m","1000m","dálka","výška","míček","koule","člunek","lehsed","odbíjení ","plavání","šplh","švihadlo","z místa"," REPRE","   CELKEM"]
[null,{"$f":"'60'!B101","v":"HONCŮ"},{"$f":"'60'!C101","v":"Filip"},{"$f":"'60'!D101","v":"6.A"},null,{"$f":"'60'!H101","v":577.80956486567152},{"$f":"'300'!H101","v":0},{"$f":"'1000'!H101","v":0},{"$f":"DÁLKA!H101","v":558.71399999999994},{"$f":"VÝŠKA!H101","v":525.40000000000009},{"$f":"MÍČEK!H101","v":0},{"$f":"KOULE!H101","v":392.77777777777777},{"$f":"ČLUNEK!H101","v":647.57677290322579},{"$f":"LEHSED!H101","v":437.5},{"$f":"ODBÍJENÍ!H101","v":0},{"$f":"PLAVÁNÍ!H101","v":0},{"$f":"ŠPLH!H101","v":0},{"$f":"ŠVIHADLO!H101","v":0},{"$f":"'Z MÍSTA'!H101","v":0},{"$f":"REPRE!E4","v":25},{"$f":"SUM(F35:T35)","v":3164.7781155466751},null,{"$f":"FREQUENCY(F35:S35,0)","v":8}]
[null,{"$f":"'60'!B102","v":"JÍLEK"},{"$f":"'60'!C102","v":"Lukáš"},{"$f":"'60'!D102","v":"6.A"},null,{"$f":"'60'!H102","v":0},{"$f":"'300'!H102","v":0},{"$f":"'1000'!H102","v":0},{"$f":"DÁLKA!H102","v":0},{"$f":"VÝŠKA!H102","v":0},{"$f":"MÍČEK!H102","v":0},{"$f":"KOULE!H102","v":0},{"$f":"ČLUNEK!H102","v":0},{"$f":"LEHSED!H102","v":0},{"$f":"ODBÍJENÍ!H102","v":0},{"$f":"PLAVÁNÍ!H102","v":0},{"$f":"ŠPLH!H102","v":0},{"$f":"ŠVIHADLO!H102","v":0},{"$f":"'Z MÍSTA'!H102","v":0},{"$f":"REPRE!E5","v":0},0,null,14]
[null,{"$f":"'60'!B103","v":"KUČERA"},{"$f":"'60'!C103","v":"Tadeáš"},{"$f":"'60'!D103","v":"6.A"},null,{"$f":"'60'!H103","v":636.02085455462191},{"$f":"'300'!H103","v":0},{"$f":"'1000'!H103","v":671.13461525630532},{"$f":"DÁLKA!H103","v":567.60599999999999},{"$f":"VÝŠKA!H103","v":525.40000000000009},{"$f":"MÍČEK!H103","v":200},{"$f":"KOULE!H103","v":427.22222222222223},{"$f":"ČLUNEK!H103","v":714.12001578210504},{"$f":"LEHSED!H103","v":500},{"$f":"ODBÍJENÍ!H103","v":56},{"$f":"PLAVÁNÍ!H103","v":0},{"$f":"ŠPLH!H103","v":309.37869411961907},{"$f":"ŠVIHADLO!H103","v":400},{"$f":"'Z MÍSTA'!H103","v":566.19999999999993},{"$f":"REPRE!E6","v":75},5648.0824019348738,null,2]
[null,{"$f":"'60'!B104","v":"ROZUMEK"},{"$f":"'60'!C104","v":"Lukáš"},{"$f":"'60'!D104","v":"6.A"},null,{"$f":"'60'!H104","v":592.01908993846155},{"$f":"'300'!H104","v":0},{"$f":"'1000'!H104","v":0},{"$f":"DÁLKA!H104","v":444.6},{"$f":"VÝŠKA!H104","v":0},{"$f":"MÍČEK!H104","v":387.5},{"$f":"KOULE!H104","v":508.88888888888886},{"$f":"ČLUNEK!H104","v":583.87000074186483},{"$f":"LEHSED!H104","v":375},{"$f":"ODBÍJENÍ!H104","v":0},{"$f":"PLAVÁNÍ!H104","v":0},{"$f":"ŠPLH!H104","v":0},{"$f":"ŠVIHADLO!H104","v":500},{"$f":"'Z MÍSTA'!H104","v":0},{"$f":"REPRE!E7","v":0},3391.8779795692153,null,7]
[null,{"$f":"'60'!B105","v":"ŘEHOŘEK"},{"$f":"'60'!C105","v":"Marek"},{"$f":"'60'!D105","v":"6.A"},null,{"$f":"'60'!H105","v":627.42546852892565},{"$f":"'300'!H105","v":0},{"$f":"'1000'!H105","v":0},{"$f":"DÁLKA!H105","v":0},{"$f":"VÝŠKA!H105","v":439.6},{"$f":"MÍČEK!H105","v":287.5},{"$f":"KOULE!H105","v":0},{"$f":"ČLUNEK!H105","v":0},{"$f":"LEHSED!H105","v":312.5},{"$f":"ODBÍJENÍ!H105","v":0},{"$f":"PLAVÁNÍ!H105","v":0},{"$f":"ŠPLH!H105","v":0},{"$f":"ŠVIHADLO!H105","v":387.5},{"$f":"'Z MÍSTA'!H105","v":608},{"$f":"REPRE!E8","v":25},2687.5254685289256,null,8]
[null,{"$f":"'60'!B106","v":"ŘÍHA"},{"$f":"'60'!C106","v":"Tadeáš"},{"$f":"'60'!D106","v":"6.A"},null,{"$f":"'60'!H106","v":649.46966975862074},{"$f":"'300'!H106","v":0},{"$f":"'1000'!H106","v":0},{"$f":"DÁLKA!H106","v":708.39599999999996},{"$f":"VÝŠKA!H106","v":639.80000000000007},{"$f":"MÍČEK!H106","v":525.75},{"$f":"KOULE!H106","v":550},{"$f":"ČLUNEK!H106","v":721.42660084582849},{"$f":"LEHSED!H106","v":400},{"$f":"ODBÍJENÍ!H106","v":56},{"$f":"PLAVÁNÍ!H106","v":631.02190363728323},{"$f":"ŠPLH!H106","v":0},{"$f":"ŠVIHADLO!H106","v":493.75},{"$f":"'Z MÍSTA'!H106","v":714.4},{"$f":"REPRE!E9","v":50},6140.0141742417327,null,3]
[null,{"$f":"'60'!B107","v":"SKRBEK"},{"$f":"'60'!C107","v":"Richard"},{"$f":"'60'!D107","v":"6.A"},null,{"$f":"'60'!H107","v":649.46966975862074},{"$f":"'300'!H107","v":0},{"$f":"'1000'!H107","v":0},{"$f":"DÁLKA!H107","v":580.94399999999996},{"$f":"VÝŠKA!H107","v":468.2000000000001},{"$f":"MÍČEK!H107","v":0},{"$f":"KOULE!H107","v":490},{"$f":"ČLUNEK!H107","v":603.03986398763539},{"$f":"LEHSED!H107","v":325},{"$f":"ODBÍJENÍ!H107","v":0},{"$f":"PLAVÁNÍ!H107","v":0},{"$f":"ŠPLH!H107","v":0},{"$f":"ŠVIHADLO!H107","v":193.75},{"$f":"'Z MÍSTA'!H107","v":0},{"$f":"REPRE!E10","v":0},3310.403533746256,null,7]
[null,{"$f":"'60'!B108","v":"ŠIMEK"},{"$f":"'60'!C108","v":"Erik"},{"$f":"'60'!D108","v":"6.A"},null,{"$f":"'60'!H108","v":705.35696849523811},{"$f":"'300'!H108","v":0},{"$f":"'1000'!H108","v":0},{"$f":"DÁLKA!H108","v":0},{"$f":"VÝŠKA!H108","v":697},{"$f":"MÍČEK!H108","v":462.5},{"$f":"KOULE!H108","v":590},{"$f":"ČLUNEK!H108","v":705.9736758201509},{"$f":"LEHSED!H108","v":537.5},{"$f":"ODBÍJENÍ!H108","v":0},{"$f":"PLAVÁNÍ!H108","v":0},{"$f":"ŠPLH!H108","v":449.34095750648885},{"$f":"ŠVIHADLO!H108","v":506.25},{"$f":"'Z MÍSTA'!H108","v":0},{"$f":"REPRE!E11","v":0},4653.9216018218776,null,6]
[null,{"$f":"'60'!B109","v":"ŠÍR"},{"$f":"'60'!C109","v":"Jan"},{"$f":"'60'!D109","v":"6.A"},null,{"$f":"'60'!H109","v":678.56801538181821},{"$f":"'300'!H109","v":0},{"$f":"'1000'!H109","v":0},{"$f":"DÁLKA!H109","v":583.90800000000002},{"$f":"VÝŠKA!H109","v":611.20000000000005},{"$f":"MÍČEK!H109","v":325},{"$f":"KOULE!H109","v":483.33333333333331},{"$f":"ČLUNEK!H109","v":650.95984830396742},{"$f":"LEHSED!H109","v":375},{"$f":"ODBÍJENÍ!H109","v":0},{"$f":"PLAVÁNÍ!H109","v":0},{"$f":"ŠPLH!H109","v":341.49409255359996},{"$f":"ŠVIHADLO!H109","v":587.5},{"$f":"'Z MÍSTA'!H109","v":0},{"$f":"REPRE!E12","v":0},4636.9632895727191,null,5]
[null,{"$f":"'60'!B110","v":"ŠÍR"},{"$f":"'60'!C110","v":"Stanislav"},{"$f":"'60'!D110","v":"6.A"},null,{"$f":"'60'!H110","v":654.10853645217389},{"$f":"'300'!H110","v":0},{"$f":"'1000'!H110","v":0},{"$f":"DÁLKA!H110","v":0},{"$f":"VÝŠKA!H110","v":525.40000000000009},{"$f":"MÍČEK!H110","v":425},{"$f":"KOULE!H110","v":404.44444444444446},{"$f":"ČLUNEK!H110","v":669.79140203795225},{"$f":"LEHSED!H110","v":425},{"$f":"ODBÍJENÍ!H110","v":0},{"$f":"PLAVÁNÍ!H110","v":0},{"$f":"ŠPLH!H110","v":437.18591006004294},{"$f":"ŠVIHADLO!H110","v":468.75},{"$f":"'Z MÍSTA'!H110","v":0},{"$f":"REPRE!E13","v":0},4009.6802929946134,null,6]
[null,{"$f":"'60'!B111","v":"ŠPINAR"},{"$f":"'60'!C111","v":"František"},{"$f":"'60'!D111","v":"6.A"},null,{"$f":"'60'!H111","v":592.01908993846155},{"$f":"'300'!H111","v":0},{"$f":"'1000'!H111","v":0},{"$f":"DÁLKA!H111","v":499.43399999999997},{"$f":"VÝŠKA!H111","v":525.40000000000009},{"$f":"MÍČEK!H111","v":337.5},{"$f":"KOULE!H111","v":486.11111111111109},{"$f":"ČLUNEK!H111","v":538.92519685615855},{"$f":"LEHSED!H111","v":0},{"$f":"ODBÍJENÍ!H111","v":0},{"$f":"PLAVÁNÍ!H111","v":457.6656968758993},{"$f":"ŠPLH!H111","v":0},{"$f":"ŠVIHADLO!H111","v":0},{"$f":"'Z MÍSTA'!H111","v":0},{"$f":"REPRE!E14","v":0},3437.0550947816305,null,7]
[null,{"$f":"'60'!B112","v":"TOTH"},{"$f":"'60'!C112","v":"Mikuláš"},{"$f":"'60'!D112","v":"6.A"},null,{"$f":"'60'!H112","v":615.05227170967737},{"$f":"'300'!H112","v":0},{"$f":"'1000'!H112","v":0},{"$f":"DÁLKA!H112","v":0},{"$f":"VÝŠKA!H112","v":525.40000000000009},{"$f":"MÍČEK!H112","v":356.25},{"$f":"KOULE!H112","v":0},{"$f":"ČLUNEK!H112","v":571.28398423010719},{"$f":"LEHSED!H112","v":537.5},{"$f":"ODBÍJENÍ!H112","v":0},{"$f":"PLAVÁNÍ!H112","v":0},{"$f":"ŠPLH!H112","v":0},{"$f":"ŠVIHADLO!H112","v":568.75},{"$f":"'Z MÍSTA'!H112","v":0},{"$f":"REPRE!E15","v":0},3174.2362559397848,null,8]
[null,{"$f":"'60'!B113","v":"WEISZLEMLEIN"},{"$f":"'60'!C113","v":"Adam"},{"$f":"'60'!D113","v":"6.A"},null,{"$f":"'60'!H113","v":631.68734743333334},{"$f":"'300'!H113","v":0},{"$f":"'1000'!H113","v":0},{"$f":"DÁLKA!H113","v":466.83},{"$f":"VÝŠKA!H113","v":0},{"$f":"MÍČEK!H113","v":0},{"$f":"KOULE!H113","v":0},{"$f":"ČLUNEK!H113","v":587.83432909932026},{"$f":"LEHSED!H113","v":0},{"$f":"ODBÍJENÍ!H113","v":0},{"$f":"PLAVÁNÍ!H113","v":0},{"$f":"ŠPLH!H113","v":0},{"$f":"ŠVIHADLO!H113","v":0},{"$f":"'Z MÍSTA'!H113","v":596.6},{"$f":"REPRE!E16","v":0},2282.9516765326534,null,10,{"$f":"SUM(V35:W47)","v":91}]
[null,{"$f":"'60'!B114","v":"ČERNÝ"},{"$f":"'60'!C114","v":"Filip"},{"$f":"'60'!D114","v":"6.B"},null,{"$f":"'60'!H114","v":0},{"$f":"'300'!H114","v":0},{"$f":"'1000'!H114","v":0},{"$f":"DÁLKA!H114","v":0},{"$f":"VÝŠKA!H114","v":0},{"$f":"MÍČEK!H114","v":0},{"$f":"KOULE!H114","v":0},{"$f":"ČLUNEK!H114","v":0},{"$f":"LEHSED!H114","v":0},{"$f":"ODBÍJENÍ!H114","v":0},{"$f":"PLAVÁNÍ!H114","v":0},{"$f":"ŠPLH!H114","v":0},{"$f":"ŠVIHADLO!H114","v":0},{"$f":"'Z MÍSTA'!H114","v":0},{"$f":"REPRE!E17","v":0},0,null,14]
[null,{"$f":"'60'!B115","v":"GINGAL"},{"$f":"'60'!C115","v":"Patrik"},{"$f":"'60'!D115","v":"6.B"},null,{"$f":"'60'!H115","v":688.98594159259255},{"$f":"'300'!H115","v":0},{"$f":"'1000'!H115","v":0},{"$f":"DÁLKA!H115","v":0},{"$f":"VÝŠKA!H115","v":0},{"$f":"MÍČEK!H115","v":406.25},{"$f":"KOULE!H115","v":0},{"$f":"ČLUNEK!H115","v":650.1129287613403},{"$f":"LEHSED!H115","v":375},{"$f":"ODBÍJENÍ!H115","v":0},{"$f":"PLAVÁNÍ!H115","v":0},{"$f":"ŠPLH!H115","v":0},{"$f":"ŠVIHADLO!H115","v":0},{"$f":"'Z MÍSTA'!H115","v":0},{"$f":"REPRE!E18","v":0},2120.3488703539329,null,10]
[null,{"$f":"'60'!B116","v":"HLAVÁČEK"},{"$f":"'60'!C116","v":"Josef"},{"$f":"'60'!D116","v":"6.B"},null,{"$f":"'60'!H116","v":772.92655723991504},{"$f":"'300'!H116","v":0},{"$f":"'1000'!H116","v":0},{"$f":"DÁLKA!H116","v":680.23799999999994},{"$f":"VÝŠKA!H116","v":639.80000000000007},{"$f":"MÍČEK!H116","v":362.5},{"$f":"KOULE!H116","v":550},{"$f":"ČLUNEK!H116","v":717.76551075351222},{"$f":"LEHSED!H116","v":587.5},{"$f":"ODBÍJENÍ!H116","v":0},{"$f":"PLAVÁNÍ!H116","v":0},{"$f":"ŠPLH!H116","v":476.44440970933334},{"$f":"ŠVIHADLO!H116","v":937.5},{"$f":"'Z MÍSTA'!H116","v":0},{"$f":"REPRE!E19","v":75},5799.6744777027607,null,5]
[null,{"$f":"'60'!B117","v":"KHUDA"},{"$f":"'60'!C117","v":"Ivan"},{"$f":"'60'!D117","v":"6.B"},null,{"$f":"'60'!H117","v":523.12159007894729},{"$f":"'300'!H117","v":0},{"$f":"'1000'!H117","v":0},{"$f":"DÁLKA!H117","v":0},{"$f":"VÝŠKA!H117","v":468.2000000000001},{"$f":"MÍČEK!H117","v":287.5},{"$f":"KOULE!H117","v":516.66666666666663},{"$f":"ČLUNEK!H117","v":491.29112028806583},{"$f":"LEHSED!H117","v":0},{"$f":"ODBÍJENÍ!H117","v":0},{"$f":"PLAVÁNÍ!H117","v":0},{"$f":"ŠPLH!H117","v":0},{"$f":"ŠVIHADLO!H117","v":0},{"$f":"'Z MÍSTA'!H117","v":0},{"$f":"REPRE!E20","v":0},2286.7793770336798,null,9]
[null,{"$f":"'60'!B118","v":"KRESAN"},{"$f":"'60'!C118","v":"Matěj"},{"$f":"'60'!D118","v":"6.B"},null,{"$f":"'60'!H118","v":531.3186690738255},{"$f":"'300'!H118","v":0},{"$f":"'1000'!H118","v":0},{"$f":"DÁLKA!H118","v":0},{"$f":"VÝŠKA!H118","v":525.40000000000009},{"$f":"MÍČEK!H118","v":212.5},{"$f":"KOULE!H118","v":433.33333333333331},{"$f":"ČLUNEK!H118","v":498.61322550634543},{"$f":"LEHSED!H118","v":250},{"$f":"ODBÍJENÍ!H118","v":0},{"$f":"PLAVÁNÍ!H118","v":0},{"$f":"ŠPLH!H118","v":0},{"$f":"ŠVIHADLO!H118","v":156.25},{"$f":"'Z MÍSTA'!H118","v":0},{"$f":"REPRE!E21","v":0},2607.4152279135042,null,7]
[null,{"$f":"'60'!B119","v":"RYCHTR"},{"$f":"'60'!C119","v":"Vojtěch"},{"$f":"'60'!D119","v":"6.B"},null,{"$f":"'60'!H119","v":595.70916040310078},{"$f":"'300'!H119","v":0},{"$f":"'1000'!H119","v":0},{"$f":"DÁLKA!H119","v":0},{"$f":"VÝŠKA!H119","v":554.00000000000011},{"$f":"MÍČEK!H119","v":400},{"$f":"KOULE!H119","v":0},{"$f":"ČLUNEK!H119","v":643.36504921314895},{"$f":"LEHSED!H119","v":487.5},{"$f":"ODBÍJENÍ!H119","v":0},{"$f":"PLAVÁNÍ!H119","v":0},{"$f":"ŠPLH!H119","v":0},{"$f":"ŠVIHADLO!H119","v":668.75},{"$f":"'Z MÍSTA'!H119","v":0},{"$f":"REPRE!E22","v":25},3374.3242096162498,null,8]
[null,{"$f":"'60'!B120","v":"ŠTAJER"},{"$f":"'60'!C120","v":"David"},{"$f":"'60'!D120","v":"6.B"},null,{"$f":"'60'!H120","v":678.56801538181821},{"$f":"'300'!H120","v":0},{"$f":"'1000'!H120","v":0},{"$f":"DÁLKA!H120","v":0},{"$f":"VÝŠKA!H120","v":668.4},{"$f":"MÍČEK!H120","v":312.5},{"$f":"KOULE!H120","v":606.66666666666663},{"$f":"ČLUNEK!H120","v":670.65666669414668},{"$f":"LEHSED!H120","v":0},{"$f":"ODBÍJENÍ!H120","v":0},{"$f":"PLAVÁNÍ!H120","v":0},{"$f":"ŠPLH!H120","v":0},{"$f":"ŠVIHADLO!H120","v":0},{"$f":"'Z MÍSTA'!H120","v":0},{"$f":"REPRE!E23","v":25},2961.7913487426313,null,9]
[null,{"$f":"'60'!B121","v":"TKACHUK"},{"$f":"'60'!C121","v":"Dzvenyslav"},{"$f":"'60'!D121","v":"6.B"},null,{"$f":"'60'!H121","v":0},{"$f":"'300'!H121","v":0},{"$f":"'1000'!H121","v":0},{"$f":"DÁLKA!H121","v":0},{"$f":"VÝŠKA!H121","v":0},{"$f":"MÍČEK!H121","v":0},{"$f":"KOULE!H121","v":0},{"$f":"ČLUNEK!H121","v":0},{"$f":"LEHSED!H121","v":0},{"$f":"ODBÍJENÍ!H121","v":0},{"$f":"PLAVÁNÍ!H121","v":0},{"$f":"ŠPLH!H121","v":0},{"$f":"ŠVIHADLO!H121","v":0},{"$f":"'Z MÍSTA'!H121","v":0},{"$f":"REPRE!E24","v":0},0,null,14]
[null,{"$f":"'60'!B122","v":"VELIKOVSKÝ"},{"$f":"'60'!C122","v":"Dominik"},{"$f":"'60'!D122","v":"6.B"},null,{"$f":"'60'!H122","v":592.01908993846155},{"$f":"'300'!H122","v":0},{"$f":"'1000'!H122","v":0},{"$f":"DÁLKA!H122","v":0},{"$f":"VÝŠKA!H122","v":496.80000000000007},{"$f":"MÍČEK!H122","v":262.5},{"$f":"KOULE!H122","v":383.33333333333331},{"$f":"ČLUNEK!H122","v":566.60239239358748},{"$f":"LEHSED!H122","v":350},{"$f":"ODBÍJENÍ!H122","v":0},{"$f":"PLAVÁNÍ!H122","v":0},{"$f":"ŠPLH!H122","v":0},{"$f":"ŠVIHADLO!H122","v":162.5},{"$f":"'Z MÍSTA'!H122","v":0},{"$f":"REPRE!E25","v":25},2838.7548156653825,null,7,{"$f":"SUM(W48:W56)","v":83}]
[null,{"$f":"'60'!B123","v":"EXNER"},{"$f":"'60'!C123","v":"Tomáš"},{"$f":"'60'!D123","v":"7.A"},null,{"$f":"'60'!H123","v":756.60540053830221},{"$f":"'300'!H123","v":600.52985504801234},{"$f":"'1000'!H123","v":516.16880046792426},{"$f":"DÁLKA!H123","v":677.274},{"$f":"VÝŠKA!H123","v":611.20000000000005},{"$f":"MÍČEK!H123","v":300},{"$f":"KOULE!H123","v":652.77777777777771},{"$f":"ČLUNEK!H123","v":792.22666349010751},{"$f":"LEHSED!H123","v":550},{"$f":"ODBÍJENÍ!H123","v":64},{"$f":"PLAVÁNÍ!H123","v":0},{"$f":"ŠPLH!H123","v":0},{"$f":"ŠVIHADLO!H123","v":400},{"$f":"'Z MÍSTA'!H123","v":881.59999999999991},{"$f":"REPRE!E26","v":0},6802.3824973221235,null,2]
[null,{"$f":"'60'!B124","v":"JANATA"},{"$f":"'60'!C124","v":"Denis"},{"$f":"'60'!D124","v":"7.A"},null,{"$f":"'60'!H124","v":698.69756772128062},{"$f":"'300'!H124","v":556.14760266872588},{"$f":"'1000'!H124","v":477.37352058798729},{"$f":"DÁLKA!H124","v":666.9},{"$f":"VÝŠKA!H124","v":525.40000000000009},{"$f":"MÍČEK!H124","v":268.75},{"$f":"KOULE!H124","v":441.11111111111109},{"$f":"ČLUNEK!H124","v":769.56047592760183},{"$f":"LEHSED!H124","v":487.5},{"$f":"ODBÍJENÍ!H124","v":128},{"$f":"PLAVÁNÍ!H124","v":0},{"$f":"ŠPLH!H124","v":0},{"$f":"ŠVIHADLO!H124","v":306.25},{"$f":"'Z MÍSTA'!H124","v":570},{"$f":"REPRE!E27","v":0},5895.6902780167065,null,2]
[null,{"$f":"'60'!B125","v":"JINDŘIŠEK"},{"$f":"'60'!C125","v":"Alex Jiří"},{"$f":"'60'!D125","v":"7.A"},null,{"$f":"'60'!H125","v":784.99980207567569},{"$f":"'300'!H125","v":612.4682187502226},{"$f":"'1000'!H125","v":0},{"$f":"DÁLKA!H125","v":646.15200000000004},{"$f":"VÝŠKA!H125","v":0},{"$f":"MÍČEK!H125","v":368.75},{"$f":"KOULE!H125","v":655},{"$f":"ČLUNEK!H125","v":766.65019622944237},{"$f":"LEHSED!H125","v":612.5},{"$f":"ODBÍJENÍ!H125","v":88},{"$f":"PLAVÁNÍ!H125","v":0},{"$f":"ŠPLH!H125","v":0},{"$f":"ŠVIHADLO!H125","v":262.5},{"$f":"'Z MÍSTA'!H125","v":558.6},{"$f":"REPRE!E28","v":125},5480.6202170553406,null,4]
[null,{"$f":"'60'!B126","v":"KAZLEPKA"},{"$f":"'60'!C126","v":"Miroslav"},{"$f":"'60'!D126","v":"7.A"},null,{"$f":"'60'!H126","v":0},{"$f":"'300'!H126","v":0},{"$f":"'1000'!H126","v":0},{"$f":"DÁLKA!H126","v":0},{"$f":"VÝŠKA!H126","v":0},{"$f":"MÍČEK!H126","v":256.25},{"$f":"KOULE!H126","v":0},{"$f":"ČLUNEK!H126","v":505.23959585320699},{"$f":"LEHSED!H126","v":387.5},{"$f":"ODBÍJENÍ!H126","v":0},{"$f":"PLAVÁNÍ!H126","v":0},{"$f":"ŠPLH!H126","v":0},{"$f":"ŠVIHADLO!H126","v":0},{"$f":"'Z MÍSTA'!H126","v":600.4},{"$f":"REPRE!E29","v":0},1749.3895958532071,null,10]
[null,{"$f":"'60'!B127","v":"MARŠÁLEK"},{"$f":"'60'!C127","v":"Ondřej"},{"$f":"'60'!D127","v":"7.A"},null,{"$f":"'60'!H127","v":720.32111027343751},{"$f":"'300'!H127","v":504.02168704681878},{"$f":"'1000'!H127","v":539.29986709380341},{"$f":"DÁLKA!H127","v":511.29},{"$f":"VÝŠKA!H127","v":496.80000000000007},{"$f":"MÍČEK!H127","v":325},{"$f":"KOULE!H127","v":621.66666666666663},{"$f":"ČLUNEK!H127","v":744.67416554016438},{"$f":"LEHSED!H127","v":0},{"$f":"ODBÍJENÍ!H127","v":104},{"$f":"PLAVÁNÍ!H127","v":0},{"$f":"ŠPLH!H127","v":0},{"$f":"ŠVIHADLO!H127","v":175},{"$f":"'Z MÍSTA'!H127","v":0},{"$f":"REPRE!E30","v":0},4742.0734966208911,null,4]
[null,{"$f":"'60'!B128","v":"MLATEČEK"},{"$f":"'60'!C128","v":"Patrik"},{"$f":"'60'!D128","v":"7.A"},null,{"$f":"'60'!H128","v":704.79621019980971},{"$f":"'300'!H128","v":387.50091544086922},{"$f":"'1000'!H128","v":531.59186277221363},{"$f":"DÁLKA!H128","v":646.15200000000004},{"$f":"VÝŠKA!H128","v":582.60000000000014},{"$f":"MÍČEK!H128","v":362.5},{"$f":"KOULE!H128","v":539.44444444444446},{"$f":"ČLUNEK!H128","v":697.01102745374283},{"$f":"LEHSED!H128","v":475},{"$f":"ODBÍJENÍ!H128","v":176},{"$f":"PLAVÁNÍ!H128","v":0},{"$f":"ŠPLH!H128","v":228.54417749142277},{"$f":"ŠVIHADLO!H128","v":0},{"$f":"'Z MÍSTA'!H128","v":604.19999999999993},{"$f":"REPRE!E31","v":0},5935.340637802502,null,2]
[null,{"$f":"'60'!B129","v":"SCHOLZ"},{"$f":"'60'!C129","v":"Matyáš"},{"$f":"'60'!D129","v":"7.A"},null,{"$f":"'60'!H129","v":707.61072363288713},{"$f":"'300'!H129","v":509.30685856233652},{"$f":"'1000'!H129","v":0},{"$f":"DÁLKA!H129","v":659.49},{"$f":"VÝŠKA!H129","v":611.20000000000005},{"$f":"MÍČEK!H129","v":400},{"$f":"KOULE!H129","v":595},{"$f":"ČLUNEK!H129","v":738.09980988088262},{"$f":"LEHSED!H129","v":362.5},{"$f":"ODBÍJENÍ!H129","v":128},{"$f":"PLAVÁNÍ!H129","v":0},{"$f":"ŠPLH!H129","v":0},{"$f":"ŠVIHADLO!H129","v":331.25},{"$f":"'Z MÍSTA'!H129","v":684},{"$f":"REPRE!E32","v":125},5851.4573920761059,null,3]
[null,{"$f":"'60'!B130","v":"TOMÁŠ"},{"$f":"'60'!C130","v":"Jakub"},{"$f":"'60'!D130","v":"7.A"},null,{"$f":"'60'!H130","v":725.67962258128068},{"$f":"'300'!H130","v":628.1260631430963},{"$f":"'1000'!H130","v":658.90870040861341},{"$f":"DÁLKA!H130","v":577.98},{"$f":"VÝŠKA!H130","v":639.80000000000007},{"$f":"MÍČEK!H130","v":331.25},{"$f":"KOULE!H130","v":581.66666666666663},{"$f":"ČLUNEK!H130","v":811.44673620779758},{"$f":"LEHSED!H130","v":562.5},{"$f":"ODBÍJENÍ!H130","v":176},{"$f":"PLAVÁNÍ!H130","v":0},{"$f":"ŠPLH!H130","v":259.86770703405625},{"$f":"ŠVIHADLO!H130","v":537.5},{"$f":"'Z MÍSTA'!H130","v":703},{"$f":"REPRE!E33","v":0},7193.7254960415112,null,1]
[null,{"$f":"'60'!B131","v":"VÁCLAVÍK"},{"$f":"'60'!C131","v":"Jan"},{"$f":"'60'!D131","v":"7.A"},null,{"$f":"'60'!H131","v":733.58963764471059},{"$f":"'300'!H131","v":620.87032056543842},{"$f":"'1000'!H131","v":682.1885589328507},{"$f":"DÁLKA!H131","v":643.18799999999999},{"$f":"VÝŠKA!H131","v":639.80000000000007},{"$f":"MÍČEK!H131","v":337.5},{"$f":"KOULE!H131","v":510.55555555555554},{"$f":"ČLUNEK!H131","v":799.25385923514204},{"$f":"LEHSED!H131","v":550},{"$f":"ODBÍJENÍ!H131","v":88},{"$f":"PLAVÁNÍ!H131","v":0},{"$f":"ŠPLH!H131","v":333.09055405745448},{"$f":"ŠVIHADLO!H131","v":493.75},{"$f":"'Z MÍSTA'!H131","v":718.19999999999993},{"$f":"REPRE!E34","v":225},7374.9864859911513,null,1]
[null,{"$f":"'60'!B132","v":"VEČEŘA"},{"$f":"'60'!C132","v":"David"},{"$f":"'60'!D132","v":"7.A"},null,{"$f":"'60'!H132","v":683.72918983486238},{"$f":"'300'!H132","v":497.72136200161935},{"$f":"'1000'!H132","v":548.44408693125081},{"$f":"DÁLKA!H132","v":600.21},{"$f":"VÝŠKA!H132","v":554.00000000000011},{"$f":"MÍČEK!H132","v":275},{"$f":"KOULE!H132","v":548.33333333333337},{"$f":"ČLUNEK!H132","v":683.73635733630113},{"$f":"LEHSED!H132","v":400},{"$f":"ODBÍJENÍ!H132","v":56},{"$f":"PLAVÁNÍ!H132","v":0},{"$f":"ŠPLH!H132","v":0},{"$f":"ŠVIHADLO!H132","v":200},{"$f":"'Z MÍSTA'!H132","v":547.19999999999993},{"$f":"REPRE!E35","v":0},5594.3743294373671,null,2]
[null,{"$f":"'60'!B133","v":"VYBÍRAL"},{"$f":"'60'!C133","v":"Radim"},{"$f":"'60'!D133","v":"7.A"},null,{"$f":"'60'!H133","v":820.01003062571112},{"$f":"'300'!H133","v":724.20623426707698},{"$f":"'1000'!H133","v":736.26632627716003},{"$f":"DÁLKA!H133","v":770.64},{"$f":"VÝŠKA!H133","v":679.84000000000015},{"$f":"MÍČEK!H133","v":443.75},{"$f":"KOULE!H133","v":592.22222222222217},{"$f":"ČLUNEK!H133","v":862.20664456486031},{"$f":"LEHSED!H133","v":787.5},{"$f":"ODBÍJENÍ!H133","v":788.4},{"$f":"PLAVÁNÍ!H133","v":0},{"$f":"ŠPLH!H133","v":510.56215305524188},{"$f":"ŠVIHADLO!H133","v":687.5},{"$f":"'Z MÍSTA'!H133","v":760},{"$f":"REPRE!E36","v":225},{"$f":"SUM(F67:T67)","v":9388.1036110122732},null,1,{"$f":"SUM(W57:W67)","v":32}]
[null,{"$f":"'60'!B134","v":"BERISHA"},{"$f":"'60'!C134","v":"David"},{"$f":"'60'!D134","v":"7.B"},null,{"$f":"'60'!H134","v":0},{"$f":"'300'!H134","v":0},{"$f":"'1000'!H134","v":0},{"$f":"DÁLKA!H134","v":0},{"$f":"VÝŠKA!H134","v":0},{"$f":"MÍČEK!H134","v":225},{"$f":"KOULE!H134","v":0},{"$f":"ČLUNEK!H134","v":501.55395131681468},{"$f":"LEHSED!H134","v":0},{"$f":"ODBÍJENÍ!H134","v":0},{"$f":"PLAVÁNÍ!H134","v":0},{"$f":"ŠPLH!H134","v":0},{"$f":"ŠVIHADLO!H134","v":0},{"$f":"'Z MÍSTA'!H134","v":0},{"$f":"REPRE!E37","v":0},726.55395131681462,null,12]
[null,{"$f":"'60'!B135","v":"EFENBERK"},{"$f":"'60'!C135","v":"Šimon"},{"$f":"'60'!D135","v":"7.B"},null,{"$f":"'60'!H135","v":793.79278961664829},{"$f":"'300'!H135","v":659.71199678961796},{"$f":"'1000'!H135","v":571.90759002249843},{"$f":"DÁLKA!H135","v":615.03},{"$f":"VÝŠKA!H135","v":639.80000000000007},{"$f":"MÍČEK!H135","v":331.25},{"$f":"KOULE!H135","v":663.88888888888891},{"$f":"ČLUNEK!H135","v":811.44673620779758},{"$f":"LEHSED!H135","v":575},{"$f":"ODBÍJENÍ!H135","v":48},{"$f":"PLAVÁNÍ!H135","v":451.63407558648493},{"$f":"ŠPLH!H135","v":357.12073479653333},{"$f":"ŠVIHADLO!H135","v":350},{"$f":"'Z MÍSTA'!H135","v":817},{"$f":"REPRE!E38","v":50},7735.5828119084699,null,0]
[null,{"$f":"'60'!B136","v":"FEJKL"},{"$f":"'60'!C136","v":"Antonín"},{"$f":"'60'!D136","v":"7.B"},null,{"$f":"'60'!H136","v":856.22107287081349},{"$f":"'300'!H136","v":749.32383731063828},{"$f":"'1000'!H136","v":795.1222199472528},{"$f":"DÁLKA!H136","v":815.1},{"$f":"VÝŠKA!H136","v":822.84000000000015},{"$f":"MÍČEK!H136","v":612.5},{"$f":"KOULE!H136","v":687.22222222222217},{"$f":"ČLUNEK!H136","v":850.27780209371167},{"$f":"LEHSED!H136","v":762.5},{"$f":"ODBÍJENÍ!H136","v":788.4},{"$f":"PLAVÁNÍ!H136","v":465.6177492383469},{"$f":"ŠPLH!H136","v":476.44440970933334},{"$f":"ŠVIHADLO!H136","v":893.75},{"$f":"'Z MÍSTA'!H136","v":877.8},{"$f":"REPRE!E39","v":225},10678.119313392317,null,0]
[null,{"$f":"'60'!B137","v":"GOTTSTEIN"},{"$f":"'60'!C137","v":"Matouš"},{"$f":"'60'!D137","v":"7.B"},null,{"$f":"'60'!H137","v":856.22107287081349},{"$f":"'300'!H137","v":861.86771656973428},{"$f":"'1000'!H137","v":894.17392878613657},{"$f":"DÁLKA!H137","v":800.28},{"$f":"VÝŠKA!H137","v":697},{"$f":"MÍČEK!H137","v":525},{"$f":"KOULE!H137","v":699.44444444444446},{"$f":"ČLUNEK!H137","v":875.43457442118097},{"$f":"LEHSED!H137","v":712.5},{"$f":"ODBÍJENÍ!H137","v":784},{"$f":"PLAVÁNÍ!H137","v":452.03947605598285},{"$f":"ŠPLH!H137","v":555.39084199409922},{"$f":"ŠVIHADLO!H137","v":875},{"$f":"'Z MÍSTA'!H137","v":889.19999999999993},{"$f":"REPRE!E40","v":275},10752.552055142392,null,0]
[null,{"$f":"'60'!B138","v":"MAŘAS"},{"$f":"'60'!C138","v":"Dominik"},{"$f":"'60'!D138","v":"7.B"},null,{"$f":"'60'!H138","v":496.81527195076922},{"$f":"'300'!H138","v":311.83619306482376},{"$f":"'1000'!H138","v":649.72657907209339},{"$f":"DÁLKA!H138","v":570.57000000000005},{"$f":"VÝŠKA!H138","v":725.6},{"$f":"MÍČEK!H138","v":412.5},{"$f":"KOULE!H138","v":682.77777777777771},{"$f":"ČLUNEK!H138","v":763.75024819481962},{"$f":"LEHSED!H138","v":237.5},{"$f":"ODBÍJENÍ!H138","v":0},{"$f":"PLAVÁNÍ!H138","v":0},{"$f":"ŠPLH!H138","v":0},{"$f":"ŠVIHADLO!H138","v":187.5},{"$f":"'Z MÍSTA'!H138","v":805.59999999999991},{"$f":"REPRE!E41","v":0},5844.1760700602845,null,3]
[null,{"$f":"'60'!B139","v":"POVAŽANEC"},{"$f":"'60'!C139","v":"Lukáš"},{"$f":"'60'!D139","v":"7.B"},null,{"$f":"'60'!H139","v":716.21805714839957},{"$f":"'300'!H139","v":566.93616438977062},{"$f":"'1000'!H139","v":585.55167666561294},{"$f":"DÁLKA!H139","v":631.33199999999999},{"$f":"VÝŠKA!H139","v":0},{"$f":"MÍČEK!H139","v":562.5},{"$f":"KOULE!H139","v":726.66666666666663},{"$f":"ČLUNEK!H139","v":668.06334459064328},{"$f":"LEHSED!H139","v":375},{"$f":"ODBÍJENÍ!H139","v":784},{"$f":"PLAVÁNÍ!H139","v":0},{"$f":"ŠPLH!H139","v":0},{"$f":"ŠVIHADLO!H139","v":356.25},{"$f":"'Z MÍSTA'!H139","v":661.19999999999993},{"$f":"REPRE!E42","v":275},6908.7179094610919,null,3]
[null,{"$f":"'60'!B140","v":"VANCL"},{"$f":"'60'!C140","v":"Jakub"},{"$f":"'60'!D140","v":"7.B"},null,{"$f":"'60'!H140","v":686.34545338248847},{"$f":"'300'!H140","v":502.19414628902302},{"$f":"'1000'!H140","v":534.14200677861754},{"$f":"DÁLKA!H140","v":536.48400000000004},{"$f":"VÝŠKA!H140","v":525.40000000000009},{"$f":"MÍČEK!H140","v":275},{"$f":"KOULE!H140","v":536.11111111111109},{"$f":"ČLUNEK!H140","v":611.13564739817718},{"$f":"LEHSED!H140","v":500},{"$f":"ODBÍJENÍ!H140","v":64},{"$f":"PLAVÁNÍ!H140","v":0},{"$f":"ŠPLH!H140","v":0},{"$f":"ŠVIHADLO!H140","v":312.5},{"$f":"'Z MÍSTA'!H140","v":589},{"$f":"REPRE!E43","v":75},5747.3123649594172,null,2]
[null,{"$f":"'60'!B141","v":"VANCL"},{"$f":"'60'!C141","v":"Miroslav"},{"$f":"'60'!D141","v":"7.B"},null,{"$f":"'60'!H141","v":0},{"$f":"'300'!H141","v":248.28745203892151},{"$f":"'1000'!H141","v":391.0477890992172},{"$f":"DÁLKA!H141","v":632.81399999999996},{"$f":"VÝŠKA!H141","v":496.80000000000007},{"$f":"MÍČEK!H141","v":312.5},{"$f":"KOULE!H141","v":535.55555555555554},{"$f":"ČLUNEK!H141","v":673.25743485766759},{"$f":"LEHSED!H141","v":0},{"$f":"ODBÍJENÍ!H141","v":56},{"$f":"PLAVÁNÍ!H141","v":0},{"$f":"ŠPLH!H141","v":0},{"$f":"ŠVIHADLO!H141","v":0},{"$f":"'Z MÍSTA'!H141","v":668.8},{"$f":"REPRE!E44","v":0},4015.0622315513619,null,5]
[null,{"$f":"'60'!B142","v":"VOTOČEK"},{"$f":"'60'!C142","v":"Michal"},{"$f":"'60'!D142","v":"7.B"},null,{"$f":"'60'!H142","v":681.13681910502282},{"$f":"'300'!H142","v":460.79493251162933},{"$f":"'1000'!H142","v":584.41298301465145},{"$f":"DÁLKA!H142","v":647.63400000000001},{"$f":"VÝŠKA!H142","v":0},{"$f":"MÍČEK!H142","v":350},{"$f":"KOULE!H142","v":608.33333333333337},{"$f":"ČLUNEK!H142","v":668.92696217954585},{"$f":"LEHSED!H142","v":600},{"$f":"ODBÍJENÍ!H142","v":48},{"$f":"PLAVÁNÍ!H142","v":0},{"$f":"ŠPLH!H142","v":0},{"$f":"ŠVIHADLO!H142","v":362.5},{"$f":"'Z MÍSTA'!H142","v":573.79999999999995},{"$f":"REPRE!E45","v":50},5635.539030144183,null,3,{"$f":"SUM(W68:W76)","v":28}]
[null,{"$f":"'60'!B143","v":"DEMČUK"},{"$f":"'60'!C143","v":"Ilja"},{"$f":"'60'!D143","v":"8.A"},null,{"$f":"'60'!H143","v":781.40302894623653},{"$f":"'300'!H143","v":697.06218370881879},{"$f":"'1000'!H143","v":622.86633508474711},{"$f":"DÁLKA!H143","v":663.93600000000004},{"$f":"VÝŠKA!H143","v":668.4},{"$f":"MÍČEK!H143","v":381.25},{"$f":"KOULE!H143","v":637.22222222222217},{"$f":"ČLUNEK!H143","v":788.23865689925674},{"$f":"LEHSED!H143","v":437.5},{"$f":"ODBÍJENÍ!H143","v":96},{"$f":"PLAVÁNÍ!H143","v":0},{"$f":"ŠPLH!H143","v":0},{"$f":"ŠVIHADLO!H143","v":343.75},{"$f":"'Z MÍSTA'!H143","v":722},{"$f":"REPRE!E46","v":0},6839.6284268612817,null,2]
[null,{"$f":"'60'!B144","v":"FAISTAUER"},{"$f":"'60'!C144","v":"Kryštof"},{"$f":"'60'!D144","v":"8.A"},null,{"$f":"'60'!H144","v":859.77982802884617},{"$f":"'300'!H144","v":726.98194141704585},{"$f":"'1000'!H144","v":726.90521311025361},{"$f":"DÁLKA!H144","v":783.97799999999995},{"$f":"VÝŠKA!H144","v":811.4},{"$f":"MÍČEK!H144","v":500},{"$f":"KOULE!H144","v":739.44444444444446},{"$f":"ČLUNEK!H144","v":882.13528896690059},{"$f":"LEHSED!H144","v":550},{"$f":"ODBÍJENÍ!H144","v":673.6},{"$f":"PLAVÁNÍ!H144","v":0},{"$f":"ŠPLH!H144","v":562.88210066859619},{"$f":"ŠVIHADLO!H144","v":418.75},{"$f":"'Z MÍSTA'!H144","v":839.8},{"$f":"REPRE!E47","v":175},9250.6568166360867,null,1]
[null,{"$f":"'60'!B145","v":"FRK"},{"$f":"'60'!C145","v":"Matyáš"},{"$f":"'60'!D145","v":"8.A"},null,{"$f":"'60'!H145","v":718.55581004868554},{"$f":"'300'!H145","v":548.33186405050185},{"$f":"'1000'!H145","v":0},{"$f":"DÁLKA!H145","v":643.18799999999999},{"$f":"VÝŠKA!H145","v":582.60000000000014},{"$f":"MÍČEK!H145","v":0},{"$f":"KOULE!H145","v":0},{"$f":"ČLUNEK!H145","v":0},{"$f":"LEHSED!H145","v":475},{"$f":"ODBÍJENÍ!H145","v":0},{"$f":"PLAVÁNÍ!H145","v":0},{"$f":"ŠPLH!H145","v":350.29305372500204},{"$f":"ŠVIHADLO!H145","v":431.25},{"$f":"'Z MÍSTA'!H145","v":684},{"$f":"REPRE!E48","v":0},4433.21872782419,null,6]
[null,{"$f":"'60'!B146","v":"HUBÁLOVSKÝ"},{"$f":"'60'!C146","v":"Marek"},{"$f":"'60'!D146","v":"8.A"},null,{"$f":"'60'!H146","v":782.83708719827598},{"$f":"'300'!H146","v":637.31598911774654},{"$f":"'1000'!H146","v":656.05384781182113},{"$f":"DÁLKA!H146","v":732.10799999999995},{"$f":"VÝŠKA!H146","v":611.20000000000005},{"$f":"MÍČEK!H146","v":431.25},{"$f":"KOULE!H146","v":558.33333333333337},{"$f":"ČLUNEK!H146","v":799.25385923514204},{"$f":"LEHSED!H146","v":587.5},{"$f":"ODBÍJENÍ!H146","v":184},{"$f":"PLAVÁNÍ!H146","v":0},{"$f":"ŠPLH!H146","v":239.91260371728058},{"$f":"ŠVIHADLO!H146","v":425},{"$f":"'Z MÍSTA'!H146","v":722},{"$f":"REPRE!E49","v":0},7366.7647204135992,null,1]
[null,{"$f":"'60'!B147","v":"MAŤÁTKO"},{"$f":"'60'!C147","v":"Jakub"},{"$f":"'60'!D147","v":"8.A"},null,{"$f":"'60'!H147","v":638.21503537552735},{"$f":"'300'!H147","v":422.45152421043485},{"$f":"'1000'!H147","v":0},{"$f":"DÁLKA!H147","v":0},{"$f":"VÝŠKA!H147","v":554.00000000000011},{"$f":"MÍČEK!H147","v":343.75},{"$f":"KOULE!H147","v":0},{"$f":"ČLUNEK!H147","v":642.52496408061336},{"$f":"LEHSED!H147","v":0},{"$f":"ODBÍJENÍ!H147","v":112},{"$f":"PLAVÁNÍ!H147","v":0},{"$f":"ŠPLH!H147","v":0},{"$f":"ŠVIHADLO!H147","v":0},{"$f":"'Z MÍSTA'!H147","v":0},{"$f":"REPRE!E50","v":0},2712.9415236665754,null,8]
[null,{"$f":"'60'!B148","v":"MERY"},{"$f":"'60'!C148","v":"Luboš"},{"$f":"'60'!D148","v":"8.A"},null,{"$f":"'60'!H148","v":684.25052058769518},{"$f":"'300'!H148","v":498.44330379540747},{"$f":"'1000'!H148","v":514.80559660342772},{"$f":"DÁLKA!H148","v":589.83600000000001},{"$f":"VÝŠKA!H148","v":468.2000000000001},{"$f":"MÍČEK!H148","v":268.75},{"$f":"KOULE!H148","v":509.44444444444446},{"$f":"ČLUNEK!H148","v":701.48083073633893},{"$f":"LEHSED!H148","v":400},{"$f":"ODBÍJENÍ!H148","v":96},{"$f":"PLAVÁNÍ!H148","v":0},{"$f":"ŠPLH!H148","v":0},{"$f":"ŠVIHADLO!H148","v":318.75},{"$f":"'Z MÍSTA'!H148","v":608},{"$f":"REPRE!E51","v":0},5657.9606961673135,null,2]
[null,{"$f":"'60'!B149","v":"NOVOTNÝ"},{"$f":"'60'!C149","v":"Matěj"},{"$f":"'60'!D149","v":"8.A"},null,{"$f":"'60'!H149","v":664.6035610992908},{"$f":"'300'!H149","v":430.03114198088974},{"$f":"'1000'!H149","v":509.39419368508248},{"$f":"DÁLKA!H149","v":577.98},{"$f":"VÝŠKA!H149","v":525.40000000000009},{"$f":"MÍČEK!H149","v":500},{"$f":"KOULE!H149","v":628.33333333333337},{"$f":"ČLUNEK!H149","v":732.50541336441336},{"$f":"LEHSED!H149","v":537.5},{"$f":"ODBÍJENÍ!H149","v":96},{"$f":"PLAVÁNÍ!H149","v":0},{"$f":"ŠPLH!H149","v":0},{"$f":"ŠVIHADLO!H149","v":331.25},{"$f":"'Z MÍSTA'!H149","v":570},{"$f":"REPRE!E52","v":0},6102.9976434630098,null,2]
[null,{"$f":"'60'!B150","v":"ŘEHOŘEK"},{"$f":"'60'!C150","v":"Vojtěch"},{"$f":"'60'!D150","v":"8.A"},null,{"$f":"'60'!H150","v":763.30629384937231},{"$f":"'300'!H150","v":586.81579943165627},{"$f":"'1000'!H150","v":648.93812850358131},{"$f":"DÁLKA!H150","v":666.9},{"$f":"VÝŠKA!H150","v":0},{"$f":"MÍČEK!H150","v":662.5},{"$f":"KOULE!H150","v":727.77777777777771},{"$f":"ČLUNEK!H150","v":0},{"$f":"LEHSED!H150","v":462.5},{"$f":"ODBÍJENÍ!H150","v":673.6},{"$f":"PLAVÁNÍ!H150","v":0},{"$f":"ŠPLH!H150","v":0},{"$f":"ŠVIHADLO!H150","v":850},{"$f":"'Z MÍSTA'!H150","v":718.19999999999993},{"$f":"REPRE!E53","v":175},6935.537999562388,null,4]
[null,{"$f":"'60'!B151","v":"ŠÍR"},{"$f":"'60'!C151","v":"Matyáš"},{"$f":"'60'!D151","v":"8.A"},null,{"$f":"'60'!H151","v":688.98594159259255},{"$f":"'300'!H151","v":554.49029514913298},{"$f":"'1000'!H151","v":0},{"$f":"DÁLKA!H151","v":616.51199999999994},{"$f":"VÝŠKA!H151","v":582.60000000000014},{"$f":"MÍČEK!H151","v":368.75},{"$f":"KOULE!H151","v":473.88888888888886},{"$f":"ČLUNEK!H151","v":673.25743485766759},{"$f":"LEHSED!H151","v":587.5},{"$f":"ODBÍJENÍ!H151","v":64},{"$f":"PLAVÁNÍ!H151","v":0},{"$f":"ŠPLH!H151","v":0},{"$f":"ŠVIHADLO!H151","v":625},{"$f":"'Z MÍSTA'!H151","v":573.79999999999995},{"$f":"REPRE!E54","v":50},5858.7845604882823,null,3]
[null,{"$f":"'60'!B152","v":"TORÁČ"},{"$f":"'60'!C152","v":"Tomáš"},{"$f":"'60'!D152","v":"8.A"},null,{"$f":"'60'!H152","v":472.87705704728944},{"$f":"'300'!H152","v":114.59471409917802},{"$f":"'1000'!H152","v":0},{"$f":"DÁLKA!H152","v":0},{"$f":"VÝŠKA!H152","v":525.40000000000009},{"$f":"MÍČEK!H152","v":250},{"$f":"KOULE!H152","v":0},{"$f":"ČLUNEK!H152","v":350.71345881716053},{"$f":"LEHSED!H152","v":512.5},{"$f":"ODBÍJENÍ!H152","v":112},{"$f":"PLAVÁNÍ!H152","v":0},{"$f":"ŠPLH!H152","v":0},{"$f":"ŠVIHADLO!H152","v":218.75},{"$f":"'Z MÍSTA'!H152","v":0},{"$f":"REPRE!E55","v":0},2556.8352299636281,null,6]
[null,{"$f":"'60'!B153","v":"VÁCLAVÍK"},{"$f":"'60'!C153","v":"Ondřej"},{"$f":"'60'!D153","v":"8.A"},null,{"$f":"'60'!H153","v":816.02807343891413},{"$f":"'300'!H153","v":0},{"$f":"'1000'!H153","v":778.31479768918064},{"$f":"DÁLKA!H153","v":760.26599999999996},{"$f":"VÝŠKA!H153","v":668.4},{"$f":"MÍČEK!H153","v":612.5},{"$f":"KOULE!H153","v":585},{"$f":"ČLUNEK!H153","v":865.49230109793598},{"$f":"LEHSED!H153","v":587.5},{"$f":"ODBÍJENÍ!H153","v":96},{"$f":"PLAVÁNÍ!H153","v":0},{"$f":"ŠPLH!H153","v":659.24399174351333},{"$f":"ŠVIHADLO!H153","v":406.25},{"$f":"'Z MÍSTA'!H153","v":805.59999999999991},{"$f":"REPRE!E56","v":0},7640.595163969545,null,2,{"$f":"SUM(W77:W87)","v":37}]
[null,{"$f":"'60'!B154","v":"AUERSWALD"},{"$f":"'60'!C154","v":"Daniel"},{"$f":"'60'!D154","v":"8.B"},null,{"$f":"'60'!H154","v":744.88700906504073},{"$f":"'300'!H154","v":580.9183429640517},{"$f":"'1000'!H154","v":0},{"$f":"DÁLKA!H154","v":686.16599999999994},{"$f":"VÝŠKA!H154","v":0},{"$f":"MÍČEK!H154","v":400},{"$f":"KOULE!H154","v":542.22222222222217},{"$f":"ČLUNEK!H154","v":782.29351523538196},{"$f":"LEHSED!H154","v":525},{"$f":"ODBÍJENÍ!H154","v":416},{"$f":"PLAVÁNÍ!H154","v":0},{"$f":"ŠPLH!H154","v":461.046513656174},{"$f":"ŠVIHADLO!H154","v":781.25},{"$f":"'Z MÍSTA'!H154","v":703},{"$f":"REPRE!E57","v":0},6622.7836031428706,null,3]
[null,{"$f":"'60'!B155","v":"BOUKAL"},{"$f":"'60'!C155","v":"Jakub"},{"$f":"'60'!D155","v":"8.B"},null,{"$f":"'60'!H155","v":0},{"$f":"'300'!H155","v":0},{"$f":"'1000'!H155","v":0},{"$f":"DÁLKA!H155","v":0},{"$f":"VÝŠKA!H155","v":0},{"$f":"MÍČEK!H155","v":0},{"$f":"KOULE!H155","v":0},{"$f":"ČLUNEK!H155","v":0},{"$f":"LEHSED!H155","v":0},{"$f":"ODBÍJENÍ!H155","v":0},{"$f":"PLAVÁNÍ!H155","v":0},{"$f":"ŠPLH!H155","v":0},{"$f":"ŠVIHADLO!H155","v":0},{"$f":"'Z MÍSTA'!H155","v":0},{"$f":"REPRE!E58","v":0},0,null,14]
[null,{"$f":"'60'!B156","v":"BUDÍN"},{"$f":"'60'!C156","v":"Martin"},{"$f":"'60'!D156","v":"8.B"},null,{"$f":"'60'!H156","v":777.13762491452997},{"$f":"'300'!H156","v":699.50470311351341},{"$f":"'1000'!H156","v":846.93150798519162},{"$f":"DÁLKA!H156","v":733.59},{"$f":"VÝŠKA!H156","v":639.80000000000007},{"$f":"MÍČEK!H156","v":525},{"$f":"KOULE!H156","v":570},{"$f":"ČLUNEK!H156","v":866.59065117412172},{"$f":"LEHSED!H156","v":525},{"$f":"ODBÍJENÍ!H156","v":112},{"$f":"PLAVÁNÍ!H156","v":0},{"$f":"ŠPLH!H156","v":507.13765164726806},{"$f":"ŠVIHADLO!H156","v":812.5},{"$f":"'Z MÍSTA'!H156","v":760},{"$f":"REPRE!E59","v":0},8375.1921388346254,null,1]
[null,{"$f":"'60'!B157","v":"DVOŘÁK"},{"$f":"'60'!C157","v":"Dominik"},{"$f":"'60'!D157","v":"8.B"},null,{"$f":"'60'!H157","v":757.93445738589196},{"$f":"'300'!H157","v":0},{"$f":"'1000'!H157","v":593.91677114084064},{"$f":"DÁLKA!H157","v":637.26},{"$f":"VÝŠKA!H157","v":582.60000000000014},{"$f":"MÍČEK!H157","v":425},{"$f":"KOULE!H157","v":660},{"$f":"ČLUNEK!H157","v":759.89955304102307},{"$f":"LEHSED!H157","v":462.5},{"$f":"ODBÍJENÍ!H157","v":0},{"$f":"PLAVÁNÍ!H157","v":0},{"$f":"ŠPLH!H157","v":405.8026913719587},{"$f":"ŠVIHADLO!H157","v":462.5},{"$f":"'Z MÍSTA'!H157","v":722},{"$f":"REPRE!E60","v":0},6469.4134729397147,null,3]
[null,{"$f":"'60'!B158","v":"FIŠERA"},{"$f":"'60'!C158","v":"Vojtěch"},{"$f":"'60'!D158","v":"8.B"},null,{"$f":"'60'!H158","v":711.02386242307693},{"$f":"'300'!H158","v":559.48148872558136},{"$f":"'1000'!H158","v":600.77118067520178},{"$f":"DÁLKA!H158","v":561.678},{"$f":"VÝŠKA!H158","v":582.60000000000014},{"$f":"MÍČEK!H158","v":281.25},{"$f":"KOULE!H158","v":562.22222222222217},{"$f":"ČLUNEK!H158","v":750.3509132279836},{"$f":"LEHSED!H158","v":650},{"$f":"ODBÍJENÍ!H158","v":80},{"$f":"PLAVÁNÍ!H158","v":0},{"$f":"ŠPLH!H158","v":246.95509333973658},{"$f":"ŠVIHADLO!H158","v":381.25},{"$f":"'Z MÍSTA'!H158","v":589},{"$f":"REPRE!E61","v":0},6556.5827606138027,null,1]
[null,{"$f":"'60'!B159","v":"JINDŘIŠEK"},{"$f":"'60'!C159","v":"Vít"},{"$f":"'60'!D159","v":"8.B"},null,{"$f":"'60'!H159","v":887.60201610972581},{"$f":"'300'!H159","v":958.79347855191304},{"$f":"'1000'!H159","v":904.93552479516416},{"$f":"DÁLKA!H159","v":841.77599999999995},{"$f":"VÝŠKA!H159","v":754.2},{"$f":"MÍČEK!H159","v":700},{"$f":"KOULE!H159","v":787.22222222222217},{"$f":"ČLUNEK!H159","v":950.16184686230417},{"$f":"LEHSED!H159","v":612.5},{"$f":"ODBÍJENÍ!H159","v":432},{"$f":"PLAVÁNÍ!H159","v":0},{"$f":"ŠPLH!H159","v":755.22838773777789},{"$f":"ŠVIHADLO!H159","v":875},{"$f":"'Z MÍSTA'!H159","v":893},{"$f":"REPRE!E62","v":175},10527.419476279107,null,1]
[null,{"$f":"'60'!B160","v":"JIROUŠ"},{"$f":"'60'!C160","v":"Matouš"},{"$f":"'60'!D160","v":"8.B"},null,{"$f":"'60'!H160","v":763.98410148691096},{"$f":"'300'!H160","v":656.59544523693864},{"$f":"'1000'!H160","v":0},{"$f":"DÁLKA!H160","v":692.09399999999994},{"$f":"VÝŠKA!H160","v":0},{"$f":"MÍČEK!H160","v":512.5},{"$f":"KOULE!H160","v":602.77777777777771},{"$f":"ČLUNEK!H160","v":810.42346895015305},{"$f":"LEHSED!H160","v":687.5},{"$f":"ODBÍJENÍ!H160","v":0},{"$f":"PLAVÁNÍ!H160","v":503.48524113029828},{"$f":"ŠPLH!H160","v":323.11512139451577},{"$f":"ŠVIHADLO!H160","v":831.25},{"$f":"'Z MÍSTA'!H160","v":798},{"$f":"REPRE!E63","v":50},7231.7251559765946,null,3]
[null,{"$f":"'60'!B161","v":"KERLE"},{"$f":"'60'!C161","v":"Marek"},{"$f":"'60'!D161","v":"8.B"},null,{"$f":"'60'!H161","v":825.66148729357792},{"$f":"'300'!H161","v":885.47027657147919},{"$f":"'1000'!H161","v":785.68784026477238},{"$f":"DÁLKA!H161","v":810.654},{"$f":"VÝŠKA!H161","v":840},{"$f":"MÍČEK!H161","v":612.5},{"$f":"KOULE!H161","v":787.22222222222217},{"$f":"ČLUNEK!H161","v":869.89516866549093},{"$f":"LEHSED!H161","v":650},{"$f":"ODBÍJENÍ!H161","v":256},{"$f":"PLAVÁNÍ!H161","v":0},{"$f":"ŠPLH!H161","v":675.24957266902379},{"$f":"ŠVIHADLO!H161","v":706.25},{"$f":"'Z MÍSTA'!H161","v":824.59999999999991},{"$f":"REPRE!E64","v":100},9629.1905676865663,null,1]
[null,{"$f":"'60'!B162","v":"LUKEŠ"},{"$f":"'60'!C162","v":"Jakub"},{"$f":"'60'!D162","v":"8.B"},null,{"$f":"'60'!H162","v":844.02919637647062},{"$f":"'300'!H162","v":805.95858484301402},{"$f":"'1000'!H162","v":816.52065618781489},{"$f":"DÁLKA!H162","v":781.01400000000001},{"$f":"VÝŠKA!H162","v":840},{"$f":"MÍČEK!H162","v":375},{"$f":"KOULE!H162","v":569.44444444444446},{"$f":"ČLUNEK!H162","v":901.44732565381696},{"$f":"LEHSED!H162","v":625},{"$f":"ODBÍJENÍ!H162","v":112},{"$f":"PLAVÁNÍ!H162","v":0},{"$f":"ŠPLH!H162","v":702.74321031100112},{"$f":"ŠVIHADLO!H162","v":718.75},{"$f":"'Z MÍSTA'!H162","v":919.59999999999991},{"$f":"REPRE!E65","v":100},9111.5074178165614,null,1]
[null,{"$f":"'60'!B163","v":"OTT"},{"$f":"'60'!C163","v":"Matyáš"},{"$f":"'60'!D163","v":"8.B"},null,{"$f":"'60'!H163","v":849.2047593838862},{"$f":"'300'!H163","v":904.55979615479191},{"$f":"'1000'!H163","v":847.85668703493104},{"$f":"DÁLKA!H163","v":763.23},{"$f":"VÝŠKA!H163","v":697},{"$f":"MÍČEK!H163","v":512.5},{"$f":"KOULE!H163","v":663.88888888888891},{"$f":"ČLUNEK!H163","v":909.54454976590148},{"$f":"LEHSED!H163","v":537.5},{"$f":"ODBÍJENÍ!H163","v":432},{"$f":"PLAVÁNÍ!H163","v":717.58276851027756},{"$f":"ŠPLH!H163","v":457.7180842865871},{"$f":"ŠVIHADLO!H163","v":912.5},{"$f":"'Z MÍSTA'!H163","v":817},{"$f":"REPRE!E66","v":100},10122.085534025264,null,0]
[null,{"$f":"'60'!B164","v":"POKORNÝ"},{"$f":"'60'!C164","v":"Matyáš"},{"$f":"'60'!D164","v":"8.B"},null,{"$f":"'60'!H164","v":850.9463383847982},{"$f":"'300'!H164","v":843.84665268115054},{"$f":"'1000'!H164","v":822.2995068896056},{"$f":"DÁLKA!H164","v":783.97799999999995},{"$f":"VÝŠKA!H164","v":857.16000000000008},{"$f":"MÍČEK!H164","v":687.5},{"$f":"KOULE!H164","v":628.33333333333337},{"$f":"ČLUNEK!H164","v":941.61788902983301},{"$f":"LEHSED!H164","v":837.5},{"$f":"ODBÍJENÍ!H164","v":0},{"$f":"PLAVÁNÍ!H164","v":0},{"$f":"ŠPLH!H164","v":511.42700085250652},{"$f":"ŠVIHADLO!H164","v":912.5},{"$f":"'Z MÍSTA'!H164","v":874},{"$f":"REPRE!E67","v":150},9701.1087211712274,null,2]
[null,{"$f":"'60'!B165","v":"POLÁČEK"},{"$f":"'60'!C165","v":"Matyáš"},{"$f":"'60'!D165","v":"8.B"},null,{"$f":"'60'!H165","v":725.07954421259842},{"$f":"'300'!H165","v":0},{"$f":"'1000'!H165","v":533.1621012631332},{"$f":"DÁLKA!H165","v":597.24599999999998},{"$f":"VÝŠKA!H165","v":554.00000000000011},{"$f":"MÍČEK!H165","v":525},{"$f":"KOULE!H165","v":649.44444444444446},{"$f":"ČLUNEK!H165","v":0},{"$f":"LEHSED!H165","v":462.5},{"$f":"ODBÍJENÍ!H165","v":416},{"$f":"PLAVÁNÍ!H165","v":0},{"$f":"ŠPLH!H165","v":0},{"$f":"ŠVIHADLO!H165","v":593.75},{"$f":"'Z MÍSTA'!H165","v":611.79999999999995},{"$f":"REPRE!E68","v":125},{"$f":"SUM(F99:T99)","v":5792.9820899201759},null,{"$f":"FREQUENCY(F99:S99,0)","v":4}]
[null,{"$f":"'60'!B166","v":"ULLMAN"},{"$f":"'60'!C166","v":"Šimon"},{"$f":"'60'!D166","v":"8.B"},null,{"$f":"'60'!H166","v":805.88273904124856},{"$f":"'300'!H166","v":701.39169014456581},{"$f":"'1000'!H166","v":556.96275233782603},{"$f":"DÁLKA!H166","v":801.76199999999994},{"$f":"VÝŠKA!H166","v":725.6},{"$f":"MÍČEK!H166","v":331.25},{"$f":"KOULE!H166","v":526.66666666666663},{"$f":"ČLUNEK!H166","v":817.61434772416681},{"$f":"LEHSED!H166","v":625},{"$f":"ODBÍJENÍ!H166","v":184},{"$f":"PLAVÁNÍ!H166","v":0},{"$f":"ŠPLH!H166","v":483.1202422290865},{"$f":"ŠVIHADLO!H166","v":362.5},{"$f":"'Z MÍSTA'!H166","v":931},{"$f":"REPRE!E69","v":0},7852.7504381435592,null,1]
[null,{"$f":"'60'!B167","v":"VALENTA"},{"$f":"'60'!C167","v":"Jakub"},{"$f":"'60'!D167","v":"8.B"},null,{"$f":"'60'!H167","v":781.40302894623653},{"$f":"'300'!H167","v":760.01423745050761},{"$f":"'1000'!H167","v":734.27384068131335},{"$f":"DÁLKA!H167","v":714.32399999999996},{"$f":"VÝŠKA!H167","v":782.80000000000007},{"$f":"MÍČEK!H167","v":350},{"$f":"KOULE!H167","v":528.33333333333337},{"$f":"ČLUNEK!H167","v":886.63536193726452},{"$f":"LEHSED!H167","v":862.5},{"$f":"ODBÍJENÍ!H167","v":0},{"$f":"PLAVÁNÍ!H167","v":0},{"$f":"ŠPLH!H167","v":495.57589559917756},{"$f":"ŠVIHADLO!H167","v":693.75},{"$f":"'Z MÍSTA'!H167","v":752.4},{"$f":"REPRE!E70","v":50},8392.009697947833,null,2]
[null,{"$f":"'60'!B168","v":"VRBATA"},{"$f":"'60'!C168","v":"Dominik"},{"$f":"'60'!D168","v":"8.B"},null,{"$f":"'60'!H168","v":777.84472397860964},{"$f":"'300'!H168","v":666.35825193989126},{"$f":"'1000'!H168","v":717.35847292211588},{"$f":"DÁLKA!H168","v":0},{"$f":"VÝŠKA!H168","v":697},{"$f":"MÍČEK!H168","v":500},{"$f":"KOULE!H168","v":558.33333333333337},{"$f":"ČLUNEK!H168","v":857.84749374840987},{"$f":"LEHSED!H168","v":537.5},{"$f":"ODBÍJENÍ!H168","v":256},{"$f":"PLAVÁNÍ!H168","v":676.06631294164345},{"$f":"ŠPLH!H168","v":779.16801706326146},{"$f":"ŠVIHADLO!H168","v":600},{"$f":"'Z MÍSTA'!H168","v":729.59999999999991},{"$f":"REPRE!E71","v":0},8353.0766059272646,null,1,{"$f":"SUM(W88:W102)","v":38}]
[null,{"$f":"'60'!B169","v":"FEJKL"},{"$f":"'60'!C169","v":"Jan"},{"$f":"'60'!D169","v":"9.A"},null,{"$f":"'60'!H169","v":869.74520940316677},{"$f":"'300'!H169","v":870.83392071825983},{"$f":"'1000'!H169","v":788.29800814254304},{"$f":"DÁLKA!H169","v":883.27199999999993},{"$f":"VÝŠKA!H169","v":880.04000000000008},{"$f":"MÍČEK!H169","v":762.5},{"$f":"KOULE!H169","v":721.66666666666663},{"$f":"ČLUNEK!H169","v":933.17026174264515},{"$f":"LEHSED!H169","v":0},{"$f":"ODBÍJENÍ!H169","v":700.8},{"$f":"PLAVÁNÍ!H169","v":0},{"$f":"ŠPLH!H169","v":742.83262101723199},{"$f":"ŠVIHADLO!H169","v":0},{"$f":"'Z MÍSTA'!H169","v":953.8},{"$f":"REPRE!E72","v":225},9331.9586876905141,null,3]
[null,{"$f":"'60'!B170","v":"KOTYK"},{"$f":"'60'!C170","v":"Tadeáš"},{"$f":"'60'!D170","v":"9.A"},null,{"$f":"'60'!H170","v":705.9187959199237},{"$f":"'300'!H170","v":0},{"$f":"'1000'!H170","v":0},{"$f":"DÁLKA!H170","v":665.41800000000001},{"$f":"VÝŠKA!H170","v":639.80000000000007},{"$f":"MÍČEK!H170","v":331.25},{"$f":"KOULE!H170","v":670.55555555555554},{"$f":"ČLUNEK!H170","v":771.50645108962112},{"$f":"LEHSED!H170","v":0},{"$f":"ODBÍJENÍ!H170","v":88},{"$f":"PLAVÁNÍ!H170","v":0},{"$f":"ŠPLH!H170","v":0},{"$f":"ŠVIHADLO!H170","v":0},{"$f":"'Z MÍSTA'!H170","v":0},{"$f":"REPRE!E73","v":0},3872.4488025651008,null,7]
[null,{"$f":"'60'!B171","v":"KRAUSE"},{"$f":"'60'!C171","v":"Tadeáš"},{"$f":"'60'!D171","v":"9.A"},null,{"$f":"'60'!H171","v":845.74624636792453},{"$f":"'300'!H171","v":0},{"$f":"'1000'!H171","v":885.59156664250395},{"$f":"DÁLKA!H171","v":804.726},{"$f":"VÝŠKA!H171","v":868.6},{"$f":"MÍČEK!H171","v":552.5},{"$f":"KOULE!H171","v":612.22222222222217},{"$f":"ČLUNEK!H171","v":892.29813009446684},{"$f":"LEHSED!H171","v":0},{"$f":"ODBÍJENÍ!H171","v":520},{"$f":"PLAVÁNÍ!H171","v":0},{"$f":"ŠPLH!H171","v":530.43709147251184},{"$f":"ŠVIHADLO!H171","v":0},{"$f":"'Z MÍSTA'!H171","v":855},{"$f":"REPRE!E74","v":150},7517.1212567996281,null,4]
[null,{"$f":"'60'!B172","v":"LEŠÁK"},{"$f":"'60'!C172","v":"Martin"},{"$f":"'60'!D172","v":"9.A"},null,{"$f":"'60'!H172","v":737.93448936683421},{"$f":"'300'!H172","v":0},{"$f":"'1000'!H172","v":0},{"$f":"DÁLKA!H172","v":665.41800000000001},{"$f":"VÝŠKA!H172","v":725.6},{"$f":"MÍČEK!H172","v":418.75},{"$f":"KOULE!H172","v":635.55555555555554},{"$f":"ČLUNEK!H172","v":758.93969499535365},{"$f":"LEHSED!H172","v":0},{"$f":"ODBÍJENÍ!H172","v":128},{"$f":"PLAVÁNÍ!H172","v":0},{"$f":"ŠPLH!H172","v":0},{"$f":"ŠVIHADLO!H172","v":0},{"$f":"'Z MÍSTA'!H172","v":0},{"$f":"REPRE!E75","v":0},4070.1977399177431,null,7]
[null,{"$f":"'60'!B173","v":"NECHANICKÝ"},{"$f":"'60'!C173","v":"David"},{"$f":"'60'!D173","v":"9.A"},null,{"$f":"'60'!H173","v":883.77272570719595},{"$f":"'300'!H173","v":778.76045123304993},{"$f":"'1000'!H173","v":761.59436223657713},{"$f":"DÁLKA!H173","v":914.39400000000001},{"$f":"VÝŠKA!H173","v":788.5200000000001},{"$f":"MÍČEK!H173","v":562.5},{"$f":"KOULE!H173","v":694.44444444444446},{"$f":"ČLUNEK!H173","v":989.22053150595525},{"$f":"LEHSED!H173","v":650},{"$f":"ODBÍJENÍ!H173","v":700.8},{"$f":"PLAVÁNÍ!H173","v":0},{"$f":"ŠPLH!H173","v":0},{"$f":"ŠVIHADLO!H173","v":781.25},{"$f":"'Z MÍSTA'!H173","v":965.19999999999993},{"$f":"REPRE!E76","v":225},9695.4565151272254,null,2]
[null,{"$f":"'60'!B174","v":"ŘEHOŘEK"},{"$f":"'60'!C174","v":"Jan"},{"$f":"'60'!D174","v":"9.A"},null,{"$f":"'60'!H174","v":0},{"$f":"'300'!H174","v":737.01871070654215},{"$f":"'1000'!H174","v":0},{"$f":"DÁLKA!H174","v":785.46},{"$f":"VÝŠKA!H174","v":817.12000000000012},{"$f":"MÍČEK!H174","v":643.75},{"$f":"KOULE!H174","v":615.55555555555554},{"$f":"ČLUNEK!H174","v":0},{"$f":"LEHSED!H174","v":0},{"$f":"ODBÍJENÍ!H174","v":812.8},{"$f":"PLAVÁNÍ!H174","v":0},{"$f":"ŠPLH!H174","v":0},{"$f":"ŠVIHADLO!H174","v":0},{"$f":"'Z MÍSTA'!H174","v":893},{"$f":"REPRE!E77","v":125},5429.7042662620979,null,7]
[null,{"$f":"'60'!B175","v":"SOUKUP"},{"$f":"'60'!C175","v":"Ondřej"},{"$f":"'60'!D175","v":"9.A"},null,{"$f":"'60'!H175","v":0},{"$f":"'300'!H175","v":0},{"$f":"'1000'!H175","v":0},{"$f":"DÁLKA!H175","v":736.55399999999997},{"$f":"VÝŠKA!H175","v":788.5200000000001},{"$f":"MÍČEK!H175","v":0},{"$f":"KOULE!H175","v":723.33333333333337},{"$f":"ČLUNEK!H175","v":0},{"$f":"LEHSED!H175","v":0},{"$f":"ODBÍJENÍ!H175","v":0},{"$f":"PLAVÁNÍ!H175","v":0},{"$f":"ŠPLH!H175","v":0},{"$f":"ŠVIHADLO!H175","v":0},{"$f":"'Z MÍSTA'!H175","v":0},{"$f":"REPRE!E78","v":0},2248.4073333333336,null,11,{"$f":"SUM(V103:W109)","v":41}]
[null,{"$f":"'60'!B176","v":"SPANILÝ"},{"$f":"'60'!C176","v":"David"},{"$f":"'60'!D176","v":"9.A"},null,{"$f":"'60'!H176","v":876.22704781326786},{"$f":"'300'!H176","v":863.39504763947616},{"$f":"'1000'!H176","v":816.16949619244599},{"$f":"DÁLKA!H176","v":844.74},{"$f":"VÝŠKA!H176","v":788.5200000000001},{"$f":"MÍČEK!H176","v":762.5},{"$f":"KOULE!H176","v":765},{"$f":"ČLUNEK!H176","v":976.39598186072783},{"$f":"LEHSED!H176","v":612.5},{"$f":"ODBÍJENÍ!H176","v":812.8},{"$f":"PLAVÁNÍ!H176","v":0},{"$f":"ŠPLH!H176","v":636.762157260462},{"$f":"ŠVIHADLO!H176","v":825},{"$f":"'Z MÍSTA'!H176","v":1037.3999999999999},{"$f":"REPRE!E79","v":225},10842.40973076638,null,1]
[null,{"$f":"'60'!B177","v":"ČERNÝ"},{"$f":"'60'!C177","v":"Michal"},{"$f":"'60'!D177","v":"9.B"},null,{"$f":"'60'!H177","v":755.94293373319545},{"$f":"'300'!H177","v":602.06268822043717},{"$f":"'1000'!H177","v":0},{"$f":"DÁLKA!H177","v":684.68399999999997},{"$f":"VÝŠKA!H177","v":668.4},{"$f":"MÍČEK!H177","v":637.5},{"$f":"KOULE!H177","v":638.33333333333337},{"$f":"ČLUNEK!H177","v":806.34357908170341},{"$f":"LEHSED!H177","v":0},{"$f":"ODBÍJENÍ!H177","v":288},{"$f":"PLAVÁNÍ!H177","v":0},{"$f":"ŠPLH!H177","v":0},{"$f":"ŠVIHADLO!H177","v":0},{"$f":"'Z MÍSTA'!H177","v":691.6},{"$f":"REPRE!E80","v":0},5772.8665343686698,null,5]
[null,{"$f":"'60'!B178","v":"DOLEJŠÍ"},{"$f":"'60'!C178","v":"David"},{"$f":"'60'!D178","v":"9.B"},null,{"$f":"'60'!H178","v":790.83622346782988},{"$f":"'300'!H178","v":716.35736988335896},{"$f":"'1000'!H178","v":0},{"$f":"DÁLKA!H178","v":736.55399999999997},{"$f":"VÝŠKA!H178","v":697},{"$f":"MÍČEK!H178","v":300},{"$f":"KOULE!H178","v":600.55555555555554},{"$f":"ČLUNEK!H178","v":861.11453957421986},{"$f":"LEHSED!H178","v":0},{"$f":"ODBÍJENÍ!H178","v":216},{"$f":"PLAVÁNÍ!H178","v":0},{"$f":"ŠPLH!H178","v":297.0296805746105},{"$f":"ŠVIHADLO!H178","v":0},{"$f":"'Z MÍSTA'!H178","v":771.4},{"$f":"REPRE!E81","v":0},5986.8473690555738,null,4]
[null,{"$f":"'60'!B179","v":"POVAŽANEC"},{"$f":"'60'!C179","v":"Martin"},{"$f":"'60'!D179","v":"9.B"},null,{"$f":"'60'!H179","v":831.40441262427737},{"$f":"'300'!H179","v":0},{"$f":"'1000'!H179","v":632.8136700271175},{"$f":"DÁLKA!H179","v":815.1},{"$f":"VÝŠKA!H179","v":782.80000000000007},{"$f":"MÍČEK!H179","v":762.5},{"$f":"KOULE!H179","v":778.88888888888891},{"$f":"ČLUNEK!H179","v":855.67713621721612},{"$f":"LEHSED!H179","v":0},{"$f":"ODBÍJENÍ!H179","v":646.4},{"$f":"PLAVÁNÍ!H179","v":0},{"$f":"ŠPLH!H179","v":455.74989650377398},{"$f":"ŠVIHADLO!H179","v":0},{"$f":"'Z MÍSTA'!H179","v":779},{"$f":"REPRE!E82","v":100},7440.3340042612735,null,4]
[null,{"$f":"'60'!B180","v":"RICHTER"},{"$f":"'60'!C180","v":"Jakub"},{"$f":"'60'!D180","v":"9.B"},null,{"$f":"'60'!H180","v":740.44482030272457},{"$f":"'300'!H180","v":619.91141406407473},{"$f":"'1000'!H180","v":0},{"$f":"DÁLKA!H180","v":677.274},{"$f":"VÝŠKA!H180","v":639.80000000000007},{"$f":"MÍČEK!H180","v":375},{"$f":"KOULE!H180","v":592.22222222222217},{"$f":"ČLUNEK!H180","v":779.33730608151529},{"$f":"LEHSED!H180","v":0},{"$f":"ODBÍJENÍ!H180","v":128},{"$f":"PLAVÁNÍ!H180","v":0},{"$f":"ŠPLH!H180","v":0},{"$f":"ŠVIHADLO!H180","v":0},{"$f":"'Z MÍSTA'!H180","v":0},{"$f":"REPRE!E83","v":0},4551.9897626705369,null,6]
[null,{"$f":"'60'!B181","v":"ROZUMEK"},{"$f":"'60'!C181","v":"Adam"},{"$f":"'60'!D181","v":"9.B"},null,{"$f":"'60'!H181","v":787.17659101952279},{"$f":"'300'!H181","v":650.42242559600129},{"$f":"'1000'!H181","v":0},{"$f":"DÁLKA!H181","v":681.72},{"$f":"VÝŠKA!H181","v":611.20000000000005},{"$f":"MÍČEK!H181","v":625},{"$f":"KOULE!H181","v":793.88888888888891},{"$f":"ČLUNEK!H181","v":868.79207967184243},{"$f":"LEHSED!H181","v":0},{"$f":"ODBÍJENÍ!H181","v":642.4},{"$f":"PLAVÁNÍ!H181","v":0},{"$f":"ŠPLH!H181","v":335.8172165561993},{"$f":"ŠVIHADLO!H181","v":0},{"$f":"'Z MÍSTA'!H181","v":722},{"$f":"REPRE!E84","v":0},6718.4172017324545,null,4]
[null,{"$f":"'60'!B182","v":"VALENTA"},{"$f":"'60'!C182","v":"František"},{"$f":"'60'!D182","v":"9.B"},null,{"$f":"'60'!H182","v":766.70958666666672},{"$f":"'300'!H182","v":650.42242559600129},{"$f":"'1000'!H182","v":0},{"$f":"DÁLKA!H182","v":588.35400000000004},{"$f":"VÝŠKA!H182","v":639.80000000000007},{"$f":"MÍČEK!H182","v":362.5},{"$f":"KOULE!H182","v":615},{"$f":"ČLUNEK!H182","v":837.47099830157708},{"$f":"LEHSED!H182","v":0},{"$f":"ODBÍJENÍ!H182","v":488},{"$f":"PLAVÁNÍ!H182","v":0},{"$f":"ŠPLH!H182","v":0},{"$f":"ŠVIHADLO!H182","v":0},{"$f":"'Z MÍSTA'!H182","v":0},{"$f":"REPRE!E85","v":0},4948.2570105642453,null,6]
[null,{"$f":"'60'!B183","v":"ZAPLATÍLEK"},{"$f":"'60'!C183","v":"Josef"},{"$f":"'60'!D183","v":"9.B"},null,{"$f":"'60'!H183","v":808.19778178970921},{"$f":"'300'!H183","v":716.35736988335896},{"$f":"'1000'!H183","v":0},{"$f":"DÁLKA!H183","v":723.21600000000001},{"$f":"VÝŠKA!H183","v":639.80000000000007},{"$f":"MÍČEK!H183","v":612.5},{"$f":"KOULE!H183","v":662.22222222222217},{"$f":"ČLUNEK!H183","v":879.89517582397218},{"$f":"LEHSED!H183","v":0},{"$f":"ODBÍJENÍ!H183","v":642.4},{"$f":"PLAVÁNÍ!H183","v":0},{"$f":"ŠPLH!H183","v":0},{"$f":"ŠVIHADLO!H183","v":0},{"$f":"'Z MÍSTA'!H183","v":858.8},{"$f":"REPRE!E86","v":50},6593.3885497192623,null,5,{"$f":"SUM(W110:W117)","v":35}]

{"sheet":"ROČ","index":5,"n_rows":203,"n_cols":23,"rows_kept":203,"cut":false,"hidden":false,"merged":[]}
[null,null,"CELKOVÉ   VÝSLEDKY  ",null,null,null,null,null,null,null,null,null,null,null,null,null,null,null,null,null,null,null,{"$f":"TODAY()","v":"2023-06-26"}]
[]
[null,"6. ročník",null,null,null,"   60  m  ","   300m","  1000m","   dálka","   výška","   míček","   koule","   oštěp","  člunek","  lehsed","odbíjení ","  plavání","    shyby","    šplh","švihadlo","z místa"," REPRE","          CELKEM"]
[]
["1.",{"$f":"B121","v":"HONCŮ"},{"$f":"C121","v":"Filip"},"6.A",0,13.4,"00:00:00","00:00:00",302,95,0,4.07,0,{"$f":"N121","v":12.4},35,0,0,0,0,0,0,25,3164.7781155466751]
["2.",{"$f":"B122","v":"JÍLEK"},"Lukáš","6.A",0,0,"00:00:00","00:00:00",0,0,0,0,0,{"$f":"N122","v":0},0,0,0,0,0,0,0,0,0]
["3.",{"$f":"B123","v":"KUČERA"},"Tadeáš","6.A",0,11.9,"00:00:00","00:04:13.760",308,95,16,4.6900000000000004,0,{"$f":"N123","v":11.64},40,7,0,0,9.8000000000000007,64,149,75,5648.0824019348738]
["4.",{"$f":"B124","v":"ROZUMEK"},"Lukáš","6.A",0,13,"00:00:00","00:00:00",225,0,31,6.16,0,{"$f":"N124","v":13.18},30,0,0,0,0,80,0,0,3391.8779795692153]
["5.",{"$f":"B125","v":"ŘEHOŘEK"},"Marek","6.A",0,12.1,"00:00:00","00:00:00",0,80,23,0,0,{"$f":"N125","v":0},25,0,0,0,0,62,160,25,2687.5254685289256]
["6.",{"$f":"B126","v":"ŘÍHA"},"Tadeáš","6.A",0,11.6,"00:00:00","00:00:00",403,115,42.06,6.9,0,{"$f":"N126","v":11.56},32,7,19.77,0,0,79,188,50,6140.0141742417327]
["7.",{"$f":"B127","v":"SKRBEK"},"Richard","6.A",0,11.6,"00:00:00","00:00:00",317,85,0,5.82,0,{"$f":"N127","v":12.94},26,0,0,0,0,31,0,0,3310.403533746256]
["8.",{"$f":"B128","v":"ŠIMEK"},"Erik","6.A",0,10.5,"00:00:00","00:00:00",0,125,37,7.62,0,{"$f":"N128","v":11.73},43,0,0,0,6,81,0,0,4653.9216018218776]
["9.",{"$f":"B129","v":"ŠÍR"},"Jan","6.A",0,11,"00:00:00","00:00:00",319,110,26,5.7,0,{"$f":"N129","v":12.36},30,0,0,0,8.5,94,0,0,4636.9632895727191]
["10.",{"$f":"B130","v":"ŠÍR"},"Stanislav","6.A",0,11.5,"00:00:00","00:00:00",0,95,34,4.28,0,{"$f":"N130","v":12.14},34,0,0,0,6.2,75,0,0,4009.6802929946134]
["11.",{"$f":"B131","v":"ŠPINAR"},"František","6.A",0,13,"00:00:00","00:00:00",262,95,27,5.75,0,{"$f":"N131","v":13.76},0,0,28.43,0,0,0,0,0,3437.0550947816305]
["12.",{"$f":"B132","v":"TOTH"},"Mikuláš","6.A",0,12.4,"00:00:00","00:00:00",0,95,28.5,0,0,{"$f":"N132","v":13.34},43,0,0,0,0,91,0,0,3174.2362559397848]
["13.",{"$f":"B133","v":"WEISZLEMLEIN"},"Adam","6.A",0,12,"00:00:00","00:00:00",240,0,0,0,0,{"$f":"N133","v":13.13},0,0,0,0,0,0,157,0,2282.9516765326534]
["14.",{"$f":"B134","v":"ČERNÝ"},"Filip","6.B",0,0,"00:00:00","00:00:00",0,0,0,0,0,{"$f":"N134","v":0},0,0,0,0,0,0,0,0,0]
["15.",{"$f":"B135","v":"GINGAL"},"Patrik","6.B",0,10.8,"00:00:00","00:00:00",0,0,32.5,0,0,{"$f":"N135","v":12.37},30,0,0,0,0,0,0,0,2120.3488703539329]
["16.",{"$f":"B136","v":"HLAVÁČEK"},"Josef","6.B",0,9.42,"00:00:00","00:00:00",384,115,29,6.9,0,{"$f":"N136","v":11.6},47,0,0,0,5.6,150,0,75,5799.6744777027607]
["17.",{"$f":"B137","v":"KHUDA"},"Ivan","6.B",0,15.2,"00:00:00","00:00:00",0,85,23,6.3,0,{"$f":"N137","v":14.4},0,0,0,0,0,0,0,0,2286.7793770336798]
["18.",{"$f":"B138","v":"KRESAN"},"Matěj","6.B",0,14.9,"00:00:00","00:00:00",0,95,17,4.8,0,{"$f":"N138","v":14.3},20,0,0,0,0,25,0,0,2607.4152279135042]
["19.",{"$f":"B139","v":"RYCHTR"},"Vojtěch","6.B",0,12.9,"00:00:00","00:00:00",0,100,32,0,0,{"$f":"N139","v":12.45},39,0,0,0,0,107,0,25,3374.3242096162498]
["20.",{"$f":"B140","v":"ŠTAJER"},"David","6.B",0,11,"00:00:00","00:00:00",0,120,25,7.92,0,{"$f":"N140","v":12.13},0,0,0,0,0,0,0,25,2961.7913487426313]
["21.",{"$f":"B141","v":"TKACHUK"},"Dzvenyslav","6.B",0,0,"00:00:00","00:00:00",0,0,0,0,0,{"$f":"N141","v":0},0,0,0,0,0,0,0,0,0]
["22.",{"$f":"B142","v":"VELIKOVSKÝ"},"Dominik","6.B",0,13,"00:00:00","00:00:00",0,90,21,3.9,0,13.4,28,0,0,0,0,26,0,25,2838.7548156653825]
[]
[]
[]
[null,null,"CELKOVÉ   VÝSLEDKY  ",null,null,null,null,null,null,null,null,null,null,null,null,null,null,null,null,null,null,null,{"$f":"TODAY()","v":"2023-06-26"}]
[]
[null,"7. ročník",null,null,null,"   60  m  ","   300m","  1000m","   dálka","   výška","   míček","   koule","   oštěp","  člunek","  lehsed","odbíjení ","  plavání","    shyby","    šplh","švihadlo","z místa"," REPRE","          CELKEM"]
[]
["1.",{"$f":"B143","v":"EXNER"},{"$f":"C143","v":"Tomáš"},"7.A",0,9.66,"00:00:59.110","00:05:30.390",382,110,24,8.75,0,10.82,44,8,0,3,0,64,232,0,7027.3824973221235]
["2.",{"$f":"B144","v":"JANATA"},"Denis","7.A",0,10.62,"00:01:02.160","00:05:57.410",375,95,21.5,4.9400000000000004,0,11.05,39,16,0,0,0,49,150,0,5895.6902780167065]
["3.",{"$f":"B145","v":"JINDŘIŠEK"},"Alex Jiří","7.A",0,9.25,"00:00:58.340","00:00:00",361,0,29.5,8.7899999999999991,0,11.08,49,11,0,0,0,42,147,125,5480.6202170553406]
["4.",{"$f":"B146","v":"KAZLEPKA"},"Miroslav","7.A",0,0,"00:00:00","00:00:00",0,0,20.5,0,0,14.21,31,0,0,0,0,0,158,0,1749.3895958532071]
["5.",{"$f":"B147","v":"MARŠÁLEK"},"Ondřej","7.A",0,10.24,"00:01:06.170","00:05:16.140",270,90,26,8.19,0,11.31,0,13,0,0,0,28,0,0,4742.0734966208911]
["6.",{"$f":"B148","v":"MLATEČEK"},"Patrik","7.A",0,10.51,"00:01:17.320","00:05:20.750",361,105,29,6.71,0,11.83,38,22,0,0,19.75,0,159,0,5935.340637802502]
["7.",{"$f":"B149","v":"SCHOLZ"},"Matyáš","7.A",0,10.46,"00:01:05.740","00:00:00",370,110,32,7.71,0,11.38,29,16,0,1,0,53,180,125,5926.4573920761059]
["8.",{"$f":"B150","v":"TOMÁŠ"},"Jakub","7.A",0,10.15,"00:00:57.360","00:04:18.490",315,115,26.5,7.47,0,10.63,45,22,0,0,13.28,86,185,0,7193.7254960415112]
["9.",{"$f":"B151","v":"VÁCLAVÍK"},"Jan","7.A",0,10.02,"00:00:57.810","00:04:09.630",359,115,27,6.19,0,10.75,44,11,0,6,8.8000000000000007,79,189,225,7824.9864859911513]
["10.",{"$f":"B152","v":"VEČEŘA"},"David","7.A",0,10.9,"00:01:06.690","00:05:10.840",330,100,22,6.87,0,11.98,32,7,0,0,0,32,144,0,5594.3743294373671]
["11.",{"$f":"B153","v":"VYBÍRAL"},"Radim","7.A",0,8.7899999999999991,"00:00:52","00:03:51.220",445,122,35.5,7.66,0,10.15,63,451,0,6,5.17,110,200,225,9838.1036110122732]
["12.",{"$f":"B154","v":"BERISHA"},"David","7.B",0,0,"00:00:00","00:00:00",0,0,18,0,0,14.26,0,0,0,0,0,0,0,0,726.55395131681462]
["13.",{"$f":"B155","v":"EFENBERK"},"Šimon","7.B",0,9.1300000000000008,"00:00:55.480","00:04:58.020",340,115,26.5,8.9499999999999993,0,10.63,46,6,28.87,2,8,56,215,50,7885.5828119084699]
["14.",{"$f":"B156","v":"FEJKL"},"Antonín","7.B",0,8.36,"00:00:50.760","00:03:34.040",475,147,49,9.3699999999999992,0,10.26,61,451,27.87,1,5.6,143,231,225,10753.119313392317]
["15.",{"$f":"B157","v":"GOTTSTEIN"},"Matouš","7.B",0,8.36,"00:00:45.860","00:03:10.250",465,125,42,9.59,0,10.029999999999999,57,440,28.84,6,4.7,140,234,275,11202.552055142392]
["16.",{"$f":"B158","v":"MAŘAS"},"Dominik","7.B",0,16.25,"00:01:26.820","00:04:22.160",310,130,33,9.2899999999999991,0,11.11,19,0,0,1,0,30,212,0,5919.1760700602845]
["17.",{"$f":"B159","v":"POVAŽANEC"},"Lukáš","7.B",0,10.31,"00:01:01.390","00:04:51.040",351,0,45,10.08,0,12.16,30,440,0,0,0,57,174,275,6908.7179094610919]
["18.",{"$f":"B160","v":"VANCL"},"Jakub","7.B",0,10.85,"00:01:06.320","00:05:19.210",287,95,22,6.65,0,12.84,40,8,0,0,0,50,155,75,5747.3123649594172]
["19.",{"$f":"B161","v":"VANCL"},"Miroslav","7.B",0,0,"00:01:36.810","00:07:16.920",352,90,25,6.64,0,12.1,0,7,0,0,0,0,176,0,4015.0622315513619]
["20.",{"$f":"B162","v":"VOTOČEK"},"Michal","7.B",0,10.95,"00:01:09.910","00:04:51.610",362,0,28,7.95,0,12.15,48,6,0,0,0,58,151,50,5635.539030144183]
[]
[]
[" ",null,"CELKOVÉ   VÝSLEDKY  ",null,null,null,null,null,null,null,null,null,null,null,null,null,null,null,null,null,null,null,{"$f":"W30","v":"2023-06-26"}]
[]
[null,"8. ročník",null,null,null,"   60  m  ","   300m","  1000m","   dálka","   výška","   míček","   koule","   oštěp","  člunek","  lehsed","odbíjení ","  plavání","    shyby","    šplh","švihadlo","z místa"," REPRE","     CELKEM"]
[]
["1.",{"$f":"B163","v":"DEMČUK"},{"$f":"C163","v":"Ilja"},"8.A",0,9.3000000000000007,"00:00:53.410","00:04:33.520",373,120,30.5,8.4700000000000006,0,10.86,35,12,0,1,0,55,190,0,6914.6284268612817]
["2.",{"$f":"B164","v":"FAISTAUER"},"Kryštof","8.A",0,8.32,"00:00:51.860","00:03:54.210",454,145,40,10.31,0,9.9700000000000006,44,164,0,5,4.63,67,221,175,9625.6568166360867]
["3.",{"$f":"B165","v":"FRK"},"Matyáš","8.A",0,10.27,"00:01:02.730","00:00:00",359,105,0,0,0,0,38,0,0,3,8.2100000000000009,69,180,0,4658.21872782419]
["4.",{"$f":"B166","v":"HUBÁLOVSKÝ"},"Marek","8.A",0,9.2799999999999994,"00:00:56.800","00:04:19.620",419,110,34.5,7.05,0,10.75,47,23,0,2,16.18,68,190,0,7516.7647204135992]
["5.",{"$f":"B167","v":"MAŤÁTKO"},"Jakub","8.A",0,11.85,"00:01:13.600","00:00:00",0,100,27.5,0,0,12.46,0,14,0,0,0,0,0,0,2712.9415236665754]
["6.",{"$f":"B168","v":"MERY"},"Luboš","8.A",0,10.89,"00:01:06.630","00:05:31.270",323,85,21.5,6.17,0,11.78,32,12,0,0,0,51,160,0,5657.9606961673135]
["7.",{"$f":"B169","v":"NOVOTNÝ"},"Matěj","8.A",0,11.28,"00:01:12.840","00:05:34.810",315,95,40,8.31,0,11.44,43,12,0,0,0,53,150,0,6102.9976434630098]
["8.",{"$f":"B170","v":"ŘEHOŘEK"},"Vojtěch","8.A",0,9.56,"00:01:00.020","00:04:22.480",375,0,53,10.1,0,0,37,164,0,0,0,136,189,175,6935.537999562388]
["9.",{"$f":"B171","v":"ŠÍR"},"Matyáš","8.A",0,10.8,"00:01:02.280","00:00:00",341,105,29.5,5.53,0,12.1,47,8,0,0,0,100,151,50,5858.7845604882823]
["10.",{"$f":"B172","v":"TORÁČ"},"Tomáš","8.A",0,17.34,"00:02:07.730","00:00:00",0,95,20,0,0,16.420000000000002,41,14,0,0,0,35,0,0,2556.8352299636281]
["11.",{"$f":"B173","v":"VÁCLAVÍK"},"Ondřej","8.A",0,8.84,"00:00:00","00:03:38.680",438,120,49,7.53,0,10.119999999999999,47,12,0,14,3.89,65,212,0,8690.595163969545]
["12.",{"$f":"B174","v":"AUERSWALD"},"Daniel","8.B",0,9.84,"00:01:00.420","00:00:00",388,0,32,6.76,0,10.92,42,52,0,5,5.82,125,185,0,6997.7836031428706]
["13.",{"$f":"B175","v":"BOUKAL"},"Jakub","8.B",0,0,"00:00:00","00:00:00",0,0,0,0,0,0,0,0,0,0,0,0,0,0,0]
["14.",{"$f":"B176","v":"BUDÍN"},"Martin","8.B",0,9.36,"00:00:53.280","00:03:20.900",420,115,42,7.26,0,10.11,42,14,0,9,5.21,130,200,0,9050.1921388346254]
["15.",{"$f":"B177","v":"DVOŘÁK"},"Dominik","8.B",0,9.64,"00:00:00","00:04:46.920",355,105,34,8.8800000000000008,0,11.15,37,0,0,3,6.79,74,190,0,6694.4134729397147]
["16.",{"$f":"B178","v":"FIŠERA"},"Vojtěch","8.B",0,10.4,"00:01:01.920","00:04:43.630",304,105,22.5,7.12,0,11.25,52,10,0,0,14.93,61,155,0,6556.5827606138027]
["17.",{"$f":"B179","v":"JINDŘIŠEK"},"Vít","8.B",0,8.02,"00:00:42.340","00:03:07.980",493,135,56,11.17,0,9.39,49,54,0,20,3.36,140,235,175,12027.419476279107]
["18.",{"$f":"B180","v":"JIROUŠ"},"Matouš","8.B",0,9.5500000000000007,"00:00:55.660","00:00:00",392,0,41,7.85,0,10.64,55,0,25.48,2,9.19,133,210,50,7381.7251559765946]
["19.",{"$f":"B181","v":"KERLE"},"Marek","8.B",0,8.7200000000000006,"00:00:44.950","00:03:36.620",472,150,49,11.17,0,10.08,52,32,0,14,3.79,113,217,100,10679.190567686566]
["20.",{"$f":"B182","v":"LUKEŠ"},"Jakub","8.B",0,8.5,"00:00:48.170","00:03:28.410",452,150,30,7.25,0,9.8000000000000007,50,14,0,5,3.63,115,242,100,9486.5074178165614]
["21.",{"$f":"B183","v":"OTT"},"Matyáš","8.B",0,8.44,"00:00:44.240","00:03:20.680",440,125,41,8.9499999999999993,0,9.73,43,54,17.16,15,5.87,146,215,100,11247.085534025264]
["22.",{"$f":"B184","v":"POKORNÝ"},"Matyáš","8.B",0,8.42,"00:00:46.580","00:03:26.940",454,153,55,8.31,0,9.4600000000000009,67,0,0,6,5.16,146,230,150,10151.108721171227]
["23.",{"$f":"B185","v":"POLÁČEK"},"Matyáš","8.B",0,10.16,"00:00:00","00:05:19.800",328,100,42,8.69,0,0,37,52,0,0,0,95,161,125,5792.9820899201759]
["24.",{"$f":"B186","v":"ULLMAN"},"Šimon","8.B",0,8.9700000000000006,"00:00:53.180","00:05:06.060",466,130,26.5,6.48,0,10.57,50,23,0,9,5.51,58,245,0,8527.7504381435592]
["25.",{"$f":"B187","v":"VALENTA"},"Jakub","8.B",0,9.3000000000000007,"00:00:50.250","00:03:51.850",407,140,28,6.51,0,9.93,69,0,0,6,5.35,111,198,50,8842.009697947833]
["26.",{"$f":"B188","v":"VRBATA"},"Dominik","8.B",0,9.35,"00:00:55.100","00:03:57.340",0,125,40,7.05,0,10.19,43,32,18.32,7,3.25,96,192,0,8878.0766059272646]
[]
[]
[null,null,"CELKOVÉ   VÝSLEDKY  "]
[]
[null,"9. ročník",null,null,null,"   60  m  ","   300m","  1000m","   dálka","   výška","   míček","   koule","   oštěp","  člunek","  lehsed","odbíjení ","  plavání","    shyby","    šplh","švihadlo","z místa"," REPRE","   CELKEM"]
[]
["1.",{"$f":"B189","v":"FEJKL"},{"$f":"C189","v":"Jan"},"9.A",0,8.2100000000000009,"00:00:45.510","00:03:35.900",521,157,61,9.99,0,9.5299999999999994,0,232,0,10,3.42,0,251,225,10081.958687690514]
["2.",{"$f":"B190","v":"KOTYK"},"Tadeáš","9.A",0,10.49,"00:00:00","00:00:00",374,115,26.5,9.07,0,11.03,0,11,0,1,0,0,0,0,3947.4488025651008]
["3.",{"$f":"B191","v":"KRAUSE"},"Tadeáš","9.A",0,8.48,"00:00:00","00:03:12.100",468,155,44.2,8.02,0,9.8800000000000008,0,65,0,12,4.95,0,225,150,8417.1212567996281]
["4.",{"$f":"B192","v":"LEŠÁK"},"Martin","9.A",0,9.9499999999999993,"00:00:00","00:00:00",374,130,33.5,8.44,0,11.16,0,16,0,0,0,0,0,0,4070.1977399177431]
["5.",{"$f":"B193","v":"NECHANICKÝ"},"David","9.A",0,8.06,"00:00:49.380","00:03:43.500",542,141,45,9.5,0,9.08,52,232,0,6,0,125,254,225,10145.456515127225]
["6.",{"$f":"B194","v":"ŘEHOŘEK"},"Jan","9.A",0,0,"00:00:51.360","00:00:00",455,146,51.5,8.08,0,0,0,512,0,3,0,0,235,125,5654.7042662620979]
["7.",{"$f":"B195","v":"SOUKUP"},"Ondřej","9.A",0,0,"00:00:00","00:00:00",422,141,0,10.02,0,0,0,0,0,0,0,0,0,0,2248.4073333333336]
["8.",{"$f":"B196","v":"SPANILÝ"},"David","9.A",0,8.14,"00:00:45.800","00:03:28.500",495,141,61,10.77,0,9.18,49,512,0,7,4.04,132,273,225,11367.409730766381]
["9.",{"$f":"B197","v":"ČERNÝ"},"Michal","9.B",0,9.67,"00:00:59.010","00:00:00",387,120,51,8.49,0,10.68,0,36,0,1,0,0,182,0,5847.8665343686698]
["10.",{"$f":"B198","v":"DOLEJŠÍ"},"David","9.B",0,9.17,"00:00:52.400","00:00:00",422,125,24,7.81,0,10.16,0,27,0,2,10.44,0,203,0,6136.8473690555738]
["11.",{"$f":"B199","v":"POVAŽANEC"},"Martin","9.B",0,8.65,"00:00:00","00:04:29.200",475,140,61,11.02,0,10.210000000000001,0,96,0,2,5.9,0,205,100,7590.3340042612735]
["12.",{"$f":"B200","v":"RICHTER"},"Jakub","9.B",0,9.91,"00:00:57.870","00:00:00",382,115,30,7.66,0,10.95,0,16,0,0,0,0,0,0,4551.9897626705369]
["13.",{"$f":"B201","v":"ROZUMEK"},"Adam","9.B",0,9.2200000000000006,"00:00:56.020","00:00:00",385,110,50,11.29,0,10.09,0,86,0,2,8.6999999999999993,0,190,0,6868.4172017324545]
["14.",{"$f":"B202","v":"VALENTA"},"František","9.B",0,9.51,"00:00:56.020","00:00:00",322,115,29,8.07,0,10.38,0,61,0,1,0,0,0,0,5023.2570105642453]
["15.",{"$f":"B203","v":"ZAPLATÍLEK"},"Josef","9.B",0,8.94,"00:00:52.400","00:00:00",413,115,49,8.92,0,9.99,0,86,0,3,0,0,226,50,6818.3885497192623]
[]
[]
[]
[]
[]
[]
[]
[]
[]
[]
[]
[]
[]
[]
[null,{"$f":"'60'!B101","v":"HONCŮ"},{"$f":"'60'!C101","v":"Filip"},{"$f":"'60'!D101","v":"6.A"},null,{"$f":"'60'!E101","v":13.4},{"$f":"'300'!E101","v":"00:00:00"},{"$f":"'1000'!E101","v":"00:00:00"},{"$f":"DÁLKA!E101","v":302},{"$f":"VÝŠKA!E101","v":95},{"$f":"MÍČEK!E101","v":0},{"$f":"KOULE!E101","v":4.07},{"$f":"OŠTĚP!E101","v":0},{"$f":"ČLUNEK!E101","v":12.4},{"$f":"LEHSED!E101","v":35},{"$f":"ODBÍJENÍ!E101","v":0},{"$f":"PLAVÁNÍ!E101","v":0},{"$f":"SHYBY!E101","v":0},{"$f":"ŠPLH!E101","v":0},{"$f":"ŠVIHADLO!E101","v":0},{"$f":"'Z MÍSTA'!E101","v":0},{"$f":"REPRE!E4","v":25},{"$f":"'60'!H101+'300'!H101+'1000'!H101+DÁLKA!H101+VÝŠKA!H101+MÍČEK!H101+KOULE!H101+OŠTĚP!H101+ČLUNEK!H101+LEHSED!H101+ODBÍJENÍ!H101+PLAVÁNÍ!H101+SHYBY!H101+ŠPLH!H101+ŠVIHADLO!H101+'Z MÍSTA'!H101+REPRE!E4","v":3164.7781155466751}]
[null,{"$f":"'60'!B102","v":"JÍLEK"},{"$f":"'60'!C102","v":"Lukáš"},{"$f":"'60'!D102","v":"6.A"},null,{"$f":"'60'!E102","v":0},{"$f":"'300'!E102","v":"00:00:00"},{"$f":"'1000'!E102","v":"00:00:00"},{"$f":"DÁLKA!E102","v":0},{"$f":"VÝŠKA!E102","v":0},{"$f":"MÍČEK!E102","v":0},{"$f":"KOULE!E102","v":0},{"$f":"OŠTĚP!E102","v":0},{"$f":"ČLUNEK!E102","v":0},{"$f":"LEHSED!E102","v":0},{"$f":"ODBÍJENÍ!E102","v":0},{"$f":"PLAVÁNÍ!E102","v":0},{"$f":"SHYBY!E102","v":0},{"$f":"ŠPLH!E102","v":0},{"$f":"ŠVIHADLO!E102","v":0},{"$f":"'Z MÍSTA'!E102","v":0},{"$f":"REPRE!E5","v":0},{"$f":"'60'!H102+'300'!H102+'1000'!H102+DÁLKA!H102+VÝŠKA!H102+MÍČEK!H102+KOULE!H102+OŠTĚP!H102+ČLUNEK!H102+LEHSED!H102+ODBÍJENÍ!H102+PLAVÁNÍ!H102+SHYBY!H102+ŠPLH!H102+ŠVIHADLO!H102+'Z MÍSTA'!H102+REPRE!E5","v":0}]
[null,{"$f":"'60'!B103","v":"KUČERA"},{"$f":"'60'!C103","v":"Tadeáš"},{"$f":"'60'!D103","v":"6.A"},null,{"$f":"'60'!E103","v":11.9},{"$f":"'300'!E103","v":"00:00:00"},{"$f":"'1000'!E103","v":"00:04:13.760"},{"$f":"DÁLKA!E103","v":308},{"$f":"VÝŠKA!E103","v":95},{"$f":"MÍČEK!E103","v":16},{"$f":"KOULE!E103","v":4.6900000000000004},{"$f":"OŠTĚP!E103","v":0},{"$f":"ČLUNEK!E103","v":11.64},{"$f":"LEHSED!E103","v":40},{"$f":"ODBÍJENÍ!E103","v":7},{"$f":"PLAVÁNÍ!E103","v":0},{"$f":"SHYBY!E103","v":0},{"$f":"ŠPLH!E103","v":9.8000000000000007},{"$f":"ŠVIHADLO!E103","v":64},{"$f":"'Z MÍSTA'!E103","v":149},{"$f":"REPRE!E6","v":75},{"$f":"'60'!H103+'300'!H103+'1000'!H103+DÁLKA!H103+VÝŠKA!H103+MÍČEK!H103+KOULE!H103+OŠTĚP!H103+ČLUNEK!H103+LEHSED!H103+ODBÍJENÍ!H103+PLAVÁNÍ!H103+SHYBY!H103+ŠPLH!H103+ŠVIHADLO!H103+'Z MÍSTA'!H103+REPRE!E6","v":5648.0824019348738}]
[null,{"$f":"'60'!B104","v":"ROZUMEK"},{"$f":"'60'!C104","v":"Lukáš"},{"$f":"'60'!D104","v":"6.A"},null,{"$f":"'60'!E104","v":13},{"$f":"'300'!E104","v":"00:00:00"},{"$f":"'1000'!E104","v":"00:00:00"},{"$f":"DÁLKA!E104","v":225},{"$f":"VÝŠKA!E104","v":0},{"$f":"MÍČEK!E104","v":31},{"$f":"KOULE!E104","v":6.16},{"$f":"OŠTĚP!E104","v":0},{"$f":"ČLUNEK!E104","v":13.18},{"$f":"LEHSED!E104","v":30},{"$f":"ODBÍJENÍ!E104","v":0},{"$f":"PLAVÁNÍ!E104","v":0},{"$f":"SHYBY!E104","v":0},{"$f":"ŠPLH!E104","v":0},{"$f":"ŠVIHADLO!E104","v":80},{"$f":"'Z MÍSTA'!E104","v":0},{"$f":"REPRE!E7","v":0},{"$f":"'60'!H104+'300'!H104+'1000'!H104+DÁLKA!H104+VÝŠKA!H104+MÍČEK!H104+KOULE!H104+OŠTĚP!H104+ČLUNEK!H104+LEHSED!H104+ODBÍJENÍ!H104+PLAVÁNÍ!H104+SHYBY!H104+ŠPLH!H104+ŠVIHADLO!H104+'Z MÍSTA'!H104+REPRE!E7","v":3391.8779795692153}]
[null,{"$f":"'60'!B105","v":"ŘEHOŘEK"},{"$f":"'60'!C105","v":"Marek"},{"$f":"'60'!D105","v":"6.A"},null,{"$f":"'60'!E105","v":12.1},{"$f":"'300'!E105","v":"00:00:00"},{"$f":"'1000'!E105","v":"00:00:00"},{"$f":"DÁLKA!E105","v":0},{"$f":"VÝŠKA!E105","v":80},{"$f":"MÍČEK!E105","v":23},{"$f":"KOULE!E105","v":0},{"$f":"OŠTĚP!E105","v":0},{"$f":"ČLUNEK!E105","v":0},{"$f":"LEHSED!E105","v":25},{"$f":"ODBÍJENÍ!E105","v":0},{"$f":"PLAVÁNÍ!E105","v":0},{"$f":"SHYBY!E105","v":0},{"$f":"ŠPLH!E105","v":0},{"$f":"ŠVIHADLO!E105","v":62},{"$f":"'Z MÍSTA'!E105","v":160},{"$f":"REPRE!E8","v":25},{"$f":"'60'!H105+'300'!H105+'1000'!H105+DÁLKA!H105+VÝŠKA!H105+MÍČEK!H105+KOULE!H105+OŠTĚP!H105+ČLUNEK!H105+LEHSED!H105+ODBÍJENÍ!H105+PLAVÁNÍ!H105+SHYBY!H105+ŠPLH!H105+ŠVIHADLO!H105+'Z MÍSTA'!H105+REPRE!E8","v":2687.5254685289256}]
[null,{"$f":"'60'!B106","v":"ŘÍHA"},{"$f":"'60'!C106","v":"Tadeáš"},{"$f":"'60'!D106","v":"6.A"},null,{"$f":"'60'!E106","v":11.6},{"$f":"'300'!E106","v":"00:00:00"},{"$f":"'1000'!E106","v":"00:00:00"},{"$f":"DÁLKA!E106","v":403},{"$f":"VÝŠKA!E106","v":115},{"$f":"MÍČEK!E106","v":42.06},{"$f":"KOULE!E106","v":6.9},{"$f":"OŠTĚP!E106","v":0},{"$f":"ČLUNEK!E106","v":11.56},{"$f":"LEHSED!E106","v":32},{"$f":"ODBÍJENÍ!E106","v":7},{"$f":"PLAVÁNÍ!E106","v":19.77},{"$f":"SHYBY!E106","v":0},{"$f":"ŠPLH!E106","v":0},{"$f":"ŠVIHADLO!E106","v":79},{"$f":"'Z MÍSTA'!E106","v":188},{"$f":"REPRE!E9","v":50},{"$f":"'60'!H106+'300'!H106+'1000'!H106+DÁLKA!H106+VÝŠKA!H106+MÍČEK!H106+KOULE!H106+OŠTĚP!H106+ČLUNEK!H106+LEHSED!H106+ODBÍJENÍ!H106+PLAVÁNÍ!H106+SHYBY!H106+ŠPLH!H106+ŠVIHADLO!H106+'Z MÍSTA'!H106+REPRE!E9","v":6140.0141742417327}]
[null,{"$f":"'60'!B107","v":"SKRBEK"},{"$f":"'60'!C107","v":"Richard"},{"$f":"'60'!D107","v":"6.A"},null,{"$f":"'60'!E107","v":11.6},{"$f":"'300'!E107","v":"00:00:00"},{"$f":"'1000'!E107","v":"00:00:00"},{"$f":"DÁLKA!E107","v":317},{"$f":"VÝŠKA!E107","v":85},{"$f":"MÍČEK!E107","v":0},{"$f":"KOULE!E107","v":5.82},{"$f":"OŠTĚP!E107","v":0},{"$f":"ČLUNEK!E107","v":12.94},{"$f":"LEHSED!E107","v":26},{"$f":"ODBÍJENÍ!E107","v":0},{"$f":"PLAVÁNÍ!E107","v":0},{"$f":"SHYBY!E107","v":0},{"$f":"ŠPLH!E107","v":0},{"$f":"ŠVIHADLO!E107","v":31},{"$f":"'Z MÍSTA'!E107","v":0},{"$f":"REPRE!E10","v":0},{"$f":"'60'!H107+'300'!H107+'1000'!H107+DÁLKA!H107+VÝŠKA!H107+MÍČEK!H107+KOULE!H107+OŠTĚP!H107+ČLUNEK!H107+LEHSED!H107+ODBÍJENÍ!H107+PLAVÁNÍ!H107+SHYBY!H107+ŠPLH!H107+ŠVIHADLO!H107+'Z MÍSTA'!H107+REPRE!E10","v":3310.403533746256}]
[null,{"$f":"'60'!B108","v":"ŠIMEK"},{"$f":"'60'!C108","v":"Erik"},{"$f":"'60'!D108","v":"6.A"},null,{"$f":"'60'!E108","v":10.5},{"$f":"'300'!E108","v":"00:00:00"},{"$f":"'1000'!E108","v":"00:00:00"},{"$f":"DÁLKA!E108","v":0},{"$f":"VÝŠKA!E108","v":125},{"$f":"MÍČEK!E108","v":37},{"$f":"KOULE!E108","v":7.62},{"$f":"OŠTĚP!E108","v":0},{"$f":"ČLUNEK!E108","v":11.73},{"$f":"LEHSED!E108","v":43},{"$f":"ODBÍJENÍ!E108","v":0},{"$f":"PLAVÁNÍ!E108","v":0},{"$f":"SHYBY!E108","v":0},{"$f":"ŠPLH!E108","v":6},{"$f":"ŠVIHADLO!E108","v":81},{"$f":"'Z MÍSTA'!E108","v":0},{"$f":"REPRE!E11","v":0},{"$f":"'60'!H108+'300'!H108+'1000'!H108+DÁLKA!H108+VÝŠKA!H108+MÍČEK!H108+KOULE!H108+OŠTĚP!H108+ČLUNEK!H108+LEHSED!H108+ODBÍJENÍ!H108+PLAVÁNÍ!H108+SHYBY!H108+ŠPLH!H108+ŠVIHADLO!H108+'Z MÍSTA'!H108+REPRE!E11","v":4653.9216018218776}]
[null,{"$f":"'60'!B109","v":"ŠÍR"},{"$f":"'60'!C109","v":"Jan"},{"$f":"'60'!D109","v":"6.A"},null,{"$f":"'60'!E109","v":11},{"$f":"'300'!E109","v":"00:00:00"},{"$f":"'1000'!E109","v":"00:00:00"},{"$f":"DÁLKA!E109","v":319},{"$f":"VÝŠKA!E109","v":110},{"$f":"MÍČEK!E109","v":26},{"$f":"KOULE!E109","v":5.7},{"$f":"OŠTĚP!E109","v":0},{"$f":"ČLUNEK!E109","v":12.36},{"$f":"LEHSED!E109","v":30},{"$f":"ODBÍJENÍ!E109","v":0},{"$f":"PLAVÁNÍ!E109","v":0},{"$f":"SHYBY!E109","v":0},{"$f":"ŠPLH!E109","v":8.5},{"$f":"ŠVIHADLO!E109","v":94},{"$f":"'Z MÍSTA'!E109","v":0},{"$f":"REPRE!E12","v":0},{"$f":"'60'!H109+'300'!H109+'1000'!H109+DÁLKA!H109+VÝŠKA!H109+MÍČEK!H109+KOULE!H109+OŠTĚP!H109+ČLUNEK!H109+LEHSED!H109+ODBÍJENÍ!H109+PLAVÁNÍ!H109+SHYBY!H109+ŠPLH!H109+ŠVIHADLO!H109+'Z MÍSTA'!H109+REPRE!E12","v":4636.9632895727191}]
[null,{"$f":"'60'!B110","v":"ŠÍR"},{"$f":"'60'!C110","v":"Stanislav"},{"$f":"'60'!D110","v":"6.A"},null,{"$f":"'60'!E110","v":11.5},{"$f":"'300'!E110","v":"00:00:00"},{"$f":"'1000'!E110","v":"00:00:00"},{"$f":"DÁLKA!E110","v":0},{"$f":"VÝŠKA!E110","v":95},{"$f":"MÍČEK!E110","v":34},{"$f":"KOULE!E110","v":4.28},{"$f":"OŠTĚP!E110","v":0},{"$f":"ČLUNEK!E110","v":12.14},{"$f":"LEHSED!E110","v":34},{"$f":"ODBÍJENÍ!E110","v":0},{"$f":"PLAVÁNÍ!E110","v":0},{"$f":"SHYBY!E110","v":0},{"$f":"ŠPLH!E110","v":6.2},{"$f":"ŠVIHADLO!E110","v":75},{"$f":"'Z MÍSTA'!E110","v":0},{"$f":"REPRE!E13","v":0},{"$f":"'60'!H110+'300'!H110+'1000'!H110+DÁLKA!H110+VÝŠKA!H110+MÍČEK!H110+KOULE!H110+OŠTĚP!H110+ČLUNEK!H110+LEHSED!H110+ODBÍJENÍ!H110+PLAVÁNÍ!H110+SHYBY!H110+ŠPLH!H110+ŠVIHADLO!H110+'Z MÍSTA'!H110+REPRE!E13","v":4009.6802929946134}]
[null,{"$f":"'60'!B111","v":"ŠPINAR"},{"$f":"'60'!C111","v":"František"},{"$f":"'60'!D111","v":"6.A"},null,{"$f":"'60'!E111","v":13},{"$f":"'300'!E111","v":"00:00:00"},{"$f":"'1000'!E111","v":"00:00:00"},{"$f":"DÁLKA!E111","v":262},{"$f":"VÝŠKA!E111","v":95},{"$f":"MÍČEK!E111","v":27},{"$f":"KOULE!E111","v":5.75},{"$f":"OŠTĚP!E111","v":0},{"$f":"ČLUNEK!E111","v":13.76},{"$f":"LEHSED!E111","v":0},{"$f":"ODBÍJENÍ!E111","v":0},{"$f":"PLAVÁNÍ!E111","v":28.43},{"$f":"SHYBY!E111","v":0},{"$f":"ŠPLH!E111","v":0},{"$f":"ŠVIHADLO!E111","v":0},{"$f":"'Z MÍSTA'!E111","v":0},{"$f":"REPRE!E14","v":0},{"$f":"'60'!H111+'300'!H111+'1000'!H111+DÁLKA!H111+VÝŠKA!H111+MÍČEK!H111+KOULE!H111+OŠTĚP!H111+ČLUNEK!H111+LEHSED!H111+ODBÍJENÍ!H111+PLAVÁNÍ!H111+SHYBY!H111+ŠPLH!H111+ŠVIHADLO!H111+'Z MÍSTA'!H111+REPRE!E14","v":3437.0550947816305}]
[null,{"$f":"'60'!B112","v":"TOTH"},{"$f":"'60'!C112","v":"Mikuláš"},{"$f":"'60'!D112","v":"6.A"},null,{"$f":"'60'!E112","v":12.4},{"$f":"'300'!E112","v":"00:00:00"},{"$f":"'1000'!E112","v":"00:00:00"},{"$f":"DÁLKA!E112","v":0},{"$f":"VÝŠKA!E112","v":95},{"$f":"MÍČEK!E112","v":28.5},{"$f":"KOULE!E112","v":0},{"$f":"OŠTĚP!E112","v":0},{"$f":"ČLUNEK!E112","v":13.34},{"$f":"LEHSED!E112","v":43},{"$f":"ODBÍJENÍ!E112","v":0},{"$f":"PLAVÁNÍ!E112","v":0},{"$f":"SHYBY!E112","v":0},{"$f":"ŠPLH!E112","v":0},{"$f":"ŠVIHADLO!E112","v":91},{"$f":"'Z MÍSTA'!E112","v":0},{"$f":"REPRE!E15","v":0},{"$f":"'60'!H112+'300'!H112+'1000'!H112+DÁLKA!H112+VÝŠKA!H112+MÍČEK!H112+KOULE!H112+OŠTĚP!H112+ČLUNEK!H112+LEHSED!H112+ODBÍJENÍ!H112+PLAVÁNÍ!H112+SHYBY!H112+ŠPLH!H112+ŠVIHADLO!H112+'Z MÍSTA'!H112+REPRE!E15","v":3174.2362559397848}]
[null,{"$f":"'60'!B113","v":"WEISZLEMLEIN"},{"$f":"'60'!C113","v":"Adam"},{"$f":"'60'!D113","v":"6.A"},null,{"$f":"'60'!E113","v":12},{"$f":"'300'!E113","v":"00:00:00"},{"$f":"'1000'!E113","v":"00:00:00"},{"$f":"DÁLKA!E113","v":240},{"$f":"VÝŠKA!E113","v":0},{"$f":"MÍČEK!E113","v":0},{"$f":"KOULE!E113","v":0},{"$f":"OŠTĚP!E113","v":0},{"$f":"ČLUNEK!E113","v":13.13},{"$f":"LEHSED!E113","v":0},{"$f":"ODBÍJENÍ!E113","v":0},{"$f":"PLAVÁNÍ!E113","v":0},{"$f":"SHYBY!E113","v":0},{"$f":"ŠPLH!E113","v":0},{"$f":"ŠVIHADLO!E113","v":0},{"$f":"'Z MÍSTA'!E113","v":157},{"$f":"REPRE!E16","v":0},{"$f":"'60'!H113+'300'!H113+'1000'!H113+DÁLKA!H113+VÝŠKA!H113+MÍČEK!H113+KOULE!H113+OŠTĚP!H113+ČLUNEK!H113+LEHSED!H113+ODBÍJENÍ!H113+PLAVÁNÍ!H113+SHYBY!H113+ŠPLH!H113+ŠVIHADLO!H113+'Z MÍSTA'!H113+REPRE!E16","v":2282.9516765326534}]
[null,{"$f":"'60'!B114","v":"ČERNÝ"},{"$f":"'60'!C114","v":"Filip"},{"$f":"'60'!D114","v":"6.B"},null,{"$f":"'60'!E114","v":0},{"$f":"'300'!E114","v":"00:00:00"},{"$f":"'1000'!E114","v":"00:00:00"},{"$f":"DÁLKA!E114","v":0},{"$f":"VÝŠKA!E114","v":0},{"$f":"MÍČEK!E114","v":0},{"$f":"KOULE!E114","v":0},{"$f":"OŠTĚP!E114","v":0},{"$f":"ČLUNEK!E114","v":0},{"$f":"LEHSED!E114","v":0},{"$f":"ODBÍJENÍ!E114","v":0},{"$f":"PLAVÁNÍ!E114","v":0},{"$f":"SHYBY!E114","v":0},{"$f":"ŠPLH!E114","v":0},{"$f":"ŠVIHADLO!E114","v":0},{"$f":"'Z MÍSTA'!E114","v":0},{"$f":"REPRE!E17","v":0},{"$f":"'60'!H114+'300'!H114+'1000'!H114+DÁLKA!H114+VÝŠKA!H114+MÍČEK!H114+KOULE!H114+OŠTĚP!H114+ČLUNEK!H114+LEHSED!H114+ODBÍJENÍ!H114+PLAVÁNÍ!H114+SHYBY!H114+ŠPLH!H114+ŠVIHADLO!H114+'Z MÍSTA'!H114+REPRE!E17","v":0}]
[null,{"$f":"'60'!B115","v":"GINGAL"},{"$f":"'60'!C115","v":"Patrik"},{"$f":"'60'!D115","v":"6.B"},null,{"$f":"'60'!E115","v":10.8},{"$f":"'300'!E115","v":"00:00:00"},{"$f":"'1000'!E115","v":"00:00:00"},{"$f":"DÁLKA!E115","v":0},{"$f":"VÝŠKA!E115","v":0},{"$f":"MÍČEK!E115","v":32.5},{"$f":"KOULE!E115","v":0},{"$f":"OŠTĚP!E115","v":0},{"$f":"ČLUNEK!E115","v":12.37},{"$f":"LEHSED!E115","v":30},{"$f":"ODBÍJENÍ!E115","v":0},{"$f":"PLAVÁNÍ!E115","v":0},{"$f":"SHYBY!E115","v":0},{"$f":"ŠPLH!E115","v":0},{"$f":"ŠVIHADLO!E115","v":0},{"$f":"'Z MÍSTA'!E115","v":0},{"$f":"REPRE!E18","v":0},{"$f":"'60'!H115+'300'!H115+'1000'!H115+DÁLKA!H115+VÝŠKA!H115+MÍČEK!H115+KOULE!H115+OŠTĚP!H115+ČLUNEK!H115+LEHSED!H115+ODBÍJENÍ!H115+PLAVÁNÍ!H115+SHYBY!H115+ŠPLH!H115+ŠVIHADLO!H115+'Z MÍSTA'!H115+REPRE!E18","v":2120.3488703539329}]
[null,{"$f":"'60'!B116","v":"HLAVÁČEK"},{"$f":"'60'!C116","v":"Josef"},{"$f":"'60'!D116","v":"6.B"},null,{"$f":"'60'!E116","v":9.42},{"$f":"'300'!E116","v":"00:00:00"},{"$f":"'1000'!E116","v":"00:00:00"},{"$f":"DÁLKA!E116","v":384},{"$f":"VÝŠKA!E116","v":115},{"$f":"MÍČEK!E116","v":29},{"$f":"KOULE!E116","v":6.9},{"$f":"OŠTĚP!E116","v":0},{"$f":"ČLUNEK!E116","v":11.6},{"$f":"LEHSED!E116","v":47},{"$f":"ODBÍJENÍ!E116","v":0},{"$f":"PLAVÁNÍ!E116","v":0},{"$f":"SHYBY!E116","v":0},{"$f":"ŠPLH!E116","v":5.6},{"$f":"ŠVIHADLO!E116","v":150},{"$f":"'Z MÍSTA'!E116","v":0},{"$f":"REPRE!E19","v":75},{"$f":"'60'!H116+'300'!H116+'1000'!H116+DÁLKA!H116+VÝŠKA!H116+MÍČEK!H116+KOULE!H116+OŠTĚP!H116+ČLUNEK!H116+LEHSED!H116+ODBÍJENÍ!H116+PLAVÁNÍ!H116+SHYBY!H116+ŠPLH!H116+ŠVIHADLO!H116+'Z MÍSTA'!H116+REPRE!E19","v":5799.6744777027607}]
[null,{"$f":"'60'!B117","v":"KHUDA"},{"$f":"'60'!C117","v":"Ivan"},{"$f":"'60'!D117","v":"6.B"},null,{"$f":"'60'!E117","v":15.2},{"$f":"'300'!E117","v":"00:00:00"},{"$f":"'1000'!E117","v":"00:00:00"},{"$f":"DÁLKA!E117","v":0},{"$f":"VÝŠKA!E117","v":85},{"$f":"MÍČEK!E117","v":23},{"$f":"KOULE!E117","v":6.3},{"$f":"OŠTĚP!E117","v":0},{"$f":"ČLUNEK!E117","v":14.4},{"$f":"LEHSED!E117","v":0},{"$f":"ODBÍJENÍ!E117","v":0},{"$f":"PLAVÁNÍ!E117","v":0},{"$f":"SHYBY!E117","v":0},{"$f":"ŠPLH!E117","v":0},{"$f":"ŠVIHADLO!E117","v":0},{"$f":"'Z MÍSTA'!E117","v":0},{"$f":"REPRE!E20","v":0},{"$f":"'60'!H117+'300'!H117+'1000'!H117+DÁLKA!H117+VÝŠKA!H117+MÍČEK!H117+KOULE!H117+OŠTĚP!H117+ČLUNEK!H117+LEHSED!H117+ODBÍJENÍ!H117+PLAVÁNÍ!H117+SHYBY!H117+ŠPLH!H117+ŠVIHADLO!H117+'Z MÍSTA'!H117+REPRE!E20","v":2286.7793770336798}]
[null,{"$f":"'60'!B118","v":"KRESAN"},{"$f":"'60'!C118","v":"Matěj"},{"$f":"'60'!D118","v":"6.B"},null,{"$f":"'60'!E118","v":14.9},{"$f":"'300'!E118","v":"00:00:00"},{"$f":"'1000'!E118","v":"00:00:00"},{"$f":"DÁLKA!E118","v":0},{"$f":"VÝŠKA!E118","v":95},{"$f":"MÍČEK!E118","v":17},{"$f":"KOULE!E118","v":4.8},{"$f":"OŠTĚP!E118","v":0},{"$f":"ČLUNEK!E118","v":14.3},{"$f":"LEHSED!E118","v":20},{"$f":"ODBÍJENÍ!E118","v":0},{"$f":"PLAVÁNÍ!E118","v":0},{"$f":"SHYBY!E118","v":0},{"$f":"ŠPLH!E118","v":0},{"$f":"ŠVIHADLO!E118","v":25},{"$f":"'Z MÍSTA'!E118","v":0},{"$f":"REPRE!E21","v":0},{"$f":"'60'!H118+'300'!H118+'1000'!H118+DÁLKA!H118+VÝŠKA!H118+MÍČEK!H118+KOULE!H118+OŠTĚP!H118+ČLUNEK!H118+LEHSED!H118+ODBÍJENÍ!H118+PLAVÁNÍ!H118+SHYBY!H118+ŠPLH!H118+ŠVIHADLO!H118+'Z MÍSTA'!H118+REPRE!E21","v":2607.4152279135042}]
[null,{"$f":"'60'!B119","v":"RYCHTR"},{"$f":"'60'!C119","v":"Vojtěch"},{"$f":"'60'!D119","v":"6.B"},null,{"$f":"'60'!E119","v":12.9},{"$f":"'300'!E119","v":"00:00:00"},{"$f":"'1000'!E119","v":"00:00:00"},{"$f":"DÁLKA!E119","v":0},{"$f":"VÝŠKA!E119","v":100},{"$f":"MÍČEK!E119","v":32},{"$f":"KOULE!E119","v":0},{"$f":"OŠTĚP!E119","v":0},{"$f":"ČLUNEK!E119","v":12.45},{"$f":"LEHSED!E119","v":39},{"$f":"ODBÍJENÍ!E119","v":0},{"$f":"PLAVÁNÍ!E119","v":0},{"$f":"SHYBY!E119","v":0},{"$f":"ŠPLH!E119","v":0},{"$f":"ŠVIHADLO!E119","v":107},{"$f":"'Z MÍSTA'!E119","v":0},{"$f":"REPRE!E22","v":25},{"$f":"'60'!H119+'300'!H119+'1000'!H119+DÁLKA!H119+VÝŠKA!H119+MÍČEK!H119+KOULE!H119+OŠTĚP!H119+ČLUNEK!H119+LEHSED!H119+ODBÍJENÍ!H119+PLAVÁNÍ!H119+SHYBY!H119+ŠPLH!H119+ŠVIHADLO!H119+'Z MÍSTA'!H119+REPRE!E22","v":3374.3242096162498}]
[null,{"$f":"'60'!B120","v":"ŠTAJER"},{"$f":"'60'!C120","v":"David"},{"$f":"'60'!D120","v":"6.B"},null,{"$f":"'60'!E120","v":11},{"$f":"'300'!E120","v":"00:00:00"},{"$f":"'1000'!E120","v":"00:00:00"},{"$f":"DÁLKA!E120","v":0},{"$f":"VÝŠKA!E120","v":120},{"$f":"MÍČEK!E120","v":25},{"$f":"KOULE!E120","v":7.92},{"$f":"OŠTĚP!E120","v":0},{"$f":"ČLUNEK!E120","v":12.13},{"$f":"LEHSED!E120","v":0},{"$f":"ODBÍJENÍ!E120","v":0},{"$f":"PLAVÁNÍ!E120","v":0},{"$f":"SHYBY!E120","v":0},{"$f":"ŠPLH!E120","v":0},{"$f":"ŠVIHADLO!E120","v":0},{"$f":"'Z MÍSTA'!E120","v":0},{"$f":"REPRE!E23","v":25},{"$f":"'60'!H120+'300'!H120+'1000'!H120+DÁLKA!H120+VÝŠKA!H120+MÍČEK!H120+KOULE!H120+OŠTĚP!H120+ČLUNEK!H120+LEHSED!H120+ODBÍJENÍ!H120+PLAVÁNÍ!H120+SHYBY!H120+ŠPLH!H120+ŠVIHADLO!H120+'Z MÍSTA'!H120+REPRE!E23","v":2961.7913487426313}]
[null,{"$f":"'60'!B121","v":"TKACHUK"},{"$f":"'60'!C121","v":"Dzvenyslav"},{"$f":"'60'!D121","v":"6.B"},null,{"$f":"'60'!E121","v":0},{"$f":"'300'!E121","v":"00:00:00"},{"$f":"'1000'!E121","v":"00:00:00"},{"$f":"DÁLKA!E121","v":0},{"$f":"VÝŠKA!E121","v":0},{"$f":"MÍČEK!E121","v":0},{"$f":"KOULE!E121","v":0},{"$f":"OŠTĚP!E121","v":0},{"$f":"ČLUNEK!E121","v":0},{"$f":"LEHSED!E121","v":0},{"$f":"ODBÍJENÍ!E121","v":0},{"$f":"PLAVÁNÍ!E121","v":0},{"$f":"SHYBY!E121","v":0},{"$f":"ŠPLH!E121","v":0},{"$f":"ŠVIHADLO!E121","v":0},{"$f":"'Z MÍSTA'!E121","v":0},{"$f":"REPRE!E24","v":0},{"$f":"'60'!H121+'300'!H121+'1000'!H121+DÁLKA!H121+VÝŠKA!H121+MÍČEK!H121+KOULE!H121+OŠTĚP!H121+ČLUNEK!H121+LEHSED!H121+ODBÍJENÍ!H121+PLAVÁNÍ!H121+SHYBY!H121+ŠPLH!H121+ŠVIHADLO!H121+'Z MÍSTA'!H121+REPRE!E24","v":0}]
[null,{"$f":"'60'!B122","v":"VELIKOVSKÝ"},{"$f":"'60'!C122","v":"Dominik"},{"$f":"'60'!D122","v":"6.B"},null,{"$f":"'60'!E122","v":13},{"$f":"'300'!E122","v":"00:00:00"},{"$f":"'1000'!E122","v":"00:00:00"},{"$f":"DÁLKA!E122","v":0},{"$f":"VÝŠKA!E122","v":90},{"$f":"MÍČEK!E122","v":21},{"$f":"KOULE!E122","v":3.9},{"$f":"OŠTĚP!E122","v":0},{"$f":"ČLUNEK!E122","v":13.4},{"$f":"LEHSED!E122","v":28},{"$f":"ODBÍJENÍ!E122","v":0},{"$f":"PLAVÁNÍ!E122","v":0},{"$f":"SHYBY!E122","v":0},{"$f":"ŠPLH!E122","v":0},{"$f":"ŠVIHADLO!E122","v":26},{"$f":"'Z MÍSTA'!E122","v":0},{"$f":"REPRE!E25","v":25},{"$f":"'60'!H122+'300'!H122+'1000'!H122+DÁLKA!H122+VÝŠKA!H122+MÍČEK!H122+KOULE!H122+OŠTĚP!H122+ČLUNEK!H122+LEHSED!H122+ODBÍJENÍ!H122+PLAVÁNÍ!H122+SHYBY!H122+ŠPLH!H122+ŠVIHADLO!H122+'Z MÍSTA'!H122+REPRE!E25","v":2838.7548156653825}]
[null,{"$f":"'60'!B123","v":"EXNER"},{"$f":"'60'!C123","v":"Tomáš"},{"$f":"'60'!D123","v":"7.A"},null,{"$f":"'60'!E123","v":9.66},{"$f":"'300'!E123","v":"00:00:59.110"},{"$f":"'1000'!E123","v":"00:05:30.390"},{"$f":"DÁLKA!E123","v":382},{"$f":"VÝŠKA!E123","v":110},{"$f":"MÍČEK!E123","v":24},{"$f":"KOULE!E123","v":8.75},{"$f":"OŠTĚP!E123","v":0},{"$f":"ČLUNEK!E123","v":10.82},{"$f":"LEHSED!E123","v":44},{"$f":"ODBÍJENÍ!E123","v":8},{"$f":"PLAVÁNÍ!E123","v":0},{"$f":"SHYBY!E123","v":3},{"$f":"ŠPLH!E123","v":0},{"$f":"ŠVIHADLO!E123","v":64},{"$f":"'Z MÍSTA'!E123","v":232},{"$f":"REPRE!E26","v":0},{"$f":"'60'!H123+'300'!H123+'1000'!H123+DÁLKA!H123+VÝŠKA!H123+MÍČEK!H123+KOULE!H123+OŠTĚP!H123+ČLUNEK!H123+LEHSED!H123+ODBÍJENÍ!H123+PLAVÁNÍ!H123+SHYBY!H123+ŠPLH!H123+ŠVIHADLO!H123+'Z MÍSTA'!H123+REPRE!E26","v":7027.3824973221235}]
[null,{"$f":"'60'!B124","v":"JANATA"},{"$f":"'60'!C124","v":"Denis"},{"$f":"'60'!D124","v":"7.A"},null,{"$f":"'60'!E124","v":10.62},{"$f":"'300'!E124","v":"00:01:02.160"},{"$f":"'1000'!E124","v":"00:05:57.410"},{"$f":"DÁLKA!E124","v":375},{"$f":"VÝŠKA!E124","v":95},{"$f":"MÍČEK!E124","v":21.5},{"$f":"KOULE!E124","v":4.9400000000000004},{"$f":"OŠTĚP!E124","v":0},{"$f":"ČLUNEK!E124","v":11.05},{"$f":"LEHSED!E124","v":39},{"$f":"ODBÍJENÍ!E124","v":16},{"$f":"PLAVÁNÍ!E124","v":0},{"$f":"SHYBY!E124","v":0},{"$f":"ŠPLH!E124","v":0},{"$f":"ŠVIHADLO!E124","v":49},{"$f":"'Z MÍSTA'!E124","v":150},{"$f":"REPRE!E27","v":0},{"$f":"'60'!H124+'300'!H124+'1000'!H124+DÁLKA!H124+VÝŠKA!H124+MÍČEK!H124+KOULE!H124+OŠTĚP!H124+ČLUNEK!H124+LEHSED!H124+ODBÍJENÍ!H124+PLAVÁNÍ!H124+SHYBY!H124+ŠPLH!H124+ŠVIHADLO!H124+'Z MÍSTA'!H124+REPRE!E27","v":5895.6902780167065}]
[null,{"$f":"'60'!B125","v":"JINDŘIŠEK"},{"$f":"'60'!C125","v":"Alex Jiří"},{"$f":"'60'!D125","v":"7.A"},null,{"$f":"'60'!E125","v":9.25},{"$f":"'300'!E125","v":"00:00:58.340"},{"$f":"'1000'!E125","v":"00:00:00"},{"$f":"DÁLKA!E125","v":361},{"$f":"VÝŠKA!E125","v":0},{"$f":"MÍČEK!E125","v":29.5},{"$f":"KOULE!E125","v":8.7899999999999991},{"$f":"OŠTĚP!E125","v":0},{"$f":"ČLUNEK!E125","v":11.08},{"$f":"LEHSED!E125","v":49},{"$f":"ODBÍJENÍ!E125","v":11},{"$f":"PLAVÁNÍ!E125","v":0},{"$f":"SHYBY!E125","v":0},{"$f":"ŠPLH!E125","v":0},{"$f":"ŠVIHADLO!E125","v":42},{"$f":"'Z MÍSTA'!E125","v":147},{"$f":"REPRE!E28","v":125},{"$f":"'60'!H125+'300'!H125+'1000'!H125+DÁLKA!H125+VÝŠKA!H125+MÍČEK!H125+KOULE!H125+OŠTĚP!H125+ČLUNEK!H125+LEHSED!H125+ODBÍJENÍ!H125+PLAVÁNÍ!H125+SHYBY!H125+ŠPLH!H125+ŠVIHADLO!H125+'Z MÍSTA'!H125+REPRE!E28","v":5480.6202170553406}]
[null,{"$f":"'60'!B126","v":"KAZLEPKA"},{"$f":"'60'!C126","v":"Miroslav"},{"$f":"'60'!D126","v":"7.A"},null,{"$f":"'60'!E126","v":0},{"$f":"'300'!E126","v":"00:00:00"},{"$f":"'1000'!E126","v":"00:00:00"},{"$f":"DÁLKA!E126","v":0},{"$f":"VÝŠKA!E126","v":0},{"$f":"MÍČEK!E126","v":20.5},{"$f":"KOULE!E126","v":0},{"$f":"OŠTĚP!E126","v":0},{"$f":"ČLUNEK!E126","v":14.21},{"$f":"LEHSED!E126","v":31},{"$f":"ODBÍJENÍ!E126","v":0},{"$f":"PLAVÁNÍ!E126","v":0},{"$f":"SHYBY!E126","v":0},{"$f":"ŠPLH!E126","v":0},{"$f":"ŠVIHADLO!E126","v":0},{"$f":"'Z MÍSTA'!E126","v":158},{"$f":"REPRE!E29","v":0},{"$f":"'60'!H126+'300'!H126+'1000'!H126+DÁLKA!H126+VÝŠKA!H126+MÍČEK!H126+KOULE!H126+OŠTĚP!H126+ČLUNEK!H126+LEHSED!H126+ODBÍJENÍ!H126+PLAVÁNÍ!H126+SHYBY!H126+ŠPLH!H126+ŠVIHADLO!H126+'Z MÍSTA'!H126+REPRE!E29","v":1749.3895958532071}]
[null,{"$f":"'60'!B127","v":"MARŠÁLEK"},{"$f":"'60'!C127","v":"Ondřej"},{"$f":"'60'!D127","v":"7.A"},null,{"$f":"'60'!E127","v":10.24},{"$f":"'300'!E127","v":"00:01:06.170"},{"$f":"'1000'!E127","v":"00:05:16.140"},{"$f":"DÁLKA!E127","v":270},{"$f":"VÝŠKA!E127","v":90},{"$f":"MÍČEK!E127","v":26},{"$f":"KOULE!E127","v":8.19},{"$f":"OŠTĚP!E127","v":0},{"$f":"ČLUNEK!E127","v":11.31},{"$f":"LEHSED!E127","v":0},{"$f":"ODBÍJENÍ!E127","v":13},{"$f":"PLAVÁNÍ!E127","v":0},{"$f":"SHYBY!E127","v":0},{"$f":"ŠPLH!E127","v":0},{"$f":"ŠVIHADLO!E127","v":28},{"$f":"'Z MÍSTA'!E127","v":0},{"$f":"REPRE!E30","v":0},{"$f":"'60'!H127+'300'!H127+'1000'!H127+DÁLKA!H127+VÝŠKA!H127+MÍČEK!H127+KOULE!H127+OŠTĚP!H127+ČLUNEK!H127+LEHSED!H127+ODBÍJENÍ!H127+PLAVÁNÍ!H127+SHYBY!H127+ŠPLH!H127+ŠVIHADLO!H127+'Z MÍSTA'!H127+REPRE!E30","v":4742.0734966208911}]
[null,{"$f":"'60'!B128","v":"MLATEČEK"},{"$f":"'60'!C128","v":"Patrik"},{"$f":"'60'!D128","v":"7.A"},null,{"$f":"'60'!E128","v":10.51},{"$f":"'300'!E128","v":"00:01:17.320"},{"$f":"'1000'!E128","v":"00:05:20.750"},{"$f":"DÁLKA!E128","v":361},{"$f":"VÝŠKA!E128","v":105},{"$f":"MÍČEK!E128","v":29},{"$f":"KOULE!E128","v":6.71},{"$f":"OŠTĚP!E128","v":0},{"$f":"ČLUNEK!E128","v":11.83},{"$f":"LEHSED!E128","v":38},{"$f":"ODBÍJENÍ!E128","v":22},{"$f":"PLAVÁNÍ!E128","v":0},{"$f":"SHYBY!E128","v":0},{"$f":"ŠPLH!E128","v":19.75},{"$f":"ŠVIHADLO!E128","v":0},{"$f":"'Z MÍSTA'!E128","v":159},{"$f":"REPRE!E31","v":0},{"$f":"'60'!H128+'300'!H128+'1000'!H128+DÁLKA!H128+VÝŠKA!H128+MÍČEK!H128+KOULE!H128+OŠTĚP!H128+ČLUNEK!H128+LEHSED!H128+ODBÍJENÍ!H128+PLAVÁNÍ!H128+SHYBY!H128+ŠPLH!H128+ŠVIHADLO!H128+'Z MÍSTA'!H128+REPRE!E31","v":5935.340637802502}]
[null,{"$f":"'60'!B129","v":"SCHOLZ"},{"$f":"'60'!C129","v":"Matyáš"},{"$f":"'60'!D129","v":"7.A"},null,{"$f":"'60'!E129","v":10.46},{"$f":"'300'!E129","v":"00:01:05.740"},{"$f":"'1000'!E129","v":"00:00:00"},{"$f":"DÁLKA!E129","v":370},{"$f":"VÝŠKA!E129","v":110},{"$f":"MÍČEK!E129","v":32},{"$f":"KOULE!E129","v":7.71},{"$f":"OŠTĚP!E129","v":0},{"$f":"ČLUNEK!E129","v":11.38},{"$f":"LEHSED!E129","v":29},{"$f":"ODBÍJENÍ!E129","v":16},{"$f":"PLAVÁNÍ!E129","v":0},{"$f":"SHYBY!E129","v":1},{"$f":"ŠPLH!E129","v":0},{"$f":"ŠVIHADLO!E129","v":53},{"$f":"'Z MÍSTA'!E129","v":180},{"$f":"REPRE!E32","v":125},{"$f":"'60'!H129+'300'!H129+'1000'!H129+DÁLKA!H129+VÝŠKA!H129+MÍČEK!H129+KOULE!H129+OŠTĚP!H129+ČLUNEK!H129+LEHSED!H129+ODBÍJENÍ!H129+PLAVÁNÍ!H129+SHYBY!H129+ŠPLH!H129+ŠVIHADLO!H129+'Z MÍSTA'!H129+REPRE!E32","v":5926.4573920761059}]
[null,{"$f":"'60'!B130","v":"TOMÁŠ"},{"$f":"'60'!C130","v":"Jakub"},{"$f":"'60'!D130","v":"7.A"},null,{"$f":"'60'!E130","v":10.15},{"$f":"'300'!E130","v":"00:00:57.360"},{"$f":"'1000'!E130","v":"00:04:18.490"},{"$f":"DÁLKA!E130","v":315},{"$f":"VÝŠKA!E130","v":115},{"$f":"MÍČEK!E130","v":26.5},{"$f":"KOULE!E130","v":7.47},{"$f":"OŠTĚP!E130","v":0},{"$f":"ČLUNEK!E130","v":10.63},{"$f":"LEHSED!E130","v":45},{"$f":"ODBÍJENÍ!E130","v":22},{"$f":"PLAVÁNÍ!E130","v":0},{"$f":"SHYBY!E130","v":0},{"$f":"ŠPLH!E130","v":13.28},{"$f":"ŠVIHADLO!E130","v":86},{"$f":"'Z MÍSTA'!E130","v":185},{"$f":"REPRE!E33","v":0},{"$f":"'60'!H130+'300'!H130+'1000'!H130+DÁLKA!H130+VÝŠKA!H130+MÍČEK!H130+KOULE!H130+OŠTĚP!H130+ČLUNEK!H130+LEHSED!H130+ODBÍJENÍ!H130+PLAVÁNÍ!H130+SHYBY!H130+ŠPLH!H130+ŠVIHADLO!H130+'Z MÍSTA'!H130+REPRE!E33","v":7193.7254960415112}]
[null,{"$f":"'60'!B131","v":"VÁCLAVÍK"},{"$f":"'60'!C131","v":"Jan"},{"$f":"'60'!D131","v":"7.A"},null,{"$f":"'60'!E131","v":10.02},{"$f":"'300'!E131","v":"00:00:57.810"},{"$f":"'1000'!E131","v":"00:04:09.630"},{"$f":"DÁLKA!E131","v":359},{"$f":"VÝŠKA!E131","v":115},{"$f":"MÍČEK!E131","v":27},{"$f":"KOULE!E131","v":6.19},{"$f":"OŠTĚP!E131","v":0},{"$f":"ČLUNEK!E131","v":10.75},{"$f":"LEHSED!E131","v":44},{"$f":"ODBÍJENÍ!E131","v":11},{"$f":"PLAVÁNÍ!E131","v":0},{"$f":"SHYBY!E131","v":6},{"$f":"ŠPLH!E131","v":8.8000000000000007},{"$f":"ŠVIHADLO!E131","v":79},{"$f":"'Z MÍSTA'!E131","v":189},{"$f":"REPRE!E34","v":225},{"$f":"'60'!H131+'300'!H131+'1000'!H131+DÁLKA!H131+VÝŠKA!H131+MÍČEK!H131+KOULE!H131+OŠTĚP!H131+ČLUNEK!H131+LEHSED!H131+ODBÍJENÍ!H131+PLAVÁNÍ!H131+SHYBY!H131+ŠPLH!H131+ŠVIHADLO!H131+'Z MÍSTA'!H131+REPRE!E34","v":7824.9864859911513}]
[null,{"$f":"'60'!B132","v":"VEČEŘA"},{"$f":"'60'!C132","v":"David"},{"$f":"'60'!D132","v":"7.A"},null,{"$f":"'60'!E132","v":10.9},{"$f":"'300'!E132","v":"00:01:06.690"},{"$f":"'1000'!E132","v":"00:05:10.840"},{"$f":"DÁLKA!E132","v":330},{"$f":"VÝŠKA!E132","v":100},{"$f":"MÍČEK!E132","v":22},{"$f":"KOULE!E132","v":6.87},{"$f":"OŠTĚP!E132","v":0},{"$f":"ČLUNEK!E132","v":11.98},{"$f":"LEHSED!E132","v":32},{"$f":"ODBÍJENÍ!E132","v":7},{"$f":"PLAVÁNÍ!E132","v":0},{"$f":"SHYBY!E132","v":0},{"$f":"ŠPLH!E132","v":0},{"$f":"ŠVIHADLO!E132","v":32},{"$f":"'Z MÍSTA'!E132","v":144},{"$f":"REPRE!E35","v":0},{"$f":"'60'!H132+'300'!H132+'1000'!H132+DÁLKA!H132+VÝŠKA!H132+MÍČEK!H132+KOULE!H132+OŠTĚP!H132+ČLUNEK!H132+LEHSED!H132+ODBÍJENÍ!H132+PLAVÁNÍ!H132+SHYBY!H132+ŠPLH!H132+ŠVIHADLO!H132+'Z MÍSTA'!H132+REPRE!E35","v":5594.3743294373671}]
[null,{"$f":"'60'!B133","v":"VYBÍRAL"},{"$f":"'60'!C133","v":"Radim"},{"$f":"'60'!D133","v":"7.A"},null,{"$f":"'60'!E133","v":8.7899999999999991},{"$f":"'300'!E133","v":"00:00:52"},{"$f":"'1000'!E133","v":"00:03:51.220"},{"$f":"DÁLKA!E133","v":445},{"$f":"VÝŠKA!E133","v":122},{"$f":"MÍČEK!E133","v":35.5},{"$f":"KOULE!E133","v":7.66},{"$f":"OŠTĚP!E133","v":0},{"$f":"ČLUNEK!E133","v":10.15},{"$f":"LEHSED!E133","v":63},{"$f":"ODBÍJENÍ!E133","v":451},{"$f":"PLAVÁNÍ!E133","v":0},{"$f":"SHYBY!E133","v":6},{"$f":"ŠPLH!E133","v":5.17},{"$f":"ŠVIHADLO!E133","v":110},{"$f":"'Z MÍSTA'!E133","v":200},{"$f":"REPRE!E36","v":225},{"$f":"'60'!H133+'300'!H133+'1000'!H133+DÁLKA!H133+VÝŠKA!H133+MÍČEK!H133+KOULE!H133+OŠTĚP!H133+ČLUNEK!H133+LEHSED!H133+ODBÍJENÍ!H133+PLAVÁNÍ!H133+SHYBY!H133+ŠPLH!H133+ŠVIHADLO!H133+'Z MÍSTA'!H133+REPRE!E36","v":9838.1036110122732}]
[null,{"$f":"'60'!B134","v":"BERISHA"},{"$f":"'60'!C134","v":"David"},{"$f":"'60'!D134","v":"7.B"},null,{"$f":"'60'!E134","v":0},{"$f":"'300'!E134","v":"00:00:00"},{"$f":"'1000'!E134","v":"00:00:00"},{"$f":"DÁLKA!E134","v":0},{"$f":"VÝŠKA!E134","v":0},{"$f":"MÍČEK!E134","v":18},{"$f":"KOULE!E134","v":0},{"$f":"OŠTĚP!E134","v":0},{"$f":"ČLUNEK!E134","v":14.26},{"$f":"LEHSED!E134","v":0},{"$f":"ODBÍJENÍ!E134","v":0},{"$f":"PLAVÁNÍ!E134","v":0},{"$f":"SHYBY!E134","v":0},{"$f":"ŠPLH!E134","v":0},{"$f":"ŠVIHADLO!E134","v":0},{"$f":"'Z MÍSTA'!E134","v":0},{"$f":"REPRE!E37","v":0},{"$f":"'60'!H134+'300'!H134+'1000'!H134+DÁLKA!H134+VÝŠKA!H134+MÍČEK!H134+KOULE!H134+OŠTĚP!H134+ČLUNEK!H134+LEHSED!H134+ODBÍJENÍ!H134+PLAVÁNÍ!H134+SHYBY!H134+ŠPLH!H134+ŠVIHADLO!H134+'Z MÍSTA'!H134+REPRE!E37","v":726.55395131681462}]
[null,{"$f":"'60'!B135","v":"EFENBERK"},{"$f":"'60'!C135","v":"Šimon"},{"$f":"'60'!D135","v":"7.B"},null,{"$f":"'60'!E135","v":9.1300000000000008},{"$f":"'300'!E135","v":"00:00:55.480"},{"$f":"'1000'!E135","v":"00:04:58.020"},{"$f":"DÁLKA!E135","v":340},{"$f":"VÝŠKA!E135","v":115},{"$f":"MÍČEK!E135","v":26.5},{"$f":"KOULE!E135","v":8.9499999999999993},{"$f":"OŠTĚP!E135","v":0},{"$f":"ČLUNEK!E135","v":10.63},{"$f":"LEHSED!E135","v":46},{"$f":"ODBÍJENÍ!E135","v":6},{"$f":"PLAVÁNÍ!E135","v":28.87},{"$f":"SHYBY!E135","v":2},{"$f":"ŠPLH!E135","v":8},{"$f":"ŠVIHADLO!E135","v":56},{"$f":"'Z MÍSTA'!E135","v":215},{"$f":"REPRE!E38","v":50},{"$f":"'60'!H135+'300'!H135+'1000'!H135+DÁLKA!H135+VÝŠKA!H135+MÍČEK!H135+KOULE!H135+OŠTĚP!H135+ČLUNEK!H135+LEHSED!H135+ODBÍJENÍ!H135+PLAVÁNÍ!H135+SHYBY!H135+ŠPLH!H135+ŠVIHADLO!H135+'Z MÍSTA'!H135+REPRE!E38","v":7885.5828119084699}]
[null,{"$f":"'60'!B136","v":"FEJKL"},{"$f":"'60'!C136","v":"Antonín"},{"$f":"'60'!D136","v":"7.B"},null,{"$f":"'60'!E136","v":8.36},{"$f":"'300'!E136","v":"00:00:50.760"},{"$f":"'1000'!E136","v":"00:03:34.040"},{"$f":"DÁLKA!E136","v":475},{"$f":"VÝŠKA!E136","v":147},{"$f":"MÍČEK!E136","v":49},{"$f":"KOULE!E136","v":9.3699999999999992},{"$f":"OŠTĚP!E136","v":0},{"$f":"ČLUNEK!E136","v":10.26},{"$f":"LEHSED!E136","v":61},{"$f":"ODBÍJENÍ!E136","v":451},{"$f":"PLAVÁNÍ!E136","v":27.87},{"$f":"SHYBY!E136","v":1},{"$f":"ŠPLH!E136","v":5.6},{"$f":"ŠVIHADLO!E136","v":143},{"$f":"'Z MÍSTA'!E136","v":231},{"$f":"REPRE!E39","v":225},{"$f":"'60'!H136+'300'!H136+'1000'!H136+DÁLKA!H136+VÝŠKA!H136+MÍČEK!H136+KOULE!H136+OŠTĚP!H136+ČLUNEK!H136+LEHSED!H136+ODBÍJENÍ!H136+PLAVÁNÍ!H136+SHYBY!H136+ŠPLH!H136+ŠVIHADLO!H136+'Z MÍSTA'!H136+REPRE!E39","v":10753.119313392317}]
[null,{"$f":"'60'!B137","v":"GOTTSTEIN"},{"$f":"'60'!C137","v":"Matouš"},{"$f":"'60'!D137","v":"7.B"},null,{"$f":"'60'!E137","v":8.36},{"$f":"'300'!E137","v":"00:00:45.860"},{"$f":"'1000'!E137","v":"00:03:10.250"},{"$f":"DÁLKA!E137","v":465},{"$f":"VÝŠKA!E137","v":125},{"$f":"MÍČEK!E137","v":42},{"$f":"KOULE!E137","v":9.59},{"$f":"OŠTĚP!E137","v":0},{"$f":"ČLUNEK!E137","v":10.029999999999999},{"$f":"LEHSED!E137","v":57},{"$f":"ODBÍJENÍ!E137","v":440},{"$f":"PLAVÁNÍ!E137","v":28.84},{"$f":"SHYBY!E137","v":6},{"$f":"ŠPLH!E137","v":4.7},{"$f":"ŠVIHADLO!E137","v":140},{"$f":"'Z MÍSTA'!E137","v":234},{"$f":"REPRE!E40","v":275},{"$f":"'60'!H137+'300'!H137+'1000'!H137+DÁLKA!H137+VÝŠKA!H137+MÍČEK!H137+KOULE!H137+OŠTĚP!H137+ČLUNEK!H137+LEHSED!H137+ODBÍJENÍ!H137+PLAVÁNÍ!H137+SHYBY!H137+ŠPLH!H137+ŠVIHADLO!H137+'Z MÍSTA'!H137+REPRE!E40","v":11202.552055142392}]
[null,{"$f":"'60'!B138","v":"MAŘAS"},{"$f":"'60'!C138","v":"Dominik"},{"$f":"'60'!D138","v":"7.B"},null,{"$f":"'60'!E138","v":16.25},{"$f":"'300'!E138","v":"00:01:26.820"},{"$f":"'1000'!E138","v":"00:04:22.160"},{"$f":"DÁLKA!E138","v":310},{"$f":"VÝŠKA!E138","v":130},{"$f":"MÍČEK!E138","v":33},{"$f":"KOULE!E138","v":9.2899999999999991},{"$f":"OŠTĚP!E138","v":0},{"$f":"ČLUNEK!E138","v":11.11},{"$f":"LEHSED!E138","v":19},{"$f":"ODBÍJENÍ!E138","v":0},{"$f":"PLAVÁNÍ!E138","v":0},{"$f":"SHYBY!E138","v":1},{"$f":"ŠPLH!E138","v":0},{"$f":"ŠVIHADLO!E138","v":30},{"$f":"'Z MÍSTA'!E138","v":212},{"$f":"REPRE!E41","v":0},{"$f":"'60'!H138+'300'!H138+'1000'!H138+DÁLKA!H138+VÝŠKA!H138+MÍČEK!H138+KOULE!H138+OŠTĚP!H138+ČLUNEK!H138+LEHSED!H138+ODBÍJENÍ!H138+PLAVÁNÍ!H138+SHYBY!H138+ŠPLH!H138+ŠVIHADLO!H138+'Z MÍSTA'!H138+REPRE!E41","v":5919.1760700602845}]
[null,{"$f":"'60'!B139","v":"POVAŽANEC"},{"$f":"'60'!C139","v":"Lukáš"},{"$f":"'60'!D139","v":"7.B"},null,{"$f":"'60'!E139","v":10.31},{"$f":"'300'!E139","v":"00:01:01.390"},{"$f":"'1000'!E139","v":"00:04:51.040"},{"$f":"DÁLKA!E139","v":351},{"$f":"VÝŠKA!E139","v":0},{"$f":"MÍČEK!E139","v":45},{"$f":"KOULE!E139","v":10.08},{"$f":"OŠTĚP!E139","v":0},{"$f":"ČLUNEK!E139","v":12.16},{"$f":"LEHSED!E139","v":30},{"$f":"ODBÍJENÍ!E139","v":440},{"$f":"PLAVÁNÍ!E139","v":0},{"$f":"SHYBY!E139","v":0},{"$f":"ŠPLH!E139","v":0},{"$f":"ŠVIHADLO!E139","v":57},{"$f":"'Z MÍSTA'!E139","v":174},{"$f":"REPRE!E42","v":275},{"$f":"'60'!H139+'300'!H139+'1000'!H139+DÁLKA!H139+VÝŠKA!H139+MÍČEK!H139+KOULE!H139+OŠTĚP!H139+ČLUNEK!H139+LEHSED!H139+ODBÍJENÍ!H139+PLAVÁNÍ!H139+SHYBY!H139+ŠPLH!H139+ŠVIHADLO!H139+'Z MÍSTA'!H139+REPRE!E42","v":6908.7179094610919}]
[null,{"$f":"'60'!B140","v":"VANCL"},{"$f":"'60'!C140","v":"Jakub"},{"$f":"'60'!D140","v":"7.B"},null,{"$f":"'60'!E140","v":10.85},{"$f":"'300'!E140","v":"00:01:06.320"},{"$f":"'1000'!E140","v":"00:05:19.210"},{"$f":"DÁLKA!E140","v":287},{"$f":"VÝŠKA!E140","v":95},{"$f":"MÍČEK!E140","v":22},{"$f":"KOULE!E140","v":6.65},{"$f":"OŠTĚP!E140","v":0},{"$f":"ČLUNEK!E140","v":12.84},{"$f":"LEHSED!E140","v":40},{"$f":"ODBÍJENÍ!E140","v":8},{"$f":"PLAVÁNÍ!E140","v":0},{"$f":"SHYBY!E140","v":0},{"$f":"ŠPLH!E140","v":0},{"$f":"ŠVIHADLO!E140","v":50},{"$f":"'Z MÍSTA'!E140","v":155},{"$f":"REPRE!E43","v":75},{"$f":"'60'!H140+'300'!H140+'1000'!H140+DÁLKA!H140+VÝŠKA!H140+MÍČEK!H140+KOULE!H140+OŠTĚP!H140+ČLUNEK!H140+LEHSED!H140+ODBÍJENÍ!H140+PLAVÁNÍ!H140+SHYBY!H140+ŠPLH!H140+ŠVIHADLO!H140+'Z MÍSTA'!H140+REPRE!E43","v":5747.3123649594172}]
[null,{"$f":"'60'!B141","v":"VANCL"},{"$f":"'60'!C141","v":"Miroslav"},{"$f":"'60'!D141","v":"7.B"},null,{"$f":"'60'!E141","v":0},{"$f":"'300'!E141","v":"00:01:36.810"},{"$f":"'1000'!E141","v":"00:07:16.920"},{"$f":"DÁLKA!E141","v":352},{"$f":"VÝŠKA!E141","v":90},{"$f":"MÍČEK!E141","v":25},{"$f":"KOULE!E141","v":6.64},{"$f":"OŠTĚP!E141","v":0},{"$f":"ČLUNEK!E141","v":12.1},{"$f":"LEHSED!E141","v":0},{"$f":"ODBÍJENÍ!E141","v":7},{"$f":"PLAVÁNÍ!E141","v":0},{"$f":"SHYBY!E141","v":0},{"$f":"ŠPLH!E141","v":0},{"$f":"ŠVIHADLO!E141","v":0},{"$f":"'Z MÍSTA'!E141","v":176},{"$f":"REPRE!E44","v":0},{"$f":"'60'!H141+'300'!H141+'1000'!H141+DÁLKA!H141+VÝŠKA!H141+MÍČEK!H141+KOULE!H141+OŠTĚP!H141+ČLUNEK!H141+LEHSED!H141+ODBÍJENÍ!H141+PLAVÁNÍ!H141+SHYBY!H141+ŠPLH!H141+ŠVIHADLO!H141+'Z MÍSTA'!H141+REPRE!E44","v":4015.0622315513619}]
[null,{"$f":"'60'!B142","v":"VOTOČEK"},{"$f":"'60'!C142","v":"Michal"},{"$f":"'60'!D142","v":"7.B"},null,{"$f":"'60'!E142","v":10.95},{"$f":"'300'!E142","v":"00:01:09.910"},{"$f":"'1000'!E142","v":"00:04:51.610"},{"$f":"DÁLKA!E142","v":362},{"$f":"VÝŠKA!E142","v":0},{"$f":"MÍČEK!E142","v":28},{"$f":"KOULE!E142","v":7.95},{"$f":"OŠTĚP!E142","v":0},{"$f":"ČLUNEK!E142","v":12.15},{"$f":"LEHSED!E142","v":48},{"$f":"ODBÍJENÍ!E142","v":6},{"$f":"PLAVÁNÍ!E142","v":0},{"$f":"SHYBY!E142","v":0},{"$f":"ŠPLH!E142","v":0},{"$f":"ŠVIHADLO!E142","v":58},{"$f":"'Z MÍSTA'!E142","v":151},{"$f":"REPRE!E45","v":50},{"$f":"'60'!H142+'300'!H142+'1000'!H142+DÁLKA!H142+VÝŠKA!H142+MÍČEK!H142+KOULE!H142+OŠTĚP!H142+ČLUNEK!H142+LEHSED!H142+ODBÍJENÍ!H142+PLAVÁNÍ!H142+SHYBY!H142+ŠPLH!H142+ŠVIHADLO!H142+'Z MÍSTA'!H142+REPRE!E45","v":5635.539030144183}]
[null,{"$f":"'60'!B143","v":"DEMČUK"},{"$f":"'60'!C143","v":"Ilja"},{"$f":"'60'!D143","v":"8.A"},null,{"$f":"'60'!E143","v":9.3000000000000007},{"$f":"'300'!E143","v":"00:00:53.410"},{"$f":"'1000'!E143","v":"00:04:33.520"},{"$f":"DÁLKA!E143","v":373},{"$f":"VÝŠKA!E143","v":120},{"$f":"MÍČEK!E143","v":30.5},{"$f":"KOULE!E143","v":8.4700000000000006},{"$f":"OŠTĚP!E143","v":0},{"$f":"ČLUNEK!E143","v":10.86},{"$f":"LEHSED!E143","v":35},{"$f":"ODBÍJENÍ!E143","v":12},{"$f":"PLAVÁNÍ!E143","v":0},{"$f":"SHYBY!E143","v":1},{"$f":"ŠPLH!E143","v":0},{"$f":"ŠVIHADLO!E143","v":55},{"$f":"'Z MÍSTA'!E143","v":190},{"$f":"REPRE!E46","v":0},{"$f":"'60'!H143+'300'!H143+'1000'!H143+DÁLKA!H143+VÝŠKA!H143+MÍČEK!H143+KOULE!H143+OŠTĚP!H143+ČLUNEK!H143+LEHSED!H143+ODBÍJENÍ!H143+PLAVÁNÍ!H143+SHYBY!H143+ŠPLH!H143+ŠVIHADLO!H143+'Z MÍSTA'!H143+REPRE!E46","v":6914.6284268612817}]
[null,{"$f":"'60'!B144","v":"FAISTAUER"},{"$f":"'60'!C144","v":"Kryštof"},{"$f":"'60'!D144","v":"8.A"},null,{"$f":"'60'!E144","v":8.32},{"$f":"'300'!E144","v":"00:00:51.860"},{"$f":"'1000'!E144","v":"00:03:54.210"},{"$f":"DÁLKA!E144","v":454},{"$f":"VÝŠKA!E144","v":145},{"$f":"MÍČEK!E144","v":40},{"$f":"KOULE!E144","v":10.31},{"$f":"OŠTĚP!E144","v":0},{"$f":"ČLUNEK!E144","v":9.9700000000000006},{"$f":"LEHSED!E144","v":44},{"$f":"ODBÍJENÍ!E144","v":164},{"$f":"PLAVÁNÍ!E144","v":0},{"$f":"SHYBY!E144","v":5},{"$f":"ŠPLH!E144","v":4.63},{"$f":"ŠVIHADLO!E144","v":67},{"$f":"'Z MÍSTA'!E144","v":221},{"$f":"REPRE!E47","v":175},{"$f":"'60'!H144+'300'!H144+'1000'!H144+DÁLKA!H144+VÝŠKA!H144+MÍČEK!H144+KOULE!H144+OŠTĚP!H144+ČLUNEK!H144+LEHSED!H144+ODBÍJENÍ!H144+PLAVÁNÍ!H144+SHYBY!H144+ŠPLH!H144+ŠVIHADLO!H144+'Z MÍSTA'!H144+REPRE!E47","v":9625.6568166360867}]
[null,{"$f":"'60'!B145","v":"FRK"},{"$f":"'60'!C145","v":"Matyáš"},{"$f":"'60'!D145","v":"8.A"},null,{"$f":"'60'!E145","v":10.27},{"$f":"'300'!E145","v":"00:01:02.730"},{"$f":"'1000'!E145","v":"00:00:00"},{"$f":"DÁLKA!E145","v":359},{"$f":"VÝŠKA!E145","v":105},{"$f":"MÍČEK!E145","v":0},{"$f":"KOULE!E145","v":0},{"$f":"OŠTĚP!E145","v":0},{"$f":"ČLUNEK!E145","v":0},{"$f":"LEHSED!E145","v":38},{"$f":"ODBÍJENÍ!E145","v":0},{"$f":"PLAVÁNÍ!E145","v":0},{"$f":"SHYBY!E145","v":3},{"$f":"ŠPLH!E145","v":8.2100000000000009},{"$f":"ŠVIHADLO!E145","v":69},{"$f":"'Z MÍSTA'!E145","v":180},{"$f":"REPRE!E48","v":0},{"$f":"'60'!H145+'300'!H145+'1000'!H145+DÁLKA!H145+VÝŠKA!H145+MÍČEK!H145+KOULE!H145+OŠTĚP!H145+ČLUNEK!H145+LEHSED!H145+ODBÍJENÍ!H145+PLAVÁNÍ!H145+SHYBY!H145+ŠPLH!H145+ŠVIHADLO!H145+'Z MÍSTA'!H145+REPRE!E48","v":4658.21872782419}]
[null,{"$f":"'60'!B146","v":"HUBÁLOVSKÝ"},{"$f":"'60'!C146","v":"Marek"},{"$f":"'60'!D146","v":"8.A"},null,{"$f":"'60'!E146","v":9.2799999999999994},{"$f":"'300'!E146","v":"00:00:56.800"},{"$f":"'1000'!E146","v":"00:04:19.620"},{"$f":"DÁLKA!E146","v":419},{"$f":"VÝŠKA!E146","v":110},{"$f":"MÍČEK!E146","v":34.5},{"$f":"KOULE!E146","v":7.05},{"$f":"OŠTĚP!E146","v":0},{"$f":"ČLUNEK!E146","v":10.75},{"$f":"LEHSED!E146","v":47},{"$f":"ODBÍJENÍ!E146","v":23},{"$f":"PLAVÁNÍ!E146","v":0},{"$f":"SHYBY!E146","v":2},{"$f":"ŠPLH!E146","v":16.18},{"$f":"ŠVIHADLO!E146","v":68},{"$f":"'Z MÍSTA'!E146","v":190},{"$f":"REPRE!E49","v":0},{"$f":"'60'!H146+'300'!H146+'1000'!H146+DÁLKA!H146+VÝŠKA!H146+MÍČEK!H146+KOULE!H146+OŠTĚP!H146+ČLUNEK!H146+LEHSED!H146+ODBÍJENÍ!H146+PLAVÁNÍ!H146+SHYBY!H146+ŠPLH!H146+ŠVIHADLO!H146+'Z MÍSTA'!H146+REPRE!E49","v":7516.7647204135992}]
[null,{"$f":"'60'!B147","v":"MAŤÁTKO"},{"$f":"'60'!C147","v":"Jakub"},{"$f":"'60'!D147","v":"8.A"},null,{"$f":"'60'!E147","v":11.85},{"$f":"'300'!E147","v":"00:01:13.600"},{"$f":"'1000'!E147","v":"00:00:00"},{"$f":"DÁLKA!E147","v":0},{"$f":"VÝŠKA!E147","v":100},{"$f":"MÍČEK!E147","v":27.5},{"$f":"KOULE!E147","v":0},{"$f":"OŠTĚP!E147","v":0},{"$f":"ČLUNEK!E147","v":12.46},{"$f":"LEHSED!E147","v":0},{"$f":"ODBÍJENÍ!E147","v":14},{"$f":"PLAVÁNÍ!E147","v":0},{"$f":"SHYBY!E147","v":0},{"$f":"ŠPLH!E147","v":0},{"$f":"ŠVIHADLO!E147","v":0},{"$f":"'Z MÍSTA'!E147","v":0},{"$f":"REPRE!E50","v":0},{"$f":"'60'!H147+'300'!H147+'1000'!H147+DÁLKA!H147+VÝŠKA!H147+MÍČEK!H147+KOULE!H147+OŠTĚP!H147+ČLUNEK!H147+LEHSED!H147+ODBÍJENÍ!H147+PLAVÁNÍ!H147+SHYBY!H147+ŠPLH!H147+ŠVIHADLO!H147+'Z MÍSTA'!H147+REPRE!E50","v":2712.9415236665754}]
[null,{"$f":"'60'!B148","v":"MERY"},{"$f":"'60'!C148","v":"Luboš"},{"$f":"'60'!D148","v":"8.A"},null,{"$f":"'60'!E148","v":10.89},{"$f":"'300'!E148","v":"00:01:06.630"},{"$f":"'1000'!E148","v":"00:05:31.270"},{"$f":"DÁLKA!E148","v":323},{"$f":"VÝŠKA!E148","v":85},{"$f":"MÍČEK!E148","v":21.5},{"$f":"KOULE!E148","v":6.17},{"$f":"OŠTĚP!E148","v":0},{"$f":"ČLUNEK!E148","v":11.78},{"$f":"LEHSED!E148","v":32},{"$f":"ODBÍJENÍ!E148","v":12},{"$f":"PLAVÁNÍ!E148","v":0},{"$f":"SHYBY!E148","v":0},{"$f":"ŠPLH!E148","v":0},{"$f":"ŠVIHADLO!E148","v":51},{"$f":"'Z MÍSTA'!E148","v":160},{"$f":"REPRE!E51","v":0},{"$f":"'60'!H148+'300'!H148+'1000'!H148+DÁLKA!H148+VÝŠKA!H148+MÍČEK!H148+KOULE!H148+OŠTĚP!H148+ČLUNEK!H148+LEHSED!H148+ODBÍJENÍ!H148+PLAVÁNÍ!H148+SHYBY!H148+ŠPLH!H148+ŠVIHADLO!H148+'Z MÍSTA'!H148+REPRE!E51","v":5657.9606961673135}]
[null,{"$f":"'60'!B149","v":"NOVOTNÝ"},{"$f":"'60'!C149","v":"Matěj"},{"$f":"'60'!D149","v":"8.A"},null,{"$f":"'60'!E149","v":11.28},{"$f":"'300'!E149","v":"00:01:12.840"},{"$f":"'1000'!E149","v":"00:05:34.810"},{"$f":"DÁLKA!E149","v":315},{"$f":"VÝŠKA!E149","v":95},{"$f":"MÍČEK!E149","v":40},{"$f":"KOULE!E149","v":8.31},{"$f":"OŠTĚP!E149","v":0},{"$f":"ČLUNEK!E149","v":11.44},{"$f":"LEHSED!E149","v":43},{"$f":"ODBÍJENÍ!E149","v":12},{"$f":"PLAVÁNÍ!E149","v":0},{"$f":"SHYBY!E149","v":0},{"$f":"ŠPLH!E149","v":0},{"$f":"ŠVIHADLO!E149","v":53},{"$f":"'Z MÍSTA'!E149","v":150},{"$f":"REPRE!E52","v":0},{"$f":"'60'!H149+'300'!H149+'1000'!H149+DÁLKA!H149+VÝŠKA!H149+MÍČEK!H149+KOULE!H149+OŠTĚP!H149+ČLUNEK!H149+LEHSED!H149+ODBÍJENÍ!H149+PLAVÁNÍ!H149+SHYBY!H149+ŠPLH!H149+ŠVIHADLO!H149+'Z MÍSTA'!H149+REPRE!E52","v":6102.9976434630098}]
[null,{"$f":"'60'!B150","v":"ŘEHOŘEK"},{"$f":"'60'!C150","v":"Vojtěch"},{"$f":"'60'!D150","v":"8.A"},null,{"$f":"'60'!E150","v":9.56},{"$f":"'300'!E150","v":"00:01:00.020"},{"$f":"'1000'!E150","v":"00:04:22.480"},{"$f":"DÁLKA!E150","v":375},{"$f":"VÝŠKA!E150","v":0},{"$f":"MÍČEK!E150","v":53},{"$f":"KOULE!E150","v":10.1},{"$f":"OŠTĚP!E150","v":0},{"$f":"ČLUNEK!E150","v":0},{"$f":"LEHSED!E150","v":37},{"$f":"ODBÍJENÍ!E150","v":164},{"$f":"PLAVÁNÍ!E150","v":0},{"$f":"SHYBY!E150","v":0},{"$f":"ŠPLH!E150","v":0},{"$f":"ŠVIHADLO!E150","v":136},{"$f":"'Z MÍSTA'!E150","v":189},{"$f":"REPRE!E53","v":175},{"$f":"'60'!H150+'300'!H150+'1000'!H150+DÁLKA!H150+VÝŠKA!H150+MÍČEK!H150+KOULE!H150+OŠTĚP!H150+ČLUNEK!H150+LEHSED!H150+ODBÍJENÍ!H150+PLAVÁNÍ!H150+SHYBY!H150+ŠPLH!H150+ŠVIHADLO!H150+'Z MÍSTA'!H150+REPRE!E53","v":6935.537999562388}]
[null,{"$f":"'60'!B151","v":"ŠÍR"},{"$f":"'60'!C151","v":"Matyáš"},{"$f":"'60'!D151","v":"8.A"},null,{"$f":"'60'!E151","v":10.8},{"$f":"'300'!E151","v":"00:01:02.280"},{"$f":"'1000'!E151","v":"00:00:00"},{"$f":"DÁLKA!E151","v":341},{"$f":"VÝŠKA!E151","v":105},{"$f":"MÍČEK!E151","v":29.5},{"$f":"KOULE!E151","v":5.53},{"$f":"OŠTĚP!E151","v":0},{"$f":"ČLUNEK!E151","v":12.1},{"$f":"LEHSED!E151","v":47},{"$f":"ODBÍJENÍ!E151","v":8},{"$f":"PLAVÁNÍ!E151","v":0},{"$f":"SHYBY!E151","v":0},{"$f":"ŠPLH!E151","v":0},{"$f":"ŠVIHADLO!E151","v":100},{"$f":"'Z MÍSTA'!E151","v":151},{"$f":"REPRE!E54","v":50},{"$f":"'60'!H151+'300'!H151+'1000'!H151+DÁLKA!H151+VÝŠKA!H151+MÍČEK!H151+KOULE!H151+OŠTĚP!H151+ČLUNEK!H151+LEHSED!H151+ODBÍJENÍ!H151+PLAVÁNÍ!H151+SHYBY!H151+ŠPLH!H151+ŠVIHADLO!H151+'Z MÍSTA'!H151+REPRE!E54","v":5858.7845604882823}]
[null,{"$f":"'60'!B152","v":"TORÁČ"},{"$f":"'60'!C152","v":"Tomáš"},{"$f":"'60'!D152","v":"8.A"},null,{"$f":"'60'!E152","v":17.34},{"$f":"'300'!E152","v":"00:02:07.730"},{"$f":"'1000'!E152","v":"00:00:00"},{"$f":"DÁLKA!E152","v":0},{"$f":"VÝŠKA!E152","v":95},{"$f":"MÍČEK!E152","v":20},{"$f":"KOULE!E152","v":0},{"$f":"OŠTĚP!E152","v":0},{"$f":"ČLUNEK!E152","v":16.420000000000002},{"$f":"LEHSED!E152","v":41},{"$f":"ODBÍJENÍ!E152","v":14},{"$f":"PLAVÁNÍ!E152","v":0},{"$f":"SHYBY!E152","v":0},{"$f":"ŠPLH!E152","v":0},{"$f":"ŠVIHADLO!E152","v":35},{"$f":"'Z MÍSTA'!E152","v":0},{"$f":"REPRE!E55","v":0},{"$f":"'60'!H152+'300'!H152+'1000'!H152+DÁLKA!H152+VÝŠKA!H152+MÍČEK!H152+KOULE!H152+OŠTĚP!H152+ČLUNEK!H152+LEHSED!H152+ODBÍJENÍ!H152+PLAVÁNÍ!H152+SHYBY!H152+ŠPLH!H152+ŠVIHADLO!H152+'Z MÍSTA'!H152+REPRE!E55","v":2556.8352299636281}]
[null,{"$f":"'60'!B153","v":"VÁCLAVÍK"},{"$f":"'60'!C153","v":"Ondřej"},{"$f":"'60'!D153","v":"8.A"},null,{"$f":"'60'!E153","v":8.84},{"$f":"'300'!E153","v":"00:00:00"},{"$f":"'1000'!E153","v":"00:03:38.680"},{"$f":"DÁLKA!E153","v":438},{"$f":"VÝŠKA!E153","v":120},{"$f":"MÍČEK!E153","v":49},{"$f":"KOULE!E153","v":7.53},{"$f":"OŠTĚP!E153","v":0},{"$f":"ČLUNEK!E153","v":10.119999999999999},{"$f":"LEHSED!E153","v":47},{"$f":"ODBÍJENÍ!E153","v":12},{"$f":"PLAVÁNÍ!E153","v":0},{"$f":"SHYBY!E153","v":14},{"$f":"ŠPLH!E153","v":3.89},{"$f":"ŠVIHADLO!E153","v":65},{"$f":"'Z MÍSTA'!E153","v":212},{"$f":"REPRE!E56","v":0},{"$f":"'60'!H153+'300'!H153+'1000'!H153+DÁLKA!H153+VÝŠKA!H153+MÍČEK!H153+KOULE!H153+OŠTĚP!H153+ČLUNEK!H153+LEHSED!H153+ODBÍJENÍ!H153+PLAVÁNÍ!H153+SHYBY!H153+ŠPLH!H153+ŠVIHADLO!H153+'Z MÍSTA'!H153+REPRE!E56","v":8690.595163969545}]
[null,{"$f":"'60'!B154","v":"AUERSWALD"},{"$f":"'60'!C154","v":"Daniel"},{"$f":"'60'!D154","v":"8.B"},null,{"$f":"'60'!E154","v":9.84},{"$f":"'300'!E154","v":"00:01:00.420"},{"$f":"'1000'!E154","v":"00:00:00"},{"$f":"DÁLKA!E154","v":388},{"$f":"VÝŠKA!E154","v":0},{"$f":"MÍČEK!E154","v":32},{"$f":"KOULE!E154","v":6.76},{"$f":"OŠTĚP!E154","v":0},{"$f":"ČLUNEK!E154","v":10.92},{"$f":"LEHSED!E154","v":42},{"$f":"ODBÍJENÍ!E154","v":52},{"$f":"PLAVÁNÍ!E154","v":0},{"$f":"SHYBY!E154","v":5},{"$f":"ŠPLH!E154","v":5.82},{"$f":"ŠVIHADLO!E154","v":125},{"$f":"'Z MÍSTA'!E154","v":185},{"$f":"REPRE!E57","v":0},{"$f":"'60'!H154+'300'!H154+'1000'!H154+DÁLKA!H154+VÝŠKA!H154+MÍČEK!H154+KOULE!H154+OŠTĚP!H154+ČLUNEK!H154+LEHSED!H154+ODBÍJENÍ!H154+PLAVÁNÍ!H154+SHYBY!H154+ŠPLH!H154+ŠVIHADLO!H154+'Z MÍSTA'!H154+REPRE!E57","v":6997.7836031428706}]
[null,{"$f":"'60'!B155","v":"BOUKAL"},{"$f":"'60'!C155","v":"Jakub"},{"$f":"'60'!D155","v":"8.B"},null,{"$f":"'60'!E155","v":0},{"$f":"'300'!E155","v":"00:00:00"},{"$f":"'1000'!E155","v":"00:00:00"},{"$f":"DÁLKA!E155","v":0},{"$f":"VÝŠKA!E155","v":0},{"$f":"MÍČEK!E155","v":0},{"$f":"KOULE!E155","v":0},{"$f":"OŠTĚP!E155","v":0},{"$f":"ČLUNEK!E155","v":0},{"$f":"LEHSED!E155","v":0},{"$f":"ODBÍJENÍ!E155","v":0},{"$f":"PLAVÁNÍ!E155","v":0},{"$f":"SHYBY!E155","v":0},{"$f":"ŠPLH!E155","v":0},{"$f":"ŠVIHADLO!E155","v":0},{"$f":"'Z MÍSTA'!E155","v":0},{"$f":"REPRE!E58","v":0},{"$f":"'60'!H155+'300'!H155+'1000'!H155+DÁLKA!H155+VÝŠKA!H155+MÍČEK!H155+KOULE!H155+OŠTĚP!H155+ČLUNEK!H155+LEHSED!H155+ODBÍJENÍ!H155+PLAVÁNÍ!H155+SHYBY!H155+ŠPLH!H155+ŠVIHADLO!H155+'Z MÍSTA'!H155+REPRE!E58","v":0}]
[null,{"$f":"'60'!B156","v":"BUDÍN"},{"$f":"'60'!C156","v":"Martin"},{"$f":"'60'!D156","v":"8.B"},null,{"$f":"'60'!E156","v":9.36},{"$f":"'300'!E156","v":"00:00:53.280"},{"$f":"'1000'!E156","v":"00:03:20.900"},{"$f":"DÁLKA!E156","v":420},{"$f":"VÝŠKA!E156","v":115},{"$f":"MÍČEK!E156","v":42},{"$f":"KOULE!E156","v":7.26},{"$f":"OŠTĚP!E156","v":0},{"$f":"ČLUNEK!E156","v":10.11},{"$f":"LEHSED!E156","v":42},{"$f":"ODBÍJENÍ!E156","v":14},{"$f":"PLAVÁNÍ!E156","v":0},{"$f":"SHYBY!E156","v":9},{"$f":"ŠPLH!E156","v":5.21},{"$f":"ŠVIHADLO!E156","v":130},{"$f":"'Z MÍSTA'!E156","v":200},{"$f":"REPRE!E59","v":0},{"$f":"'60'!H156+'300'!H156+'1000'!H156+DÁLKA!H156+VÝŠKA!H156+MÍČEK!H156+KOULE!H156+OŠTĚP!H156+ČLUNEK!H156+LEHSED!H156+ODBÍJENÍ!H156+PLAVÁNÍ!H156+SHYBY!H156+ŠPLH!H156+ŠVIHADLO!H156+'Z MÍSTA'!H156+REPRE!E59","v":9050.1921388346254}]
[null,{"$f":"'60'!B157","v":"DVOŘÁK"},{"$f":"'60'!C157","v":"Dominik"},{"$f":"'60'!D157","v":"8.B"},null,{"$f":"'60'!E157","v":9.64},{"$f":"'300'!E157","v":"00:00:00"},{"$f":"'1000'!E157","v":"00:04:46.920"},{"$f":"DÁLKA!E157","v":355},{"$f":"VÝŠKA!E157","v":105},{"$f":"MÍČEK!E157","v":34},{"$f":"KOULE!E157","v":8.8800000000000008},{"$f":"OŠTĚP!E157","v":0},{"$f":"ČLUNEK!E157","v":11.15},{"$f":"LEHSED!E157","v":37},{"$f":"ODBÍJENÍ!E157","v":0},{"$f":"PLAVÁNÍ!E157","v":0},{"$f":"SHYBY!E157","v":3},{"$f":"ŠPLH!E157","v":6.79},{"$f":"ŠVIHADLO!E157","v":74},{"$f":"'Z MÍSTA'!E157","v":190},{"$f":"REPRE!E60","v":0},{"$f":"'60'!H157+'300'!H157+'1000'!H157+DÁLKA!H157+VÝŠKA!H157+MÍČEK!H157+KOULE!H157+OŠTĚP!H157+ČLUNEK!H157+LEHSED!H157+ODBÍJENÍ!H157+PLAVÁNÍ!H157+SHYBY!H157+ŠPLH!H157+ŠVIHADLO!H157+'Z MÍSTA'!H157+REPRE!E60","v":6694.4134729397147}]
[null,{"$f":"'60'!B158","v":"FIŠERA"},{"$f":"'60'!C158","v":"Vojtěch"},{"$f":"'60'!D158","v":"8.B"},null,{"$f":"'60'!E158","v":10.4},{"$f":"'300'!E158","v":"00:01:01.920"},{"$f":"'1000'!E158","v":"00:04:43.630"},{"$f":"DÁLKA!E158","v":304},{"$f":"VÝŠKA!E158","v":105},{"$f":"MÍČEK!E158","v":22.5},{"$f":"KOULE!E158","v":7.12},{"$f":"OŠTĚP!E158","v":0},{"$f":"ČLUNEK!E158","v":11.25},{"$f":"LEHSED!E158","v":52},{"$f":"ODBÍJENÍ!E158","v":10},{"$f":"PLAVÁNÍ!E158","v":0},{"$f":"SHYBY!E158","v":0},{"$f":"ŠPLH!E158","v":14.93},{"$f":"ŠVIHADLO!E158","v":61},{"$f":"'Z MÍSTA'!E158","v":155},{"$f":"REPRE!E61","v":0},{"$f":"'60'!H158+'300'!H158+'1000'!H158+DÁLKA!H158+VÝŠKA!H158+MÍČEK!H158+KOULE!H158+OŠTĚP!H158+ČLUNEK!H158+LEHSED!H158+ODBÍJENÍ!H158+PLAVÁNÍ!H158+SHYBY!H158+ŠPLH!H158+ŠVIHADLO!H158+'Z MÍSTA'!H158+REPRE!E61","v":6556.5827606138027}]
[null,{"$f":"'60'!B159","v":"JINDŘIŠEK"},{"$f":"'60'!C159","v":"Vít"},{"$f":"'60'!D159","v":"8.B"},null,{"$f":"'60'!E159","v":8.02},{"$f":"'300'!E159","v":"00:00:42.340"},{"$f":"'1000'!E159","v":"00:03:07.980"},{"$f":"DÁLKA!E159","v":493},{"$f":"VÝŠKA!E159","v":135},{"$f":"MÍČEK!E159","v":56},{"$f":"KOULE!E159","v":11.17},{"$f":"OŠTĚP!E159","v":0},{"$f":"ČLUNEK!E159","v":9.39},{"$f":"LEHSED!E159","v":49},{"$f":"ODBÍJENÍ!E159","v":54},{"$f":"PLAVÁNÍ!E159","v":0},{"$f":"SHYBY!E159","v":20},{"$f":"ŠPLH!E159","v":3.36},{"$f":"ŠVIHADLO!E159","v":140},{"$f":"'Z MÍSTA'!E159","v":235},{"$f":"REPRE!E62","v":175},{"$f":"'60'!H159+'300'!H159+'1000'!H159+DÁLKA!H159+VÝŠKA!H159+MÍČEK!H159+KOULE!H159+OŠTĚP!H159+ČLUNEK!H159+LEHSED!H159+ODBÍJENÍ!H159+PLAVÁNÍ!H159+SHYBY!H159+ŠPLH!H159+ŠVIHADLO!H159+'Z MÍSTA'!H159+REPRE!E62","v":12027.419476279107}]
[null,{"$f":"'60'!B160","v":"JIROUŠ"},{"$f":"'60'!C160","v":"Matouš"},{"$f":"'60'!D160","v":"8.B"},null,{"$f":"'60'!E160","v":9.5500000000000007},{"$f":"'300'!E160","v":"00:00:55.660"},{"$f":"'1000'!E160","v":"00:00:00"},{"$f":"DÁLKA!E160","v":392},{"$f":"VÝŠKA!E160","v":0},{"$f":"MÍČEK!E160","v":41},{"$f":"KOULE!E160","v":7.85},{"$f":"OŠTĚP!E160","v":0},{"$f":"ČLUNEK!E160","v":10.64},{"$f":"LEHSED!E160","v":55},{"$f":"ODBÍJENÍ!E160","v":0},{"$f":"PLAVÁNÍ!E160","v":25.48},{"$f":"SHYBY!E160","v":2},{"$f":"ŠPLH!E160","v":9.19},{"$f":"ŠVIHADLO!E160","v":133},{"$f":"'Z MÍSTA'!E160","v":210},{"$f":"REPRE!E63","v":50},{"$f":"'60'!H160+'300'!H160+'1000'!H160+DÁLKA!H160+VÝŠKA!H160+MÍČEK!H160+KOULE!H160+OŠTĚP!H160+ČLUNEK!H160+LEHSED!H160+ODBÍJENÍ!H160+PLAVÁNÍ!H160+SHYBY!H160+ŠPLH!H160+ŠVIHADLO!H160+'Z MÍSTA'!H160+REPRE!E63","v":7381.7251559765946}]
[null,{"$f":"'60'!B161","v":"KERLE"},{"$f":"'60'!C161","v":"Marek"},{"$f":"'60'!D161","v":"8.B"},null,{"$f":"'60'!E161","v":8.7200000000000006},{"$f":"'300'!E161","v":"00:00:44.950"},{"$f":"'1000'!E161","v":"00:03:36.620"},{"$f":"DÁLKA!E161","v":472},{"$f":"VÝŠKA!E161","v":150},{"$f":"MÍČEK!E161","v":49},{"$f":"KOULE!E161","v":11.17},{"$f":"OŠTĚP!E161","v":0},{"$f":"ČLUNEK!E161","v":10.08},{"$f":"LEHSED!E161","v":52},{"$f":"ODBÍJENÍ!E161","v":32},{"$f":"PLAVÁNÍ!E161","v":0},{"$f":"SHYBY!E161","v":14},{"$f":"ŠPLH!E161","v":3.79},{"$f":"ŠVIHADLO!E161","v":113},{"$f":"'Z MÍSTA'!E161","v":217},{"$f":"REPRE!E64","v":100},{"$f":"'60'!H161+'300'!H161+'1000'!H161+DÁLKA!H161+VÝŠKA!H161+MÍČEK!H161+KOULE!H161+OŠTĚP!H161+ČLUNEK!H161+LEHSED!H161+ODBÍJENÍ!H161+PLAVÁNÍ!H161+SHYBY!H161+ŠPLH!H161+ŠVIHADLO!H161+'Z MÍSTA'!H161+REPRE!E64","v":10679.190567686566}]
[null,{"$f":"'60'!B162","v":"LUKEŠ"},{"$f":"'60'!C162","v":"Jakub"},{"$f":"'60'!D162","v":"8.B"},null,{"$f":"'60'!E162","v":8.5},{"$f":"'300'!E162","v":"00:00:48.170"},{"$f":"'1000'!E162","v":"00:03:28.410"},{"$f":"DÁLKA!E162","v":452},{"$f":"VÝŠKA!E162","v":150},{"$f":"MÍČEK!E162","v":30},{"$f":"KOULE!E162","v":7.25},{"$f":"OŠTĚP!E162","v":0},{"$f":"ČLUNEK!E162","v":9.8000000000000007},{"$f":"LEHSED!E162","v":50},{"$f":"ODBÍJENÍ!E162","v":14},{"$f":"PLAVÁNÍ!E162","v":0},{"$f":"SHYBY!E162","v":5},{"$f":"ŠPLH!E162","v":3.63},{"$f":"ŠVIHADLO!E162","v":115},{"$f":"'Z MÍSTA'!E162","v":242},{"$f":"REPRE!E65","v":100},{"$f":"'60'!H162+'300'!H162+'1000'!H162+DÁLKA!H162+VÝŠKA!H162+MÍČEK!H162+KOULE!H162+OŠTĚP!H162+ČLUNEK!H162+LEHSED!H162+ODBÍJENÍ!H162+PLAVÁNÍ!H162+SHYBY!H162+ŠPLH!H162+ŠVIHADLO!H162+'Z MÍSTA'!H162+REPRE!E65","v":9486.5074178165614}]
[null,{"$f":"'60'!B163","v":"OTT"},{"$f":"'60'!C163","v":"Matyáš"},{"$f":"'60'!D163","v":"8.B"},null,{"$f":"'60'!E163","v":8.44},{"$f":"'300'!E163","v":"00:00:44.240"},{"$f":"'1000'!E163","v":"00:03:20.680"},{"$f":"DÁLKA!E163","v":440},{"$f":"VÝŠKA!E163","v":125},{"$f":"MÍČEK!E163","v":41},{"$f":"KOULE!E163","v":8.9499999999999993},{"$f":"OŠTĚP!E163","v":0},{"$f":"ČLUNEK!E163","v":9.73},{"$f":"LEHSED!E163","v":43},{"$f":"ODBÍJENÍ!E163","v":54},{"$f":"PLAVÁNÍ!E163","v":17.16},{"$f":"SHYBY!E163","v":15},{"$f":"ŠPLH!E163","v":5.87},{"$f":"ŠVIHADLO!E163","v":146},{"$f":"'Z MÍSTA'!E163","v":215},{"$f":"REPRE!E66","v":100},{"$f":"'60'!H163+'300'!H163+'1000'!H163+DÁLKA!H163+VÝŠKA!H163+MÍČEK!H163+KOULE!H163+OŠTĚP!H163+ČLUNEK!H163+LEHSED!H163+ODBÍJENÍ!H163+PLAVÁNÍ!H163+SHYBY!H163+ŠPLH!H163+ŠVIHADLO!H163+'Z MÍSTA'!H163+REPRE!E66","v":11247.085534025264}]
[null,{"$f":"'60'!B164","v":"POKORNÝ"},{"$f":"'60'!C164","v":"Matyáš"},{"$f":"'60'!D164","v":"8.B"},null,{"$f":"'60'!E164","v":8.42},{"$f":"'300'!E164","v":"00:00:46.580"},{"$f":"'1000'!E164","v":"00:03:26.940"},{"$f":"DÁLKA!E164","v":454},{"$f":"VÝŠKA!E164","v":153},{"$f":"MÍČEK!E164","v":55},{"$f":"KOULE!E164","v":8.31},{"$f":"OŠTĚP!E164","v":0},{"$f":"ČLUNEK!E164","v":9.4600000000000009},{"$f":"LEHSED!E164","v":67},{"$f":"ODBÍJENÍ!E164","v":0},{"$f":"PLAVÁNÍ!E164","v":0},{"$f":"SHYBY!E164","v":6},{"$f":"ŠPLH!E164","v":5.16},{"$f":"ŠVIHADLO!E164","v":146},{"$f":"'Z MÍSTA'!E164","v":230},{"$f":"REPRE!E67","v":150},{"$f":"'60'!H164+'300'!H164+'1000'!H164+DÁLKA!H164+VÝŠKA!H164+MÍČEK!H164+KOULE!H164+OŠTĚP!H164+ČLUNEK!H164+LEHSED!H164+ODBÍJENÍ!H164+PLAVÁNÍ!H164+SHYBY!H164+ŠPLH!H164+ŠVIHADLO!H164+'Z MÍSTA'!H164+REPRE!E67","v":10151.108721171227}]
[null,{"$f":"'60'!B165","v":"POLÁČEK"},{"$f":"'60'!C165","v":"Matyáš"},{"$f":"'60'!D165","v":"8.B"},null,{"$f":"'60'!E165","v":10.16},{"$f":"'300'!E165","v":"00:00:00"},{"$f":"'1000'!E165","v":"00:05:19.800"},{"$f":"DÁLKA!E165","v":328},{"$f":"VÝŠKA!E165","v":100},{"$f":"MÍČEK!E165","v":42},{"$f":"KOULE!E165","v":8.69},{"$f":"OŠTĚP!E165","v":0},{"$f":"ČLUNEK!E165","v":0},{"$f":"LEHSED!E165","v":37},{"$f":"ODBÍJENÍ!E165","v":52},{"$f":"PLAVÁNÍ!E165","v":0},{"$f":"SHYBY!E165","v":0},{"$f":"ŠPLH!E165","v":0},{"$f":"ŠVIHADLO!E165","v":95},{"$f":"'Z MÍSTA'!E165","v":161},{"$f":"REPRE!E68","v":125},{"$f":"'60'!H165+'300'!H165+'1000'!H165+DÁLKA!H165+VÝŠKA!H165+MÍČEK!H165+KOULE!H165+OŠTĚP!H165+ČLUNEK!H165+LEHSED!H165+ODBÍJENÍ!H165+PLAVÁNÍ!H165+SHYBY!H165+ŠPLH!H165+ŠVIHADLO!H165+'Z MÍSTA'!H165+REPRE!E68","v":5792.9820899201759}]
[null,{"$f":"'60'!B166","v":"ULLMAN"},{"$f":"'60'!C166","v":"Šimon"},{"$f":"'60'!D166","v":"8.B"},null,{"$f":"'60'!E166","v":8.9700000000000006},{"$f":"'300'!E166","v":"00:00:53.180"},{"$f":"'1000'!E166","v":"00:05:06.060"},{"$f":"DÁLKA!E166","v":466},{"$f":"VÝŠKA!E166","v":130},{"$f":"MÍČEK!E166","v":26.5},{"$f":"KOULE!E166","v":6.48},{"$f":"OŠTĚP!E166","v":0},{"$f":"ČLUNEK!E166","v":10.57},{"$f":"LEHSED!E166","v":50},{"$f":"ODBÍJENÍ!E166","v":23},{"$f":"PLAVÁNÍ!E166","v":0},{"$f":"SHYBY!E166","v":9},{"$f":"ŠPLH!E166","v":5.51},{"$f":"ŠVIHADLO!E166","v":58},{"$f":"'Z MÍSTA'!E166","v":245},{"$f":"REPRE!E69","v":0},{"$f":"'60'!H166+'300'!H166+'1000'!H166+DÁLKA!H166+VÝŠKA!H166+MÍČEK!H166+KOULE!H166+OŠTĚP!H166+ČLUNEK!H166+LEHSED!H166+ODBÍJENÍ!H166+PLAVÁNÍ!H166+SHYBY!H166+ŠPLH!H166+ŠVIHADLO!H166+'Z MÍSTA'!H166+REPRE!E69","v":8527.7504381435592}]
[null,{"$f":"'60'!B167","v":"VALENTA"},{"$f":"'60'!C167","v":"Jakub"},{"$f":"'60'!D167","v":"8.B"},null,{"$f":"'60'!E167","v":9.3000000000000007},{"$f":"'300'!E167","v":"00:00:50.250"},{"$f":"'1000'!E167","v":"00:03:51.850"},{"$f":"DÁLKA!E167","v":407},{"$f":"VÝŠKA!E167","v":140},{"$f":"MÍČEK!E167","v":28},{"$f":"KOULE!E167","v":6.51},{"$f":"OŠTĚP!E167","v":0},{"$f":"ČLUNEK!E167","v":9.93},{"$f":"LEHSED!E167","v":69},{"$f":"ODBÍJENÍ!E167","v":0},{"$f":"PLAVÁNÍ!E167","v":0},{"$f":"SHYBY!E167","v":6},{"$f":"ŠPLH!E167","v":5.35},{"$f":"ŠVIHADLO!E167","v":111},{"$f":"'Z MÍSTA'!E167","v":198},{"$f":"REPRE!E70","v":50},{"$f":"'60'!H167+'300'!H167+'1000'!H167+DÁLKA!H167+VÝŠKA!H167+MÍČEK!H167+KOULE!H167+OŠTĚP!H167+ČLUNEK!H167+LEHSED!H167+ODBÍJENÍ!H167+PLAVÁNÍ!H167+SHYBY!H167+ŠPLH!H167+ŠVIHADLO!H167+'Z MÍSTA'!H167+REPRE!E70","v":8842.009697947833}]
[null,{"$f":"'60'!B168","v":"VRBATA"},{"$f":"'60'!C168","v":"Dominik"},{"$f":"'60'!D168","v":"8.B"},null,{"$f":"'60'!E168","v":9.35},{"$f":"'300'!E168","v":"00:00:55.100"},{"$f":"'1000'!E168","v":"00:03:57.340"},{"$f":"DÁLKA!E168","v":0},{"$f":"VÝŠKA!E168","v":125},{"$f":"MÍČEK!E168","v":40},{"$f":"KOULE!E168","v":7.05},{"$f":"OŠTĚP!E168","v":0},{"$f":"ČLUNEK!E168","v":10.19},{"$f":"LEHSED!E168","v":43},{"$f":"ODBÍJENÍ!E168","v":32},{"$f":"PLAVÁNÍ!E168","v":18.32},{"$f":"SHYBY!E168","v":7},{"$f":"ŠPLH!E168","v":3.25},{"$f":"ŠVIHADLO!E168","v":96},{"$f":"'Z MÍSTA'!E168","v":192},{"$f":"REPRE!E71","v":0},{"$f":"'60'!H168+'300'!H168+'1000'!H168+DÁLKA!H168+VÝŠKA!H168+MÍČEK!H168+KOULE!H168+OŠTĚP!H168+ČLUNEK!H168+LEHSED!H168+ODBÍJENÍ!H168+PLAVÁNÍ!H168+SHYBY!H168+ŠPLH!H168+ŠVIHADLO!H168+'Z MÍSTA'!H168+REPRE!E71","v":8878.0766059272646}]
[null,{"$f":"'60'!B169","v":"FEJKL"},{"$f":"'60'!C169","v":"Jan"},{"$f":"'60'!D169","v":"9.A"},null,{"$f":"'60'!E169","v":8.2100000000000009},{"$f":"'300'!E169","v":"00:00:45.510"},{"$f":"'1000'!E169","v":"00:03:35.900"},{"$f":"DÁLKA!E169","v":521},{"$f":"VÝŠKA!E169","v":157},{"$f":"MÍČEK!E169","v":61},{"$f":"KOULE!E169","v":9.99},{"$f":"OŠTĚP!E169","v":0},{"$f":"ČLUNEK!E169","v":9.5299999999999994},{"$f":"LEHSED!E169","v":0},{"$f":"ODBÍJENÍ!E169","v":232},{"$f":"PLAVÁNÍ!E169","v":0},{"$f":"SHYBY!E169","v":10},{"$f":"ŠPLH!E169","v":3.42},{"$f":"ŠVIHADLO!E169","v":0},{"$f":"'Z MÍSTA'!E169","v":251},{"$f":"REPRE!E72","v":225},{"$f":"'60'!H169+'300'!H169+'1000'!H169+DÁLKA!H169+VÝŠKA!H169+MÍČEK!H169+KOULE!H169+OŠTĚP!H169+ČLUNEK!H169+LEHSED!H169+ODBÍJENÍ!H169+PLAVÁNÍ!H169+SHYBY!H169+ŠPLH!H169+ŠVIHADLO!H169+'Z MÍSTA'!H169+REPRE!E72","v":10081.958687690514}]
[null,{"$f":"'60'!B170","v":"KOTYK"},{"$f":"'60'!C170","v":"Tadeáš"},{"$f":"'60'!D170","v":"9.A"},null,{"$f":"'60'!E170","v":10.49},{"$f":"'300'!E170","v":"00:00:00"},{"$f":"'1000'!E170","v":"00:00:00"},{"$f":"DÁLKA!E170","v":374},{"$f":"VÝŠKA!E170","v":115},{"$f":"MÍČEK!E170","v":26.5},{"$f":"KOULE!E170","v":9.07},{"$f":"OŠTĚP!E170","v":0},{"$f":"ČLUNEK!E170","v":11.03},{"$f":"LEHSED!E170","v":0},{"$f":"ODBÍJENÍ!E170","v":11},{"$f":"PLAVÁNÍ!E170","v":0},{"$f":"SHYBY!E170","v":1},{"$f":"ŠPLH!E170","v":0},{"$f":"ŠVIHADLO!E170","v":0},{"$f":"'Z MÍSTA'!E170","v":0},{"$f":"REPRE!E73","v":0},{"$f":"'60'!H170+'300'!H170+'1000'!H170+DÁLKA!H170+VÝŠKA!H170+MÍČEK!H170+KOULE!H170+OŠTĚP!H170+ČLUNEK!H170+LEHSED!H170+ODBÍJENÍ!H170+PLAVÁNÍ!H170+SHYBY!H170+ŠPLH!H170+ŠVIHADLO!H170+'Z MÍSTA'!H170+REPRE!E73","v":3947.4488025651008}]
[null,{"$f":"'60'!B171","v":"KRAUSE"},{"$f":"'60'!C171","v":"Tadeáš"},{"$f":"'60'!D171","v":"9.A"},null,{"$f":"'60'!E171","v":8.48},{"$f":"'300'!E171","v":"00:00:00"},{"$f":"'1000'!E171","v":"00:03:12.100"},{"$f":"DÁLKA!E171","v":468},{"$f":"VÝŠKA!E171","v":155},{"$f":"MÍČEK!E171","v":44.2},{"$f":"KOULE!E171","v":8.02},{"$f":"OŠTĚP!E171","v":0},{"$f":"ČLUNEK!E171","v":9.8800000000000008},{"$f":"LEHSED!E171","v":0},{"$f":"ODBÍJENÍ!E171","v":65},{"$f":"PLAVÁNÍ!E171","v":0},{"$f":"SHYBY!E171","v":12},{"$f":"ŠPLH!E171","v":4.95},{"$f":"ŠVIHADLO!E171","v":0},{"$f":"'Z MÍSTA'!E171","v":225},{"$f":"REPRE!E74","v":150},{"$f":"'60'!H171+'300'!H171+'1000'!H171+DÁLKA!H171+VÝŠKA!H171+MÍČEK!H171+KOULE!H171+OŠTĚP!H171+ČLUNEK!H171+LEHSED!H171+ODBÍJENÍ!H171+PLAVÁNÍ!H171+SHYBY!H171+ŠPLH!H171+ŠVIHADLO!H171+'Z MÍSTA'!H171+REPRE!E74","v":8417.1212567996281}]
[null,{"$f":"'60'!B172","v":"LEŠÁK"},{"$f":"'60'!C172","v":"Martin"},{"$f":"'60'!D172","v":"9.A"},null,{"$f":"'60'!E172","v":9.9499999999999993},{"$f":"'300'!E172","v":"00:00:00"},{"$f":"'1000'!E172","v":"00:00:00"},{"$f":"DÁLKA!E172","v":374},{"$f":"VÝŠKA!E172","v":130},{"$f":"MÍČEK!E172","v":33.5},{"$f":"KOULE!E172","v":8.44},{"$f":"OŠTĚP!E172","v":0},{"$f":"ČLUNEK!E172","v":11.16},{"$f":"LEHSED!E172","v":0},{"$f":"ODBÍJENÍ!E172","v":16},{"$f":"PLAVÁNÍ!E172","v":0},{"$f":"SHYBY!E172","v":0},{"$f":"ŠPLH!E172","v":0},{"$f":"ŠVIHADLO!E172","v":0},{"$f":"'Z MÍSTA'!E172","v":0},{"$f":"REPRE!E75","v":0},{"$f":"'60'!H172+'300'!H172+'1000'!H172+DÁLKA!H172+VÝŠKA!H172+MÍČEK!H172+KOULE!H172+OŠTĚP!H172+ČLUNEK!H172+LEHSED!H172+ODBÍJENÍ!H172+PLAVÁNÍ!H172+SHYBY!H172+ŠPLH!H172+ŠVIHADLO!H172+'Z MÍSTA'!H172+REPRE!E75","v":4070.1977399177431}]
[null,{"$f":"'60'!B173","v":"NECHANICKÝ"},{"$f":"'60'!C173","v":"David"},{"$f":"'60'!D173","v":"9.A"},null,{"$f":"'60'!E173","v":8.06},{"$f":"'300'!E173","v":"00:00:49.380"},{"$f":"'1000'!E173","v":"00:03:43.500"},{"$f":"DÁLKA!E173","v":542},{"$f":"VÝŠKA!E173","v":141},{"$f":"MÍČEK!E173","v":45},{"$f":"KOULE!E173","v":9.5},{"$f":"OŠTĚP!E173","v":0},{"$f":"ČLUNEK!E173","v":9.08},{"$f":"LEHSED!E173","v":52},{"$f":"ODBÍJENÍ!E173","v":232},{"$f":"PLAVÁNÍ!E173","v":0},{"$f":"SHYBY!E173","v":6},{"$f":"ŠPLH!E173","v":0},{"$f":"ŠVIHADLO!E173","v":125},{"$f":"'Z MÍSTA'!E173","v":254},{"$f":"REPRE!E76","v":225},{"$f":"'60'!H173+'300'!H173+'1000'!H173+DÁLKA!H173+VÝŠKA!H173+MÍČEK!H173+KOULE!H173+OŠTĚP!H173+ČLUNEK!H173+LEHSED!H173+ODBÍJENÍ!H173+PLAVÁNÍ!H173+SHYBY!H173+ŠPLH!H173+ŠVIHADLO!H173+'Z MÍSTA'!H173+REPRE!E76","v":10145.456515127225}]
[null,{"$f":"'60'!B174","v":"ŘEHOŘEK"},{"$f":"'60'!C174","v":"Jan"},{"$f":"'60'!D174","v":"9.A"},null,{"$f":"'60'!E174","v":0},{"$f":"'300'!E174","v":"00:00:51.360"},{"$f":"'1000'!E174","v":"00:00:00"},{"$f":"DÁLKA!E174","v":455},{"$f":"VÝŠKA!E174","v":146},{"$f":"MÍČEK!E174","v":51.5},{"$f":"KOULE!E174","v":8.08},{"$f":"OŠTĚP!E174","v":0},{"$f":"ČLUNEK!E174","v":0},{"$f":"LEHSED!E174","v":0},{"$f":"ODBÍJENÍ!E174","v":512},{"$f":"PLAVÁNÍ!E174","v":0},{"$f":"SHYBY!E174","v":3},{"$f":"ŠPLH!E174","v":0},{"$f":"ŠVIHADLO!E174","v":0},{"$f":"'Z MÍSTA'!E174","v":235},{"$f":"REPRE!E77","v":125},{"$f":"'60'!H174+'300'!H174+'1000'!H174+DÁLKA!H174+VÝŠKA!H174+MÍČEK!H174+KOULE!H174+OŠTĚP!H174+ČLUNEK!H174+LEHSED!H174+ODBÍJENÍ!H174+PLAVÁNÍ!H174+SHYBY!H174+ŠPLH!H174+ŠVIHADLO!H174+'Z MÍSTA'!H174+REPRE!E77","v":5654.7042662620979}]
[null,{"$f":"'60'!B175","v":"SOUKUP"},{"$f":"'60'!C175","v":"Ondřej"},{"$f":"'60'!D175","v":"9.A"},null,{"$f":"'60'!E175","v":0},{"$f":"'300'!E175","v":"00:00:00"},{"$f":"'1000'!E175","v":"00:00:00"},{"$f":"DÁLKA!E175","v":422},{"$f":"VÝŠKA!E175","v":141},{"$f":"MÍČEK!E175","v":0},{"$f":"KOULE!E175","v":10.02},{"$f":"OŠTĚP!E175","v":0},{"$f":"ČLUNEK!E175","v":0},{"$f":"LEHSED!E175","v":0},{"$f":"ODBÍJENÍ!E175","v":0},{"$f":"PLAVÁNÍ!E175","v":0},{"$f":"SHYBY!E175","v":0},{"$f":"ŠPLH!E175","v":0},{"$f":"ŠVIHADLO!E175","v":0},{"$f":"'Z MÍSTA'!E175","v":0},{"$f":"REPRE!E78","v":0},{"$f":"'60'!H175+'300'!H175+'1000'!H175+DÁLKA!H175+VÝŠKA!H175+MÍČEK!H175+KOULE!H175+OŠTĚP!H175+ČLUNEK!H175+LEHSED!H175+ODBÍJENÍ!H175+PLAVÁNÍ!H175+SHYBY!H175+ŠPLH!H175+ŠVIHADLO!H175+'Z MÍSTA'!H175+REPRE!E78","v":2248.4073333333336}]
[null,{"$f":"'60'!B176","v":"SPANILÝ"},{"$f":"'60'!C176","v":"David"},{"$f":"'60'!D176","v":"9.A"},null,{"$f":"'60'!E176","v":8.14},{"$f":"'300'!E176","v":"00:00:45.800"},{"$f":"'1000'!E176","v":"00:03:28.500"},{"$f":"DÁLKA!E176","v":495},{"$f":"VÝŠKA!E176","v":141},{"$f":"MÍČEK!E176","v":61},{"$f":"KOULE!E176","v":10.77},{"$f":"OŠTĚP!E176","v":0},{"$f":"ČLUNEK!E176","v":9.18},{"$f":"LEHSED!E176","v":49},{"$f":"ODBÍJENÍ!E176","v":512},{"$f":"PLAVÁNÍ!E176","v":0},{"$f":"SHYBY!E176","v":7},{"$f":"ŠPLH!E176","v":4.04},{"$f":"ŠVIHADLO!E176","v":132},{"$f":"'Z MÍSTA'!E176","v":273},{"$f":"REPRE!E79","v":225},{"$f":"'60'!H176+'300'!H176+'1000'!H176+DÁLKA!H176+VÝŠKA!H176+MÍČEK!H176+KOULE!H176+OŠTĚP!H176+ČLUNEK!H176+LEHSED!H176+ODBÍJENÍ!H176+PLAVÁNÍ!H176+SHYBY!H176+ŠPLH!H176+ŠVIHADLO!H176+'Z MÍSTA'!H176+REPRE!E79","v":11367.409730766381}]
[null,{"$f":"'60'!B177","v":"ČERNÝ"},{"$f":"'60'!C177","v":"Michal"},{"$f":"'60'!D177","v":"9.B"},null,{"$f":"'60'!E177","v":9.67},{"$f":"'300'!E177","v":"00:00:59.010"},{"$f":"'1000'!E177","v":"00:00:00"},{"$f":"DÁLKA!E177","v":387},{"$f":"VÝŠKA!E177","v":120},{"$f":"MÍČEK!E177","v":51},{"$f":"KOULE!E177","v":8.49},{"$f":"OŠTĚP!E177","v":0},{"$f":"ČLUNEK!E177","v":10.68},{"$f":"LEHSED!E177","v":0},{"$f":"ODBÍJENÍ!E177","v":36},{"$f":"PLAVÁNÍ!E177","v":0},{"$f":"SHYBY!E177","v":1},{"$f":"ŠPLH!E177","v":0},{"$f":"ŠVIHADLO!E177","v":0},{"$f":"'Z MÍSTA'!E177","v":182},{"$f":"REPRE!E80","v":0},{"$f":"'60'!H177+'300'!H177+'1000'!H177+DÁLKA!H177+VÝŠKA!H177+MÍČEK!H177+KOULE!H177+OŠTĚP!H177+ČLUNEK!H177+LEHSED!H177+ODBÍJENÍ!H177+PLAVÁNÍ!H177+SHYBY!H177+ŠPLH!H177+ŠVIHADLO!H177+'Z MÍSTA'!H177+REPRE!E80","v":5847.8665343686698}]
[null,{"$f":"'60'!B178","v":"DOLEJŠÍ"},{"$f":"'60'!C178","v":"David"},{"$f":"'60'!D178","v":"9.B"},null,{"$f":"'60'!E178","v":9.17},{"$f":"'300'!E178","v":"00:00:52.400"},{"$f":"'1000'!E178","v":"00:00:00"},{"$f":"DÁLKA!E178","v":422},{"$f":"VÝŠKA!E178","v":125},{"$f":"MÍČEK!E178","v":24},{"$f":"KOULE!E178","v":7.81},{"$f":"OŠTĚP!E178","v":0},{"$f":"ČLUNEK!E178","v":10.16},{"$f":"LEHSED!E178","v":0},{"$f":"ODBÍJENÍ!E178","v":27},{"$f":"PLAVÁNÍ!E178","v":0},{"$f":"SHYBY!E178","v":2},{"$f":"ŠPLH!E178","v":10.44},{"$f":"ŠVIHADLO!E178","v":0},{"$f":"'Z MÍSTA'!E178","v":203},{"$f":"REPRE!E81","v":0},{"$f":"'60'!H178+'300'!H178+'1000'!H178+DÁLKA!H178+VÝŠKA!H178+MÍČEK!H178+KOULE!H178+OŠTĚP!H178+ČLUNEK!H178+LEHSED!H178+ODBÍJENÍ!H178+PLAVÁNÍ!H178+SHYBY!H178+ŠPLH!H178+ŠVIHADLO!H178+'Z MÍSTA'!H178+REPRE!E81","v":6136.8473690555738}]
[null,{"$f":"'60'!B179","v":"POVAŽANEC"},{"$f":"'60'!C179","v":"Martin"},{"$f":"'60'!D179","v":"9.B"},null,{"$f":"'60'!E179","v":8.65},{"$f":"'300'!E179","v":"00:00:00"},{"$f":"'1000'!E179","v":"00:04:29.200"},{"$f":"DÁLKA!E179","v":475},{"$f":"VÝŠKA!E179","v":140},{"$f":"MÍČEK!E179","v":61},{"$f":"KOULE!E179","v":11.02},{"$f":"OŠTĚP!E179","v":0},{"$f":"ČLUNEK!E179","v":10.210000000000001},{"$f":"LEHSED!E179","v":0},{"$f":"ODBÍJENÍ!E179","v":96},{"$f":"PLAVÁNÍ!E179","v":0},{"$f":"SHYBY!E179","v":2},{"$f":"ŠPLH!E179","v":5.9},{"$f":"ŠVIHADLO!E179","v":0},{"$f":"'Z MÍSTA'!E179","v":205},{"$f":"REPRE!E82","v":100},{"$f":"'60'!H179+'300'!H179+'1000'!H179+DÁLKA!H179+VÝŠKA!H179+MÍČEK!H179+KOULE!H179+OŠTĚP!H179+ČLUNEK!H179+LEHSED!H179+ODBÍJENÍ!H179+PLAVÁNÍ!H179+SHYBY!H179+ŠPLH!H179+ŠVIHADLO!H179+'Z MÍSTA'!H179+REPRE!E82","v":7590.3340042612735}]
[null,{"$f":"'60'!B180","v":"RICHTER"},{"$f":"'60'!C180","v":"Jakub"},{"$f":"'60'!D180","v":"9.B"},null,{"$f":"'60'!E180","v":9.91},{"$f":"'300'!E180","v":"00:00:57.870"},{"$f":"'1000'!E180","v":"00:00:00"},{"$f":"DÁLKA!E180","v":382},{"$f":"VÝŠKA!E180","v":115},{"$f":"MÍČEK!E180","v":30},{"$f":"KOULE!E180","v":7.66},{"$f":"OŠTĚP!E180","v":0},{"$f":"ČLUNEK!E180","v":10.95},{"$f":"LEHSED!E180","v":0},{"$f":"ODBÍJENÍ!E180","v":16},{"$f":"PLAVÁNÍ!E180","v":0},{"$f":"SHYBY!E180","v":0},{"$f":"ŠPLH!E180","v":0},{"$f":"ŠVIHADLO!E180","v":0},{"$f":"'Z MÍSTA'!E180","v":0},{"$f":"REPRE!E83","v":0},{"$f":"'60'!H180+'300'!H180+'1000'!H180+DÁLKA!H180+VÝŠKA!H180+MÍČEK!H180+KOULE!H180+OŠTĚP!H180+ČLUNEK!H180+LEHSED!H180+ODBÍJENÍ!H180+PLAVÁNÍ!H180+SHYBY!H180+ŠPLH!H180+ŠVIHADLO!H180+'Z MÍSTA'!H180+REPRE!E83","v":4551.9897626705369}]
[null,{"$f":"'60'!B181","v":"ROZUMEK"},{"$f":"'60'!C181","v":"Adam"},{"$f":"'60'!D181","v":"9.B"},null,{"$f":"'60'!E181","v":9.2200000000000006},{"$f":"'300'!E181","v":"00:00:56.020"},{"$f":"'1000'!E181","v":"00:00:00"},{"$f":"DÁLKA!E181","v":385},{"$f":"VÝŠKA!E181","v":110},{"$f":"MÍČEK!E181","v":50},{"$f":"KOULE!E181","v":11.29},{"$f":"OŠTĚP!E181","v":0},{"$f":"ČLUNEK!E181","v":10.09},{"$f":"LEHSED!E181","v":0},{"$f":"ODBÍJENÍ!E181","v":86},{"$f":"PLAVÁNÍ!E181","v":0},{"$f":"SHYBY!E181","v":2},{"$f":"ŠPLH!E181","v":8.6999999999999993},{"$f":"ŠVIHADLO!E181","v":0},{"$f":"'Z MÍSTA'!E181","v":190},{"$f":"REPRE!E84","v":0},{"$f":"'60'!H181+'300'!H181+'1000'!H181+DÁLKA!H181+VÝŠKA!H181+MÍČEK!H181+KOULE!H181+OŠTĚP!H181+ČLUNEK!H181+LEHSED!H181+ODBÍJENÍ!H181+PLAVÁNÍ!H181+SHYBY!H181+ŠPLH!H181+ŠVIHADLO!H181+'Z MÍSTA'!H181+REPRE!E84","v":6868.4172017324545}]
[null,{"$f":"'60'!B182","v":"VALENTA"},{"$f":"'60'!C182","v":"František"},{"$f":"'60'!D182","v":"9.B"},null,{"$f":"'60'!E182","v":9.51},{"$f":"'300'!E182","v":"00:00:56.020"},{"$f":"'1000'!E182","v":"00:00:00"},{"$f":"DÁLKA!E182","v":322},{"$f":"VÝŠKA!E182","v":115},{"$f":"MÍČEK!E182","v":29},{"$f":"KOULE!E182","v":8.07},{"$f":"OŠTĚP!E182","v":0},{"$f":"ČLUNEK!E182","v":10.38},{"$f":"LEHSED!E182","v":0},{"$f":"ODBÍJENÍ!E182","v":61},{"$f":"PLAVÁNÍ!E182","v":0},{"$f":"SHYBY!E182","v":1},{"$f":"ŠPLH!E182","v":0},{"$f":"ŠVIHADLO!E182","v":0},{"$f":"'Z MÍSTA'!E182","v":0},{"$f":"REPRE!E85","v":0},{"$f":"'60'!H182+'300'!H182+'1000'!H182+DÁLKA!H182+VÝŠKA!H182+MÍČEK!H182+KOULE!H182+OŠTĚP!H182+ČLUNEK!H182+LEHSED!H182+ODBÍJENÍ!H182+PLAVÁNÍ!H182+SHYBY!H182+ŠPLH!H182+ŠVIHADLO!H182+'Z MÍSTA'!H182+REPRE!E85","v":5023.2570105642453}]
[null,{"$f":"'60'!B183","v":"ZAPLATÍLEK"},{"$f":"'60'!C183","v":"Josef"},{"$f":"'60'!D183","v":"9.B"},null,{"$f":"'60'!E183","v":8.94},{"$f":"'300'!E183","v":"00:00:52.400"},{"$f":"'1000'!E183","v":"00:00:00"},{"$f":"DÁLKA!E183","v":413},{"$f":"VÝŠKA!E183","v":115},{"$f":"MÍČEK!E183","v":49},{"$f":"KOULE!E183","v":8.92},{"$f":"OŠTĚP!E183","v":0},{"$f":"ČLUNEK!E183","v":9.99},{"$f":"LEHSED!E183","v":0},{"$f":"ODBÍJENÍ!E183","v":86},{"$f":"PLAVÁNÍ!E183","v":0},{"$f":"SHYBY!E183","v":3},{"$f":"ŠPLH!E183","v":0},{"$f":"ŠVIHADLO!E183","v":0},{"$f":"'Z MÍSTA'!E183","v":226},{"$f":"REPRE!E86","v":50},{"$f":"'60'!H183+'300'!H183+'1000'!H183+DÁLKA!H183+VÝŠKA!H183+MÍČEK!H183+KOULE!H183+OŠTĚP!H183+ČLUNEK!H183+LEHSED!H183+ODBÍJENÍ!H183+PLAVÁNÍ!H183+SHYBY!H183+ŠPLH!H183+ŠVIHADLO!H183+'Z MÍSTA'!H183+REPRE!E86","v":6818.3885497192623}]

{"sheet":"60","index":6,"n_rows":183,"n_cols":12,"rows_kept":183,"cut":false,"hidden":false,"merged":[]}
[null,null,"VÝKONY  2022 - 2023",null,null,null,"60 M","CHLAPCI  6. -  9.  ROČ."]
[null,"stav  k ",{"$f":"TODAY()","v":"2023-06-26"}]
[null,null,null,null,null,null,null,"body",null,"21 - 22","20 - 21","19  - 20"]
["1.",{"$f":"B101","v":"HONCŮ"},{"$f":"C101","v":"Filip"},"6.A",13.4," ","Jilemnice  25.05.23",577.80956486567152," ",0,0,0]
["2.",{"$f":"B102","v":"JÍLEK"},"Lukáš","6.A",0," ",{"$f":"G102","v":0},0," ",{"$f":"J102","v":0},0,0]
["3.",{"$f":"B103","v":"KUČERA"},"Tadeáš","6.A",11.9," ",{"$f":"G103","v":"Jilemnice  25.05.23"},636.02085455462191," ",{"$f":"J103","v":0},0,0]
["4.",{"$f":"B104","v":"ROZUMEK"},"Lukáš","6.A",13," ",{"$f":"G104","v":"Jilemnice  25.05.23"},592.01908993846155," ",{"$f":"J104","v":0},0,0]
["5.",{"$f":"B105","v":"ŘEHOŘEK"},"Marek","6.A",12.1," ",{"$f":"G105","v":"Jilemnice  25.05.23"},627.42546852892565," ",{"$f":"J105","v":0},0,0]
["6.",{"$f":"B106","v":"ŘÍHA"},"Tadeáš","6.A",11.6," ",{"$f":"G106","v":"Jilemnice  25.05.23"},649.46966975862074," ",{"$f":"J106","v":0},0,0]
["7.",{"$f":"B107","v":"SKRBEK"},"Richard","6.A",11.6," ",{"$f":"G107","v":"Jilemnice  25.05.23"},649.46966975862074," ",{"$f":"J107","v":0},0,0]
["8.",{"$f":"B108","v":"ŠIMEK"},"Erik","6.A",10.5," ",{"$f":"G108","v":"Jilemnice  25.05.23"},705.35696849523811," ",{"$f":"J108","v":0},0,0]
["9.",{"$f":"B109","v":"ŠÍR"},"Jan","6.A",11," ",{"$f":"G109","v":"Jilemnice  25.05.23"},678.56801538181821," ",{"$f":"J109","v":0},0,0]
["10.",{"$f":"B110","v":"ŠÍR"},"Stanislav","6.A",11.5," ",{"$f":"G110","v":"Jilemnice  25.05.23"},654.10853645217389," ",{"$f":"J110","v":0},0,0]
["11.",{"$f":"B111","v":"ŠPINAR"},"František","6.A",13," ",{"$f":"G111","v":"Jilemnice  25.05.23"},592.01908993846155," ",{"$f":"J111","v":0},0,0]
["12.",{"$f":"B112","v":"TOTH"},"Mikuláš","6.A",12.4," ",{"$f":"G112","v":"Jilemnice  25.05.23"},615.05227170967737," ",{"$f":"J112","v":0},0,0]
["13.",{"$f":"B113","v":"WEISZLEMLEIN"},"Adam","6.A",12," ",{"$f":"G113","v":"Jilemnice  25.05.23"},631.68734743333334," ",{"$f":"J113","v":0},0,0]
["14.",{"$f":"B114","v":"ČERNÝ"},"Filip","6.B",0," ",{"$f":"G114","v":0},0," ",{"$f":"J114","v":0},0,0]
["15.",{"$f":"B115","v":"GINGAL"},"Patrik","6.B",10.8," ",{"$f":"G115","v":"Jilemnice  25.05.23"},688.98594159259255," ",{"$f":"J115","v":0},0,0]
["16.",{"$f":"B116","v":"HLAVÁČEK"},"Josef","6.B",9.42," ",{"$f":"G116","v":"Turnov   16.05.23"},772.92655723991504," ",{"$f":"J116","v":0},0,0]
["17.",{"$f":"B117","v":"KHUDA"},"Ivan","6.B",15.2," ",{"$f":"G117","v":"Jilemnice  25.05.23"},523.12159007894729," ",{"$f":"J117","v":0},0,0]
["18.",{"$f":"B118","v":"KRESAN"},"Matěj","6.B",14.9," ",{"$f":"G118","v":"Jilemnice  25.05.23"},531.3186690738255," ",{"$f":"J118","v":0},0,0]
["19.",{"$f":"B119","v":"RYCHTR"},"Vojtěch","6.B",12.9," ",{"$f":"G119","v":"Jilemnice  25.05.23"},595.70916040310078," ",{"$f":"J119","v":0},0,0]
["20.",{"$f":"B120","v":"ŠTAJER"},"David","6.B",11," ",{"$f":"G120","v":"Jilemnice  25.05.23"},678.56801538181821," ",{"$f":"J120","v":0},0,0]
["21.",{"$f":"B121","v":"TKACHUK"},"Dzvenyslav","6.B",0," ",{"$f":"G121","v":"Jilemnice  25.05.23"},0," ",{"$f":"J121","v":0},0,0]
["22.",{"$f":"B122","v":"VELIKOVSKÝ"},"Dominik","6.B",13," ",{"$f":"G122","v":"Jilemnice  25.05.23"},592.01908993846155," ",{"$f":"J122","v":0},0,0]
["23.",{"$f":"B123","v":"EXNER"},"Tomáš","7.A",9.66," ",{"$f":"G123","v":"Jilemnice  10.10.22"},756.60540053830221," ",{"$f":"J123","v":9.1},0,0]
["24.",{"$f":"B124","v":"JANATA"},"Denis","7.A",10.62," ",{"$f":"G124","v":"Jilemnice  10.10.22"},698.69756772128062," ",{"$f":"J124","v":9.92},0,0]
["25.",{"$f":"B125","v":"JINDŘIŠEK"},"Alex Jiří","7.A",9.25," ",{"$f":"G125","v":"Jilemnice  10.10.22"},784.99980207567569," ",{"$f":"J125","v":9.67},0,0]
["26.",{"$f":"B126","v":"KAZLEPKA"},"Miroslav","7.A",0," ",{"$f":"G126","v":0},0," ",{"$f":"J126","v":0},0,0]
["27.",{"$f":"B127","v":"MARŠÁLEK"},"Ondřej","7.A",10.24," ",{"$f":"G127","v":"Jilemnice  10.10.22"},720.32111027343751," ",{"$f":"J127","v":9.99},0,0]
["28.",{"$f":"B128","v":"MLATEČEK"},"Patrik","7.A",10.51," ",{"$f":"G128","v":"Jilemnice  10.10.22"},704.79621019980971," ",{"$f":"J128","v":11.26},0,0]
["29.",{"$f":"B129","v":"SCHOLZ"},"Matyáš","7.A",10.46," ",{"$f":"G129","v":"Turnov   11.05.23"},707.61072363288713," ",{"$f":"J129","v":10.46},0,0]
["30.",{"$f":"B130","v":"TOMÁŠ"},"Jakub","7.A",10.15," ",{"$f":"G130","v":"Jilemnice  10.10.22"},725.67962258128068," ",{"$f":"J130","v":10.199999999999999},0,0]
["31.",{"$f":"B131","v":"VÁCLAVÍK"},"Jan","7.A",10.02," ",{"$f":"G131","v":"Jilemnice  10.10.22"},733.58963764471059," ",{"$f":"J131","v":10.119999999999999},0,0]
["32.",{"$f":"B132","v":"VEČEŘA"},"David","7.A",10.9," ",{"$f":"G132","v":"Jilemnice  10.10.22"},683.72918983486238," ",{"$f":"J132","v":12.1},0,0]
["33.",{"$f":"B133","v":"VYBÍRAL"},"Radim","7.A",8.7899999999999991," ",{"$f":"G133","v":"Jilemnice  19.06.23"},820.01003062571112," ",{"$f":"J133","v":8.9499999999999993},0,0]
["34.",{"$f":"B134","v":"BERISHA"},"David","7.B",0," ",{"$f":"G134","v":0},0," ",{"$f":"J134","v":13.54},0,0]
["35.",{"$f":"B135","v":"EFENBERK"},"Šimon","7.B",9.1300000000000008," ",{"$f":"G135","v":"Jilemnice  19.06.23"},793.79278961664829," ",{"$f":"J135","v":9.82},0,0]
["36.",{"$f":"B136","v":"FEJKL"},"Antonín","7.B",8.36," ",{"$f":"G136","v":"Jilemnice  19.06.23"},856.22107287081349," ",{"$f":"J136","v":9.48},0,0]
["37.",{"$f":"B137","v":"GOTTSTEIN"},"Matouš","7.B",8.36," ",{"$f":"G137","v":"Jilemnice  19.06.23"},856.22107287081349," ",{"$f":"J137","v":8.8000000000000007},0,0]
["38.",{"$f":"B138","v":"MAŘAS"},"Dominik","7.B",16.25," ",{"$f":"G138","v":"Jilemnice  10.10.22"},496.81527195076922," ",{"$f":"J138","v":0},11.64,0]
["39.",{"$f":"B139","v":"POVAŽANEC"},"Lukáš","7.B",10.31," ",{"$f":"G139","v":"Jilemnice  12.06.23"},716.21805714839957," ",{"$f":"J139","v":10.1},0,0]
["40.",{"$f":"B140","v":"VANCL"},"Jakub","7.B",10.85," ",{"$f":"G140","v":"Jilemnice  10.10.22"},686.34545338248847," ",{"$f":"J140","v":11.09},0,0]
["41.",{"$f":"B141","v":"VANCL"},"Miroslav","7.B",0," ",{"$f":"G141","v":0},0," ",{"$f":"J141","v":11.3},0,0]
["42.",{"$f":"B142","v":"VOTOČEK"},"Michal","7.B",10.95," ",{"$f":"G142","v":"Jilemnice  10.10.22"},681.13681910502282," ",{"$f":"J142","v":10.78},0,0]
["43.",{"$f":"B143","v":"DEMČUK"},"Ilja","8.A",9.3000000000000007," ",{"$f":"G143","v":"Jilemnice  10.10.22"},781.40302894623653," ",{"$f":"J143","v":9.66},10.85,0]
["44.",{"$f":"B144","v":"FAISTAUER"},"Kryštof","8.A",8.32," ",{"$f":"G144","v":"Jilemnice  10.10.22"},859.77982802884617," ",{"$f":"J144","v":8.89},9.5,0]
["45.",{"$f":"B145","v":"FRK"},"Matyáš","8.A",10.27," ",{"$f":"G145","v":"Jilemnice  10.10.22"},718.55581004868554," ",{"$f":"J145","v":12.22},12.72,0]
["46.",{"$f":"B146","v":"HUBÁLOVSKÝ"},"Marek","8.A",9.2799999999999994," ",{"$f":"G146","v":"Jilemnice  10.10.22"},782.83708719827598," ",{"$f":"J146","v":10.84},11.43,0]
["47.",{"$f":"B147","v":"MAŤÁTKO"},"Jakub","8.A",11.85," ",{"$f":"G147","v":"Jilemnice  16.09.22"},638.21503537552735," ",{"$f":"J147","v":0},13.19,0]
["48.",{"$f":"B148","v":"MERY"},"Luboš","8.A",10.89," ",{"$f":"G148","v":"Jilemnice  10.10.22"},684.25052058769518," ",{"$f":"J148","v":10.94},11.43,0]
["49.",{"$f":"B149","v":"NOVOTNÝ"},"Matěj","8.A",11.28," ",{"$f":"G149","v":"Jilemnice  10.10.22"},664.6035610992908," ",{"$f":"J149","v":10.98},10.96,0]
["50.",{"$f":"B150","v":"ŘEHOŘEK"},"Vojtěch","8.A",9.56," ",{"$f":"G150","v":"Jilemnice  10.10.22"},763.30629384937231," ",{"$f":"J150","v":10.43},11.92,0]
["51.",{"$f":"B151","v":"ŠÍR"},"Matyáš","8.A",10.8," ",{"$f":"G151","v":"Jilemnice  10.10.22"},688.98594159259255," ",{"$f":"J151","v":10.82},11.48,0]
["52.",{"$f":"B152","v":"TORÁČ"},"Tomáš","8.A",17.34," ",{"$f":"G152","v":"Jilemnice  16.09.22"},472.87705704728944," ",{"$f":"J152","v":0},22.77,0]
["53.",{"$f":"B153","v":"VÁCLAVÍK"},"Ondřej","8.A",8.84," ",{"$f":"G153","v":"Jilemnice  10.10.22"},816.02807343891413," ",{"$f":"J153","v":9.14},10.94,0]
["54.",{"$f":"B154","v":"AUERSWALD"},"Daniel","8.B",9.84," ",{"$f":"G154","v":"Jilemnice  12.09.22"},744.88700906504073," ",{"$f":"J154","v":9.61},9.89,0]
["55.",{"$f":"B155","v":"BOUKAL"},"Jakub","8.B",0," ",{"$f":"G155","v":0},0," ",{"$f":"J155","v":0},12.56,0]
["56.",{"$f":"B156","v":"BUDÍN"},"Martin","8.B",9.36," ",{"$f":"G156","v":"Jilemnice  12.09.22"},777.13762491452997," ",{"$f":"J156","v":9.67},10.46,0]
["57.",{"$f":"B157","v":"DVOŘÁK"},"Dominik","8.B",9.64," ",{"$f":"G157","v":"Jilemnice  12.09.22"},757.93445738589196," ",{"$f":"J157","v":11.05},11.56,0]
["58.",{"$f":"B158","v":"FIŠERA"},"Vojtěch","8.B",10.4," ",{"$f":"G158","v":"Jilemnice  12.09.22"},711.02386242307693," ",{"$f":"J158","v":10.24},10.44,0]
["59.",{"$f":"B159","v":"JINDŘIŠEK"},"Vít","8.B",8.02," ",{"$f":"G159","v":"Jilemnice  12.09.22"},887.60201610972581," ",{"$f":"J159","v":8.24},8.77,0]
["60.",{"$f":"B160","v":"JIROUŠ"},"Matouš","8.B",9.5500000000000007," ",{"$f":"G160","v":"Jilemnice  10.10.22"},763.98410148691096," ",{"$f":"J160","v":9.5500000000000007},10.08,0]
["61.",{"$f":"B161","v":"KERLE"},"Marek","8.B",8.7200000000000006," ",{"$f":"G161","v":"Jilemnice  12.09.22"},825.66148729357792," ",{"$f":"J161","v":8.84},10.64,0]
["62.",{"$f":"B162","v":"LUKEŠ"},"Jakub","8.B",8.5," ",{"$f":"G162","v":"Turnov   16.05.23"},844.02919637647062," ",{"$f":"J162","v":8.73},10.26,0]
["63.",{"$f":"B163","v":"OTT"},"Matyáš","8.B",8.44," ",{"$f":"G163","v":"Turnov   16.05.23"},849.2047593838862," ",{"$f":"J163","v":8.69},11,0]
["64.",{"$f":"B164","v":"POKORNÝ"},"Matyáš","8.B",8.42," ",{"$f":"G164","v":"Jilemnice  12.09.22"},850.9463383847982," ",{"$f":"J164","v":8.58},8.94,0]
["65.",{"$f":"B165","v":"POLÁČEK"},"Matyáš","8.B",10.16," ",{"$f":"G165","v":"Jilemnice  12.09.22"},725.07954421259842," ",{"$f":"J165","v":10.99},11.49,0]
["66.",{"$f":"B166","v":"ULLMAN"},"Šimon","8.B",8.9700000000000006," ",{"$f":"G166","v":"Jilemnice  12.09.22"},805.88273904124856," ",{"$f":"J166","v":8.3800000000000008},9.18,0]
["67.",{"$f":"B167","v":"VALENTA"},"Jakub","8.B",9.3000000000000007," ",{"$f":"G167","v":"Jilemnice  12.09.22"},781.40302894623653," ",{"$f":"J167","v":9.8699999999999992},10.24,0]
["68.",{"$f":"B168","v":"VRBATA"},"Dominik","8.B",9.35," ",{"$f":"G168","v":"Jilemnice  12.09.22"},777.84472397860964," ",{"$f":"J168","v":9.74},10.25,0]
["69.",{"$f":"B169","v":"FEJKL"},"Jan","9.A",8.2100000000000009," ",{"$f":"G169","v":"Jilemnice  09.09.22"},869.74520940316677," ",{"$f":"J169","v":7.92},9.14,9.4499999999999993]
["70.",{"$f":"B170","v":"KOTYK"},"Tadeáš","9.A",10.49," ",{"$f":"G170","v":"Jilemnice  09.09.22"},705.9187959199237," ",{"$f":"J170","v":10.72},10.7,10.7]
["71.",{"$f":"B171","v":"KRAUSE"},"Tadeáš","9.A",8.48," ",{"$f":"G171","v":"Turnov   11.05.23"},845.74624636792453," ",{"$f":"J171","v":8.69},10.130000000000001,10.34]
["72.",{"$f":"B172","v":"LEŠÁK"},"Martin","9.A",9.9499999999999993," ",{"$f":"G172","v":"Jilemnice  09.09.22"},737.93448936683421," ",{"$f":"J172","v":10.38},10.87,10.54]
["73.",{"$f":"B173","v":"NECHANICKÝ"},"David","9.A",8.06," ",{"$f":"G173","v":"Turnov   11.05.23"},883.77272570719595," ",{"$f":"J173","v":7.89},9.65,9.42]
["74.",{"$f":"B174","v":"ŘEHOŘEK"},"Jan","9.A",0," ",{"$f":"G174","v":0},0," ",{"$f":"J174","v":8.66},9.5500000000000007,9.74]
["75.",{"$f":"B175","v":"SOUKUP"},"Ondřej","9.A",0," ",{"$f":"G175","v":0},0," ",{"$f":"J175","v":9.6199999999999992},10,10.91]
["76.",{"$f":"B176","v":"SPANILÝ"},"David","9.A",8.14," ",{"$f":"G176","v":"Turnov   11.05.23"},876.22704781326786," ",{"$f":"J176","v":8.42},9.8000000000000007,10.220000000000001]
["77.",{"$f":"B177","v":"ČERNÝ"},"Michal","9.B",9.67," ",{"$f":"G177","v":"Jilemnice  09.09.22"},755.94293373319545," ",{"$f":"J177","v":9.65},10.36,11.28]
["78.",{"$f":"B178","v":"DOLEJŠÍ"},"David","9.B",9.17," ",{"$f":"G178","v":"Jilemnice  09.09.22"},790.83622346782988," ",{"$f":"J178","v":8.86},11.1,10.8]
["79.",{"$f":"B179","v":"POVAŽANEC"},"Martin","9.B",8.65," ",{"$f":"G179","v":"Jilemnice  09.09.22"},831.40441262427737," ",{"$f":"J179","v":8.4499999999999993},9.86,11.89]
["80.",{"$f":"B180","v":"RICHTER"},{"$f":"C180","v":"Jakub"},"9.B",9.91," ",{"$f":"G180","v":"Jilemnice  09.09.22"},740.44482030272457," ",{"$f":"J180","v":9.81},0,11.66]
["81.",{"$f":"B181","v":"ROZUMEK"},"Adam","9.B",9.2200000000000006," ",{"$f":"G181","v":"Jilemnice  09.09.22"},787.17659101952279," ",{"$f":"J181","v":9.44},0,0]
["82.",{"$f":"B182","v":"VALENTA"},"František","9.B",9.51," ",{"$f":"G182","v":"Jilemnice  09.09.22"},766.70958666666672," ",{"$f":"J182","v":9.08},10.92,11.6]
["83.",{"$f":"B183","v":"ZAPLATÍLEK"},"Josef","9.B",8.94," ",{"$f":"G183","v":"Jilemnice  09.09.22"},808.19778178970921," ",{"$f":"J183","v":9.6300000000000008},10.02,10.039999999999999]
[]
[]
[]
[]
[]
[]
[]
[]
[]
[]
[" "]
[]
[]
[null,"PŘÍJMENÍ","JMÉNO","TŘÍDA","VÝKON",null,"MÍSTO",null,null,"21 - 22","20 - 21","19  - 20"]
[null,"HONCŮ","Filip","6.A",13.4,null,"Jilemnice  25.05.23",{"$f":"IF(E101=0,0,(1000000000 - 313216 / E101 + 34538300 / E101*2 - 1698600000 / E101*3 + 32198000000 / E101*4)/20000000+66)","v":577.80956486567152}]
[null,"JÍLEK","Lukáš","6.A",null,null,null,0]
[null,"KUČERA","Tadeáš","6.A",11.9,null,"Jilemnice  25.05.23",636.02085455462191]
[null,"ROZUMEK","Lukáš","6.A",13,null,"Jilemnice  25.05.23",592.01908993846155]
[null,"ŘEHOŘEK","Marek","6.A",12.1,null,"Jilemnice  25.05.23",627.42546852892565]
[null,"ŘÍHA","Tadeáš","6.A",11.6,null,"Jilemnice  25.05.23",649.46966975862074]
[null,"SKRBEK","Richard","6.A",11.6,null,"Jilemnice  25.05.23",649.46966975862074]
[null,"ŠIMEK","Erik","6.A",10.5,null,"Jilemnice  25.05.23",705.35696849523811]
[null,"ŠÍR","Jan","6.A",11,null,"Jilemnice  25.05.23",678.56801538181821]
[null,"ŠÍR","Stanislav","6.A",11.5,null,"Jilemnice  25.05.23",654.10853645217389]
[null,"ŠPINAR","František","6.A",13,null,"Jilemnice  25.05.23",592.01908993846155]
[null,"TOTH","Mikuláš","6.A",12.4,null,"Jilemnice  25.05.23",615.05227170967737]
[null,"WEISZLEMLEIN","Adam","6.A",12,null,"Jilemnice  25.05.23",631.68734743333334]
[null,"ČERNÝ","Filip","6.B",null,null,null,0]
[null,"GINGAL","Patrik","6.B",10.8,null,"Jilemnice  25.05.23",688.98594159259255]
[null,"HLAVÁČEK","Josef","6.B",9.42,null,"Turnov   16.05.23",772.92655723991504]
[null,"KHUDA","Ivan","6.B",15.2,null,"Jilemnice  25.05.23",523.12159007894729]
[null,"KRESAN","Matěj","6.B",14.9,null,"Jilemnice  25.05.23",531.3186690738255]
[null,"RYCHTR","Vojtěch","6.B",12.9,null,"Jilemnice  25.05.23",595.70916040310078]
[null,"ŠTAJER","David","6.B",11,null,"Jilemnice  25.05.23",678.56801538181821]
[null,"TKACHUK","Dzvenyslav","6.B",null,null,"Jilemnice  25.05.23",0]
[null,"VELIKOVSKÝ","Dominik","6.B",13,null,"Jilemnice  25.05.23",592.01908993846155]
[null,"EXNER","Tomáš","7.A",9.66,null,"Jilemnice  10.10.22",756.60540053830221,null,9.1]
[null,"JANATA","Denis","7.A",10.62,null,"Jilemnice  10.10.22",698.69756772128062,null,9.92]
[null,"JINDŘIŠEK","Alex Jiří","7.A",9.25,null,"Jilemnice  10.10.22",784.99980207567569,null,9.67]
[null,"KAZLEPKA","Miroslav","7.A",null,null,null,0]
[null,"MARŠÁLEK","Ondřej","7.A",10.24,null,"Jilemnice  10.10.22",720.32111027343751,null,9.99]
[null,"MLATEČEK","Patrik","7.A",10.51,null,"Jilemnice  10.10.22",704.79621019980971,null,11.26]
[null,"SCHOLZ","Matyáš","7.A",10.46,null,"Turnov   11.05.23",707.61072363288713,null,10.46]
[null,"TOMÁŠ","Jakub","7.A",10.15,null,"Jilemnice  10.10.22",725.67962258128068,null,10.199999999999999]
[null,"VÁCLAVÍK","Jan","7.A",10.02,null,"Jilemnice  10.10.22",733.58963764471059,null,10.119999999999999]
[null,"VEČEŘA","David","7.A",10.9,null,"Jilemnice  10.10.22",683.72918983486238,null,12.1]
[null,"VYBÍRAL","Radim","7.A",8.7899999999999991,null,"Jilemnice  19.06.23",{"$f":"IF(E133=0,0,(1000000000 - 313216 / E133 + 34538300 / E133*2 - 1698600000 / E133*3 + 32198000000 / E133*4)/20000000+66)","v":820.01003062571112},null,8.9499999999999993]
[null,"BERISHA","David","7.B",null,null,null,0,null,13.54]
[null,"EFENBERK","Šimon","7.B",9.1300000000000008,null,"Jilemnice  19.06.23",793.79278961664829,null,9.82]
[null,"FEJKL","Antonín","7.B",8.36,null,"Jilemnice  19.06.23",856.22107287081349,null,9.48]
[null,"GOTTSTEIN","Matouš","7.B",8.36,null,"Jilemnice  19.06.23",856.22107287081349,null,8.8000000000000007]
[null,"MAŘAS","Dominik","7.B",16.25,null,"Jilemnice  10.10.22",496.81527195076922,null,null,11.64]
[null,"POVAŽANEC","Lukáš","7.B",10.31,null,"Jilemnice  12.06.23",716.21805714839957,null,10.1]
[null,"VANCL","Jakub","7.B",10.85,null,"Jilemnice  10.10.22",686.34545338248847,null,11.09]
[null,"VANCL","Miroslav","7.B",null,null,null,0,null,11.3]
[null,"VOTOČEK","Michal","7.B",10.95,null,"Jilemnice  10.10.22",681.13681910502282,null,10.78]
[null,"DEMČUK","Ilja","8.A",9.3000000000000007,null,"Jilemnice  10.10.22",781.40302894623653,null,9.66,10.85]
[null,"FAISTAUER","Kryštof","8.A",8.32,null,"Jilemnice  10.10.22",859.77982802884617,null,8.89,9.5]
[null,"FRK","Matyáš","8.A",10.27,null,"Jilemnice  10.10.22",718.55581004868554,null,12.22,12.72]
[null,"HUBÁLOVSKÝ","Marek","8.A",9.2799999999999994,null,"Jilemnice  10.10.22",782.83708719827598,null,10.84,11.43]
[null,"MAŤÁTKO","Jakub","8.A",11.85,null,"Jilemnice  16.09.22",638.21503537552735,null,null,13.19]
[null,"MERY","Luboš","8.A",10.89,null,"Jilemnice  10.10.22",684.25052058769518,null,10.94,11.43]
[null,"NOVOTNÝ","Matěj","8.A",11.28,null,"Jilemnice  10.10.22",664.6035610992908,null,10.98,10.96]
[null,"ŘEHOŘEK","Vojtěch","8.A",9.56,null,"Jilemnice  10.10.22",763.30629384937231,null,10.43,11.92]
[null,"ŠÍR","Matyáš","8.A",10.8,null,"Jilemnice  10.10.22",688.98594159259255,null,10.82,11.48]
[null,"TORÁČ","Tomáš","8.A",17.34,null,"Jilemnice  16.09.22",472.87705704728944,null,null,22.77]
[null,"VÁCLAVÍK","Ondřej","8.A",8.84,null,"Jilemnice  10.10.22",816.02807343891413,null,9.14,10.94]
[null,"AUERSWALD","Daniel","8.B",9.84,null,"Jilemnice  12.09.22",744.88700906504073,null,9.61,9.89]
[null,"BOUKAL","Jakub","8.B",null,null,null,0,null,null,12.56]
[null,"BUDÍN","Martin","8.B",9.36,null,"Jilemnice  12.09.22",777.13762491452997,null,9.67,10.46]
[null,"DVOŘÁK","Dominik","8.B",9.64,null,"Jilemnice  12.09.22",757.93445738589196,null,11.05,11.56]
[null,"FIŠERA","Vojtěch","8.B",10.4,null,"Jilemnice  12.09.22",711.02386242307693,null,10.24,10.44]
[null,"JINDŘIŠEK","Vít","8.B",8.02,null,"Jilemnice  12.09.22",887.60201610972581,null,8.24,8.77]
[null,"JIROUŠ","Matouš","8.B",9.5500000000000007,null,"Jilemnice  10.10.22",763.98410148691096,null,9.5500000000000007,10.08]
[null,"KERLE","Marek","8.B",8.7200000000000006,null,"Jilemnice  12.09.22",825.66148729357792,null,8.84,10.64]
[null,"LUKEŠ","Jakub","8.B",8.5,null,"Turnov   16.05.23",844.02919637647062,null,8.73,10.26]
[null,"OTT","Matyáš","8.B",8.44,null,"Turnov   16.05.23",849.2047593838862,null,8.69,11]
[null,"POKORNÝ","Matyáš","8.B",8.42,null,"Jilemnice  12.09.22",850.9463383847982,null,8.58,8.94]
[null,"POLÁČEK","Matyáš","8.B",10.16,null,"Jilemnice  12.09.22",{"$f":"IF(E165=0,0,(1000000000 - 313216 / E165 + 34538300 / E165*2 - 1698600000 / E165*3 + 32198000000 / E165*4)/20000000+66)","v":725.07954421259842},null,10.99,11.49]
[null,"ULLMAN","Šimon","8.B",8.9700000000000006,null,"Jilemnice  12.09.22",805.88273904124856,null,8.3800000000000008,9.18]
[null,"VALENTA","Jakub","8.B",9.3000000000000007,null,"Jilemnice  12.09.22",781.40302894623653,null,9.8699999999999992,10.24]
[null,"VRBATA","Dominik","8.B",9.35,null,"Jilemnice  12.09.22",777.84472397860964,null,9.74,10.25]
[null,"FEJKL","Jan","9.A",8.2100000000000009,null,"Jilemnice  09.09.22",869.74520940316677,null,7.92,9.14,9.4499999999999993]
[null,"KOTYK","Tadeáš","9.A",10.49,null,"Jilemnice  09.09.22",705.9187959199237,null,10.72,10.7,10.7]
[null,"KRAUSE","Tadeáš","9.A",8.48,null,"Turnov   11.05.23",845.74624636792453,null,8.69,10.130000000000001,10.34]
[null,"LEŠÁK","Martin","9.A",9.9499999999999993,null,"Jilemnice  09.09.22",737.93448936683421,null,10.38,10.87,10.54]
[null,"NECHANICKÝ","David","9.A",8.06,null,"Turnov   11.05.23",883.77272570719595,null,7.89,9.65,9.42]
[null,"ŘEHOŘEK","Jan","9.A",null,null,null,0,null,8.66,9.5500000000000007,9.74]
[null,"SOUKUP","Ondřej","9.A",null,null,null,0,null,9.6199999999999992,10,10.91]
[null,"SPANILÝ","David","9.A",8.14,null,"Turnov   11.05.23",876.22704781326786,null,8.42,9.8000000000000007,10.220000000000001]
[null,"ČERNÝ","Michal","9.B",9.67,null,"Jilemnice  09.09.22",755.94293373319545,null,9.65,10.36,11.28]
[null,"DOLEJŠÍ","David","9.B",9.17,null,"Jilemnice  09.09.22",790.83622346782988,null,8.86,11.1,10.8]
[null,"POVAŽANEC","Martin","9.B",8.65,null,"Jilemnice  09.09.22",831.40441262427737,null,8.4499999999999993,9.86,11.89]
[null,"RICHTER","Jakub","9.B",9.91,null,"Jilemnice  09.09.22",740.44482030272457,null,9.81,null,11.66]
[null,"ROZUMEK","Adam","9.B",9.2200000000000006,null,"Jilemnice  09.09.22",787.17659101952279,null,9.44]
[null,"VALENTA","František","9.B",9.51,null,"Jilemnice  09.09.22",766.70958666666672,null,9.08,10.92,11.6]
[null,"ZAPLATÍLEK","Josef","9.B",8.94,null,"Jilemnice  09.09.22",808.19778178970921,null,9.6300000000000008,10.02,10.039999999999999]

{"sheet":"300","index":7,"n_rows":1048518,"n_cols":12,"rows_kept":4500,"cut":true,"hidden":false,"merged":[],"bounds":{"rows_first":2000,"rows_last":500,"rows_between":2000,"halvings":0}}
[null,null,"VÝKONY  2022 - 2023",null,null,null,"300 M","CHLAPCI  6. -  9.  ROČ."]
[null,"stav  k ",{"$f":"TODAY()","v":"2023-06-26"},null,null,null,null,null,null,"21 - 22","20 - 21","19  - 20"]
[]
["1.",{"$f":"B101","v":"HONCŮ"},{"$f":"C101","v":"Filip"},"6.A","00:00:00"," ",0,0," ","00:00:00","00:00:00","00:00:00"]
["2.",{"$f":"B102","v":"JÍLEK"},"Lukáš","6.A","00:00:00"," ",{"$f":"G102","v":0},0," ",{"$f":"J102","v":"00:00:00"},"00:00:00","00:00:00"]
["3.",{"$f":"B103","v":"KUČERA"},"Tadeáš","6.A","00:00:00"," ",{"$f":"G103","v":0},0," ",{"$f":"J103","v":"00:00:00"},"00:00:00","00:00:00"]
["4.",{"$f":"B104","v":"ROZUMEK"},"Lukáš","6.A","00:00:00"," ",{"$f":"G104","v":0},0," ",{"$f":"J104","v":"00:00:00"},"00:00:00","00:00:00"]
["5.",{"$f":"B105","v":"ŘEHOŘEK"},"Marek","6.A","00:00:00"," ",{"$f":"G105","v":0},0," ",{"$f":"J105","v":"00:00:00"},"00:00:00","00:00:00"]
["6.",{"$f":"B106","v":"ŘÍHA"},"Tadeáš","6.A","00:00:00"," ",{"$f":"G106","v":0},0," ",{"$f":"J106","v":"00:00:00"},"00:00:00","00:00:00"]
["7.",{"$f":"B107","v":"SKRBEK"},"Richard","6.A","00:00:00"," ",{"$f":"G107","v":0},0," ",{"$f":"J107","v":"00:00:00"},"00:00:00","00:00:00"]
["8.",{"$f":"B108","v":"ŠIMEK"},"Erik","6.A","00:00:00"," ",{"$f":"G108","v":0},0," ",{"$f":"J108","v":"00:00:00"},"00:00:00","00:00:00"]
["9.",{"$f":"B109","v":"ŠÍR"},"Jan","6.A","00:00:00"," ",{"$f":"G109","v":0},0," ",{"$f":"J109","v":"00:00:00"},"00:00:00","00:00:00"]
["10.",{"$f":"B110","v":"ŠÍR"},"Stanislav","6.A","00:00:00"," ",{"$f":"G110","v":0},0," ",{"$f":"J110","v":"00:00:00"},"00:00:00","00:00:00"]
["11.",{"$f":"B111","v":"ŠPINAR"},"František","6.A","00:00:00"," ",{"$f":"G111","v":0},0," ",{"$f":"J111","v":"00:00:00"},"00:00:00","00:00:00"]
["12.",{"$f":"B112","v":"TOTH"},"Mikuláš","6.A","00:00:00"," ",{"$f":"G112","v":0},0," ",{"$f":"J112","v":"00:00:00"},"00:00:00","00:00:00"]
["13.",{"$f":"B113","v":"WEISZLEMLEIN"},"Adam","6.A","00:00:00"," ",{"$f":"G113","v":0},0," ",{"$f":"J113","v":"00:00:00"},"00:00:00","00:00:00"]
["14.",{"$f":"B114","v":"ČERNÝ"},"Filip","6.B","00:00:00"," ",{"$f":"G114","v":0},0," ",{"$f":"J114","v":"00:00:00"},"00:00:00","00:00:00"]
["15.",{"$f":"B115","v":"GINGAL"},"Patrik","6.B","00:00:00"," ",{"$f":"G115","v":0},0," ",{"$f":"J115","v":"00:00:00"},"00:00:00","00:00:00"]
["16.",{"$f":"B116","v":"HLAVÁCEK"},"Josef","6.B","00:00:00"," ",{"$f":"G116","v":0},0," ",{"$f":"J116","v":"00:00:00"},"00:00:00","00:00:00"]
["17.",{"$f":"B117","v":"KHUDA"},"Ivan","6.B","00:00:00"," ",{"$f":"G117","v":0},0," ",{"$f":"J117","v":"00:00:00"},"00:00:00","00:00:00"]
["18.",{"$f":"B118","v":"KRESAN"},"Matěj","6.B","00:00:00"," ",{"$f":"G118","v":0},0," ",{"$f":"J118","v":"00:00:00"},"00:00:00","00:00:00"]
["19.",{"$f":"B119","v":"RYCHTR"},"Vojtěch","6.B","00:00:00"," ",{"$f":"G119","v":0},0," ",{"$f":"J119","v":"00:00:00"},"00:00:00","00:00:00"]
["20.",{"$f":"B120","v":"ŠTAJER"},"David","6.B","00:00:00"," ",{"$f":"G120","v":0},0," ",{"$f":"J120","v":"00:00:00"},"00:00:00","00:00:00"]
["21.",{"$f":"B121","v":"TKACHUK"},"Dzvenyslav","6.B","00:00:00"," ",{"$f":"G121","v":0},0," ",{"$f":"J121","v":"00:00:00"},"00:00:00","00:00:00"]
["22.",{"$f":"B122","v":"VELIKOVSKÝ"},"Dominik","6.B","00:00:00"," ",{"$f":"G122","v":0},0," ",{"$f":"J122","v":"00:00:00"},"00:00:00","00:00:00"]
["23.",{"$f":"B123","v":"EXNER"},"Tomáš","7.A","00:00:59.110"," ",{"$f":"G123","v":"Jilemnice  17.10.22"},600.52985504801234," ",{"$f":"J123","v":"00:01:00.640"},"00:00:00","00:00:00"]
["24.",{"$f":"B124","v":"JANATA"},"Denis","7.A","00:01:02.160"," ",{"$f":"G124","v":"Jilemnice  17.10.22"},556.14760266872588," ",{"$f":"J124","v":"00:01:01.020"},"00:00:00","00:00:00"]
["25.",{"$f":"B125","v":"JINDŘIŠEK"},"Alex Jiří","7.A","00:00:58.340"," ",{"$f":"G125","v":"Jilemnice  17.10.22"},612.4682187502226," ",{"$f":"J125","v":"00:01:01.350"},"00:00:00","00:00:00"]
["26.",{"$f":"B126","v":"KAZLEPKA"},"Miroslav","7.A","00:00:00"," ",{"$f":"G126","v":0},0," ",{"$f":"J126","v":"00:00:00"},"00:00:00","00:00:00"]
["27.",{"$f":"B127","v":"MARŠÁLEK"},"Ondřej","7.A","00:01:06.170"," ",{"$f":"G127","v":"Jilemnice  17.10.22"},504.02168704681878," ",{"$f":"J127","v":"00:01:09.950"},"00:00:00","00:00:00"]
["28.",{"$f":"B128","v":"MLATEČEK"},"Patrik","7.A","00:01:17.320"," ",{"$f":"G128","v":"Jilemnice  17.10.22"},387.50091544086922," ",{"$f":"J128","v":"00:01:14.240"},"00:00:00","00:00:00"]
["29.",{"$f":"B129","v":"SCHOLZ"},"Matyáš","7.A","00:01:05.740"," ",{"$f":"G129","v":"Jilemnice  17.10.22"},509.30685856233652," ",{"$f":"J129","v":"00:01:03.540"},"00:00:00","00:00:00"]
["30.",{"$f":"B130","v":"TOMÁŠ"},"Jakub","7.A","00:00:57.360"," ",{"$f":"G130","v":"Jilemnice  17.10.22"},628.1260631430963," ",{"$f":"J130","v":"00:00:56.510"},"00:00:00","00:00:00"]
["31.",{"$f":"B131","v":"VÁCLAVÍK"},"Jan","7.A","00:00:57.810"," ",{"$f":"G131","v":"Jilemnice  17.10.22"},620.87032056543842," ",{"$f":"J131","v":"00:00:56.400"},"00:00:00","00:00:00"]
["32.",{"$f":"B132","v":"VEČEŘA"},"David","7.A","00:01:06.690"," ",{"$f":"G132","v":"Jilemnice  17.10.22"},497.72136200161935," ",{"$f":"J132","v":"00:01:15.100"},"00:00:00","00:00:00"]
["33.",{"$f":"B133","v":"VYBÍRAL"},"Radim","7.A","00:00:52"," ",{"$f":"G133","v":"Jilemnice  05.06.23"},724.20623426707698," ",{"$f":"J133","v":"00:00:50.300"},"00:00:00","00:00:00"]
["34.",{"$f":"B134","v":"BERISHA"},"David","7.B","00:00:00"," ",{"$f":"G134","v":""},0," ",{"$f":"J134","v":"00:00:00"},"00:00:00","00:00:00"]
["35.",{"$f":"B135","v":"EFENBERK"},"Šimon","7.B","00:00:55.480"," ",{"$f":"G135","v":"Jilemnice  05.06.23"},659.71199678961796," ",{"$f":"J135","v":"00:01:04.360"},"00:00:00","00:00:00"]
["36.",{"$f":"B136","v":"FEJKL"},"Antonín","7.B","00:00:50.760"," ",{"$f":"G136","v":"Jilemnice  19.06.23"},749.32383731063828," ",{"$f":"J136","v":"00:00:51.010"},"00:00:00","00:00:00"]
["37.",{"$f":"B137","v":"GOTTSTEIN"},"Matouš","7.B","00:00:45.860"," ",{"$f":"G137","v":"Jilemnice  19.06.23"},861.86771656973428," ",{"$f":"J137","v":"00:00:47.930"},"00:00:00","00:00:00"]
["38.",{"$f":"B138","v":"MAŘAS"},"Dominik","7.B","00:01:26.820"," ",{"$f":"G138","v":"Jilemnice  17.10.22"},311.83619306482376," ",{"$f":"J138","v":"00:01:20.670"},"00:01:18.210","00:00:00"]
["39.",{"$f":"B139","v":"POVAŽANEC"},"Lukáš","7.B","00:01:01.390"," ",{"$f":"G139","v":"Jilemnice  05.06.23"},566.93616438977062," ",{"$f":"J139","v":"00:01:04.130"},"00:00:00","00:00:00"]
["40.",{"$f":"B140","v":"VANCL"},"Jakub","7.B","00:01:06.320"," ",{"$f":"G140","v":"Jilemnice  17.10.22"},502.19414628902302," ",{"$f":"J140","v":"00:01:08.950"},"00:00:00","00:00:00"]
["41.",{"$f":"B141","v":"VANCL"},"Miroslav","7.B","00:01:36.810"," ",{"$f":"G141","v":"Jilemnice  17.10.22"},248.28745203892151," ",{"$f":"J141","v":"00:01:32.620"},"00:00:00","00:00:00"]
["42.",{"$f":"B142","v":"VOTOČEK"},"Michal","7.B","00:01:09.910"," ",{"$f":"G142","v":"Jilemnice  17.10.22"},460.79493251162933," ",{"$f":"J142","v":"00:01:07.340"},"00:00:00","00:00:00"]
["43.",{"$f":"B143","v":"DEMČUK"},"Ilja","8.A","00:00:53.410"," ",{"$f":"G143","v":"Jilemnice  17.10.22"},697.06218370881879," ",{"$f":"J143","v":"00:00:53.360"},"00:01:00.280","00:00:00"]
["44.",{"$f":"B144","v":"FAISTAUER"},"Kryštof","8.A","00:00:51.860"," ",{"$f":"G144","v":"Jilemnice  17.10.22"},726.98194141704585," ",{"$f":"J144","v":"00:00:52.980"},"00:00:54.880","00:00:00"]
["45.",{"$f":"B145","v":"FRK"},"Matyáš","8.A","00:01:02.730"," ",{"$f":"G145","v":"Jilemnice  17.10.22"},548.33186405050185," ",{"$f":"J145","v":"00:01:14.910"},"00:01:21.540","00:00:00"]
["46.",{"$f":"B146","v":"HUBÁLOVSKÝ"},"Marek","8.A","00:00:56.800"," ",{"$f":"G146","v":"Jilemnice  17.10.22"},637.31598911774654," ",{"$f":"J146","v":"00:00:53.080"},"00:01:11.580","00:00:00"]
["47.",{"$f":"B147","v":"MAŤÁTKO"},"Jakub","8.A","00:01:13.600"," ",{"$f":"G147","v":"Jilemnice  17.10.22"},422.45152421043485," ",{"$f":"J147","v":"00:01:29.020"},"00:01:24.110","00:00:00"]
["48.",{"$f":"B148","v":"MERY"},"Luboš","8.A","00:01:06.630"," ",{"$f":"G148","v":"Jilemnice  17.10.22"},498.44330379540747," ",{"$f":"J148","v":"00:01:06.760"},"00:01:15.180","00:00:00"]
["49.",{"$f":"B149","v":"NOVOTNÝ"},"Matěj","8.A","00:01:12.840"," ",{"$f":"G149","v":"Jilemnice  17.10.22"},430.03114198088974," ",{"$f":"J149","v":"00:01:09.540"},"00:00:00","00:00:00"]
["50.",{"$f":"B150","v":"ŘEHOŘEK"},"Vojtěch","8.A","00:01:00.020"," ",{"$f":"G150","v":"Jilemnice  17.10.22"},586.81579943165627," ",{"$f":"J150","v":"00:01:04.170"},"00:01:11.820","00:00:00"]
["51.",{"$f":"B151","v":"ŠÍR"},"Matyáš","8.A","00:01:02.280"," ",{"$f":"G151","v":"Jilemnice  17.10.22"},554.49029514913298," ",{"$f":"J151","v":"00:00:00"},"00:01:09.460","00:00:00"]
["52.",{"$f":"B152","v":"TORÁČ"},"Tomáš","8.A","00:02:07.730"," ",{"$f":"G152","v":"Jilemnice  17.10.22"},114.59471409917802," ",{"$f":"J152","v":"00:02:06.130"},"00:02:09.100","00:00:00"]
["53.",{"$f":"B153","v":"VÁCLAVÍK"},"Ondřej","8.A","00:00:00"," ",{"$f":"G153","v":""},0," ",{"$f":"J153","v":"00:01:16.350"},"00:00:58.550","00:00:00"]
["54.",{"$f":"B154","v":"AUERSWALD"},"Daniel","8.B","00:01:00.420"," ",{"$f":"G154","v":"Jilemnice  17.10.22"},580.9183429640517," ",{"$f":"J154","v":"00:00:54.880"},"00:00:59.520","00:00:00"]
["55.",{"$f":"B155","v":"BOUKAL"},"Jakub","8.B","00:00:00"," ",{"$f":"G155","v":""},0," ",{"$f":"J155","v":"00:00:00"},"00:00:00","00:00:00"]
["56.",{"$f":"B156","v":"BUDÍN"},"Martin","8.B","00:00:53.280"," ",{"$f":"G156","v":"Jilemnice  17.10.22"},699.50470311351341," ",{"$f":"J156","v":"00:00:55.190"},"00:00:58.300","00:00:00"]
["57.",{"$f":"B157","v":"DVOŘÁK"},"Dominik","8.B","00:00:00"," ",{"$f":"G157","v":""},0," ",{"$f":"J157","v":"00:01:00.920"},"00:00:00","00:00:00"]
["58.",{"$f":"B158","v":"FIŠERA"},"Vojtěch","8.B","00:01:01.920"," ",{"$f":"G158","v":"Jilemnice  17.10.22"},559.48148872558136," ",{"$f":"J158","v":"00:00:00"},"00:00:57.070","00:00:00"]
["59.",{"$f":"B159","v":"JINDŘIŠEK"},"Vít","8.B","00:00:42.340"," ",{"$f":"G159","v":"Jilemnice  05.06.23"},958.79347855191304," ",{"$f":"J159","v":"00:00:43.530"},"00:00:00","00:00:00"]
["60.",{"$f":"B160","v":"JIROUŠ"},"Matouš","8.B","00:00:55.660"," ",{"$f":"G160","v":"Jilemnice  17.10.22"},656.59544523693864," ",{"$f":"J160","v":"00:00:55.050"},"00:00:00","00:00:00"]
["61.",{"$f":"B161","v":"KERLE"},"Marek","8.B","00:00:44.950"," ",{"$f":"G161","v":"Jilemnice  05.06.23"},885.47027657147919," ",{"$f":"J161","v":"00:00:48.020"},"00:00:54.010","00:00:00"]
["62.",{"$f":"B162","v":"LUKEŠ"},"Jakub","8.B","00:00:48.170"," ",{"$f":"G162","v":"Jilemnice  17.10.22"},805.95858484301402," ",{"$f":"J162","v":"00:00:46.890"},"00:00:54.300","00:00:00"]
["63.",{"$f":"B163","v":"OTT"},"Matyáš","8.B","00:00:44.240"," ",{"$f":"G163","v":"Jilemnice  05.06.23"},904.55979615479191," ",{"$f":"J163","v":"00:00:48.620"},"00:01:08.290","00:00:00"]
["64.",{"$f":"B164","v":"POKORNÝ"},"Matyáš","8.B","00:00:46.580"," ",{"$f":"G164","v":"Jilemnice  17.10.22"},843.84665268115054," ",{"$f":"J164","v":"00:00:44.070"},"00:00:48.010","00:00:00"]
["65.",{"$f":"B165","v":"POLÁČEK"},"Matyáš","8.B","00:00:00"," ",{"$f":"G165","v":""},0," ",{"$f":"J165","v":"00:01:06.520"},"00:01:13.650","00:00:00"]
["66.",{"$f":"B166","v":"ULLMAN"},"Šimon","8.B","00:00:53.180"," ",{"$f":"G166","v":"Jilemnice  17.10.22"},701.39169014456581," ",{"$f":"J166","v":"00:00:48.360"},"00:00:53.770","00:00:00"]
["67.",{"$f":"B167","v":"VALENTA"},"Jakub","8.B","00:00:50.250"," ",{"$f":"G167","v":"Jilemnice  17.10.22"},760.01423745050761," ",{"$f":"J167","v":"00:00:48.980"},"00:00:00","00:00:00"]
["68.",{"$f":"B168","v":"VRBATA"},"Dominik","8.B","00:00:55.100"," ",{"$f":"G168","v":"Jilemnice  17.10.22"},666.35825193989126," ",{"$f":"J168","v":"00:00:56.960"},"00:00:57.790","00:00:00"]
["69.",{"$f":"B169","v":"FEJKL"},"Jan","9.A","00:00:45.510"," ",{"$f":"G169","v":"Jilemnice  14.10.22"},870.83392071825983," ",{"$f":"J169","v":"00:00:44.880"},"00:00:00","00:00:54.980"]
["70.",{"$f":"B170","v":"KOTYK"},"Tadeáš","9.A","00:00:00"," ",{"$f":"G170","v":0},0," ",{"$f":"J170","v":"00:01:09.690"},"00:00:00","00:01:18.780"]
["71.",{"$f":"B171","v":"KRAUSE"},"Tadeáš","9.A","00:00:00"," ",{"$f":"G171","v":0},0," ",{"$f":"J171","v":"00:00:46.380"},"00:00:00","00:00:59.500"]
["72.",{"$f":"B172","v":"LEŠÁK"},"Martin","9.A","00:00:00"," ",{"$f":"G172","v":0},0," ",{"$f":"J172","v":"00:00:57.910"},"00:00:00","00:01:15.530"]
["73.",{"$f":"B173","v":"NECHANICKÝ"},"David","9.A","00:00:49.380"," ",{"$f":"G173","v":"Jilemnice  14.10.22"},778.76045123304993," ",{"$f":"J173","v":"00:00:46.990"},"00:00:00","00:00:57.540"]
["74.",{"$f":"B174","v":"ŘEHOŘEK"},"Jan","9.A","00:00:51.360"," ",{"$f":"G174","v":"Jilemnice  14.10.22"},737.01871070654215," ",{"$f":"J174","v":"00:00:51.300"},"00:00:00","00:00:58.500"]
["75.",{"$f":"B175","v":"SOUKUP"},"Ondřej","9.A","00:00:00"," ",{"$f":"G175","v":0},0," ",{"$f":"J175","v":"00:00:00"},"00:00:00","00:01:04.170"]
["76.",{"$f":"B176","v":"SPANILÝ"},"David","9.A","00:00:45.800"," ",{"$f":"G176","v":"Jilemnice  14.10.22"},863.39504763947616," ",{"$f":"J176","v":"00:00:45.790"},"00:00:00","00:01:00.950"]
["77.",{"$f":"B177","v":"ČERNÝ"},"Michal","9.B","00:00:59.010"," ",{"$f":"G177","v":"Jilemnice  14.10.22"},602.06268822043717," ",{"$f":"J177","v":"00:00:58.820"},"00:00:00","00:01:13.500"]
["78.",{"$f":"B178","v":"DOLEJŠÍ"},"David","9.B","00:00:52.400"," ",{"$f":"G178","v":"Jilemnice  14.10.22"},716.35736988335896," ",{"$f":"J178","v":"00:00:51.270"},"00:00:00","00:01:09.160"]
["79.",{"$f":"B179","v":"POVAŽANEC"},"Martin","9.B","00:00:00"," ",{"$f":"G179","v":0},0," ",{"$f":"J179","v":"00:00:50.120"},"00:00:00","00:01:22.800"]
["80.",{"$f":"B180","v":"RICHTER"},"Jakub","9.B","00:00:57.870"," ",{"$f":"G180","v":"Jilemnice  14.10.22"},619.91141406407473," ",{"$f":"J180","v":"00:00:57.420"},"00:00:00","00:01:11.020"]
["81.",{"$f":"B181","v":"ROZUMEK"},"Adam","9.B","00:00:56.020"," ",{"$f":"G181","v":"Jilemnice  14.10.22"},650.42242559600129," ",{"$f":"J181","v":"00:01:07.910"},"00:00:00","00:01:27.170"]
["82.",{"$f":"B182","v":"VALENTA"},"František","9.B","00:00:56.020"," ",{"$f":"G182","v":"Jilemnice  14.10.22"},650.42242559600129," ",{"$f":"J182","v":"00:00:56.220"},"00:00:00","00:01:08.610"]
["83.",{"$f":"B183","v":"ZAPLATÍLEK"},"Josef","9.B","00:00:52.400"," ",{"$f":"G183","v":"Jilemnice  14.10.22"},716.35736988335896," ",{"$f":"J183","v":"00:00:51.560"},"00:00:00","00:01:00.340"]
[]
[]
[]
[]
[]
[]
[]
[]
[]
[]
[]
[]
[]
[]
[null,"HONCŮ","Filip","6.A",null,null,null,{"$f":"IF(E101=0,0,(1000000000-313216/E101+34538300/E101*2-1698600000/E101*3+32198000000/E101*4)/200000000000-304)","v":0}]
[null,"JÍLEK","Lukáš","6.A",null,null,null,0]
[null,"KUČERA","Tadeáš","6.A",null,null,null,0]
[null,"ROZUMEK","Lukáš","6.A",null,null,null,0]
[null,"ŘEHOŘEK","Marek","6.A",null,null,null,0]
[null,"ŘÍHA","Tadeáš","6.A",null,null,null,0]
[null,"SKRBEK","Richard","6.A",null,null,null,0]
[null,"ŠIMEK","Erik","6.A",null,null,null,0]
[null,"ŠÍR","Jan","6.A",null,null,null,0]
[null,"ŠÍR","Stanislav","6.A",null,null,null,0]
[null,"ŠPINAR","František","6.A",null,null,null,0]
[null,"TOTH","Mikuláš","6.A",null,null,null,0]
[null,"WEISZLEMLEIN","Adam","6.A",null,null,null,0]
[null,"ČERNÝ","Filip","6.B",null,null,null,0]
[null,"GINGAL","Patrik","6.B",null,null,null,0]
[null,"HLAVÁCEK","Josef","6.B",null,null,null,0]
[null,"KHUDA","Ivan","6.B",null,null,null,0]
[null,"KRESAN","Matěj","6.B",null,null,null,0]
[null,"RYCHTR","Vojtěch","6.B",null,null,null,0]
[null,"ŠTAJER","David","6.B",null,null,null,0]
[null,"TKACHUK","Dzvenyslav","6.B",null,null,null,0]
[null,"VELIKOVSKÝ","Dominik","6.B",null,null,null,0]
[null,"EXNER","Tomáš","7.A","00:00:59.110",null,"Jilemnice  17.10.22",600.52985504801234,null,"00:01:00.640"]
[null,"JANATA","Denis","7.A","00:01:02.160",null,"Jilemnice  17.10.22",556.14760266872588,null,"00:01:01.020"]
[null,"JINDŘIŠEK","Alex Jiří","7.A","00:00:58.340",null,"Jilemnice  17.10.22",612.4682187502226,null,"00:01:01.350"]
[null,"KAZLEPKA","Miroslav","7.A",null,null,null,0]
[null,"MARŠÁLEK","Ondřej","7.A","00:01:06.170",null,"Jilemnice  17.10.22",504.02168704681878,null,"00:01:09.950"]
[null,"MLATEČEK","Patrik","7.A","00:01:17.320",null,"Jilemnice  17.10.22",387.50091544086922,null,"00:01:14.240"]
[null,"SCHOLZ","Matyáš","7.A","00:01:05.740",null,"Jilemnice  17.10.22",509.30685856233652,null,"00:01:03.540"]
[null,"TOMÁŠ","Jakub","7.A","00:00:57.360",null,"Jilemnice  17.10.22",628.1260631430963,null,"00:00:56.510"]
[null,"VÁCLAVÍK","Jan","7.A","00:00:57.810",null,"Jilemnice  17.10.22",620.87032056543842,null,"00:00:56.400"]
[null,"VEČEŘA","David","7.A","00:01:06.690",null,"Jilemnice  17.10.22",497.72136200161935,null,"00:01:15.100"]
[null,"VYBÍRAL","Radim","7.A","00:00:52",null,"Jilemnice  05.06.23",{"$f":"IF(E133=0,0,(1000000000-313216/E133+34538300/E133*2-1698600000/E133*3+32198000000/E133*4)/200000000000-304)","v":724.20623426707698},null,"00:00:50.300"]
[null,"BERISHA","David","7.B",null,null," ",0]
[null,"EFENBERK","Šimon","7.B","00:00:55.480",null,"Jilemnice  05.06.23",659.71199678961796,null,"00:01:04.360"]
[null,"FEJKL","Antonín","7.B","00:00:50.760",null,"Jilemnice  19.06.23",749.32383731063828,null,"00:00:51.010"]
[null,"GOTTSTEIN","Matouš","7.B","00:00:45.860",null,"Jilemnice  19.06.23",861.86771656973428,null,"00:00:47.930"]
[null,"MAŘAS","Dominik","7.B","00:01:26.820",null,"Jilemnice  17.10.22",311.83619306482376,null,"00:01:20.670","00:01:18.210"]
[null,"POVAŽANEC","Lukáš","7.B","00:01:01.390",null,"Jilemnice  05.06.23",566.93616438977062,null,"00:01:04.130"]
[null,"VANCL","Jakub","7.B","00:01:06.320",null,"Jilemnice  17.10.22",502.19414628902302,null,"00:01:08.950"]
[null,"VANCL","Miroslav","7.B","00:01:36.810",null,"Jilemnice  17.10.22",248.28745203892151,null,"00:01:32.620"]
[null,"VOTOČEK","Michal","7.B","00:01:09.910",null,"Jilemnice  17.10.22",460.79493251162933,null,"00:01:07.340"]
[null,"DEMČUK","Ilja","8.A","00:00:53.410",null,"Jilemnice  17.10.22",697.06218370881879,null,"00:00:53.360","00:01:00.280"]
[null,"FAISTAUER","Kryštof","8.A","00:00:51.860",null,"Jilemnice  17.10.22",726.98194141704585,null,"00:00:52.980","00:00:54.880"]
[null,"FRK","Matyáš","8.A","00:01:02.730",null,"Jilemnice  17.10.22",548.33186405050185,null,"00:01:14.910","00:01:21.540"]
[null,"HUBÁLOVSKÝ","Marek","8.A","00:00:56.800",null,"Jilemnice  17.10.22",637.31598911774654,null,"00:00:53.080","00:01:11.580"]
[null,"MAŤÁTKO","Jakub","8.A","00:01:13.600",null,"Jilemnice  17.10.22",422.45152421043485,null,"00:01:29.020","00:01:24.110"]
[null,"MERY","Luboš","8.A","00:01:06.630",null,"Jilemnice  17.10.22",498.44330379540747,null,"00:01:06.760","00:01:15.180"]
[null,"NOVOTNÝ","Matěj","8.A","00:01:12.840",null,"Jilemnice  17.10.22",430.03114198088974,null,"00:01:09.540"]
[null,"ŘEHOŘEK","Vojtěch","8.A","00:01:00.020",null,"Jilemnice  17.10.22",586.81579943165627,null,"00:01:04.170","00:01:11.820"]
[null,"ŠÍR","Matyáš","8.A","00:01:02.280",null,"Jilemnice  17.10.22",554.49029514913298,null,null,"00:01:09.460"]
[null,"TORÁČ","Tomáš","8.A","00:02:07.730",null,"Jilemnice  17.10.22",114.59471409917802,null,"00:02:06.130","00:02:09.100"]
[null,"VÁCLAVÍK","Ondřej","8.A",null,null," ",0,null,"00:01:16.350","00:00:58.550"]
[null,"AUERSWALD","Daniel","8.B","00:01:00.420",null,"Jilemnice  17.10.22",580.9183429640517,null,"00:00:54.880","00:00:59.520"]
[null,"BOUKAL","Jakub","8.B",null,null," "]
[null,"BUDÍN","Martin","8.B","00:00:53.280",null,"Jilemnice  17.10.22",{"$f":"IF(E156=0,0,(1000000000-313216/E156+34538300/E156*2-1698600000/E156*3+32198000000/E156*4)/200000000000-304)","v":699.50470311351341},null,"00:00:55.190","00:00:58.300"]
[null,"DVOŘÁK","Dominik","8.B",null,null," ",0,null,"00:01:00.920"]
[null,"FIŠERA","Vojtěch","8.B","00:01:01.920",null,"Jilemnice  17.10.22",559.48148872558136,null,null,"00:00:57.070"]
[null,"JINDŘIŠEK","Vít","8.B","00:00:42.340",null,"Jilemnice  05.06.23",958.79347855191304,null,"00:00:43.530"]
[null,"JIROUŠ","Matouš","8.B","00:00:55.660",null,"Jilemnice  17.10.22",656.59544523693864,null,"00:00:55.050"]
[null,"KERLE","Marek","8.B","00:00:44.950",null,"Jilemnice  05.06.23",885.47027657147919,null,"00:00:48.020","00:00:54.010"]
[null,"LUKEŠ","Jakub","8.B","00:00:48.170",null,"Jilemnice  17.10.22",805.95858484301402,null,"00:00:46.890","00:00:54.300"]
[null,"OTT","Matyáš","8.B","00:00:44.240",null,"Jilemnice  05.06.23",904.55979615479191,null,"00:00:48.620","00:01:08.290"]
[null,"POKORNÝ","Matyáš","8.B","00:00:46.580",null,"Jilemnice  17.10.22",843.84665268115054,null,"00:00:44.070","00:00:48.010"]
[null,"POLÁČEK","Matyáš","8.B",null,null," ",0,null,"00:01:06.520","00:01:13.650"]
[null,"ULLMAN","Šimon","8.B","00:00:53.180",null,"Jilemnice  17.10.22",701.39169014456581,null,"00:00:48.360","00:00:53.770"]
[null,"VALENTA","Jakub","8.B","00:00:50.250",null,"Jilemnice  17.10.22",760.01423745050761,null,"00:00:48.980"]
[null,"VRBATA","Dominik","8.B","00:00:55.100",null,"Jilemnice  17.10.22",666.35825193989126,null,"00:00:56.960","00:00:57.790"]
[null,"FEJKL","Jan","9.A","00:00:45.510",null,"Jilemnice  14.10.22",870.83392071825983,null,"00:00:44.880",null,"00:00:54.980"]
[null,"KOTYK","Tadeáš","9.A",null,null,null,0,null,"00:01:09.690",null,"00:01:18.780"]
[null,"KRAUSE","Tadeáš","9.A",null,null,null,0,null,"00:00:46.380",null,"00:00:59.500"]
[null,"LEŠÁK","Martin","9.A",null,null,null,0,null,"00:00:57.910",null,"00:01:15.530"]
[null,"NECHANICKÝ","David","9.A","00:00:49.380",null,"Jilemnice  14.10.22",778.76045123304993,null,"00:00:46.990",null,"00:00:57.540"]
[null,"ŘEHOŘEK","Jan","9.A","00:00:51.360",null,"Jilemnice  14.10.22",737.01871070654215,null,"00:00:51.300",null,"00:00:58.500"]
[null,"SOUKUP","Ondřej","9.A",null,null,null,0,null,null,null,"00:01:04.170"]
[null,"SPANILÝ","David","9.A","00:00:45.800",null,"Jilemnice  14.10.22",863.39504763947616,null,"00:00:45.790",null,"00:01:00.950"]
[null,"ČERNÝ","Michal","9.B","00:00:59.010",null,"Jilemnice  14.10.22",602.06268822043717,null,"00:00:58.820",null,"00:01:13.500"]
[null,"DOLEJŠÍ","David","9.B","00:00:52.400",null,"Jilemnice  14.10.22",716.35736988335896,null,"00:00:51.270",null,"00:01:09.160"]
[null,"POVAŽANEC","Martin","9.B",null,null,null,0,null,"00:00:50.120",null,"00:01:22.800"]
[null,"RICHTER","Jakub","9.B","00:00:57.870",null,"Jilemnice  14.10.22",619.91141406407473,null,"00:00:57.420",null,"00:01:11.020"]
[null,"ROZUMEK","Adam","9.B","00:00:56.020",null,"Jilemnice  14.10.22",650.42242559600129,null,"00:01:07.910",null,"00:01:27.170"]
[null,"VALENTA","František","9.B","00:00:56.020",null,"Jilemnice  14.10.22",{"$f":"IF(E182=0,0,(1000000000-313216/E182+34538300/E182*2-1698600000/E182*3+32198000000/E182*4)/200000000000-304)","v":650.42242559600129},null,"00:00:56.220",null,"00:01:08.610"]
[null,"ZAPLATÍLEK","Josef","9.B","00:00:52.400",null,"Jilemnice  14.10.22",{"$f":"IF(E183=0,0,(1000000000-313216/E183+34538300/E183*2-1698600000/E183*3+32198000000/E183*4)/200000000000-304)","v":716.35736988335896},null,"00:00:51.560",null,"00:01:00.340"]
[]
[]
[]
[]
[]
[]
[]
[]
[]
[]
[]
[]
[]
[]
[]
[]
[]
[]
[]
[]
[]
[]
[]
[]
[]
[]
[]
[]
[]
[]
[]
[]
[]
[]
[]
[]
[]
[]
[]
[]
[]
[]
[]
[]
[]
[]
[]
[]
[]
[]
[]
[]
[]
[]
[]
[]
[]
[]
[]
[]
[]
[]
[]
[]
[]
[]
[]
[]
[]
[]
[]
[]
[]
[]
[]
[]
[]
[]
[]
[]
[]
[]
[]
[]
[]
[]
[]
[]
[]
[]
[]
[]
[]
[]
[]
[]
[]
[]
[]
[]
[]
[]
[]
[]
[]
[]
[]
[]
[]
[]
[]
[]
[]
[]
[]
[]
[]
[]
[]
[]
[]
[]
[]
[]
[]
[]
[]
[]
[]
[]
[]
[]
[]
[]
[]
[]
[]
[]
[]
[]
[]
[]
[]
[]
[]
[]
[]
[]
[]
[]
[]
[]
[]
[]
[]
[]
[]
[]
[]
[]
[]
[]
[]
[]
[]
[]
[]
[]
[]
[]
[]
[]
[]
[]
[]
[]
[]
[]
[]
[]
[]
[]
[]
[]
[]
[]
[]
[]
[]
[]
[]
[]
[]
[]
[]
[]
[]
[]
[]
[]
[]
[]
[]
[]
[]
[]
[]
[]
[]
[]
[]
[]
[]
[]
[]
[]
[]
[]
[]
[]
[]
[]
[]
[]
[]
[]
[]
[]
[]
[]
[]
[]
[]
[]
[]
[]
[]
[]
[]
[]
[]
[]
[]
[]
[]
[]
[]
[]
[]
[]
[]
[]
[]
[]
[]
[]
[]
[]
[]
[]
[]
[]
[]
[]
[]
[]
[]
[]
[]
[]
[]
[]
[]
[]
[]
[]
[]
[]
[]
[]
[]
[]
[]
[]
[]
[]
[]
[]
[]
[]
[]
[]
[]
[]
[]
[]
[]
[]
[]
[]
[]
[]
[]
[]
[]
[]
[]
[]
[]
[]
[]
[]
[]
[]
[]
[]
[]
[]
[]
[]
[]
[]
[]
[]
[]
[]
[]
[]
[]
[]
[]
[]
[]
[]
[]
[]
[]
[]
[]
[]
[]
[]
[]
[]
[]
[]
[]
[]
[]
[]
[]
[]
[]
[]
[]
[]
[]
[]
[]
[]
[]
[]
[]
[]
[]
[]
[]
[]
[]
[]
[]
[]
[]
[]
[]
[]
[]
[]
[]
[]
[]
[]
[]
[]
[]
[]
[]
[]
[]
[]
[]
[]
[]
[]
[]
[]
[]
[]
[]
[]
[]
[]
[]
[]
[]
[]
[]
[]
[]
[]
[]
[]
[]
[]
[]
[]
[]
[]
[]
[]
[]
[]
[]
[]
[]
[]
[]
[]
[]
[]
[]
[]
[]
[]
[]
[]
[]
[]
[]
[]
[]
[]
[]
[]
[]
[]
[]
[]
[]
[]
[]
[]
[]
[]
[]
[]
[]
[]
[]
[]
[]
[]
[]
[]
[]
[]
[]
[]
[]
[]
[]
[]
[]
[]
[]
[]
[]
[]
[]
[]
[]
[]
[]
[]
[]
[]
[]
[]
[]
[]
[]
[]
[]
[]
[]
[]
[]
[]
[]
[]
[]
[]
[]
[]
[]
[]
[]
[]
[]
[]
[]
[]
[]
[]
[]
[]
[]
[]
[]
[]
[]
[]
[]
[]
[]
[]
[]
[]
[]
[]
[]
[]
[]
[]
[]
[]
[]
[]
[]
[]
[]
[]
[]
[]
[]
[]
[]
[]
[]
[]
[]
[]
[]
[]
[]
[]
[]
[]
[]
[]
[]
[]
[]
[]
[]
[]
[]
[]
[]
[]
[]
[]
[]
[]
[]
[]
[]
[]
[]
[]
[]
[]
[]
[]
[]
[]
[]
[]
[]
[]
[]
[]
[]
[]
[]
[]
[]
[]
[]
[]
[]
[]
[]
[]
[]
[]
[]
[]
[]
[]
[]
[]
[]
[]
[]
[]
[]
[]
[]
[]
[]
[]
[]
[]
[]
[]
[]
[]
[]
[]
[]
[]
[]
[]
[]
[]
[]
[]
[]
[]
[]
[]
[]
[]
[]
[]
[]
[]
[]
[]
[]
[]
[]
[]
[]
[]
[]
[]
[]
[]
[]
[]
[]
[]
[]
[]
[]
[]
[]
[]
[]
[]
[]
[]
[]
[]
[]
[]
[]
[]
[]
[]
[]
[]
[]
[]
[]
[]
[]
[]
[]
[]
[]
[]
[]
[]
[]
[]
[]
[]
[]
[]
[]
[]
[]
[]
[]
[]
[]
[]
[]
[]
[]
[]
[]
[]
[]
[]
[]
[]
[]
[]
[]
[]
[]
[]
[]
[]
[]
[]
[]
[]
[]
[]
[]
[]
[]
[]
[]
[]
[]
[]
[]
[]
[]
[]
[]
[]
[]
[]
[]
[]
[]
[]
[]
[]
[]
[]
[]
[]
[]
[]
[]
[]
[]
[]
[]
[]
[]
[]
[]
[]
[]
[]
[]
[]
[]
[]
[]
[]
[]
[]
[]
[]
[]
[]
[]
[]
[]
[]
[]
[]
[]
[]
[]
[]
[]
[]
[]
[]
[]
[]
[]
[]
[]
[]
[]
[]
[]
[]
[]
[]
[]
[]
[]
[]
[]
[]
[]
[]
[]
[]
[]
[]
[]
[]
[]
[]
[]
[]
[]
[]
[]
[]
[]
[]
[]
[]
[]
[]
[]
[]
[]
[]
[]
[]
[]
[]
[]
[]
[]
[]
[]
[]
[]
[]
[]
[]
[]
[]
[]
[]
[]
[]
[]
[]
[]
[]
[]
[]
[]
[]
[]
[]
[]
[]
[]
[]
[]
[]
[]
[]
[]
[]
[]
[]
[]
[]
[]
[]
[]
[]
[]
[]
[]
[]
[]
[]
[]
[]
[]
[]
[]
[]
[]
[]
[]
[]
[]
[]
[]
[]
[]
[]
[]
[]
[]
[]
[]
[]
[]
[]
[]
[]
[]
[]
[]
[]
[]
[]
[]
[]
[]
[]
[]
[]
[]
[]
[]
[]
[]
[]
[]
[]
[]
[]
[]
[]
[]
[]
[]
[]
[]
[]
[]
[]
[]
[]
[]
[]
[]
[]
[]
[]
[]
[]
[]
[]
[]
[]
[]
[]
[]
[]
[]
[]
[]
[]
[]
[]
[]
[]
[]
[]
[]
[]
[]
[]
[]
[]
[]
[]
[]
[]
[]
[]
[]
[]
[]
[]
[]
[]
[]
[]
[]
[]
[]
[]
[]
[]
[]
[]
[]
[]
[]
[]
[]
[]
[]
[]
[]
[]
[]
[]
[]
[]
[]
[]
[]
[]
[]
[]
[]
[]
[]
[]
[]
[]
[]
[]
[]
[]
[]
[]
[]
[]
[]
[]
[]
[]
[]
[]
[]
[]
[]
[]
[]
[]
[]
[]
[]
[]
[]
[]
[]
[]
[]
[]
[]
[]
[]
[]
[]
[]
[]
[]
[]
[]
[]
[]
[]
[]
[]
[]
[]
[]
[]
[]
[]
[]
[]
[]
[]
[]
[]
[]
[]
[]
[]
[]
[]
[]
[]
[]
[]
[]
[]
[]
[]
[]
[]
[]
[]
[]
[]
[]
[]
[]
[]
[]
[]
[]
[]
[]
[]
[]
[]
[]
[]
[]
[]
[]
[]
[]
[]
[]
[]
[]
[]
[]
[]
[]
[]
[]
[]
[]
[]
[]
[]
[]
[]
[]
[]
[]
[]
[]
[]
[]
[]
[]
[]
[]
[]
[]
[]
[]
[]
[]
[]
[]
[]
[]
[]
[]
[]
[]
[]
[]
[]
[]
[]
[]
[]
[]
[]
[]
[]
[]
[]
[]
[]
[]
[]
[]
[]
[]
[]
[]
[]
[]
[]
[]
[]
[]
[]
[]
[]
[]
[]
[]
[]
[]
[]
[]
[]
[]
[]
[]
[]
[]
[]
[]
[]
[]
[]
[]
[]
[]
[]
[]
[]
[]
[]
[]
[]
[]
[]
[]
[]
[]
[]
[]
[]
[]
[]
[]
[]
[]
[]
[]
[]
[]
[]
[]
[]
[]
[]
[]
[]
[]
[]
[]
[]
[]
[]
[]
[]
[]
[]
[]
[]
[]
[]
[]
[]
[]
[]
[]
[]
[]
[]
[]
[]
[]
[]
[]
[]
[]
[]
[]
[]
[]
[]
[]
[]
[]
[]
[]
[]
[]
[]
[]
[]
[]
[]
[]
[]
[]
[]
[]
[]
[]
[]
[]
[]
[]
[]
[]
[]
[]
[]
[]
[]
[]
[]
[]
[]
[]
[]
[]
[]
[]
[]
[]
[]
[]
[]
[]
[]
[]
[]
[]
[]
[]
[]
[]
[]
[]
[]
[]
[]
[]
[]
[]
[]
[]
[]
[]
[]
[]
[]
[]
[]
[]
[]
[]
[]
[]
[]
[]
[]
[]
[]
[]
[]
[]
[]
[]
[]
[]
[]
[]
[]
[]
[]
[]
[]
[]
[]
[]
[]
[]
[]
[]
[]
[]
[]
[]
[]
[]
[]
[]
[]
[]
[]
[]
[]
[]
[]
[]
[]
[]
[]
[]
[]
[]
[]
[]
[]
[]
[]
[]
[]
[]
[]
[]
[]
[]
[]
[]
[]
[]
[]
[]
[]
[]
[]
[]
[]
[]
[]
[]
[]
[]
[]
[]
[]
[]
[]
[]
[]
[]
[]
[]
[]
[]
[]
[]
[]
[]
[]
[]
[]
[]
[]
[]
[]
[]
[]
[]
[]
[]
[]
[]
[]
[]
[]
[]
[]
[]
[]
[]
[]
[]
[]
[]
[]
[]
[]
[]
[]
[]
[]
[]
[]
[]
[]
[]
[]
[]
[]
[]
[]
[]
[]
[]
[]
[]
[]
[]
[]
[]
[]
[]
[]
[]
[]
[]
[]
[]
[]
[]
[]
[]
[]
[]
[]
[]
[]
[]
[]
[]
[]
[]
[]
[]
[]
[]
[]
[]
[]
[]
[]
[]
[]
[]
[]
[]
[]
[]
[]
[]
[]
[]
[]
[]
[]
[]
[]
[]
[]
[]
[]
[]
[]
[]
[]
[]
[]
[]
[]
[]
[]
[]
[]
[]
[]
[]
[]
[]
[]
[]
[]
[]
[]
[]
[]
[]
[]
[]
[]
[]
[]
[]
[]
[]
[]
[]
[]
[]
[]
[]
[]
[]
[]
[]
[]
[]
[]
[]
[]
[]
[]
[]
[]
[]
[]
[]
[]
[]
[]
[]
[]
[]
[]
[]
[]
[]
[]
[]
[]
[]
[]
[]
[]
[]
[]
[]
[]
[]
[]
[]
[]
[]
[]
[]
[]
[]
[]
[]
[]
[]
[]
[]
[]
[]
[]
[]
[]
[]
[]
[]
[]
[]
[]
[]
[]
[]
[]
[]
[]
[]
[]
[]
[]
[]
[]
[]
[]
[]
[]
[]
[]
[]
[]
[]
[]
[]
[]
[]
[]
[]
[]
[]
[]
[]
[]
[]
[]
[]
[]
[]
[]
[]
[]
[]
[]
[]
[]
[]
[]
[]
[]
[]
[]
[]
[]
[]
[]
[]
[]
[]
[]
[]
[]
[]
[]
[]
[]
[]
[]
[]
[]
[]
[]
[]
[]
[]
[]
[]
[]
[]
[]
[]
[]
[]
[]
[]
[]
[]
[]
[]
[]
[]
[]
[]
[]
[]
[]
[]
[]
[]
[]
[]
[]
[]
[]
[]
[]
[]
[]
[]
[]
[]
[]
[]
[]
[]
[]
[]
[]
[]
[]
[]
[]
[]
[]
[]
[]
[]
[]
[]
[]
[]
[]
[]
[]
[]
[]
[]
[]
[]
[]
[]
[]
[]
[]
[]
[]
[]
[]
[]
[]
[]
[]
[]
[]
[]
[]
[]
[]
[]
[]
[]
[]
[]
[]
[]
[]
[]
[]
[]
[]
[]
[]
[]
[]
[]
[]
[]
[]
[]
[]
[]
[]
[]
[]
[]
[]
[]
[]
[]
[]
[]
[]
[]
[]
[]
[]
[]
[]
[]
[]
[]
[]
[]
[]
[]
[]
[]
[]
[]
[]
[]
[]
[]
[]
[]
[]
[]
[]
[]
[]
[]
[]
[]
[]
[]
[]
[]
[]
[]
[]
[]
[]
[]
[]
[]
[]
[]
[]
[]
[]
[]
[]
[]
[]
[]
[]
[]
[]
[]
[]
[]
[]
[]
[]
[]
[]
[]
[]
[]
[]
[]
[]
[]
[]
[]
[]
[]
[]
[]
[]
[]
[]
[]
[]
[]
[]
[]
[]
[]
[]
[]
[]
[]
[]
[]
[]
[]
[]
[]
[]
[]
[]
[]
[]
[]
[]
[]
[]
[]
[]
[]
[]
[]
[]
[]
[]
[]
[]
[]
[]
[]
[]
[]
[]
[]
[]
[]
[]
[]
[]
[]
[]
[]
[]
[]
[]
[]
[]
[]
[]
[]
[]
[]
[]
[]
[]
[]
[]
[]
[]
[]
[]
[]
[]
[]
[]
[]
[]
[]
[]
[]
[]
[]
[]
[]
[]
[]
[]
[]
[]
[]
[]
[]
[]
[]
[]
[]
[]
[]
[]
[]
[]
[]
[]
[]
[]
[]
[]
[]
[]
[]
[]
[]
[]
[]
[]
[]
[]
[]
[]
[]
[]
[]
[]
[]
[]
[]
[]
[]
[]
[]
[]
[]
[]
[]
[]
[]
[]
[]
[]
[]
[]
[]
[]
[]
[]
[]
[]
[]
[]
[]
[]
[]
[]
[]
[]
[]
[]
[]
[]
[]
[]
[]
[]
[]
[]
[]
[]
[]
[]
[]
[]
[]
[]
[]
[]
[]
[]
[]
[]
[]
[]
[]
[]
[]
[]
[]
[]
[]
[]
[]
[]
[]
[]
[]
[]
[]
[]
[]
[]
[]
[]
[]
[]
[]
[]
[]
[]
[]
[]
[]
[]
[]
[]
[]
[]
[]
[]
[]
[]
[]
[]
[]
[]
[]
[]
[]
[]
[]
[]
[]
[]
[]
[]
[]
[]
[]
[]
[]
[]
[]
[]
[]
[]
[]
[]
[]
[]
[]
[]
[]
[]
[]
[]
[]
[]
[]
[]
[]
[]
[]
[]
[]
[]
[]
[]
[]
[]
[]
[]
[]
[]
[]
[]
[]
[]
[]
[]
[]
[]
[]
[]
[]
[]
[]
[]
[]
[]
[]
[]
[]
[]
[]
[]
[]
[]
[]
[]
[]
[]
[]
[]
[]
[]
[]
[]
[]
[]
[]
[]
[]
[]
[]
[]
[]
[]
[]
[]
[]
[]
[]
[]
[]
[]
[]
[]
[]
[]
[]
[]
[]
[]
[]
[]
[]
[]
[]
[]
[]
[]
[]
[]
[]
[]
[]
[]
[]
[]
[]
[]
[]
[]
[]
[]
[]
[]
[]
[]
[]
[]
[]
[]
[]
[]
[]
[]
[]
[]
[]
[]
[]
[]
[]
[]
[]
[]
[]
[]
[]
[]
[]
[]
[]
[]
[]
[]
[]
[]
[]
[]
[]
[]
[]
[]
[]
[]
[]
[]
[]
[]
[]
[]
[]
[]
[]
[]
[]
[]
[]
[]
[]
[]
[]
[]
[]
[]
[]
[]
[]
[]
[]
[]
[]
[]
[]
[]
[]
[]
[]
[]
[]
[]
[]
[]
[]
[]
[]
[]
[]
[]
[]
[]
[]
[]
[]
[]
[]
[]
[]
[]
[]
[]
[]
[]
[]
[]
[]
[]
[]
[]
[]
[]
[]
[]
[]
[]
[]
[]
[]
[]
[]
[]
[]
[]
[]
[]
[]
[]
[]
[]
[]
[]
[]
[]
[]
[]
[]
[]
[]
[]
[]
[]
[]
[]
[]
[]
[]
[]
[]
[]
[]
[]
[]
[]
[]
[]
[]
[]
[]
[]
[]
[]
[]
[]
[]
[]
[]
[]
[]
[]
[]
[]
[]
[]
[]
[]
[]
[]
[]
[]
[]
[]
[]
[]
[]
[]
[]
[]
[]
[]
[]
[]
[]
[]
[]
[]
[]
[]
[]
[]
[]
[]
[]
[]
[]
[]
[]
[]
[]
[]
[]
[]
[]
[]
[]
[]
[]
[]
[]
[]
[]
[]
[]
[]
[]
[]
[]
[]
[]
[]
[]
[]
[]
[]
[]
[]
[]
[]
[]
[]
[]
[]
[]
[]
[]
[]
[]
[]
[]
[]
[]
[]
[]
[]
[]
[]
[]
[]
[]
[]
[]
[]
[]
[]
[]
[]
[]
[]
[]
[]
[]
[]
[]
[]
[]
[]
[]
[]
[]
[]
[]
[]
[]
[]
[]
[]
[]
[]
[]
[]
[]
[]
[]
[]
[]
[]
[]
[]
[]
[]
[]
[]
[]
[]
[]
[]
[]
[]
[]
[]
[]
[]
[]
[]
[]
[]
[]
[]
[]
[]
[]
[]
[]
[]
[]
[]
[]
[]
[]
[]
[]
[]
[]
[]
[]
[]
[]
[]
[]
[]
[]
[]
[]
[]
[]
[]
[]
[]
[]
[]
[]
[]
[]
[]
[]
[]
[]
[]
[]
[]
[]
[]
[]
[]
[]
[]
[]
[]
[]
[]
[]
[]
[]
[]
[]
[]
[]
[]
[]
[]
[]
[]
[]
[]
[]
[]
[]
[]
[]
[]
[]
[]
[]
[]
[]
[]
[]
[]
[]
[]
[]
[]
[]
[]
[]
[]
[]
[]
[]
[]
[]
[]
[]
[]
[]
[]
[]
[]
[]
[]
[]
[]
[]
[]
[]
[]
[]
[]
[]
[]
[]
[]
[]
[]
[]
[]
[]
[]
[]
[]
[]
[]
[]
[]
[]
[]
[]
[]
[]
[]
[]
[]
[]
[]
[]
[]
[]
[]
[]
[]
[]
[]
[]
[]
[]
[]
[]
[]
[]
[]
[]
[]
[]
[]
[]
[]
[]
[]
[]
[]
[]
[]
[]
[]
[]
[]
[]
[]
[]
[]
[]
[]
[]
[]
[]
[]
[]
[]
[]
[]
[]
[]
[]
[]
[]
[]
[]
[]
[]
[]
[]
[]
[]
[]
[]
[]
[]
[]
[]
[]
[]
[]
[]
[]
[]
[]
[]
[]
[]
[]
[]
[]
[]
[]
[]
[]
[]
[]
[]
[]
[]
[]
[]
[]
[]
[]
[]
[]
[]
[]
[]
[]
[]
[]
[]
[]
[]
[]
[]
[]
[]
[]
[]
[]
[]
[]
[]
[]
[]
[]
[]
[]
[]
[]
[]
[]
[]
[]
[]
[]
[]
[]
[]
[]
[]
[]
[]
[]
[]
[]
[]
[]
[]
[]
[]
[]
[]
[]
[]
[]
[]
[]
[]
[]
[]
[]
[]
[]
[]
[]
[]
[]
[]
[]
[]
[]
[]
[]
[]
[]
[]
[]
[]
[]
[]
[]
[]
[]
[]
[]
[]
[]
[]
[]
[]
[]
[]
[]
[]
[]
[]
[]
[]
[]
[]
[]
[]
[]
[]
[]
[]
[]
[]
[]
[]
[]
[]
[]
[]
[]
[]
[]
[]
[]
[]
[]
[]
[]
[]
[]
[]
[]
[]
[]
[]
[]
[]
[]
[]
[]
[]
[]
[]
[]
[]
[]
[]
[]
[]
[]
[]
[]
[]
[]
[]
[]
[]
[]
[]
[]
[]
[]
[]
[]
[]
[]
[]
[]
[]
[]
[]
[]
[]
[]
[]
[]
[]
[]
[]
[]
[]
[]
[]
[]
[]
[]
[]
[]
[]
[]
[]
[]
[]
[]
[]
[]
[]
[]
[]
[]
[]
[]
[]
[]
[]
[]
[]
[]
[]
[]
[]
[]
[]
[]
[]
[]
[]
[]
[]
[]
[]
[]
[]
[]
[]
[]
[]
[]
[]
[]
[]
[]
[]
[]
[]
[]
[]
[]
[]
[]
[]
[]
[]
[]
[]
[]
[]
[]
[]
[]
[]
[]
[]
[]
[]
[]
[]
[]
[]
[]
[]
[]
[]
[]
[]
[]
[]
[]
[]
[]
[]
[]
[]
[]
[]
[]
[]
[]
[]
[]
[]
[]
[]
[]
[]
[]
[]
[]
[]
[]
[]
[]
[]
[]
[]
[]
[]
[]
[]
[]
[]
[]
[]
[]
[]
[]
[]
[]
[]
[]
[]
[]
[]
[]
[]
[]
[]
[]
[]
[]
[]
[]
[]
[]
[]
[]
[]
[]
[]
[]
[]
[]
[]
[]
[]
[]
[]
[]
[]
[]
[]
[]
[]
[]
[]
[]
[]
[]
[]
[]
[]
[]
[]
[]
[]
[]
[]
[]
[]
[]
[]
[]
[]
[]
[]
[]
[]
[]
[]
[]
[]
[]
[]
[]
[]
[]
[]
[]
[]
[]
[]
[]
[]
[]
[]
[]
[]
[]
[]
[]
[]
[]
[]
[]
[]
[]
[]
[]
[]
[]
[]
[]
[]
[]
[]
[]
[]
[]
[]
[]
[]
[]
[]
[]
[]
[]
[]
[]
[]
[]
[]
[]
[]
[]
[]
[]
[]
[]
[]
[]
[]
[]
[]
[]
[]
[]
[]
[]
[]
[]
[]
[]
[]
[]
[]
[]
[]
[]
[]
[]
[]
[]
[]
[]
[]
[]
[]
[]
[]
[]
[]
[]
[]
[]
[]
[]
[]
[]
[]
[]
[]
[]
[]
[]
[]
[]
[]
[]
[]
[]
[]
[]
[]
[]
[]
[]
[]
[]
[]
[]
[]
[]
[]
[]
[]
[]
[]
[]
[]
[]
[]
[]
[]
[]
[]
[]
[]
[]
[]
[]
[]
[]
[]
[]
[]
[]
[]
[]
[]
[]
[]
[]
[]
[]
[]
[]
[]
[]
[]
[]
[]
[]
[]
[]
[]
[]
[]
[]
[]
[]
[]
[]
[]
[]
[]
[]
[]
[]
[]
[]
[]
[]
[]
[]
[]
[]
[]
[]
[]
[]
[]
[]
[]
[]
[]
[]
[]
[]
[]
[]
[]
[]
[]
[]
[]
[]
[]
[]
[]
[]
[]
[]
[]
[]
[]
[]
[]
[]
[]
[]
[]
[]
[]
[]
[]
[]
[]
[]
[]
[]
[]
[]
[]
[]
[]
[]
[]
[]
[]
[]
[]
[]
[]
[]
[]
[]
[]
[]
[]
[]
[]
[]
[]
[]
[]
[]
[]
[]
[]
[]
[]
[]
[]
[]
[]
[]
[]
[]
[]
[]
[]
[]
[]
[]
[]
[]
[]
[]
[]
[]
[]
[]
[]
[]
[]
[]
[]
[]
[]
[]
[]
[]
[]
[]
[]
[]
[]
[]
[]
[]
[]
[]
[]
[]
[]
[]
[]
[]
[]
[]
[]
[]
[]
[]
[]
[]
[]
[]
[]
[]
[]
[]
[]
[]
[]
[]
[]
[]
[]
[]
[]
[]
[]
[]
[]
[]
[]
[]
[]
[]
[]
[]
[]
[]
[]
[]
[]
[]
[]
[]
[]
[]
[]
[]
[]
[]
[]
[]
[]
[]
[]
[]
[]
[]
[]
[]
[]
[]
[]
[]
[]
[]
[]
[]
[]
[]
[]
[]
[]
[]
[]
[]
[]
[]
[]
[]
[]
[]
[]
[]
[]
[]
[]
[]
[]
[]
[]
[]
[]
[]
[]
[]
[]
[]
[]
[]
[]
[]
[]
[]
[]
[]
[]
[]
[]
[]
[]
[]
[]
[]
[]
[]
[]
[]
[]
[]
[]
[]
[]
[]
[]
[]
[]
[]
[]
[]
[]
[]
[]
[]
[]
[]
[]
[]
[]
[]
[]
[]
[]
[]
[]
[]
[]
[]
[]
[]
[]
[]
[]
[]
[]
[]
[]
[]
[]
[]
[]
[]
[]
[]
[]
[]
[]
[]
[]
[]
[]
[]
[]
[]
[]
[]
[]
[]
[]
[]
[]
[]
[]
[]
[]
[]
[]
[]
[]
[]
[]
[]
[]
[]
[]
[]
[]
[]
[]
[]
[]
[]
[]
[]
[]
[]
[]
[]
[]
[]
[]
[]
[]
[]
[]
[]
[]
[]
[]
[]
[]
[]
[]
[]
[]
[]
[]
[]
[]
[]
[]
[]
[]
[]
[]
[]
[]
[]
[]
[]
[]
[]
[]
[]
[]
[]
[]
[]
[]
[]
[]
[]
[]
[]
[]
[]
[]
[]
[]
[]
[]
[]
[]
[]
[]
[]
[]
[]
[]
[]
[]
[]
[]
[]
[]
[]
[]
[]
[]
[]
[]
[]
[]
[]
[]
[]
[]
[]
[]
[]
[]
[]
[]
[]
[]
[]
[]
[]
[]
[]
[]
[]
[]
[]
[]
[]
[]
[]
[]
[]
[]
[]
[]
[]
[]
[]
[]
[]
[]
[]
[]
[]
[]
[]
[]
[]
[]
[]
[]
[]
[]
[]
[]
[]
[]
[]
[]
[]
[]
[]
[]
[]
[]
[]
[]
[]
[]
[]
[]
[]
[]
[]
[]
[]
[]
[]
[]
[]
[]
[]
[]
[]
[]
[]
[]
[]
[]
[]
[]
[]
[]
[]
[]
[]
[]
[]
[]
[]
[]
[]
[]
[]
[]
[]
[]
[]
[]
[]
[]
[]
[]
[]
[]
[]
[]
[]
[]
[]
[]
[]
[]
[]
[]
[]
[]
[]
[]
[]
[]
[]
[]
[]
[]
[]
[]
[]
[]
[]
[]
[]
[]
[]
[]
[]
[]
[]
[]
[]
[]
[]
[]
[]
[]
[]
[]
[]
[]
[]
[]
[]
[]
[]
[]
[]
[]
[]
[]
[]
[]
[]
[]
[]
[]
[]
[]
[]
[]
[]
[]
[]
[]
[]
[]
[]
[]
[]
[]
[]
[]
[]
[]
[]
[]
[]
[]
[]
[]
[]
[]
[]
[]
[]
[]
[]
[]
[]
[]
[]
[]
[]
[]
[]
[]
[]
[]
[]
[]
[]
[]
[]
[]
[]
[]
[]
[]
[]
[]
[]
[]
[]
[]
[]
[]
[]
[]
[]
[]
[]
[]
[]
[]
[]
[]
[]
[]
[]
[]
[]
[]
[]
[]
[]
[]
[]
[]
[]
[]
[]
[]
[]
[]
[]
[]
[]
[]
[]
[]
[]
[]
[]
[]
[]
[]
[]
[]
[]
[]
[]
[]
[]
[]
[]
[]
[]
[]
[]
[]
[]
[]
[]
[]
[]
[]
[]
[]
[]
[]
[]
[]
[]
[]
[]
[]
[]
[]
[]
[]
[]
[]
[]
[]
[]
[]
[]
[]
[]
[]
[]
[]
[]
[]
[]
[]
[]
[]
[]
[]
[]
[]
[]
[]
[]
[]
[]
[]
[]
[]
[]
[]
[]
[]
[]
[]
[]
[]
[]
[]
[]
[]
[]
[]
[]
[]
[]
[]
[]
[]
[]
[]
[]
[]
[]
[]
[]
[]
[]
[]
[]
[]
[]
[]
[]
[]
[]
[]
[]
[]
[]
[]
[]
[]
[]
[]
[]
[]
[]
[]
[]
[]
[]
[]
[]
[]
[]
[]
[]
[]
[]
[]
[]
[]
[]
[]
[]
[]
[]
[]
[]
[]
[]
[]
[]
[]
[]
[]
[]
[]
[]
[]
[]
[]
[]
[]
[]
[]
[]
[]
[]
[]
[]
[]
[]
[]
[]
[]
[]
[]
[]
[]
[]
[]
[]
[]
[]
[]
[]
[]
[]
[]
[]
[]
[]
[]
[]
[]
[]
[]
[]
[]
[]
[]
[]
[]
[]
[]
[]
[]
[]
[]
[]
[]
[]
[]
[]
[]
[]
[]
[]
[]
[]
[]
[]
[]
[]
[]
[]
[]
[]
[]
[]
[]
[]
[]
[]
[]
[]
[]
[]
[]
[]
[]
[]
[]
[]
[]
[]
[]
[]
[]
[]
[]
[]
[]
[]
[]
[]
[]
[]
[]
[]
[]
[]
[]
[]
[]
[]
[]
[]
[]
[]
[]
[]
[]
[]
[]
[]
[]
[null,null,null,null,null,null,"Jilemnice  06.10.14"]

{"sheet":"1000","index":8,"n_rows":183,"n_cols":12,"rows_kept":183,"cut":false,"hidden":false,"merged":[]}
[null,null,"VÝKONY  2022 - 2023",null,null,null,"1000 M","CHLAPCI  6. -  9.  ROČ."]
[null,"stav  k ",{"$f":"TODAY()","v":"2023-06-26"},null,null,null,null,null,null,"21 - 22","20 - 21","19  - 20"]
[]
["1.",{"$f":"B101","v":"HONCŮ"},{"$f":"C101","v":"Filip"},"6.A","00:00:00",null,0,0,null,"00:00:00","00:00:00","00:00:00"]
["2.",{"$f":"B102","v":"JÍLEK"},"Lukáš","6.A","00:00:00",null,{"$f":"G102","v":0},0,null,{"$f":"J102","v":"00:00:00"},"00:00:00","00:00:00"]
["3.",{"$f":"B103","v":"KUČERA"},"Tadeáš","6.A","00:04:13.760",null,{"$f":"G103","v":"Turnov   16.05.23"},671.13461525630532,null,{"$f":"J103","v":"00:00:00"},"00:00:00","00:00:00"]
["4.",{"$f":"B104","v":"ROZUMEK"},"Lukáš","6.A","00:00:00",null,{"$f":"G104","v":0},0,null,{"$f":"J104","v":"00:00:00"},"00:00:00","00:00:00"]
["5.",{"$f":"B105","v":"ŘEHOŘEK"},"Marek","6.A","00:00:00",null,{"$f":"G105","v":0},0,null,{"$f":"J105","v":"00:00:00"},"00:00:00","00:00:00"]
["6.",{"$f":"B106","v":"ŘÍHA"},"Tadeáš","6.A","00:00:00",null,{"$f":"G106","v":0},0,null,{"$f":"J106","v":"00:00:00"},"00:00:00","00:00:00"]
["7.",{"$f":"B107","v":"SKRBEK"},"Richard","6.A","00:00:00",null,{"$f":"G107","v":0},0,null,{"$f":"J107","v":"00:00:00"},"00:00:00","00:00:00"]
["8.",{"$f":"B108","v":"ŠIMEK"},"Erik","6.A","00:00:00",null,{"$f":"G108","v":0},0,null,{"$f":"J108","v":"00:00:00"},"00:00:00","00:00:00"]
["9.",{"$f":"B109","v":"ŠÍR"},"Jan","6.A","00:00:00",null,{"$f":"G109","v":0},0,null,{"$f":"J109","v":"00:00:00"},"00:00:00","00:00:00"]
["10.",{"$f":"B110","v":"ŠÍR"},"Stanislav","6.A","00:00:00",null,{"$f":"G110","v":0},0,null,{"$f":"J110","v":"00:00:00"},"00:00:00","00:00:00"]
["11.",{"$f":"B111","v":"ŠPINAR"},"František","6.A","00:00:00",null,{"$f":"G111","v":0},0,null,{"$f":"J111","v":"00:00:00"},"00:00:00","00:00:00"]
["12.",{"$f":"B112","v":"TOTH"},"Mikuláš","6.A","00:00:00",null,{"$f":"G112","v":0},0,null,{"$f":"J112","v":"00:00:00"},"00:00:00","00:00:00"]
["13.",{"$f":"B113","v":"WEISZLEMLEIN"},"Adam","6.A","00:00:00",null,{"$f":"G113","v":0},0,null,{"$f":"J113","v":"00:00:00"},"00:00:00","00:00:00"]
["14.",{"$f":"B114","v":"ČERNÝ"},"Filip","6.B","00:00:00",null,{"$f":"G114","v":0},0,null,{"$f":"J114","v":"00:00:00"},"00:00:00","00:00:00"]
["15.",{"$f":"B115","v":"GINGAL"},"Patrik","6.B","00:00:00",null,{"$f":"G115","v":0},0,null,{"$f":"J115","v":"00:00:00"},"00:00:00","00:00:00"]
["16.",{"$f":"B116","v":"HLAVÁCEK"},"Josef","6.B","00:00:00",null,{"$f":"G116","v":0},0,null,{"$f":"J116","v":"00:00:00"},"00:00:00","00:00:00"]
["17.",{"$f":"B117","v":"KHUDA"},"Ivan","6.B","00:00:00",null,{"$f":"G117","v":0},0,null,{"$f":"J117","v":"00:00:00"},"00:00:00","00:00:00"]
["18.",{"$f":"B118","v":"KRESAN"},"Matěj","6.B","00:00:00",null,{"$f":"G118","v":0},0,null,{"$f":"J118","v":"00:00:00"},"00:00:00","00:00:00"]
["19.",{"$f":"B119","v":"RYCHTR"},"Vojtěch","6.B","00:00:00",null,{"$f":"G119","v":0},0,null,{"$f":"J119","v":"00:00:00"},"00:00:00","00:00:00"]
["20.",{"$f":"B120","v":"ŠTAJER"},"David","6.B","00:00:00",null,{"$f":"G120","v":0},0,null,{"$f":"J120","v":"00:00:00"},"00:00:00","00:00:00"]
["21.",{"$f":"B121","v":"TKACHUK"},"Dzvenyslav","6.B","00:00:00",null,{"$f":"G121","v":0},0,null,{"$f":"J121","v":"00:00:00"},"00:00:00","00:00:00"]
["22.",{"$f":"B122","v":"VELIKOVSKÝ"},"Dominik","6.B","00:00:00",null,{"$f":"G122","v":0},0,null,{"$f":"J122","v":"00:00:00"},"00:00:00","00:00:00"]
["23.",{"$f":"B123","v":"EXNER"},"Tomáš","7.A","00:05:30.390",null,{"$f":"G123","v":"Jilemnice  29.05.23"},516.16880046792426,null,{"$f":"J123","v":"00:06:05.110"},"00:00:00","00:00:00"]
["24.",{"$f":"B124","v":"JANATA"},"Denis","7.A","00:05:57.410",null,{"$f":"G124","v":"Jilemnice  29.05.23"},477.37352058798729,null,{"$f":"J124","v":"00:05:37.770"},"00:00:00","00:00:00"]
["25.",{"$f":"B125","v":"JINDŘIŠEK"},"Alex Jiří","7.A","00:00:00",null,{"$f":"G125","v":0},0,null,{"$f":"J125","v":"00:05:50.550"},"00:00:00","00:00:00"]
["26.",{"$f":"B126","v":"KAZLEPKA"},"Miroslav","7.A","00:00:00",null,{"$f":"G126","v":0},0,null,{"$f":"J126","v":"00:00:00"},"00:00:00","00:00:00"]
["27.",{"$f":"B127","v":"MARŠÁLEK"},"Ondřej","7.A","00:05:16.140",null,{"$f":"G127","v":"Jilemnice  29.05.23"},539.29986709380341,null,{"$f":"J127","v":"00:05:29.220"},"00:00:00","00:00:00"]
["28.",{"$f":"B128","v":"MLATEČEK"},"Patrik","7.A","00:05:20.750",null,{"$f":"G128","v":"Jilemnice  29.05.23"},531.59186277221363,null,{"$f":"J128","v":"00:05:47.140"},"00:00:00","00:00:00"]
["29.",{"$f":"B129","v":"SCHOLZ"},"Matyáš","7.A","00:00:00",null,{"$f":"G129","v":0},0,null,{"$f":"J129","v":"00:06:27.230"},"00:00:00","00:00:00"]
["30.",{"$f":"B130","v":"TOMÁŠ"},"Jakub","7.A","00:04:18.490",null,{"$f":"G130","v":"Jilemnice  29.05.23"},658.90870040861341,null,{"$f":"J130","v":"00:04:08.320"},"00:00:00","00:00:00"]
["31.",{"$f":"B131","v":"VÁCLAVÍK"},"Jan","7.A","00:04:09.630",null,{"$f":"G131","v":"Turnov   16.05.23"},682.1885589328507,null,{"$f":"J131","v":"00:04:22.770"},"00:00:00","00:00:00"]
["32.",{"$f":"B132","v":"VEČEŘA"},"David","7.A","00:05:10.840",null,{"$f":"G132","v":"Jilemnice  29.05.23"},548.44408693125081,null,{"$f":"J132","v":"00:05:08.560"},"00:00:00","00:00:00"]
["33.",{"$f":"B133","v":"VYBÍRAL"},"Radim","7.A","00:03:51.220",null,{"$f":"G133","v":"Jilemnice  29.05.23"},736.26632627716003,null,{"$f":"J133","v":"00:03:37.520"},"00:00:00","00:00:00"]
["34.",{"$f":"B134","v":"BERISHA"},"David","7.B","00:00:00",null,{"$f":"G134","v":0},0,null,{"$f":"J134","v":"00:10:22.160"},"00:00:00","00:00:00"]
["35.",{"$f":"B135","v":"EFENBERK"},"Šimon","7.B","00:04:58.020",null,{"$f":"G135","v":"Jilemnice  29.05.23"},571.90759002249843,null,{"$f":"J135","v":"00:05:31.070"},"00:00:00","00:00:00"]
["36.",{"$f":"B136","v":"FEJKL"},"Antonín","7.B","00:03:34.040",null,{"$f":"G136","v":"Jilemnice  05.06.23"},795.1222199472528,null,{"$f":"J136","v":"00:03:57.680"},"00:00:00","00:00:00"]
["37.",{"$f":"B137","v":"GOTTSTEIN"},"Matouš","7.B","00:03:10.250",null,{"$f":"G137","v":"Jilemnice  29.05.23"},894.17392878613657,null,{"$f":"J137","v":"00:03:20.260"},"00:00:00","00:00:00"]
["38.",{"$f":"B138","v":"MAŘAS"},"Dominik","7.B","00:04:22.160",null,{"$f":"G138","v":"Jilemnice  29.05.23"},649.72657907209339,null,{"$f":"J138","v":"00:07:02.110"},"00:00:00","00:00:00"]
["39.",{"$f":"B139","v":"POVAŽANEC"},"Lukáš","7.B","00:04:51.040",null,{"$f":"G139","v":"Jilemnice  29.05.23"},585.55167666561294,null,{"$f":"J139","v":"00:05:26.550"},"00:00:00","00:00:00"]
["40.",{"$f":"B140","v":"VANCL"},"Jakub","7.B","00:05:19.210",null,{"$f":"G140","v":"Jilemnice  29.05.23"},534.14200677861754,null,{"$f":"J140","v":"00:05:08.040"},"00:00:00","00:00:00"]
["41.",{"$f":"B141","v":"VANCL"},"Miroslav","7.B","00:07:16.920",null,{"$f":"G141","v":"Jilemnice  29.05.23"},391.0477890992172,null,{"$f":"J141","v":"00:07:26.110"},"00:00:00","00:00:00"]
["42.",{"$f":"B142","v":"VOTOČEK"},"Michal","7.B","00:04:51.610",null,{"$f":"G142","v":"Jilemnice  29.05.23"},584.41298301465145,null,{"$f":"J142","v":"00:05:26.920"},"00:00:00","00:00:00"]
["43.",{"$f":"B143","v":"DEMČUK"},"Ilja","8.A","00:04:33.520",null,{"$f":"G143","v":"Jilemnice  29.05.23"},622.86633508474711,null,{"$f":"J143","v":"00:04:08.480"},"00:00:00","00:00:00"]
["44.",{"$f":"B144","v":"FAISTAUER"},"Kryštof","8.A","00:03:54.210",null,{"$f":"G144","v":"Jilemnice  29.05.23"},726.90521311025361,null,{"$f":"J144","v":"00:04:01.820"},"00:00:00","00:00:00"]
["45.",{"$f":"B145","v":"FRK"},"Matyáš","8.A","00:00:00",null,{"$f":"G145","v":0},0,null,{"$f":"J145","v":"00:07:03.570"},"00:00:00","00:00:00"]
["46.",{"$f":"B146","v":"HUBÁLOVSKÝ"},"Marek","8.A","00:04:19.620",null,{"$f":"G146","v":"Jilemnice  29.05.23"},656.05384781182113,null,{"$f":"J146","v":"00:04:33.040"},"00:00:00","00:00:00"]
["47.",{"$f":"B147","v":"MAŤÁTKO"},"Jakub","8.A","00:00:00",null,{"$f":"G147","v":0},0,null,{"$f":"J147","v":"00:00:00"},"00:00:00","00:00:00"]
["48.",{"$f":"B148","v":"MERY"},"Luboš","8.A","00:05:31.270",null,{"$f":"G148","v":"Jilemnice  29.05.23"},514.80559660342772,null,{"$f":"J148","v":"00:04:45.950"},"00:00:00","00:00:00"]
["49.",{"$f":"B149","v":"NOVOTNÝ"},"Matěj","8.A","00:05:34.810",null,{"$f":"G149","v":"Jilemnice  29.05.23"},509.39419368508248,null,{"$f":"J149","v":"00:06:27.700"},"00:00:00","00:00:00"]
["50.",{"$f":"B150","v":"ŘEHOŘEK"},"Vojtěch","8.A","00:04:22.480",null,{"$f":"G150","v":"Jilemnice  29.05.23"},648.93812850358131,null,{"$f":"J150","v":"00:04:56.860"},"00:00:00","00:00:00"]
["51.",{"$f":"B151","v":"ŠÍR"},"Matyáš","8.A","00:00:00",null,{"$f":"G151","v":0},0,null,{"$f":"J151","v":"00:04:37.540"},"00:00:00","00:00:00"]
["52.",{"$f":"B152","v":"TORÁČ"},"Tomáš","8.A","00:00:00",null,{"$f":"G152","v":0},0,null,{"$f":"J152","v":"00:08:31.860"},"00:00:00","00:00:00"]
["53.",{"$f":"B153","v":"VÁCLAVÍK"},"Ondřej","8.A","00:03:38.680",null,{"$f":"G153","v":"Jilemnice  29.05.23"},778.31479768918064,null,{"$f":"J153","v":"00:04:04.290"},"00:00:00","00:00:00"]
["54.",{"$f":"B154","v":"AUERSWALD"},"Daniel","8.B","00:00:00",null,{"$f":"G154","v":0},0,null,{"$f":"J154","v":"00:04:33.760"},"00:00:00","00:00:00"]
["55.",{"$f":"B155","v":"BOUKAL"},"Jakub","8.B","00:00:00",null,{"$f":"G155","v":0},0,null,{"$f":"J155","v":"00:00:00"},"00:00:00","00:00:00"]
["56.",{"$f":"B156","v":"BUDÍN"},"Martin","8.B","00:03:20.900",null,{"$f":"G156","v":"Jilemnice  05.06.23"},846.93150798519162,null,{"$f":"J156","v":"00:03:40.660"},"00:00:00","00:00:00"]
["57.",{"$f":"B157","v":"DVOŘÁK"},"Dominik","8.B","00:04:46.920",null,{"$f":"G157","v":"Jilemnice  29.05.23"},593.91677114084064,null,{"$f":"J157","v":"00:00:00"},"00:00:00","00:00:00"]
["58.",{"$f":"B158","v":"FIŠERA"},"Vojtěch","8.B","00:04:43.630",null,{"$f":"G158","v":"Jilemnice  29.05.23"},600.77118067520178,null,{"$f":"J158","v":"00:04:36.060"},"00:00:00","00:00:00"]
["59.",{"$f":"B159","v":"JINDŘIŠEK"},"Vít","8.B","00:03:07.980",null,{"$f":"G159","v":"Jilemnice  29.05.23"},904.93552479516416,null,{"$f":"J159","v":"00:03:18.470"},"00:00:00","00:00:00"]
["60.",{"$f":"B160","v":"JIROUŠ"},"Matouš","8.B","00:00:00",null,{"$f":"G160","v":0},0,null,{"$f":"J160","v":"00:00:00"},"00:00:00","00:00:00"]
["61.",{"$f":"B161","v":"KERLE"},"Marek","8.B","00:03:36.620",null,{"$f":"G161","v":"Jilemnice  29.05.23"},785.68784026477238,null,{"$f":"J161","v":"00:03:57.050"},"00:00:00","00:00:00"]
["62.",{"$f":"B162","v":"LUKEŠ"},"Jakub","8.B","00:03:28.410",null,{"$f":"G162","v":"Jilemnice  29.05.23"},816.52065618781489,null,{"$f":"J162","v":"00:03:31.960"},"00:00:00","00:00:00"]
["63.",{"$f":"B163","v":"OTT"},"Matyáš","8.B","00:03:20.680",null,{"$f":"G163","v":"Jilemnice  29.05.23"},847.85668703493104,null,{"$f":"J163","v":"00:03:24.090"},"00:00:00","00:00:00"]
["64.",{"$f":"B164","v":"POKORNÝ"},"Matyáš","8.B","00:03:26.940",null,{"$f":"G164","v":"Turnov   16.05.23"},822.2995068896056,null,{"$f":"J164","v":"00:03:14.690"},"00:00:00","00:00:00"]
["65.",{"$f":"B165","v":"POLÁČEK"},"Matyáš","8.B","00:05:19.800",null,{"$f":"G165","v":"Jilemnice  29.05.23"},533.1621012631332,null,{"$f":"J165","v":"00:00:00"},"00:00:00","00:00:00"]
["66.",{"$f":"B166","v":"ULLMAN"},"Šimon","8.B","00:05:06.060",null,{"$f":"G166","v":"Jilemnice  29.05.23"},556.96275233782603,null,{"$f":"J166","v":"00:04:09.990"},"00:00:00","00:00:00"]
["67.",{"$f":"B167","v":"VALENTA"},"Jakub","8.B","00:03:51.850",null,{"$f":"G167","v":"Turnov   16.05.23"},734.27384068131335,null,{"$f":"J167","v":"00:03:36.140"},"00:00:00","00:00:00"]
["68.",{"$f":"B168","v":"VRBATA"},"Dominik","8.B","00:03:57.340",null,{"$f":"G168","v":"Jilemnice  29.05.23"},717.35847292211588,null,{"$f":"J168","v":"00:04:05.640"},"00:00:00","00:00:00"]
["69.",{"$f":"B169","v":"FEJKL"},"Jan","9.A","00:03:35.900",null,{"$f":"G169","v":"Turnov   13.09.22"},788.29800814254304,null,{"$f":"J169","v":"00:03:31.980"},"00:00:00","00:00:00"]
["70.",{"$f":"B170","v":"KOTYK"},"Tadeáš","9.A","00:00:00",null,{"$f":"G170","v":0},0,null,{"$f":"J170","v":"00:08:13.460"},"00:00:00","00:00:00"]
["71.",{"$f":"B171","v":"KRAUSE"},"Tadeáš","9.A","00:03:12.100",null,{"$f":"G171","v":"Turnov   11.05.23"},885.59156664250395,null,{"$f":"J171","v":"00:03:27"},"00:00:00","00:00:00"]
["72.",{"$f":"B172","v":"LEŠÁK"},"Martin","9.A","00:00:00",null,{"$f":"G172","v":0},0,null,{"$f":"J172","v":"00:04:54.750"},"00:00:00","00:00:00"]
["73.",{"$f":"B173","v":"NECHANICKÝ"},"David","9.A","00:03:43.500",null,{"$f":"G173","v":"Turnov   13.09.22"},761.59436223657713,null,{"$f":"J173","v":"00:03:56"},"00:00:00","00:00:00"]
["74.",{"$f":"B174","v":"ŘEHOŘEK"},"Jan","9.A","00:00:00",null,{"$f":"G174","v":0},0,null,{"$f":"J174","v":"00:04:13.920"},"00:00:00","00:00:00"]
["75.",{"$f":"B175","v":"SOUKUP"},"Ondřej","9.A","00:00:00",null,{"$f":"G175","v":0},0,null,{"$f":"J175","v":"00:00:00"},"00:00:00","00:00:00"]
["76.",{"$f":"B176","v":"SPANILÝ"},"David","9.A","00:03:28.500",null,{"$f":"G176","v":"Turnov   13.09.22"},816.16949619244599,null,{"$f":"J176","v":"00:03:37"},"00:00:00","00:00:00"]
["77.",{"$f":"B177","v":"ČERNÝ"},"Michal","9.B","00:00:00",null,{"$f":"G177","v":0},0,null,{"$f":"J177","v":"00:04:56.460"},"00:00:00","00:00:00"]
["78.",{"$f":"B178","v":"DOLEJŠÍ"},"David","9.B","00:00:00",null,{"$f":"G178","v":0},0,null,{"$f":"J178","v":"00:03:58"},"00:00:00","00:00:00"]
["79.",{"$f":"B179","v":"POVAŽANEC"},"Martin","9.B","00:04:29.200",null,{"$f":"G179","v":"Turnov   11.05.23"},632.8136700271175,null,{"$f":"J179","v":"00:04:07.770"},"00:00:00","00:00:00"]
["80.",{"$f":"B180","v":"RICHTER"},"Jakub","9.B","00:00:00",null,{"$f":"G180","v":0},0,null,{"$f":"J180","v":"00:04:39.840"},"00:00:00","00:00:00"]
["81.",{"$f":"B181","v":"ROZUMEK"},"Adam","9.B","00:00:00",null,{"$f":"G181","v":0},0,null,{"$f":"J181","v":"00:04:45.200"},"00:00:00","00:00:00"]
["82.",{"$f":"B182","v":"VALENTA"},"František","9.B","00:00:00",null,{"$f":"G182","v":0},0,null,{"$f":"J182","v":"00:04:34.860"},"00:00:00","00:00:00"]
["83.",{"$f":"B183","v":"ZAPLATÍLEK"},"Josef","9.B","00:00:00",null,{"$f":"G183","v":0},0,null,{"$f":"J183","v":"00:04:00.980"},"00:00:00","00:00:00"]
[]
[]
[]
[]
[]
[]
[]
[]
[]
[]
[]
[]
[]
[]
[null,"HONCŮ","Filip","6.A",null,null,null,{"$f":"IF(E101=0,0,(100 - 313216 / E101 + 3453830 / E101*2 - 169860000 / E101*3 + 321980000/ E101*4)/400000000+3)","v":0}]
[null,"JÍLEK","Lukáš","6.A",null,null,null,0]
[null,"KUČERA","Tadeáš","6.A","00:04:13.760",null,"Turnov   16.05.23",671.13461525630532]
[null,"ROZUMEK","Lukáš","6.A",null,null,null,0]
[null,"ŘEHOŘEK","Marek","6.A",null,null,null,0]
[null,"ŘÍHA","Tadeáš","6.A",null,null,null,0]
[null,"SKRBEK","Richard","6.A",null,null,null,0]
[null,"ŠIMEK","Erik","6.A",null,null,null,0]
[null,"ŠÍR","Jan","6.A",null,null,null,0]
[null,"ŠÍR","Stanislav","6.A",null,null,null,0]
[null,"ŠPINAR","František","6.A",null,null,null,0]
[null,"TOTH","Mikuláš","6.A",null,null,null,0]
[null,"WEISZLEMLEIN","Adam","6.A",null,null,null,0]
[null,"ČERNÝ","Filip","6.B",null,null,null,0]
[null,"GINGAL","Patrik","6.B",null,null,null,0]
[null,"HLAVÁCEK","Josef","6.B",null,null,null,0]
[null,"KHUDA","Ivan","6.B",null,null,null,0]
[null,"KRESAN","Matěj","6.B",null,null,null,0]
[null,"RYCHTR","Vojtěch","6.B",null,null,null,0]
[null,"ŠTAJER","David","6.B",null,null,null,0]
[null,"TKACHUK","Dzvenyslav","6.B",null,null,null,0]
[null,"VELIKOVSKÝ","Dominik","6.B",null,null,null,0]
[null,"EXNER","Tomáš","7.A","00:05:30.390",null,"Jilemnice  29.05.23",516.16880046792426,null,"00:06:05.110"]
[null,"JANATA","Denis","7.A","00:05:57.410",null,"Jilemnice  29.05.23",477.37352058798729,null,"00:05:37.770"]
[null,"JINDŘIŠEK","Alex Jiří","7.A",null,null,null,0,null,"00:05:50.550"]
[null,"KAZLEPKA","Miroslav","7.A"]
[null,"MARŠÁLEK","Ondřej","7.A","00:05:16.140",null,"Jilemnice  29.05.23",{"$f":"IF(E127=0,0,(100 - 313216 / E127 + 3453830 / E127*2 - 169860000 / E127*3 + 321980000/ E127*4)/400000000+3)","v":539.29986709380341},null,"00:05:29.220"]
[null,"MLATEČEK","Patrik","7.A","00:05:20.750",null,"Jilemnice  29.05.23",531.59186277221363,null,"00:05:47.140"]
[null,"SCHOLZ","Matyáš","7.A",null,null,null,0,null,"00:06:27.230"]
[null,"TOMÁŠ","Jakub","7.A","00:04:18.490",null,"Jilemnice  29.05.23",658.90870040861341,null,"00:04:08.320"]
[null,"VÁCLAVÍK","Jan","7.A","00:04:09.630",null,"Turnov   16.05.23",682.1885589328507,null,"00:04:22.770"]
[null,"VEČEŘA","David","7.A","00:05:10.840",null,"Jilemnice  29.05.23",548.44408693125081,null,"00:05:08.560"]
[null,"VYBÍRAL","Radim","7.A","00:03:51.220",null,"Jilemnice  29.05.23",736.26632627716003,null,"00:03:37.520"]
[null,"BERISHA","David","7.B",null,null,null,0,null,"00:10:22.160"]
[null,"EFENBERK","Šimon","7.B","00:04:58.020",null,"Jilemnice  29.05.23",571.90759002249843,null,"00:05:31.070"]
[null,"FEJKL","Antonín","7.B","00:03:34.040",null,"Jilemnice  05.06.23",795.1222199472528,null,"00:03:57.680"]
[null,"GOTTSTEIN","Matouš","7.B","00:03:10.250",null,"Jilemnice  29.05.23",894.17392878613657,null,"00:03:20.260"]
[null,"MAŘAS","Dominik","7.B","00:04:22.160",null,"Jilemnice  29.05.23",649.72657907209339,null,"00:07:02.110"]
[null,"POVAŽANEC","Lukáš","7.B","00:04:51.040",null,"Jilemnice  29.05.23",585.55167666561294,null,"00:05:26.550"]
[null,"VANCL","Jakub","7.B","00:05:19.210",null,"Jilemnice  29.05.23",534.14200677861754,null,"00:05:08.040"]
[null,"VANCL","Miroslav","7.B","00:07:16.920",null,"Jilemnice  29.05.23",391.0477890992172,null,"00:07:26.110"]
[null,"VOTOČEK","Michal","7.B","00:04:51.610",null,"Jilemnice  29.05.23",584.41298301465145,null,"00:05:26.920"]
[null,"DEMČUK","Ilja","8.A","00:04:33.520",null,"Jilemnice  29.05.23",622.86633508474711,null,"00:04:08.480"]
[null,"FAISTAUER","Kryštof","8.A","00:03:54.210",null,"Jilemnice  29.05.23",726.90521311025361,null,"00:04:01.820"]
[null,"FRK","Matyáš","8.A",null,null,null,0,null,"00:07:03.570"]
[null,"HUBÁLOVSKÝ","Marek","8.A","00:04:19.620",null,"Jilemnice  29.05.23",656.05384781182113,null,"00:04:33.040"]
[null,"MAŤÁTKO","Jakub","8.A",null,null,null,0]
[null,"MERY","Luboš","8.A","00:05:31.270",null,"Jilemnice  29.05.23",514.80559660342772,null,"00:04:45.950"]
[null,"NOVOTNÝ","Matěj","8.A","00:05:34.810",null,"Jilemnice  29.05.23",509.39419368508248,null,"00:06:27.700"]
[null,"ŘEHOŘEK","Vojtěch","8.A","00:04:22.480",null,"Jilemnice  29.05.23",648.93812850358131,null,"00:04:56.860"]
[null,"ŠÍR","Matyáš","8.A",null,null,null,0,null,"00:04:37.540"]
[null,"TORÁČ","Tomáš","8.A",null,null,null,0,null,"00:08:31.860"]
[null,"VÁCLAVÍK","Ondřej","8.A","00:03:38.680",null,"Jilemnice  29.05.23",778.31479768918064,null,"00:04:04.290"]
[null,"AUERSWALD","Daniel","8.B",null,null,null,0,null,"00:04:33.760"]
[null,"BOUKAL","Jakub","8.B",null,null,null,0]
[null,"BUDÍN","Martin","8.B","00:03:20.900",null,"Jilemnice  05.06.23",846.93150798519162,null,"00:03:40.660"]
[null,"DVOŘÁK","Dominik","8.B","00:04:46.920",null,"Jilemnice  29.05.23",593.91677114084064]
[null,"FIŠERA","Vojtěch","8.B","00:04:43.630",null,"Jilemnice  29.05.23",600.77118067520178,null,"00:04:36.060"]
[null,"JINDŘIŠEK","Vít","8.B","00:03:07.980",null,"Jilemnice  29.05.23",{"$f":"IF(E159=0,0,(100 - 313216 / E159 + 3453830 / E159*2 - 169860000 / E159*3 + 321980000/ E159*4)/400000000+3)","v":904.93552479516416},null,"00:03:18.470"]
[null,"JIROUŠ","Matouš","8.B",null,null,null,0]
[null,"KERLE","Marek","8.B","00:03:36.620",null,"Jilemnice  29.05.23",785.68784026477238,null,"00:03:57.050"]
[null,"LUKEŠ","Jakub","8.B","00:03:28.410",null,"Jilemnice  29.05.23",816.52065618781489,null,"00:03:31.960"]
[null,"OTT","Matyáš","8.B","00:03:20.680",null,"Jilemnice  29.05.23",847.85668703493104,null,"00:03:24.090"]
[null,"POKORNÝ","Matyáš","8.B","00:03:26.940",null,"Turnov   16.05.23",822.2995068896056,null,"00:03:14.690"]
[null,"POLÁČEK","Matyáš","8.B","00:05:19.800",null,"Jilemnice  29.05.23",533.1621012631332]
[null,"ULLMAN","Šimon","8.B","00:05:06.060",null,"Jilemnice  29.05.23",556.96275233782603,null,"00:04:09.990"]
[null,"VALENTA","Jakub","8.B","00:03:51.850",null,"Turnov   16.05.23",734.27384068131335,null,"00:03:36.140"]
[null,"VRBATA","Dominik","8.B","00:03:57.340",null,"Jilemnice  29.05.23",717.35847292211588,null,"00:04:05.640"]
[null,"FEJKL","Jan","9.A","00:03:35.900",null,"Turnov   13.09.22",788.29800814254304,null,"00:03:31.980"]
[null,"KOTYK","Tadeáš","9.A",null,null,null,0,null,"00:08:13.460"]
[null,"KRAUSE","Tadeáš","9.A","00:03:12.100",null,"Turnov   11.05.23",885.59156664250395,null,"00:03:27"]
[null,"LEŠÁK","Martin","9.A",null,null,null,0,null,"00:04:54.750"]
[null,"NECHANICKÝ","David","9.A","00:03:43.500",null,"Turnov   13.09.22",761.59436223657713,null,"00:03:56"]
[null,"ŘEHOŘEK","Jan","9.A",null,null,null,0,null,"00:04:13.920"]
[null,"SOUKUP","Ondřej","9.A",null,null,null,0]
[null,"SPANILÝ","David","9.A","00:03:28.500",null,"Turnov   13.09.22",816.16949619244599,null,"00:03:37"]
[null,"ČERNÝ","Michal","9.B",null,null,null,0,null,"00:04:56.460"]
[null,"DOLEJŠÍ","David","9.B",null,null,null,0,null,"00:03:58"]
[null,"POVAŽANEC","Martin","9.B","00:04:29.200",null,"Turnov   11.05.23",632.8136700271175,null,"00:04:07.770"]
[null,"RICHTER","Jakub","9.B",null,null,null,0,null,"00:04:39.840"]
[null,"ROZUMEK","Adam","9.B",null,null,null,0,null,"00:04:45.200"]
[null,"VALENTA","František","9.B",null,null,null,0,null,"00:04:34.860"]
[null,"ZAPLATÍLEK","Josef","9.B",null,null,null,0,null,"00:04:00.980"]

{"sheet":"DÁLKA","index":9,"n_rows":183,"n_cols":12,"rows_kept":183,"cut":false,"hidden":false,"merged":[]}
[null,null,"VÝKONY  2022 - 2023",null,null,null,"DÁLKA","CHLAPCI  6. -  9.  ROČ."]
[null,"stav  k ",{"$f":"TODAY()","v":"2023-06-26"},null,null,null,null,null,null,"21 - 22","20 - 21","19  - 20"]
[]
["1.",{"$f":"B101","v":"HONCŮ"},{"$f":"C101","v":"Filip"},"6.A",302,null,"Jilemnice  16.06.23",558.71399999999994,null,0,0,0]
["2.",{"$f":"B102","v":"JÍLEK"},"Lukáš","6.A",0,null,{"$f":"G102","v":0},0,null,{"$f":"J102","v":0},0,0]
["3.",{"$f":"B103","v":"KUČERA"},"Tadeáš","6.A",308,null,{"$f":"G103","v":"Jilemnice  16.06.23"},567.60599999999999,null,{"$f":"J103","v":0},0,0]
["4.",{"$f":"B104","v":"ROZUMEK"},"Lukáš","6.A",225,null,{"$f":"G104","v":"Jilemnice  16.06.23"},444.6,null,{"$f":"J104","v":0},0,0]
["5.",{"$f":"B105","v":"ŘEHOŘEK"},"Marek","6.A",0,null,{"$f":"G105","v":0},0,null,{"$f":"J105","v":0},0,0]
["6.",{"$f":"B106","v":"ŘÍHA"},"Tadeáš","6.A",403,null,{"$f":"G106","v":"Jilemnice  16.06.23"},708.39599999999996,null,{"$f":"J106","v":0},0,0]
["7.",{"$f":"B107","v":"SKRBEK"},"Richard","6.A",317,null,{"$f":"G107","v":"Jilemnice  16.06.23"},580.94399999999996,null,{"$f":"J107","v":0},0,0]
["8.",{"$f":"B108","v":"ŠIMEK"},"Erik","6.A",0,null,{"$f":"G108","v":0},0,null,{"$f":"J108","v":0},0,0]
["9.",{"$f":"B109","v":"ŠÍR"},"Jan","6.A",319,null,{"$f":"G109","v":"Jilemnice  16.06.23"},583.90800000000002,null,{"$f":"J109","v":0},0,0]
["10.",{"$f":"B110","v":"ŠÍR"},"Stanislav","6.A",0,null,{"$f":"G110","v":0},0,null,{"$f":"J110","v":0},0,0]
["11.",{"$f":"B111","v":"ŠPINAR"},"František","6.A",262,null,{"$f":"G111","v":"Jilemnice  16.06.23"},499.43399999999997,null,{"$f":"J111","v":0},0,0]
["12.",{"$f":"B112","v":"TOTH"},"Mikuláš","6.A",0,null,{"$f":"G112","v":0},0,null,{"$f":"J112","v":0},0,0]
["13.",{"$f":"B113","v":"WEISZLEMLEIN"},"Adam","6.A",240,null,{"$f":"G113","v":"Jilemnice  16.06.23"},466.83,null,{"$f":"J113","v":0},0,0]
["14.",{"$f":"B114","v":"ČERNÝ"},"Filip","6.B",0,null,{"$f":"G114","v":0},0,null,{"$f":"J114","v":0},0,0]
["15.",{"$f":"B115","v":"GINGAL"},"Patrik","6.B",0,null,{"$f":"G115","v":0},0,null,{"$f":"J115","v":0},0,0]
["16.",{"$f":"B116","v":"HLAVÁČEK"},"Josef","6.B",384,null,{"$f":"G116","v":"Turnov   16.05.23"},680.23799999999994,null,{"$f":"J116","v":0},0,0]
["17.",{"$f":"B117","v":"KHUDA"},"Ivan","6.B",0,null,{"$f":"G117","v":0},0,null,{"$f":"J117","v":0},0,0]
["18.",{"$f":"B118","v":"KRESAN"},"Matěj","6.B",0,null,{"$f":"G118","v":0},0,null,{"$f":"J118","v":0},0,0]
["19.",{"$f":"B119","v":"RYCHTR"},"Vojtěch","6.B",0,null,{"$f":"G119","v":0},0,null,{"$f":"J119","v":0},0,0]
["20.",{"$f":"B120","v":"ŠTAJER"},"David","6.B",0,null,{"$f":"G120","v":0},0,null,{"$f":"J120","v":0},0,0]
["21.",{"$f":"B121","v":"TKACHUK"},"Dzvenyslav","6.B",0,null,{"$f":"G121","v":0},0,null,{"$f":"J121","v":0},0,0]
["22.",{"$f":"B122","v":"VELIKOVSKÝ"},"Dominik","6.B",0,null,{"$f":"G122","v":0},0,null,{"$f":"J122","v":0},0,0]
["23.",{"$f":"B123","v":"EXNER"},"Tomáš","7.A",382,null,{"$f":"G123","v":"Jilemnice  31.10.22"},677.274,null,{"$f":"J123","v":409},0,0]
["24.",{"$f":"B124","v":"JANATA"},"Denis","7.A",375,null,{"$f":"G124","v":"Jilemnice  31.10.22"},666.9,null,{"$f":"J124","v":331},0,0]
["25.",{"$f":"B125","v":"JINDŘIŠEK"},"Alex Jiří","7.A",361,null,{"$f":"G125","v":"Jilemnice  31.10.22"},646.15200000000004,null,{"$f":"J125","v":310},0,0]
["26.",{"$f":"B126","v":"KAZLEPKA"},"Miroslav","7.A",0,null,{"$f":"G126","v":""},0,null,{"$f":"J126","v":0},0,0]
["27.",{"$f":"B127","v":"MARŠÁLEK"},"Ondřej","7.A",270,null,{"$f":"G127","v":"Jilemnice  31.10.22"},511.29,null,{"$f":"J127","v":283},0,0]
["28.",{"$f":"B128","v":"MLATEČEK"},"Patrik","7.A",361,null,{"$f":"G128","v":"Jilemnice  03.05.23"},646.15200000000004,null,{"$f":"J128","v":262},0,0]
["29.",{"$f":"B129","v":"SCHOLZ"},"Matyáš","7.A",370,null,{"$f":"G129","v":"Jilemnice  03.05.23"},659.49,null,{"$f":"J129","v":313},0,0]
["30.",{"$f":"B130","v":"TOMÁŠ"},"Jakub","7.A",315,null,{"$f":"G130","v":"Jilemnice  31.10.22"},577.98,null,{"$f":"J130","v":345},0,0]
["31.",{"$f":"B131","v":"VÁCLAVÍK"},"Jan","7.A",359,null,{"$f":"G131","v":"Turnov   16.05.23"},643.18799999999999,null,{"$f":"J131","v":314},0,0]
["32.",{"$f":"B132","v":"VEČEŘA"},"David","7.A",330,null,{"$f":"G132","v":"Jilemnice  31.10.22"},600.21,null,{"$f":"J132","v":262},0,0]
["33.",{"$f":"B133","v":"VYBÍRAL"},"Radim","7.A",445,null,{"$f":"G133","v":"Jilemnice  03.05.23"},770.64,null,{"$f":"J133","v":384},0,0]
["34.",{"$f":"B134","v":"BERISHA"},"David","7.B",0,null,{"$f":"G134","v":0},0,null,{"$f":"J134","v":190},0,0]
["35.",{"$f":"B135","v":"EFENBERK"},"Šimon","7.B",340,null,{"$f":"G135","v":"Jilemnice  03.05.23"},615.03,null,{"$f":"J135","v":283},0,0]
["36.",{"$f":"B136","v":"FEJKL"},"Antonín","7.B",475,null,{"$f":"G136","v":"Jilemnice  03.05.23"},815.1,null,{"$f":"J136","v":375},0,0]
["37.",{"$f":"B137","v":"GOTTSTEIN"},"Matouš","7.B",465,null,{"$f":"G137","v":"Jilemnice  03.05.23"},800.28,null,{"$f":"J137","v":417},0,0]
["38.",{"$f":"B138","v":"MAŘAS"},"Dominik","7.B",310,null,{"$f":"G138","v":"Jilemnice  03.05.23"},570.57000000000005,null,{"$f":"J138","v":262},293,0]
["39.",{"$f":"B139","v":"POVAŽANEC"},"Lukáš","7.B",351,null,{"$f":"G139","v":"Jilemnice  29.05.23"},631.33199999999999,null,{"$f":"J139","v":321},0,0]
["40.",{"$f":"B140","v":"VANCL"},"Jakub","7.B",287,null,{"$f":"G140","v":"Jilemnice  31.10.22"},536.48400000000004,null,{"$f":"J140","v":232},0,0]
["41.",{"$f":"B141","v":"VANCL"},"Miroslav","7.B",352,null,{"$f":"G141","v":"Jilemnice  31.10.22"},632.81399999999996,null,{"$f":"J141","v":296},0,0]
["42.",{"$f":"B142","v":"VOTOČEK"},"Michal","7.B",362,null,{"$f":"G142","v":"Jilemnice  31.10.22"},647.63400000000001,null,{"$f":"J142","v":249},0,0]
["43.",{"$f":"B143","v":"DEMČUK"},"Ilja","8.A",373,null,{"$f":"G143","v":"Jilemnice  31.10.22"},663.93600000000004,null,{"$f":"J143","v":367},311,0]
["44.",{"$f":"B144","v":"FAISTAUER"},"Kryštof","8.A",454,null,{"$f":"G144","v":"Jilemnice  31.10.22"},783.97799999999995,null,{"$f":"J144","v":380},366,0]
["45.",{"$f":"B145","v":"FRK"},"Matyáš","8.A",359,null,{"$f":"G145","v":"Jilemnice  19.05.23"},643.18799999999999,null,{"$f":"J145","v":292},282,0]
["46.",{"$f":"B146","v":"HUBÁLOVSKÝ"},"Marek","8.A",419,null,{"$f":"G146","v":"Jilemnice  19.05.23"},732.10799999999995,null,{"$f":"J146","v":326},383,0]
["47.",{"$f":"B147","v":"MAŤÁTKO"},"Jakub","8.A",0,null,{"$f":"G147","v":0},0,null,{"$f":"J147","v":0},0,0]
["48.",{"$f":"B148","v":"MERY"},"Luboš","8.A",323,null,{"$f":"G148","v":"Jilemnice  31.10.22"},589.83600000000001,null,{"$f":"J148","v":322},0,0]
["49.",{"$f":"B149","v":"NOVOTNÝ"},"Matěj","8.A",315,null,{"$f":"G149","v":"Jilemnice  19.05.23"},577.98,null,{"$f":"J149","v":291},281,0]
["50.",{"$f":"B150","v":"ŘEHOŘEK"},"Vojtěch","8.A",375,null,{"$f":"G150","v":"Jilemnice  19.05.23"},666.9,null,{"$f":"J150","v":351},296,0]
["51.",{"$f":"B151","v":"ŠÍR"},"Matyáš","8.A",341,null,{"$f":"G151","v":"Jilemnice  19.05.23"},616.51199999999994,null,{"$f":"J151","v":293},283,0]
["52.",{"$f":"B152","v":"TORÁČ"},"Tomáš","8.A",0,null,{"$f":"G152","v":0},0,null,{"$f":"J152","v":184},0,0]
["53.",{"$f":"B153","v":"VÁCLAVÍK"},"Ondřej","8.A",438,null,{"$f":"G153","v":"Jilemnice  19.05.23"},760.26599999999996,null,{"$f":"J153","v":394},309,0]
["54.",{"$f":"B154","v":"AUERSWALD"},"Daniel","8.B",388,null,{"$f":"G154","v":"Jilemnice  31.10.22"},686.16599999999994,null,{"$f":"J154","v":380},348,0]
["55.",{"$f":"B155","v":"BOUKAL"},"Jakub","8.B",0,null,{"$f":"G155","v":0},0,null,{"$f":"J155","v":0},245,0]
["56.",{"$f":"B156","v":"BUDÍN"},"Martin","8.B",420,null,{"$f":"G156","v":"Jilemnice  19.05.23"},733.59,null,{"$f":"J156","v":333},327,0]
["57.",{"$f":"B157","v":"DVOŘÁK"},"Dominik","8.B",355,null,{"$f":"G157","v":"Jilemnice  19.05.23"},637.26,null,{"$f":"J157","v":291},247,0]
["58.",{"$f":"B158","v":"FIŠERA"},"Vojtěch","8.B",304,null,{"$f":"G158","v":"Jilemnice  31.10.22"},561.678,null,{"$f":"J158","v":302},323,0]
["59.",{"$f":"B159","v":"JINDŘIŠEK"},"Vít","8.B",493,null,{"$f":"G159","v":"Jilemnice  19.05.23"},841.77599999999995,null,{"$f":"J159","v":428},381,0]
["60.",{"$f":"B160","v":"JIROUŠ"},"Matouš","8.B",392,null,{"$f":"G160","v":"Jilemnice  31.10.22"},692.09399999999994,null,{"$f":"J160","v":381},356,0]
["61.",{"$f":"B161","v":"KERLE"},"Marek","8.B",472,null,{"$f":"G161","v":"Jilemnice  12.06.23"},810.654,null,{"$f":"J161","v":433},321,0]
["62.",{"$f":"B162","v":"LUKEŠ"},"Jakub","8.B",452,null,{"$f":"G162","v":"Jilemnice  19.05.23"},781.01400000000001,null,{"$f":"J162","v":423},304,0]
["63.",{"$f":"B163","v":"OTT"},"Matyáš","8.B",440,null,{"$f":"G163","v":"Jilemnice  19.05.23"},763.23,null,{"$f":"J163","v":392},307,0]
["64.",{"$f":"B164","v":"POKORNÝ"},"Matyáš","8.B",454,null,{"$f":"G164","v":"Turnov   16.05.23"},783.97799999999995,null,{"$f":"J164","v":445},0,0]
["65.",{"$f":"B165","v":"POLÁČEK"},"Matyáš","8.B",328,null,{"$f":"G165","v":"Jilemnice  19.05.23"},597.24599999999998,null,{"$f":"J165","v":299},282,0]
["66.",{"$f":"B166","v":"ULLMAN"},"Šimon","8.B",466,null,{"$f":"G166","v":"Jilemnice  19.05.23"},801.76199999999994,null,{"$f":"J166","v":348},353,0]
["67.",{"$f":"B167","v":"VALENTA"},"Jakub","8.B",407,null,{"$f":"G167","v":"Jilemnice  31.10.22"},714.32399999999996,null,{"$f":"J167","v":0},0,0]
["68.",{"$f":"B168","v":"VRBATA"},"Dominik","8.B",0,null,{"$f":"G168","v":0},0,null,{"$f":"J168","v":375},339,0]
["69.",{"$f":"B169","v":"FEJKL"},"Jan","9.A",521,null,{"$f":"G169","v":"Jilemnice  03.05.23"},883.27199999999993,null,{"$f":"J169","v":464},465,389]
["70.",{"$f":"B170","v":"KOTYK"},"Tadeáš","9.A",374,null,{"$f":"G170","v":"Jilemnice  03.05.23"},665.41800000000001,null,{"$f":"J170","v":287},296,305]
["71.",{"$f":"B171","v":"KRAUSE"},"Tadeáš","9.A",468,null,{"$f":"G171","v":"Jilemnice  03.05.23"},804.726,null,{"$f":"J171","v":457},357,324]
["72.",{"$f":"B172","v":"LEŠÁK"},"Martin","9.A",374,null,{"$f":"G172","v":"Jilemnice  03.05.23"},665.41800000000001,null,{"$f":"J172","v":371},0,307]
["73.",{"$f":"B173","v":"NECHANICKÝ"},"David","9.A",542,null,{"$f":"G173","v":"Turnov   11.05.23"},914.39400000000001,null,{"$f":"J173","v":461},371,356]
["74.",{"$f":"B174","v":"ŘEHOŘEK"},"Jan","9.A",455,null,{"$f":"G174","v":"Jilemnice  03.05.23"},785.46,null,{"$f":"J174","v":412},362,333]
["75.",{"$f":"B175","v":"SOUKUP"},"Ondřej","9.A",422,null,{"$f":"G175","v":"Jilemnice  03.05.23"},736.55399999999997,null,{"$f":"J175","v":311},314,341]
["76.",{"$f":"B176","v":"SPANILÝ"},"David","9.A",495,null,{"$f":"G176","v":"Jilemnice  03.05.23"},844.74,null,{"$f":"J176","v":459},0,336]
["77.",{"$f":"B177","v":"ČERNÝ"},"Michal","9.B",387,null,{"$f":"G177","v":"Jilemnice  03.05.23"},684.68399999999997,null,{"$f":"J177","v":342},282,294]
["78.",{"$f":"B178","v":"DOLEJŠÍ"},"David","9.B",422,null,{"$f":"G178","v":"Jilemnice  03.05.23"},736.55399999999997,null,{"$f":"J178","v":402},303,287]
["79.",{"$f":"B179","v":"POVAŽANEC"},"Martin","9.B",475,null,{"$f":"G179","v":"Jilemnice  03.05.23"},815.1,null,{"$f":"J179","v":480},371,310]
["80.",{"$f":"B180","v":"RICHTER"},"Jakub","9.B",382,null,{"$f":"G180","v":"Jilemnice  03.05.23"},677.274,null,{"$f":"J180","v":322},0,266]
["81.",{"$f":"B181","v":"ROZUMEK"},"Adam","9.B",385,null,{"$f":"G181","v":"Jilemnice  03.05.23"},681.72,null,{"$f":"J181","v":315},273,238]
["82.",{"$f":"B182","v":"VALENTA"},"František","9.B",322,null,{"$f":"G182","v":"Jilemnice  03.05.23"},588.35400000000004,null,{"$f":"J182","v":335},273,271]
["83.",{"$f":"B183","v":"ZAPLATÍLEK"},"Josef","9.B",413,null,{"$f":"G183","v":"Jilemnice  03.05.23"},723.21600000000001,null,{"$f":"J183","v":359},0,333]
[]
[]
[]
[]
[]
[]
[]
[]
[]
[]
[]
[]
[]
[]
[null,"HONCŮ","Filip","6.A",302,null,"Jilemnice  16.06.23",{"$f":"IF(E101=0,0,(E101+75)*1.482)","v":558.71399999999994}]
[null,"JÍLEK","Lukáš","6.A",null,null,null,0]
[null,"KUČERA","Tadeáš","6.A",308,null,"Jilemnice  16.06.23",567.60599999999999]
[null,"ROZUMEK","Lukáš","6.A",225,null,"Jilemnice  16.06.23",444.6]
[null,"ŘEHOŘEK","Marek","6.A",null,null,null,0]
[null,"ŘÍHA","Tadeáš","6.A",403,null,"Jilemnice  16.06.23",708.39599999999996]
[null,"SKRBEK","Richard","6.A",317,null,"Jilemnice  16.06.23",580.94399999999996]
[null,"ŠIMEK","Erik","6.A",null,null,null,0]
[null,"ŠÍR","Jan","6.A",319,null,"Jilemnice  16.06.23",583.90800000000002]
[null,"ŠÍR","Stanislav","6.A",null,null,null,0]
[null,"ŠPINAR","František","6.A",262,null,"Jilemnice  16.06.23",499.43399999999997]
[null,"TOTH","Mikuláš","6.A",null,null,null,0]
[null,"WEISZLEMLEIN","Adam","6.A",240,null,"Jilemnice  16.06.23",466.83]
[null,"ČERNÝ","Filip","6.B",null,null,null,0]
[null,"GINGAL","Patrik","6.B",null,null,null,0]
[null,"HLAVÁČEK","Josef","6.B",384,null,"Turnov   16.05.23",680.23799999999994]
[null,"KHUDA","Ivan","6.B",null,null,null,0]
[null,"KRESAN","Matěj","6.B",null,null,null,0]
[null,"RYCHTR","Vojtěch","6.B",null,null,null,0]
[null,"ŠTAJER","David","6.B",null,null,null,0]
[null,"TKACHUK","Dzvenyslav","6.B",null,null,null,0]
[null,"VELIKOVSKÝ","Dominik","6.B",null,null,null,0]
[null,"EXNER","Tomáš","7.A",382,null,"Jilemnice  31.10.22",677.274,null,409]
[null,"JANATA","Denis","7.A",375,null,"Jilemnice  31.10.22",666.9,null,331]
[null,"JINDŘIŠEK","Alex Jiří","7.A",361,null,"Jilemnice  31.10.22",646.15200000000004,null,310]
[null,"KAZLEPKA","Miroslav","7.A",null,null," ",0,null,0]
[null,"MARŠÁLEK","Ondřej","7.A",270,null,"Jilemnice  31.10.22",511.29,null,283]
[null,"MLATEČEK","Patrik","7.A",361,null,"Jilemnice  03.05.23",646.15200000000004,null,262]
[null,"SCHOLZ","Matyáš","7.A",370,null,"Jilemnice  03.05.23",659.49,null,313]
[null,"TOMÁŠ","Jakub","7.A",315,null,"Jilemnice  31.10.22",577.98,null,345]
[null,"VÁCLAVÍK","Jan","7.A",359,null,"Turnov   16.05.23",643.18799999999999,null,314]
[null,"VEČEŘA","David","7.A",330,null,"Jilemnice  31.10.22",600.21,null,262]
[null,"VYBÍRAL","Radim","7.A",445,null,"Jilemnice  03.05.23",{"$f":"IF(E133=0,0,(E133+75)*1.482)","v":770.64},null,384]
[null,"BERISHA","David","7.B",null,null,null,0,null,190]
[null,"EFENBERK","Šimon","7.B",340,null,"Jilemnice  03.05.23",615.03,null,283]
[null,"FEJKL","Antonín","7.B",475,null,"Jilemnice  03.05.23",815.1,null,375]
[null,"GOTTSTEIN","Matouš","7.B",465,null,"Jilemnice  03.05.23",800.28,null,417]
[null,"MAŘAS","Dominik","7.B",310,null,"Jilemnice  03.05.23",570.57000000000005,null,262,293]
[null,"POVAŽANEC","Lukáš","7.B",351,null,"Jilemnice  29.05.23",631.33199999999999,null,321]
[null,"VANCL","Jakub","7.B",287,null,"Jilemnice  31.10.22",536.48400000000004,null,232]
[null,"VANCL","Miroslav","7.B",352,null,"Jilemnice  31.10.22",632.81399999999996,null,296]
[null,"VOTOČEK","Michal","7.B",362,null,"Jilemnice  31.10.22",647.63400000000001,null,249]
[null,"DEMČUK","Ilja","8.A",373,null,"Jilemnice  31.10.22",663.93600000000004,null,367,311]
[null,"FAISTAUER","Kryštof","8.A",454,null,"Jilemnice  31.10.22",783.97799999999995,null,380,366]
[null,"FRK","Matyáš","8.A",359,null,"Jilemnice  19.05.23",643.18799999999999,null,292,282]
[null,"HUBÁLOVSKÝ","Marek","8.A",419,null,"Jilemnice  19.05.23",732.10799999999995,null,326,383]
[null,"MAŤÁTKO","Jakub","8.A",null,null,null,0]
[null,"MERY","Luboš","8.A",323,null,"Jilemnice  31.10.22",589.83600000000001,null,322]
[null,"NOVOTNÝ","Matěj","8.A",315,null,"Jilemnice  19.05.23",577.98,null,291,281]
[null,"ŘEHOŘEK","Vojtěch","8.A",375,null,"Jilemnice  19.05.23",666.9,null,351,296]
[null,"ŠÍR","Matyáš","8.A",341,null,"Jilemnice  19.05.23",616.51199999999994,null,293,283]
[null,"TORÁČ","Tomáš","8.A",null,null,null,0,null,184]
[null,"VÁCLAVÍK","Ondřej","8.A",438,null,"Jilemnice  19.05.23",760.26599999999996,null,394,309]
[null,"AUERSWALD","Daniel","8.B",388,null,"Jilemnice  31.10.22",686.16599999999994,null,380,348]
[null,"BOUKAL","Jakub","8.B",null,null,null,0,null,null,245]
[null,"BUDÍN","Martin","8.B",420,null,"Jilemnice  19.05.23",733.59,null,333,327]
[null,"DVOŘÁK","Dominik","8.B",355,null,"Jilemnice  19.05.23",637.26,null,291,247]
[null,"FIŠERA","Vojtěch","8.B",304,null,"Jilemnice  31.10.22",561.678,null,302,323]
[null,"JINDŘIŠEK","Vít","8.B",493,null,"Jilemnice  19.05.23",841.77599999999995,null,428,381]
[null,"JIROUŠ","Matouš","8.B",392,null,"Jilemnice  31.10.22",692.09399999999994,null,381,356]
[null,"KERLE","Marek","8.B",472,null,"Jilemnice  12.06.23",810.654,null,433,321]
[null,"LUKEŠ","Jakub","8.B",452,null,"Jilemnice  19.05.23",781.01400000000001,null,423,304]
[null,"OTT","Matyáš","8.B",440,null,"Jilemnice  19.05.23",763.23,null,392,307]
[null,"POKORNÝ","Matyáš","8.B",454,null,"Turnov   16.05.23",783.97799999999995,null,445]
[null,"POLÁČEK","Matyáš","8.B",328,null,"Jilemnice  19.05.23",{"$f":"IF(E165=0,0,(E165+75)*1.482)","v":597.24599999999998},null,299,282]
[null,"ULLMAN","Šimon","8.B",466,null,"Jilemnice  19.05.23",801.76199999999994,null,348,353]
[null,"VALENTA","Jakub","8.B",407,null,"Jilemnice  31.10.22",714.32399999999996]
[null,"VRBATA","Dominik","8.B",null,null,null,0,null,375,339]
[null,"FEJKL","Jan","9.A",521,null,"Jilemnice  03.05.23",883.27199999999993,null,464,465,389]
[null,"KOTYK","Tadeáš","9.A",374,null,"Jilemnice  03.05.23",665.41800000000001,null,287,296,305]
[null,"KRAUSE","Tadeáš","9.A",468,null,"Jilemnice  03.05.23",804.726,null,457,357,324]
[null,"LEŠÁK","Martin","9.A",374,null,"Jilemnice  03.05.23",665.41800000000001,null,371,null,307]
[null,"NECHANICKÝ","David","9.A",542,null,"Turnov   11.05.23",914.39400000000001,null,461,371,356]
[null,"ŘEHOŘEK","Jan","9.A",455,null,"Jilemnice  03.05.23",785.46,null,412,362,333]
[null,"SOUKUP","Ondřej","9.A",422,null,"Jilemnice  03.05.23",736.55399999999997,null,311,314,341]
[null,"SPANILÝ","David","9.A",495,null,"Jilemnice  03.05.23",844.74,null,459,null,336]
[null,"ČERNÝ","Michal","9.B",387,null,"Jilemnice  03.05.23",684.68399999999997,null,342,282,294]
[null,"DOLEJŠÍ","David","9.B",422,null,"Jilemnice  03.05.23",736.55399999999997,null,402,303,287]
[null,"POVAŽANEC","Martin","9.B",475,null,"Jilemnice  03.05.23",815.1,null,480,371,310]
[null,"RICHTER","Jakub","9.B",382,null,"Jilemnice  03.05.23",677.274,null,322,null,266]
[null,"ROZUMEK","Adam","9.B",385,null,"Jilemnice  03.05.23",681.72,null,315,273,238]
[null,"VALENTA","František","9.B",322,null,"Jilemnice  03.05.23",588.35400000000004,null,335,273,271]
[null,"ZAPLATÍLEK","Josef","9.B",413,null,"Jilemnice  03.05.23",723.21600000000001,null,359,null,333]

{"sheet":"VÝŠKA","index":10,"n_rows":183,"n_cols":12,"rows_kept":183,"cut":false,"hidden":false,"merged":[]}
[null,null,"VÝKONY  2022 - 2023",null,null,null,"VÝŠKA","CHLAPCI  6. -  9.  ROČ."]
[null,"stav  k ",{"$f":"TODAY()","v":"2023-06-26"},null,null,null,null,null,null,"21 - 22","20 - 21","19  - 20"]
[]
["1.",{"$f":"B101","v":"HONCŮ"},{"$f":"C101","v":"Filip"},"6.A",95," ","Jilemnice  12.06.23",525.40000000000009,null,0,0,0]
["2.",{"$f":"B102","v":"JÍLEK"},"Lukáš","6.A",0," ",{"$f":"G102","v":0},0,null,{"$f":"J102","v":0},0,0]
["3.",{"$f":"B103","v":"KUČERA"},"Tadeáš","6.A",95," ",{"$f":"G103","v":"Jilemnice  12.06.23"},525.40000000000009,null,{"$f":"J103","v":0},0,0]
["4.",{"$f":"B104","v":"ROZUMEK"},"Lukáš","6.A",0," ",{"$f":"G104","v":0},0,null,{"$f":"J104","v":0},0,0]
["5.",{"$f":"B105","v":"ŘEHOŘEK"},"Marek","6.A",80," ",{"$f":"G105","v":"Jilemnice  05.06.23"},439.6,null,{"$f":"J105","v":0},0,0]
["6.",{"$f":"B106","v":"ŘÍHA"},"Tadeáš","6.A",115," ",{"$f":"G106","v":"Jilemnice  12.06.23"},639.80000000000007,null,{"$f":"J106","v":0},0,0]
["7.",{"$f":"B107","v":"SKRBEK"},"Richard","6.A",85," ",{"$f":"G107","v":"Jilemnice  05.06.23"},468.2000000000001,null,{"$f":"J107","v":0},0,0]
["8.",{"$f":"B108","v":"ŠIMEK"},"Erik","6.A",125," ",{"$f":"G108","v":"Jilemnice  12.06.23"},697,null,{"$f":"J108","v":0},0,0]
["9.",{"$f":"B109","v":"ŠÍR"},"Jan","6.A",110," ",{"$f":"G109","v":"Jilemnice  05.06.23"},611.20000000000005,null,{"$f":"J109","v":0},0,0]
["10.",{"$f":"B110","v":"ŠÍR"},"Stanislav","6.A",95," ",{"$f":"G110","v":"Jilemnice  12.06.23"},525.40000000000009,null,{"$f":"J110","v":0},0,0]
["11.",{"$f":"B111","v":"ŠPINAR"},"František","6.A",95," ",{"$f":"G111","v":"Jilemnice  12.06.23"},525.40000000000009,null,{"$f":"J111","v":0},0,0]
["12.",{"$f":"B112","v":"TOTH"},"Mikuláš","6.A",95," ",{"$f":"G112","v":"Jilemnice  12.06.23"},525.40000000000009,null,{"$f":"J112","v":0},0,0]
["13.",{"$f":"B113","v":"WEISZLEMLEIN"},"Adam","6.A",0," ",{"$f":"G113","v":0},0,null,{"$f":"J113","v":0},0,0]
["14.",{"$f":"B114","v":"ČERNÝ"},"Filip","6.B",0," ",{"$f":"G114","v":0},0,null,{"$f":"J114","v":0},0,0]
["15.",{"$f":"B115","v":"GINGAL"},"Patrik","6.B",0," ",{"$f":"G115","v":0},0,null,{"$f":"J115","v":0},0,0]
["16.",{"$f":"B116","v":"HLAVÁCEK"},"Josef","6.B",115," ",{"$f":"G116","v":"Jilemnice  12.06.23"},639.80000000000007,null,{"$f":"J116","v":0},0,0]
["17.",{"$f":"B117","v":"KHUDA"},"Ivan","6.B",85," ",{"$f":"G117","v":"Jilemnice  05.06.23"},468.2000000000001,null,{"$f":"J117","v":0},0,0]
["18.",{"$f":"B118","v":"KRESAN"},"Matěj","6.B",95," ",{"$f":"G118","v":"Jilemnice  12.06.23"},525.40000000000009,null,{"$f":"J118","v":0},0,0]
["19.",{"$f":"B119","v":"RYCHTR"},"Vojtěch","6.B",100," ",{"$f":"G119","v":"Jilemnice  12.06.23"},554.00000000000011,null,{"$f":"J119","v":0},0,0]
["20.",{"$f":"B120","v":"ŠTAJER"},"David","6.B",120," ",{"$f":"G120","v":"Jilemnice  12.06.23"},668.4,null,{"$f":"J120","v":0},0,0]
["21.",{"$f":"B121","v":"TKACHUK"},"Dzvenyslav","6.B",0," ",{"$f":"G121","v":0},0,null,{"$f":"J121","v":0},0,0]
["22.",{"$f":"B122","v":"VELIKOVSKÝ"},"Dominik","6.B",90," ",{"$f":"G122","v":"Jilemnice  12.06.23"},496.80000000000007,null,{"$f":"J122","v":0},0,0]
["23.",{"$f":"B123","v":"EXNER"},"Tomáš","7.A",110," ",{"$f":"G123","v":"Jilemnice  10.05.23"},611.20000000000005,null,{"$f":"J123","v":111},0,0]
["24.",{"$f":"B124","v":"JANATA"},"Denis","7.A",95," ",{"$f":"G124","v":"Jilemnice  10.05.23"},525.40000000000009,null,{"$f":"J124","v":103},0,0]
["25.",{"$f":"B125","v":"JINDŘIŠEK"},"Alex Jiří","7.A",0," ",{"$f":"G125","v":0},0,null,{"$f":"J125","v":93},0,0]
["26.",{"$f":"B126","v":"KAZLEPKA"},"Miroslav","7.A",0," ",{"$f":"G126","v":0},0,null,{"$f":"J126","v":0},0,0]
["27.",{"$f":"B127","v":"MARŠÁLEK"},"Ondřej","7.A",90," ",{"$f":"G127","v":"Jilemnice  10.05.23"},496.80000000000007,null,{"$f":"J127","v":103},0,0]
["28.",{"$f":"B128","v":"MLATEČEK"},"Patrik","7.A",105," ",{"$f":"G128","v":"Jilemnice  10.05.23"},582.60000000000014,null,{"$f":"J128","v":91},0,0]
["29.",{"$f":"B129","v":"SCHOLZ"},"Matyáš","7.A",110," ",{"$f":"G129","v":"Jilemnice  10.05.23"},611.20000000000005,null,{"$f":"J129","v":102},0,0]
["30.",{"$f":"B130","v":"TOMÁŠ"},"Jakub","7.A",115," ",{"$f":"G130","v":"Jilemnice  10.05.23"},639.80000000000007,null,{"$f":"J130","v":111},0,0]
["31.",{"$f":"B131","v":"VÁCLAVÍK"},"Jan","7.A",115," ",{"$f":"G131","v":"Jilemnice  10.05.23"},639.80000000000007,null,{"$f":"J131","v":108},0,0]
["32.",{"$f":"B132","v":"VEČEŘA"},"David","7.A",100," ",{"$f":"G132","v":"Jilemnice  10.05.23"},554.00000000000011,null,{"$f":"J132","v":93},0,0]
["33.",{"$f":"B133","v":"VYBÍRAL"},"Radim","7.A",122," ",{"$f":"G133","v":"Turnov   16.05.23"},679.84000000000015,null,{"$f":"J133","v":119},0,0]
["34.",{"$f":"B134","v":"BERISHA"},"David","7.B",0," ",{"$f":"G134","v":0},0,null,{"$f":"J134","v":71},0,0]
["35.",{"$f":"B135","v":"EFENBERK"},"Šimon","7.B",115," ",{"$f":"G135","v":"Jilemnice  10.05.23"},639.80000000000007,null,{"$f":"J135","v":102},0,0]
["36.",{"$f":"B136","v":"FEJKL"},"Antonín","7.B",147," ",{"$f":"G136","v":"Turnov   11.05.23"},822.84000000000015,null,{"$f":"J136","v":111},0,0]
["37.",{"$f":"B137","v":"GOTTSTEIN"},"Matouš","7.B",125," ",{"$f":"G137","v":"Jilemnice  10.05.23"},697,null,{"$f":"J137","v":123},0,0]
["38.",{"$f":"B138","v":"MAŘAS"},"Dominik","7.B",130," ",{"$f":"G138","v":"Jilemnice  10.05.23"},725.6,null,{"$f":"J138","v":110},0,0]
["39.",{"$f":"B139","v":"POVAŽANEC"},"Lukáš","7.B",0," ",{"$f":"G139","v":0},0,null,{"$f":"J139","v":105},0,0]
["40.",{"$f":"B140","v":"VANCL"},"Jakub","7.B",95," ",{"$f":"G140","v":"Jilemnice  10.05.23"},525.40000000000009,null,{"$f":"J140","v":91},0,0]
["41.",{"$f":"B141","v":"VANCL"},"Miroslav","7.B",90," ",{"$f":"G141","v":"Jilemnice  10.05.23"},496.80000000000007,null,{"$f":"J141","v":103},0,0]
["42.",{"$f":"B142","v":"VOTOČEK"},"Michal","7.B",0," ",{"$f":"G142","v":0},0,null,{"$f":"J142","v":102},0,0]
["43.",{"$f":"B143","v":"DEMČUK"},"Ilja","8.A",120," ",{"$f":"G143","v":"Jilemnice  12.05.23"},668.4,null,{"$f":"J143","v":120},80,0]
["44.",{"$f":"B144","v":"FAISTAUER"},"Kryštof","8.A",145," ",{"$f":"G144","v":"Jilemnice  12.05.23"},811.4,null,{"$f":"J144","v":130},80,0]
["45.",{"$f":"B145","v":"FRK"},"Matyáš","8.A",105," ",{"$f":"G145","v":"Jilemnice  12.05.23"},582.60000000000014,null,{"$f":"J145","v":0},75,0]
["46.",{"$f":"B146","v":"HUBÁLOVSKÝ"},"Marek","8.A",110," ",{"$f":"G146","v":"Jilemnice  12.05.23"},611.20000000000005,null,{"$f":"J146","v":115},80,0]
["47.",{"$f":"B147","v":"MAŤÁTKO"},"Jakub","8.A",100," ",{"$f":"G147","v":"Jilemnice  31.10.22"},554.00000000000011,null,{"$f":"J147","v":110},0,0]
["48.",{"$f":"B148","v":"MERY"},"Luboš","8.A",85," ",{"$f":"G148","v":"Jilemnice  12.05.23"},468.2000000000001,null,{"$f":"J148","v":0},70,0]
["49.",{"$f":"B149","v":"NOVOTNÝ"},"Matěj","8.A",95," ",{"$f":"G149","v":"Jilemnice  12.05.23"},525.40000000000009,null,{"$f":"J149","v":0},80,0]
["50.",{"$f":"B150","v":"ŘEHOŘEK"},"Vojtěch","8.A",0," ",{"$f":"G150","v":0},0,null,{"$f":"J150","v":110},0,0]
["51.",{"$f":"B151","v":"ŠÍR"},"Matyáš","8.A",105," ",{"$f":"G151","v":"Jilemnice  12.05.23"},582.60000000000014,null,{"$f":"J151","v":98},70,0]
["52.",{"$f":"B152","v":"TORÁČ"},"Tomáš","8.A",95," ",{"$f":"G152","v":"Jilemnice  31.10.22"},525.40000000000009,null,{"$f":"J152","v":90},0,0]
["53.",{"$f":"B153","v":"VÁCLAVÍK"},"Ondřej","8.A",120," ",{"$f":"G153","v":"Jilemnice  12.05.23"},668.4,null,{"$f":"J153","v":108},80,0]
["54.",{"$f":"B154","v":"AUERSWALD"},"Daniel","8.B",0," ",{"$f":"G154","v":0},0,null,{"$f":"J154","v":108},0,0]
["55.",{"$f":"B155","v":"BOUKAL"},"Jakub","8.B",0," ",{"$f":"G155","v":0},0,null,{"$f":"J155","v":0},0,0]
["56.",{"$f":"B156","v":"BUDÍN"},"Martin","8.B",115," ",{"$f":"G156","v":"Jilemnice  12.05.23"},639.80000000000007,null,{"$f":"J156","v":110},80,0]
["57.",{"$f":"B157","v":"DVOŘÁK"},"Dominik","8.B",105," ",{"$f":"G157","v":"Jilemnice  12.05.23"},582.60000000000014,null,{"$f":"J157","v":110},75,0]
["58.",{"$f":"B158","v":"FIŠERA"},"Vojtěch","8.B",105," ",{"$f":"G158","v":"Jilemnice  12.05.23"},582.60000000000014,null,{"$f":"J158","v":103},0,0]
["59.",{"$f":"B159","v":"JINDŘIŠEK"},"Vít","8.B",135," ",{"$f":"G159","v":"Jilemnice  12.05.23"},754.2,null,{"$f":"J159","v":136},80,0]
["60.",{"$f":"B160","v":"JIROUŠ"},"Matouš","8.B",0," ",{"$f":"G160","v":""},0,null,{"$f":"J160","v":108},80,0]
["61.",{"$f":"B161","v":"KERLE"},"Marek","8.B",150," ",{"$f":"G161","v":"Jilemnice  12.05.23"},840,null,{"$f":"J161","v":138},80,0]
["62.",{"$f":"B162","v":"LUKEŠ"},"Jakub","8.B",150," ",{"$f":"G162","v":"Jilemnice  12.05.23"},840,null,{"$f":"J162","v":146},75,0]
["63.",{"$f":"B163","v":"OTT"},"Matyáš","8.B",125," ",{"$f":"G163","v":"Turnov   13.09.22"},697,null,{"$f":"J163","v":125},80,0]
["64.",{"$f":"B164","v":"POKORNÝ"},"Matyáš","8.B",153," ",{"$f":"G164","v":"Jilemnice  12.05.23"},857.16000000000008,null,{"$f":"J164","v":135},80,0]
["65.",{"$f":"B165","v":"POLÁČEK"},"Matyáš","8.B",100," ",{"$f":"G165","v":"Jilemnice  12.05.23"},554.00000000000011,null,{"$f":"J165","v":98},75,0]
["66.",{"$f":"B166","v":"ULLMAN"},"Šimon","8.B",130," ",{"$f":"G166","v":"Jilemnice  12.05.23"},725.6,null,{"$f":"J166","v":120},80,0]
["67.",{"$f":"B167","v":"VALENTA"},"Jakub","8.B",140," ",{"$f":"G167","v":"Jilemnice  12.05.23"},782.80000000000007,null,{"$f":"J167","v":130},0,0]
["68.",{"$f":"B168","v":"VRBATA"},"Dominik","8.B",125," ",{"$f":"G168","v":"Jilemnice  12.05.23"},697,null,{"$f":"J168","v":108},80,0]
["69.",{"$f":"B169","v":"FEJKL"},"Jan","9.A",157," ",{"$f":"G169","v":"Turnov   11.05.23"},880.04000000000008,null,{"$f":"J169","v":145},115,115]
["70.",{"$f":"B170","v":"KOTYK"},"Tadeáš","9.A",115," ",{"$f":"G170","v":"Jilemnice  10.05.23"},639.80000000000007,null,{"$f":"J170","v":95},92,0]
["71.",{"$f":"B171","v":"KRAUSE"},"Tadeáš","9.A",155," ",{"$f":"G171","v":"Turnov   11.05.23"},868.6,null,{"$f":"J171","v":143},0,0]
["72.",{"$f":"B172","v":"LEŠÁK"},"Martin","9.A",130," ",{"$f":"G172","v":"Jilemnice  12.05.23"},725.6,null,{"$f":"J172","v":118},82,0]
["73.",{"$f":"B173","v":"NECHANICKÝ"},"David","9.A",141," ",{"$f":"G173","v":"Jilemnice  12.05.23"},788.5200000000001,null,{"$f":"J173","v":123},110,0]
["74.",{"$f":"B174","v":"ŘEHOŘEK"},"Jan","9.A",146," ",{"$f":"G174","v":"Jilemnice  12.05.23"},817.12000000000012,null,{"$f":"J174","v":139},115,105]
["75.",{"$f":"B175","v":"SOUKUP"},"Ondřej","9.A",141," ",{"$f":"G175","v":"Jilemnice  12.05.23"},788.5200000000001,null,{"$f":"J175","v":103},101,0]
["76.",{"$f":"B176","v":"SPANILÝ"},"David","9.A",141," ",{"$f":"G176","v":"Jilemnice  12.05.23"},788.5200000000001,null,{"$f":"J176","v":123},0,0]
["77.",{"$f":"B177","v":"ČERNÝ"},"Michal","9.B",120," ",{"$f":"G177","v":"Jilemnice  12.05.23"},668.4,null,{"$f":"J177","v":108},92,0]
["78.",{"$f":"B178","v":"DOLEJŠÍ"},"David","9.B",125," ",{"$f":"G178","v":"Jilemnice  10.05.23"},697,null,{"$f":"J178","v":118},92,0]
["79.",{"$f":"B179","v":"POVAŽANEC"},"Martin","9.B",140," ",{"$f":"G179","v":"Jilemnice  07.09.22"},782.80000000000007,null,{"$f":"J179","v":147},110,0]
["80.",{"$f":"B180","v":"RICHTER"},"Jakub","9.B",115," ",{"$f":"G180","v":"Jilemnice  12.05.23"},639.80000000000007,null,{"$f":"J180","v":98},0,0]
["81.",{"$f":"B181","v":"ROZUMEK"},"Adam","9.B",110," ",{"$f":"G181","v":"Jilemnice  07.09.22"},611.20000000000005,null,{"$f":"J181","v":103},0,0]
["82.",{"$f":"B182","v":"VALENTA"},"František","9.B",115," ",{"$f":"G182","v":"Jilemnice  07.09.22"},639.80000000000007,null,{"$f":"J182","v":113},0,0]
["83.",{"$f":"B183","v":"ZAPLATÍLEK"},"Josef","9.B",115," ",{"$f":"G183","v":"Jilemnice  07.09.22"},639.80000000000007,null,{"$f":"J183","v":130},0,0]
[]
[]
[]
[]
[]
[]
[]
[]
[]
[]
[]
[]
[]
[]
[null,"HONCŮ","Filip","6.A",95,null,"Jilemnice  12.06.23",{"$f":"IF(E101=0,0,(IF(E101>0,E101*4.4*1.3-18)))","v":525.40000000000009}]
[null,"JÍLEK","Lukáš","6.A",null,null,null,0]
[null,"KUČERA","Tadeáš","6.A",95,null,"Jilemnice  12.06.23",525.40000000000009]
[null,"ROZUMEK","Lukáš","6.A",null,null,null,0]
[null,"ŘEHOŘEK","Marek","6.A",80,null,"Jilemnice  05.06.23",439.6]
[null,"ŘÍHA","Tadeáš","6.A",115,null,"Jilemnice  12.06.23",639.80000000000007]
[null,"SKRBEK","Richard","6.A",85,null,"Jilemnice  05.06.23",468.2000000000001]
[null,"ŠIMEK","Erik","6.A",125,null,"Jilemnice  12.06.23",697]
[null,"ŠÍR","Jan","6.A",110,null,"Jilemnice  05.06.23",611.20000000000005]
[null,"ŠÍR","Stanislav","6.A",95,null,"Jilemnice  12.06.23",525.40000000000009]
[null,"ŠPINAR","František","6.A",95,null,"Jilemnice  12.06.23",525.40000000000009]
[null,"TOTH","Mikuláš","6.A",95,null,"Jilemnice  12.06.23",525.40000000000009]
[null,"WEISZLEMLEIN","Adam","6.A",null,null,null,0]
[null,"ČERNÝ","Filip","6.B",null,null,null,0]
[null,"GINGAL","Patrik","6.B",null,null,null,0]
[null,"HLAVÁCEK","Josef","6.B",115,null,"Jilemnice  12.06.23",639.80000000000007]
[null,"KHUDA","Ivan","6.B",85,null,"Jilemnice  05.06.23",468.2000000000001]
[null,"KRESAN","Matěj","6.B",95,null,"Jilemnice  12.06.23",525.40000000000009]
[null,"RYCHTR","Vojtěch","6.B",100,null,"Jilemnice  12.06.23",554.00000000000011]
[null,"ŠTAJER","David","6.B",120,null,"Jilemnice  12.06.23",668.4]
[null,"TKACHUK","Dzvenyslav","6.B",null,null,null,0]
[null,"VELIKOVSKÝ","Dominik","6.B",90,null,"Jilemnice  12.06.23",496.80000000000007]
[null,"EXNER","Tomáš","7.A",110,null,"Jilemnice  10.05.23",611.20000000000005,null,111]
[null,"JANATA","Denis","7.A",95,null,"Jilemnice  10.05.23",525.40000000000009,null,103]
[null,"JINDŘIŠEK","Alex Jiří","7.A",null,null,null,0,null,93]
[null,"KAZLEPKA","Miroslav","7.A"]
[null,"MARŠÁLEK","Ondřej","7.A",90,null,"Jilemnice  10.05.23",{"$f":"IF(E127=0,0,(IF(E127>0,E127*4.4*1.3-18)))","v":496.80000000000007},null,103]
[null,"MLATEČEK","Patrik","7.A",105,null,"Jilemnice  10.05.23",582.60000000000014,null,91]
[null,"SCHOLZ","Matyáš","7.A",110,null,"Jilemnice  10.05.23",611.20000000000005,null,102]
[null,"TOMÁŠ","Jakub","7.A",115,null,"Jilemnice  10.05.23",639.80000000000007,null,111]
[null,"VÁCLAVÍK","Jan","7.A",115,null,"Jilemnice  10.05.23",639.80000000000007,null,108]
[null,"VEČEŘA","David","7.A",100,null,"Jilemnice  10.05.23",554.00000000000011,null,93]
[null,"VYBÍRAL","Radim","7.A",122,null,"Turnov   16.05.23",679.84000000000015,null,119]
[null,"BERISHA","David","7.B",null,null,null,0,null,71]
[null,"EFENBERK","Šimon","7.B",115,null,"Jilemnice  10.05.23",639.80000000000007,null,102]
[null,"FEJKL","Antonín","7.B",147,null,"Turnov   11.05.23",822.84000000000015,null,111]
[null,"GOTTSTEIN","Matouš","7.B",125,null,"Jilemnice  10.05.23",697,null,123]
[null,"MAŘAS","Dominik","7.B",130,null,"Jilemnice  10.05.23",725.6,null,110]
[null,"POVAŽANEC","Lukáš","7.B",null,null,null,0,null,105]
[null,"VANCL","Jakub","7.B",95,null,"Jilemnice  10.05.23",525.40000000000009,null,91]
[null,"VANCL","Miroslav","7.B",90,null,"Jilemnice  10.05.23",496.80000000000007,null,103]
[null,"VOTOČEK","Michal","7.B",null,null,null,0,null,102]
[null,"DEMČUK","Ilja","8.A",120,null,"Jilemnice  12.05.23",668.4,null,120,80]
[null,"FAISTAUER","Kryštof","8.A",145,null,"Jilemnice  12.05.23",811.4,null,130,80]
[null,"FRK","Matyáš","8.A",105,null,"Jilemnice  12.05.23",582.60000000000014,null,null,75]
[null,"HUBÁLOVSKÝ","Marek","8.A",110,null,"Jilemnice  12.05.23",611.20000000000005,null,115,80]
[null,"MAŤÁTKO","Jakub","8.A",100,null,"Jilemnice  31.10.22",554.00000000000011,null,110]
[null,"MERY","Luboš","8.A",85,null,"Jilemnice  12.05.23",468.2000000000001,null,null,70]
[null,"NOVOTNÝ","Matěj","8.A",95,null,"Jilemnice  12.05.23",525.40000000000009,null,null,80]
[null,"ŘEHOŘEK","Vojtěch","8.A",null,null,null,0,null,110]
[null,"ŠÍR","Matyáš","8.A",105,null,"Jilemnice  12.05.23",582.60000000000014,null,98,70]
[null,"TORÁČ","Tomáš","8.A",95,null,"Jilemnice  31.10.22",525.40000000000009,null,90]
[null,"VÁCLAVÍK","Ondřej","8.A",120,null,"Jilemnice  12.05.23",668.4,null,108,80]
[null,"AUERSWALD","Daniel","8.B",null,null,null,0,null,108]
[null,"BOUKAL","Jakub","8.B",null,null,null,0]
[null,"BUDÍN","Martin","8.B",115,null,"Jilemnice  12.05.23",639.80000000000007,null,110,80]
[null,"DVOŘÁK","Dominik","8.B",105,null,"Jilemnice  12.05.23",582.60000000000014,null,110,75]
[null,"FIŠERA","Vojtěch","8.B",105,null,"Jilemnice  12.05.23",582.60000000000014,null,103]
[null,"JINDŘIŠEK","Vít","8.B",135,null,"Jilemnice  12.05.23",{"$f":"IF(E159=0,0,(IF(E159>0,E159*4.4*1.3-18)))","v":754.2},null,136,80]
[null,"JIROUŠ","Matouš","8.B",null,null," ",0,null,108,80]
[null,"KERLE","Marek","8.B",150,null,"Jilemnice  12.05.23",840,null,138,80]
[null,"LUKEŠ","Jakub","8.B",150,null,"Jilemnice  12.05.23",840,null,146,75]
[null,"OTT","Matyáš","8.B",125,null,"Turnov   13.09.22",697,null,125,80]
[null,"POKORNÝ","Matyáš","8.B",153,null,"Jilemnice  12.05.23",857.16000000000008,null,135,80]
[null,"POLÁČEK","Matyáš","8.B",100,null,"Jilemnice  12.05.23",554.00000000000011,null,98,75]
[null,"ULLMAN","Šimon","8.B",130,null,"Jilemnice  12.05.23",725.6,null,120,80]
[null,"VALENTA","Jakub","8.B",140,null,"Jilemnice  12.05.23",782.80000000000007,null,130]
[null,"VRBATA","Dominik","8.B",125,null,"Jilemnice  12.05.23",697,null,108,80]
[null,"FEJKL","Jan","9.A",157,null,"Turnov   11.05.23",880.04000000000008,null,145,115,115]
[null,"KOTYK","Tadeáš","9.A",115,null,"Jilemnice  10.05.23",639.80000000000007,null,95,92]
[null,"KRAUSE","Tadeáš","9.A",155,null,"Turnov   11.05.23",868.6,null,143]
[null,"LEŠÁK","Martin","9.A",130,null,"Jilemnice  12.05.23",725.6,null,118,82]
[null,"NECHANICKÝ","David","9.A",141,null,"Jilemnice  12.05.23",788.5200000000001,null,123,110]
[null,"ŘEHOŘEK","Jan","9.A",146,null,"Jilemnice  12.05.23",817.12000000000012,null,139,115,105]
[null,"SOUKUP","Ondřej","9.A",141,null,"Jilemnice  12.05.23",788.5200000000001,null,103,101]
[null,"SPANILÝ","David","9.A",141,null,"Jilemnice  12.05.23",788.5200000000001,null,123]
[null,"ČERNÝ","Michal","9.B",120,null,"Jilemnice  12.05.23",668.4,null,108,92]
[null,"DOLEJŠÍ","David","9.B",125,null,"Jilemnice  10.05.23",697,null,118,92]
[null,"POVAŽANEC","Martin","9.B",140,null,"Jilemnice  07.09.22",782.80000000000007,null,147,110]
[null,"RICHTER","Jakub","9.B",115,null,"Jilemnice  12.05.23",639.80000000000007,null,98]
[null,"ROZUMEK","Adam","9.B",110,null,"Jilemnice  07.09.22",611.20000000000005,null,103]
[null,"VALENTA","František","9.B",115,null,"Jilemnice  07.09.22",639.80000000000007,null,113]
[null,"ZAPLATÍLEK","Josef","9.B",115,null,"Jilemnice  07.09.22",639.80000000000007,null,130]

{"sheet":"MÍČEK","index":11,"n_rows":183,"n_cols":12,"rows_kept":183,"cut":false,"hidden":false,"merged":[]}
[null,null,"VÝKONY  2022 - 2023",null,null,null,"MÍČEK","CHLAPCI  6. -  9.  ROČ.",null,null,null,1959]
[null,"stav  k ",{"$f":"TODAY()","v":"2023-06-26"},null,null,null,null,null,null,"21 - 22","20 - 21","19  - 20"]
[]
["1.",{"$f":"B101","v":"HONCŮ"},{"$f":"C101","v":"Filip"},"6.A",0,null,0,0,null,0,0,0]
["2.",{"$f":"B102","v":"JÍLEK"},"Lukáš","6.A",0,null,{"$f":"G102","v":0},0,null,{"$f":"J102","v":0},0,0]
["3.",{"$f":"B103","v":"KUČERA"},"Tadeáš","6.A",16,null,{"$f":"G103","v":"Jilemnice  01.06.23"},200,null,{"$f":"J103","v":0},0,0]
["4.",{"$f":"B104","v":"ROZUMEK"},"Lukáš","6.A",31,null,{"$f":"G104","v":"Jilemnice  01.06.23"},387.5,null,{"$f":"J104","v":0},0,0]
["5.",{"$f":"B105","v":"ŘEHOŘEK"},"Marek","6.A",23,null,{"$f":"G105","v":"Jilemnice  01.06.23"},287.5,null,{"$f":"J105","v":0},0,0]
["6.",{"$f":"B106","v":"ŘÍHA"},"Tadeáš","6.A",42.06,null,{"$f":"G106","v":"Turnov   16.05.23"},525.75,null,{"$f":"J106","v":0},0,0]
["7.",{"$f":"B107","v":"SKRBEK"},"Richard","6.A",0,null,{"$f":"G107","v":0},0,null,{"$f":"J107","v":0},0,0]
["8.",{"$f":"B108","v":"ŠIMEK"},"Erik","6.A",37,null,{"$f":"G108","v":"Jilemnice  01.06.23"},462.5,null,{"$f":"J108","v":0},0,0]
["9.",{"$f":"B109","v":"ŠÍR"},"Jan","6.A",26,null,{"$f":"G109","v":"Jilemnice  01.06.23"},325,null,{"$f":"J109","v":0},0,0]
["10.",{"$f":"B110","v":"ŠÍR"},"Stanislav","6.A",34,null,{"$f":"G110","v":"Jilemnice  01.06.23"},425,null,{"$f":"J110","v":0},0,0]
["11.",{"$f":"B111","v":"ŠPINAR"},"František",{"$f":"D111","v":"6.A"},27,null,{"$f":"G111","v":"Jilemnice  01.06.23"},337.5,null,{"$f":"J111","v":0},0,0]
["12.","TOTH","Mikuláš","6.A",28.5,null,{"$f":"G112","v":"Jilemnice  01.06.23"},356.25,null,{"$f":"J112","v":0},0,0]
["13.",{"$f":"B113","v":"WEISZLEMLEIN"},"Adam","6.A",0,null,{"$f":"G113","v":0},0,null,{"$f":"J113","v":0},0,0]
["14.",{"$f":"B114","v":"ČERNÝ"},"Filip","6.B",0,null,{"$f":"G114","v":0},0,null,{"$f":"J114","v":0},0,0]
["15.",{"$f":"B115","v":"GINGAL"},"Patrik","6.B",32.5,null,{"$f":"G115","v":"Jilemnice  01.06.23"},406.25,null,{"$f":"J115","v":0},0,0]
["16.",{"$f":"B116","v":"HLAVÁCEK"},"Josef","6.B",29,null,{"$f":"G116","v":"Jilemnice  01.06.23"},362.5,null,{"$f":"J116","v":0},0,0]
["17.",{"$f":"B117","v":"KHUDA"},"Ivan","6.B",23,null,{"$f":"G117","v":"Jilemnice  01.06.23"},287.5,null,{"$f":"J117","v":0},0,0]
["18.",{"$f":"B118","v":"KRESAN"},"Matěj","6.B",17,null,{"$f":"G118","v":"Jilemnice  01.06.23"},212.5,null,{"$f":"J118","v":0},0,0]
["19.",{"$f":"B119","v":"RYCHTR"},"Vojtěch","6.B",32,null,{"$f":"G119","v":"Jilemnice  01.06.23"},400,null,{"$f":"J119","v":0},0,0]
["20.",{"$f":"B120","v":"ŠTAJER"},"David","6.B",25,null,{"$f":"G120","v":"Jilemnice  01.06.23"},312.5,null,{"$f":"J120","v":0},0,0]
["21.",{"$f":"B121","v":"TKACHUK"},"Dzvenyslav","6.B",0,null,{"$f":"G121","v":0},0,null,{"$f":"J121","v":0},0,0]
["22.",{"$f":"B122","v":"VELIKOVSKÝ"},"Dominik","6.B",21,null,{"$f":"G122","v":"Jilemnice  01.06.23"},262.5,null,{"$f":"J122","v":0},0,0]
["23.",{"$f":"B123","v":"EXNER"},"Tomáš","7.A",24,null,{"$f":"G123","v":"Jilemnice  07.05.23"},300,null,{"$f":"J123","v":16},0,0]
["24.",{"$f":"B124","v":"JANATA"},"Denis","7.A",21.5,null,{"$f":"G124","v":"Jilemnice  07.05.23"},268.75,null,{"$f":"J124","v":24},0,0]
["25.",{"$f":"B125","v":"JINDŘIŠEK"},"Alex Jiří","7.A",29.5,null,{"$f":"G125","v":"Jilemnice  02.11.22"},368.75,null,{"$f":"J125","v":25},0,0]
["26.",{"$f":"B126","v":"KAZLEPKA"},"Miroslav","7.A",20.5,null,{"$f":"G126","v":"Jilemnice  02.11.22"},256.25,null,{"$f":"J126","v":0},0,0]
["27.",{"$f":"B127","v":"MARŠÁLEK"},"Ondřej","7.A",26,null,{"$f":"G127","v":"Jilemnice  07.05.23"},325,null,{"$f":"J127","v":22.5},0,0]
["28.",{"$f":"B128","v":"MLATEČEK"},"Patrik","7.A",29,null,{"$f":"G128","v":"Jilemnice  02.11.22"},362.5,null,{"$f":"J128","v":26.5},0,0]
["29.",{"$f":"B129","v":"SCHOLZ"},"Matyáš","7.A",32,null,{"$f":"G129","v":"Jilemnice  07.05.23"},400,null,{"$f":"J129","v":26},0,0]
["30.",{"$f":"B130","v":"TOMÁŠ"},"Jakub","7.A",26.5,null,{"$f":"G130","v":"Jilemnice  02.11.22"},331.25,null,{"$f":"J130","v":24.5},0,0]
["31.",{"$f":"B131","v":"VÁCLAVÍK"},"Jan","7.A",27,null,{"$f":"G131","v":"Jilemnice  07.05.23"},337.5,null,{"$f":"J131","v":25},0,0]
["32.",{"$f":"B132","v":"VEČEŘA"},"David","7.A",22,null,{"$f":"G132","v":"Jilemnice  02.11.22"},275,null,{"$f":"J132","v":23},0,0]
["33.",{"$f":"B133","v":"VYBÍRAL"},"Radim","7.A",35.5,null,{"$f":"G133","v":"Turnov   13.09.22"},443.75,null,{"$f":"J133","v":30},0,0]
["34.",{"$f":"B134","v":"BERISHA"},"David","7.B",18,null,{"$f":"G134","v":"Jilemnice  02.11.22"},225,null,{"$f":"J134","v":17.5},0,0]
["35.",{"$f":"B135","v":"EFENBERK"},"Šimon","7.B",26.5,null,{"$f":"G135","v":"Jilemnice  07.05.23"},331.25,null,{"$f":"J135","v":21},0,0]
["36.",{"$f":"B136","v":"FEJKL"},"Antonín","7.B",49,null,{"$f":"G136","v":"Jilemnice  02.11.22"},612.5,null,{"$f":"J136","v":40},0,0]
["37.",{"$f":"B137","v":"GOTTSTEIN"},"Matouš","7.B",42,null,{"$f":"G137","v":"Jilemnice  12.06.23"},525,null,{"$f":"J137","v":36},0,0]
["38.",{"$f":"B138","v":"MAŘAS"},"Dominik","7.B",33,null,{"$f":"G138","v":"Jilemnice  07.05.23"},412.5,null,{"$f":"J138","v":28},0,0]
["39.",{"$f":"B139","v":"POVAŽANEC"},"Lukáš","7.B",45,null,{"$f":"G139","v":"Jilemnice  12.06.23"},562.5,null,{"$f":"J139","v":33},0,0]
["40.",{"$f":"B140","v":"VANCL"},"Jakub","7.B",22,null,{"$f":"G140","v":"Jilemnice  02.11.22"},275,null,{"$f":"J140","v":20.5},0,0]
["41.",{"$f":"B141","v":"VANCL"},"Miroslav","7.B",25,null,{"$f":"G141","v":"Jilemnice  02.11.22"},312.5,null,{"$f":"J141","v":21},0,0]
["42.",{"$f":"B142","v":"VOTOČEK"},"Michal","7.B",28,null,{"$f":"G142","v":"Jilemnice  02.11.22"},350,null,{"$f":"J142","v":30},0,0]
["43.",{"$f":"B143","v":"DEMČUK"},"Ilja","8.A",30.5,null,{"$f":"G143","v":"Jilemnice  02.06.23"},381.25,null,{"$f":"J143","v":31},20,0]
["44.",{"$f":"B144","v":"FAISTAUER"},"Kryštof","8.A",40,null,{"$f":"G144","v":"Jilemnice  02.06.23"},500,null,{"$f":"J144","v":45},34.5,0]
["45.",{"$f":"B145","v":"FRK"},"Matyáš","8.A",0,null,{"$f":"G145","v":0},0,null,{"$f":"J145","v":26},0,0]
["46.",{"$f":"B146","v":"HUBÁLOVSKÝ"},"Marek","8.A",34.5,null,{"$f":"G146","v":"Jilemnice  02.06.23"},431.25,null,{"$f":"J146","v":34},26,0]
["47.",{"$f":"B147","v":"MAŤÁTKO"},"Jakub","8.A",27.5,null,{"$f":"G147","v":"Jilemnice  10.11.22"},343.75,null,{"$f":"J147","v":25},0,0]
["48.",{"$f":"B148","v":"MERY"},"Luboš","8.A",21.5,null,{"$f":"G148","v":"Jilemnice  02.06.23"},268.75,null,{"$f":"J148","v":21},0,0]
["49.",{"$f":"B149","v":"NOVOTNÝ"},"Matěj","8.A",40,null,{"$f":"G149","v":"Jilemnice  02.06.23"},500,null,{"$f":"J149","v":25.5},29,0]
["50.",{"$f":"B150","v":"ŘEHOŘEK"},"Vojtěch","8.A",53,null,{"$f":"G150","v":"Jilemnice  05.06.23"},662.5,null,{"$f":"J150","v":44.8},40,0]
["51.",{"$f":"B151","v":"ŠÍR"},"Matyáš","8.A",29.5,null,{"$f":"G151","v":"Jilemnice  02.06.23"},368.75,null,{"$f":"J151","v":25},20,0]
["52.",{"$f":"B152","v":"TORÁČ"},"Tomáš","8.A",20,null,{"$f":"G152","v":"Jilemnice  10.11.22"},250,null,{"$f":"J152","v":17.5},0,0]
["53.",{"$f":"B153","v":"VÁCLAVÍK"},"Ondřej","8.A",49,null,{"$f":"G153","v":"Jilemnice  02.06.23"},612.5,null,{"$f":"J153","v":42},36,0]
["54.",{"$f":"B154","v":"AUERSWALD"},"Daniel","8.B",32,null,{"$f":"G154","v":"Jilemnice  05.06.23"},400,null,{"$f":"J154","v":29},25,0]
["55.",{"$f":"B155","v":"BOUKAL"},"Jakub","8.B",0,null,{"$f":"G155","v":0},0,null,{"$f":"J155","v":0},0,0]
["56.",{"$f":"B156","v":"BUDÍN"},"Martin","8.B",42,null,{"$f":"G156","v":"Jilemnice  05.06.23"},525,null,{"$f":"J156","v":37},31,0]
["57.",{"$f":"B157","v":"DVOŘÁK"},"Dominik","8.B",34,null,{"$f":"G157","v":"Jilemnice  05.06.23"},425,null,{"$f":"J157","v":31},0,0]
["58.",{"$f":"B158","v":"FIŠERA"},"Vojtěch","8.B",22.5,null,{"$f":"G158","v":"Jilemnice  05.06.23"},281.25,null,{"$f":"J158","v":19},19,0]
["59.",{"$f":"B159","v":"JINDŘIŠEK"},"Vít","8.B",56,null,{"$f":"G159","v":"Jilemnice  05.06.23"},700,null,{"$f":"J159","v":52.9},42,0]
["60.",{"$f":"B160","v":"JIROUŠ"},"Matouš","8.B",41,null,{"$f":"G160","v":"Jilemnice  05.06.23"},512.5,null,{"$f":"J160","v":29.5},28,0]
["61.",{"$f":"B161","v":"KERLE"},"Marek","8.B",49,null,{"$f":"G161","v":"Jilemnice  05.06.23"},612.5,null,{"$f":"J161","v":46},0,0]
["62.",{"$f":"B162","v":"LUKEŠ"},"Jakub","8.B",30,null,{"$f":"G162","v":"Jilemnice  05.06.23"},375,null,{"$f":"J162","v":24},21,0]
["63.",{"$f":"B163","v":"OTT"},"Matyáš","8.B",41,null,{"$f":"G163","v":"Jilemnice  05.06.23"},512.5,null,{"$f":"J163","v":35},29,0]
["64.",{"$f":"B164","v":"POKORNÝ"},"Matyáš","8.B",55,null,{"$f":"G164","v":"Jilemnice  05.06.23"},687.5,null,{"$f":"J164","v":45},43,0]
["65.",{"$f":"B165","v":"POLÁČEK"},"Matyáš","8.B",42,null,{"$f":"G165","v":"Jilemnice  05.06.23"},525,null,{"$f":"J165","v":37},34,0]
["66.",{"$f":"B166","v":"ULLMAN"},"Šimon","8.B",26.5,null,{"$f":"G166","v":"Jilemnice  05.06.23"},331.25,null,{"$f":"J166","v":0},24.5,0]
["67.",{"$f":"B167","v":"VALENTA"},"Jakub","8.B",28,null,{"$f":"G167","v":"Jilemnice  05.06.23"},350,null,{"$f":"J167","v":28},26,0]
["68.",{"$f":"B168","v":"VRBATA"},"Dominik","8.B",40,null,{"$f":"G168","v":"Jilemnice  05.06.23"},500,null,{"$f":"J168","v":37},34.5,0]
["69.",{"$f":"B169","v":"FEJKL"},"Jan","9.A",61,null,{"$f":"G169","v":"Jilemnice  02.06.23"},762.5,null,{"$f":"J169","v":61},49,39.5]
["70.",{"$f":"B170","v":"KOTYK"},"Tadeáš","9.A",26.5,null,{"$f":"G170","v":"Jilemnice  02.06.23"},331.25,null,{"$f":"J170","v":26},20,16.5]
["71.",{"$f":"B171","v":"KRAUSE"},"Tadeáš","9.A",44.2,null,{"$f":"G171","v":"Turnov   11.05.23"},552.5,null,{"$f":"J171","v":37.5},29.5,25]
["72.",{"$f":"B172","v":"LEŠÁK"},"Martin","9.A",33.5,null,{"$f":"G172","v":"Jilemnice  02.06.23"},418.75,null,{"$f":"J172","v":30},25.5,22]
["73.",{"$f":"B173","v":"NECHANICKÝ"},"David","9.A",45,null,{"$f":"G173","v":"Jilemnice  02.11.22"},562.5,null,{"$f":"J173","v":43},31,29]
["74.",{"$f":"B174","v":"ŘEHOŘEK"},"Jan","9.A",51.5,null,{"$f":"G174","v":"Jilemnice  02.06.23"},643.75,null,{"$f":"J174","v":39},42,41]
["75.",{"$f":"B175","v":"SOUKUP"},"Ondřej","9.A",0,null,{"$f":"G175","v":0},0,null,{"$f":"J175","v":0},0,0]
["76.",{"$f":"B176","v":"SPANILÝ"},"David","9.A",61,null,{"$f":"G176","v":"Jilemnice  02.06.23"},762.5,null,{"$f":"J176","v":59},47,44]
["77.",{"$f":"B177","v":"ČERNÝ"},"Michal","9.B",51,null,{"$f":"G177","v":"Jilemnice  02.06.23"},637.5,null,{"$f":"J177","v":44.5},39.5,31]
["78.",{"$f":"B178","v":"DOLEJŠÍ"},"David","9.B",24,null,{"$f":"G178","v":"Jilemnice  02.11.22"},300,null,{"$f":"J178","v":21.5},21,20]
["79.",{"$f":"B179","v":"POVAŽANEC"},"Martin","9.B",61,null,{"$f":"G179","v":"Jilemnice  02.06.23"},762.5,null,{"$f":"J179","v":50},40.5,34]
["80.",{"$f":"B180","v":"RICHTER"},"Jakub","9.B",30,null,{"$f":"G180","v":"Jilemnice  02.11.22"},375,null,{"$f":"J180","v":29},23,19.5]
["81.",{"$f":"B181","v":"ROZUMEK"},"Adam","9.B",50,null,{"$f":"G181","v":"Jilemnice  02.11.22"},625,null,{"$f":"J181","v":45},38,30.5]
["82.",{"$f":"B182","v":"VALENTA"},"František","9.B",29,null,{"$f":"G182","v":"Jilemnice  02.11.22"},362.5,null,{"$f":"J182","v":28},20,20]
["83.",{"$f":"B183","v":"ZAPLATÍLEK"},"Josef","9.B",49,null,{"$f":"G183","v":"Jilemnice  02.06.23"},612.5,null,{"$f":"J183","v":42},36,34.5]
[]
[]
[]
[]
[]
[]
[]
[]
[]
[]
[]
[]
[]
[]
[null,"HONCŮ","Filip","6.A",null,null,null,{"$f":"IF(E101=0,0,E101*10*1.25)","v":0}]
[null,"JÍLEK","Lukáš","6.A",null,null,null,0]
[null,"KUČERA","Tadeáš","6.A",16,null,"Jilemnice  01.06.23",200]
[null,"ROZUMEK","Lukáš","6.A",31,null,"Jilemnice  01.06.23",387.5]
[null,"ŘEHOŘEK","Marek","6.A",23,null,"Jilemnice  01.06.23",287.5]
[null,"ŘÍHA","Tadeáš","6.A",42.06,null,"Turnov   16.05.23",525.75]
[null,"SKRBEK","Richard","6.A",null,null,null,0]
[null,"ŠIMEK","Erik","6.A",37,null,"Jilemnice  01.06.23",462.5]
[null,"ŠÍR","Jan","6.A",26,null,"Jilemnice  01.06.23",325]
[null,"ŠÍR","Stanislav","6.A",34,null,"Jilemnice  01.06.23",425]
[null,"ŠPINAR","František","6.A",27,null,"Jilemnice  01.06.23",337.5]
[null,"TOTH","Mikuláš","6.A",28.5,null,"Jilemnice  01.06.23",356.25]
[null,"WEISZLEMLEIN","Adam","6.A",null,null,null,0]
[null,"ČERNÝ","Filip","6.B",null,null,null,0]
[null,"GINGAL","Patrik","6.B",32.5,null,"Jilemnice  01.06.23",406.25]
[null,"HLAVÁCEK","Josef","6.B",29,null,"Jilemnice  01.06.23",362.5]
[null,"KHUDA","Ivan","6.B",23,null,"Jilemnice  01.06.23",287.5]
[null,"KRESAN","Matěj","6.B",17,null,"Jilemnice  01.06.23",212.5]
[null,"RYCHTR","Vojtěch","6.B",32,null,"Jilemnice  01.06.23",400]
[null,"ŠTAJER","David","6.B",25,null,"Jilemnice  01.06.23",312.5]
[null,"TKACHUK","Dzvenyslav","6.B",null,null,null,0]
[null,"VELIKOVSKÝ","Dominik","6.B",21,null,"Jilemnice  01.06.23",262.5]
[null,"EXNER","Tomáš","7.A",24,null,"Jilemnice  07.05.23",300,null,16]
[null,"JANATA","Denis","7.A",21.5,null,"Jilemnice  07.05.23",268.75,null,24]
[null,"JINDŘIŠEK","Alex Jiří","7.A",29.5,null,"Jilemnice  02.11.22",368.75,null,25]
[null,"KAZLEPKA","Miroslav","7.A",20.5,null,"Jilemnice  02.11.22",256.25]
[null,"MARŠÁLEK","Ondřej","7.A",26,null,"Jilemnice  07.05.23",325,null,22.5]
[null,"MLATEČEK","Patrik","7.A",29,null,"Jilemnice  02.11.22",362.5,null,26.5]
[null,"SCHOLZ","Matyáš","7.A",32,null,"Jilemnice  07.05.23",400,null,26]
[null,"TOMÁŠ","Jakub","7.A",26.5,null,"Jilemnice  02.11.22",331.25,null,24.5]
[null,"VÁCLAVÍK","Jan","7.A",27,null,"Jilemnice  07.05.23",337.5,null,25]
[null,"VEČEŘA","David","7.A",22,null,"Jilemnice  02.11.22",275,null,23]
[null,"VYBÍRAL","Radim","7.A",35.5,null,"Turnov   13.09.22",{"$f":"IF(E133=0,0,E133*10*1.25)","v":443.75},null,30]
[null,"BERISHA","David","7.B",18,null,"Jilemnice  02.11.22",225,null,17.5]
[null,"EFENBERK","Šimon","7.B",26.5,null,"Jilemnice  07.05.23",331.25,null,21]
[null,"FEJKL","Antonín","7.B",49,null,"Jilemnice  02.11.22",612.5,null,40]
[null,"GOTTSTEIN","Matouš","7.B",42,null,"Jilemnice  12.06.23",525,null,36]
[null,"MAŘAS","Dominik","7.B",33,null,"Jilemnice  07.05.23",412.5,null,28]
[null,"POVAŽANEC","Lukáš","7.B",45,null,"Jilemnice  12.06.23",562.5,null,33]
[null,"VANCL","Jakub","7.B",22,null,"Jilemnice  02.11.22",275,null,20.5]
[null,"VANCL","Miroslav","7.B",25,null,"Jilemnice  02.11.22",312.5,null,21]
[null,"VOTOČEK","Michal","7.B",28,null,"Jilemnice  02.11.22",350,null,30]
[null,"DEMČUK","Ilja","8.A",30.5,null,"Jilemnice  02.06.23",381.25,null,31,20]
[null,"FAISTAUER","Kryštof","8.A",40,null,"Jilemnice  02.06.23",500,null,45,34.5]
[null,"FRK","Matyáš","8.A",null,null,null,0,null,26]
[null,"HUBÁLOVSKÝ","Marek","8.A",34.5,null,"Jilemnice  02.06.23",431.25,null,34,26]
[null,"MAŤÁTKO","Jakub","8.A",27.5,null,"Jilemnice  10.11.22",343.75,null,25]
[null,"MERY","Luboš","8.A",21.5,null,"Jilemnice  02.06.23",268.75,null,21]
[null,"NOVOTNÝ","Matěj","8.A",40,null,"Jilemnice  02.06.23",500,null,25.5,29]
[null,"ŘEHOŘEK","Vojtěch","8.A",53,null,"Jilemnice  05.06.23",662.5,null,44.8,40]
[null,"ŠÍR","Matyáš","8.A",29.5,null,"Jilemnice  02.06.23",368.75,null,25,20]
[null,"TORÁČ","Tomáš","8.A",20,null,"Jilemnice  10.11.22",250,null,17.5]
[null,"VÁCLAVÍK","Ondřej","8.A",49,null,"Jilemnice  02.06.23",612.5,null,42,36]
[null,"AUERSWALD","Daniel","8.B",32,null,"Jilemnice  05.06.23",400,null,29,25]
[null,"BOUKAL","Jakub","8.B",null,null,null,0]
[null,"BUDÍN","Martin","8.B",42,null,"Jilemnice  05.06.23",525,null,37,31]
[null,"DVOŘÁK","Dominik","8.B",34,null,"Jilemnice  05.06.23",425,null,31]
[null,"FIŠERA","Vojtěch","8.B",22.5,null,"Jilemnice  05.06.23",281.25,null,19,19]
[null,"JINDŘIŠEK","Vít","8.B",56,null,"Jilemnice  05.06.23",700,null,52.9,42]
[null,"JIROUŠ","Matouš","8.B",41,null,"Jilemnice  05.06.23",512.5,null,29.5,28]
[null,"KERLE","Marek","8.B",49,null,"Jilemnice  05.06.23",612.5,null,46]
[null,"LUKEŠ","Jakub","8.B",30,null,"Jilemnice  05.06.23",375,null,24,21]
[null,"OTT","Matyáš","8.B",41,null,"Jilemnice  05.06.23",512.5,null,35,29]
[null,"POKORNÝ","Matyáš","8.B",55,null,"Jilemnice  05.06.23",687.5,null,45,43]
[null,"POLÁČEK","Matyáš","8.B",42,null,"Jilemnice  05.06.23",{"$f":"IF(E165=0,0,E165*10*1.25)","v":525},null,37,34]
[null,"ULLMAN","Šimon","8.B",26.5,null,"Jilemnice  05.06.23",331.25,null,null,24.5]
[null,"VALENTA","Jakub","8.B",28,null,"Jilemnice  05.06.23",350,null,28,26]
[null,"VRBATA","Dominik","8.B",40,null,"Jilemnice  05.06.23",500,null,37,34.5]
[null,"FEJKL","Jan","9.A",61,null,"Jilemnice  02.06.23",762.5,null,61,49,39.5]
[null,"KOTYK","Tadeáš","9.A",26.5,null,"Jilemnice  02.06.23",331.25,null,26,20,16.5]
[null,"KRAUSE","Tadeáš","9.A",44.2,null,"Turnov   11.05.23",552.5,null,37.5,29.5,25]
[null,"LEŠÁK","Martin","9.A",33.5,null,"Jilemnice  02.06.23",418.75,null,30,25.5,22]
[null,"NECHANICKÝ","David","9.A",45,null,"Jilemnice  02.11.22",562.5,null,43,31,29]
[null,"ŘEHOŘEK","Jan","9.A",51.5,null,"Jilemnice  02.06.23",643.75,null,39,42,41]
[null,"SOUKUP","Ondřej","9.A",null,null,null,0]
[null,"SPANILÝ","David","9.A",61,null,"Jilemnice  02.06.23",762.5,null,59,47,44]
[null,"ČERNÝ","Michal","9.B",51,null,"Jilemnice  02.06.23",637.5,null,44.5,39.5,31]
[null,"DOLEJŠÍ","David","9.B",24,null,"Jilemnice  02.11.22",300,null,21.5,21,20]
[null,"POVAŽANEC","Martin","9.B",61,null,"Jilemnice  02.06.23",762.5,null,50,40.5,34]
[null,"RICHTER","Jakub","9.B",30,null,"Jilemnice  02.11.22",375,null,29,23,19.5]
[null,"ROZUMEK","Adam","9.B",50,null,"Jilemnice  02.11.22",625,null,45,38,30.5]
[null,"VALENTA","František","9.B",29,null,"Jilemnice  02.11.22",362.5,null,28,20,20]
[null,"ZAPLATÍLEK","Josef","9.B",49,null,"Jilemnice  02.06.23",612.5,null,42,36,34.5]

{"sheet":"KOULE","index":12,"n_rows":183,"n_cols":12,"rows_kept":183,"cut":false,"hidden":false,"merged":[]}
[null,null,"VÝKONY  2022 - 2023",null,null,null,"KOULE","CHLAPCI  6. -  9.  ROČ."]
[null,"stav  k ",{"$f":"TODAY()","v":"2023-06-26"},null,null,null,null,null,null,"21 - 22","20 - 21","19  - 20"]
[]
["1.",{"$f":"B101","v":"HONCŮ"},{"$f":"C101","v":"Filip"},"6.A",4.07,null,"Jilemnice  16.06.23",392.77777777777777,null,0,0,0]
["2.",{"$f":"B102","v":"JÍLEK"},"Lukáš","6.A",0,null,{"$f":"G102","v":0},0,null,{"$f":"J102","v":0},0,0]
["3.",{"$f":"B103","v":"KUČERA"},"Tadeáš","6.A",4.6900000000000004,null,{"$f":"G103","v":"Jilemnice  16.06.23"},427.22222222222223,null,{"$f":"J103","v":0},0,0]
["4.",{"$f":"B104","v":"ROZUMEK"},"Lukáš","6.A",6.16,null,{"$f":"G104","v":"Jilemnice  19.06.23"},508.88888888888886,null,{"$f":"J104","v":0},0,0]
["5.",{"$f":"B105","v":"ŘEHOŘEK"},"Marek","6.A",0,null,{"$f":"G105","v":0},0,null,{"$f":"J105","v":0},0,0]
["6.",{"$f":"B106","v":"ŘÍHA"},"Tadeáš","6.A",6.9,null,{"$f":"G106","v":"Jilemnice  16.06.23"},550,null,{"$f":"J106","v":0},0,0]
["7.",{"$f":"B107","v":"SKRBEK"},"Richard","6.A",5.82,null,{"$f":"G107","v":"Jilemnice  16.06.23"},490,null,{"$f":"J107","v":0},0,0]
["8.",{"$f":"B108","v":"ŠIMEK"},"Erik","6.A",7.62,null,{"$f":"G108","v":"Jilemnice  19.06.23"},590,null,{"$f":"J108","v":0},0,0]
["9.",{"$f":"B109","v":"ŠÍR"},"Jan","6.A",5.7,null,{"$f":"G109","v":"Jilemnice  16.06.23"},483.33333333333331,null,{"$f":"J109","v":0},0,0]
["10.",{"$f":"B110","v":"ŠÍR"},"Stanislav","6.A",4.28,null,{"$f":"G110","v":"Jilemnice  19.06.23"},404.44444444444446,null,{"$f":"J110","v":0},0,0]
["11.",{"$f":"B111","v":"ŠPINAR"},"František","6.A",5.75,null,{"$f":"G111","v":"Jilemnice  16.06.23"},486.11111111111109,null,{"$f":"J111","v":0},0,0]
["12.",{"$f":"B112","v":"TOTH"},"Mikuláš","6.A",0,null,{"$f":"G112","v":0},0,null,{"$f":"J112","v":0},0,0]
["13.",{"$f":"B113","v":"WEISZLEMLEIN"},"Adam","6.A",0,null,{"$f":"G113","v":0},0,null,{"$f":"J113","v":0},0,0]
["14.",{"$f":"B114","v":"ČERNÝ"},"Filip","6.B",0,null,{"$f":"G114","v":0},0,null,{"$f":"J114","v":0},0,0]
["15.",{"$f":"B115","v":"GINGAL"},"Patrik","6.B",0,null,{"$f":"G115","v":0},0,null,{"$f":"J115","v":0},0,0]
["16.",{"$f":"B116","v":"HLAVÁCEK"},"Josef","6.B",6.9,null,{"$f":"G116","v":"Jilemnice  19.06.23"},550,null,{"$f":"J116","v":0},0,0]
["17.",{"$f":"B117","v":"KHUDA"},"Ivan","6.B",6.3,null,{"$f":"G117","v":"Jilemnice  19.06.23"},516.66666666666663,null,{"$f":"J117","v":0},0,0]
["18.",{"$f":"B118","v":"KRESAN"},"Matěj","6.B",4.8,null,{"$f":"G118","v":"Jilemnice  19.06.23"},433.33333333333331,null,{"$f":"J118","v":0},0,0]
["19.",{"$f":"B119","v":"RYCHTR"},"Vojtěch","6.B",0,null,{"$f":"G119","v":0},0,null,{"$f":"J119","v":0},0,0]
["20.",{"$f":"B120","v":"ŠTAJER"},"David","6.B",7.92,null,{"$f":"G120","v":"Jilemnice  19.06.23"},606.66666666666663,null,{"$f":"J120","v":0},0,0]
["21.",{"$f":"B121","v":"TKACHUK"},"Dzvenyslav","6.B",0,null,{"$f":"G121","v":0},0,null,{"$f":"J121","v":0},0,0]
["22.",{"$f":"B122","v":"VELIKOVSKÝ"},"Dominik","6.B",3.9,null,{"$f":"G122","v":"Jilemnice  19.06.23"},383.33333333333331,null,{"$f":"J122","v":0},0,0]
["23.",{"$f":"B123","v":"EXNER"},"Tomáš","7.A",8.75,null,{"$f":"G123","v":"Jilemnice  07.05.23"},652.77777777777771,null,{"$f":"J123","v":6.58},0,0]
["24.",{"$f":"B124","v":"JANATA"},"Denis","7.A",4.9400000000000004,null,{"$f":"G124","v":"Jilemnice  31.05.23"},441.11111111111109,null,{"$f":"J124","v":4.45},0,0]
["25.",{"$f":"B125","v":"JINDŘIŠEK"},"Alex Jiří","7.A",8.7899999999999991,null,{"$f":"G125","v":"Jilemnice  31.05.23"},655,null,{"$f":"J125","v":7.65},0,0]
["26.",{"$f":"B126","v":"KAZLEPKA"},"Miroslav","7.A",0,null,{"$f":"G126","v":0},0,null,{"$f":"J126","v":0},0,0]
["27.",{"$f":"B127","v":"MARŠÁLEK"},"Ondřej","7.A",8.19,null,{"$f":"G127","v":"Jilemnice  31.05.23"},621.66666666666663,null,{"$f":"J127","v":6.27},0,0]
["28.",{"$f":"B128","v":"MLATEČEK"},"Patrik","7.A",6.71,null,{"$f":"G128","v":"Jilemnice  31.05.23"},539.44444444444446,null,{"$f":"J128","v":5.48},0,0]
["29.",{"$f":"B129","v":"SCHOLZ"},"Matyáš","7.A",7.71,null,{"$f":"G129","v":"Jilemnice  07.05.23"},595,null,{"$f":"J129","v":6.98},0,0]
["30.",{"$f":"B130","v":"TOMÁŠ"},"Jakub","7.A",7.47,null,{"$f":"G130","v":"Jilemnice  31.05.23"},581.66666666666663,null,{"$f":"J130","v":5.85},0,0]
["31.",{"$f":"B131","v":"VÁCLAVÍK"},"Jan","7.A",6.19,null,{"$f":"G131","v":"Jilemnice  31.05.23"},510.55555555555554,null,{"$f":"J131","v":5.22},0,0]
["32.",{"$f":"B132","v":"VEČEŘA"},"David","7.A",6.87,null,{"$f":"G132","v":"Jilemnice  31.05.23"},548.33333333333337,null,{"$f":"J132","v":5.4},0,0]
["33.",{"$f":"B133","v":"VYBÍRAL"},"Radim","7.A",7.66,null,{"$f":"G133","v":"Jilemnice  31.05.23"},592.22222222222217,null,{"$f":"J133","v":6.29},0,0]
["34.",{"$f":"B134","v":"BERISHA"},"David","7.B",0,null,{"$f":"G134","v":0},0,null,{"$f":"J134","v":2.15},0,0]
["35.",{"$f":"B135","v":"EFENBERK"},"Šimon","7.B",8.9499999999999993,null,{"$f":"G135","v":"Jilemnice  31.05.23"},663.88888888888891,null,{"$f":"J135","v":6.61},0,0]
["36.",{"$f":"B136","v":"FEJKL"},"Antonín","7.B",9.3699999999999992,null,{"$f":"G136","v":"Jilemnice  07.05.23"},687.22222222222217,null,{"$f":"J136","v":6.37},0,0]
["37.",{"$f":"B137","v":"GOTTSTEIN"},"Matouš","7.B",9.59,null,{"$f":"G137","v":"Jilemnice  31.05.23"},699.44444444444446,null,{"$f":"J137","v":6.45},0,0]
["38.",{"$f":"B138","v":"MAŘAS"},"Dominik","7.B",9.2899999999999991,null,{"$f":"G138","v":"Jilemnice  31.05.23"},682.77777777777771,null,{"$f":"J138","v":5.2},0,0]
["39.",{"$f":"B139","v":"POVAŽANEC"},"Lukáš","7.B",10.08,null,{"$f":"G139","v":"Jilemnice  31.05.23"},726.66666666666663,null,{"$f":"J139","v":7.1},0,0]
["40.",{"$f":"B140","v":"VANCL"},"Jakub","7.B",6.65,null,{"$f":"G140","v":"Jilemnice  31.05.23"},536.11111111111109,null,{"$f":"J140","v":5.46},0,0]
["41.",{"$f":"B141","v":"VANCL"},"Miroslav","7.B",6.64,null,{"$f":"G141","v":"Jilemnice  31.05.23"},535.55555555555554,null,{"$f":"J141","v":4.9800000000000004},0,0]
["42.",{"$f":"B142","v":"VOTOČEK"},"Michal","7.B",7.95,null,{"$f":"G142","v":"Jilemnice  31.05.23"},608.33333333333337,null,{"$f":"J142","v":5.7},0,0]
["43.",{"$f":"B143","v":"DEMČUK"},"Ilja","8.A",8.4700000000000006,null,{"$f":"G143","v":"Jilemnice  05.05.23"},637.22222222222217,null,{"$f":"J143","v":6.49},0,0]
["44.",{"$f":"B144","v":"FAISTAUER"},"Kryštof","8.A",10.31,null,{"$f":"G144","v":"Jilemnice  07.05.23"},739.44444444444446,null,{"$f":"J144","v":6.11},0,0]
["45.",{"$f":"B145","v":"FRK"},"Matyáš","8.A",0,null,{"$f":"G145","v":0},0,null,{"$f":"J145","v":5.63},0,0]
["46.",{"$f":"B146","v":"HUBÁLOVSKÝ"},"Marek","8.A",7.05,null,{"$f":"G146","v":"Jilemnice  05.05.23"},558.33333333333337,null,{"$f":"J146","v":5.12},0,0]
["47.",{"$f":"B147","v":"MAŤÁTKO"},"Jakub","8.A",0,null,{"$f":"G147","v":0},0,null,{"$f":"J147","v":0},0,0]
["48.",{"$f":"B148","v":"MERY"},"Luboš","8.A",6.17,null,{"$f":"G148","v":"Jilemnice  05.05.23"},509.44444444444446,null,{"$f":"J148","v":4.9000000000000004},0,0]
["49.",{"$f":"B149","v":"NOVOTNÝ"},"Matěj","8.A",8.31,null,{"$f":"G149","v":"Jilemnice  16.06.23"},628.33333333333337,null,{"$f":"J149","v":5.88},0,0]
["50.",{"$f":"B150","v":"ŘEHOŘEK"},"Vojtěch","8.A",10.1,null,{"$f":"G150","v":"Jilemnice  07.05.23"},727.77777777777771,null,{"$f":"J150","v":6.5},0,0]
["51.",{"$f":"B151","v":"ŠÍR"},"Matyáš","8.A",5.53,null,{"$f":"G151","v":"Jilemnice  05.05.23"},473.88888888888886,null,{"$f":"J151","v":3.72},0,0]
["52.",{"$f":"B152","v":"TORÁČ"},"Tomáš","8.A",0,null,{"$f":"G152","v":0},0,null,{"$f":"J152","v":4.54},0,0]
["53.",{"$f":"B153","v":"VÁCLAVÍK"},"Ondřej","8.A",7.53,null,{"$f":"G153","v":"Jilemnice  05.05.23"},585,null,{"$f":"J153","v":0},0,0]
["54.",{"$f":"B154","v":"AUERSWALD"},"Daniel","8.B",6.76,null,{"$f":"G154","v":"Jilemnice  05.05.23"},542.22222222222217,null,{"$f":"J154","v":0},0,0]
["55.",{"$f":"B155","v":"BOUKAL"},"Jakub","8.B",0,null,{"$f":"G155","v":0},0,null,{"$f":"J155","v":6.72},0,0]
["56.",{"$f":"B156","v":"BUDÍN"},"Martin","8.B",7.26,null,{"$f":"G156","v":"Jilemnice  05.05.23"},570,null,{"$f":"J156","v":5.27},0,0]
["57.",{"$f":"B157","v":"DVOŘÁK"},"Dominik","8.B",8.8800000000000008,null,{"$f":"G157","v":"Jilemnice  16.06.23"},660,null,{"$f":"J157","v":6.24},0,0]
["58.",{"$f":"B158","v":"FIŠERA"},"Vojtěch","8.B",7.12,null,{"$f":"G158","v":"Jilemnice  05.05.23"},562.22222222222217,null,{"$f":"J158","v":5.51},0,0]
["59.",{"$f":"B159","v":"JINDŘIŠEK"},"Vít","8.B",11.17,null,{"$f":"G159","v":"Jilemnice  16.06.23"},787.22222222222217,null,{"$f":"J159","v":7.91},0,0]
["60.",{"$f":"B160","v":"JIROUŠ"},"Matouš","8.B",7.85,null,{"$f":"G160","v":"Jilemnice  16.06.23"},602.77777777777771,null,{"$f":"J160","v":5.9},0,0]
["61.",{"$f":"B161","v":"KERLE"},"Marek","8.B",11.17,null,{"$f":"G161","v":"Jilemnice  05.05.23"},787.22222222222217,null,{"$f":"J161","v":7.25},0,0]
["62.",{"$f":"B162","v":"LUKEŠ"},"Jakub","8.B",7.25,null,{"$f":"G162","v":"Jilemnice  05.05.23"},569.44444444444446,null,{"$f":"J162","v":4.95},0,0]
["63.",{"$f":"B163","v":"OTT"},"Matyáš","8.B",8.9499999999999993,null,{"$f":"G163","v":"Jilemnice  16.06.23"},663.88888888888891,null,{"$f":"J163","v":6.12},0,0]
["64.",{"$f":"B164","v":"POKORNÝ"},"Matyáš","8.B",8.31,null,{"$f":"G164","v":"Jilemnice  05.05.23"},628.33333333333337,null,{"$f":"J164","v":5.51},0,0]
["65.",{"$f":"B165","v":"POLÁČEK"},"Matyáš","8.B",8.69,null,{"$f":"G165","v":"Jilemnice  16.06.23"},649.44444444444446,null,{"$f":"J165","v":5.3},0,0]
["66.",{"$f":"B166","v":"ULLMAN"},"Šimon","8.B",6.48,null,{"$f":"G166","v":"Jilemnice  05.05.23"},526.66666666666663,null,{"$f":"J166","v":5.29},0,0]
["67.",{"$f":"B167","v":"VALENTA"},"Jakub","8.B",6.51,null,{"$f":"G167","v":"Jilemnice  05.05.23"},528.33333333333337,null,{"$f":"J167","v":5.4},0,0]
["68.",{"$f":"B168","v":"VRBATA"},"Dominik","8.B",7.05,null,{"$f":"G168","v":"Jilemnice  16.06.23"},558.33333333333337,null,{"$f":"J168","v":6.41},0,0]
["69.",{"$f":"B169","v":"FEJKL"},"Jan","9.A",9.99,null,{"$f":"G169","v":"Jilemnice  05.05.23"},721.66666666666663,null,{"$f":"J169","v":7.58},0,0]
["70.",{"$f":"B170","v":"KOTYK"},"Tadeáš","9.A",9.07,null,{"$f":"G170","v":"Jilemnice  05.05.23"},670.55555555555554,null,{"$f":"J170","v":6.98},0,0]
["71.",{"$f":"B171","v":"KRAUSE"},"Tadeáš","9.A",8.02,null,{"$f":"G171","v":"Jilemnice  05.05.23"},612.22222222222217,null,{"$f":"J171","v":7.32},0,0]
["72.",{"$f":"B172","v":"LEŠÁK"},"Martin","9.A",8.44,null,{"$f":"G172","v":"Jilemnice  05.05.23"},635.55555555555554,null,{"$f":"J172","v":6.91},0,0]
["73.",{"$f":"B173","v":"NECHANICKÝ"},"David","9.A",9.5,null,{"$f":"G173","v":"Jilemnice  05.05.23"},694.44444444444446,null,{"$f":"J173","v":8.3000000000000007},0,0]
["74.",{"$f":"B174","v":"ŘEHOŘEK"},"Jan","9.A",8.08,null,{"$f":"G174","v":"Jilemnice  05.05.23"},615.55555555555554,null,{"$f":"J174","v":5.9},0,0]
["75.",{"$f":"B175","v":"SOUKUP"},"Ondřej","9.A",10.02,null,{"$f":"G175","v":"Jilemnice  05.05.23"},723.33333333333337,null,{"$f":"J175","v":7.75},0,0]
["76.",{"$f":"B176","v":"SPANILÝ"},"David","9.A",10.77,null,{"$f":"G176","v":"Jilemnice  05.05.23"},765,null,{"$f":"J176","v":7.9},0,0]
["77.",{"$f":"B177","v":"ČERNÝ"},"Michal","9.B",8.49,null,{"$f":"G177","v":"Jilemnice  05.05.23"},638.33333333333337,null,{"$f":"J177","v":8.44},0,0]
["78.",{"$f":"B178","v":"DOLEJŠÍ"},"David","9.B",7.81,null,{"$f":"G178","v":"Jilemnice  05.05.23"},600.55555555555554,null,{"$f":"J178","v":6.94},0,0]
["79.",{"$f":"B179","v":"POVAŽANEC"},"Martin","9.B",11.02,null,{"$f":"G179","v":"Jilemnice  05.05.23"},778.88888888888891,null,{"$f":"J179","v":10.96},0,0]
["80.",{"$f":"B180","v":"RICHTER"},"Jakub","9.B",7.66,null,{"$f":"G180","v":"Jilemnice  05.05.23"},592.22222222222217,null,{"$f":"J180","v":6.2},0,0]
["81.",{"$f":"B181","v":"ROZUMEK"},"Adam","9.B",11.29,null,{"$f":"G181","v":"Jilemnice  05.05.23"},793.88888888888891,null,{"$f":"J181","v":9.4},0,0]
["82.",{"$f":"B182","v":"VALENTA"},"František","9.B",8.07,null,{"$f":"G182","v":"Jilemnice  05.05.23"},615,null,{"$f":"J182","v":7.7},0,0]
["83.",{"$f":"B183","v":"ZAPLATÍLEK"},"Josef","9.B",8.92,null,{"$f":"G183","v":"Jilemnice  05.05.23"},662.22222222222217,null,{"$f":"J183","v":5.83},0,0]
[]
[]
[]
[]
[]
[]
[]
[]
[]
[]
[]
[]
[]
[]
[null,"HONCŮ","Filip","6.A",4.07,null,"Jilemnice  16.06.23",{"$f":"IF(E101=0,0,(25*E101+75)/0.45)","v":392.77777777777777}]
[null,"JÍLEK","Lukáš","6.A",null,null,null,0]
[null,"KUČERA","Tadeáš","6.A",4.6900000000000004,null,"Jilemnice  16.06.23",427.22222222222223]
[null,"ROZUMEK","Lukáš","6.A",6.16,null,"Jilemnice  19.06.23",508.88888888888886]
[null,"ŘEHOŘEK","Marek","6.A",null,null,null,0]
[null,"ŘÍHA","Tadeáš","6.A",6.9,null,"Jilemnice  16.06.23",550]
[null,"SKRBEK","Richard","6.A",5.82,null,"Jilemnice  16.06.23",490]
[null,"ŠIMEK","Erik","6.A",7.62,null,"Jilemnice  19.06.23",590]
[null,"ŠÍR","Jan","6.A",5.7,null,"Jilemnice  16.06.23",483.33333333333331]
[null,"ŠÍR","Stanislav","6.A",4.28,null,"Jilemnice  19.06.23",404.44444444444446]
[null,"ŠPINAR","František","6.A",5.75,null,"Jilemnice  16.06.23",486.11111111111109]
[null,"TOTH","Mikuláš","6.A",null,null,null,0]
[null,"WEISZLEMLEIN","Adam","6.A",null,null,null,0]
[null,"ČERNÝ","Filip","6.B",null,null,null,0]
[null,"GINGAL","Patrik","6.B",null,null,null,0]
[null,"HLAVÁCEK","Josef","6.B",6.9,null,"Jilemnice  19.06.23",550]
[null,"KHUDA","Ivan","6.B",6.3,null,"Jilemnice  19.06.23",516.66666666666663]
[null,"KRESAN","Matěj","6.B",4.8,null,"Jilemnice  19.06.23",433.33333333333331]
[null,"RYCHTR","Vojtěch","6.B",null,null,null,0]
[null,"ŠTAJER","David","6.B",7.92,null,"Jilemnice  19.06.23",606.66666666666663]
[null,"TKACHUK","Dzvenyslav","6.B",null,null,null,0]
[null,"VELIKOVSKÝ","Dominik","6.B",3.9,null,"Jilemnice  19.06.23",383.33333333333331]
[null,"EXNER","Tomáš","7.A",8.75,null,"Jilemnice  07.05.23",652.77777777777771,null,6.58]
[null,"JANATA","Denis","7.A",4.9400000000000004,null,"Jilemnice  31.05.23",441.11111111111109,null,4.45]
[null,"JINDŘIŠEK","Alex Jiří","7.A",8.7899999999999991,null,"Jilemnice  31.05.23",655,null,7.65]
[null,"KAZLEPKA","Miroslav","7.A",null,null,null,0]
[null,"MARŠÁLEK","Ondřej","7.A",8.19,null,"Jilemnice  31.05.23",621.66666666666663,null,6.27]
[null,"MLATEČEK","Patrik","7.A",6.71,null,"Jilemnice  31.05.23",539.44444444444446,null,5.48]
[null,"SCHOLZ","Matyáš","7.A",7.71,null,"Jilemnice  07.05.23",595,null,6.98]
[null,"TOMÁŠ","Jakub","7.A",7.47,null,"Jilemnice  31.05.23",581.66666666666663,null,5.85]
[null,"VÁCLAVÍK","Jan","7.A",6.19,null,"Jilemnice  31.05.23",510.55555555555554,null,5.22]
[null,"VEČEŘA","David","7.A",6.87,null,"Jilemnice  31.05.23",548.33333333333337,null,5.4]
[null,"VYBÍRAL","Radim","7.A",7.66,null,"Jilemnice  31.05.23",{"$f":"IF(E133=0,0,(25*E133+75)/0.45)","v":592.22222222222217},null,6.29]
[null,"BERISHA","David","7.B",null,null,null,0,null,2.15]
[null,"EFENBERK","Šimon","7.B",8.9499999999999993,null,"Jilemnice  31.05.23",663.88888888888891,null,6.61]
[null,"FEJKL","Antonín","7.B",9.3699999999999992,null,"Jilemnice  07.05.23",687.22222222222217,null,6.37]
[null,"GOTTSTEIN","Matouš","7.B",9.59,null,"Jilemnice  31.05.23",699.44444444444446,null,6.45]
[null,"MAŘAS","Dominik","7.B",9.2899999999999991,null,"Jilemnice  31.05.23",682.77777777777771,null,5.2]
[null,"POVAŽANEC","Lukáš","7.B",10.08,null,"Jilemnice  31.05.23",726.66666666666663,null,7.1]
[null,"VANCL","Jakub","7.B",6.65,null,"Jilemnice  31.05.23",536.11111111111109,null,5.46]
[null,"VANCL","Miroslav","7.B",6.64,null,"Jilemnice  31.05.23",535.55555555555554,null,4.9800000000000004]
[null,"VOTOČEK","Michal","7.B",7.95,null,"Jilemnice  31.05.23",608.33333333333337,null,5.7]
[null,"DEMČUK","Ilja","8.A",8.4700000000000006,null,"Jilemnice  05.05.23",637.22222222222217,null,6.49]
[null,"FAISTAUER","Kryštof","8.A",10.31,null,"Jilemnice  07.05.23",739.44444444444446,null,6.11]
[null,"FRK","Matyáš","8.A",null,null,null,0,null,5.63]
[null,"HUBÁLOVSKÝ","Marek","8.A",7.05,null,"Jilemnice  05.05.23",558.33333333333337,null,5.12]
[null,"MAŤÁTKO","Jakub","8.A",null,null,null,0]
[null,"MERY","Luboš","8.A",6.17,null,"Jilemnice  05.05.23",509.44444444444446,null,4.9000000000000004]
[null,"NOVOTNÝ","Matěj","8.A",8.31,null,"Jilemnice  16.06.23",628.33333333333337,null,5.88]
[null,"ŘEHOŘEK","Vojtěch","8.A",10.1,null,"Jilemnice  07.05.23",727.77777777777771,null,6.5]
[null,"ŠÍR","Matyáš","8.A",5.53,null,"Jilemnice  05.05.23",473.88888888888886,null,3.72]
[null,"TORÁČ","Tomáš","8.A",null,null,null,0,null,4.54]
[null,"VÁCLAVÍK","Ondřej","8.A",7.53,null,"Jilemnice  05.05.23",585]
[null,"AUERSWALD","Daniel","8.B",6.76,null,"Jilemnice  05.05.23",542.22222222222217]
[null,"BOUKAL","Jakub","8.B",null,null,null,0,null,6.72]
[null,"BUDÍN","Martin","8.B",7.26,null,"Jilemnice  05.05.23",570,null,5.27]
[null,"DVOŘÁK","Dominik","8.B",8.8800000000000008,null,"Jilemnice  16.06.23",660,null,6.24]
[null,"FIŠERA","Vojtěch","8.B",7.12,null,"Jilemnice  05.05.23",562.22222222222217,null,5.51]
[null,"JINDŘIŠEK","Vít","8.B",11.17,null,"Jilemnice  16.06.23",787.22222222222217,null,7.91]
[null,"JIROUŠ","Matouš","8.B",7.85,null,"Jilemnice  16.06.23",602.77777777777771,null,5.9]
[null,"KERLE","Marek","8.B",11.17,null,"Jilemnice  05.05.23",787.22222222222217,null,7.25]
[null,"LUKEŠ","Jakub","8.B",7.25,null,"Jilemnice  05.05.23",569.44444444444446,null,4.95]
[null,"OTT","Matyáš","8.B",8.9499999999999993,null,"Jilemnice  16.06.23",663.88888888888891,null,6.12]
[null,"POKORNÝ","Matyáš","8.B",8.31,null,"Jilemnice  05.05.23",628.33333333333337,null,5.51]
[null,"POLÁČEK","Matyáš","8.B",8.69,null,"Jilemnice  16.06.23",{"$f":"IF(E165=0,0,(25*E165+75)/0.45)","v":649.44444444444446},null,5.3]
[null,"ULLMAN","Šimon","8.B",6.48,null,"Jilemnice  05.05.23",526.66666666666663,null,5.29]
[null,"VALENTA","Jakub","8.B",6.51,null,"Jilemnice  05.05.23",528.33333333333337,null,5.4]
[null,"VRBATA","Dominik","8.B",7.05,null,"Jilemnice  16.06.23",558.33333333333337,null,6.41]
[null,"FEJKL","Jan","9.A",9.99,null,"Jilemnice  05.05.23",721.66666666666663,null,7.58]
[null,"KOTYK","Tadeáš","9.A",9.07,null,"Jilemnice  05.05.23",670.55555555555554,null,6.98]
[null,"KRAUSE","Tadeáš","9.A",8.02,null,"Jilemnice  05.05.23",612.22222222222217,null,7.32]
[null,"LEŠÁK","Martin","9.A",8.44,null,"Jilemnice  05.05.23",635.55555555555554,null,6.91]
[null,"NECHANICKÝ","David","9.A",9.5,null,"Jilemnice  05.05.23",694.44444444444446,null,8.3000000000000007]
[null,"ŘEHOŘEK","Jan","9.A",8.08,null,"Jilemnice  05.05.23",615.55555555555554,null,5.9]
[null,"SOUKUP","Ondřej","9.A",10.02,null,"Jilemnice  05.05.23",723.33333333333337,null,7.75]
[null,"SPANILÝ","David","9.A",10.77,null,"Jilemnice  05.05.23",765,null,7.9]
[null,"ČERNÝ","Michal","9.B",8.49,null,"Jilemnice  05.05.23",638.33333333333337,null,8.44]
[null,"DOLEJŠÍ","David","9.B",7.81,null,"Jilemnice  05.05.23",600.55555555555554,null,6.94]
[null,"POVAŽANEC","Martin","9.B",11.02,null,"Jilemnice  05.05.23",778.88888888888891,null,10.96]
[null,"RICHTER","Jakub","9.B",7.66,null,"Jilemnice  05.05.23",592.22222222222217,null,6.2]
[null,"ROZUMEK","Adam","9.B",11.29,null,"Jilemnice  05.05.23",793.88888888888891,null,9.4]
[null,"VALENTA","František","9.B",8.07,null,"Jilemnice  05.05.23",615,null,7.7]
[null,"ZAPLATÍLEK","Josef","9.B",8.92,null,"Jilemnice  05.05.23",662.22222222222217,null,5.83]

{"sheet":"OŠTĚP","index":13,"n_rows":183,"n_cols":12,"rows_kept":183,"cut":false,"hidden":false,"merged":[]}
[null,null,"VÝKONY  2022 - 2023",null,null,null,"OŠTĚP","CHLAPCI  6. -  9.  ROČ."]
[null,"stav  k ",{"$f":"TODAY()","v":"2023-06-26"},null,null,null,null,null,null,"21 - 22","20 - 21","19  - 20"]
[]
["1.",{"$f":"B101","v":"HONCŮ"},{"$f":"C101","v":"Filip"},"6.A",0,null,0,0,null,0,0,0]
["2.",{"$f":"B102","v":"JÍLEK"},"Lukáš","6.A",0,null,{"$f":"G102","v":0},0,null,{"$f":"J102","v":0},0,0]
["3.",{"$f":"B103","v":"KUČERA"},"Tadeáš","6.A",0,null,{"$f":"G103","v":0},0,null,{"$f":"J103","v":0},0,0]
["4.",{"$f":"B104","v":"ROZUMEK"},"Lukáš","6.A",0,null,{"$f":"G104","v":0},0,null,{"$f":"J104","v":0},0,0]
["5.",{"$f":"B105","v":"ŘEHOŘEK"},"Marek","6.A",0,null,{"$f":"G105","v":0},0,null,{"$f":"J105","v":0},0,0]
["6.",{"$f":"B106","v":"ŘÍHA"},"Tadeáš","6.A",0,null,{"$f":"G106","v":0},0,null,{"$f":"J106","v":0},0,0]
["7.",{"$f":"B107","v":"SKRBEK"},"Richard","6.A",0,null,{"$f":"G107","v":0},0,null,{"$f":"J107","v":0},0,0]
["8.",{"$f":"B108","v":"ŠIMEK"},"Erik","6.A",0,null,{"$f":"G108","v":0},0,null,{"$f":"J108","v":0},0,0]
["9.",{"$f":"B109","v":"ŠÍR"},"Jan","6.A",0,null,{"$f":"G109","v":0},0,null,{"$f":"J109","v":0},0,0]
["10.",{"$f":"B110","v":"ŠÍR"},"Stanislav","6.A",0,null,{"$f":"G110","v":0},0,null,{"$f":"J110","v":0},0,0]
["11.",{"$f":"B111","v":"ŠPINAR"},"František","6.A",0,null,{"$f":"G111","v":0},0,null,{"$f":"J111","v":0},0,0]
["12.",{"$f":"B112","v":"TOTH"},"Mikuláš","6.A",0,null,{"$f":"G112","v":0},0,null,{"$f":"J112","v":0},0,0]
["13.",{"$f":"B113","v":"WEISZLEMLEIN"},"Adam","6.A",0,null,{"$f":"G113","v":0},0,null,{"$f":"J113","v":0},0,0]
["14.",{"$f":"B114","v":"ČERNÝ"},"Filip","6.B",0,null,{"$f":"G114","v":0},0,null,{"$f":"J114","v":0},0,0]
["15.",{"$f":"B115","v":"GINGAL"},"Patrik","6.B",0,null,{"$f":"G115","v":0},0,null,{"$f":"J115","v":0},0,0]
["16.",{"$f":"B116","v":"HLAVÁCEK"},"Josef","6.B",0,null,{"$f":"G116","v":0},0,null,{"$f":"J116","v":0},0,0]
["17.",{"$f":"B117","v":"KHUDA"},"Ivan","6.B",0,null,{"$f":"G117","v":0},0,null,{"$f":"J117","v":0},0,0]
["18.",{"$f":"B118","v":"KRESAN"},"Matěj","6.B",0,null,{"$f":"G118","v":0},0,null,{"$f":"J118","v":0},0,0]
["19.",{"$f":"B119","v":"RYCHTR"},"Vojtěch","6.B",0,null,{"$f":"G119","v":0},0,null,{"$f":"J119","v":0},0,0]
["20.",{"$f":"B120","v":"ŠTAJER"},"David","6.B",0,null,{"$f":"G120","v":0},0,null,{"$f":"J120","v":0},0,0]
["21.",{"$f":"B121","v":"TKACHUK"},"Dzvenyslav","6.B",0,null,{"$f":"G121","v":0},0,null,{"$f":"J121","v":0},0,0]
["22.",{"$f":"B122","v":"VELIKOVSKÝ"},"Dominik","6.B",0,null,{"$f":"G122","v":0},0,null,{"$f":"J122","v":0},0,0]
["23.",{"$f":"B123","v":"EXNER"},"Tomáš","7.A",0,null,{"$f":"G123","v":0},0,null,{"$f":"J123","v":0},0,0]
["24.",{"$f":"B124","v":"JANATA"},"Denis","7.A",0,null,{"$f":"G124","v":0},0,null,{"$f":"J124","v":0},0,0]
["25.",{"$f":"B125","v":"JINDŘIŠEK"},"Alex Jiří","7.A",0,null,{"$f":"G125","v":0},0,null,{"$f":"J125","v":0},0,0]
["26.",{"$f":"B126","v":"KAZLEPKA"},"Miroslav","7.A",0,null,{"$f":"G126","v":0},0,null,{"$f":"J126","v":0},0,0]
["27.",{"$f":"B127","v":"MARŠÁLEK"},"Ondřej","7.A",0,null,{"$f":"G127","v":0},0,null,{"$f":"J127","v":0},0,0]
["28.",{"$f":"B128","v":"MLATEČEK"},"Patrik","7.A",0,null,{"$f":"G128","v":0},0,null,{"$f":"J128","v":0},0,0]
["29.",{"$f":"B129","v":"SCHOLZ"},"Matyáš","7.A",0,null,{"$f":"G129","v":0},0,null,{"$f":"J129","v":0},0,0]
["30.",{"$f":"B130","v":"TOMÁŠ"},"Jakub","7.A",0,null,{"$f":"G130","v":0},0,null,{"$f":"J130","v":0},0,0]
["31.",{"$f":"B131","v":"VÁCLAVÍK"},"Jan","7.A",0,null,{"$f":"G131","v":0},0,null,{"$f":"J131","v":0},0,0]
["32.",{"$f":"B132","v":"VEČEŘA"},"David","7.A",0,null,{"$f":"G132","v":0},0,null,{"$f":"J132","v":0},0,0]
["33.",{"$f":"B133","v":"VYBÍRAL"},"Radim","7.A",0,null,{"$f":"G133","v":0},0,null,{"$f":"J133","v":0},0,0]
["34.",{"$f":"B134","v":"BERISHA"},"David","7.B",0,null,{"$f":"G134","v":0},0,null,{"$f":"J134","v":0},0,0]
["35.",{"$f":"B135","v":"EFENBERK"},"Šimon","7.B",0,null,{"$f":"G135","v":0},0,null,{"$f":"J135","v":0},0,0]
["36.",{"$f":"B136","v":"FEJKL"},"Antonín","7.B",0,null,{"$f":"G136","v":0},0,null,{"$f":"J136","v":0},0,0]
["37.",{"$f":"B137","v":"GOTTSTEIN"},"Matouš","7.B",0,null,{"$f":"G137","v":0},0,null,{"$f":"J137","v":0},0,0]
["38.",{"$f":"B138","v":"MAŘAS"},"Dominik","7.B",0,null,{"$f":"G138","v":0},0,null,{"$f":"J138","v":0},0,0]
["39.",{"$f":"B139","v":"POVAŽANEC"},"Lukáš","7.B",0,null,{"$f":"G139","v":0},0,null,{"$f":"J139","v":0},0,0]
["40.",{"$f":"B140","v":"VANCL"},"Jakub","7.B",0,null,{"$f":"G140","v":0},0,null,{"$f":"J140","v":0},0,0]
["41.",{"$f":"B141","v":"VANCL"},"Miroslav","7.B",0,null,{"$f":"G141","v":0},0,null,{"$f":"J141","v":0},0,0]
["42.",{"$f":"B142","v":"VOTOČEK"},"Michal","7.B",0,null,{"$f":"G142","v":0},0,null,{"$f":"J142","v":0},0,0]
["43.",{"$f":"B143","v":"DEMČUK"},"Ilja","8.A",0,null,{"$f":"G143","v":0},0,null,{"$f":"J143","v":0},0,0]
["44.",{"$f":"B144","v":"FAISTAUER"},"Kryštof","8.A",0,null,{"$f":"G144","v":0},0,null,{"$f":"J144","v":0},0,0]
["45.",{"$f":"B145","v":"FRK"},"Matyáš","8.A",0,null,{"$f":"G145","v":0},0,null,{"$f":"J145","v":0},0,0]
["46.",{"$f":"B146","v":"HUBÁLOVSKÝ"},"Marek","8.A",0,null,{"$f":"G146","v":0},0,null,{"$f":"J146","v":0},0,0]
["47.",{"$f":"B147","v":"MAŤÁTKO"},"Jakub","8.A",0,null,{"$f":"G147","v":0},0,null,{"$f":"J147","v":0},0,0]
["48.",{"$f":"B148","v":"MERY"},"Luboš","8.A",0,null,{"$f":"G148","v":0},0,null,{"$f":"J148","v":0},0,0]
["49.",{"$f":"B149","v":"NOVOTNÝ"},"Matěj","8.A",0,null,{"$f":"G149","v":0},0,null,{"$f":"J149","v":0},0,0]
["50.",{"$f":"B150","v":"ŘEHOŘEK"},"Vojtěch","8.A",0,null,{"$f":"G150","v":0},0,null,{"$f":"J150","v":0},0,0]
["51.",{"$f":"B151","v":"ŠÍR"},"Matyáš","8.A",0,null,{"$f":"G151","v":0},0,null,{"$f":"J151","v":0},0,0]
["52.",{"$f":"B152","v":"TORÁČ"},"Tomáš","8.A",0,null,{"$f":"G152","v":0},0,null,{"$f":"J152","v":0},0,0]
["53.",{"$f":"B153","v":"VÁCLAVÍK"},"Ondřej","8.A",0,null,{"$f":"G153","v":0},0,null,{"$f":"J153","v":0},0,0]
["54.",{"$f":"B154","v":"AUERSWALD"},"Daniel","8.B",0,null,{"$f":"G154","v":0},0,null,{"$f":"J154","v":0},0,0]
["55.",{"$f":"B155","v":"BOUKAL"},"Jakub","8.B",0,null,{"$f":"G155","v":0},0,null,{"$f":"J155","v":0},0,0]
["56.",{"$f":"B156","v":"BUDÍN"},"Martin","8.B",0,null,{"$f":"G156","v":0},0,null,{"$f":"J156","v":0},0,0]
["57.",{"$f":"B157","v":"DVOŘÁK"},"Dominik","8.B",0,null,{"$f":"G157","v":0},0,null,{"$f":"J157","v":0},0,0]
["58.",{"$f":"B158","v":"FIŠERA"},"Vojtěch","8.B",0,null,{"$f":"G158","v":0},0,null,{"$f":"J158","v":0},0,0]
["59.",{"$f":"B159","v":"JINDŘIŠEK"},"Vít","8.B",0,null,{"$f":"G159","v":0},0,null,{"$f":"J159","v":0},0,0]
["60.",{"$f":"B160","v":"JIROUŠ"},"Matouš","8.B",0,null,{"$f":"G160","v":0},0,null,{"$f":"J160","v":0},0,0]
["61.",{"$f":"B161","v":"KERLE"},"Marek","8.B",0,null,{"$f":"G161","v":0},0,null,{"$f":"J161","v":0},0,0]
["62.",{"$f":"B162","v":"LUKEŠ"},"Jakub","8.B",0,null,{"$f":"G162","v":0},0,null,{"$f":"J162","v":0},0,0]
["63.",{"$f":"B163","v":"OTT"},"Matyáš","8.B",0,null,{"$f":"G163","v":0},0,null,{"$f":"J163","v":0},0,0]
["64.",{"$f":"B164","v":"POKORNÝ"},"Matyáš","8.B",0,null,{"$f":"G164","v":0},0,null,{"$f":"J164","v":0},0,0]
["65.",{"$f":"B165","v":"POLÁČEK"},"Matyáš","8.B",0,null,{"$f":"G165","v":0},0,null,{"$f":"J165","v":0},0,0]
["66.",{"$f":"B166","v":"ULLMAN"},"Šimon","8.B",0,null,{"$f":"G166","v":0},0,null,{"$f":"J166","v":0},0,0]
["67.",{"$f":"B167","v":"VALENTA"},"Jakub","8.B",0,null,{"$f":"G167","v":0},0,null,{"$f":"J167","v":0},0,0]
["68.",{"$f":"B168","v":"VRBATA"},"Dominik","8.B",0,null,{"$f":"G168","v":0},0,null,{"$f":"J168","v":0},0,0]
["69.",{"$f":"B169","v":"FEJKL"},"Jan","9.A",0,null,{"$f":"G169","v":0},0,null,{"$f":"J169","v":0},0,0]
["70.",{"$f":"B170","v":"KOTYK"},"Tadeáš","9.A",0,null,{"$f":"G170","v":0},0,null,{"$f":"J170","v":0},0,0]
["71.",{"$f":"B171","v":"KRAUSE"},"Tadeáš","9.A",0,null,{"$f":"G171","v":0},0,null,{"$f":"J171","v":0},0,0]
["72.",{"$f":"B172","v":"LEŠÁK"},"Martin","9.A",0,null,{"$f":"G172","v":0},0,null,{"$f":"J172","v":0},0,0]
["73.",{"$f":"B173","v":"NECHANICKÝ"},"David","9.A",0,null,{"$f":"G173","v":0},0,null,{"$f":"J173","v":0},0,0]
["74.",{"$f":"B174","v":"ŘEHOŘEK"},"Jan","9.A",0,null,{"$f":"G174","v":0},0,null,{"$f":"J174","v":0},0,0]
["75.",{"$f":"B175","v":"SOUKUP"},"Ondřej","9.A",0,null,{"$f":"G175","v":0},0,null,{"$f":"J175","v":0},0,0]
["76.",{"$f":"B176","v":"SPANILÝ"},"David","9.A",0,null,{"$f":"G176","v":0},0,null,{"$f":"J176","v":0},0,0]
["77.",{"$f":"B177","v":"ČERNÝ"},"Michal","9.B",0,null,{"$f":"G177","v":0},0,null,{"$f":"J177","v":0},0,0]
["78.",{"$f":"B178","v":"DOLEJŠÍ"},"David","9.B",0,null,{"$f":"G178","v":0},0,null,{"$f":"J178","v":0},0,0]
["79.",{"$f":"B179","v":"POVAŽANEC"},"Martin","9.B",0,null,{"$f":"G179","v":0},0,null,{"$f":"J179","v":0},0,0]
["80.",{"$f":"B180","v":"RICHTER"},"Jakub","9.B",0,null,{"$f":"G180","v":0},0,null,{"$f":"J180","v":0},0,0]
["81.",{"$f":"B181","v":"ROZUMEK"},"Adam","9.B",0,null,{"$f":"G181","v":0},0,null,{"$f":"J181","v":0},0,0]
["82.",{"$f":"B182","v":"VALENTA"},"František","9.B",0,null,{"$f":"G182","v":0},0,null,{"$f":"J182","v":0},0,0]
["83.",{"$f":"B183","v":"ZAPLATÍLEK"},"Josef","9.B",0,null,{"$f":"G183","v":0},0,null,{"$f":"J183","v":0},0,0]
[]
[]
[]
[]
[]
[]
[]
[]
[]
[]
[]
[]
[]
[]
[null,"HONCŮ","Filip","6.A",null,null,null,{"$f":"IF(E101=0,0,E101*10*1.25)*2","v":0}]
[null,"JÍLEK","Lukáš","6.A",null,null,null,0]
[null,"KUČERA","Tadeáš","6.A",null,null,null,0]
[null,"ROZUMEK","Lukáš","6.A",null,null,null,0]
[null,"ŘEHOŘEK","Marek","6.A",null,null,null,0]
[null,"ŘÍHA","Tadeáš","6.A",null,null,null,0]
[null,"SKRBEK","Richard","6.A",null,null,null,0]
[null,"ŠIMEK","Erik","6.A",null,null,null,0]
[null,"ŠÍR","Jan","6.A",null,null,null,0]
[null,"ŠÍR","Stanislav","6.A",null,null,null,0]
[null,"ŠPINAR","František","6.A",null,null,null,0]
[null,"TOTH","Mikuláš","6.A",null,null,null,0]
[null,"WEISZLEMLEIN","Adam","6.A",null,null,null,0]
[null,"ČERNÝ","Filip","6.B",null,null,null,0]
[null,"GINGAL","Patrik","6.B",null,null,null,0]
[null,"HLAVÁCEK","Josef","6.B",null,null,null,0]
[null,"KHUDA","Ivan","6.B",null,null,null,0]
[null,"KRESAN","Matěj","6.B",null,null,null,0]
[null,"RYCHTR","Vojtěch","6.B",null,null,null,0]
[null,"ŠTAJER","David","6.B",null,null,null,0]
[null,"TKACHUK","Dzvenyslav","6.B",null,null,null,0]
[null,"VELIKOVSKÝ","Dominik","6.B",null,null,null,0]
[null,"EXNER","Tomáš","7.A",null,null,null,0]
[null,"JANATA","Denis","7.A",null,null,null,0]
[null,"JINDŘIŠEK","Alex Jiří","7.A",null,null,null,0]
[null,"KAZLEPKA","Miroslav","7.A",null,null,null,0]
[null,"MARŠÁLEK","Ondřej","7.A",null,null,null,0]
[null,"MLATEČEK","Patrik","7.A",null,null,null,0]
[null,"SCHOLZ","Matyáš","7.A",null,null,null,0]
[null,"TOMÁŠ","Jakub","7.A",null,null,null,0]
[null,"VÁCLAVÍK","Jan","7.A",null,null,null,0]
[null,"VEČEŘA","David","7.A",null,null,null,0]
[null,"VYBÍRAL","Radim","7.A",null,null,null,{"$f":"IF(E133=0,0,E133*10*1.25)*2","v":0}]
[null,"BERISHA","David","7.B",null,null,null,0]
[null,"EFENBERK","Šimon","7.B",null,null,null,0]
[null,"FEJKL","Antonín","7.B",null,null,null,0]
[null,"GOTTSTEIN","Matouš","7.B",null,null,null,0]
[null,"MAŘAS","Dominik","7.B",null,null,null,0]
[null,"POVAŽANEC","Lukáš","7.B",null,null,null,0]
[null,"VANCL","Jakub","7.B",null,null,null,0]
[null,"VANCL","Miroslav","7.B",null,null,null,0]
[null,"VOTOČEK","Michal","7.B",null,null,null,0]
[null,"DEMČUK","Ilja","8.A",null,null,null,0]
[null,"FAISTAUER","Kryštof","8.A",null,null,null,0]
[null,"FRK","Matyáš","8.A",null,null,null,0]
[null,"HUBÁLOVSKÝ","Marek","8.A",null,null,null,0]
[null,"MAŤÁTKO","Jakub","8.A",null,null,null,0]
[null,"MERY","Luboš","8.A",null,null,null,0]
[null,"NOVOTNÝ","Matěj","8.A",null,null,null,0]
[null,"ŘEHOŘEK","Vojtěch","8.A",null,null,null,0]
[null,"ŠÍR","Matyáš","8.A",null,null,null,0]
[null,"TORÁČ","Tomáš","8.A",null,null,null,0]
[null,"VÁCLAVÍK","Ondřej","8.A",null,null,null,0]
[null,"AUERSWALD","Daniel","8.B",null,null,null,0]
[null,"BOUKAL","Jakub","8.B",null,null,null,0]
[null,"BUDÍN","Martin","8.B",null,null,null,0]
[null,"DVOŘÁK","Dominik","8.B",null,null,null,0]
[null,"FIŠERA","Vojtěch","8.B",null,null,null,0]
[null,"JINDŘIŠEK","Vít","8.B",null,null,null,0]
[null,"JIROUŠ","Matouš","8.B",null,null,null,0]
[null,"KERLE","Marek","8.B",null,null,null,0]
[null,"LUKEŠ","Jakub","8.B",null,null,null,0]
[null,"OTT","Matyáš","8.B",null,null,null,0]
[null,"POKORNÝ","Matyáš","8.B",null,null,null,0]
[null,"POLÁČEK","Matyáš","8.B",null,null,null,{"$f":"IF(E165=0,0,E165*10*1.25)*2","v":0}]
[null,"ULLMAN","Šimon","8.B",null,null,null,0]
[null,"VALENTA","Jakub","8.B",null,null,null,0]
[null,"VRBATA","Dominik","8.B",null,null,null,0]
[null,"FEJKL","Jan","9.A",null,null,null,0]
[null,"KOTYK","Tadeáš","9.A",null,null,null,0]
[null,"KRAUSE","Tadeáš","9.A",null,null,null,0]
[null,"LEŠÁK","Martin","9.A",null,null,null,0]
[null,"NECHANICKÝ","David","9.A",null,null,null,0]
[null,"ŘEHOŘEK","Jan","9.A",null,null,null,0]
[null,"SOUKUP","Ondřej","9.A",null,null,null,0]
[null,"SPANILÝ","David","9.A",null,null,null,0]
[null,"ČERNÝ","Michal","9.B",null,null,null,0]
[null,"DOLEJŠÍ","David","9.B",null,null,null,0]
[null,"POVAŽANEC","Martin","9.B",null,null,null,0]
[null,"RICHTER","Jakub","9.B",null,null,null,0]
[null,"ROZUMEK","Adam","9.B",null,null,null,0]
[null,"VALENTA","František","9.B",null,null,null,0]
[null,"ZAPLATÍLEK","Josef","9.B",null,null,null,0]

{"sheet":"ČLUNEK","index":14,"n_rows":183,"n_cols":12,"rows_kept":183,"cut":false,"hidden":false,"merged":[]}
[null,null,"VÝKONY  2022 - 2023",null,null,null,"ČLUNEK","CHLAPCI  6. -  9.  ROČ."]
[null,"stav  k ",{"$f":"TODAY()","v":"2023-06-26"},null,null,null,null,null,null,"21 - 22","20 - 21","19  - 20"]
[]
["1.",{"$f":"B101","v":"HONCŮ"},{"$f":"C101","v":"Filip"},"6.A",12.4," ","Jilemnice  12.06.23",647.57677290322579," ",0,0,0]
["2.",{"$f":"B102","v":"JÍLEK"},"Lukáš","6.A",0," ",{"$f":"G102","v":"Jilemnice  12.06.23"},0," ",{"$f":"J102","v":0},0,0]
["3.",{"$f":"B103","v":"KUČERA"},"Tadeáš","6.A",11.64," ",{"$f":"G103","v":"Jilemnice  12.06.23"},714.12001578210504," ",{"$f":"J103","v":0},0,0]
["4.",{"$f":"B104","v":"ROZUMEK"},"Lukáš","6.A",13.18," ",{"$f":"G104","v":"Jilemnice  12.06.23"},583.87000074186483," ",{"$f":"J104","v":0},0,0]
["5.",{"$f":"B105","v":"ŘEHOŘEK"},"Marek","6.A",0," ",{"$f":"G105","v":"Jilemnice  12.06.23"},0," ",{"$f":"J105","v":0},0,0]
["6.",{"$f":"B106","v":"ŘÍHA"},"Tadeáš","6.A",11.56," ",{"$f":"G106","v":"Jilemnice  12.06.23"},721.42660084582849," ",{"$f":"J106","v":0},0,0]
["7.",{"$f":"B107","v":"SKRBEK"},"Richard","6.A",12.94," ",{"$f":"G107","v":"Jilemnice  12.06.23"},603.03986398763539," ",{"$f":"J107","v":0},0,0]
["8.",{"$f":"B108","v":"ŠIMEK"},"Erik","6.A",11.73," ",{"$f":"G108","v":"Jilemnice  12.06.23"},705.9736758201509," ",{"$f":"J108","v":0},0,0]
["9.",{"$f":"B109","v":"ŠÍR"},"Jan","6.A",12.36," ",{"$f":"G109","v":"Jilemnice  12.06.23"},650.95984830396742," ",{"$f":"J109","v":0},0,0]
["10.",{"$f":"B110","v":"ŠÍR"},"Stanislav","6.A",12.14," ",{"$f":"G110","v":"Jilemnice  12.06.23"},669.79140203795225," ",{"$f":"J110","v":0},0,0]
["11.",{"$f":"B111","v":"ŠPINAR"},"František","6.A",13.76," ",{"$f":"G111","v":"Jilemnice  12.06.23"},538.92519685615855," ",{"$f":"J111","v":0},0,0]
["12.",{"$f":"B112","v":"TOTH"},"Mikuláš","6.A",13.34," ",{"$f":"G112","v":"Jilemnice  12.06.23"},571.28398423010719," ",{"$f":"J112","v":0},0,0]
["13.",{"$f":"B113","v":"WEISZLEMLEIN"},"Adam","6.A",13.13," ",{"$f":"G113","v":"Jilemnice  12.06.23"},587.83432909932026," ",{"$f":"J113","v":0},0,0]
["14.",{"$f":"B114","v":"ČERNÝ"},"Filip","6.B",0," ",{"$f":"G114","v":0},0," ",{"$f":"J114","v":0},0,0]
["15.",{"$f":"B115","v":"GINGAL"},"Patrik","6.B",12.37," ",{"$f":"G115","v":"Jilemnice  12.06.23"},650.1129287613403," ",{"$f":"J115","v":0},0,0]
["16.",{"$f":"B116","v":"HLAVÁCEK"},"Josef","6.B",11.6," ",{"$f":"G116","v":"Jilemnice  12.06.23"},717.76551075351222," ",{"$f":"J116","v":0},0,0]
["17.",{"$f":"B117","v":"KHUDA"},"Ivan","6.B",14.4," ",{"$f":"G117","v":"Jilemnice  12.06.23"},491.29112028806583," ",{"$f":"J117","v":0},0,0]
["18.",{"$f":"B118","v":"KRESAN"},"Matěj","6.B",14.3," ",{"$f":"G118","v":"Jilemnice  12.06.23"},498.61322550634543," ",{"$f":"J118","v":0},0,0]
["19.",{"$f":"B119","v":"RYCHTR"},"Vojtěch","6.B",12.45," ",{"$f":"G119","v":"Jilemnice  12.06.23"},643.36504921314895," ",{"$f":"J119","v":0},0,0]
["20.",{"$f":"B120","v":"ŠTAJER"},"David","6.B",12.13," ",{"$f":"G120","v":"Jilemnice  12.06.23"},670.65666669414668," ",{"$f":"J120","v":0},0,0]
["21.",{"$f":"B121","v":"TKACHUK"},"Dzvenyslav","6.B",0," ",{"$f":"G121","v":0},0," ",{"$f":"J121","v":0},0,0]
["22.",{"$f":"B122","v":"VELIKOVSKÝ"},"Dominik","6.B",13.4," ",{"$f":"G122","v":"Jilemnice  12.06.23"},566.60239239358748," ",{"$f":"J122","v":0},0,0]
["23.",{"$f":"B123","v":"EXNER"},"Tomáš","7.A",10.82," ",{"$f":"G123","v":"Jilemnice  14.11.22"},792.22666349010751," ",{"$f":"J123","v":11.83},0,0]
["24.",{"$f":"B124","v":"JANATA"},"Denis","7.A",11.05," ",{"$f":"G124","v":"Jilemnice  14.11.22"},769.56047592760183," ",{"$f":"J124","v":12.96},0,0]
["25.",{"$f":"B125","v":"JINDŘIŠEK"},"Alex Jiří","7.A",11.08," ",{"$f":"G125","v":"Jilemnice  14.11.22"},766.65019622944237," ",{"$f":"J125","v":0},0,0]
["26.",{"$f":"B126","v":"KAZLEPKA"},"Miroslav","7.A",14.21," ",{"$f":"G126","v":"Jilemnice  16.11.22"},505.23959585320699," ",{"$f":"J126","v":0},0,0]
["27.",{"$f":"B127","v":"MARŠÁLEK"},"Ondřej","7.A",11.31," ",{"$f":"G127","v":"Jilemnice  14.11.22"},744.67416554016438," ",{"$f":"J127","v":12.1},0,0]
["28.",{"$f":"B128","v":"MLATEČEK"},"Patrik","7.A",11.83," ",{"$f":"G128","v":"Jilemnice  14.11.22"},697.01102745374283," ",{"$f":"J128","v":13.85},0,0]
["29.",{"$f":"B129","v":"SCHOLZ"},"Matyáš","7.A",11.38," ",{"$f":"G129","v":"Jilemnice  14.11.22"},738.09980988088262," ",{"$f":"J129","v":0},0,0]
["30.",{"$f":"B130","v":"TOMÁŠ"},"Jakub","7.A",10.63," ",{"$f":"G130","v":"Jilemnice  14.11.22"},811.44673620779758," ",{"$f":"J130","v":11.36},0,0]
["31.",{"$f":"B131","v":"VÁCLAVÍK"},"Jan","7.A",10.75," ",{"$f":"G131","v":"Jilemnice  14.11.22"},799.25385923514204," ",{"$f":"J131","v":11.42},0,0]
["32.",{"$f":"B132","v":"VEČEŘA"},"David","7.A",11.98," ",{"$f":"G132","v":"Jilemnice  14.11.22"},683.73635733630113," ",{"$f":"J132","v":13.01},0,0]
["33.",{"$f":"B133","v":"VYBÍRAL"},"Radim","7.A",10.15," ",{"$f":"G133","v":"Jilemnice  14.11.22"},862.20664456486031," ",{"$f":"J133","v":11.24},0,0]
["34.",{"$f":"B134","v":"BERISHA"},"David","7.B",14.26," ",{"$f":"G134","v":"Jilemnice  14.11.22"},501.55395131681468," ",{"$f":"J134","v":11.92},0,0]
["35.",{"$f":"B135","v":"EFENBERK"},"Šimon","7.B",10.63," ",{"$f":"G135","v":"Jilemnice  14.11.22"},811.44673620779758," ",{"$f":"J135","v":11.97},0,0]
["36.",{"$f":"B136","v":"FEJKL"},"Antonín","7.B",10.26," ",{"$f":"G136","v":"Jilemnice  16.11.22"},850.27780209371167," ",{"$f":"J136","v":10.71},0,0]
["37.",{"$f":"B137","v":"GOTTSTEIN"},"Matouš","7.B",10.029999999999999," ",{"$f":"G137","v":"Jilemnice  14.11.22"},875.43457442118097," ",{"$f":"J137","v":10.73},0,0]
["38.",{"$f":"B138","v":"MAŘAS"},"Dominik","7.B",11.11," ",{"$f":"G138","v":"Jilemnice  14.11.22"},763.75024819481962," ",{"$f":"J138","v":13.81},0,0]
["39.",{"$f":"B139","v":"POVAŽANEC"},"Lukáš","7.B",12.16," ",{"$f":"G139","v":"Jilemnice  14.11.22"},668.06334459064328," ",{"$f":"J139","v":12.16},0,0]
["40.",{"$f":"B140","v":"VANCL"},"Jakub","7.B",12.84," ",{"$f":"G140","v":"Jilemnice  14.11.22"},611.13564739817718," ",{"$f":"J140","v":13.6},0,0]
["41.",{"$f":"B141","v":"VANCL"},"Miroslav","7.B",12.1," ",{"$f":"G141","v":"Jilemnice  14.11.22"},673.25743485766759," ",{"$f":"J141","v":12.94},0,0]
["42.",{"$f":"B142","v":"VOTOČEK"},"Michal","7.B",12.15," ",{"$f":"G142","v":"Jilemnice  14.11.22"},668.92696217954585," ",{"$f":"J142","v":13.12},0,0]
["43.",{"$f":"B143","v":"DEMČUK"},"Ilja","8.A",10.86," ",{"$f":"G143","v":"Jilemnice  10.03.23"},788.23865689925674," ",{"$f":"J143","v":11.37},0,0]
["44.",{"$f":"B144","v":"FAISTAUER"},"Kryštof","8.A",9.9700000000000006," ",{"$f":"G144","v":"Jilemnice  10.03.23"},882.13528896690059," ",{"$f":"J144","v":10.71},0,0]
["45.",{"$f":"B145","v":"FRK"},"Matyáš","8.A",0," ",{"$f":"G145","v":0},0," ",{"$f":"J145","v":12.65},0,0]
["46.",{"$f":"B146","v":"HUBÁLOVSKÝ"},"Marek","8.A",10.75," ",{"$f":"G146","v":"Jilemnice  10.03.23"},799.25385923514204," ",{"$f":"J146","v":11.48},0,0]
["47.",{"$f":"B147","v":"MAŤÁTKO"},"Jakub","8.A",12.46," ",{"$f":"G147","v":"Jilemnice  13.02.23"},642.52496408061336," ",{"$f":"J147","v":14.13},0,0]
["48.",{"$f":"B148","v":"MERY"},"Luboš","8.A",11.78," ",{"$f":"G148","v":"Jilemnice  10.03.23"},701.48083073633893," ",{"$f":"J148","v":12.05},0,0]
["49.",{"$f":"B149","v":"NOVOTNÝ"},"Matěj","8.A",11.44," ",{"$f":"G149","v":"Jilemnice  10.03.23"},732.50541336441336," ",{"$f":"J149","v":12.45},0,0]
["50.",{"$f":"B150","v":"ŘEHOŘEK"},"Vojtěch","8.A",0," ",{"$f":"G150","v":0},0," ",{"$f":"J150","v":12.03},0,0]
["51.",{"$f":"B151","v":"ŠÍR"},"Matyáš","8.A",12.1," ",{"$f":"G151","v":"Jilemnice  10.03.23"},673.25743485766759," ",{"$f":"J151","v":13.26},0,0]
["52.",{"$f":"B152","v":"TORÁČ"},"Tomáš","8.A",16.420000000000002," ",{"$f":"G152","v":"Jilemnice  13.02.23"},350.71345881716053," ",{"$f":"J152","v":16.54},0,0]
["53.",{"$f":"B153","v":"VÁCLAVÍK"},"Ondřej","8.A",10.119999999999999," ",{"$f":"G153","v":"Jilemnice  10.03.23"},865.49230109793598," ",{"$f":"J153","v":10.64},0,0]
["54.",{"$f":"B154","v":"AUERSWALD"},"Daniel","8.B",10.92," ",{"$f":"G154","v":"Jilemnice  10.03.23"},782.29351523538196," ",{"$f":"J154","v":0},0,0]
["55.",{"$f":"B155","v":"BOUKAL"},"Jakub","8.B",0," ",{"$f":"G155","v":0},0," ",{"$f":"J155","v":14.74},0,0]
["56.",{"$f":"B156","v":"BUDÍN"},"Martin","8.B",10.11," ",{"$f":"G156","v":"Jilemnice  10.03.23"},866.59065117412172," ",{"$f":"J156","v":11.04},0,0]
["57.",{"$f":"B157","v":"DVOŘÁK"},"Dominik","8.B",11.15," ",{"$f":"G157","v":"Jilemnice  10.03.23"},759.89955304102307," ",{"$f":"J157","v":12.04},0,0]
["58.",{"$f":"B158","v":"FIŠERA"},"Vojtěch","8.B",11.25," ",{"$f":"G158","v":"Jilemnice  10.03.23"},750.3509132279836," ",{"$f":"J158","v":11.87},0,0]
["59.",{"$f":"B159","v":"JINDŘIŠEK"},"Vít","8.B",9.39," ",{"$f":"G159","v":"Jilemnice  10.03.23"},950.16184686230417," ",{"$f":"J159","v":10.34},0,0]
["60.",{"$f":"B160","v":"JIROUŠ"},"Matouš","8.B",10.64," ",{"$f":"G160","v":"Jilemnice  10.03.23"},810.42346895015305," ",{"$f":"J160","v":11.73},0,0]
["61.",{"$f":"B161","v":"KERLE"},"Marek","8.B",10.08," ",{"$f":"G161","v":"Jilemnice  10.03.23"},869.89516866549093," ",{"$f":"J161","v":10.51},0,0]
["62.",{"$f":"B162","v":"LUKEŠ"},"Jakub","8.B",9.8000000000000007," ",{"$f":"G162","v":"Jilemnice  10.03.23"},901.44732565381696," ",{"$f":"J162","v":11.05},0,0]
["63.",{"$f":"B163","v":"OTT"},"Matyáš","8.B",9.73," ",{"$f":"G163","v":"Jilemnice  10.03.23"},909.54454976590148," ",{"$f":"J163","v":10.84},0,0]
["64.",{"$f":"B164","v":"POKORNÝ"},"Matyáš","8.B",9.4600000000000009," ",{"$f":"G164","v":"Jilemnice  10.03.23"},941.61788902983301," ",{"$f":"J164","v":9.84},0,0]
["65.",{"$f":"B165","v":"POLÁČEK"},"Matyáš","8.B",0," ",{"$f":"G165","v":0},0," ",{"$f":"J165","v":0},0,0]
["66.",{"$f":"B166","v":"ULLMAN"},"Šimon","8.B",10.57," ",{"$f":"G166","v":"Jilemnice  10.03.23"},817.61434772416681," ",{"$f":"J166","v":10.73},0,0]
["67.",{"$f":"B167","v":"VALENTA"},"Jakub","8.B",9.93," ",{"$f":"G167","v":"Jilemnice  10.03.23"},886.63536193726452," ",{"$f":"J167","v":10.54},0,0]
["68.",{"$f":"B168","v":"VRBATA"},"Dominik","8.B",10.19," ",{"$f":"G168","v":0},857.84749374840987," ",{"$f":"J168","v":11.65},0,0]
["69.",{"$f":"B169","v":"FEJKL"},"Jan","9.A",9.5299999999999994," ",{"$f":"G169","v":"Jilemnice  08.03.23"},933.17026174264515," ",{"$f":"J169","v":9.94},0,0]
["70.",{"$f":"B170","v":"KOTYK"},"Tadeáš","9.A",11.03," ",{"$f":"G170","v":"Jilemnice  08.03.23"},771.50645108962112," ",{"$f":"J170","v":11.88},0,0]
["71.",{"$f":"B171","v":"KRAUSE"},"Tadeáš","9.A",9.8800000000000008," ",{"$f":"G171","v":"Jilemnice  08.03.23"},892.29813009446684," ",{"$f":"J171","v":10.039999999999999},0,0]
["72.",{"$f":"B172","v":"LEŠÁK"},"Martin","9.A",11.16," ",{"$f":"G172","v":"Jilemnice  08.03.23"},758.93969499535365," ",{"$f":"J172","v":11.88},0,0]
["73.",{"$f":"B173","v":"NECHANICKÝ"},"David","9.A",9.08," ",{"$f":"G173","v":"Jilemnice  08.03.23"},989.22053150595525," ",{"$f":"J173","v":9.9700000000000006},0,0]
["74.",{"$f":"B174","v":"ŘEHOŘEK"},"Jan","9.A",0," ",{"$f":"G174","v":0},0," ",{"$f":"J174","v":10.43},0,0]
["75.",{"$f":"B175","v":"SOUKUP"},"Ondřej","9.A",0," ",{"$f":"G175","v":0},0," ",{"$f":"J175","v":11.63},0,0]
["76.",{"$f":"B176","v":"SPANILÝ"},"David","9.A",9.18," ",{"$f":"G176","v":"Jilemnice  08.03.23"},976.39598186072783," ",{"$f":"J176","v":10.32},0,0]
["77.",{"$f":"B177","v":"ČERNÝ"},"Michal","9.B",10.68," ",{"$f":"G177","v":"Jilemnice  08.03.23"},806.34357908170341," ",{"$f":"J177","v":11.05},0,0]
["78.",{"$f":"B178","v":"DOLEJŠÍ"},"David","9.B",10.16," ",{"$f":"G178","v":"Jilemnice  08.03.23"},861.11453957421986," ",{"$f":"J178","v":10.98},0,0]
["79.",{"$f":"B179","v":"POVAŽANEC"},"Martin","9.B",10.210000000000001," ",{"$f":"G179","v":"Jilemnice  08.03.23"},855.67713621721612," ",{"$f":"J179","v":11.15},0,0]
["80.",{"$f":"B180","v":"RICHTER"},"Jakub","9.B",10.95," ",{"$f":"G180","v":"Jilemnice  08.03.23"},779.33730608151529," ",{"$f":"J180","v":11.8},0,0]
["81.",{"$f":"B181","v":"ROZUMEK"},"Adam","9.B",10.09," ",{"$f":"G181","v":"Jilemnice  08.03.23"},868.79207967184243," ",{"$f":"J181","v":11.34},0,0]
["82.",{"$f":"B182","v":"VALENTA"},"František","9.B",10.38," ",{"$f":"G182","v":"Jilemnice  08.03.23"},837.47099830157708," ",{"$f":"J182","v":10.71},0,0]
["83.",{"$f":"B183","v":"ZAPLATÍLEK"},"Josef","9.B",9.99," ",{"$f":"G183","v":"Jilemnice  08.03.23"},879.89517582397218," ",{"$f":"J183","v":10.43},0,0]
[]
[]
[]
[]
[]
[]
[]
[]
[]
[]
[]
[]
[]
[]
[null,"HONCŮ","Filip","6.A",12.4,null,"Jilemnice  12.06.23",{"$f":"IF(E101=0,0,(((1000-313216/E101+34538300/E101*2-1698600000/E101*3+32198000000/E101*4)/13500000)-E101*E101+62))","v":647.57677290322579}]
[null,"JÍLEK","Lukáš","6.A",null,null,"Jilemnice  12.06.23",0]
[null,"KUČERA","Tadeáš","6.A",11.64,null,"Jilemnice  12.06.23",714.12001578210504]
[null,"ROZUMEK","Lukáš","6.A",13.18,null,"Jilemnice  12.06.23",583.87000074186483]
[null,"ŘEHOŘEK","Marek","6.A",null,null,"Jilemnice  12.06.23",0]
[null,"ŘÍHA","Tadeáš","6.A",11.56,null,"Jilemnice  12.06.23",721.42660084582849]
[null,"SKRBEK","Richard","6.A",12.94,null,"Jilemnice  12.06.23",603.03986398763539]
[null,"ŠIMEK","Erik","6.A",11.73,null,"Jilemnice  12.06.23",705.9736758201509]
[null,"ŠÍR","Jan","6.A",12.36,null,"Jilemnice  12.06.23",650.95984830396742]
[null,"ŠÍR","Stanislav","6.A",12.14,null,"Jilemnice  12.06.23",669.79140203795225]
[null,"ŠPINAR","František","6.A",13.76,null,"Jilemnice  12.06.23",538.92519685615855]
[null,"TOTH","Mikuláš","6.A",13.34,null,"Jilemnice  12.06.23",571.28398423010719]
[null,"WEISZLEMLEIN","Adam","6.A",13.13,null,"Jilemnice  12.06.23",587.83432909932026]
[null,"ČERNÝ","Filip","6.B",null,null,null,0]
[null,"GINGAL","Patrik","6.B",12.37,null,"Jilemnice  12.06.23",650.1129287613403]
[null,"HLAVÁCEK","Josef","6.B",11.6,null,"Jilemnice  12.06.23",717.76551075351222]
[null,"KHUDA","Ivan","6.B",14.4,null,"Jilemnice  12.06.23",491.29112028806583]
[null,"KRESAN","Matěj","6.B",14.3,null,"Jilemnice  12.06.23",498.61322550634543]
[null,"RYCHTR","Vojtěch","6.B",12.45,null,"Jilemnice  12.06.23",643.36504921314895]
[null,"ŠTAJER","David","6.B",12.13,null,"Jilemnice  12.06.23",670.65666669414668]
[null,"TKACHUK","Dzvenyslav","6.B",null,null,null,0]
[null,"VELIKOVSKÝ","Dominik","6.B",13.4,null,"Jilemnice  12.06.23",566.60239239358748]
[null,"EXNER","Tomáš","7.A",10.82,null,"Jilemnice  14.11.22",792.22666349010751,null,11.83]
[null,"JANATA","Denis","7.A",11.05,null,"Jilemnice  14.11.22",769.56047592760183,null,12.96]
[null,"JINDŘIŠEK","Alex Jiří","7.A",11.08,null,"Jilemnice  14.11.22",766.65019622944237]
[null,"KAZLEPKA","Miroslav","7.A",14.21,null,"Jilemnice  16.11.22",505.23959585320699]
[null,"MARŠÁLEK","Ondřej","7.A",11.31,null,"Jilemnice  14.11.22",744.67416554016438,null,12.1]
[null,"MLATEČEK","Patrik","7.A",11.83,null,"Jilemnice  14.11.22",697.01102745374283,null,13.85]
[null,"SCHOLZ","Matyáš","7.A",11.38,null,"Jilemnice  14.11.22",738.09980988088262]
[null,"TOMÁŠ","Jakub","7.A",10.63,null,"Jilemnice  14.11.22",811.44673620779758,null,11.36]
[null,"VÁCLAVÍK","Jan","7.A",10.75,null,"Jilemnice  14.11.22",799.25385923514204,null,11.42]
[null,"VEČEŘA","David","7.A",11.98,null,"Jilemnice  14.11.22",683.73635733630113,null,13.01]
[null,"VYBÍRAL","Radim","7.A",10.15,null,"Jilemnice  14.11.22",{"$f":"IF(E133=0,0,(((1000-313216/E133+34538300/E133*2-1698600000/E133*3+32198000000/E133*4)/13500000)-E133*E133+62))","v":862.20664456486031},null,11.24]
[null,"BERISHA","David","7.B",14.26,null,"Jilemnice  14.11.22",501.55395131681468,null,11.92]
[null,"EFENBERK","Šimon","7.B",10.63,null,"Jilemnice  14.11.22",811.44673620779758,null,11.97]
[null,"FEJKL","Antonín","7.B",10.26,null,"Jilemnice  16.11.22",850.27780209371167,null,10.71]
[null,"GOTTSTEIN","Matouš","7.B",10.029999999999999,null,"Jilemnice  14.11.22",875.43457442118097,null,10.73]
[null,"MAŘAS","Dominik","7.B",11.11,null,"Jilemnice  14.11.22",763.75024819481962,null,13.81]
[null,"POVAŽANEC","Lukáš","7.B",12.16,null,"Jilemnice  14.11.22",668.06334459064328,null,12.16]
[null,"VANCL","Jakub","7.B",12.84,null,"Jilemnice  14.11.22",611.13564739817718,null,13.6]
[null,"VANCL","Miroslav","7.B",12.1,null,"Jilemnice  14.11.22",673.25743485766759,null,12.94]
[null,"VOTOČEK","Michal","7.B",12.15,null,"Jilemnice  14.11.22",668.92696217954585,null,13.12]
[null,"DEMČUK","Ilja","8.A",10.86,null,"Jilemnice  10.03.23",788.23865689925674,null,11.37]
[null,"FAISTAUER","Kryštof","8.A",9.9700000000000006,null,"Jilemnice  10.03.23",882.13528896690059,null,10.71]
[null,"FRK","Matyáš","8.A",null,null,null,0,null,12.65]
[null,"HUBÁLOVSKÝ","Marek","8.A",10.75,null,"Jilemnice  10.03.23",799.25385923514204,null,11.48]
[null,"MAŤÁTKO","Jakub","8.A",12.46,null,"Jilemnice  13.02.23",642.52496408061336,null,14.13]
[null,"MERY","Luboš","8.A",11.78,null,"Jilemnice  10.03.23",701.48083073633893,null,12.05]
[null,"NOVOTNÝ","Matěj","8.A",11.44,null,"Jilemnice  10.03.23",732.50541336441336,null,12.45]
[null,"ŘEHOŘEK","Vojtěch","8.A",null,null,null,0,null,12.03]
[null,"ŠÍR","Matyáš","8.A",12.1,null,"Jilemnice  10.03.23",673.25743485766759,null,13.26]
[null,"TORÁČ","Tomáš","8.A",16.420000000000002,null,"Jilemnice  13.02.23",350.71345881716053,null,16.54]
[null,"VÁCLAVÍK","Ondřej","8.A",10.119999999999999,null,"Jilemnice  10.03.23",865.49230109793598,null,10.64]
[null,"AUERSWALD","Daniel","8.B",10.92,null,"Jilemnice  10.03.23",782.29351523538196]
[null,"BOUKAL","Jakub","8.B",null,null,null,0,null,14.74]
[null,"BUDÍN","Martin","8.B",10.11,null,"Jilemnice  10.03.23",866.59065117412172,null,11.04]
[null,"DVOŘÁK","Dominik","8.B",11.15,null,"Jilemnice  10.03.23",759.89955304102307,null,12.04]
[null,"FIŠERA","Vojtěch","8.B",11.25,null,"Jilemnice  10.03.23",750.3509132279836,null,11.87]
[null,"JINDŘIŠEK","Vít","8.B",9.39,null,"Jilemnice  10.03.23",950.16184686230417,null,10.34]
[null,"JIROUŠ","Matouš","8.B",10.64,null,"Jilemnice  10.03.23",810.42346895015305,null,11.73]
[null,"KERLE","Marek","8.B",10.08,null,"Jilemnice  10.03.23",869.89516866549093,null,10.51]
[null,"LUKEŠ","Jakub","8.B",9.8000000000000007,null,"Jilemnice  10.03.23",901.44732565381696,null,11.05]
[null,"OTT","Matyáš","8.B",9.73,null,"Jilemnice  10.03.23",909.54454976590148,null,10.84]
[null,"POKORNÝ","Matyáš","8.B",9.4600000000000009,null,"Jilemnice  10.03.23",941.61788902983301,null,9.84]
[null,"POLÁČEK","Matyáš","8.B",null,null,null,{"$f":"IF(E165=0,0,(((1000-313216/E165+34538300/E165*2-1698600000/E165*3+32198000000/E165*4)/13500000)-E165*E165+62))","v":0}]
[null,"ULLMAN","Šimon","8.B",10.57,null,"Jilemnice  10.03.23",817.61434772416681,null,10.73]
[null,"VALENTA","Jakub","8.B",9.93,null,"Jilemnice  10.03.23",886.63536193726452,null,10.54]
[null,"VRBATA","Dominik","8.B",10.19,null,null,857.84749374840987,null,11.65]
[null,"FEJKL","Jan","9.A",9.5299999999999994,null,"Jilemnice  08.03.23",933.17026174264515,null,9.94]
[null,"KOTYK","Tadeáš","9.A",11.03,null,"Jilemnice  08.03.23",771.50645108962112,null,11.88]
[null,"KRAUSE","Tadeáš","9.A",9.8800000000000008,null,"Jilemnice  08.03.23",892.29813009446684,null,10.039999999999999]
[null,"LEŠÁK","Martin","9.A",11.16,null,"Jilemnice  08.03.23",758.93969499535365,null,11.88]
[null,"NECHANICKÝ","David","9.A",9.08,null,"Jilemnice  08.03.23",989.22053150595525,null,9.9700000000000006]
[null,"ŘEHOŘEK","Jan","9.A",null,null,null,0,null,10.43]
[null,"SOUKUP","Ondřej","9.A",null,null,null,0,null,11.63]
[null,"SPANILÝ","David","9.A",9.18,null,"Jilemnice  08.03.23",976.39598186072783,null,10.32]
[null,"ČERNÝ","Michal","9.B",10.68,null,"Jilemnice  08.03.23",806.34357908170341,null,11.05]
[null,"DOLEJŠÍ","David","9.B",10.16,null,"Jilemnice  08.03.23",861.11453957421986,null,10.98]
[null,"POVAŽANEC","Martin","9.B",10.210000000000001,null,"Jilemnice  08.03.23",855.67713621721612,null,11.15]
[null,"RICHTER","Jakub","9.B",10.95,null,"Jilemnice  08.03.23",779.33730608151529,null,11.8]
[null,"ROZUMEK","Adam","9.B",10.09,null,"Jilemnice  08.03.23",868.79207967184243,null,11.34]
[null,"VALENTA","František","9.B",10.38,null,"Jilemnice  08.03.23",837.47099830157708,null,10.71]
[null,"ZAPLATÍLEK","Josef","9.B",9.99,null,"Jilemnice  08.03.23",879.89517582397218,null,10.43]

{"sheet":"LEHSED","index":15,"n_rows":183,"n_cols":12,"rows_kept":183,"cut":false,"hidden":false,"merged":[]}
[null,null,"VÝKONY  2022 - 2023",null,null,null,"LEHSED","CHLAPCI  6. -  9.  ROČ."]
[null,"stav  k ",{"$f":"TODAY()","v":"2023-06-26"},null,null,null,null,null,null,"21 - 22","20 - 21","19  - 20"]
[]
["1.",{"$f":"B101","v":"HONCŮ"},{"$f":"C101","v":"Filip"},"6.A",35," ","Jilemnice  03.04.23",437.5," ",0,0,0]
["2.",{"$f":"B102","v":"JÍLEK"},"Lukáš","6.A",0," ",{"$f":"G102","v":0},0," ",{"$f":"J102","v":0},0,0]
["3.",{"$f":"B103","v":"KUČERA"},"Tadeáš","6.A",40," ",{"$f":"G103","v":"Jilemnice  03.04.23"},500," ",{"$f":"J103","v":0},0,0]
["4.",{"$f":"B104","v":"ROZUMEK"},"Lukáš","6.A",30," ",{"$f":"G104","v":"Jilemnice  03.04.23"},375," ",{"$f":"J104","v":0},0,0]
["5.",{"$f":"B105","v":"ŘEHOŘEK"},"Marek","6.A",25," ",{"$f":"G105","v":"Jilemnice  03.04.23"},312.5," ",{"$f":"J105","v":0},0,0]
["6.",{"$f":"B106","v":"ŘÍHA"},"Tadeáš","6.A",32," ",{"$f":"G106","v":"Jilemnice  03.04.23"},400," ",{"$f":"J106","v":0},0,0]
["7.",{"$f":"B107","v":"SKRBEK"},"Richard","6.A",26," ",{"$f":"G107","v":"Jilemnice  03.04.23"},325," ",{"$f":"J107","v":0},0,0]
["8.",{"$f":"B108","v":"ŠIMEK"},"Erik","6.A",43," ",{"$f":"G108","v":"Jilemnice  03.04.23"},537.5," ",{"$f":"J108","v":0},0,0]
["9.",{"$f":"B109","v":"ŠÍR"},"Jan","6.A",30," ",{"$f":"G109","v":"Jilemnice  03.04.23"},375," ",{"$f":"J109","v":0},0,0]
["10.",{"$f":"B110","v":"ŠÍR"},"Stanislav","6.A",34," ",{"$f":"G110","v":"Jilemnice  03.04.23"},425," ",{"$f":"J110","v":0},0,0]
["11.",{"$f":"B111","v":"ŠPINAR"},"František","6.A",0," ",{"$f":"G111","v":0},0," ",{"$f":"J111","v":0},0,0]
["12.",{"$f":"B112","v":"TOTH"},"Mikuláš","6.A",43," ",{"$f":"G112","v":"Jilemnice  03.04.23"},537.5," ",{"$f":"J112","v":0},0,0]
["13.",{"$f":"B113","v":"WEISZLEMLEIN"},"Adam","6.A",0," ",{"$f":"G113","v":0},0," ",{"$f":"J113","v":0},0,0]
["14.",{"$f":"B114","v":"ČERNÝ"},"Filip","6.B",0," ",{"$f":"G114","v":0},0," ",{"$f":"J114","v":0},0,0]
["15.",{"$f":"B115","v":"GINGAL"},"Patrik","6.B",30," ",{"$f":"G115","v":"Jilemnice  03.04.23"},375," ",{"$f":"J115","v":0},0,0]
["16.",{"$f":"B116","v":"HLAVÁCEK"},"Josef","6.B",47," ",{"$f":"G116","v":"Jilemnice  03.04.23"},587.5," ",{"$f":"J116","v":0},0,0]
["17.",{"$f":"B117","v":"KHUDA"},"Ivan","6.B",0," ",{"$f":"G117","v":0},0," ",{"$f":"J117","v":0},0,0]
["18.",{"$f":"B118","v":"KRESAN"},"Matěj","6.B",20," ",{"$f":"G118","v":"Jilemnice  03.04.23"},250," ",{"$f":"J118","v":0},0,0]
["19.",{"$f":"B119","v":"RYCHTR"},"Vojtěch","6.B",39," ",{"$f":"G119","v":"Jilemnice  03.04.23"},487.5," ",{"$f":"J119","v":0},0,0]
["20.",{"$f":"B120","v":"ŠTAJER"},"David","6.B",0," ",{"$f":"G120","v":0},0," ",{"$f":"J120","v":0},0,0]
["21.",{"$f":"B121","v":"TKACHUK"},"Dzvenyslav","6.B",0," ",{"$f":"G121","v":0},0," ",{"$f":"J121","v":0},0,0]
["22.",{"$f":"B122","v":"VELIKOVSKÝ"},"Dominik","6.B",28," ",{"$f":"G122","v":"Jilemnice  03.04.23"},350," ",{"$f":"J122","v":0},0,0]
["23.",{"$f":"B123","v":"EXNER"},"Tomáš","7.A",44," ",{"$f":"G123","v":"Jilemnice  07.11.22"},550," ",{"$f":"J123","v":42},0,0]
["24.",{"$f":"B124","v":"JANATA"},"Denis","7.A",39," ",{"$f":"G124","v":"Jilemnice  07.11.22"},487.5," ",{"$f":"J124","v":35},0,0]
["25.",{"$f":"B125","v":"JINDŘIŠEK"},"Alex Jiří","7.A",49," ",{"$f":"G125","v":"Jilemnice  07.11.22"},612.5," ",{"$f":"J125","v":37},0,0]
["26.",{"$f":"B126","v":"KAZLEPKA"},"Miroslav","7.A",31," ",{"$f":"G126","v":"Jilemnice  07.11.22"},387.5," ",{"$f":"J126","v":0},0,0]
["27.",{"$f":"B127","v":"MARŠÁLEK"},"Ondřej","7.A",0," ",{"$f":"G127","v":0},0," ",{"$f":"J127","v":36},0,0]
["28.",{"$f":"B128","v":"MLATEČEK"},"Patrik","7.A",38," ",{"$f":"G128","v":"Jilemnice  07.11.22"},475," ",{"$f":"J128","v":30},0,0]
["29.",{"$f":"B129","v":"SCHOLZ"},"Matyáš","7.A",29," ",{"$f":"G129","v":"Jilemnice  07.11.22"},362.5," ",{"$f":"J129","v":33},0,0]
["30.",{"$f":"B130","v":"TOMÁŠ"},"Jakub","7.A",45," ",{"$f":"G130","v":"Jilemnice  07.11.22"},562.5," ",{"$f":"J130","v":45},0,0]
["31.",{"$f":"B131","v":"VÁCLAVÍK"},"Jan","7.A",44," ",{"$f":"G131","v":"Jilemnice  07.11.22"},550," ",{"$f":"J131","v":34},0,0]
["32.",{"$f":"B132","v":"VEČEŘA"},"David","7.A",32," ",{"$f":"G132","v":"Jilemnice  07.11.22"},400," ",{"$f":"J132","v":35},0,0]
["33.",{"$f":"B133","v":"VYBÍRAL"},"Radim","7.A",63," ",{"$f":"G133","v":"Jilemnice  07.11.22"},787.5," ",{"$f":"J133","v":55},0,0]
["34.",{"$f":"B134","v":"BERISHA"},"David","7.B",0," ",{"$f":"G134","v":0},0," ",{"$f":"J134","v":0},0,0]
["35.",{"$f":"B135","v":"EFENBERK"},"Šimon","7.B",46," ",{"$f":"G135","v":"Jilemnice  07.11.22"},575," ",{"$f":"J135","v":40},0,0]
["36.",{"$f":"B136","v":"FEJKL"},"Antonín","7.B",61," ",{"$f":"G136","v":"Jilemnice  07.11.22"},762.5," ",{"$f":"J136","v":49},0,0]
["37.",{"$f":"B137","v":"GOTTSTEIN"},"Matouš","7.B",57," ",{"$f":"G137","v":"Jilemnice  07.11.22"},712.5," ",{"$f":"J137","v":51},0,0]
["38.",{"$f":"B138","v":"MAŘAS"},"Dominik","7.B",19," ",{"$f":"G138","v":"Jilemnice  07.11.22"},237.5," ",{"$f":"J138","v":0},0,0]
["39.",{"$f":"B139","v":"POVAŽANEC"},"Lukáš","7.B",30," ",{"$f":"G139","v":"Jilemnice  07.11.22"},375," ",{"$f":"J139","v":30},0,0]
["40.",{"$f":"B140","v":"VANCL"},"Jakub","7.B",40," ",{"$f":"G140","v":"Jilemnice  07.11.22"},500," ",{"$f":"J140","v":37},0,0]
["41.",{"$f":"B141","v":"VANCL"},"Miroslav","7.B",0," ",{"$f":"G141","v":0},0," ",{"$f":"J141","v":27},0,0]
["42.",{"$f":"B142","v":"VOTOČEK"},"Michal","7.B",48," ",{"$f":"G142","v":"Jilemnice  07.11.22"},600," ",{"$f":"J142","v":37},0,0]
["43.",{"$f":"B143","v":"DEMČUK"},"Ilja","8.A",35," ",{"$f":"G143","v":"Jilemnice  13.03.23"},437.5," ",{"$f":"J143","v":38},25,0]
["44.",{"$f":"B144","v":"FAISTAUER"},"Kryštof","8.A",44," ",{"$f":"G144","v":"Jilemnice  13.03.23"},550," ",{"$f":"J144","v":46},41,0]
["45.",{"$f":"B145","v":"FRK"},"Matyáš","8.A",38," ",{"$f":"G145","v":"Jilemnice  13.03.23"},475," ",{"$f":"J145","v":35},0,0]
["46.",{"$f":"B146","v":"HUBÁLOVSKÝ"},"Marek","8.A",47," ",{"$f":"G146","v":"Jilemnice  13.03.23"},587.5," ",{"$f":"J146","v":45},0,0]
["47.",{"$f":"B147","v":"MAŤÁTKO"},"Jakub","8.A",0," ",{"$f":"G147","v":0},0," ",{"$f":"J147","v":0},0,0]
["48.",{"$f":"B148","v":"MERY"},"Luboš","8.A",32," ",{"$f":"G148","v":"Jilemnice  24.03.23"},400," ",{"$f":"J148","v":36},26,0]
["49.",{"$f":"B149","v":"NOVOTNÝ"},"Matěj","8.A",43," ",{"$f":"G149","v":"Jilemnice  13.03.23"},537.5," ",{"$f":"J149","v":33},0,0]
["50.",{"$f":"B150","v":"ŘEHOŘEK"},"Vojtěch","8.A",37," ",{"$f":"G150","v":"Jilemnice  13.03.23"},462.5," ",{"$f":"J150","v":33},28,0]
["51.",{"$f":"B151","v":"ŠÍR"},"Matyáš","8.A",47," ",{"$f":"G151","v":"Jilemnice  13.03.23"},587.5," ",{"$f":"J151","v":35},38,0]
["52.",{"$f":"B152","v":"TORÁČ"},"Tomáš","8.A",41," ",{"$f":"G152","v":"Jilemnice  27.02.23"},512.5," ",{"$f":"J152","v":30},0,0]
["53.",{"$f":"B153","v":"VÁCLAVÍK"},"Ondřej","8.A",47," ",{"$f":"G153","v":"Jilemnice  13.03.23"},587.5," ",{"$f":"J153","v":42},0,0]
["54.",{"$f":"B154","v":"AUERSWALD"},"Daniel","8.B",42," ",{"$f":"G154","v":"Jilemnice  13.03.23"},525," ",{"$f":"J154","v":40},0,0]
["55.",{"$f":"B155","v":"BOUKAL"},"Jakub","8.B",0," ",{"$f":"G155","v":0},0," ",{"$f":"J155","v":0},0,0]
["56.",{"$f":"B156","v":"BUDÍN"},"Martin","8.B",42," ",{"$f":"G156","v":"Jilemnice  13.03.23"},525," ",{"$f":"J156","v":40},30,0]
["57.",{"$f":"B157","v":"DVOŘÁK"},"Dominik","8.B",37," ",{"$f":"G157","v":"Jilemnice  13.03.23"},462.5," ",{"$f":"J157","v":42},0,0]
["58.",{"$f":"B158","v":"FIŠERA"},"Vojtěch","8.B",52," ",{"$f":"G158","v":"Jilemnice  13.03.23"},650," ",{"$f":"J158","v":44},26,0]
["59.",{"$f":"B159","v":"JINDŘIŠEK"},"Vít","8.B",49," ",{"$f":"G159","v":"Jilemnice  13.03.23"},612.5," ",{"$f":"J159","v":50},40,0]
["60.",{"$f":"B160","v":"JIROUŠ"},"Matouš","8.B",55," ",{"$f":"G160","v":"Jilemnice  24.03.23"},687.5," ",{"$f":"J160","v":45},25,0]
["61.",{"$f":"B161","v":"KERLE"},"Marek","8.B",52," ",{"$f":"G161","v":"Jilemnice  13.03.23"},650," ",{"$f":"J161","v":56},48,0]
["62.",{"$f":"B162","v":"LUKEŠ"},"Jakub","8.B",50," ",{"$f":"G162","v":"Jilemnice  13.03.23"},625," ",{"$f":"J162","v":40},30,0]
["63.",{"$f":"B163","v":"OTT"},"Matyáš","8.B",43," ",{"$f":"G163","v":"Jilemnice  13.03.23"},537.5," ",{"$f":"J163","v":40},0,0]
["64.",{"$f":"B164","v":"POKORNÝ"},"Matyáš","8.B",67," ",{"$f":"G164","v":"Jilemnice  13.03.23"},837.5," ",{"$f":"J164","v":73},0,0]
["65.",{"$f":"B165","v":"POLÁČEK"},"Matyáš","8.B",37," ",{"$f":"G165","v":"Jilemnice  13.03.23"},462.5," ",{"$f":"J165","v":39},0,0]
["66.",{"$f":"B166","v":"ULLMAN"},"Šimon","8.B",50," ",{"$f":"G166","v":"Jilemnice  13.03.23"},625," ",{"$f":"J166","v":46},0,0]
["67.",{"$f":"B167","v":"VALENTA"},"Jakub","8.B",69," ",{"$f":"G167","v":"Jilemnice  24.03.23"},862.5," ",{"$f":"J167","v":60},49,0]
["68.",{"$f":"B168","v":"VRBATA"},"Dominik","8.B",43," ",{"$f":"G168","v":"Jilemnice  13.03.23"},537.5," ",{"$f":"J168","v":42},0,0]
["69.",{"$f":"B169","v":"FEJKL"},"Jan","9.A",0," ",{"$f":"G169","v":0},0," ",{"$f":"J169","v":51},57,0]
["70.",{"$f":"B170","v":"KOTYK"},"Tadeáš","9.A",0," ",{"$f":"G170","v":0},0," ",{"$f":"J170","v":33},35,0]
["71.",{"$f":"B171","v":"KRAUSE"},"Tadeáš","9.A",0," ",{"$f":"G171","v":0},0," ",{"$f":"J171","v":51},54,0]
["72.",{"$f":"B172","v":"LEŠÁK"},"Martin","9.A",0," ",{"$f":"G172","v":0},0," ",{"$f":"J172","v":29},15,0]
["73.",{"$f":"B173","v":"NECHANICKÝ"},"David","9.A",52," ",{"$f":"G173","v":"Jilemnice  12.06.23"},650," ",{"$f":"J173","v":38},0,0]
["74.",{"$f":"B174","v":"ŘEHOŘEK"},"Jan","9.A",0," ",{"$f":"G174","v":0},0," ",{"$f":"J174","v":40},26,0]
["75.",{"$f":"B175","v":"SOUKUP"},"Ondřej","9.A",0," ",{"$f":"G175","v":0},0," ",{"$f":"J175","v":47},47,0]
["76.",{"$f":"B176","v":"SPANILÝ"},"David","9.A",49," ",{"$f":"G176","v":"Jilemnice  12.06.23"},612.5," ",{"$f":"J176","v":44},54,0]
["77.",{"$f":"B177","v":"ČERNÝ"},"Michal","9.B",0," ",{"$f":"G177","v":0},0," ",{"$f":"J177","v":43},0,0]
["78.",{"$f":"B178","v":"DOLEJŠÍ"},"David","9.B",0," ",{"$f":"G178","v":0},0," ",{"$f":"J178","v":40},45,0]
["79.",{"$f":"B179","v":"POVAŽANEC"},"Martin","9.B",0," ",{"$f":"G179","v":0},0," ",{"$f":"J179","v":34},0,0]
["80.",{"$f":"B180","v":"RICHTER"},"Jakub","9.B",0," ",{"$f":"G180","v":0},0," ",{"$f":"J180","v":36},20,0]
["81.",{"$f":"B181","v":"ROZUMEK"},"Adam","9.B",0," ",{"$f":"G181","v":0},0," ",{"$f":"J181","v":43},0,0]
["82.",{"$f":"B182","v":"VALENTA"},"František","9.B",0," ",{"$f":"G182","v":0},0," ",{"$f":"J182","v":42},0,0]
["83.",{"$f":"B183","v":"ZAPLATÍLEK"},"Josef","9.B",0," ",{"$f":"G183","v":0},0," ",{"$f":"J183","v":46},0,0]
[]
[]
[]
[]
[]
[]
[]
[]
[]
[]
[]
[]
[]
[]
[null,"HONCŮ","Filip","6.A",35,null,"Jilemnice  03.04.23",{"$f":"IF(E101=0,0,E101*10*1.25)","v":437.5}]
[null,"JÍLEK","Lukáš","6.A",null,null,null,0]
[null,"KUČERA","Tadeáš","6.A",40,null,"Jilemnice  03.04.23",500]
[null,"ROZUMEK","Lukáš","6.A",30,null,"Jilemnice  03.04.23",375]
[null,"ŘEHOŘEK","Marek","6.A",25,null,"Jilemnice  03.04.23",312.5]
[null,"ŘÍHA","Tadeáš","6.A",32,null,"Jilemnice  03.04.23",400]
[null,"SKRBEK","Richard","6.A",26,null,"Jilemnice  03.04.23",325]
[null,"ŠIMEK","Erik","6.A",43,null,"Jilemnice  03.04.23",537.5]
[null,"ŠÍR","Jan","6.A",30,null,"Jilemnice  03.04.23",375]
[null,"ŠÍR","Stanislav","6.A",34,null,"Jilemnice  03.04.23",425]
[null,"ŠPINAR","František","6.A",null,null,null,0]
[null,"TOTH","Mikuláš","6.A",43,null,"Jilemnice  03.04.23",537.5]
[null,"WEISZLEMLEIN","Adam","6.A",null,null,null,0]
[null,"ČERNÝ","Filip","6.B",null,null,null,0]
[null,"GINGAL","Patrik","6.B",30,null,"Jilemnice  03.04.23",375]
[null,"HLAVÁCEK","Josef","6.B",47,null,"Jilemnice  03.04.23",587.5]
[null,"KHUDA","Ivan","6.B",null,null,null,0]
[null,"KRESAN","Matěj","6.B",20,null,"Jilemnice  03.04.23",250]
[null,"RYCHTR","Vojtěch","6.B",39,null,"Jilemnice  03.04.23",487.5]
[null,"ŠTAJER","David","6.B",null,null,null,0]
[null,"TKACHUK","Dzvenyslav","6.B",null,null,null,0]
[null,"VELIKOVSKÝ","Dominik","6.B",28,null,"Jilemnice  03.04.23",350]
[null,"EXNER","Tomáš","7.A",44,null,"Jilemnice  07.11.22",550,null,42]
[null,"JANATA","Denis","7.A",39,null,"Jilemnice  07.11.22",487.5,null,35]
[null,"JINDŘIŠEK","Alex Jiří","7.A",49,null,"Jilemnice  07.11.22",612.5,null,37]
[null,"KAZLEPKA","Miroslav","7.A",31,null,"Jilemnice  07.11.22",387.5]
[null,"MARŠÁLEK","Ondřej","7.A",null,null,null,0,null,36]
[null,"MLATEČEK","Patrik","7.A",38,null,"Jilemnice  07.11.22",475,null,30]
[null,"SCHOLZ","Matyáš","7.A",29,null,"Jilemnice  07.11.22",362.5,null,33]
[null,"TOMÁŠ","Jakub","7.A",45,null,"Jilemnice  07.11.22",562.5,null,45]
[null,"VÁCLAVÍK","Jan","7.A",44,null,"Jilemnice  07.11.22",550,null,34]
[null,"VEČEŘA","David","7.A",32,null,"Jilemnice  07.11.22",400,null,35]
[null,"VYBÍRAL","Radim","7.A",63,null,"Jilemnice  07.11.22",{"$f":"IF(E133=0,0,E133*10*1.25)","v":787.5},null,55]
[null,"BERISHA","David","7.B",null,null,null,0]
[null,"EFENBERK","Šimon","7.B",46,null,"Jilemnice  07.11.22",575,null,40]
[null,"FEJKL","Antonín","7.B",61,null,"Jilemnice  07.11.22",762.5,null,49]
[null,"GOTTSTEIN","Matouš","7.B",57,null,"Jilemnice  07.11.22",712.5,null,51]
[null,"MAŘAS","Dominik","7.B",19,null,"Jilemnice  07.11.22",237.5]
[null,"POVAŽANEC","Lukáš","7.B",30,null,"Jilemnice  07.11.22",375,null,30]
[null,"VANCL","Jakub","7.B",40,null,"Jilemnice  07.11.22",500,null,37]
[null,"VANCL","Miroslav","7.B",null,null,null,0,null,27]
[null,"VOTOČEK","Michal","7.B",48,null,"Jilemnice  07.11.22",600,null,37]
[null,"DEMČUK","Ilja","8.A",35,null,"Jilemnice  13.03.23",437.5,null,38,25]
[null,"FAISTAUER","Kryštof","8.A",44,null,"Jilemnice  13.03.23",550,null,46,41]
[null,"FRK","Matyáš","8.A",38,null,"Jilemnice  13.03.23",475,null,35]
[null,"HUBÁLOVSKÝ","Marek","8.A",47,null,"Jilemnice  13.03.23",587.5,null,45]
[null,"MAŤÁTKO","Jakub","8.A",null,null,null,0]
[null,"MERY","Luboš","8.A",32,null,"Jilemnice  24.03.23",400,null,36,26]
[null,"NOVOTNÝ","Matěj","8.A",43,null,"Jilemnice  13.03.23",537.5,null,33]
[null,"ŘEHOŘEK","Vojtěch","8.A",37,null,"Jilemnice  13.03.23",462.5,null,33,28]
[null,"ŠÍR","Matyáš","8.A",47,null,"Jilemnice  13.03.23",587.5,null,35,38]
[null,"TORÁČ","Tomáš","8.A",41,null,"Jilemnice  27.02.23",512.5,null,30]
[null,"VÁCLAVÍK","Ondřej","8.A",47,null,"Jilemnice  13.03.23",587.5,null,42]
[null,"AUERSWALD","Daniel","8.B",42,null,"Jilemnice  13.03.23",525,null,40]
[null,"BOUKAL","Jakub","8.B",null,null,null,0]
[null,"BUDÍN","Martin","8.B",42,null,"Jilemnice  13.03.23",525,null,40,30]
[null,"DVOŘÁK","Dominik","8.B",37,null,"Jilemnice  13.03.23",462.5,null,42]
[null,"FIŠERA","Vojtěch","8.B",52,null,"Jilemnice  13.03.23",650,null,44,26]
[null,"JINDŘIŠEK","Vít","8.B",49,null,"Jilemnice  13.03.23",612.5,null,50,40]
[null,"JIROUŠ","Matouš","8.B",55,null,"Jilemnice  24.03.23",687.5,null,45,25]
[null,"KERLE","Marek","8.B",52,null,"Jilemnice  13.03.23",650,null,56,48]
[null,"LUKEŠ","Jakub","8.B",50,null,"Jilemnice  13.03.23",625,null,40,30]
[null,"OTT","Matyáš","8.B",43,null,"Jilemnice  13.03.23",537.5,null,40]
[null,"POKORNÝ","Matyáš","8.B",67,null,"Jilemnice  13.03.23",837.5,null,73]
[null,"POLÁČEK","Matyáš","8.B",37,null,"Jilemnice  13.03.23",{"$f":"IF(E165=0,0,E165*10*1.25)","v":462.5},null,39]
[null,"ULLMAN","Šimon","8.B",50,null,"Jilemnice  13.03.23",625,null,46]
[null,"VALENTA","Jakub","8.B",69,null,"Jilemnice  24.03.23",862.5,null,60,49]
[null,"VRBATA","Dominik","8.B",43,null,"Jilemnice  13.03.23",537.5,null,42]
[null,"FEJKL","Jan","9.A",null,null,null,0,null,51,57]
[null,"KOTYK","Tadeáš","9.A",null,null,null,0,null,33,35]
[null,"KRAUSE","Tadeáš","9.A",null,null,null,0,null,51,54]
[null,"LEŠÁK","Martin","9.A",null,null,null,0,null,29,15]
[null,"NECHANICKÝ","David","9.A",52,null,"Jilemnice  12.06.23",650,null,38]
[null,"ŘEHOŘEK","Jan","9.A",null,null,null,0,null,40,26]
[null,"SOUKUP","Ondřej","9.A",null,null,null,0,null,47,47]
[null,"SPANILÝ","David","9.A",49,null,"Jilemnice  12.06.23",612.5,null,44,54]
[null,"ČERNÝ","Michal","9.B",null,null,null,0,null,43]
[null,"DOLEJŠÍ","David","9.B",null,null,null,0,null,40,45]
[null,"POVAŽANEC","Martin","9.B",null,null,null,0,null,34]
[null,"RICHTER","Jakub","9.B",null,null,null,0,null,36,20]
[null,"ROZUMEK","Adam","9.B",null,null,null,0,null,43]
[null,"VALENTA","František","9.B",null,null,null,0,null,42]
[null,"ZAPLATÍLEK","Josef","9.B",null,null,null,0,null,46]

{"sheet":"ODBÍJENÍ","index":16,"n_rows":183,"n_cols":12,"rows_kept":183,"cut":false,"hidden":false,"merged":[]}
[null,null,"VÝKONY  2022 - 2023",null,null,null,"ODBÍJENÍ","CHLAPCI  6. -  9.  ROČ."]
[null,"stav  k ",{"$f":"TODAY()","v":"2023-06-26"},null,null,null,null,null,null,"21 - 22","20 - 21","19  - 20"]
[]
["1.",{"$f":"B101","v":"HONCŮ"},{"$f":"C101","v":"Filip"},"6.A",0," ",0,0," ",0,0,0]
["2.",{"$f":"B102","v":"JÍLEK"},"Lukáš","6.A",0," ",{"$f":"G102","v":0},0," ",{"$f":"J102","v":0},0,0]
["3.",{"$f":"B103","v":"KUČERA"},"Tadeáš","6.A",7," ",{"$f":"G103","v":"Jilemnice  02.06.23"},56," ",{"$f":"J103","v":0},0,0]
["4.",{"$f":"B104","v":"ROZUMEK"},"Lukáš","6.A",0," ",{"$f":"G104","v":0},0," ",{"$f":"J104","v":0},0,0]
["5.",{"$f":"B105","v":"ŘEHOŘEK"},"Marek","6.A",0," ",{"$f":"G105","v":0},0," ",{"$f":"J105","v":0},0,0]
["6.",{"$f":"B106","v":"ŘÍHA"},"Tadeáš","6.A",7," ",{"$f":"G106","v":"Jilemnice  02.06.23"},56," ",{"$f":"J106","v":0},0,0]
["7.",{"$f":"B107","v":"SKRBEK"},"Richard","6.A",0," ",{"$f":"G107","v":0},0," ",{"$f":"J107","v":0},0,0]
["8.",{"$f":"B108","v":"ŠIMEK"},"Erik","6.A",0," ",{"$f":"G108","v":0},0," ",{"$f":"J108","v":0},0,0]
["9.",{"$f":"B109","v":"ŠÍR"},"Jan","6.A",0," ",{"$f":"G109","v":0},0," ",{"$f":"J109","v":0},0,0]
["10.",{"$f":"B110","v":"ŠÍR"},"Stanislav","6.A",0," ",{"$f":"G110","v":0},0," ",{"$f":"J110","v":0},0,0]
["11.",{"$f":"B111","v":"ŠPINAR"},"František","6.A",0," ",{"$f":"G111","v":0},0," ",{"$f":"J111","v":0},0,0]
["12.",{"$f":"B112","v":"TOTH"},"Mikuláš","6.A",0," ",{"$f":"G112","v":0},0," ",{"$f":"J112","v":0},0,0]
["13.",{"$f":"B113","v":"WEISZLEMLEIN"},"Adam","6.A",0," ",{"$f":"G113","v":0},0," ",{"$f":"J113","v":0},0,0]
["14.",{"$f":"B114","v":"ČERNÝ"},"Filip","6.B",0," ",{"$f":"G114","v":0},0," ",{"$f":"J114","v":0},0,0]
["15.",{"$f":"B115","v":"GINGAL"},"Patrik","6.B",0," ",{"$f":"G115","v":0},0," ",{"$f":"J115","v":0},0,0]
["16.",{"$f":"B116","v":"HLAVÁCEK"},"Josef","6.B",0," ",{"$f":"G116","v":0},0," ",{"$f":"J116","v":0},0,0]
["17.",{"$f":"B117","v":"KHUDA"},"Ivan","6.B",0," ",{"$f":"G117","v":0},0," ",{"$f":"J117","v":0},0,0]
["18.",{"$f":"B118","v":"KRESAN"},"Matěj","6.B",0," ",{"$f":"G118","v":0},0," ",{"$f":"J118","v":0},0,0]
["19.",{"$f":"B119","v":"RYCHTR"},"Vojtěch","6.B",0," ",{"$f":"G119","v":0},0," ",{"$f":"J119","v":0},0,0]
["20.",{"$f":"B120","v":"ŠTAJER"},"David","6.B",0," ",{"$f":"G120","v":0},0," ",{"$f":"J120","v":0},0,0]
["21.",{"$f":"B121","v":"TKACHUK"},"Dzvenyslav","6.B",0," ",{"$f":"G121","v":0},0," ",{"$f":"J121","v":0},0,0]
["22.",{"$f":"B122","v":"VELIKOVSKÝ"},"Dominik","6.B",0," ",{"$f":"G122","v":0},0," ",{"$f":"J122","v":0},0,0]
["23.",{"$f":"B123","v":"EXNER"},"Tomáš","7.A",8," ",{"$f":"G123","v":"Jilemnice  13.03.23"},64," ",{"$f":"J123","v":15},0,0]
["24.",{"$f":"B124","v":"JANATA"},"Denis","7.A",16," ",{"$f":"G124","v":"Jilemnice  12.04.23"},128," ",{"$f":"J124","v":18},0,0]
["25.",{"$f":"B125","v":"JINDŘIŠEK"},"Alex Jiří","7.A",11," ",{"$f":"G125","v":"Jilemnice  12.04.23"},88," ",{"$f":"J125","v":7},0,0]
["26.",{"$f":"B126","v":"KAZLEPKA"},"Miroslav","7.A",0," ",{"$f":"G126","v":0},0," ",{"$f":"J126","v":0},0,0]
["27.",{"$f":"B127","v":"MARŠÁLEK"},"Ondřej","7.A",13," ",{"$f":"G127","v":"Jilemnice  12.04.23"},104," ",{"$f":"J127","v":8},0,0]
["28.",{"$f":"B128","v":"MLATEČEK"},"Patrik","7.A",22," ",{"$f":"G128","v":"Jilemnice  13.03.23"},176," ",{"$f":"J128","v":8},0,0]
["29.",{"$f":"B129","v":"SCHOLZ"},"Matyáš","7.A",16," ",{"$f":"G129","v":"Jilemnice  12.04.23"},128," ",{"$f":"J129","v":18},0,0]
["30.",{"$f":"B130","v":"TOMÁŠ"},"Jakub","7.A",22," ",{"$f":"G130","v":"Jilemnice  13.03.23"},176," ",{"$f":"J130","v":13},0,0]
["31.",{"$f":"B131","v":"VÁCLAVÍK"},"Jan","7.A",11," ",{"$f":"G131","v":"Jilemnice  12.04.23"},88," ",{"$f":"J131","v":11},0,0]
["32.",{"$f":"B132","v":"VEČEŘA"},"David","7.A",7," ",{"$f":"G132","v":"Jilemnice  12.04.23"},56," ",{"$f":"J132","v":7},0,0]
["33.",{"$f":"B133","v":"VYBÍRAL"},"Radim","7.A",451," ",{"$f":"G133","v":"Jilemnice  05.06.23"},788.4," ",{"$f":"J133","v":35},0,0]
["34.",{"$f":"B134","v":"BERISHA"},"David","7.B",0," ",{"$f":"G134","v":0},0," ",{"$f":"J134","v":10},0,0]
["35.",{"$f":"B135","v":"EFENBERK"},"Šimon","7.B",6," ",{"$f":"G135","v":"Jilemnice  13.03.23"},48," ",{"$f":"J135","v":10},0,0]
["36.",{"$f":"B136","v":"FEJKL"},"Antonín","7.B",451," ",{"$f":"G136","v":"Jilemnice  05.06.23"},788.4," ",{"$f":"J136","v":35},0,0]
["37.",{"$f":"B137","v":"GOTTSTEIN"},"Matouš","7.B",440," ",{"$f":"G137","v":"Jilemnice  06.06.23"},784," ",{"$f":"J137","v":20},0,0]
["38.",{"$f":"B138","v":"MAŘAS"},"Dominik","7.B",0," ",{"$f":"G138","v":0},0," ",{"$f":"J138","v":6},0,0]
["39.",{"$f":"B139","v":"POVAŽANEC"},"Lukáš","7.B",440," ",{"$f":"G139","v":"Jilemnice  06.06.23"},784," ",{"$f":"J139","v":20},0,0]
["40.",{"$f":"B140","v":"VANCL"},"Jakub","7.B",8," ",{"$f":"G140","v":"Jilemnice  13.03.23"},64," ",{"$f":"J140","v":15},0,0]
["41.",{"$f":"B141","v":"VANCL"},"Miroslav","7.B",7," ",{"$f":"G141","v":"Jilemnice  12.04.23"},56," ",{"$f":"J141","v":5},0,0]
["42.",{"$f":"B142","v":"VOTOČEK"},"Michal","7.B",6," ",{"$f":"G142","v":"Jilemnice  13.03.23"},48," ",{"$f":"J142","v":8},0,0]
["43.",{"$f":"B143","v":"DEMČUK"},"Ilja","8.A",12," ",{"$f":"G143","v":"Jilemnice  11.11.22"},96," ",{"$f":"J143","v":6},15,0]
["44.",{"$f":"B144","v":"FAISTAUER"},"Kryštof","8.A",164," ",{"$f":"G144","v":"Jilemnice  11.11.22"},673.6," ",{"$f":"J144","v":10},0,0]
["45.",{"$f":"B145","v":"FRK"},"Matyáš","8.A",0," ",{"$f":"G145","v":0},0," ",{"$f":"J145","v":9},0,0]
["46.",{"$f":"B146","v":"HUBÁLOVSKÝ"},"Marek","8.A",23," ",{"$f":"G146","v":"Jilemnice  11.11.22"},184," ",{"$f":"J146","v":19},0,0]
["47.",{"$f":"B147","v":"MAŤÁTKO"},"Jakub","8.A",14," ",{"$f":"G147","v":"Jilemnice  10.02.23"},112," ",{"$f":"J147","v":0},0,0]
["48.",{"$f":"B148","v":"MERY"},"Luboš","8.A",12," ",{"$f":"G148","v":"Jilemnice  11.11.22"},96," ",{"$f":"J148","v":6},0,0]
["49.",{"$f":"B149","v":"NOVOTNÝ"},"Matěj","8.A",12," ",{"$f":"G149","v":"Jilemnice  11.11.22"},96," ",{"$f":"J149","v":11},0,0]
["50.",{"$f":"B150","v":"ŘEHOŘEK"},"Vojtěch","8.A",164," ",{"$f":"G150","v":"Jilemnice  11.11.22"},673.6," ",{"$f":"J150","v":11},0,0]
["51.",{"$f":"B151","v":"ŠÍR"},"Matyáš","8.A",8," ",{"$f":"G151","v":"Jilemnice  11.11.22"},64," ",{"$f":"J151","v":10},0,0]
["52.",{"$f":"B152","v":"TORÁČ"},"Tomáš","8.A",14," ",{"$f":"G152","v":"Jilemnice  10.02.23"},112," ",{"$f":"J152","v":6},0,0]
["53.",{"$f":"B153","v":"VÁCLAVÍK"},"Ondřej","8.A",12," ",{"$f":"G153","v":"Jilemnice  11.11.22"},96," ",{"$f":"J153","v":16},0,0]
["54.",{"$f":"B154","v":"AUERSWALD"},"Daniel","8.B",52," ",{"$f":"G154","v":"Jilemnice  11.11.22"},416," ",{"$f":"J154","v":15},0,0]
["55.",{"$f":"B155","v":"BOUKAL"},"Jakub","8.B",0," ",{"$f":"G155","v":0},0," ",{"$f":"J155","v":0},0,0]
["56.",{"$f":"B156","v":"BUDÍN"},"Martin","8.B",14," ",{"$f":"G156","v":"Jilemnice  11.11.22"},112," ",{"$f":"J156","v":9},0,0]
["57.",{"$f":"B157","v":"DVOŘÁK"},"Dominik","8.B",0," ",{"$f":"G157","v":0},0," ",{"$f":"J157","v":9},0,0]
["58.",{"$f":"B158","v":"FIŠERA"},"Vojtěch","8.B",10," ",{"$f":"G158","v":"Jilemnice  11.11.22"},80," ",{"$f":"J158","v":9},0,0]
["59.",{"$f":"B159","v":"JINDŘIŠEK"},"Vít","8.B",54," ",{"$f":"G159","v":"Jilemnice  11.11.22"},432," ",{"$f":"J159","v":43},28,0]
["60.",{"$f":"B160","v":"JIROUŠ"},"Matouš","8.B",0," ",{"$f":"G160","v":0},0," ",{"$f":"J160","v":14},0,0]
["61.",{"$f":"B161","v":"KERLE"},"Marek","8.B",32," ",{"$f":"G161","v":"Jilemnice  11.11.22"},256," ",{"$f":"J161","v":43},0,0]
["62.",{"$f":"B162","v":"LUKEŠ"},"Jakub","8.B",14," ",{"$f":"G162","v":"Jilemnice  11.11.22"},112," ",{"$f":"J162","v":19},0,0]
["63.",{"$f":"B163","v":"OTT"},"Matyáš","8.B",54," ",{"$f":"G163","v":"Jilemnice  11.11.22"},432," ",{"$f":"J163","v":24},0,0]
["64.",{"$f":"B164","v":"POKORNÝ"},"Matyáš","8.B",0," ",{"$f":"G164","v":0},0," ",{"$f":"J164","v":24},0,0]
["65.",{"$f":"B165","v":"POLÁČEK"},"Matyáš","8.B",52," ",{"$f":"G165","v":"Jilemnice  11.11.22"},416," ",{"$f":"J165","v":11},0,0]
["66.",{"$f":"B166","v":"ULLMAN"},"Šimon","8.B",23," ",{"$f":"G166","v":"Jilemnice  11.11.22"},184," ",{"$f":"J166","v":9},0,0]
["67.",{"$f":"B167","v":"VALENTA"},"Jakub","8.B",0," ",{"$f":"G167","v":0},0," ",{"$f":"J167","v":24},0,0]
["68.",{"$f":"B168","v":"VRBATA"},"Dominik","8.B",32," ",{"$f":"G168","v":"Jilemnice  11.11.22"},256," ",{"$f":"J168","v":16},0,0]
["69.",{"$f":"B169","v":"FEJKL"},"Jan","9.A",232," ",{"$f":"G169","v":"Jilemnice  04.11.22"},700.8," ",{"$f":"J169","v":52},0,126]
["70.",{"$f":"B170","v":"KOTYK"},"Tadeáš","9.A",11," ",{"$f":"G170","v":"Jilemnice  19.10.22"},88," ",{"$f":"J170","v":32},0,30]
["71.",{"$f":"B171","v":"KRAUSE"},"Tadeáš","9.A",65," ",{"$f":"G171","v":"Jilemnice  08.02.23"},520," ",{"$f":"J171","v":32},0,57]
["72.",{"$f":"B172","v":"LEŠÁK"},"Martin","9.A",16," ",{"$f":"G172","v":"Jilemnice  19.10.22"},128," ",{"$f":"J172","v":31},0,25]
["73.",{"$f":"B173","v":"NECHANICKÝ"},"David","9.A",232," ",{"$f":"G173","v":"Jilemnice  04.11.22"},700.8," ",{"$f":"J173","v":52},0,37]
["74.",{"$f":"B174","v":"ŘEHOŘEK"},"Jan","9.A",512," ",{"$f":"G174","v":"Jilemnice  04.11.22"},812.8," ",{"$f":"J174","v":345},0,57]
["75.",{"$f":"B175","v":"SOUKUP"},"Ondřej","9.A",0," ",{"$f":"G175","v":0},0," ",{"$f":"J175","v":273},0,126]
["76.",{"$f":"B176","v":"SPANILÝ"},"David","9.A",512," ",{"$f":"G176","v":"Jilemnice  04.11.22"},812.8," ",{"$f":"J176","v":345},0,49]
["77.",{"$f":"B177","v":"ČERNÝ"},"Michal","9.B",36," ",{"$f":"G177","v":"Jilemnice  04.11.22"},288," ",{"$f":"J177","v":30},0,25]
["78.",{"$f":"B178","v":"DOLEJŠÍ"},"David","9.B",27," ",{"$f":"G178","v":"Jilemnice  27.01.23"},216," ",{"$f":"J178","v":21},0,12]
["79.",{"$f":"B179","v":"POVAŽANEC"},"Martin","9.B",96," ",{"$f":"G179","v":"Jilemnice  08.02.23"},646.4," ",{"$f":"J179","v":34},0,30]
["80.",{"$f":"B180","v":"RICHTER"},"Jakub","9.B",16," ",{"$f":"G180","v":"Jilemnice  19.10.22"},128," ",{"$f":"J180","v":21},0,14]
["81.",{"$f":"B181","v":"ROZUMEK"},"Adam","9.B",86," ",{"$f":"G181","v":"Jilemnice  19.10.22"},642.4," ",{"$f":"J181","v":39},0,17]
["82.",{"$f":"B182","v":"VALENTA"},"František","9.B",61," ",{"$f":"G182","v":"Jilemnice  27.01.23"},488," ",{"$f":"J182","v":34},0,17]
["83.",{"$f":"B183","v":"ZAPLATÍLEK"},"Josef","9.B",86," ",{"$f":"G183","v":"Jilemnice  19.10.22"},642.4," ",{"$f":"J183","v":39},0,14]
[]
[]
[]
[]
[]
[]
[]
[]
[]
[]
[]
[]
[]
[]
[null,"HONCŮ","Filip","6.A",null,null,null,{"$f":"IF(E101<=80,E101*8,IF(E101>80,608+0.4*E101,IF(AF101>200,750+0.2*E101)))","v":0}]
[null,"JÍLEK","Lukáš","6.A",null,null,null,0]
[null,"KUČERA","Tadeáš","6.A",7,null,"Jilemnice  02.06.23",56]
[null,"ROZUMEK","Lukáš","6.A",null,null,null,0]
[null,"ŘEHOŘEK","Marek","6.A",null,null,null,0]
[null,"ŘÍHA","Tadeáš","6.A",7,null,"Jilemnice  02.06.23",56]
[null,"SKRBEK","Richard","6.A",null,null,null,0]
[null,"ŠIMEK","Erik","6.A",null,null,null,0]
[null,"ŠÍR","Jan","6.A",null,null,null,0]
[null,"ŠÍR","Stanislav","6.A",null,null,null,0]
[null,"ŠPINAR","František","6.A",null,null,null,0]
[null,"TOTH","Mikuláš","6.A",null,null,null,0]
[null,"WEISZLEMLEIN","Adam","6.A",null,null,null,0]
[null,"ČERNÝ","Filip","6.B",null,null,null,0]
[null,"GINGAL","Patrik","6.B",null,null,null,0]
[null,"HLAVÁCEK","Josef","6.B",null,null,null,0]
[null,"KHUDA","Ivan","6.B",null,null,null,0]
[null,"KRESAN","Matěj","6.B",null,null,null,0]
[null,"RYCHTR","Vojtěch","6.B",null,null,null,0]
[null,"ŠTAJER","David","6.B",null,null,null,0]
[null,"TKACHUK","Dzvenyslav","6.B",null,null,null,0]
[null,"VELIKOVSKÝ","Dominik","6.B",null,null,null,0]
[null,"EXNER","Tomáš","7.A",8,null,"Jilemnice  13.03.23",64,null,15]
[null,"JANATA","Denis","7.A",16,null,"Jilemnice  12.04.23",128,null,18]
[null,"JINDŘIŠEK","Alex Jiří","7.A",11,null,"Jilemnice  12.04.23",88,null,7]
[null,"KAZLEPKA","Miroslav","7.A",null,null,null,0]
[null,"MARŠÁLEK","Ondřej","7.A",13,null,"Jilemnice  12.04.23",104,null,8]
[null,"MLATEČEK","Patrik","7.A",22,null,"Jilemnice  13.03.23",176,null,8]
[null,"SCHOLZ","Matyáš","7.A",16,null,"Jilemnice  12.04.23",128,null,18]
[null,"TOMÁŠ","Jakub","7.A",22,null,"Jilemnice  13.03.23",176,null,13]
[null,"VÁCLAVÍK","Jan","7.A",11,null,"Jilemnice  12.04.23",88,null,11]
[null,"VEČEŘA","David","7.A",7,null,"Jilemnice  12.04.23",56,null,7]
[null,"VYBÍRAL","Radim","7.A",451,null,"Jilemnice  05.06.23",{"$f":"IF(E133<=80,E133*8,IF(E133>80,608+0.4*E133,IF(AF133>200,750+0.2*E133)))","v":788.4},null,35]
[null,"BERISHA","David","7.B",null,null,null,0,null,10]
[null,"EFENBERK","Šimon","7.B",6,null,"Jilemnice  13.03.23",48,null,10]
[null,"FEJKL","Antonín","7.B",451,null,"Jilemnice  05.06.23",788.4,null,35]
[null,"GOTTSTEIN","Matouš","7.B",440,null,"Jilemnice  06.06.23",784,null,20]
[null,"MAŘAS","Dominik","7.B",null,null,null,0,null,6]
[null,"POVAŽANEC","Lukáš","7.B",440,null,"Jilemnice  06.06.23",784,null,20]
[null,"VANCL","Jakub","7.B",8,null,"Jilemnice  13.03.23",64,null,15]
[null,"VANCL","Miroslav","7.B",7,null,"Jilemnice  12.04.23",56,null,5]
[null,"VOTOČEK","Michal","7.B",6,null,"Jilemnice  13.03.23",48,null,8]
[null,"DEMČUK","Ilja","8.A",12,null,"Jilemnice  11.11.22",96,null,6,15]
[null,"FAISTAUER","Kryštof","8.A",164,null,"Jilemnice  11.11.22",673.6,null,10]
[null,"FRK","Matyáš","8.A",null,null,null,0,null,9]
[null,"HUBÁLOVSKÝ","Marek","8.A",23,null,"Jilemnice  11.11.22",184,null,19]
[null,"MAŤÁTKO","Jakub","8.A",14,null,"Jilemnice  10.02.23",112]
[null,"MERY","Luboš","8.A",12,null,"Jilemnice  11.11.22",96,null,6]
[null,"NOVOTNÝ","Matěj","8.A",12,null,"Jilemnice  11.11.22",96,null,11]
[null,"ŘEHOŘEK","Vojtěch","8.A",164,null,"Jilemnice  11.11.22",673.6,null,11]
[null,"ŠÍR","Matyáš","8.A",8,null,"Jilemnice  11.11.22",64,null,10]
[null,"TORÁČ","Tomáš","8.A",14,null,"Jilemnice  10.02.23",112,null,6]
[null,"VÁCLAVÍK","Ondřej","8.A",12,null,"Jilemnice  11.11.22",96,null,16]
[null,"AUERSWALD","Daniel","8.B",52,null,"Jilemnice  11.11.22",416,null,15]
[null,"BOUKAL","Jakub","8.B",null,null,null,0]
[null,"BUDÍN","Martin","8.B",14,null,"Jilemnice  11.11.22",112,null,9]
[null,"DVOŘÁK","Dominik","8.B",null,null,null,0,null,9]
[null,"FIŠERA","Vojtěch","8.B",10,null,"Jilemnice  11.11.22",80,null,9]
[null,"JINDŘIŠEK","Vít","8.B",54,null,"Jilemnice  11.11.22",432,null,43,28]
[null,"JIROUŠ","Matouš","8.B",null,null,null,0,null,14]
[null,"KERLE","Marek","8.B",32,null,"Jilemnice  11.11.22",256,null,43]
[null,"LUKEŠ","Jakub","8.B",14,null,"Jilemnice  11.11.22",112,null,19]
[null,"OTT","Matyáš","8.B",54,null,"Jilemnice  11.11.22",432,null,24]
[null,"POKORNÝ","Matyáš","8.B",null,null,null,0,null,24]
[null,"POLÁČEK","Matyáš","8.B",52,null,"Jilemnice  11.11.22",{"$f":"IF(E165<=80,E165*8,IF(E165>80,608+0.4*E165,IF(AF165>200,750+0.2*E165)))","v":416},null,11]
[null,"ULLMAN","Šimon","8.B",23,null,"Jilemnice  11.11.22",184,null,9]
[null,"VALENTA","Jakub","8.B",null,null,null,0,null,24]
[null,"VRBATA","Dominik","8.B",32,null,"Jilemnice  11.11.22",256,null,16]
[null,"FEJKL","Jan","9.A",232,null,"Jilemnice  04.11.22",700.8,null,52,null,126]
[null,"KOTYK","Tadeáš","9.A",11,null,"Jilemnice  19.10.22",88,null,32,null,30]
[null,"KRAUSE","Tadeáš","9.A",65,null,"Jilemnice  08.02.23",520,null,32,null,57]
[null,"LEŠÁK","Martin","9.A",16,null,"Jilemnice  19.10.22",128,null,31,null,25]
[null,"NECHANICKÝ","David","9.A",232,null,"Jilemnice  04.11.22",700.8,null,52,null,37]
[null,"ŘEHOŘEK","Jan","9.A",512,null,"Jilemnice  04.11.22",812.8,null,345,null,57]
[null,"SOUKUP","Ondřej","9.A",null,null,null,0,null,273,null,126]
[null,"SPANILÝ","David","9.A",512,null,"Jilemnice  04.11.22",812.8,null,345,null,49]
[null,"ČERNÝ","Michal","9.B",36,null,"Jilemnice  04.11.22",288,null,30,null,25]
[null,"DOLEJŠÍ","David","9.B",27,null,"Jilemnice  27.01.23",216,null,21,null,12]
[null,"POVAŽANEC","Martin","9.B",96,null,"Jilemnice  08.02.23",646.4,null,34,null,30]
[null,"RICHTER","Jakub","9.B",16,null,"Jilemnice  19.10.22",128,null,21,null,14]
[null,"ROZUMEK","Adam","9.B",86,null,"Jilemnice  19.10.22",642.4,null,39,null,17]
[null,"VALENTA","František","9.B",61,null,"Jilemnice  27.01.23",488,null,34,null,17]
[null,"ZAPLATÍLEK","Josef","9.B",86,null,"Jilemnice  19.10.22",642.4,null,39,null,14]

{"sheet":"PLAVÁNÍ","index":17,"n_rows":183,"n_cols":12,"rows_kept":183,"cut":false,"hidden":false,"merged":[]}
[null,null,"VÝKONY  2022 - 2023",null,null,null,"PLAVÁNÍ","CHLAPCI  6. -  9.  ROČ."]
[null,"stav  k ",{"$f":"TODAY()","v":"2023-06-26"},null,null,null,null,null,null,"21 - 22","20 - 21","19  - 20"]
[]
["1.",{"$f":"B101","v":"HONCŮ"},{"$f":"C101","v":"Filip"},"6.A",0," ",0,0," ",0,0,0]
["2.",{"$f":"B102","v":"JÍLEK"},"Lukáš","6.A",0," ",{"$f":"G102","v":0},0," ",{"$f":"J102","v":0},0,0]
["3.",{"$f":"B103","v":"KUČERA"},"Tadeáš","6.A",0," ",{"$f":"G103","v":0},0," ",{"$f":"J103","v":0},0,0]
["4.",{"$f":"B104","v":"ROZUMEK"},"Lukáš","6.A",0," ",{"$f":"G104","v":0},0," ",{"$f":"J104","v":0},0,0]
["5.",{"$f":"B105","v":"ŘEHOŘEK"},"Marek","6.A",0," ",{"$f":"G105","v":0},0," ",{"$f":"J105","v":0},0,0]
["6.",{"$f":"B106","v":"ŘÍHA"},"Tadeáš","6.A",19.77," ",{"$f":"G106","v":"Jilemnice  16.01.23"},631.02190363728323," ",{"$f":"J106","v":0},0,0]
["7.",{"$f":"B107","v":"SKRBEK"},"Richard","6.A",0," ",{"$f":"G107","v":0},0," ",{"$f":"J107","v":0},0,0]
["8.",{"$f":"B108","v":"ŠIMEK"},"Erik","6.A",0," ",{"$f":"G108","v":0},0," ",{"$f":"J108","v":0},0,0]
["9.",{"$f":"B109","v":"ŠÍR"},"Jan","6.A",0," ",{"$f":"G109","v":0},0," ",{"$f":"J109","v":0},0,0]
["10.",{"$f":"B110","v":"ŠÍR"},"Stanislav","6.A",0," ",{"$f":"G110","v":0},0," ",{"$f":"J110","v":0},0,0]
["11.",{"$f":"B111","v":"ŠPINAR"},"František","6.A",28.43," ",{"$f":"G111","v":"Jilemnice  25.05.23"},457.6656968758993," ",{"$f":"J111","v":0},0,0]
["12.",{"$f":"B112","v":"TOTH"},"Mikuláš","6.A",0," ",{"$f":"G112","v":0},0," ",{"$f":"J112","v":0},0,0]
["13.",{"$f":"B113","v":"WEISZLEMLEIN"},"Adam","6.A",0," ",{"$f":"G113","v":0},0," ",{"$f":"J113","v":0},0,0]
["14.",{"$f":"B114","v":"ČERNÝ"},"Filip","6.B",0," ",{"$f":"G114","v":0},0," ",{"$f":"J114","v":0},0,0]
["15.",{"$f":"B115","v":"GINGAL"},"Patrik","6.B",0," ",{"$f":"G115","v":0},0," ",{"$f":"J115","v":0},0,0]
["16.",{"$f":"B116","v":"HLAVÁCEK"},"Josef","6.B",0," ",{"$f":"G116","v":0},0," ",{"$f":"J116","v":0},0,0]
["17.",{"$f":"B117","v":"KHUDA"},"Ivan","6.B",0," ",{"$f":"G117","v":0},0," ",{"$f":"J117","v":0},0,0]
["18.",{"$f":"B118","v":"KRESAN"},"Matěj","6.B",0," ",{"$f":"G118","v":0},0," ",{"$f":"J118","v":0},0,0]
["19.",{"$f":"B119","v":"RYCHTR"},"Vojtěch","6.B",0," ",{"$f":"G119","v":0},0," ",{"$f":"J119","v":0},0,0]
["20.",{"$f":"B120","v":"ŠTAJER"},"David","6.B",0," ",{"$f":"G120","v":0},0," ",{"$f":"J120","v":0},0,0]
["21.",{"$f":"B121","v":"TKACHUK"},"Dzvenyslav","6.B",0," ",{"$f":"G121","v":0},0," ",{"$f":"J121","v":0},0,0]
["22.",{"$f":"B122","v":"VELIKOVSKÝ"},"Dominik","6.B",0," ",{"$f":"G122","v":0},0," ",{"$f":"J122","v":0},0,0]
["23.",{"$f":"B123","v":"EXNER"},"Tomáš","7.A",0," ",{"$f":"G123","v":0},0," ",{"$f":"J123","v":33},0,0]
["24.",{"$f":"B124","v":"JANATA"},"Denis","7.A",0," ",{"$f":"G124","v":0},0," ",{"$f":"J124","v":0},0,0]
["25.",{"$f":"B125","v":"JINDŘIŠEK"},"Alex Jiří","7.A",0," ",{"$f":"G125","v":0},0," ",{"$f":"J125","v":0},0,0]
["26.",{"$f":"B126","v":"KAZLEPKA"},"Miroslav","7.A",0," ",{"$f":"G126","v":0},0," ",{"$f":"J126","v":0},0,0]
["27.",{"$f":"B127","v":"MARŠÁLEK"},"Ondřej","7.A",0," ",{"$f":"G127","v":0},0," ",{"$f":"J127","v":0},0,0]
["28.",{"$f":"B128","v":"MLATEČEK"},"Patrik","7.A",0," ",{"$f":"G128","v":0},0," ",{"$f":"J128","v":0},0,0]
["29.",{"$f":"B129","v":"SCHOLZ"},"Matyáš","7.A",0," ",{"$f":"G129","v":0},0," ",{"$f":"J129","v":0},0,0]
["30.",{"$f":"B130","v":"TOMÁŠ"},"Jakub","7.A",0," ",{"$f":"G130","v":0},0," ",{"$f":"J130","v":0},0,0]
["31.",{"$f":"B131","v":"VÁCLAVÍK"},"Jan","7.A",0," ",{"$f":"G131","v":0},0," ",{"$f":"J131","v":0},0,0]
["32.",{"$f":"B132","v":"VEČEŘA"},"David","7.A",0," ",{"$f":"G132","v":0},0," ",{"$f":"J132","v":0},0,0]
["33.",{"$f":"B133","v":"VYBÍRAL"},"Radim","7.A",0," ",{"$f":"G133","v":0},0," ",{"$f":"J133","v":0},0,0]
["34.",{"$f":"B134","v":"BERISHA"},"David","7.B",0," ",{"$f":"G134","v":0},0," ",{"$f":"J134","v":0},0,0]
["35.",{"$f":"B135","v":"EFENBERK"},"Šimon","7.B",28.87," ",{"$f":"G135","v":"Jilemnice  09.06.23"},451.63407558648493," ",{"$f":"J135","v":28.3},0,0]
["36.",{"$f":"B136","v":"FEJKL"},"Antonín","7.B",27.87," ",{"$f":"G136","v":"Jilemnice  09.06.23"},465.6177492383469," ",{"$f":"J136","v":33.090000000000003},0,0]
["37.",{"$f":"B137","v":"GOTTSTEIN"},"Matouš","7.B",28.84," ",{"$f":"G137","v":"Jilemnice  09.06.23"},452.03947605598285," ",{"$f":"J137","v":33.5},0,0]
["38.",{"$f":"B138","v":"MAŘAS"},"Dominik","7.B",0," ",{"$f":"G138","v":0},0," ",{"$f":"J138","v":0},0,0]
["39.",{"$f":"B139","v":"POVAŽANEC"},"Lukáš","7.B",0," ",{"$f":"G139","v":0},0," ",{"$f":"J139","v":0},0,0]
["40.",{"$f":"B140","v":"VANCL"},"Jakub","7.B",0," ",{"$f":"G140","v":0},0," ",{"$f":"J140","v":0},0,0]
["41.",{"$f":"B141","v":"VANCL"},"Miroslav","7.B",0," ",{"$f":"G141","v":0},0," ",{"$f":"J141","v":0},0,0]
["42.",{"$f":"B142","v":"VOTOČEK"},"Michal","7.B",0," ",{"$f":"G142","v":0},0," ",{"$f":"J142","v":0},0,0]
["43.",{"$f":"B143","v":"DEMČUK"},"Ilja","8.A",0," ",{"$f":"G143","v":0},0," ",{"$f":"J143","v":0},0,0]
["44.",{"$f":"B144","v":"FAISTAUER"},"Kryštof","8.A",0," ",{"$f":"G144","v":0},0," ",{"$f":"J144","v":0},0,0]
["45.",{"$f":"B145","v":"FRK"},"Matyáš","8.A",0," ",{"$f":"G145","v":0},0," ",{"$f":"J145","v":0},0,0]
["46.",{"$f":"B146","v":"HUBÁLOVSKÝ"},"Marek","8.A",0," ",{"$f":"G146","v":0},0," ",{"$f":"J146","v":0},0,0]
["47.",{"$f":"B147","v":"MAŤÁTKO"},"Jakub","8.A",0," ",{"$f":"G147","v":0},0," ",{"$f":"J147","v":0},0,0]
["48.",{"$f":"B148","v":"MERY"},"Luboš","8.A",0," ",{"$f":"G148","v":0},0," ",{"$f":"J148","v":0},0,0]
["49.",{"$f":"B149","v":"NOVOTNÝ"},"Matěj","8.A",0," ",{"$f":"G149","v":0},0," ",{"$f":"J149","v":0},0,0]
["50.",{"$f":"B150","v":"ŘEHOŘEK"},"Vojtěch","8.A",0," ",{"$f":"G150","v":0},0," ",{"$f":"J150","v":0},0,0]
["51.",{"$f":"B151","v":"ŠÍR"},"Matyáš","8.A",0," ",{"$f":"G151","v":0},0," ",{"$f":"J151","v":0},0,0]
["52.",{"$f":"B152","v":"TORÁČ"},"Tomáš","8.A",0," ",{"$f":"G152","v":0},0," ",{"$f":"J152","v":0},0,0]
["53.",{"$f":"B153","v":"VÁCLAVÍK"},"Ondřej","8.A",0," ",{"$f":"G153","v":0},0," ",{"$f":"J153","v":0},0,0]
["54.",{"$f":"B154","v":"AUERSWALD"},"Daniel","8.B",0," ",{"$f":"G154","v":0},0," ",{"$f":"J154","v":0},0,0]
["55.",{"$f":"B155","v":"BOUKAL"},"Jakub","8.B",0," ",{"$f":"G155","v":0},0," ",{"$f":"J155","v":0},0,0]
["56.",{"$f":"B156","v":"BUDÍN"},"Martin","8.B",0," ",{"$f":"G156","v":0},0," ",{"$f":"J156","v":0},0,0]
["57.",{"$f":"B157","v":"DVOŘÁK"},"Dominik","8.B",0," ",{"$f":"G157","v":0},0," ",{"$f":"J157","v":0},0,0]
["58.",{"$f":"B158","v":"FIŠERA"},"Vojtěch","8.B",0," ",{"$f":"G158","v":0},0," ",{"$f":"J158","v":0},0,0]
["59.",{"$f":"B159","v":"JINDŘIŠEK"},"Vít","8.B",0," ",{"$f":"G159","v":0},0," ",{"$f":"J159","v":0},0,0]
["60.",{"$f":"B160","v":"JIROUŠ"},"Matouš","8.B",25.48," ",{"$f":"G160","v":"Jilemnice  14.03.23"},503.48524113029828," ",{"$f":"J160","v":0},0,0]
["61.",{"$f":"B161","v":"KERLE"},"Marek","8.B",0," ",{"$f":"G161","v":0},0," ",{"$f":"J161","v":0},0,0]
["62.",{"$f":"B162","v":"LUKEŠ"},"Jakub","8.B",0," ",{"$f":"G162","v":0},0," ",{"$f":"J162","v":0},0,0]
["63.",{"$f":"B163","v":"OTT"},"Matyáš","8.B",17.16," ",{"$f":"G163","v":"Jilemnice  18.12.22"},717.58276851027756," ",{"$f":"J163","v":22.13},0,0]
["64.",{"$f":"B164","v":"POKORNÝ"},"Matyáš","8.B",0," ",{"$f":"G164","v":0},0," ",{"$f":"J164","v":0},0,0]
["65.",{"$f":"B165","v":"POLÁČEK"},"Matyáš","8.B",0," ",{"$f":"G165","v":0},0," ",{"$f":"J165","v":0},0,0]
["66.",{"$f":"B166","v":"ULLMAN"},"Šimon","8.B",0," ",{"$f":"G166","v":0},0," ",{"$f":"J166","v":0},0,0]
["67.",{"$f":"B167","v":"VALENTA"},"Jakub","8.B",0," ",{"$f":"G167","v":0},0," ",{"$f":"J167","v":0},0,0]
["68.",{"$f":"B168","v":"VRBATA"},"Dominik","8.B",18.32," ",{"$f":"G168","v":"Jilemnice  18.12.22"},676.06631294164345," ",{"$f":"J168","v":21.7},0,0]
["69.",{"$f":"B169","v":"FEJKL"},"Jan","9.A",0," ",{"$f":"G169","v":0},0," ",{"$f":"J169","v":0},0,33.299999999999997]
["70.",{"$f":"B170","v":"KOTYK"},"Tadeáš","9.A",0," ",{"$f":"G170","v":0},0," ",{"$f":"J170","v":0},0,0]
["71.",{"$f":"B171","v":"KRAUSE"},"Tadeáš","9.A",0," ",{"$f":"G171","v":0},0," ",{"$f":"J171","v":0},0,30.25]
["72.",{"$f":"B172","v":"LEŠÁK"},"Martin","9.A",0," ",{"$f":"G172","v":0},0," ",{"$f":"J172","v":0},0,0]
["73.",{"$f":"B173","v":"NECHANICKÝ"},"David","9.A",0," ",{"$f":"G173","v":0},0," ",{"$f":"J173","v":0},0,0]
["74.",{"$f":"B174","v":"ŘEHOŘEK"},"Jan","9.A",0," ",{"$f":"G174","v":0},0," ",{"$f":"J174","v":0},0,0]
["75.",{"$f":"B175","v":"SOUKUP"},"Ondřej","9.A",0," ",{"$f":"G175","v":0},0," ",{"$f":"J175","v":0},0,0]
["76.",{"$f":"B176","v":"SPANILÝ"},"David","9.A",0," ",{"$f":"G176","v":0},0," ",{"$f":"J176","v":0},0,0]
["77.",{"$f":"B177","v":"ČERNÝ"},"Michal","9.B",0," ",{"$f":"G177","v":0},0," ",{"$f":"J177","v":0},0,0]
["78.",{"$f":"B178","v":"DOLEJŠÍ"},"David","9.B",0," ",{"$f":"G178","v":0},0," ",{"$f":"J178","v":0},0,0]
["79.",{"$f":"B179","v":"POVAŽANEC"},"Martin","9.B",0," ",{"$f":"G179","v":0},0," ",{"$f":"J179","v":0},0,0]
["80.",{"$f":"B180","v":"RICHTER"},"Jakub","9.B",0," ",{"$f":"G180","v":0},0," ",{"$f":"J180","v":0},0,0]
["81.",{"$f":"B181","v":"ROZUMEK"},"Adam","9.B",0," ",{"$f":"G181","v":0},0," ",{"$f":"J181","v":0},0,0]
["82.",{"$f":"B182","v":"VALENTA"},"František","9.B",0," ",{"$f":"G182","v":0},0," ",{"$f":"J182","v":0},0,0]
["83.",{"$f":"B183","v":"ZAPLATÍLEK"},"Josef","9.B",0," ",{"$f":"G183","v":0},0," ",{"$f":"J183","v":0},0,0]
[]
[]
[]
[]
[]
[]
[]
[]
[]
[]
[]
[]
[]
[]
[null,"HONCŮ","Filip","6.A",null,null,null,{"$f":"IF(E101=0,0,(1000000000 - 313216 / E101 + 34538300 / E101*2 - 1698600000 / E101*3 + 32198000000 / E101*4)/11000000-29)","v":0}]
[null,"JÍLEK","Lukáš","6.A",null,null,null,0]
[null,"KUČERA","Tadeáš","6.A",null,null,null,0]
[null,"ROZUMEK","Lukáš","6.A",null,null,null,0]
[null,"ŘEHOŘEK","Marek","6.A",null,null,null,0]
[null,"ŘÍHA","Tadeáš","6.A",19.77,null,"Jilemnice  16.01.23",631.02190363728323]
[null,"SKRBEK","Richard","6.A",null,null,null,0]
[null,"ŠIMEK","Erik","6.A",null,null,null,0]
[null,"ŠÍR","Jan","6.A",null,null,null,0]
[null,"ŠÍR","Stanislav","6.A",null,null,null,0]
[null,"ŠPINAR","František","6.A",28.43,null,"Jilemnice  25.05.23",457.6656968758993]
[null,"TOTH","Mikuláš","6.A",null,null,null,0]
[null,"WEISZLEMLEIN","Adam","6.A",null,null,null,0]
[null,"ČERNÝ","Filip","6.B",null,null,null,0]
[null,"GINGAL","Patrik","6.B",null,null,null,0]
[null,"HLAVÁCEK","Josef","6.B",null,null,null,0]
[null,"KHUDA","Ivan","6.B",null,null,null,0]
[null,"KRESAN","Matěj","6.B",null,null,null,0]
[null,"RYCHTR","Vojtěch","6.B",null,null,null,0]
[null,"ŠTAJER","David","6.B",null,null,null,0]
[null,"TKACHUK","Dzvenyslav","6.B",null,null,null,0]
[null,"VELIKOVSKÝ","Dominik","6.B",null,null,null,0]
[null,"EXNER","Tomáš","7.A",null,null,null,0,null,33]
[null,"JANATA","Denis","7.A",null,null,null,0]
[null,"JINDŘIŠEK","Alex Jiří","7.A",null,null,null,0]
[null,"KAZLEPKA","Miroslav","7.A",null,null,null,0]
[null,"MARŠÁLEK","Ondřej","7.A",null,null,null,0]
[null,"MLATEČEK","Patrik","7.A",null,null,null,0]
[null,"SCHOLZ","Matyáš","7.A",null,null,null,0]
[null,"TOMÁŠ","Jakub","7.A",null,null,null,0]
[null,"VÁCLAVÍK","Jan","7.A",null,null,null,0]
[null,"VEČEŘA","David","7.A",null,null,null,0]
[null,"VYBÍRAL","Radim","7.A",null,null,null,{"$f":"IF(E133=0,0,(1000000000 - 313216 / E133 + 34538300 / E133*2 - 1698600000 / E133*3 + 32198000000 / E133*4)/11000000-29)","v":0}]
[null,"BERISHA","David","7.B",null,null,null,0]
[null,"EFENBERK","Šimon","7.B",28.87,null,"Jilemnice  09.06.23",451.63407558648493,null,28.3]
[null,"FEJKL","Antonín","7.B",27.87,null,"Jilemnice  09.06.23",465.6177492383469,null,33.090000000000003]
[null,"GOTTSTEIN","Matouš","7.B",28.84,null,"Jilemnice  09.06.23",452.03947605598285,null,33.5]
[null,"MAŘAS","Dominik","7.B",null,null,null,0]
[null,"POVAŽANEC","Lukáš","7.B",null,null,null,0]
[null,"VANCL","Jakub","7.B",null,null,null,0]
[null,"VANCL","Miroslav","7.B",null,null,null,0]
[null,"VOTOČEK","Michal","7.B",null,null,null,0]
[null,"DEMČUK","Ilja","8.A",null,null,null,0]
[null,"FAISTAUER","Kryštof","8.A",null,null,null,0]
[null,"FRK","Matyáš","8.A",null,null,null,0]
[null,"HUBÁLOVSKÝ","Marek","8.A",null,null,null,0]
[null,"MAŤÁTKO","Jakub","8.A",null,null,null,0]
[null,"MERY","Luboš","8.A",null,null,null,0]
[null,"NOVOTNÝ","Matěj","8.A",null,null,null,0]
[null,"ŘEHOŘEK","Vojtěch","8.A",null,null,null,0]
[null,"ŠÍR","Matyáš","8.A",null,null,null,0]
[null,"TORÁČ","Tomáš","8.A",null,null,null,0]
[null,"VÁCLAVÍK","Ondřej","8.A",null,null,null,0]
[null,"AUERSWALD","Daniel","8.B",null,null,null,0]
[null,"BOUKAL","Jakub","8.B",null,null,null,0]
[null,"BUDÍN","Martin","8.B",null,null,null,0]
[null,"DVOŘÁK","Dominik","8.B",null,null,null,0]
[null,"FIŠERA","Vojtěch","8.B",null,null,null,0]
[null,"JINDŘIŠEK","Vít","8.B",null,null,null,0]
[null,"JIROUŠ","Matouš","8.B",25.48,null,"Jilemnice  14.03.23",503.48524113029828]
[null,"KERLE","Marek","8.B",null,null,null,0]
[null,"LUKEŠ","Jakub","8.B",null,null,null,0]
[null,"OTT","Matyáš","8.B",17.16,null,"Jilemnice  18.12.22",717.58276851027756,null,22.13]
[null,"POKORNÝ","Matyáš","8.B",null,null,null,0]
[null,"POLÁČEK","Matyáš","8.B",null,null,null,{"$f":"IF(E165=0,0,(1000000000 - 313216 / E165 + 34538300 / E165*2 - 1698600000 / E165*3 + 32198000000 / E165*4)/11000000-29)","v":0}]
[null,"ULLMAN","Šimon","8.B",null,null,null,0]
[null,"VALENTA","Jakub","8.B",null,null,null,0]
[null,"VRBATA","Dominik","8.B",18.32,null,"Jilemnice  18.12.22",676.06631294164345,null,21.7]
[null,"FEJKL","Jan","9.A",null,null,null,0,null,null,null,33.299999999999997]
[null,"KOTYK","Tadeáš","9.A",null,null,null,0]
[null,"KRAUSE","Tadeáš","9.A",null,null,null,0,null,null,null,30.25]
[null,"LEŠÁK","Martin","9.A",null,null,null,0]
[null,"NECHANICKÝ","David","9.A",null,null,null,0]
[null,"ŘEHOŘEK","Jan","9.A",null,null,null,0]
[null,"SOUKUP","Ondřej","9.A",null,null,null,0]
[null,"SPANILÝ","David","9.A",null,null,null,0]
[null,"ČERNÝ","Michal","9.B",null,null,null,0]
[null,"DOLEJŠÍ","David","9.B",null,null,null,0]
[null,"POVAŽANEC","Martin","9.B",null,null,null,0]
[null,"RICHTER","Jakub","9.B",null,null,null,0]
[null,"ROZUMEK","Adam","9.B",null,null,null,0]
[null,"VALENTA","František","9.B",null,null,null,0]
[null,"ZAPLATÍLEK","Josef","9.B",null,null,null,0]

{"sheet":"SHYBY","index":18,"n_rows":183,"n_cols":12,"rows_kept":183,"cut":false,"hidden":false,"merged":[]}
[null,null,"VÝKONY  2022 - 2023",null,null,null,"SHYBY","CHLAPCI  6. -  9.  ROČ."]
[null,"stav  k ",{"$f":"TODAY()","v":"2023-06-26"},null,null,null,null,null,null,"21 - 22","20 - 21","19  - 20"]
[]
["1.",{"$f":"B101","v":"HONCŮ"},{"$f":"C101","v":"Filip"},"6.A",0," ",0,0," ",0,0,0]
["2.",{"$f":"B102","v":"JÍLEK"},"Lukáš","6.A",0," ",{"$f":"G102","v":0},0," ",{"$f":"J102","v":0},0,0]
["3.",{"$f":"B103","v":"KUČERA"},"Tadeáš","6.A",0," ",{"$f":"G103","v":0},0," ",{"$f":"J103","v":0},0,0]
["4.",{"$f":"B104","v":"ROZUMEK"},"Lukáš","6.A",0," ",{"$f":"G104","v":0},0," ",{"$f":"J104","v":0},0,0]
["5.",{"$f":"B105","v":"ŘEHOŘEK"},"Marek","6.A",0," ",{"$f":"G105","v":0},0," ",{"$f":"J105","v":0},0,0]
["6.",{"$f":"B106","v":"ŘÍHA"},"Tadeáš","6.A",0," ",{"$f":"G106","v":0},0," ",{"$f":"J106","v":0},0,0]
["7.",{"$f":"B107","v":"SKRBEK"},"Richard","6.A",0," ",{"$f":"G107","v":0},0," ",{"$f":"J107","v":0},0,0]
["8.",{"$f":"B108","v":"ŠIMEK"},"Erik","6.A",0," ",{"$f":"G108","v":0},0," ",{"$f":"J108","v":0},0,0]
["9.",{"$f":"B109","v":"ŠÍR"},"Jan","6.A",0," ",{"$f":"G109","v":0},0," ",{"$f":"J109","v":0},0,0]
["10.",{"$f":"B110","v":"ŠÍR"},"Stanislav","6.A",0," ",{"$f":"G110","v":0},0," ",{"$f":"J110","v":0},0,0]
["11.",{"$f":"B111","v":"ŠPINAR"},"František","6.A",0," ",{"$f":"G111","v":0},0," ",{"$f":"J111","v":0},0,0]
["12.",{"$f":"B112","v":"TOTH"},"Mikuláš","6.A",0," ",{"$f":"G112","v":0},0," ",{"$f":"J112","v":0},0,0]
["13.",{"$f":"B113","v":"WEISZLEMLEIN"},"Adam","6.A",0," ",{"$f":"G113","v":0},0," ",{"$f":"J113","v":0},0,0]
["14.",{"$f":"B114","v":"ČERNÝ"},"Filip","6.B",0," ",{"$f":"G114","v":0},0," ",{"$f":"J114","v":0},0,0]
["15.",{"$f":"B115","v":"GINGAL"},"Patrik","6.B",0," ",{"$f":"G115","v":0},0," ",{"$f":"J115","v":0},0,0]
["16.",{"$f":"B116","v":"HLAVÁCEK"},"Josef","6.B",0," ",{"$f":"G116","v":0},0," ",{"$f":"J116","v":0},0,0]
["17.",{"$f":"B117","v":"KHUDA"},"Ivan","6.B",0," ",{"$f":"G117","v":0},0," ",{"$f":"J117","v":0},0,0]
["18.",{"$f":"B118","v":"KRESAN"},"Matěj","6.B",0," ",{"$f":"G118","v":0},0," ",{"$f":"J118","v":0},0,0]
["19.",{"$f":"B119","v":"RYCHTR"},"Vojtěch","6.B",0," ",{"$f":"G119","v":0},0," ",{"$f":"J119","v":0},0,0]
["20.",{"$f":"B120","v":"ŠTAJER"},"David","6.B",0," ",{"$f":"G120","v":0},0," ",{"$f":"J120","v":0},0,0]
["21.",{"$f":"B121","v":"TKACHUK"},"Dzvenyslav","6.B",0," ",{"$f":"G121","v":0},0," ",{"$f":"J121","v":0},0,0]
["22.",{"$f":"B122","v":"VELIKOVSKÝ"},"Dominik","6.B",0," ",{"$f":"G122","v":0},0," ",{"$f":"J122","v":0},0,0]
["23.",{"$f":"B123","v":"EXNER"},"Tomáš","7.A",3," ",{"$f":"G123","v":"Jilemnice  24.10.22"},225," ",{"$f":"J123","v":2},0,0]
["24.",{"$f":"B124","v":"JANATA"},"Denis","7.A",0," ",{"$f":"G124","v":0},0," ",{"$f":"J124","v":0},0,0]
["25.",{"$f":"B125","v":"JINDŘIŠEK"},"Alex Jiří","7.A",0," ",{"$f":"G125","v":0},0," ",{"$f":"J125","v":0},0,0]
["26.",{"$f":"B126","v":"KAZLEPKA"},"Miroslav","7.A",0," ",{"$f":"G126","v":0},0," ",{"$f":"J126","v":0},0,0]
["27.",{"$f":"B127","v":"MARŠÁLEK"},"Ondřej","7.A",0," ",{"$f":"G127","v":0},0," ",{"$f":"J127","v":0},0,0]
["28.",{"$f":"B128","v":"MLATEČEK"},"Patrik","7.A",0," ",{"$f":"G128","v":0},0," ",{"$f":"J128","v":0},0,0]
["29.",{"$f":"B129","v":"SCHOLZ"},"Matyáš","7.A",1," ",{"$f":"G129","v":"Jilemnice  24.10.22"},75," ",{"$f":"J129","v":0},0,0]
["30.",{"$f":"B130","v":"TOMÁŠ"},"Jakub","7.A",0," ",{"$f":"G130","v":0},0," ",{"$f":"J130","v":4},0,0]
["31.",{"$f":"B131","v":"VÁCLAVÍK"},"Jan","7.A",6," ",{"$f":"G131","v":"Jilemnice  24.10.22"},450," ",{"$f":"J131","v":7},0,0]
["32.",{"$f":"B132","v":"VEČEŘA"},"David","7.A",0," ",{"$f":"G132","v":0},0," ",{"$f":"J132","v":0},0,0]
["33.",{"$f":"B133","v":"VYBÍRAL"},"Radim","7.A",6," ",{"$f":"G133","v":"Jilemnice  24.10.22"},450," ",{"$f":"J133","v":7},0,0]
["34.",{"$f":"B134","v":"BERISHA"},"David","7.B",0," ",{"$f":"G134","v":0},0," ",{"$f":"J134","v":0},0,0]
["35.",{"$f":"B135","v":"EFENBERK"},"Šimon","7.B",2," ",{"$f":"G135","v":"Jilemnice  24.10.22"},150," ",{"$f":"J135","v":0},0,0]
["36.",{"$f":"B136","v":"FEJKL"},"Antonín","7.B",1," ",{"$f":"G136","v":"Jilemnice  24.10.22"},75," ",{"$f":"J136","v":0},0,0]
["37.",{"$f":"B137","v":"GOTTSTEIN"},"Matouš","7.B",6," ",{"$f":"G137","v":"Jilemnice  24.10.22"},450," ",{"$f":"J137","v":2},0,0]
["38.",{"$f":"B138","v":"MAŘAS"},"Dominik","7.B",1," ",{"$f":"G138","v":"Jilemnice  24.10.22"},75," ",{"$f":"J138","v":1},0,0]
["39.",{"$f":"B139","v":"POVAŽANEC"},"Lukáš","7.B",0," ",{"$f":"G139","v":0},0," ",{"$f":"J139","v":0},0,0]
["40.",{"$f":"B140","v":"VANCL"},"Jakub","7.B",0," ",{"$f":"G140","v":0},0," ",{"$f":"J140","v":1},0,0]
["41.",{"$f":"B141","v":"VANCL"},"Miroslav","7.B",0," ",{"$f":"G141","v":0},0," ",{"$f":"J141","v":0},0,0]
["42.",{"$f":"B142","v":"VOTOČEK"},"Michal","7.B",0," ",{"$f":"G142","v":0},0," ",{"$f":"J142","v":0},0,0]
["43.",{"$f":"B143","v":"DEMČUK"},"Ilja","8.A",1," ",{"$f":"G143","v":"Jilemnice  24.10.22"},75," ",{"$f":"J143","v":1},0,0]
["44.",{"$f":"B144","v":"FAISTAUER"},"Kryštof","8.A",5," ",{"$f":"G144","v":"Jilemnice  13.03.23"},375," ",{"$f":"J144","v":0},0,0]
["45.",{"$f":"B145","v":"FRK"},"Matyáš","8.A",3," ",{"$f":"G145","v":"Jilemnice  24.10.22"},225," ",{"$f":"J145","v":0},0,0]
["46.",{"$f":"B146","v":"HUBÁLOVSKÝ"},"Marek","8.A",2," ",{"$f":"G146","v":"Jilemnice  24.10.22"},150," ",{"$f":"J146","v":0},0,0]
["47.",{"$f":"B147","v":"MAŤÁTKO"},"Jakub","8.A",0," ",{"$f":"G147","v":0},0," ",{"$f":"J147","v":0},0,0]
["48.",{"$f":"B148","v":"MERY"},"Luboš","8.A",0," ",{"$f":"G148","v":0},0," ",{"$f":"J148","v":0},0,0]
["49.",{"$f":"B149","v":"NOVOTNÝ"},"Matěj","8.A",0," ",{"$f":"G149","v":0},0," ",{"$f":"J149","v":0},0,0]
["50.",{"$f":"B150","v":"ŘEHOŘEK"},"Vojtěch","8.A",0," ",{"$f":"G150","v":0},0," ",{"$f":"J150","v":0},0,0]
["51.",{"$f":"B151","v":"ŠÍR"},"Matyáš","8.A",0," ",{"$f":"G151","v":0},0," ",{"$f":"J151","v":0},0,0]
["52.",{"$f":"B152","v":"TORÁČ"},"Tomáš","8.A",0," ",{"$f":"G152","v":0},0," ",{"$f":"J152","v":0},0,0]
["53.",{"$f":"B153","v":"VÁCLAVÍK"},"Ondřej","8.A",14," ",{"$f":"G153","v":"Jilemnice  13.03.23"},1050," ",{"$f":"J153","v":11},0,0]
["54.",{"$f":"B154","v":"AUERSWALD"},"Daniel","8.B",5," ",{"$f":"G154","v":"Jilemnice  13.03.23"},375," ",{"$f":"J154","v":3},0,0]
["55.",{"$f":"B155","v":"BOUKAL"},"Jakub","8.B",0," ",{"$f":"G155","v":0},0," ",{"$f":"J155","v":0},0,0]
["56.",{"$f":"B156","v":"BUDÍN"},"Martin","8.B",9," ",{"$f":"G156","v":"Jilemnice  13.03.23"},675," ",{"$f":"J156","v":5},0,0]
["57.",{"$f":"B157","v":"DVOŘÁK"},"Dominik","8.B",3," ",{"$f":"G157","v":"Jilemnice  13.03.23"},225," ",{"$f":"J157","v":0},0,0]
["58.",{"$f":"B158","v":"FIŠERA"},"Vojtěch","8.B",0," ",{"$f":"G158","v":0},0," ",{"$f":"J158","v":0},0,0]
["59.",{"$f":"B159","v":"JINDŘIŠEK"},"Vít","8.B",20," ",{"$f":"G159","v":"Jilemnice  24.10.22"},1500," ",{"$f":"J159","v":15},0,0]
["60.",{"$f":"B160","v":"JIROUŠ"},"Matouš","8.B",2," ",{"$f":"G160","v":"Jilemnice  24.10.22"},150," ",{"$f":"J160","v":2},0,0]
["61.",{"$f":"B161","v":"KERLE"},"Marek","8.B",14," ",{"$f":"G161","v":"Jilemnice  16.06.23"},1050," ",{"$f":"J161","v":12},0,0]
["62.",{"$f":"B162","v":"LUKEŠ"},"Jakub","8.B",5," ",{"$f":"G162","v":"Jilemnice  13.03.23"},375," ",{"$f":"J162","v":7},0,0]
["63.",{"$f":"B163","v":"OTT"},"Matyáš","8.B",15," ",{"$f":"G163","v":"Jilemnice  16.06.23"},1125," ",{"$f":"J163","v":9},0,0]
["64.",{"$f":"B164","v":"POKORNÝ"},"Matyáš","8.B",6," ",{"$f":"G164","v":"Jilemnice  24.10.22"},450," ",{"$f":"J164","v":14},0,0]
["65.",{"$f":"B165","v":"POLÁČEK"},"Matyáš","8.B",0," ",{"$f":"G165","v":0},0," ",{"$f":"J165","v":0},0,0]
["66.",{"$f":"B166","v":"ULLMAN"},"Šimon","8.B",9," ",{"$f":"G166","v":"Jilemnice  24.10.22"},675," ",{"$f":"J166","v":8},0,0]
["67.",{"$f":"B167","v":"VALENTA"},"Jakub","8.B",6," ",{"$f":"G167","v":"Jilemnice  24.03.23"},450," ",{"$f":"J167","v":0},0,0]
["68.",{"$f":"B168","v":"VRBATA"},"Dominik","8.B",7," ",{"$f":"G168","v":"Jilemnice  13.03.23"},525," ",{"$f":"J168","v":9},0,0]
["69.",{"$f":"B169","v":"FEJKL"},"Jan","9.A",10," ",{"$f":"G169","v":"Jilemnice  27.01.23"},750," ",{"$f":"J169","v":0},0,0]
["70.",{"$f":"B170","v":"KOTYK"},"Tadeáš","9.A",1," ",{"$f":"G170","v":"Jilemnice  27.01.23"},75," ",{"$f":"J170","v":0},0,0]
["71.",{"$f":"B171","v":"KRAUSE"},"Tadeáš","9.A",12," ",{"$f":"G171","v":"Jilemnice  17.03.23"},900," ",{"$f":"J171","v":0},0,0]
["72.",{"$f":"B172","v":"LEŠÁK"},"Martin","9.A",0," ",{"$f":"G172","v":0},0," ",{"$f":"J172","v":0},0,0]
["73.",{"$f":"B173","v":"NECHANICKÝ"},"David","9.A",6," ",{"$f":"G173","v":"Jilemnice  17.03.23"},450," ",{"$f":"J173","v":4},0,0]
["74.",{"$f":"B174","v":"ŘEHOŘEK"},"Jan","9.A",3," ",{"$f":"G174","v":"Jilemnice  17.03.23"},225," ",{"$f":"J174","v":0},0,0]
["75.",{"$f":"B175","v":"SOUKUP"},"Ondřej","9.A",0," ",{"$f":"G175","v":0},0," ",{"$f":"J175","v":0},0,0]
["76.",{"$f":"B176","v":"SPANILÝ"},"David","9.A",7," ",{"$f":"G176","v":"Jilemnice  27.01.23"},525," ",{"$f":"J176","v":4},0,0]
["77.",{"$f":"B177","v":"ČERNÝ"},"Michal","9.B",1," ",{"$f":"G177","v":"Jilemnice  17.03.23"},75," ",{"$f":"J177","v":0},0,0]
["78.",{"$f":"B178","v":"DOLEJŠÍ"},"David","9.B",2," ",{"$f":"G178","v":"Jilemnice  27.01.23"},150," ",{"$f":"J178","v":2},0,0]
["79.",{"$f":"B179","v":"POVAŽANEC"},"Martin","9.B",2," ",{"$f":"G179","v":"Jilemnice  27.01.23"},150," ",{"$f":"J179","v":1},0,0]
["80.",{"$f":"B180","v":"RICHTER"},"Jakub","9.B",0," ",{"$f":"G180","v":0},0," ",{"$f":"J180","v":0},0,0]
["81.",{"$f":"B181","v":"ROZUMEK"},"Adam","9.B",2," ",{"$f":"G181","v":"Jilemnice  27.01.23"},150," ",{"$f":"J181","v":0},0,0]
["82.",{"$f":"B182","v":"VALENTA"},"František","9.B",1," ",{"$f":"G182","v":"Jilemnice  27.01.23"},75," ",{"$f":"J182","v":2},0,0]
["83.",{"$f":"B183","v":"ZAPLATÍLEK"},"Josef","9.B",3," ",{"$f":"G183","v":"Jilemnice  27.01.23"},225," ",{"$f":"J183","v":1},0,0]
[]
[]
[]
[]
[]
[]
[]
[]
[]
[]
[]
[]
[]
[]
[null,"HONCŮ","Filip","6.A",null,null,null,{"$f":"IF(E101=0,0,E101*75)","v":0}]
[null,"JÍLEK","Lukáš","6.A",null,null,null,0]
[null,"KUČERA","Tadeáš","6.A",null,null,null,0]
[null,"ROZUMEK","Lukáš","6.A",null,null,null,0]
[null,"ŘEHOŘEK","Marek","6.A",null,null,null,0]
[null,"ŘÍHA","Tadeáš","6.A",null,null,null,0]
[null,"SKRBEK","Richard","6.A",null,null,null,0]
[null,"ŠIMEK","Erik","6.A",null,null,null,0]
[null,"ŠÍR","Jan","6.A",null,null,null,0]
[null,"ŠÍR","Stanislav","6.A",null,null,null,0]
[null,"ŠPINAR","František","6.A",null,null,null,0]
[null,"TOTH","Mikuláš","6.A",null,null,null,0]
[null,"WEISZLEMLEIN","Adam","6.A",null,null,null,0]
[null,"ČERNÝ","Filip","6.B",null,null,null,0]
[null,"GINGAL","Patrik","6.B",null,null,null,0]
[null,"HLAVÁCEK","Josef","6.B",null,null,null,0]
[null,"KHUDA","Ivan","6.B",null,null,null,0]
[null,"KRESAN","Matěj","6.B",null,null,null,0]
[null,"RYCHTR","Vojtěch","6.B",null,null,null,0]
[null,"ŠTAJER","David","6.B",null,null,null,0]
[null,"TKACHUK","Dzvenyslav","6.B",null,null,null,0]
[null,"VELIKOVSKÝ","Dominik","6.B",null,null,null,0]
[null,"EXNER","Tomáš","7.A",3,null,"Jilemnice  24.10.22",225,null,2]
[null,"JANATA","Denis","7.A",null,null,null,0]
[null,"JINDŘIŠEK","Alex Jiří","7.A",null,null,null,0]
[null,"KAZLEPKA","Miroslav","7.A",null,null,null,0]
[null,"MARŠÁLEK","Ondřej","7.A",null,null,null,0]
[null,"MLATEČEK","Patrik","7.A",null,null,null,0]
[null,"SCHOLZ","Matyáš","7.A",1,null,"Jilemnice  24.10.22",75]
[null,"TOMÁŠ","Jakub","7.A",null,null,null,0,null,4]
[null,"VÁCLAVÍK","Jan","7.A",6,null,"Jilemnice  24.10.22",450,null,7]
[null,"VEČEŘA","David","7.A",null,null,null,0]
[null,"VYBÍRAL","Radim","7.A",6,null,"Jilemnice  24.10.22",{"$f":"IF(E133=0,0,E133*75)","v":450},null,7]
[null,"BERISHA","David","7.B",null,null,null,0]
[null,"EFENBERK","Šimon","7.B",2,null,"Jilemnice  24.10.22",150]
[null,"FEJKL","Antonín","7.B",1,null,"Jilemnice  24.10.22",75]
[null,"GOTTSTEIN","Matouš","7.B",6,null,"Jilemnice  24.10.22",450,null,2]
[null,"MAŘAS","Dominik","7.B",1,null,"Jilemnice  24.10.22",75,null,1]
[null,"POVAŽANEC","Lukáš","7.B",null,null,null,0]
[null,"VANCL","Jakub","7.B",null,null,null,0,null,1]
[null,"VANCL","Miroslav","7.B",null,null,null,0]
[null,"VOTOČEK","Michal","7.B",null,null,null,0]
[null,"DEMČUK","Ilja","8.A",1,null,"Jilemnice  24.10.22",75,null,1]
[null,"FAISTAUER","Kryštof","8.A",5,null,"Jilemnice  13.03.23",375]
[null,"FRK","Matyáš","8.A",3,null,"Jilemnice  24.10.22",225]
[null,"HUBÁLOVSKÝ","Marek","8.A",2,null,"Jilemnice  24.10.22",150]
[null,"MAŤÁTKO","Jakub","8.A",null,null,null,0]
[null,"MERY","Luboš","8.A",null,null,null,0]
[null,"NOVOTNÝ","Matěj","8.A",null,null,null,0]
[null,"ŘEHOŘEK","Vojtěch","8.A",null,null,null,0]
[null,"ŠÍR","Matyáš","8.A",null,null,null,0]
[null,"TORÁČ","Tomáš","8.A",null,null,null,0]
[null,"VÁCLAVÍK","Ondřej","8.A",14,null,"Jilemnice  13.03.23",1050,null,11]
[null,"AUERSWALD","Daniel","8.B",5,null,"Jilemnice  13.03.23",375,null,3]
[null,"BOUKAL","Jakub","8.B",null,null,null,0]
[null,"BUDÍN","Martin","8.B",9,null,"Jilemnice  13.03.23",675,null,5]
[null,"DVOŘÁK","Dominik","8.B",3,null,"Jilemnice  13.03.23",225]
[null,"FIŠERA","Vojtěch","8.B",null,null,null,0]
[null,"JINDŘIŠEK","Vít","8.B",20,null,"Jilemnice  24.10.22",1500,null,15]
[null,"JIROUŠ","Matouš","8.B",2,null,"Jilemnice  24.10.22",150,null,2]
[null,"KERLE","Marek","8.B",14,null,"Jilemnice  16.06.23",1050,null,12]
[null,"LUKEŠ","Jakub","8.B",5,null,"Jilemnice  13.03.23",375,null,7]
[null,"OTT","Matyáš","8.B",15,null,"Jilemnice  16.06.23",1125,null,9]
[null,"POKORNÝ","Matyáš","8.B",6,null,"Jilemnice  24.10.22",450,null,14]
[null,"POLÁČEK","Matyáš","8.B",null,null,null,{"$f":"IF(E165=0,0,E165*75)","v":0}]
[null,"ULLMAN","Šimon","8.B",9,null,"Jilemnice  24.10.22",675,null,8]
[null,"VALENTA","Jakub","8.B",6,null,"Jilemnice  24.03.23",450]
[null,"VRBATA","Dominik","8.B",7,null,"Jilemnice  13.03.23",525,null,9]
[null,"FEJKL","Jan","9.A",10,null,"Jilemnice  27.01.23",750]
[null,"KOTYK","Tadeáš","9.A",1,null,"Jilemnice  27.01.23",75]
[null,"KRAUSE","Tadeáš","9.A",12,null,"Jilemnice  17.03.23",900]
[null,"LEŠÁK","Martin","9.A",null,null,null,0]
[null,"NECHANICKÝ","David","9.A",6,null,"Jilemnice  17.03.23",450,null,4]
[null,"ŘEHOŘEK","Jan","9.A",3,null,"Jilemnice  17.03.23",225]
[null,"SOUKUP","Ondřej","9.A",null,null,null,0]
[null,"SPANILÝ","David","9.A",7,null,"Jilemnice  27.01.23",525,null,4]
[null,"ČERNÝ","Michal","9.B",1,null,"Jilemnice  17.03.23",75]
[null,"DOLEJŠÍ","David","9.B",2,null,"Jilemnice  27.01.23",150,null,2]
[null,"POVAŽANEC","Martin","9.B",2,null,"Jilemnice  27.01.23",150,null,1]
[null,"RICHTER","Jakub","9.B",null,null,null,0]
[null,"ROZUMEK","Adam","9.B",2,null,"Jilemnice  27.01.23",150]
[null,"VALENTA","František","9.B",1,null,"Jilemnice  27.01.23",75,null,2]
[null,"ZAPLATÍLEK","Josef","9.B",3,null,"Jilemnice  27.01.23",225,null,1]

{"sheet":"ŠPLH","index":19,"n_rows":183,"n_cols":12,"rows_kept":183,"cut":false,"hidden":false,"merged":[]}
[null,null,"VÝKONY  2022 - 2023",null,null,null,"ŠPLH","CHLAPCI  6. -  9.  ROČ."]
[null,"stav  k ",{"$f":"TODAY()","v":"2023-06-26"},null,null,null,null,null,null,"21 - 22","20 - 21","19  - 20"]
[null,null,null,null,"VÝKON",null,null,"BODY"]
["1.",{"$f":"B101","v":"HONCŮ"},{"$f":"C101","v":"Filip"},"6.A",0," ",0,0," ",0,0,0]
["2.",{"$f":"B102","v":"JÍLEK"},"Lukáš","6.A",0," ",{"$f":"G102","v":0},0," ",{"$f":"J102","v":0},0,0]
["3.",{"$f":"B103","v":"KUČERA"},"Tadeáš","6.A",9.8000000000000007," ",{"$f":"G103","v":"Jilemnice  30.03.23"},309.37869411961907," ",{"$f":"J103","v":0},0,0]
["4.",{"$f":"B104","v":"ROZUMEK"},"Lukáš","6.A",0," ",{"$f":"G104","v":0},0," ",{"$f":"J104","v":0},0,0]
["5.",{"$f":"B105","v":"ŘEHOŘEK"},"Marek","6.A",0," ",{"$f":"G105","v":0},0," ",{"$f":"J105","v":0},0,0]
["6.",{"$f":"B106","v":"ŘÍHA"},"Tadeáš","6.A",0," ",{"$f":"G106","v":0},0," ",{"$f":"J106","v":0},0,0]
["7.",{"$f":"B107","v":"SKRBEK"},"Richard","6.A",0," ",{"$f":"G107","v":0},0," ",{"$f":"J107","v":0},0,0]
["8.",{"$f":"B108","v":"ŠIMEK"},"Erik","6.A",6," ",{"$f":"G108","v":"Jilemnice  30.03.23"},449.34095750648885," ",{"$f":"J108","v":0},0,0]
["9.",{"$f":"B109","v":"ŠÍR"},"Jan","6.A",8.5," ",{"$f":"G109","v":"Jilemnice  30.03.23"},341.49409255359996," ",{"$f":"J109","v":0},0,0]
["10.",{"$f":"B110","v":"ŠÍR"},"Stanislav","6.A",6.2," ",{"$f":"G110","v":"Jilemnice  30.03.23"},437.18591006004294," ",{"$f":"J110","v":0},0,0]
["11.",{"$f":"B111","v":"ŠPINAR"},"František","6.A",0," ",{"$f":"G111","v":0},0," ",{"$f":"J111","v":0},0,0]
["12.",{"$f":"B112","v":"TOTH"},"Mikuláš","6.A",0," ",{"$f":"G112","v":0},0," ",{"$f":"J112","v":0},0,0]
["13.",{"$f":"B113","v":"WEISZLEMLEIN"},"Adam","6.A",0," ",{"$f":"G113","v":0},0," ",{"$f":"J113","v":0},0,0]
["14.",{"$f":"B114","v":"ČERNÝ"},"Filip","6.B",0," ",{"$f":"G114","v":0},0," ",{"$f":"J114","v":0},0,0]
["15.",{"$f":"B115","v":"GINGAL"},"Patrik","6.B",0," ",{"$f":"G115","v":0},0," ",{"$f":"J115","v":0},0,0]
["16.",{"$f":"B116","v":"HLAVÁCEK"},"Josef","6.B",5.6," ",{"$f":"G116","v":"Jilemnice  30.03.23"},476.44440970933334," ",{"$f":"J116","v":0},0,0]
["17.",{"$f":"B117","v":"KHUDA"},"Ivan","6.B",0," ",{"$f":"G117","v":0},0," ",{"$f":"J117","v":0},0,0]
["18.",{"$f":"B118","v":"KRESAN"},"Matěj","6.B",0," ",{"$f":"G118","v":0},0," ",{"$f":"J118","v":0},0,0]
["19.",{"$f":"B119","v":"RYCHTR"},"Vojtěch","6.B",0," ",{"$f":"G119","v":0},0," ",{"$f":"J119","v":0},0,0]
["20.",{"$f":"B120","v":"ŠTAJER"},"David","6.B",0," ",{"$f":"G120","v":0},0," ",{"$f":"J120","v":0},0,0]
["21.",{"$f":"B121","v":"TKACHUK"},"Dzvenyslav","6.B",0," ",{"$f":"G121","v":0},0," ",{"$f":"J121","v":0},0,0]
["22.",{"$f":"B122","v":"VELIKOVSKÝ"},"Dominik","6.B",0," ",{"$f":"G122","v":0},0," ",{"$f":"J122","v":0},0,0]
["23.",{"$f":"B123","v":"EXNER"},"Tomáš","7.A",0," ",{"$f":"G123","v":0},0," ",{"$f":"J123","v":0},0,0]
["24.",{"$f":"B124","v":"JANATA"},"Denis","7.A",0," ",{"$f":"G124","v":0},0," ",{"$f":"J124","v":0},0,0]
["25.",{"$f":"B125","v":"JINDŘIŠEK"},"Alex Jiří","7.A",0," ",{"$f":"G125","v":0},0," ",{"$f":"J125","v":0},0,0]
["26.",{"$f":"B126","v":"KAZLEPKA"},"Miroslav","7.A",0," ",{"$f":"G126","v":0},0," ",{"$f":"J126","v":0},0,0]
["27.",{"$f":"B127","v":"MARŠÁLEK"},"Ondřej","7.A",0," ",{"$f":"G127","v":0},0," ",{"$f":"J127","v":0},0,0]
["28.",{"$f":"B128","v":"MLATEČEK"},"Patrik","7.A",19.75," ",{"$f":"G128","v":"Jilemnice  13.03.23"},228.54417749142277," ",{"$f":"J128","v":0},0,0]
["29.",{"$f":"B129","v":"SCHOLZ"},"Matyáš","7.A",0," ",{"$f":"G129","v":0},0," ",{"$f":"J129","v":25},0,0]
["30.",{"$f":"B130","v":"TOMÁŠ"},"Jakub","7.A",13.28," ",{"$f":"G130","v":"Jilemnice  23.01.23"},259.86770703405625," ",{"$f":"J130","v":16.97},0,0]
["31.",{"$f":"B131","v":"VÁCLAVÍK"},"Jan","7.A",8.8000000000000007," ",{"$f":"G131","v":"Jilemnice  23.01.23"},333.09055405745448," ",{"$f":"J131","v":19.04},0,0]
["32.",{"$f":"B132","v":"VEČEŘA"},"David","7.A",0," ",{"$f":"G132","v":0},0," ",{"$f":"J132","v":0},0,0]
["33.",{"$f":"B133","v":"VYBÍRAL"},"Radim","7.A",5.17," ",{"$f":"G133","v":"Jilemnice  23.01.23"},510.56215305524188," ",{"$f":"J133","v":4.83},0,0]
["34.",{"$f":"B134","v":"BERISHA"},"David","7.B",0," ",{"$f":"G134","v":0},0," ",{"$f":"J134","v":0},0,0]
["35.",{"$f":"B135","v":"EFENBERK"},"Šimon","7.B",8," ",{"$f":"G135","v":"Jilemnice  23.01.23"},357.12073479653333," ",{"$f":"J135","v":19.510000000000002},0,0]
["36.",{"$f":"B136","v":"FEJKL"},"Antonín","7.B",5.6," ",{"$f":"G136","v":"Jilemnice  23.01.23"},476.44440970933334," ",{"$f":"J136","v":9.92},0,0]
["37.",{"$f":"B137","v":"GOTTSTEIN"},"Matouš","7.B",4.7," ",{"$f":"G137","v":"Jilemnice  13.03.23"},555.39084199409922," ",{"$f":"J137","v":6.19},0,0]
["38.",{"$f":"B138","v":"MAŘAS"},"Dominik","7.B",0," ",{"$f":"G138","v":0},0," ",{"$f":"J138","v":0},0,0]
["39.",{"$f":"B139","v":"POVAŽANEC"},"Lukáš","7.B",0," ",{"$f":"G139","v":0},0," ",{"$f":"J139","v":0},0,0]
["40.",{"$f":"B140","v":"VANCL"},"Jakub","7.B",0," ",{"$f":"G140","v":0},0," ",{"$f":"J140","v":0},0,0]
["41.",{"$f":"B141","v":"VANCL"},"Miroslav","7.B",0," ",{"$f":"G141","v":0},0," ",{"$f":"J141","v":0},0,0]
["42.",{"$f":"B142","v":"VOTOČEK"},"Michal","7.B",0," ",{"$f":"G142","v":0},0," ",{"$f":"J142","v":0},0,0]
["43.",{"$f":"B143","v":"DEMČUK"},"Ilja","8.A",0," ",{"$f":"G143","v":0},0," ",{"$f":"J143","v":0},0,0]
["44.",{"$f":"B144","v":"FAISTAUER"},"Kryštof","8.A",4.63," ",{"$f":"G144","v":"Jilemnice  05.12.22"},562.88210066859619," ",{"$f":"J144","v":5.92},0,0]
["45.",{"$f":"B145","v":"FRK"},"Matyáš","8.A",8.2100000000000009," ",{"$f":"G145","v":"Jilemnice  24.03.23"},350.29305372500204," ",{"$f":"J145","v":0},0,0]
["46.",{"$f":"B146","v":"HUBÁLOVSKÝ"},"Marek","8.A",16.18," ",{"$f":"G146","v":"Jilemnice  23.01.23"},239.91260371728058," ",{"$f":"J146","v":25},0,0]
["47.",{"$f":"B147","v":"MAŤÁTKO"},"Jakub","8.A",0," ",{"$f":"G147","v":0},0," ",{"$f":"J147","v":0},0,0]
["48.",{"$f":"B148","v":"MERY"},"Luboš","8.A",0," ",{"$f":"G148","v":0},0," ",{"$f":"J148","v":0},0,0]
["49.",{"$f":"B149","v":"NOVOTNÝ"},"Matěj","8.A",0," ",{"$f":"G149","v":0},0," ",{"$f":"J149","v":0},0,0]
["50.",{"$f":"B150","v":"ŘEHOŘEK"},"Vojtěch","8.A",0," ",{"$f":"G150","v":0},0," ",{"$f":"J150","v":0},0,0]
["51.",{"$f":"B151","v":"ŠÍR"},"Matyáš","8.A",0," ",{"$f":"G151","v":0},0," ",{"$f":"J151","v":0},0,0]
["52.",{"$f":"B152","v":"TORÁČ"},"Tomáš","8.A",0," ",{"$f":"G152","v":0},0," ",{"$f":"J152","v":0},0,0]
["53.",{"$f":"B153","v":"VÁCLAVÍK"},"Ondřej","8.A",3.89," ",{"$f":"G153","v":"Jilemnice  24.03.23"},659.24399174351333," ",{"$f":"J153","v":5.92},0,0]
["54.",{"$f":"B154","v":"AUERSWALD"},"Daniel","8.B",5.82," ",{"$f":"G154","v":"Jilemnice  24.03.23"},461.046513656174," ",{"$f":"J154","v":7.85},0,0]
["55.",{"$f":"B155","v":"BOUKAL"},"Jakub","8.B",0," ",{"$f":"G155","v":0},0," ",{"$f":"J155","v":0},0,0]
["56.",{"$f":"B156","v":"BUDÍN"},"Martin","8.B",5.21," ",{"$f":"G156","v":"Jilemnice  24.03.23"},507.13765164726806," ",{"$f":"J156","v":7.91},0,0]
["57.",{"$f":"B157","v":"DVOŘÁK"},"Dominik","8.B",6.79," ",{"$f":"G157","v":"Jilemnice  24.03.23"},405.8026913719587," ",{"$f":"J157","v":9.0399999999999991},0,0]
["58.",{"$f":"B158","v":"FIŠERA"},"Vojtěch","8.B",14.93," ",{"$f":"G158","v":"Jilemnice  24.03.23"},246.95509333973658," ",{"$f":"J158","v":25},0,0]
["59.",{"$f":"B159","v":"JINDŘIŠEK"},"Vít","8.B",3.36," ",{"$f":"G159","v":"Jilemnice  23.01.23"},755.22838773777789," ",{"$f":"J159","v":4.78},0,0]
["60.",{"$f":"B160","v":"JIROUŠ"},"Matouš","8.B",9.19," ",{"$f":"G160","v":"Jilemnice  05.12.22"},323.11512139451577," ",{"$f":"J160","v":9.4600000000000009},0,0]
["61.",{"$f":"B161","v":"KERLE"},"Marek","8.B",3.79," ",{"$f":"G161","v":"Jilemnice  05.12.22"},675.24957266902379," ",{"$f":"J161","v":4.22},0,0]
["62.",{"$f":"B162","v":"LUKEŠ"},"Jakub","8.B",3.63," ",{"$f":"G162","v":"Jilemnice  24.03.23"},702.74321031100112," ",{"$f":"J162","v":6.04},0,0]
["63.",{"$f":"B163","v":"OTT"},"Matyáš","8.B",5.87," ",{"$f":"G163","v":"Jilemnice  23.01.23"},457.7180842865871," ",{"$f":"J163","v":8},0,0]
["64.",{"$f":"B164","v":"POKORNÝ"},"Matyáš","8.B",5.16," ",{"$f":"G164","v":"Jilemnice  24.03.23"},511.42700085250652," ",{"$f":"J164","v":5.85},0,0]
["65.",{"$f":"B165","v":"POLÁČEK"},"Matyáš","8.B",0," ",{"$f":"G165","v":0},0," ",{"$f":"J165","v":0},0,0]
["66.",{"$f":"B166","v":"ULLMAN"},"Šimon","8.B",5.51," ",{"$f":"G166","v":"Jilemnice  05.12.22"},483.1202422290865," ",{"$f":"J166","v":5.51},0,0]
["67.",{"$f":"B167","v":"VALENTA"},"Jakub","8.B",5.35," ",{"$f":"G167","v":"Jilemnice  24.03.23"},495.57589559917756," ",{"$f":"J167","v":5.34},0,0]
["68.",{"$f":"B168","v":"VRBATA"},"Dominik","8.B",3.25," ",{"$f":"G168","v":"Jilemnice  24.03.23"},779.16801706326146," ",{"$f":"J168","v":4.18},0,0]
["69.",{"$f":"B169","v":"FEJKL"},"Jan","9.A",3.42," ",{"$f":"G169","v":"Jilemnice  27.01.23"},742.83262101723199," ",{"$f":"J169","v":4.07},0,5.94]
["70.",{"$f":"B170","v":"KOTYK"},"Tadeáš","9.A",0," ",{"$f":"G170","v":0},0," ",{"$f":"J170","v":0},0,0]
["71.",{"$f":"B171","v":"KRAUSE"},"Tadeáš","9.A",4.95," ",{"$f":"G171","v":"Jilemnice  27.01.23"},530.43709147251184," ",{"$f":"J171","v":5.07},0,10.78]
["72.",{"$f":"B172","v":"LEŠÁK"},"Martin","9.A",0," ",{"$f":"G172","v":0},0," ",{"$f":"J172","v":0},0,0]
["73.",{"$f":"B173","v":"NECHANICKÝ"},"David","9.A",0," ",{"$f":"G173","v":0},0," ",{"$f":"J173","v":6.04},0,11.08]
["74.",{"$f":"B174","v":"ŘEHOŘEK"},"Jan","9.A",0," ",{"$f":"G174","v":0},0," ",{"$f":"J174","v":9.06},0,0]
["75.",{"$f":"B175","v":"SOUKUP"},"Ondřej","9.A",0," ",{"$f":"G175","v":0},0," ",{"$f":"J175","v":25},0,13.3]
["76.",{"$f":"B176","v":"SPANILÝ"},"David","9.A",4.04," ",{"$f":"G176","v":"Jilemnice  27.01.23"},636.762157260462," ",{"$f":"J176","v":3.81},0,17.45]
["77.",{"$f":"B177","v":"ČERNÝ"},"Michal","9.B",0," ",{"$f":"G177","v":0},0," ",{"$f":"J177","v":0},0,0]
["78.",{"$f":"B178","v":"DOLEJŠÍ"},"David","9.B",10.44," ",{"$f":"G178","v":"Jilemnice  27.01.23"},297.0296805746105," ",{"$f":"J178","v":13.69},0,0]
["79.",{"$f":"B179","v":"POVAŽANEC"},"Martin","9.B",5.9," ",{"$f":"G179","v":"Jilemnice  27.01.23"},455.74989650377398," ",{"$f":"J179","v":5.45},0,0]
["80.",{"$f":"B180","v":"RICHTER"},"Jakub","9.B",0," ",{"$f":"G180","v":0},0," ",{"$f":"J180","v":9.15},0,0]
["81.",{"$f":"B181","v":"ROZUMEK"},"Adam","9.B",8.6999999999999993," ",{"$f":"G181","v":"Jilemnice  27.01.23"},335.8172165561993," ",{"$f":"J181","v":0},0,0]
["82.",{"$f":"B182","v":"VALENTA"},"František","9.B",0," ",{"$f":"G182","v":0},0," ",{"$f":"J182","v":0},0,0]
["83.",{"$f":"B183","v":"ZAPLATÍLEK"},"Josef","9.B",0," ",{"$f":"G183","v":0},0," ",{"$f":"J183","v":25},0,0]
[]
[]
[]
[]
[]
[]
[]
[]
[]
[]
[]
[]
[]
[]
[null,"HONCŮ","Filip","6.A",null,null,null,{"$f":"IF(E101=0,0,IF(E101>0,((1000000000-313216/E101+34538300/E101*2-1698600/E101*3+32198000000/E101*4)/60000000+E101*3.9)*1.129))","v":0}]
[null,"JÍLEK","Lukáš","6.A",null,null,null,0]
[null,"KUČERA","Tadeáš","6.A",9.8000000000000007,null,"Jilemnice  30.03.23",309.37869411961907]
[null,"ROZUMEK","Lukáš","6.A",null,null,null,0]
[null,"ŘEHOŘEK","Marek","6.A",null,null,null,0]
[null,"ŘÍHA","Tadeáš","6.A",null,null,null,0]
[null,"SKRBEK","Richard","6.A",null,null,null,0]
[null,"ŠIMEK","Erik","6.A",6,null,"Jilemnice  30.03.23",449.34095750648885]
[null,"ŠÍR","Jan","6.A",8.5,null,"Jilemnice  30.03.23",341.49409255359996]
[null,"ŠÍR","Stanislav","6.A",6.2,null,"Jilemnice  30.03.23",437.18591006004294]
[null,"ŠPINAR","František","6.A",null,null,null,0]
[null,"TOTH","Mikuláš","6.A",null,null,null,0]
[null,"WEISZLEMLEIN","Adam","6.A",null,null,null,0]
[null,"ČERNÝ","Filip","6.B",null,null,null,0]
[null,"GINGAL","Patrik","6.B",null,null,null,0]
[null,"HLAVÁCEK","Josef","6.B",5.6,null,"Jilemnice  30.03.23",476.44440970933334]
[null,"KHUDA","Ivan","6.B",null,null,null,0]
[null,"KRESAN","Matěj","6.B",null,null,null,0]
[null,"RYCHTR","Vojtěch","6.B",null,null,null,0]
[null,"ŠTAJER","David","6.B",null,null,null,0]
[null,"TKACHUK","Dzvenyslav","6.B",null,null,null,0]
[null,"VELIKOVSKÝ","Dominik","6.B",null,null,null,0]
[null,"EXNER","Tomáš","7.A",null,null,null,0]
[null,"JANATA","Denis","7.A",null,null,null,0]
[null,"JINDŘIŠEK","Alex Jiří","7.A",null,null,null,0]
[null,"KAZLEPKA","Miroslav","7.A",null,null,null,0]
[null,"MARŠÁLEK","Ondřej","7.A",null,null,null,0]
[null,"MLATEČEK","Patrik","7.A",19.75,null,"Jilemnice  13.03.23",228.54417749142277]
[null,"SCHOLZ","Matyáš","7.A",null,null,null,0,null,25]
[null,"TOMÁŠ","Jakub","7.A",13.28,null,"Jilemnice  23.01.23",259.86770703405625,null,16.97]
[null,"VÁCLAVÍK","Jan","7.A",8.8000000000000007,null,"Jilemnice  23.01.23",333.09055405745448,null,19.04]
[null,"VEČEŘA","David","7.A",null,null,null,0]
[null,"VYBÍRAL","Radim","7.A",5.17,null,"Jilemnice  23.01.23",{"$f":"IF(E133=0,0,IF(E133>0,((1000000000-313216/E133+34538300/E133*2-1698600/E133*3+32198000000/E133*4)/60000000+E133*3.9)*1.129))","v":510.56215305524188},null,4.83]
[null,"BERISHA","David","7.B",null,null,null,0]
[null,"EFENBERK","Šimon","7.B",8,null,"Jilemnice  23.01.23",357.12073479653333,null,19.510000000000002]
[null,"FEJKL","Antonín","7.B",5.6,null,"Jilemnice  23.01.23",476.44440970933334,null,9.92]
[null,"GOTTSTEIN","Matouš","7.B",4.7,null,"Jilemnice  13.03.23",555.39084199409922,null,6.19]
[null,"MAŘAS","Dominik","7.B",null,null,null,0]
[null,"POVAŽANEC","Lukáš","7.B",null,null,null,0]
[null,"VANCL","Jakub","7.B",null,null,null,0]
[null,"VANCL","Miroslav","7.B",null,null,null,0]
[null,"VOTOČEK","Michal","7.B",null,null,null,0]
[null,"DEMČUK","Ilja","8.A",null,null,null,0]
[null,"FAISTAUER","Kryštof","8.A",4.63,null,"Jilemnice  05.12.22",562.88210066859619,null,5.92]
[null,"FRK","Matyáš","8.A",8.2100000000000009,null,"Jilemnice  24.03.23",350.29305372500204]
[null,"HUBÁLOVSKÝ","Marek","8.A",16.18,null,"Jilemnice  23.01.23",239.91260371728058,null,25]
[null,"MAŤÁTKO","Jakub","8.A",null,null,null,0]
[null,"MERY","Luboš","8.A",null,null,null,0]
[null,"NOVOTNÝ","Matěj","8.A",null,null,null,0]
[null,"ŘEHOŘEK","Vojtěch","8.A",null,null,null,0]
[null,"ŠÍR","Matyáš","8.A",null,null,null,0]
[null,"TORÁČ","Tomáš","8.A",null,null,null,0]
[null,"VÁCLAVÍK","Ondřej","8.A",3.89,null,"Jilemnice  24.03.23",659.24399174351333,null,5.92]
[null,"AUERSWALD","Daniel","8.B",5.82,null,"Jilemnice  24.03.23",461.046513656174,null,7.85]
[null,"BOUKAL","Jakub","8.B",null,null,null,0]
[null,"BUDÍN","Martin","8.B",5.21,null,"Jilemnice  24.03.23",507.13765164726806,null,7.91]
[null,"DVOŘÁK","Dominik","8.B",6.79,null,"Jilemnice  24.03.23",405.8026913719587,null,9.0399999999999991]
[null,"FIŠERA","Vojtěch","8.B",14.93,null,"Jilemnice  24.03.23",246.95509333973658,null,25]
[null,"JINDŘIŠEK","Vít","8.B",3.36,null,"Jilemnice  23.01.23",755.22838773777789,null,4.78]
[null,"JIROUŠ","Matouš","8.B",9.19,null,"Jilemnice  05.12.22",323.11512139451577,null,9.4600000000000009]
[null,"KERLE","Marek","8.B",3.79,null,"Jilemnice  05.12.22",675.24957266902379,null,4.22]
[null,"LUKEŠ","Jakub","8.B",3.63,null,"Jilemnice  24.03.23",702.74321031100112,null,6.04]
[null,"OTT","Matyáš","8.B",5.87,null,"Jilemnice  23.01.23",457.7180842865871,null,8]
[null,"POKORNÝ","Matyáš","8.B",5.16,null,"Jilemnice  24.03.23",511.42700085250652,null,5.85]
[null,"POLÁČEK","Matyáš","8.B",null,null,null,{"$f":"IF(E165=0,0,IF(E165>0,((1000000000-313216/E165+34538300/E165*2-1698600/E165*3+32198000000/E165*4)/60000000+E165*3.9)*1.129))","v":0}]
[null,"ULLMAN","Šimon","8.B",5.51,null,"Jilemnice  05.12.22",483.1202422290865,null,5.51]
[null,"VALENTA","Jakub","8.B",5.35,null,"Jilemnice  24.03.23",495.57589559917756,null,5.34]
[null,"VRBATA","Dominik","8.B",3.25,null,"Jilemnice  24.03.23",779.16801706326146,null,4.18]
[null,"FEJKL","Jan","9.A",3.42,null,"Jilemnice  27.01.23",742.83262101723199,null,4.07,null,5.94]
[null,"KOTYK","Tadeáš","9.A",null,null,null,0]
[null,"KRAUSE","Tadeáš","9.A",4.95,null,"Jilemnice  27.01.23",530.43709147251184,null,5.07,null,10.78]
[null,"LEŠÁK","Martin","9.A",null,null,null,0]
[null,"NECHANICKÝ","David","9.A",null,null,null,0,null,6.04,null,11.08]
[null,"ŘEHOŘEK","Jan","9.A",null,null,null,0,null,9.06]
[null,"SOUKUP","Ondřej","9.A",null,null,null,0,null,25,null,13.3]
[null,"SPANILÝ","David","9.A",4.04,null,"Jilemnice  27.01.23",636.762157260462,null,3.81,null,17.45]
[null,"ČERNÝ","Michal","9.B",null,null,null,0]
[null,"DOLEJŠÍ","David","9.B",10.44,null,"Jilemnice  27.01.23",297.0296805746105,null,13.69]
[null,"POVAŽANEC","Martin","9.B",5.9,null,"Jilemnice  27.01.23",455.74989650377398,null,5.45]
[null,"RICHTER","Jakub","9.B",null,null,null,0,null,9.15]
[null,"ROZUMEK","Adam","9.B",8.6999999999999993,null,"Jilemnice  27.01.23",335.8172165561993]
[null,"VALENTA","František","9.B",null,null,null,0]
[null,"ZAPLATÍLEK","Josef","9.B",null,null,null,0,null,25]

{"sheet":"ŠVIHADLO","index":20,"n_rows":183,"n_cols":12,"rows_kept":183,"cut":false,"hidden":false,"merged":[]}
[null,null,"VÝKONY  2022 - 2023",null,null,null,"ŠVIHADLO","CHLAPCI  6. -  9.  ROČ.",null,null,null,1959]
[null,"stav  k ",{"$f":"TODAY()","v":"2023-06-26"},null,null,null,null,null,null,"21 - 22","20 - 21","19  - 20"]
[]
["1.",{"$f":"B101","v":"HONCŮ"},{"$f":"C101","v":"Filip"},"6.A",0," ",0,0," ",0,0,{"$f":"L101","v":0}]
["2.",{"$f":"B102","v":"JÍLEK"},"Lukáš","6.A",0," ",{"$f":"G102","v":0},0," ",{"$f":"J102","v":0},0,0]
["3.",{"$f":"B103","v":"KUČERA"},"Tadeáš","6.A",64," ",{"$f":"G103","v":"Jilemnice  03.04.23"},400," ",{"$f":"J103","v":0},0,0]
["4.",{"$f":"B104","v":"ROZUMEK"},"Lukáš","6.A",80," ",{"$f":"G104","v":"Jilemnice  03.04.23"},500," ",{"$f":"J104","v":0},0,0]
["5.",{"$f":"B105","v":"ŘEHOŘEK"},"Marek","6.A",62," ",{"$f":"G105","v":"Jilemnice  03.04.23"},387.5," ",{"$f":"J105","v":0},0,0]
["6.",{"$f":"B106","v":"ŘÍHA"},"Tadeáš","6.A",79," ",{"$f":"G106","v":"Jilemnice  03.04.23"},493.75," ",{"$f":"J106","v":0},0,0]
["7.",{"$f":"B107","v":"SKRBEK"},"Richard","6.A",31," ",{"$f":"G107","v":"Jilemnice  03.04.23"},193.75," ",{"$f":"J107","v":0},0,0]
["8.",{"$f":"B108","v":"ŠIMEK"},"Erik","6.A",81," ",{"$f":"G108","v":"Jilemnice  03.04.23"},506.25," ",{"$f":"J108","v":0},0,0]
["9.",{"$f":"B109","v":"ŠÍR"},"Jan","6.A",94," ",{"$f":"G109","v":"Jilemnice  03.04.23"},587.5," ",{"$f":"J109","v":0},0,0]
["10.",{"$f":"B110","v":"ŠÍR"},"Stanislav","6.A",75," ",{"$f":"G110","v":0},468.75," ",{"$f":"J110","v":0},0,0]
["11.",{"$f":"B111","v":"ŠPINAR"},"František","6.A",0," ",{"$f":"G111","v":0},0," ",{"$f":"J111","v":0},0,0]
["12.",{"$f":"B112","v":"TOTH"},"Mikuláš","6.A",91," ",{"$f":"G112","v":"Jilemnice  03.04.23"},568.75," ",{"$f":"J112","v":0},0,0]
["13.",{"$f":"B113","v":"WEISZLEMLEIN"},"Adam","6.A",0," ",{"$f":"G113","v":0},0," ",{"$f":"J113","v":0},0,0]
["14.",{"$f":"B114","v":"ČERNÝ"},"Filip","6.B",0," ",{"$f":"G114","v":0},0," ",{"$f":"J114","v":0},0,0]
["15.",{"$f":"B115","v":"GINGAL"},"Patrik","6.B",0," ",{"$f":"G115","v":0},0," ",{"$f":"J115","v":0},0,0]
["16.",{"$f":"B116","v":"HLAVÁCEK"},"Josef","6.B",150," ",{"$f":"G116","v":"Jilemnice  03.04.23"},937.5," ",{"$f":"J116","v":0},0,0]
["17.",{"$f":"B117","v":"KHUDA"},"Ivan","6.B",0," ",{"$f":"G117","v":0},0," ",{"$f":"J117","v":0},0,0]
["18.",{"$f":"B118","v":"KRESAN"},"Matěj","6.B",25," ",{"$f":"G118","v":"Jilemnice  03.04.23"},156.25," ",{"$f":"J118","v":0},0,0]
["19.",{"$f":"B119","v":"RYCHTR"},"Vojtěch","6.B",107," ",{"$f":"G119","v":"Jilemnice  03.04.23"},668.75," ",{"$f":"J119","v":0},0,0]
["20.",{"$f":"B120","v":"ŠTAJER"},"David","6.B",0," ",{"$f":"G120","v":0},0," ",{"$f":"J120","v":0},0,0]
["21.",{"$f":"B121","v":"TKACHUK"},"Dzvenyslav","6.B",0," ",{"$f":"G121","v":0},0," ",{"$f":"J121","v":0},0,0]
["22.",{"$f":"B122","v":"VELIKOVSKÝ"},"Dominik","6.B",26," ",{"$f":"G122","v":"Jilemnice  03.04.23"},162.5," ",{"$f":"J122","v":0},0,0]
["23.",{"$f":"B123","v":"EXNER"},"Tomáš","7.A",64," ",{"$f":"G123","v":"Jilemnice  27.02.23"},400," ",{"$f":"J123","v":64},0,0]
["24.",{"$f":"B124","v":"JANATA"},"Denis","7.A",49," ",{"$f":"G124","v":"Jilemnice  27.02.23"},306.25," ",{"$f":"J124","v":65},0,0]
["25.",{"$f":"B125","v":"JINDŘIŠEK"},"Alex Jiří","7.A",42," ",{"$f":"G125","v":"Jilemnice  27.02.23"},262.5," ",{"$f":"J125","v":0},0,0]
["26.",{"$f":"B126","v":"KAZLEPKA"},"Miroslav","7.A",0," ",{"$f":"G126","v":0},0," ",{"$f":"J126","v":0},0,0]
["27.",{"$f":"B127","v":"MARŠÁLEK"},"Ondřej","7.A",28," ",{"$f":"G127","v":"Jilemnice  27.02.23"},175," ",{"$f":"J127","v":35},0,0]
["28.",{"$f":"B128","v":"MLATEČEK"},"Patrik","7.A",0," ",{"$f":"G128","v":0},0," ",{"$f":"J128","v":35},0,0]
["29.",{"$f":"B129","v":"SCHOLZ"},"Matyáš","7.A",53," ",{"$f":"G129","v":"Jilemnice  27.02.23"},331.25," ",{"$f":"J129","v":47},0,0]
["30.",{"$f":"B130","v":"TOMÁŠ"},"Jakub","7.A",86," ",{"$f":"G130","v":"Jilemnice  27.02.23"},537.5," ",{"$f":"J130","v":106},0,0]
["31.",{"$f":"B131","v":"VÁCLAVÍK"},"Jan","7.A",79," ",{"$f":"G131","v":"Jilemnice  27.02.23"},493.75," ",{"$f":"J131","v":101},0,0]
["32.",{"$f":"B132","v":"VEČEŘA"},"David","7.A",32," ",{"$f":"G132","v":"Jilemnice  27.02.23"},200," ",{"$f":"J132","v":37},0,0]
["33.",{"$f":"B133","v":"VYBÍRAL"},"Radim","7.A",110," ",{"$f":"G133","v":"Jilemnice  27.02.23"},687.5," ",{"$f":"J133","v":115},0,0]
["34.",{"$f":"B134","v":"BERISHA"},"David","7.B",0," ",{"$f":"G134","v":0},0," ",{"$f":"J134","v":0},0,0]
["35.",{"$f":"B135","v":"EFENBERK"},"Šimon","7.B",56," ",{"$f":"G135","v":"Jilemnice  27.02.23"},350," ",{"$f":"J135","v":84},0,0]
["36.",{"$f":"B136","v":"FEJKL"},"Antonín","7.B",143," ",{"$f":"G136","v":"Jilemnice  27.02.23"},893.75," ",{"$f":"J136","v":132},0,0]
["37.",{"$f":"B137","v":"GOTTSTEIN"},"Matouš","7.B",140," ",{"$f":"G137","v":"Jilemnice  27.02.23"},875," ",{"$f":"J137","v":128},0,0]
["38.",{"$f":"B138","v":"MAŘAS"},"Dominik","7.B",30," ",{"$f":"G138","v":"Jilemnice  27.02.23"},187.5," ",{"$f":"J138","v":0},0,0]
["39.",{"$f":"B139","v":"POVAŽANEC"},"Lukáš","7.B",57," ",{"$f":"G139","v":"Jilemnice  27.02.23"},356.25," ",{"$f":"J139","v":59},0,0]
["40.",{"$f":"B140","v":"VANCL"},"Jakub","7.B",50," ",{"$f":"G140","v":"Jilemnice  27.02.23"},312.5," ",{"$f":"J140","v":18},0,0]
["41.",{"$f":"B141","v":"VANCL"},"Miroslav","7.B",0," ",{"$f":"G141","v":0},0," ",{"$f":"J141","v":68},0,0]
["42.",{"$f":"B142","v":"VOTOČEK"},"Michal","7.B",58," ",{"$f":"G142","v":"Jilemnice  27.02.23"},362.5," ",{"$f":"J142","v":50},0,0]
["43.",{"$f":"B143","v":"DEMČUK"},"Ilja","8.A",55," ",{"$f":"G143","v":"Jilemnice  13.02.23"},343.75," ",{"$f":"J143","v":48},0,0]
["44.",{"$f":"B144","v":"FAISTAUER"},"Kryštof","8.A",67," ",{"$f":"G144","v":"Jilemnice  13.02.23"},418.75," ",{"$f":"J144","v":84},52,0]
["45.",{"$f":"B145","v":"FRK"},"Matyáš","8.A",69," ",{"$f":"G145","v":"Jilemnice  13.02.23"},431.25," ",{"$f":"J145","v":0},0,0]
["46.",{"$f":"B146","v":"HUBÁLOVSKÝ"},"Marek","8.A",68," ",{"$f":"G146","v":"Jilemnice  13.02.23"},425," ",{"$f":"J146","v":67},0,0]
["47.",{"$f":"B147","v":"MAŤÁTKO"},"Jakub","8.A",0," ",{"$f":"G147","v":0},0," ",{"$f":"J147","v":0},0,0]
["48.",{"$f":"B148","v":"MERY"},"Luboš","8.A",51," ",{"$f":"G148","v":"Jilemnice  13.02.23"},318.75," ",{"$f":"J148","v":35},17,0]
["49.",{"$f":"B149","v":"NOVOTNÝ"},"Matěj","8.A",53," ",{"$f":"G149","v":"Jilemnice  13.02.23"},331.25," ",{"$f":"J149","v":69},0,0]
["50.",{"$f":"B150","v":"ŘEHOŘEK"},"Vojtěch","8.A",136," ",{"$f":"G150","v":"Jilemnice  03.04.23"},850," ",{"$f":"J150","v":95},0,0]
["51.",{"$f":"B151","v":"ŠÍR"},"Matyáš","8.A",100," ",{"$f":"G151","v":"Jilemnice  13.02.23"},625," ",{"$f":"J151","v":66},38,0]
["52.",{"$f":"B152","v":"TORÁČ"},"Tomáš","8.A",35," ",{"$f":"G152","v":"Jilemnice  27.02.23"},218.75," ",{"$f":"J152","v":28},0,0]
["53.",{"$f":"B153","v":"VÁCLAVÍK"},"Ondřej","8.A",65," ",{"$f":"G153","v":"Jilemnice  13.02.23"},406.25," ",{"$f":"J153","v":83},0,0]
["54.",{"$f":"B154","v":"AUERSWALD"},"Daniel","8.B",125," ",{"$f":"G154","v":"Jilemnice  13.02.23"},781.25," ",{"$f":"J154","v":85},30,0]
["55.",{"$f":"B155","v":"BOUKAL"},"Jakub","8.B",0," ",{"$f":"G155","v":0},0," ",{"$f":"J155","v":49},0,0]
["56.",{"$f":"B156","v":"BUDÍN"},"Martin","8.B",130," ",{"$f":"G156","v":"Jilemnice  03.04.23"},812.5," ",{"$f":"J156","v":132},80,0]
["57.",{"$f":"B157","v":"DVOŘÁK"},"Dominik","8.B",74," ",{"$f":"G157","v":"Jilemnice  13.02.23"},462.5," ",{"$f":"J157","v":71},0,0]
["58.",{"$f":"B158","v":"FIŠERA"},"Vojtěch","8.B",61," ",{"$f":"G158","v":"Jilemnice  13.02.23"},381.25," ",{"$f":"J158","v":40},91,0]
["59.",{"$f":"B159","v":"JINDŘIŠEK"},"Vít","8.B",140," ",{"$f":"G159","v":"Jilemnice  13.02.23"},875," ",{"$f":"J159","v":114},56,0]
["60.",{"$f":"B160","v":"JIROUŠ"},"Matouš","8.B",133," ",{"$f":"G160","v":"Jilemnice  13.02.23"},831.25," ",{"$f":"J160","v":103},40,0]
["61.",{"$f":"B161","v":"KERLE"},"Marek","8.B",113," ",{"$f":"G161","v":"Jilemnice  13.02.23"},706.25," ",{"$f":"J161","v":104},37,0]
["62.",{"$f":"B162","v":"LUKEŠ"},"Jakub","8.B",115," ",{"$f":"G162","v":"Jilemnice  13.02.23"},718.75," ",{"$f":"J162","v":85},65,0]
["63.",{"$f":"B163","v":"OTT"},"Matyáš","8.B",146," ",{"$f":"G163","v":"Jilemnice  13.02.23"},912.5," ",{"$f":"J163","v":125},0,0]
["64.",{"$f":"B164","v":"POKORNÝ"},"Matyáš","8.B",146," ",{"$f":"G164","v":"Jilemnice  13.02.23"},912.5," ",{"$f":"J164","v":129},0,0]
["65.",{"$f":"B165","v":"POLÁČEK"},"Matyáš","8.B",95," ",{"$f":"G165","v":"Jilemnice  03.04.23"},593.75," ",{"$f":"J165","v":59},0,0]
["66.",{"$f":"B166","v":"ULLMAN"},"Šimon","8.B",58," ",{"$f":"G166","v":"Jilemnice  13.02.23"},362.5," ",{"$f":"J166","v":49},0,0]
["67.",{"$f":"B167","v":"VALENTA"},"Jakub","8.B",111," ",{"$f":"G167","v":"Jilemnice  13.02.23"},693.75," ",{"$f":"J167","v":89},76,0]
["68.",{"$f":"B168","v":"VRBATA"},"Dominik","8.B",96," ",{"$f":"G168","v":"Jilemnice  13.02.23"},600," ",{"$f":"J168","v":106},0,0]
["69.",{"$f":"B169","v":"FEJKL"},"Jan","9.A",0," ",{"$f":"G169","v":0},0," ",{"$f":"J169","v":101},42,0]
["70.",{"$f":"B170","v":"KOTYK"},"Tadeáš","9.A",0," ",{"$f":"G170","v":0},0," ",{"$f":"J170","v":73},20,0]
["71.",{"$f":"B171","v":"KRAUSE"},"Tadeáš","9.A",0," ",{"$f":"G171","v":0},0," ",{"$f":"J171","v":171},121,0]
["72.",{"$f":"B172","v":"LEŠÁK"},"Martin","9.A",0," ",{"$f":"G172","v":0},0," ",{"$f":"J172","v":56},30,0]
["73.",{"$f":"B173","v":"NECHANICKÝ"},"David","9.A",125," ",{"$f":"G173","v":"Jilemnice  13.06.23"},781.25," ",{"$f":"J173","v":107},0,0]
["74.",{"$f":"B174","v":"ŘEHOŘEK"},"Jan","9.A",0," ",{"$f":"G174","v":0},0," ",{"$f":"J174","v":134},115,0]
["75.",{"$f":"B175","v":"SOUKUP"},"Ondřej","9.A",0," ",{"$f":"G175","v":0},0," ",{"$f":"J175","v":152},0,0]
["76.",{"$f":"B176","v":"SPANILÝ"},"David","9.A",132," ",{"$f":"G176","v":"Jilemnice  13.06.23"},825," ",{"$f":"J176","v":144},106,0]
["77.",{"$f":"B177","v":"ČERNÝ"},"Michal","9.B",0," ",{"$f":"G177","v":0},0," ",{"$f":"J177","v":47},0,0]
["78.",{"$f":"B178","v":"DOLEJŠÍ"},"David","9.B",0," ",{"$f":"G178","v":0},0," ",{"$f":"J178","v":76},58,0]
["79.",{"$f":"B179","v":"POVAŽANEC"},"Martin","9.B",0," ",{"$f":"G179","v":0},0," ",{"$f":"J179","v":70},0,0]
["80.",{"$f":"B180","v":"RICHTER"},"Jakub","9.B",0," ",{"$f":"G180","v":0},0," ",{"$f":"J180","v":70},0,0]
["81.",{"$f":"B181","v":"ROZUMEK"},"Adam","9.B",0," ",{"$f":"G181","v":0},0," ",{"$f":"J181","v":111},0,0]
["82.",{"$f":"B182","v":"VALENTA"},"František","9.B",0," ",{"$f":"G182","v":0},0," ",{"$f":"J182","v":72},0,0]
["83.",{"$f":"B183","v":"ZAPLATÍLEK"},"Josef","9.B",0," ",{"$f":"G183","v":0},0," ",{"$f":"J183","v":100},0,0]
[]
[]
[]
[]
[]
[]
[]
[]
[]
[]
[]
[]
[]
[]
[null,"HONCŮ","Filip","6.A",null,null,null,{"$f":"IF(E101=0,0,E101*6.25)","v":0}]
[null,"JÍLEK","Lukáš","6.A",null,null,null,0]
[null,"KUČERA","Tadeáš","6.A",64,null,"Jilemnice  03.04.23",400]
[null,"ROZUMEK","Lukáš","6.A",80,null,"Jilemnice  03.04.23",500]
[null,"ŘEHOŘEK","Marek","6.A",62,null,"Jilemnice  03.04.23",387.5]
[null,"ŘÍHA","Tadeáš","6.A",79,null,"Jilemnice  03.04.23",493.75]
[null,"SKRBEK","Richard","6.A",31,null,"Jilemnice  03.04.23",193.75]
[null,"ŠIMEK","Erik","6.A",81,null,"Jilemnice  03.04.23",506.25]
[null,"ŠÍR","Jan","6.A",94,null,"Jilemnice  03.04.23",587.5]
[null,"ŠÍR","Stanislav","6.A",75,null,null,468.75]
[null,"ŠPINAR","František","6.A",null,null,null,0]
[null,"TOTH","Mikuláš","6.A",91,null,"Jilemnice  03.04.23",568.75]
[null,"WEISZLEMLEIN","Adam","6.A",null,null,null,0]
[null,"ČERNÝ","Filip","6.B",null,null,null,0]
[null,"GINGAL","Patrik","6.B",null,null,null,0]
[null,"HLAVÁCEK","Josef","6.B",150,null,"Jilemnice  03.04.23",937.5]
[null,"KHUDA","Ivan","6.B",null,null,null,0]
[null,"KRESAN","Matěj","6.B",25,null,"Jilemnice  03.04.23",156.25]
[null,"RYCHTR","Vojtěch","6.B",107,null,"Jilemnice  03.04.23",668.75]
[null,"ŠTAJER","David","6.B",null,null,null,0]
[null,"TKACHUK","Dzvenyslav","6.B",null,null,null,0]
[null,"VELIKOVSKÝ","Dominik","6.B",26,null,"Jilemnice  03.04.23",162.5]
[null,"EXNER","Tomáš","7.A",64,null,"Jilemnice  27.02.23",400,null,64]
[null,"JANATA","Denis","7.A",49,null,"Jilemnice  27.02.23",306.25,null,65]
[null,"JINDŘIŠEK","Alex Jiří","7.A",42,null,"Jilemnice  27.02.23",262.5]
[null,"KAZLEPKA","Miroslav","7.A",null,null,null,0]
[null,"MARŠÁLEK","Ondřej","7.A",28,null,"Jilemnice  27.02.23",175,null,35]
[null,"MLATEČEK","Patrik","7.A",null,null,null,0,null,35]
[null,"SCHOLZ","Matyáš","7.A",53,null,"Jilemnice  27.02.23",331.25,null,47]
[null,"TOMÁŠ","Jakub","7.A",86,null,"Jilemnice  27.02.23",537.5,null,106]
[null,"VÁCLAVÍK","Jan","7.A",79,null,"Jilemnice  27.02.23",493.75,null,101]
[null,"VEČEŘA","David","7.A",32,null,"Jilemnice  27.02.23",200,null,37]
[null,"VYBÍRAL","Radim","7.A",110,null,"Jilemnice  27.02.23",{"$f":"IF(E133=0,0,E133*6.25)","v":687.5},null,115]
[null,"BERISHA","David","7.B",null,null,null,0]
[null,"EFENBERK","Šimon","7.B",56,null,"Jilemnice  27.02.23",350,null,84]
[null,"FEJKL","Antonín","7.B",143,null,"Jilemnice  27.02.23",893.75,null,132]
[null,"GOTTSTEIN","Matouš","7.B",140,null,"Jilemnice  27.02.23",875,null,128]
[null,"MAŘAS","Dominik","7.B",30,null,"Jilemnice  27.02.23",187.5]
[null,"POVAŽANEC","Lukáš","7.B",57,null,"Jilemnice  27.02.23",356.25,null,59]
[null,"VANCL","Jakub","7.B",50,null,"Jilemnice  27.02.23",312.5,null,18]
[null,"VANCL","Miroslav","7.B",null,null,null,0,null,68]
[null,"VOTOČEK","Michal","7.B",58,null,"Jilemnice  27.02.23",362.5,null,50]
[null,"DEMČUK","Ilja","8.A",55,null,"Jilemnice  13.02.23",343.75,null,48]
[null,"FAISTAUER","Kryštof","8.A",67,null,"Jilemnice  13.02.23",418.75,null,84,52]
[null,"FRK","Matyáš","8.A",69,null,"Jilemnice  13.02.23",431.25]
[null,"HUBÁLOVSKÝ","Marek","8.A",68,null,"Jilemnice  13.02.23",425,null,67]
[null,"MAŤÁTKO","Jakub","8.A",null,null,null,0]
[null,"MERY","Luboš","8.A",51,null,"Jilemnice  13.02.23",318.75,null,35,17]
[null,"NOVOTNÝ","Matěj","8.A",53,null,"Jilemnice  13.02.23",331.25,null,69]
[null,"ŘEHOŘEK","Vojtěch","8.A",136,null,"Jilemnice  03.04.23",850,null,95]
[null,"ŠÍR","Matyáš","8.A",100,null,"Jilemnice  13.02.23",625,null,66,38]
[null,"TORÁČ","Tomáš","8.A",35,null,"Jilemnice  27.02.23",218.75,null,28]
[null,"VÁCLAVÍK","Ondřej","8.A",65,null,"Jilemnice  13.02.23",406.25,null,83]
[null,"AUERSWALD","Daniel","8.B",125,null,"Jilemnice  13.02.23",781.25,null,85,30]
[null,"BOUKAL","Jakub","8.B",null,null,null,0,null,49]
[null,"BUDÍN","Martin","8.B",130,null,"Jilemnice  03.04.23",812.5,null,132,80]
[null,"DVOŘÁK","Dominik","8.B",74,null,"Jilemnice  13.02.23",462.5,null,71]
[null,"FIŠERA","Vojtěch","8.B",61,null,"Jilemnice  13.02.23",381.25,null,40,91]
[null,"JINDŘIŠEK","Vít","8.B",140,null,"Jilemnice  13.02.23",875,null,114,56]
[null,"JIROUŠ","Matouš","8.B",133,null,"Jilemnice  13.02.23",831.25,null,103,40]
[null,"KERLE","Marek","8.B",113,null,"Jilemnice  13.02.23",706.25,null,104,37]
[null,"LUKEŠ","Jakub","8.B",115,null,"Jilemnice  13.02.23",718.75,null,85,65]
[null,"OTT","Matyáš","8.B",146,null,"Jilemnice  13.02.23",912.5,null,125]
[null,"POKORNÝ","Matyáš","8.B",146,null,"Jilemnice  13.02.23",912.5,null,129]
[null,"POLÁČEK","Matyáš","8.B",95,null,"Jilemnice  03.04.23",{"$f":"IF(E165=0,0,E165*6.25)","v":593.75},null,59]
[null,"ULLMAN","Šimon","8.B",58,null,"Jilemnice  13.02.23",362.5,null,49]
[null,"VALENTA","Jakub","8.B",111,null,"Jilemnice  13.02.23",693.75,null,89,76]
[null,"VRBATA","Dominik","8.B",96,null,"Jilemnice  13.02.23",600,null,106]
[null,"FEJKL","Jan","9.A",null,null,null,0,null,101,42]
[null,"KOTYK","Tadeáš","9.A",null,null,null,0,null,73,20]
[null,"KRAUSE","Tadeáš","9.A",null,null,null,0,null,171,121]
[null,"LEŠÁK","Martin","9.A",null,null,null,0,null,56,30]
[null,"NECHANICKÝ","David","9.A",125,null,"Jilemnice  13.06.23",781.25,null,107]
[null,"ŘEHOŘEK","Jan","9.A",null,null,null,0,null,134,115]
[null,"SOUKUP","Ondřej","9.A",null,null,null,0,null,152]
[null,"SPANILÝ","David","9.A",132,null,"Jilemnice  13.06.23",825,null,144,106]
[null,"ČERNÝ","Michal","9.B",null,null,null,0,null,47]
[null,"DOLEJŠÍ","David","9.B",null,null,null,0,null,76,58]
[null,"POVAŽANEC","Martin","9.B",null,null,null,0,null,70]
[null,"RICHTER","Jakub","9.B",null,null,null,0,null,70]
[null,"ROZUMEK","Adam","9.B",null,null,null,0,null,111]
[null,"VALENTA","František","9.B",null,null,null,0,null,72]
[null,"ZAPLATÍLEK","Josef","9.B",null,null,null,0,null,100]

{"sheet":"Z MÍSTA","index":21,"n_rows":183,"n_cols":12,"rows_kept":183,"cut":false,"hidden":false,"merged":[]}
[null,null,"VÝKONY  2022 - 2023",null,null,null,"Z MÍSTA","CHLAPCI  6. -  9.  ROČ."]
[null,"stav  k ",{"$f":"TODAY()","v":"2023-06-26"},null,null,null,null,null,null,"21 - 22","20 - 21","19  - 20"]
[]
["1.",{"$f":"B101","v":"HONCŮ"},{"$f":"C101","v":"Filip"},"6.A",0," ",0,0," ",0,0,0]
["2.",{"$f":"B102","v":"JÍLEK"},"Lukáš","6.A",0," ",{"$f":"G102","v":0},{"$f":"H102","v":0}," ",{"$f":"J102","v":0},0,0]
["3.",{"$f":"B103","v":"KUČERA"},"Tadeáš","6.A",149," ",{"$f":"G103","v":"Jilemnice  02.06.23"},{"$f":"H103","v":566.19999999999993}," ",{"$f":"J103","v":0},0,0]
["4.",{"$f":"B104","v":"ROZUMEK"},"Lukáš","6.A",0," ",{"$f":"G104","v":0},{"$f":"H104","v":0}," ",{"$f":"J104","v":0},0,0]
["5.",{"$f":"B105","v":"ŘEHOŘEK"},"Marek","6.A",160," ",{"$f":"G105","v":"Jilemnice  02.06.23"},{"$f":"H105","v":608}," ",{"$f":"J105","v":0},0,0]
["6.",{"$f":"B106","v":"ŘÍHA"},"Tadeáš","6.A",188," ",{"$f":"G106","v":"Jilemnice  02.06.23"},{"$f":"H106","v":714.4}," ",{"$f":"J106","v":0},0,0]
["7.",{"$f":"B107","v":"SKRBEK"},"Richard","6.A",0," ",{"$f":"G107","v":0},0," ",{"$f":"J107","v":0},0,0]
["8.",{"$f":"B108","v":"ŠIMEK"},"Erik","6.A",0," ",{"$f":"G108","v":0},0," ",{"$f":"J108","v":0},0,0]
["9.",{"$f":"B109","v":"ŠÍR"},"Jan","6.A",0," ",{"$f":"G109","v":0},0," ",{"$f":"J109","v":0},0,0]
["10.",{"$f":"B110","v":"ŠÍR"},"Stanislav","6.A",0," ",{"$f":"G110","v":0},0," ",{"$f":"J110","v":0},0,0]
["11.",{"$f":"B111","v":"ŠPINAR"},"František","6.A",0," ",{"$f":"G111","v":0},0," ",{"$f":"J111","v":0},0,0]
["12.",{"$f":"B112","v":"TOTH"},"Mikuláš","6.A",0," ",{"$f":"G112","v":0},0," ",{"$f":"J112","v":0},0,0]
["13.",{"$f":"B113","v":"WEISZLEMLEIN"},"Adam","6.A",157," ",{"$f":"G113","v":"Jilemnice  02.06.23"},596.6," ",{"$f":"J113","v":0},0,0]
["14.",{"$f":"B114","v":"ČERNÝ"},"Filip","6.B",0," ",{"$f":"G114","v":0},0," ",{"$f":"J114","v":0},0,0]
["15.",{"$f":"B115","v":"GINGAL"},"Patrik","6.B",0," ",{"$f":"G115","v":0},0," ",{"$f":"J115","v":0},0,0]
["16.",{"$f":"B116","v":"HLAVÁCEK"},"Josef","6.B",0," ",{"$f":"G116","v":0},0," ",{"$f":"J116","v":0},0,0]
["17.",{"$f":"B117","v":"KHUDA"},"Ivan","6.B",0," ",{"$f":"G117","v":0},0," ",{"$f":"J117","v":0},0,0]
["18.",{"$f":"B118","v":"KRESAN"},"Matěj","6.B",0," ",{"$f":"G118","v":0},0," ",{"$f":"J118","v":0},0,0]
["19.",{"$f":"B119","v":"RYCHTR"},"Vojtěch","6.B",0," ",{"$f":"G119","v":0},0," ",{"$f":"J119","v":0},0,0]
["20.",{"$f":"B120","v":"ŠTAJER"},"David","6.B",0," ",{"$f":"G120","v":0},0," ",{"$f":"J120","v":0},0,0]
["21.",{"$f":"B121","v":"TKACHUK"},"Dzvenyslav","6.B",0," ",{"$f":"G121","v":0},0," ",{"$f":"J121","v":0},0,0]
["22.",{"$f":"B122","v":"VELIKOVSKÝ"},"Dominik","6.B",0," ",{"$f":"G122","v":0},0," ",{"$f":"J122","v":0},0,0]
["23.",{"$f":"B123","v":"EXNER"},"Tomáš","7.A",232," ",{"$f":"G123","v":"Jilemnice  07.11.22"},881.59999999999991," ",{"$f":"J123","v":231},0,0]
["24.",{"$f":"B124","v":"JANATA"},"Denis","7.A",150," ",{"$f":"G124","v":"Jilemnice  13.03.23"},570," ",{"$f":"J124","v":149},0,0]
["25.",{"$f":"B125","v":"JINDŘIŠEK"},"Alex Jiří","7.A",147," ",{"$f":"G125","v":"Jilemnice  07.11.22"},558.6," ",{"$f":"J125","v":100},0,0]
["26.",{"$f":"B126","v":"KAZLEPKA"},"Miroslav","7.A",158," ",{"$f":"G126","v":"Jilemnice  07.11.22"},600.4," ",{"$f":"J126","v":0},0,0]
["27.",{"$f":"B127","v":"MARŠÁLEK"},"Ondřej","7.A",0," ",{"$f":"G127","v":0},0," ",{"$f":"J127","v":169},0,0]
["28.",{"$f":"B128","v":"MLATEČEK"},"Patrik","7.A",159," ",{"$f":"G128","v":"Jilemnice  13.03.23"},604.19999999999993," ",{"$f":"J128","v":130},0,0]
["29.",{"$f":"B129","v":"SCHOLZ"},"Matyáš","7.A",180," ",{"$f":"G129","v":"Jilemnice  07.11.22"},684," ",{"$f":"J129","v":190},0,0]
["30.",{"$f":"B130","v":"TOMÁŠ"},"Jakub","7.A",185," ",{"$f":"G130","v":"Jilemnice  07.11.22"},703," ",{"$f":"J130","v":172},0,0]
["31.",{"$f":"B131","v":"VÁCLAVÍK"},"Jan","7.A",189," ",{"$f":"G131","v":"Jilemnice  07.11.22"},718.19999999999993," ",{"$f":"J131","v":182},0,0]
["32.",{"$f":"B132","v":"VEČEŘA"},"David","7.A",144," ",{"$f":"G132","v":"Jilemnice  07.11.22"},547.19999999999993," ",{"$f":"J132","v":149},0,0]
["33.",{"$f":"B133","v":"VYBÍRAL"},"Radim","7.A",200," ",{"$f":"G133","v":"Jilemnice  07.11.22"},760," ",{"$f":"J133","v":209},0,0]
["34.",{"$f":"B134","v":"BERISHA"},"David","7.B",0," ",{"$f":"G134","v":0},0," ",{"$f":"J134","v":160},0,0]
["35.",{"$f":"B135","v":"EFENBERK"},"Šimon","7.B",215," ",{"$f":"G135","v":"Jilemnice  12.06.23"},817," ",{"$f":"J135","v":172},0,0]
["36.",{"$f":"B136","v":"FEJKL"},"Antonín","7.B",231," ",{"$f":"G136","v":"Jilemnice  12.06.23"},877.8," ",{"$f":"J136","v":205},0,0]
["37.",{"$f":"B137","v":"GOTTSTEIN"},"Matouš","7.B",234," ",{"$f":"G137","v":"Jilemnice  13.03.23"},889.19999999999993," ",{"$f":"J137","v":214},0,0]
["38.",{"$f":"B138","v":"MAŘAS"},"Dominik","7.B",212," ",{"$f":"G138","v":"Jilemnice  02.06.23"},805.59999999999991," ",{"$f":"J138","v":203},0,0]
["39.",{"$f":"B139","v":"POVAŽANEC"},"Lukáš","7.B",174," ",{"$f":"G139","v":"Jilemnice  12.06.23"},661.19999999999993," ",{"$f":"J139","v":162},0,0]
["40.",{"$f":"B140","v":"VANCL"},"Jakub","7.B",155," ",{"$f":"G140","v":"Jilemnice  07.11.22"},589," ",{"$f":"J140","v":145},0,0]
["41.",{"$f":"B141","v":"VANCL"},"Miroslav","7.B",176," ",{"$f":"G141","v":"Jilemnice  13.03.23"},668.8," ",{"$f":"J141","v":190},0,0]
["42.",{"$f":"B142","v":"VOTOČEK"},"Michal","7.B",151," ",{"$f":"G142","v":"Jilemnice  07.11.22"},573.79999999999995," ",{"$f":"J142","v":161},0,0]
["43.",{"$f":"B143","v":"DEMČUK"},"Ilja","8.A",190," ",{"$f":"G143","v":"Jilemnice  24.03.23"},722," ",{"$f":"J143","v":182},150,0]
["44.",{"$f":"B144","v":"FAISTAUER"},"Kryštof","8.A",221," ",{"$f":"G144","v":"Jilemnice  14.11.22"},839.8," ",{"$f":"J144","v":213},165,0]
["45.",{"$f":"B145","v":"FRK"},"Matyáš","8.A",180," ",{"$f":"G145","v":"Jilemnice  14.11.22"},684," ",{"$f":"J145","v":170},0,0]
["46.",{"$f":"B146","v":"HUBÁLOVSKÝ"},"Marek","8.A",190," ",{"$f":"G146","v":"Jilemnice  14.11.22"},722," ",{"$f":"J146","v":191},0,0]
["47.",{"$f":"B147","v":"MAŤÁTKO"},"Jakub","8.A",0," ",{"$f":"G147","v":0},0," ",{"$f":"J147","v":140},0,0]
["48.",{"$f":"B148","v":"MERY"},"Luboš","8.A",160," ",{"$f":"G148","v":"Jilemnice  24.03.23"},608," ",{"$f":"J148","v":160},130,0]
["49.",{"$f":"B149","v":"NOVOTNÝ"},"Matěj","8.A",150," ",{"$f":"G149","v":"Jilemnice  14.11.22"},570," ",{"$f":"J149","v":154},0,0]
["50.",{"$f":"B150","v":"ŘEHOŘEK"},"Vojtěch","8.A",189," ",{"$f":"G150","v":"Jilemnice  14.11.22"},718.19999999999993," ",{"$f":"J150","v":178},146,0]
["51.",{"$f":"B151","v":"ŠÍR"},"Matyáš","8.A",151," ",{"$f":"G151","v":"Jilemnice  14.11.22"},573.79999999999995," ",{"$f":"J151","v":141},158,0]
["52.",{"$f":"B152","v":"TORÁČ"},"Tomáš","8.A",0," ",{"$f":"G152","v":0},0," ",{"$f":"J152","v":90},0,0]
["53.",{"$f":"B153","v":"VÁCLAVÍK"},"Ondřej","8.A",212," ",{"$f":"G153","v":"Jilemnice  14.11.22"},805.59999999999991," ",{"$f":"J153","v":202},0,0]
["54.",{"$f":"B154","v":"AUERSWALD"},"Daniel","8.B",185," ",{"$f":"G154","v":"Jilemnice  14.11.22"},703," ",{"$f":"J154","v":209},0,0]
["55.",{"$f":"B155","v":"BOUKAL"},"Jakub","8.B",0," ",{"$f":"G155","v":0},0," ",{"$f":"J155","v":146},0,0]
["56.",{"$f":"B156","v":"BUDÍN"},"Martin","8.B",200," ",{"$f":"G156","v":"Jilemnice  14.11.22"},760," ",{"$f":"J156","v":200},150,0]
["57.",{"$f":"B157","v":"DVOŘÁK"},"Dominik","8.B",190," ",{"$f":"G157","v":"Jilemnice  24.03.23"},722," ",{"$f":"J157","v":178},0,0]
["58.",{"$f":"B158","v":"FIŠERA"},"Vojtěch","8.B",155," ",{"$f":"G158","v":"Jilemnice  14.11.22"},589," ",{"$f":"J158","v":167},130,0]
["59.",{"$f":"B159","v":"JINDŘIŠEK"},"Vít","8.B",235," ",{"$f":"G159","v":"Jilemnice  24.03.23"},893," ",{"$f":"J159","v":229},200,0]
["60.",{"$f":"B160","v":"JIROUŠ"},"Matouš","8.B",210," ",{"$f":"G160","v":"Jilemnice  24.03.23"},798," ",{"$f":"J160","v":201},200,0]
["61.",{"$f":"B161","v":"KERLE"},"Marek","8.B",217," ",{"$f":"G161","v":"Jilemnice  24.03.23"},824.59999999999991," ",{"$f":"J161","v":201},158,0]
["62.",{"$f":"B162","v":"LUKEŠ"},"Jakub","8.B",242," ",{"$f":"G162","v":"Jilemnice  24.03.23"},919.59999999999991," ",{"$f":"J162","v":241},190,0]
["63.",{"$f":"B163","v":"OTT"},"Matyáš","8.B",215," ",{"$f":"G163","v":"Jilemnice  16.06.23"},817," ",{"$f":"J163","v":191},0,0]
["64.",{"$f":"B164","v":"POKORNÝ"},"Matyáš","8.B",230," ",{"$f":"G164","v":"Jilemnice  24.03.23"},874," ",{"$f":"J164","v":222},0,0]
["65.",{"$f":"B165","v":"POLÁČEK"},"Matyáš","8.B",161," ",{"$f":"G165","v":"Jilemnice  14.11.22"},611.79999999999995," ",{"$f":"J165","v":165},0,0]
["66.",{"$f":"B166","v":"ULLMAN"},"Šimon","8.B",245," ",{"$f":"G166","v":"Jilemnice  24.03.23"},931," ",{"$f":"J166","v":230},0,0]
["67.",{"$f":"B167","v":"VALENTA"},"Jakub","8.B",198," ",{"$f":"G167","v":"Jilemnice  14.11.22"},752.4," ",{"$f":"J167","v":194},0,0]
["68.",{"$f":"B168","v":"VRBATA"},"Dominik","8.B",192," ",{"$f":"G168","v":"Jilemnice  14.11.22"},729.59999999999991," ",{"$f":"J168","v":192},0,0]
["69.",{"$f":"B169","v":"FEJKL"},"Jan","9.A",251," ",{"$f":"G169","v":"Jilemnice  13.06.23"},953.8," ",{"$f":"J169","v":232},200,202]
["70.",{"$f":"B170","v":"KOTYK"},"Tadeáš","9.A",0," ",{"$f":"G170","v":0},0," ",{"$f":"J170","v":181},60,180]
["71.",{"$f":"B171","v":"KRAUSE"},"Tadeáš","9.A",225," ",{"$f":"G171","v":"Jilemnice  17.03.23"},855," ",{"$f":"J171","v":221},201,185]
["72.",{"$f":"B172","v":"LEŠÁK"},"Martin","9.A",0," ",{"$f":"G172","v":0},0," ",{"$f":"J172","v":170},0,148]
["73.",{"$f":"B173","v":"NECHANICKÝ"},"David","9.A",254," ",{"$f":"G173","v":"Jilemnice  17.03.23"},965.19999999999993," ",{"$f":"J173","v":250},0,195]
["74.",{"$f":"B174","v":"ŘEHOŘEK"},"Jan","9.A",235," ",{"$f":"G174","v":"Jilemnice  17.03.23"},893," ",{"$f":"J174","v":210},0,195]
["75.",{"$f":"B175","v":"SOUKUP"},"Ondřej","9.A",0," ",{"$f":"G175","v":0},0," ",{"$f":"J175","v":170},0,172]
["76.",{"$f":"B176","v":"SPANILÝ"},"David","9.A",273," ",{"$f":"G176","v":"Jilemnice  17.03.23"},1037.3999999999999," ",{"$f":"J176","v":232},198,197]
["77.",{"$f":"B177","v":"ČERNÝ"},"Michal","9.B",182," ",{"$f":"G177","v":"Jilemnice  17.03.23"},691.6," ",{"$f":"J177","v":162},0,147]
["78.",{"$f":"B178","v":"DOLEJŠÍ"},"David","9.B",203," ",{"$f":"G178","v":"Jilemnice  17.03.23"},771.4," ",{"$f":"J178","v":195},152,123]
["79.",{"$f":"B179","v":"POVAŽANEC"},"Martin","9.B",205," ",{"$f":"G179","v":"Jilemnice  17.03.23"},779," ",{"$f":"J179","v":229},0,142]
["80.",{"$f":"B180","v":"RICHTER"},"Jakub","9.B",0," ",{"$f":"G180","v":0},0," ",{"$f":"J180","v":190},0,148]
["81.",{"$f":"B181","v":"ROZUMEK"},"Adam","9.B",190," ",{"$f":"G181","v":"Jilemnice  17.03.23"},722," ",{"$f":"J181","v":180},0,152]
["82.",{"$f":"B182","v":"VALENTA"},"František","9.B",0," ",{"$f":"G182","v":0},0," ",{"$f":"J182","v":177},0,139]
["83.",{"$f":"B183","v":"ZAPLATÍLEK"},"Josef","9.B",226," ",{"$f":"G183","v":"Jilemnice  17.03.23"},858.8," ",{"$f":"J183","v":201},0,169]
[]
[]
[]
[]
[]
[]
[]
[]
[]
[]
[]
[]
[]
[]
[null,"HONCŮ","Filip","6.A",null,null,null,{"$f":"IF(E101=0,0,(E101*3.8))","v":0}]
[null,"JÍLEK","Lukáš","6.A",null,null,null,0]
[null,"KUČERA","Tadeáš","6.A",149,null,"Jilemnice  02.06.23",566.19999999999993]
[null,"ROZUMEK","Lukáš","6.A",null,null,null,0]
[null,"ŘEHOŘEK","Marek","6.A",160,null,"Jilemnice  02.06.23",608]
[null,"ŘÍHA","Tadeáš","6.A",188,null,"Jilemnice  02.06.23",714.4]
[null,"SKRBEK","Richard","6.A",null,null,null,0]
[null,"ŠIMEK","Erik","6.A",null,null,null,0]
[null,"ŠÍR","Jan","6.A",null,null,null,0]
[null,"ŠÍR","Stanislav","6.A",null,null,null,0]
[null,"ŠPINAR","František","6.A",null,null,null,0]
[null,"TOTH","Mikuláš","6.A",null,null,null,0]
[null,"WEISZLEMLEIN","Adam","6.A",157,null,"Jilemnice  02.06.23",596.6]
[null,"ČERNÝ","Filip","6.B",null,null,null,0]
[null,"GINGAL","Patrik","6.B",null,null,null,0]
[null,"HLAVÁCEK","Josef","6.B",null,null,null,0]
[null,"KHUDA","Ivan","6.B",null,null,null,0]
[null,"KRESAN","Matěj","6.B",null,null,null,0]
[null,"RYCHTR","Vojtěch","6.B",null,null,null,0]
[null,"ŠTAJER","David","6.B",null,null,null,0]
[null,"TKACHUK","Dzvenyslav","6.B",null,null,null,0]
[null,"VELIKOVSKÝ","Dominik","6.B",null,null,null,0]
[null,"EXNER","Tomáš","7.A",232,null,"Jilemnice  07.11.22",881.59999999999991,null,231]
[null,"JANATA","Denis","7.A",150,null,"Jilemnice  13.03.23",570,null,149]
[null,"JINDŘIŠEK","Alex Jiří","7.A",147,null,"Jilemnice  07.11.22",558.6,null,100]
[null,"KAZLEPKA","Miroslav","7.A",158,null,"Jilemnice  07.11.22",600.4]
[null,"MARŠÁLEK","Ondřej","7.A",null,null,null,0,null,169]
[null,"MLATEČEK","Patrik","7.A",159,null,"Jilemnice  13.03.23",604.19999999999993,null,130]
[null,"SCHOLZ","Matyáš","7.A",180,null,"Jilemnice  07.11.22",684,null,190]
[null,"TOMÁŠ","Jakub","7.A",185,null,"Jilemnice  07.11.22",703,null,172]
[null,"VÁCLAVÍK","Jan","7.A",189,null,"Jilemnice  07.11.22",718.19999999999993,null,182]
[null,"VEČEŘA","David","7.A",144,null,"Jilemnice  07.11.22",547.19999999999993,null,149]
[null,"VYBÍRAL","Radim","7.A",200,null,"Jilemnice  07.11.22",{"$f":"IF(E133=0,0,(E133*3.8))","v":760},null,209]
[null,"BERISHA","David","7.B",null,null,null,0,null,160]
[null,"EFENBERK","Šimon","7.B",215,null,"Jilemnice  12.06.23",817,null,172]
[null,"FEJKL","Antonín","7.B",231,null,"Jilemnice  12.06.23",877.8,null,205]
[null,"GOTTSTEIN","Matouš","7.B",234,null,"Jilemnice  13.03.23",889.19999999999993,null,214]
[null,"MAŘAS","Dominik","7.B",212,null,"Jilemnice  02.06.23",805.59999999999991,null,203]
[null,"POVAŽANEC","Lukáš","7.B",174,null,"Jilemnice  12.06.23",661.19999999999993,null,162]
[null,"VANCL","Jakub","7.B",155,null,"Jilemnice  07.11.22",589,null,145]
[null,"VANCL","Miroslav","7.B",176,null,"Jilemnice  13.03.23",668.8,null,190]
[null,"VOTOČEK","Michal","7.B",151,null,"Jilemnice  07.11.22",573.79999999999995,null,161]
[null,"DEMČUK","Ilja","8.A",190,null,"Jilemnice  24.03.23",722,null,182,150]
[null,"FAISTAUER","Kryštof","8.A",221,null,"Jilemnice  14.11.22",839.8,null,213,165]
[null,"FRK","Matyáš","8.A",180,null,"Jilemnice  14.11.22",684,null,170]
[null,"HUBÁLOVSKÝ","Marek","8.A",190,null,"Jilemnice  14.11.22",722,null,191]
[null,"MAŤÁTKO","Jakub","8.A",null,null,null,0,null,140]
[null,"MERY","Luboš","8.A",160,null,"Jilemnice  24.03.23",608,null,160,130]
[null,"NOVOTNÝ","Matěj","8.A",150,null,"Jilemnice  14.11.22",570,null,154]
[null,"ŘEHOŘEK","Vojtěch","8.A",189,null,"Jilemnice  14.11.22",718.19999999999993,null,178,146]
[null,"ŠÍR","Matyáš","8.A",151,null,"Jilemnice  14.11.22",573.79999999999995,null,141,158]
[null,"TORÁČ","Tomáš","8.A",null,null,null,0,null,90]
[null,"VÁCLAVÍK","Ondřej","8.A",212,null,"Jilemnice  14.11.22",805.59999999999991,null,202]
[null,"AUERSWALD","Daniel","8.B",185,null,"Jilemnice  14.11.22",703,null,209]
[null,"BOUKAL","Jakub","8.B",null,null,null,0,null,146]
[null,"BUDÍN","Martin","8.B",200,null,"Jilemnice  14.11.22",760,null,200,150]
[null,"DVOŘÁK","Dominik","8.B",190,null,"Jilemnice  24.03.23",722,null,178]
[null,"FIŠERA","Vojtěch","8.B",155,null,"Jilemnice  14.11.22",589,null,167,130]
[null,"JINDŘIŠEK","Vít","8.B",235,null,"Jilemnice  24.03.23",893,null,229,200]
[null,"JIROUŠ","Matouš","8.B",210,null,"Jilemnice  24.03.23",798,null,201,200]
[null,"KERLE","Marek","8.B",217,null,"Jilemnice  24.03.23",824.59999999999991,null,201,158]
[null,"LUKEŠ","Jakub","8.B",242,null,"Jilemnice  24.03.23",919.59999999999991,null,241,190]
[null,"OTT","Matyáš","8.B",215,null,"Jilemnice  16.06.23",817,null,191]
[null,"POKORNÝ","Matyáš","8.B",230,null,"Jilemnice  24.03.23",874,null,222]
[null,"POLÁČEK","Matyáš","8.B",161,null,"Jilemnice  14.11.22",{"$f":"IF(E165=0,0,(E165*3.8))","v":611.79999999999995},null,165]
[null,"ULLMAN","Šimon","8.B",245,null,"Jilemnice  24.03.23",931,null,230]
[null,"VALENTA","Jakub","8.B",198,null,"Jilemnice  14.11.22",752.4,null,194]
[null,"VRBATA","Dominik","8.B",192,null,"Jilemnice  14.11.22",729.59999999999991,null,192]
[null,"FEJKL","Jan","9.A",251,null,"Jilemnice  13.06.23",953.8,null,232,200,202]
[null,"KOTYK","Tadeáš","9.A",null,null,null,0,null,181,60,180]
[null,"KRAUSE","Tadeáš","9.A",225,null,"Jilemnice  17.03.23",855,null,221,201,185]
[null,"LEŠÁK","Martin","9.A",null,null,null,0,null,170,null,148]
[null,"NECHANICKÝ","David","9.A",254,null,"Jilemnice  17.03.23",965.19999999999993,null,250,null,195]
[null,"ŘEHOŘEK","Jan","9.A",235,null,"Jilemnice  17.03.23",893,null,210,null,195]
[null,"SOUKUP","Ondřej","9.A",null,null,null,0,null,170,null,172]
[null,"SPANILÝ","David","9.A",273,null,"Jilemnice  17.03.23",1037.3999999999999,null,232,198,197]
[null,"ČERNÝ","Michal","9.B",182,null,"Jilemnice  17.03.23",691.6,null,162,null,147]
[null,"DOLEJŠÍ","David","9.B",203,null,"Jilemnice  17.03.23",771.4,null,195,152,123]
[null,"POVAŽANEC","Martin","9.B",205,null,"Jilemnice  17.03.23",779,null,229,null,142]
[null,"RICHTER","Jakub","9.B",null,null,null,0,null,190,null,148]
[null,"ROZUMEK","Adam","9.B",190,null,"Jilemnice  17.03.23",722,null,180,null,152]
[null,"VALENTA","František","9.B",null,null,null,0,null,177,null,139]
[null,"ZAPLATÍLEK","Josef","9.B",226,null,"Jilemnice  17.03.23",858.8,null,201,null,169]

{"sheet":"REPRE","index":22,"n_rows":86,"n_cols":23,"rows_kept":86,"cut":false,"hidden":false,"merged":[]}
[]
[null,null,null,null,null,"OF","OF","OF ","OKRSEK",null,"OF","KF","okrsek","OF","OF","of BASK "," KF","OF","JIL ","OF ","KF","štaf","OVOV"]
[null,null,null,null,"CELKEM","4boj","přespole","PLAV","FLORB","   ŠTAF","FLORB","PLAV","kopaná","fotbal","4boj","8.-9.","bask","VOLEJ","laťka","PoRo","PR"]
[null,"HONCŮ","Filip","6.A",{"$f":"SUM(F4:W4)","v":25},null,null,null,25]
[null,"JÍLEK","Lukáš","6.A",{"$f":"SUM(F5:W5)","v":0}]
[null,"KUČERA","Tadeáš","6.A",75,null,null,null,25,null,null,null,null,null,null,null,null,null,null,50]
[null,"ROZUMEK","Lukáš","6.A",0]
[null,"ŘEHOŘEK","Marek","6.A",25,null,null,null,25]
[null,"ŘÍHA","Tadeáš","6.A",50,null,null,null,null,null,null,null,null,null,null,null,null,null,null,50]
[null,"SKRBEK","Richard","6.A",0]
[null,"ŠIMEK","Erik","6.A",0]
[null,"ŠÍR","Jan","6.A",0]
[null,"ŠÍR","Stanislav","6.A",0]
[null,"ŠPINAR","František","6.A",0]
[null,"TOTH","Mikuláš","6.A",0]
[null,"WEISZLEMLEIN","Adam","6.A",0]
[null,"ČERNÝ","Filip","6.B",0]
[null,"GINGAL","Patrik","6.B",0]
[null,"HLAVÁCEK","Josef","6.B",75,null,null,null,25,null,null,null,null,null,null,null,null,null,null,50]
[null,"KHUDA","Ivan","6.B",0]
[null,"KRESAN","Matěj","6.B",0]
[null,"RYCHTR","Vojtěch","6.B",25,null,null,null,25]
[null,"ŠTAJER","David","6.B",25,null,null,null,25]
[null,"TKACHUK","Dzvenyslav","6.B",0]
[null,"VELIKOVSKÝ","Dominik","6.B",25,null,null,null,25]
[null,"EXNER","Tomáš","7.A",0]
[null,"JANATA","Denis","7.A",0]
[null,"JINDŘIŠEK","Alex Jiří","7.A",125,null,null,null,25,null,50,null,null,null,null,null,null,null,null,50]
[null,"KAZLEPKA","Miroslav","7.A",0]
[null,"MARŠÁLEK","Ondřej","7.A",0]
[null,"MLATEČEK","Patrik","7.A",0]
[null,"SCHOLZ","Matyáš","7.A",125,null,null,null,25,null,50,null,null,null,50]
[null,"TOMÁŠ","Jakub","7.A",0]
[null,"VÁCLAVÍK","Jan","7.A",225,50,null,null,25,null,50,null,null,null,50,null,null,null,null,50]
[null,"VEČEŘA","David","7.A",0]
[null,"VYBÍRAL","Radim","7.A",225,50,null,null,25,null,50,null,null,null,50,null,null,null,null,50]
[null,"BERISHA","David","7.B",0]
[null,"EFENBERK","Šimon","7.B",50,null,50]
[null,"FEJKL","Antonín","7.B",225,50,null,null,25,null,50,null,null,null,50,null,null,null,null,50]
[null,"GOTTSTEIN","Matouš","7.B",275,50,50,null,25,null,50,null,null,null,50,null,null,null,null,50]
[null,"MAŘAS","Dominik","7.B",0]
[null,"POVAŽANEC","Lukáš","7.B",275,50,50,null,25,null,50,null,null,null,50,null,null,null,null,50]
[null,"VANCL","Jakub","7.B",75,null,50,null,25]
[null,"VANCL","Miroslav","7.B",0]
[null,"VOTOČEK","Michal","7.B",50,null,50]
[null,"DEMČUK","Ilja","8.A",0]
[null,"FAISTAUER","Kryštof","8.A",175,null,null,null,25,null,50,null,null,50,null,null,null,null,null,50]
[null,"FRK","Matyáš","8.A",0]
[null,"HUBÁLOVSKÝ","Marek","8.A",0]
[null,"MAŤÁTKO","Jakub","8.A",0]
[null,"MERY","Luboš","8.A",0]
[null,"NOVOTNÝ","Matěj","8.A",0]
[null,"ŘEHOŘEK","Vojtěch","8.A",175,null,null,null,25,null,50,null,null,50,null,null,null,null,null,50]
[null,"ŠÍR","Matyáš","8.A",50,null,50]
[null,"TORÁČ","Tomáš","8.A",0]
[null,"VÁCLAVÍK","Ondřej","8.A",0]
[null,"AUERSWALD","Daniel","8.B",0]
[null,"BOUKAL","Jakub","8.B",0]
[null,"BUDÍN","Martin","8.B",0]
[null,"DVOŘÁK","Dominik","8.B",0]
[null,"FIŠERA","Vojtěch","8.B",0]
[null,"JINDŘIŠEK","Vít","8.B",175,50,null,null,25,null,50,null,null,null,null,null,null,null,null,50]
[null,"JIROUŠ","Matouš","8.B",50,null,50]
[null,"KERLE","Marek","8.B",100,null,50,null,null,null,null,null,null,null,null,null,null,null,null,50]
[null,"LUKEŠ","Jakub","8.B",100,null,50,null,null,null,null,null,null,null,null,null,null,null,null,50]
[null,"OTT","Matyáš","8.B",100,null,50,null,null,null,null,null,null,null,null,null,null,null,null,50]
[null,"POKORNÝ","Matyáš","8.B",150,null,50,null,null,null,50,null,null,null,null,null,null,null,null,50]
[null,"POLÁČEK","Matyáš","8.B",{"$f":"SUM(F68:W68)","v":125},null,null,null,25,null,50,null,null,50]
[null,"ULLMAN","Šimon","8.B",0]
[null,"VALENTA","Jakub","8.B",50,null,null,null,null,null,null,null,null,null,null,null,null,null,null,50]
[null,"VRBATA","Dominik","8.B",0]
[null,"FEJKL","Jan","9.A",225,50,null,null,25,null,50,null,null,50,50]
[null,"KOTYK","Tadeáš","9.A",0]
[null,"KRAUSE","Tadeáš","9.A",150,50,null,null,null,null,null,null,null,null,50,null,null,null,null,50]
[null,"LEŠÁK","Martin","9.A",0]
[null,"NECHANICKÝ","David","9.A",225,50,null,null,25,null,50,null,null,50,50]
[null,"ŘEHOŘEK","Jan","9.A",125,null,null,null,25,null,50,null,null,50]
[null,"SOUKUP","Ondřej","9.A",0]
[null,"SPANILÝ","David","9.A",225,50,null,null,25,null,50,null,null,50,50]
[null,"ČERNÝ","Michal","9.B",0]
[null,"DOLEJŠÍ","David","9.B",0]
[null,"POVAŽANEC","Martin","9.B",100,null,null,null,null,null,50,null,null,null,50]
[null,"RICHTER","Jakub","9.B",0]
[null,"ROZUMEK","Adam","9.B",0]
[null,"VALENTA","František","9.B",0]
[null,"ZAPLATÍLEK","Josef","9.B",50,null,null,null,null,null,50]

{"sheet":"VÝK","index":23,"n_rows":97,"n_cols":22,"rows_kept":97,"cut":false,"hidden":false,"merged":[]}
[null,"SPORTOVEC  ŠKOLY  2020 - 2021",null,null,null,null,null,null,null,null,"CHLAPCI  6. ROČNÍK"]
[]
[null,null,"60  m  ","300m","1000m","dálka","výška","míček","koule","oštěp","člunek","lehsed","odbíjení ","plavání","shyby","šplh","švihadlo","z místa"," REPRE","  BODY"]
[{"$f":"'60'!B101","v":"HONCŮ"},{"$f":"'60'!C101","v":"Filip"},{"$f":"'60'!E101","v":13.4},{"$f":"'300'!E101","v":"00:00:00"},{"$f":"'1000'!E101","v":"00:00:00"},{"$f":"DÁLKA!E101","v":302},{"$f":"VÝŠKA!E101","v":95},{"$f":"MÍČEK!E101","v":0},{"$f":"KOULE!E101","v":4.07},{"$f":"OŠTĚP!E101","v":0},{"$f":"ČLUNEK!E101","v":12.4},{"$f":"LEHSED!E101","v":35},{"$f":"ODBÍJENÍ!E101","v":0},{"$f":"PLAVÁNÍ!E101","v":0},{"$f":"SHYBY!E101","v":0},{"$f":"ŠPLH!E101","v":0},{"$f":"ŠVIHADLO!E101","v":0},{"$f":"'Z MÍSTA'!E101","v":0},{"$f":"REPRE!E4","v":25},{"$f":"ROČ!W121","v":3164.7781155466751}]
[{"$f":"'60'!B102","v":"JÍLEK"},{"$f":"'60'!C102","v":"Lukáš"},{"$f":"'60'!E102","v":0},{"$f":"'300'!E102","v":"00:00:00"},{"$f":"'1000'!E102","v":"00:00:00"},{"$f":"DÁLKA!E102","v":0},{"$f":"VÝŠKA!E102","v":0},{"$f":"MÍČEK!E102","v":0},{"$f":"KOULE!E102","v":0},{"$f":"OŠTĚP!E102","v":0},{"$f":"ČLUNEK!E102","v":0},{"$f":"LEHSED!E102","v":0},{"$f":"ODBÍJENÍ!E102","v":0},{"$f":"PLAVÁNÍ!E102","v":0},{"$f":"SHYBY!E102","v":0},{"$f":"ŠPLH!E102","v":0},{"$f":"ŠVIHADLO!E102","v":0},{"$f":"'Z MÍSTA'!E102","v":0},{"$f":"REPRE!E5","v":0},{"$f":"ROČ!W122","v":0},null,{"$f":"FREQUENCY(C5:R5,0)","v":16}]
[{"$f":"'60'!B103","v":"KUČERA"},{"$f":"'60'!C103","v":"Tadeáš"},{"$f":"'60'!E103","v":11.9},{"$f":"'300'!E103","v":"00:00:00"},{"$f":"'1000'!E103","v":"00:04:13.760"},{"$f":"DÁLKA!E103","v":308},{"$f":"VÝŠKA!E103","v":95},{"$f":"MÍČEK!E103","v":16},{"$f":"KOULE!E103","v":4.6900000000000004},{"$f":"OŠTĚP!E103","v":0},{"$f":"ČLUNEK!E103","v":11.64},{"$f":"LEHSED!E103","v":40},{"$f":"ODBÍJENÍ!E103","v":7},{"$f":"PLAVÁNÍ!E103","v":0},{"$f":"SHYBY!E103","v":0},{"$f":"ŠPLH!E103","v":9.8000000000000007},{"$f":"ŠVIHADLO!E103","v":64},{"$f":"'Z MÍSTA'!E103","v":149},{"$f":"REPRE!E6","v":75},{"$f":"ROČ!W123","v":5648.0824019348738},null,{"$f":"FREQUENCY(C6:R6,0)","v":4}]
[{"$f":"'60'!B104","v":"ROZUMEK"},{"$f":"'60'!C104","v":"Lukáš"},{"$f":"'60'!E104","v":13},{"$f":"'300'!E104","v":"00:00:00"},{"$f":"'1000'!E104","v":"00:00:00"},{"$f":"DÁLKA!E104","v":225},{"$f":"VÝŠKA!E104","v":0},{"$f":"MÍČEK!E104","v":31},{"$f":"KOULE!E104","v":6.16},{"$f":"OŠTĚP!E104","v":0},{"$f":"ČLUNEK!E104","v":13.18},{"$f":"LEHSED!E104","v":30},{"$f":"ODBÍJENÍ!E104","v":0},{"$f":"PLAVÁNÍ!E104","v":0},{"$f":"SHYBY!E104","v":0},{"$f":"ŠPLH!E104","v":0},{"$f":"ŠVIHADLO!E104","v":80},{"$f":"'Z MÍSTA'!E104","v":0},{"$f":"REPRE!E7","v":0},{"$f":"ROČ!W124","v":3391.8779795692153},null,9]
[{"$f":"'60'!B105","v":"ŘEHOŘEK"},{"$f":"'60'!C105","v":"Marek"},{"$f":"'60'!E105","v":12.1},{"$f":"'300'!E105","v":"00:00:00"},{"$f":"'1000'!E105","v":"00:00:00"},{"$f":"DÁLKA!E105","v":0},{"$f":"VÝŠKA!E105","v":80},{"$f":"MÍČEK!E105","v":23},{"$f":"KOULE!E105","v":0},{"$f":"OŠTĚP!E105","v":0},{"$f":"ČLUNEK!E105","v":0},{"$f":"LEHSED!E105","v":25},{"$f":"ODBÍJENÍ!E105","v":0},{"$f":"PLAVÁNÍ!E105","v":0},{"$f":"SHYBY!E105","v":0},{"$f":"ŠPLH!E105","v":0},{"$f":"ŠVIHADLO!E105","v":62},{"$f":"'Z MÍSTA'!E105","v":160},{"$f":"REPRE!E8","v":25},{"$f":"ROČ!W125","v":2687.5254685289256},null,10]
[{"$f":"'60'!B106","v":"ŘÍHA"},{"$f":"'60'!C106","v":"Tadeáš"},{"$f":"'60'!E106","v":11.6},{"$f":"'300'!E106","v":"00:00:00"},{"$f":"'1000'!E106","v":"00:00:00"},{"$f":"DÁLKA!E106","v":403},{"$f":"VÝŠKA!E106","v":115},{"$f":"MÍČEK!E106","v":42.06},{"$f":"KOULE!E106","v":6.9},{"$f":"OŠTĚP!E106","v":0},{"$f":"ČLUNEK!E106","v":11.56},{"$f":"LEHSED!E106","v":32},{"$f":"ODBÍJENÍ!E106","v":7},{"$f":"PLAVÁNÍ!E106","v":19.77},{"$f":"SHYBY!E106","v":0},{"$f":"ŠPLH!E106","v":0},{"$f":"ŠVIHADLO!E106","v":79},{"$f":"'Z MÍSTA'!E106","v":188},{"$f":"REPRE!E9","v":50},{"$f":"ROČ!W126","v":6140.0141742417327},null,5]
[{"$f":"'60'!B107","v":"SKRBEK"},{"$f":"'60'!C107","v":"Richard"},{"$f":"'60'!E107","v":11.6},{"$f":"'300'!E107","v":"00:00:00"},{"$f":"'1000'!E107","v":"00:00:00"},{"$f":"DÁLKA!E107","v":317},{"$f":"VÝŠKA!E107","v":85},{"$f":"MÍČEK!E107","v":0},{"$f":"KOULE!E107","v":5.82},{"$f":"OŠTĚP!E107","v":0},{"$f":"ČLUNEK!E107","v":12.94},{"$f":"LEHSED!E107","v":26},{"$f":"ODBÍJENÍ!E107","v":0},{"$f":"PLAVÁNÍ!E107","v":0},{"$f":"SHYBY!E107","v":0},{"$f":"ŠPLH!E107","v":0},{"$f":"ŠVIHADLO!E107","v":31},{"$f":"'Z MÍSTA'!E107","v":0},{"$f":"REPRE!E10","v":0},{"$f":"ROČ!W127","v":3310.403533746256},null,9]
[{"$f":"'60'!B108","v":"ŠIMEK"},{"$f":"'60'!C108","v":"Erik"},{"$f":"'60'!E108","v":10.5},{"$f":"'300'!E108","v":"00:00:00"},{"$f":"'1000'!E108","v":"00:00:00"},{"$f":"DÁLKA!E108","v":0},{"$f":"VÝŠKA!E108","v":125},{"$f":"MÍČEK!E108","v":37},{"$f":"KOULE!E108","v":7.62},{"$f":"OŠTĚP!E108","v":0},{"$f":"ČLUNEK!E108","v":11.73},{"$f":"LEHSED!E108","v":43},{"$f":"ODBÍJENÍ!E108","v":0},{"$f":"PLAVÁNÍ!E108","v":0},{"$f":"SHYBY!E108","v":0},{"$f":"ŠPLH!E108","v":6},{"$f":"ŠVIHADLO!E108","v":81},{"$f":"'Z MÍSTA'!E108","v":0},{"$f":"REPRE!E11","v":0},{"$f":"ROČ!W128","v":4653.9216018218776},null,8]
[{"$f":"'60'!B109","v":"ŠÍR"},{"$f":"'60'!C109","v":"Jan"},{"$f":"'60'!E109","v":11},{"$f":"'300'!E109","v":"00:00:00"},{"$f":"'1000'!E109","v":"00:00:00"},{"$f":"DÁLKA!E109","v":319},{"$f":"VÝŠKA!E109","v":110},{"$f":"MÍČEK!E109","v":26},{"$f":"KOULE!E109","v":5.7},{"$f":"OŠTĚP!E109","v":0},{"$f":"ČLUNEK!E109","v":12.36},{"$f":"LEHSED!E109","v":30},{"$f":"ODBÍJENÍ!E109","v":0},{"$f":"PLAVÁNÍ!E109","v":0},{"$f":"SHYBY!E109","v":0},{"$f":"ŠPLH!E109","v":8.5},{"$f":"ŠVIHADLO!E109","v":94},{"$f":"'Z MÍSTA'!E109","v":0},{"$f":"REPRE!E12","v":0},{"$f":"ROČ!W129","v":4636.9632895727191},null,7]
[{"$f":"'60'!B110","v":"ŠÍR"},{"$f":"'60'!C110","v":"Stanislav"},{"$f":"'60'!E110","v":11.5},{"$f":"'300'!E110","v":"00:00:00"},{"$f":"'1000'!E110","v":"00:00:00"},{"$f":"DÁLKA!E110","v":0},{"$f":"VÝŠKA!E110","v":95},{"$f":"MÍČEK!E110","v":34},{"$f":"KOULE!E110","v":4.28},{"$f":"OŠTĚP!E110","v":0},{"$f":"ČLUNEK!E110","v":12.14},{"$f":"LEHSED!E110","v":34},{"$f":"ODBÍJENÍ!E110","v":0},{"$f":"PLAVÁNÍ!E110","v":0},{"$f":"SHYBY!E110","v":0},{"$f":"ŠPLH!E110","v":6.2},{"$f":"ŠVIHADLO!E110","v":75},{"$f":"'Z MÍSTA'!E110","v":0},{"$f":"REPRE!E13","v":0},{"$f":"ROČ!W130","v":4009.6802929946134},null,8]
[{"$f":"'60'!B111","v":"ŠPINAR"},{"$f":"'60'!C111","v":"František"},{"$f":"'60'!E111","v":13},{"$f":"'300'!E111","v":"00:00:00"},{"$f":"'1000'!E111","v":"00:00:00"},{"$f":"DÁLKA!E111","v":262},{"$f":"VÝŠKA!E111","v":95},{"$f":"MÍČEK!E111","v":27},{"$f":"KOULE!E111","v":5.75},{"$f":"OŠTĚP!E111","v":0},{"$f":"ČLUNEK!E111","v":13.76},{"$f":"LEHSED!E111","v":0},{"$f":"ODBÍJENÍ!E111","v":0},{"$f":"PLAVÁNÍ!E111","v":28.43},{"$f":"SHYBY!E111","v":0},{"$f":"ŠPLH!E111","v":0},{"$f":"ŠVIHADLO!E111","v":0},{"$f":"'Z MÍSTA'!E111","v":0},{"$f":"REPRE!E14","v":0},{"$f":"ROČ!W131","v":3437.0550947816305},null,{"$f":"FREQUENCY(C14:R14,0)","v":9}]
[{"$f":"'60'!B112","v":"TOTH"},{"$f":"'60'!C112","v":"Mikuláš"},{"$f":"'60'!E112","v":12.4},{"$f":"'300'!E112","v":"00:00:00"},{"$f":"'1000'!E112","v":"00:00:00"},{"$f":"DÁLKA!E112","v":0},{"$f":"VÝŠKA!E112","v":95},{"$f":"MÍČEK!E112","v":28.5},{"$f":"KOULE!E112","v":0},{"$f":"OŠTĚP!E112","v":0},{"$f":"ČLUNEK!E112","v":13.34},{"$f":"LEHSED!E112","v":43},{"$f":"ODBÍJENÍ!E112","v":0},{"$f":"PLAVÁNÍ!E112","v":0},{"$f":"SHYBY!E112","v":0},{"$f":"ŠPLH!E112","v":0},{"$f":"ŠVIHADLO!E112","v":91},{"$f":"'Z MÍSTA'!E112","v":0},{"$f":"REPRE!E15","v":0},{"$f":"ROČ!W132","v":3174.2362559397848},null,{"$f":"FREQUENCY(C15:R15,0)","v":10}]
[{"$f":"'60'!B113","v":"WEISZLEMLEIN"},{"$f":"'60'!C113","v":"Adam"},{"$f":"'60'!E113","v":12},{"$f":"'300'!E113","v":"00:00:00"},{"$f":"'1000'!E113","v":"00:00:00"},{"$f":"DÁLKA!E113","v":240},{"$f":"VÝŠKA!E113","v":0},{"$f":"MÍČEK!E113","v":0},{"$f":"KOULE!E113","v":0},{"$f":"OŠTĚP!E113","v":0},{"$f":"ČLUNEK!E113","v":13.13},{"$f":"LEHSED!E113","v":0},{"$f":"ODBÍJENÍ!E113","v":0},{"$f":"PLAVÁNÍ!E113","v":0},{"$f":"SHYBY!E113","v":0},{"$f":"ŠPLH!E113","v":0},{"$f":"ŠVIHADLO!E113","v":0},{"$f":"'Z MÍSTA'!E113","v":157},{"$f":"REPRE!E16","v":0},{"$f":"ROČ!W133","v":2282.9516765326534},null,{"$f":"FREQUENCY(C16:R16,0)","v":12}]
[{"$f":"'60'!B114","v":"ČERNÝ"},{"$f":"'60'!C114","v":"Filip"},{"$f":"'60'!E114","v":0},{"$f":"'300'!E114","v":"00:00:00"},{"$f":"'1000'!E114","v":"00:00:00"},{"$f":"DÁLKA!E114","v":0},{"$f":"VÝŠKA!E114","v":0},{"$f":"MÍČEK!E114","v":0},{"$f":"KOULE!E114","v":0},{"$f":"OŠTĚP!E114","v":0},{"$f":"ČLUNEK!E114","v":0},{"$f":"LEHSED!E114","v":0},{"$f":"ODBÍJENÍ!E114","v":0},{"$f":"PLAVÁNÍ!E114","v":0},{"$f":"SHYBY!E114","v":0},{"$f":"ŠPLH!E114","v":0},{"$f":"ŠVIHADLO!E114","v":0},{"$f":"'Z MÍSTA'!E114","v":0},{"$f":"REPRE!E17","v":0},{"$f":"ROČ!W134","v":0},null,16]
[{"$f":"'60'!B115","v":"GINGAL"},{"$f":"'60'!C115","v":"Patrik"},{"$f":"'60'!E115","v":10.8},{"$f":"'300'!E115","v":"00:00:00"},{"$f":"'1000'!E115","v":"00:00:00"},{"$f":"DÁLKA!E115","v":0},{"$f":"VÝŠKA!E115","v":0},{"$f":"MÍČEK!E115","v":32.5},{"$f":"KOULE!E115","v":0},{"$f":"OŠTĚP!E115","v":0},{"$f":"ČLUNEK!E115","v":12.37},{"$f":"LEHSED!E115","v":30},{"$f":"ODBÍJENÍ!E115","v":0},{"$f":"PLAVÁNÍ!E115","v":0},{"$f":"SHYBY!E115","v":0},{"$f":"ŠPLH!E115","v":0},{"$f":"ŠVIHADLO!E115","v":0},{"$f":"'Z MÍSTA'!E115","v":0},{"$f":"REPRE!E18","v":0},{"$f":"ROČ!W135","v":2120.3488703539329},null,12]
[{"$f":"'60'!B116","v":"HLAVÁČEK"},{"$f":"'60'!C116","v":"Josef"},{"$f":"'60'!E116","v":9.42},{"$f":"'300'!E116","v":"00:00:00"},{"$f":"'1000'!E116","v":"00:00:00"},{"$f":"DÁLKA!E116","v":384},{"$f":"VÝŠKA!E116","v":115},{"$f":"MÍČEK!E116","v":29},{"$f":"KOULE!E116","v":6.9},{"$f":"OŠTĚP!E116","v":0},{"$f":"ČLUNEK!E116","v":11.6},{"$f":"LEHSED!E116","v":47},{"$f":"ODBÍJENÍ!E116","v":0},{"$f":"PLAVÁNÍ!E116","v":0},{"$f":"SHYBY!E116","v":0},{"$f":"ŠPLH!E116","v":5.6},{"$f":"ŠVIHADLO!E116","v":150},{"$f":"'Z MÍSTA'!E116","v":0},{"$f":"REPRE!E19","v":75},{"$f":"ROČ!W136","v":5799.6744777027607},null,7]
[{"$f":"'60'!#REF!","v":{"$error":"#REF!"}},{"$f":"'60'!#REF!","v":{"$error":"#REF!"}},{"$f":"'60'!#REF!","v":{"$error":"#REF!"}},{"$f":"'300'!#REF!","v":{"$error":"#REF!"}},{"$f":"'1000'!#REF!","v":{"$error":"#REF!"}},{"$f":"DÁLKA!#REF!","v":{"$error":"#REF!"}},{"$f":"VÝŠKA!#REF!","v":{"$error":"#REF!"}},{"$f":"MÍČEK!#REF!","v":{"$error":"#REF!"}},{"$f":"KOULE!#REF!","v":{"$error":"#REF!"}},{"$f":"OŠTĚP!#REF!","v":{"$error":"#REF!"}},{"$f":"ČLUNEK!#REF!","v":{"$error":"#REF!"}},{"$f":"LEHSED!#REF!","v":{"$error":"#REF!"}},{"$f":"ODBÍJENÍ!#REF!","v":{"$error":"#REF!"}},{"$f":"PLAVÁNÍ!#REF!","v":{"$error":"#REF!"}},{"$f":"SHYBY!#REF!","v":{"$error":"#REF!"}},{"$f":"ŠPLH!#REF!","v":{"$error":"#REF!"}},{"$f":"ŠVIHADLO!#REF!","v":{"$error":"#REF!"}},{"$f":"'Z MÍSTA'!#REF!","v":{"$error":"#REF!"}},{"$f":"REPRE!#REF!","v":{"$error":"#REF!"}},{"$f":"ROČ!W137","v":2286.7793770336798},null,{"$error":"#REF!"}]
[{"$f":"'60'!B117","v":"KHUDA"},{"$f":"'60'!C117","v":"Ivan"},{"$f":"'60'!E117","v":15.2},{"$f":"'300'!E117","v":"00:00:00"},{"$f":"'1000'!E117","v":"00:00:00"},{"$f":"DÁLKA!E117","v":0},{"$f":"VÝŠKA!E117","v":85},{"$f":"MÍČEK!E117","v":23},{"$f":"KOULE!E117","v":6.3},{"$f":"OŠTĚP!E117","v":0},{"$f":"ČLUNEK!E117","v":14.4},{"$f":"LEHSED!E117","v":0},{"$f":"ODBÍJENÍ!E117","v":0},{"$f":"PLAVÁNÍ!E117","v":0},{"$f":"SHYBY!E117","v":0},{"$f":"ŠPLH!E117","v":0},{"$f":"ŠVIHADLO!E117","v":0},{"$f":"'Z MÍSTA'!E117","v":0},{"$f":"REPRE!E20","v":0},{"$f":"ROČ!W138","v":2607.4152279135042},null,11]
[{"$f":"'60'!B118","v":"KRESAN"},{"$f":"'60'!C118","v":"Matěj"},{"$f":"'60'!E118","v":14.9},{"$f":"'300'!E118","v":"00:00:00"},{"$f":"'1000'!E118","v":"00:00:00"},{"$f":"DÁLKA!E118","v":0},{"$f":"VÝŠKA!E118","v":95},{"$f":"MÍČEK!E118","v":17},{"$f":"KOULE!E118","v":4.8},{"$f":"OŠTĚP!E118","v":0},{"$f":"ČLUNEK!E118","v":14.3},{"$f":"LEHSED!E118","v":20},{"$f":"ODBÍJENÍ!E118","v":0},{"$f":"PLAVÁNÍ!E118","v":0},{"$f":"SHYBY!E118","v":0},{"$f":"ŠPLH!E118","v":0},{"$f":"ŠVIHADLO!E118","v":25},{"$f":"'Z MÍSTA'!E118","v":0},{"$f":"REPRE!E21","v":0},{"$f":"ROČ!W139","v":3374.3242096162498},null,9]
[{"$f":"'60'!#REF!","v":{"$error":"#REF!"}},{"$f":"'60'!#REF!","v":{"$error":"#REF!"}},{"$f":"'60'!#REF!","v":{"$error":"#REF!"}},{"$f":"'300'!#REF!","v":{"$error":"#REF!"}},{"$f":"'1000'!#REF!","v":{"$error":"#REF!"}},{"$f":"DÁLKA!#REF!","v":{"$error":"#REF!"}},{"$f":"VÝŠKA!#REF!","v":{"$error":"#REF!"}},{"$f":"MÍČEK!#REF!","v":{"$error":"#REF!"}},{"$f":"KOULE!#REF!","v":{"$error":"#REF!"}},{"$f":"OŠTĚP!#REF!","v":{"$error":"#REF!"}},{"$f":"ČLUNEK!#REF!","v":{"$error":"#REF!"}},{"$f":"LEHSED!#REF!","v":{"$error":"#REF!"}},{"$f":"ODBÍJENÍ!#REF!","v":{"$error":"#REF!"}},{"$f":"PLAVÁNÍ!#REF!","v":{"$error":"#REF!"}},{"$f":"SHYBY!#REF!","v":{"$error":"#REF!"}},{"$f":"ŠPLH!#REF!","v":{"$error":"#REF!"}},{"$f":"ŠVIHADLO!#REF!","v":{"$error":"#REF!"}},{"$f":"'Z MÍSTA'!#REF!","v":{"$error":"#REF!"}},{"$f":"REPRE!#REF!","v":{"$error":"#REF!"}},{"$f":"ROČ!W140","v":2961.7913487426313}]
[{"$f":"'60'!B119","v":"RYCHTR"},{"$f":"'60'!C119","v":"Vojtěch"},{"$f":"'60'!E119","v":12.9},{"$f":"'300'!E119","v":"00:00:00"},{"$f":"'1000'!E119","v":"00:00:00"},{"$f":"DÁLKA!E119","v":0},{"$f":"VÝŠKA!E119","v":100},{"$f":"MÍČEK!E119","v":32},{"$f":"KOULE!E119","v":0},{"$f":"OŠTĚP!E119","v":0},{"$f":"ČLUNEK!E119","v":12.45},{"$f":"LEHSED!E119","v":39},{"$f":"ODBÍJENÍ!E119","v":0},{"$f":"PLAVÁNÍ!E119","v":0},{"$f":"SHYBY!E119","v":0},{"$f":"ŠPLH!E119","v":0},{"$f":"ŠVIHADLO!E119","v":107},{"$f":"'Z MÍSTA'!E119","v":0},{"$f":"REPRE!E22","v":25},{"$f":"ROČ!W141","v":0}]
[{"$f":"'60'!B120","v":"ŠTAJER"},{"$f":"'60'!C120","v":"David"},{"$f":"'60'!E120","v":11},{"$f":"'300'!E120","v":"00:00:00"},{"$f":"'1000'!E120","v":"00:00:00"},{"$f":"DÁLKA!E120","v":0},{"$f":"VÝŠKA!E120","v":120},{"$f":"MÍČEK!E120","v":25},{"$f":"KOULE!E120","v":7.92},{"$f":"OŠTĚP!E120","v":0},{"$f":"ČLUNEK!E120","v":12.13},{"$f":"LEHSED!E120","v":0},{"$f":"ODBÍJENÍ!E120","v":0},{"$f":"PLAVÁNÍ!E120","v":0},{"$f":"SHYBY!E120","v":0},{"$f":"ŠPLH!E120","v":0},{"$f":"ŠVIHADLO!E120","v":0},{"$f":"'Z MÍSTA'!E120","v":0},{"$f":"REPRE!E23","v":25},{"$f":"ROČ!W142","v":2838.7548156653825}]
[{"$f":"'60'!B121","v":"TKACHUK"},{"$f":"'60'!C121","v":"Dzvenyslav"},{"$f":"'60'!E121","v":0},{"$f":"'300'!E121","v":"00:00:00"},{"$f":"'1000'!E121","v":"00:00:00"},{"$f":"DÁLKA!E121","v":0},{"$f":"VÝŠKA!E121","v":0},{"$f":"MÍČEK!E121","v":0},{"$f":"KOULE!E121","v":0},{"$f":"OŠTĚP!E121","v":0},{"$f":"ČLUNEK!E121","v":0},{"$f":"LEHSED!E121","v":0},{"$f":"ODBÍJENÍ!E121","v":0},{"$f":"PLAVÁNÍ!E121","v":0},{"$f":"SHYBY!E121","v":0},{"$f":"ŠPLH!E121","v":0},{"$f":"ŠVIHADLO!E121","v":0},{"$f":"'Z MÍSTA'!E121","v":0},{"$f":"REPRE!E24","v":0},{"$f":"ROČ!W143","v":7027.3824973221235}]
[{"$f":"'60'!B122","v":"VELIKOVSKÝ"},{"$f":"'60'!C122","v":"Dominik"},{"$f":"'60'!E122","v":13},{"$f":"'300'!E122","v":"00:00:00"},{"$f":"'1000'!E122","v":"00:00:00"},{"$f":"DÁLKA!E122","v":0},{"$f":"VÝŠKA!E122","v":90},{"$f":"MÍČEK!E122","v":21},{"$f":"KOULE!E122","v":3.9},{"$f":"OŠTĚP!E122","v":0},{"$f":"ČLUNEK!E122","v":13.4},{"$f":"LEHSED!E122","v":28},{"$f":"ODBÍJENÍ!E122","v":0},{"$f":"PLAVÁNÍ!E122","v":0},{"$f":"SHYBY!E122","v":0},{"$f":"ŠPLH!E122","v":0},{"$f":"ŠVIHADLO!E122","v":26},{"$f":"'Z MÍSTA'!E122","v":0},{"$f":"REPRE!E25","v":25},{"$f":"ROČ!W144","v":5895.6902780167065}]
[]
["SPORTOVEC  ŠKOLY  2020 - 2021",null,null,null,null,null,null,null,null,"CHLAPCI  7. ROČNÍK"]
[]
[null,null,"60  m  ","300m","1000m","dálka","výška","míček","koule","oštěp","člunek","lehsed","odbíjení ","plavání","shyby","šplh","švihadlo","z místa"," REPRE"," BODY"]
[{"$f":"'60'!B123","v":"EXNER"},{"$f":"'60'!C123","v":"Tomáš"},{"$f":"'60'!E123","v":9.66},{"$f":"'300'!E123","v":"00:00:59.110"},{"$f":"'1000'!E123","v":"00:05:30.390"},{"$f":"DÁLKA!E123","v":382},{"$f":"VÝŠKA!E123","v":110},{"$f":"MÍČEK!E123","v":24},{"$f":"KOULE!E123","v":8.75},{"$f":"OŠTĚP!E123","v":0},{"$f":"ČLUNEK!E123","v":10.82},{"$f":"LEHSED!E123","v":44},{"$f":"ODBÍJENÍ!E123","v":8},{"$f":"PLAVÁNÍ!E123","v":0},{"$f":"SHYBY!E123","v":3},{"$f":"SHYBY!E123","v":3},{"$f":"ŠVIHADLO!E123","v":64},{"$f":"'Z MÍSTA'!E123","v":232},{"$f":"REPRE!E26","v":0},{"$f":"ROČ!W145","v":5480.6202170553406}]
[{"$f":"'60'!B124","v":"JANATA"},{"$f":"'60'!C124","v":"Denis"},{"$f":"'60'!E124","v":10.62},{"$f":"'300'!E124","v":"00:01:02.160"},{"$f":"'1000'!E124","v":"00:05:57.410"},{"$f":"DÁLKA!E124","v":375},{"$f":"VÝŠKA!E124","v":95},{"$f":"MÍČEK!E124","v":21.5},{"$f":"KOULE!E124","v":4.9400000000000004},{"$f":"OŠTĚP!E124","v":0},{"$f":"ČLUNEK!E124","v":11.05},{"$f":"LEHSED!E124","v":39},{"$f":"ODBÍJENÍ!E124","v":16},{"$f":"PLAVÁNÍ!E124","v":0},{"$f":"SHYBY!E124","v":0},{"$f":"SHYBY!E124","v":0},{"$f":"ŠVIHADLO!E124","v":49},{"$f":"'Z MÍSTA'!E124","v":150},{"$f":"REPRE!E27","v":0},{"$f":"ROČ!W146","v":1749.3895958532071}]
[{"$f":"'60'!B125","v":"JINDŘIŠEK"},{"$f":"'60'!C125","v":"Alex Jiří"},{"$f":"'60'!E125","v":9.25},{"$f":"'300'!E125","v":"00:00:58.340"},{"$f":"'1000'!E125","v":"00:00:00"},{"$f":"DÁLKA!E125","v":361},{"$f":"VÝŠKA!E125","v":0},{"$f":"MÍČEK!E125","v":29.5},{"$f":"KOULE!E125","v":8.7899999999999991},{"$f":"OŠTĚP!E125","v":0},{"$f":"ČLUNEK!E125","v":11.08},{"$f":"LEHSED!E125","v":49},{"$f":"ODBÍJENÍ!E125","v":11},{"$f":"PLAVÁNÍ!E125","v":0},{"$f":"SHYBY!E125","v":0},{"$f":"SHYBY!E125","v":0},{"$f":"ŠVIHADLO!E125","v":42},{"$f":"'Z MÍSTA'!E125","v":147},{"$f":"REPRE!E28","v":125},{"$f":"ROČ!W147","v":4742.0734966208911}]
[{"$f":"'60'!B127","v":"MARŠÁLEK"},{"$f":"'60'!C127","v":"Ondřej"},{"$f":"'60'!E127","v":10.24},{"$f":"'300'!E127","v":"00:01:06.170"},{"$f":"'1000'!E127","v":"00:05:16.140"},{"$f":"DÁLKA!E127","v":270},{"$f":"VÝŠKA!E127","v":90},{"$f":"MÍČEK!E127","v":26},{"$f":"KOULE!E127","v":8.19},{"$f":"OŠTĚP!E127","v":0},{"$f":"ČLUNEK!E127","v":11.31},{"$f":"LEHSED!E127","v":0},{"$f":"ODBÍJENÍ!E127","v":13},{"$f":"PLAVÁNÍ!E127","v":0},{"$f":"SHYBY!E127","v":0},{"$f":"SHYBY!E127","v":0},{"$f":"ŠVIHADLO!E127","v":28},{"$f":"'Z MÍSTA'!E127","v":0},{"$f":"REPRE!E30","v":0},{"$f":"ROČ!W148","v":5935.340637802502}]
[{"$f":"'60'!B128","v":"MLATEČEK"},{"$f":"'60'!C128","v":"Patrik"},{"$f":"'60'!E128","v":10.51},{"$f":"'300'!E128","v":"00:01:17.320"},{"$f":"'1000'!E128","v":"00:05:20.750"},{"$f":"DÁLKA!E128","v":361},{"$f":"VÝŠKA!E128","v":105},{"$f":"MÍČEK!E128","v":29},{"$f":"KOULE!E128","v":6.71},{"$f":"OŠTĚP!E128","v":0},{"$f":"ČLUNEK!E128","v":11.83},{"$f":"LEHSED!E128","v":38},{"$f":"ODBÍJENÍ!E128","v":22},{"$f":"PLAVÁNÍ!E128","v":0},{"$f":"SHYBY!E128","v":0},{"$f":"SHYBY!E128","v":0},{"$f":"ŠVIHADLO!E128","v":0},{"$f":"'Z MÍSTA'!E128","v":159},{"$f":"REPRE!E31","v":0},{"$f":"ROČ!W149","v":5926.4573920761059}]
[{"$f":"'60'!B129","v":"SCHOLZ"},{"$f":"'60'!C129","v":"Matyáš"},{"$f":"'60'!E129","v":10.46},{"$f":"'300'!E129","v":"00:01:05.740"},{"$f":"'1000'!E129","v":"00:00:00"},{"$f":"DÁLKA!E129","v":370},{"$f":"VÝŠKA!E129","v":110},{"$f":"MÍČEK!E129","v":32},{"$f":"KOULE!E129","v":7.71},{"$f":"OŠTĚP!E129","v":0},{"$f":"ČLUNEK!E129","v":11.38},{"$f":"LEHSED!E129","v":29},{"$f":"ODBÍJENÍ!E129","v":16},{"$f":"PLAVÁNÍ!E129","v":0},{"$f":"SHYBY!E129","v":1},{"$f":"SHYBY!E129","v":1},{"$f":"ŠVIHADLO!E129","v":53},{"$f":"'Z MÍSTA'!E129","v":180},{"$f":"REPRE!E32","v":125},{"$f":"ROČ!W150","v":7193.7254960415112}]
[{"$f":"'60'!B130","v":"TOMÁŠ"},{"$f":"'60'!C130","v":"Jakub"},{"$f":"'60'!E130","v":10.15},{"$f":"'300'!E130","v":"00:00:57.360"},{"$f":"'1000'!E130","v":"00:04:18.490"},{"$f":"DÁLKA!E130","v":315},{"$f":"VÝŠKA!E130","v":115},{"$f":"MÍČEK!E130","v":26.5},{"$f":"KOULE!E130","v":7.47},{"$f":"OŠTĚP!E130","v":0},{"$f":"ČLUNEK!E130","v":10.63},{"$f":"LEHSED!E130","v":45},{"$f":"ODBÍJENÍ!E130","v":22},{"$f":"PLAVÁNÍ!E130","v":0},{"$f":"SHYBY!E130","v":0},{"$f":"SHYBY!E130","v":0},{"$f":"ŠVIHADLO!E130","v":86},{"$f":"'Z MÍSTA'!E130","v":185},{"$f":"REPRE!E33","v":0},{"$f":"ROČ!W151","v":7824.9864859911513}]
[{"$f":"'60'!B131","v":"VÁCLAVÍK"},{"$f":"'60'!C131","v":"Jan"},{"$f":"'60'!E131","v":10.02},{"$f":"'300'!E131","v":"00:00:57.810"},{"$f":"'1000'!E131","v":"00:04:09.630"},{"$f":"DÁLKA!E131","v":359},{"$f":"VÝŠKA!E131","v":115},{"$f":"MÍČEK!E131","v":27},{"$f":"KOULE!E131","v":6.19},{"$f":"OŠTĚP!E131","v":0},{"$f":"ČLUNEK!E131","v":10.75},{"$f":"LEHSED!E131","v":44},{"$f":"ODBÍJENÍ!E131","v":11},{"$f":"PLAVÁNÍ!E131","v":0},{"$f":"SHYBY!E131","v":6},{"$f":"SHYBY!E131","v":6},{"$f":"ŠVIHADLO!E131","v":79},{"$f":"'Z MÍSTA'!E131","v":189},{"$f":"REPRE!E34","v":225},{"$f":"ROČ!W152","v":5594.3743294373671}]
[{"$f":"'60'!B132","v":"VEČEŘA"},{"$f":"'60'!C132","v":"David"},{"$f":"'60'!E132","v":10.9},{"$f":"'300'!E132","v":"00:01:06.690"},{"$f":"'1000'!E132","v":"00:05:10.840"},{"$f":"DÁLKA!E132","v":330},{"$f":"VÝŠKA!E132","v":100},{"$f":"MÍČEK!E132","v":22},{"$f":"KOULE!E132","v":6.87},{"$f":"OŠTĚP!E132","v":0},{"$f":"ČLUNEK!E132","v":11.98},{"$f":"LEHSED!E132","v":32},{"$f":"ODBÍJENÍ!E132","v":7},{"$f":"PLAVÁNÍ!E132","v":0},{"$f":"SHYBY!E132","v":0},{"$f":"SHYBY!E132","v":0},{"$f":"ŠVIHADLO!E132","v":32},{"$f":"'Z MÍSTA'!E132","v":144},{"$f":"REPRE!E35","v":0},{"$f":"ROČ!W153","v":9838.1036110122732}]
[{"$f":"'60'!B133","v":"VYBÍRAL"},{"$f":"'60'!C133","v":"Radim"},{"$f":"'60'!E133","v":8.7899999999999991},{"$f":"'300'!E133","v":"00:00:52"},{"$f":"'1000'!E133","v":"00:03:51.220"},{"$f":"DÁLKA!E133","v":445},{"$f":"VÝŠKA!E133","v":122},{"$f":"MÍČEK!E133","v":35.5},{"$f":"KOULE!E133","v":7.66},{"$f":"OŠTĚP!E133","v":0},{"$f":"ČLUNEK!E133","v":10.15},{"$f":"LEHSED!E133","v":63},{"$f":"ODBÍJENÍ!E133","v":451},{"$f":"PLAVÁNÍ!E133","v":0},{"$f":"SHYBY!E133","v":6},{"$f":"SHYBY!E133","v":6},{"$f":"ŠVIHADLO!E133","v":110},{"$f":"'Z MÍSTA'!E133","v":200},{"$f":"REPRE!E36","v":225},{"$f":"ROČ!W154","v":726.55395131681462}]
[{"$f":"'60'!B134","v":"BERISHA"},{"$f":"'60'!C134","v":"David"},{"$f":"'60'!E134","v":0},{"$f":"'300'!E134","v":"00:00:00"},{"$f":"'1000'!E134","v":"00:00:00"},{"$f":"DÁLKA!E134","v":0},{"$f":"VÝŠKA!E134","v":0},{"$f":"MÍČEK!E134","v":18},{"$f":"KOULE!E134","v":0},{"$f":"OŠTĚP!E134","v":0},{"$f":"ČLUNEK!E134","v":14.26},{"$f":"LEHSED!E134","v":0},{"$f":"ODBÍJENÍ!E134","v":0},{"$f":"PLAVÁNÍ!E134","v":0},{"$f":"SHYBY!E134","v":0},{"$f":"SHYBY!E134","v":0},{"$f":"ŠVIHADLO!E134","v":0},{"$f":"'Z MÍSTA'!E134","v":0},{"$f":"REPRE!E37","v":0},{"$f":"ROČ!W155","v":7885.5828119084699}]
[{"$f":"'60'!B135","v":"EFENBERK"},{"$f":"'60'!C135","v":"Šimon"},{"$f":"'60'!E135","v":9.1300000000000008},{"$f":"'300'!E135","v":"00:00:55.480"},{"$f":"'1000'!E135","v":"00:04:58.020"},{"$f":"DÁLKA!E135","v":340},{"$f":"VÝŠKA!E135","v":115},{"$f":"MÍČEK!E135","v":26.5},{"$f":"KOULE!E135","v":8.9499999999999993},{"$f":"OŠTĚP!E135","v":0},{"$f":"ČLUNEK!E135","v":10.63},{"$f":"LEHSED!E135","v":46},{"$f":"ODBÍJENÍ!E135","v":6},{"$f":"PLAVÁNÍ!E135","v":28.87},{"$f":"SHYBY!E135","v":2},{"$f":"SHYBY!E135","v":2},{"$f":"ŠVIHADLO!E135","v":56},{"$f":"'Z MÍSTA'!E135","v":215},{"$f":"REPRE!E38","v":50},{"$f":"ROČ!W156","v":10753.119313392317}]
[{"$f":"'60'!B136","v":"FEJKL"},{"$f":"'60'!C136","v":"Antonín"},{"$f":"'60'!E136","v":8.36},{"$f":"'300'!E136","v":"00:00:50.760"},{"$f":"'1000'!E136","v":"00:03:34.040"},{"$f":"DÁLKA!E136","v":475},{"$f":"VÝŠKA!E136","v":147},{"$f":"MÍČEK!E136","v":49},{"$f":"KOULE!E136","v":9.3699999999999992},{"$f":"OŠTĚP!E136","v":0},{"$f":"ČLUNEK!E136","v":10.26},{"$f":"LEHSED!E136","v":61},{"$f":"ODBÍJENÍ!E136","v":451},{"$f":"PLAVÁNÍ!E136","v":27.87},{"$f":"SHYBY!E136","v":1},{"$f":"SHYBY!E136","v":1},{"$f":"ŠVIHADLO!E136","v":143},{"$f":"'Z MÍSTA'!E136","v":231},{"$f":"REPRE!E39","v":225},{"$f":"ROČ!W157","v":11202.552055142392}]
[{"$f":"'60'!B137","v":"GOTTSTEIN"},{"$f":"'60'!C137","v":"Matouš"},{"$f":"'60'!E137","v":8.36},{"$f":"'300'!E137","v":"00:00:45.860"},{"$f":"'1000'!E137","v":"00:03:10.250"},{"$f":"DÁLKA!E137","v":465},{"$f":"VÝŠKA!E137","v":125},{"$f":"MÍČEK!E137","v":42},{"$f":"KOULE!E137","v":9.59},{"$f":"OŠTĚP!E137","v":0},{"$f":"ČLUNEK!E137","v":10.029999999999999},{"$f":"LEHSED!E137","v":57},{"$f":"ODBÍJENÍ!E137","v":440},{"$f":"PLAVÁNÍ!E137","v":28.84},{"$f":"SHYBY!E137","v":6},{"$f":"SHYBY!E137","v":6},{"$f":"ŠVIHADLO!E137","v":140},{"$f":"'Z MÍSTA'!E137","v":234},{"$f":"REPRE!E40","v":275},{"$f":"ROČ!W158","v":5919.1760700602845}]
[{"$f":"'60'!B138","v":"MAŘAS"},{"$f":"'60'!C138","v":"Dominik"},{"$f":"'60'!E138","v":16.25},{"$f":"'300'!E138","v":"00:01:26.820"},{"$f":"'1000'!E138","v":"00:04:22.160"},{"$f":"DÁLKA!E138","v":310},{"$f":"VÝŠKA!E138","v":130},{"$f":"MÍČEK!E138","v":33},{"$f":"KOULE!E138","v":9.2899999999999991},{"$f":"OŠTĚP!E138","v":0},{"$f":"ČLUNEK!E138","v":11.11},{"$f":"LEHSED!E138","v":19},{"$f":"ODBÍJENÍ!E138","v":0},{"$f":"PLAVÁNÍ!E138","v":0},{"$f":"SHYBY!E138","v":1},{"$f":"SHYBY!E138","v":1},{"$f":"ŠVIHADLO!E138","v":30},{"$f":"'Z MÍSTA'!E138","v":212},{"$f":"REPRE!E41","v":0},{"$f":"ROČ!W159","v":6908.7179094610919}]
[{"$f":"'60'!B139","v":"POVAŽANEC"},{"$f":"'60'!C139","v":"Lukáš"},{"$f":"'60'!E139","v":10.31},{"$f":"'300'!E139","v":"00:01:01.390"},{"$f":"'1000'!E139","v":"00:04:51.040"},{"$f":"DÁLKA!E139","v":351},{"$f":"VÝŠKA!E139","v":0},{"$f":"MÍČEK!E139","v":45},{"$f":"KOULE!E139","v":10.08},{"$f":"OŠTĚP!E139","v":0},{"$f":"ČLUNEK!E139","v":12.16},{"$f":"LEHSED!E139","v":30},{"$f":"ODBÍJENÍ!E139","v":440},{"$f":"PLAVÁNÍ!E139","v":0},{"$f":"SHYBY!E139","v":0},{"$f":"SHYBY!E139","v":0},{"$f":"ŠVIHADLO!E139","v":57},{"$f":"'Z MÍSTA'!E139","v":174},{"$f":"REPRE!E42","v":275},{"$f":"ROČ!W160","v":5747.3123649594172}]
[{"$f":"'60'!B140","v":"VANCL"},{"$f":"'60'!C140","v":"Jakub"},{"$f":"'60'!E140","v":10.85},{"$f":"'300'!E140","v":"00:01:06.320"},{"$f":"'1000'!E140","v":"00:05:19.210"},{"$f":"DÁLKA!E140","v":287},{"$f":"VÝŠKA!E140","v":95},{"$f":"MÍČEK!E140","v":22},{"$f":"KOULE!E140","v":6.65},{"$f":"OŠTĚP!E140","v":0},{"$f":"ČLUNEK!E140","v":12.84},{"$f":"LEHSED!E140","v":40},{"$f":"ODBÍJENÍ!E140","v":8},{"$f":"PLAVÁNÍ!E140","v":0},{"$f":"SHYBY!E140","v":0},{"$f":"SHYBY!E140","v":0},{"$f":"ŠVIHADLO!E140","v":50},{"$f":"'Z MÍSTA'!E140","v":155},{"$f":"REPRE!E43","v":75},{"$f":"ROČ!W161","v":4015.0622315513619}]
[{"$f":"'60'!B141","v":"VANCL"},{"$f":"'60'!C141","v":"Miroslav"},{"$f":"'60'!E141","v":0},{"$f":"'300'!E141","v":"00:01:36.810"},{"$f":"'1000'!E141","v":"00:07:16.920"},{"$f":"DÁLKA!E141","v":352},{"$f":"VÝŠKA!E141","v":90},{"$f":"MÍČEK!E141","v":25},{"$f":"KOULE!E141","v":6.64},{"$f":"OŠTĚP!E141","v":0},{"$f":"ČLUNEK!E141","v":12.1},{"$f":"LEHSED!E141","v":0},{"$f":"ODBÍJENÍ!E141","v":7},{"$f":"PLAVÁNÍ!E141","v":0},{"$f":"SHYBY!E141","v":0},{"$f":"SHYBY!E141","v":0},{"$f":"ŠVIHADLO!E141","v":0},{"$f":"'Z MÍSTA'!E141","v":176},{"$f":"REPRE!E44","v":0},{"$f":"ROČ!W162","v":5635.539030144183}]
[{"$f":"'60'!B142","v":"VOTOČEK"},{"$f":"'60'!C142","v":"Michal"},{"$f":"'60'!E142","v":10.95},{"$f":"'300'!E142","v":"00:01:09.910"},{"$f":"'1000'!E142","v":"00:04:51.610"},{"$f":"DÁLKA!E142","v":362},{"$f":"VÝŠKA!E142","v":0},{"$f":"MÍČEK!E142","v":28},{"$f":"KOULE!E142","v":7.95},{"$f":"OŠTĚP!E142","v":0},{"$f":"ČLUNEK!E142","v":12.15},{"$f":"LEHSED!E142","v":48},{"$f":"ODBÍJENÍ!E142","v":6},{"$f":"PLAVÁNÍ!E142","v":0},{"$f":"SHYBY!E142","v":0},{"$f":"SHYBY!E142","v":0},{"$f":"ŠVIHADLO!E142","v":58},{"$f":"'Z MÍSTA'!E142","v":151},{"$f":"REPRE!E45","v":50},{"$f":"ROČ!W163","v":6914.6284268612817}]
[]
[]
["SPORTOVEC  ŠKOLY  2020 - 2021",null,null,null,null,null,null,null,null,"CHLAPCI  8. ROČNÍK"]
[]
[null,null,"60  m  ","300m","1000m","dálka","výška","míček","koule","oštěp","člunek","lehsed","odbíjení ","plavání","shyby","šplh","švihadlo","z místa"," REPRE","  BODY"]
[{"$f":"'60'!B169","v":"FEJKL"},{"$f":"'60'!C169","v":"Jan"},{"$f":"'60'!E169","v":8.2100000000000009},{"$f":"'300'!E177","v":"00:00:59.010"},{"$f":"'1000'!E169","v":"00:03:35.900"},{"$f":"DÁLKA!E169","v":521},{"$f":"VÝŠKA!E169","v":157},{"$f":"MÍČEK!E169","v":61},{"$f":"KOULE!E169","v":9.99},{"$f":"OŠTĚP!E169","v":0},{"$f":"ČLUNEK!E169","v":9.5299999999999994},{"$f":"LEHSED!E169","v":0},{"$f":"ODBÍJENÍ!E169","v":232},{"$f":"PLAVÁNÍ!E169","v":0},{"$f":"SHYBY!E169","v":10},{"$f":"ŠPLH!E169","v":3.42},{"$f":"ŠVIHADLO!E169","v":0},{"$f":"'Z MÍSTA'!E169","v":251},{"$f":"REPRE!E51","v":0},{"$f":"ROČ!W173","v":8690.595163969545}]
[{"$f":"'60'!B170","v":"KOTYK"},{"$f":"'60'!C170","v":"Tadeáš"},{"$f":"'60'!E170","v":10.49},{"$f":"'300'!E178","v":"00:00:52.400"},{"$f":"'1000'!E170","v":"00:00:00"},{"$f":"DÁLKA!E170","v":374},{"$f":"VÝŠKA!E170","v":115},{"$f":"MÍČEK!E170","v":26.5},{"$f":"KOULE!E170","v":9.07},{"$f":"OŠTĚP!E170","v":0},{"$f":"ČLUNEK!E170","v":11.03},{"$f":"LEHSED!E170","v":0},{"$f":"ODBÍJENÍ!E170","v":11},{"$f":"PLAVÁNÍ!E170","v":0},{"$f":"SHYBY!E170","v":1},{"$f":"ŠPLH!E170","v":0},{"$f":"ŠVIHADLO!E170","v":0},{"$f":"'Z MÍSTA'!E170","v":0},{"$f":"REPRE!E52","v":0},{"$f":"ROČ!W174","v":6997.7836031428706}]
[{"$f":"'60'!B171","v":"KRAUSE"},{"$f":"'60'!C171","v":"Tadeáš"},{"$f":"'60'!E171","v":8.48},{"$f":"'300'!#REF!","v":{"$error":"#REF!"}},{"$f":"'1000'!E171","v":"00:03:12.100"},{"$f":"DÁLKA!E171","v":468},{"$f":"VÝŠKA!E171","v":155},{"$f":"MÍČEK!E171","v":44.2},{"$f":"KOULE!E171","v":8.02},{"$f":"OŠTĚP!E171","v":0},{"$f":"ČLUNEK!E171","v":9.8800000000000008},{"$f":"LEHSED!E171","v":0},{"$f":"ODBÍJENÍ!E171","v":65},{"$f":"PLAVÁNÍ!E171","v":0},{"$f":"SHYBY!E171","v":12},{"$f":"ŠPLH!E171","v":4.95},{"$f":"ŠVIHADLO!E171","v":0},{"$f":"'Z MÍSTA'!E171","v":225},{"$f":"REPRE!E53","v":175},{"$f":"ROČ!W175","v":0}]
[{"$f":"'60'!B172","v":"LEŠÁK"},{"$f":"'60'!C172","v":"Martin"},{"$f":"'60'!E172","v":9.9499999999999993},{"$f":"'300'!E179","v":"00:00:00"},{"$f":"'1000'!E172","v":"00:00:00"},{"$f":"DÁLKA!E172","v":374},{"$f":"VÝŠKA!E172","v":130},{"$f":"MÍČEK!E172","v":33.5},{"$f":"KOULE!E172","v":8.44},{"$f":"OŠTĚP!E172","v":0},{"$f":"ČLUNEK!E172","v":11.16},{"$f":"LEHSED!E172","v":0},{"$f":"ODBÍJENÍ!E172","v":16},{"$f":"PLAVÁNÍ!E172","v":0},{"$f":"SHYBY!E172","v":0},{"$f":"ŠPLH!E172","v":0},{"$f":"ŠVIHADLO!E172","v":0},{"$f":"'Z MÍSTA'!E172","v":0},{"$f":"REPRE!E54","v":50},{"$f":"ROČ!W176","v":9050.1921388346254}]
[{"$f":"'60'!B173","v":"NECHANICKÝ"},{"$f":"'60'!C173","v":"David"},{"$f":"'60'!E173","v":8.06},{"$f":"'300'!E180","v":"00:00:57.870"},{"$f":"'1000'!E173","v":"00:03:43.500"},{"$f":"DÁLKA!E173","v":542},{"$f":"VÝŠKA!E173","v":141},{"$f":"MÍČEK!E173","v":45},{"$f":"KOULE!E173","v":9.5},{"$f":"OŠTĚP!E173","v":0},{"$f":"ČLUNEK!E173","v":9.08},{"$f":"LEHSED!E173","v":52},{"$f":"ODBÍJENÍ!E173","v":232},{"$f":"PLAVÁNÍ!E173","v":0},{"$f":"SHYBY!E173","v":6},{"$f":"ŠPLH!E173","v":0},{"$f":"ŠVIHADLO!E173","v":125},{"$f":"'Z MÍSTA'!E173","v":254},{"$f":"REPRE!E55","v":0},{"$f":"ROČ!W177","v":6694.4134729397147}]
[{"$f":"'60'!B174","v":"ŘEHOŘEK"},{"$f":"'60'!C174","v":"Jan"},{"$f":"'60'!E174","v":0},{"$f":"'300'!E181","v":"00:00:56.020"},{"$f":"'1000'!E174","v":"00:00:00"},{"$f":"DÁLKA!E174","v":455},{"$f":"VÝŠKA!E174","v":146},{"$f":"MÍČEK!E174","v":51.5},{"$f":"KOULE!E174","v":8.08},{"$f":"OŠTĚP!E174","v":0},{"$f":"ČLUNEK!E174","v":0},{"$f":"LEHSED!E174","v":0},{"$f":"ODBÍJENÍ!E174","v":512},{"$f":"PLAVÁNÍ!E174","v":0},{"$f":"SHYBY!E174","v":3},{"$f":"ŠPLH!E174","v":0},{"$f":"ŠVIHADLO!E174","v":0},{"$f":"'Z MÍSTA'!E174","v":235},{"$f":"REPRE!E56","v":0},{"$f":"ROČ!W178","v":6556.5827606138027}]
[{"$f":"'60'!B175","v":"SOUKUP"},{"$f":"'60'!C175","v":"Ondřej"},{"$f":"'60'!E175","v":0},{"$f":"'300'!E182","v":"00:00:56.020"},{"$f":"'1000'!E175","v":"00:00:00"},{"$f":"DÁLKA!E175","v":422},{"$f":"VÝŠKA!E175","v":141},{"$f":"MÍČEK!E175","v":0},{"$f":"KOULE!E175","v":10.02},{"$f":"OŠTĚP!E175","v":0},{"$f":"ČLUNEK!E175","v":0},{"$f":"LEHSED!E175","v":0},{"$f":"ODBÍJENÍ!E175","v":0},{"$f":"PLAVÁNÍ!E175","v":0},{"$f":"SHYBY!E175","v":0},{"$f":"ŠPLH!E175","v":0},{"$f":"ŠVIHADLO!E175","v":0},{"$f":"'Z MÍSTA'!E175","v":0},{"$f":"REPRE!E57","v":0},{"$f":"ROČ!W179","v":12027.419476279107}]
[{"$f":"'60'!B176","v":"SPANILÝ"},{"$f":"'60'!C176","v":"David"},{"$f":"'60'!E176","v":8.14},{"$f":"'300'!E183","v":"00:00:52.400"},{"$f":"'1000'!E176","v":"00:03:28.500"},{"$f":"DÁLKA!E176","v":495},{"$f":"VÝŠKA!E176","v":141},{"$f":"MÍČEK!E176","v":61},{"$f":"KOULE!E176","v":10.77},{"$f":"OŠTĚP!E176","v":0},{"$f":"ČLUNEK!E176","v":9.18},{"$f":"LEHSED!E176","v":49},{"$f":"ODBÍJENÍ!E176","v":512},{"$f":"PLAVÁNÍ!E176","v":0},{"$f":"SHYBY!E176","v":7},{"$f":"ŠPLH!E176","v":4.04},{"$f":"ŠVIHADLO!E176","v":132},{"$f":"'Z MÍSTA'!E176","v":273},{"$f":"REPRE!E58","v":0},{"$f":"ROČ!W180","v":7381.7251559765946}]
[{"$f":"'60'!#REF!","v":{"$error":"#REF!"}},{"$f":"'60'!#REF!","v":{"$error":"#REF!"}},{"$f":"'60'!#REF!","v":{"$error":"#REF!"}},{"$f":"'300'!#REF!","v":{"$error":"#REF!"}},{"$f":"'1000'!#REF!","v":{"$error":"#REF!"}},{"$f":"DÁLKA!#REF!","v":{"$error":"#REF!"}},{"$f":"VÝŠKA!#REF!","v":{"$error":"#REF!"}},{"$f":"MÍČEK!#REF!","v":{"$error":"#REF!"}},{"$f":"KOULE!#REF!","v":{"$error":"#REF!"}},{"$f":"OŠTĚP!#REF!","v":{"$error":"#REF!"}},{"$f":"ČLUNEK!#REF!","v":{"$error":"#REF!"}},{"$f":"LEHSED!#REF!","v":{"$error":"#REF!"}},{"$f":"ODBÍJENÍ!#REF!","v":{"$error":"#REF!"}},{"$f":"PLAVÁNÍ!#REF!","v":{"$error":"#REF!"}},{"$f":"SHYBY!#REF!","v":{"$error":"#REF!"}},{"$f":"ŠPLH!#REF!","v":{"$error":"#REF!"}},{"$f":"ŠVIHADLO!#REF!","v":{"$error":"#REF!"}},{"$f":"'Z MÍSTA'!#REF!","v":{"$error":"#REF!"}},{"$f":"REPRE!E59","v":0},{"$f":"ROČ!W181","v":10679.190567686566}]
[{"$f":"'60'!B177","v":"ČERNÝ"},{"$f":"'60'!C177","v":"Michal"},{"$f":"'60'!E177","v":9.67},{"$f":"'300'!#REF!","v":{"$error":"#REF!"}},{"$f":"'1000'!E177","v":"00:00:00"},{"$f":"DÁLKA!E177","v":387},{"$f":"VÝŠKA!E177","v":120},{"$f":"MÍČEK!E177","v":51},{"$f":"KOULE!E177","v":8.49},{"$f":"OŠTĚP!E177","v":0},{"$f":"ČLUNEK!E177","v":10.68},{"$f":"LEHSED!E177","v":0},{"$f":"ODBÍJENÍ!E177","v":36},{"$f":"PLAVÁNÍ!E177","v":0},{"$f":"SHYBY!E177","v":1},{"$f":"ŠPLH!E177","v":0},{"$f":"ŠVIHADLO!E177","v":0},{"$f":"'Z MÍSTA'!E177","v":182},{"$f":"REPRE!E60","v":0},{"$f":"ROČ!W182","v":9486.5074178165614}]
[{"$f":"'60'!B178","v":"DOLEJŠÍ"},{"$f":"'60'!C178","v":"David"},{"$f":"'60'!E178","v":9.17},{"$f":"'300'!#REF!","v":{"$error":"#REF!"}},{"$f":"'1000'!E178","v":"00:00:00"},{"$f":"DÁLKA!E178","v":422},{"$f":"VÝŠKA!E178","v":125},{"$f":"MÍČEK!E178","v":24},{"$f":"KOULE!E178","v":7.81},{"$f":"OŠTĚP!E178","v":0},{"$f":"ČLUNEK!E178","v":10.16},{"$f":"LEHSED!E178","v":0},{"$f":"ODBÍJENÍ!E178","v":27},{"$f":"PLAVÁNÍ!E178","v":0},{"$f":"SHYBY!E178","v":2},{"$f":"ŠPLH!E178","v":10.44},{"$f":"ŠVIHADLO!E178","v":0},{"$f":"'Z MÍSTA'!E178","v":203},{"$f":"REPRE!E61","v":0},{"$f":"ROČ!W183","v":11247.085534025264}]
[{"$f":"'60'!#REF!","v":{"$error":"#REF!"}},{"$f":"'60'!#REF!","v":{"$error":"#REF!"}},{"$f":"'60'!#REF!","v":{"$error":"#REF!"}},{"$f":"'300'!#REF!","v":{"$error":"#REF!"}},{"$f":"'1000'!#REF!","v":{"$error":"#REF!"}},{"$f":"DÁLKA!#REF!","v":{"$error":"#REF!"}},{"$f":"VÝŠKA!#REF!","v":{"$error":"#REF!"}},{"$f":"MÍČEK!#REF!","v":{"$error":"#REF!"}},{"$f":"KOULE!#REF!","v":{"$error":"#REF!"}},{"$f":"OŠTĚP!#REF!","v":{"$error":"#REF!"}},{"$f":"ČLUNEK!#REF!","v":{"$error":"#REF!"}},{"$f":"LEHSED!#REF!","v":{"$error":"#REF!"}},{"$f":"ODBÍJENÍ!#REF!","v":{"$error":"#REF!"}},{"$f":"PLAVÁNÍ!#REF!","v":{"$error":"#REF!"}},{"$f":"SHYBY!#REF!","v":{"$error":"#REF!"}},{"$f":"ŠPLH!#REF!","v":{"$error":"#REF!"}},{"$f":"ŠVIHADLO!#REF!","v":{"$error":"#REF!"}},{"$f":"'Z MÍSTA'!#REF!","v":{"$error":"#REF!"}},{"$f":"REPRE!E62","v":175},{"$f":"ROČ!W184","v":10151.108721171227}]
[{"$f":"'60'!B179","v":"POVAŽANEC"},{"$f":"'60'!C179","v":"Martin"},{"$f":"'60'!E179","v":8.65},{"$f":"'300'!#REF!","v":{"$error":"#REF!"}},{"$f":"'1000'!E179","v":"00:04:29.200"},{"$f":"DÁLKA!E179","v":475},{"$f":"VÝŠKA!E179","v":140},{"$f":"MÍČEK!E179","v":61},{"$f":"KOULE!E179","v":11.02},{"$f":"OŠTĚP!E179","v":0},{"$f":"ČLUNEK!E179","v":10.210000000000001},{"$f":"LEHSED!E179","v":0},{"$f":"ODBÍJENÍ!E179","v":96},{"$f":"PLAVÁNÍ!E179","v":0},{"$f":"SHYBY!E179","v":2},{"$f":"ŠPLH!E179","v":5.9},{"$f":"ŠVIHADLO!E179","v":0},{"$f":"'Z MÍSTA'!E179","v":205},{"$f":"REPRE!E63","v":50},{"$f":"ROČ!W185","v":5792.9820899201759}]
[{"$f":"'60'!B180","v":"RICHTER"},{"$f":"'60'!C180","v":"Jakub"},{"$f":"'60'!E180","v":9.91},{"$f":"'300'!#REF!","v":{"$error":"#REF!"}},{"$f":"'1000'!E180","v":"00:00:00"},{"$f":"DÁLKA!E180","v":382},{"$f":"VÝŠKA!E180","v":115},{"$f":"MÍČEK!E180","v":30},{"$f":"KOULE!E180","v":7.66},{"$f":"OŠTĚP!E180","v":0},{"$f":"ČLUNEK!E180","v":10.95},{"$f":"LEHSED!E180","v":0},{"$f":"ODBÍJENÍ!E180","v":16},{"$f":"PLAVÁNÍ!E180","v":0},{"$f":"SHYBY!E180","v":0},{"$f":"ŠPLH!E180","v":0},{"$f":"ŠVIHADLO!E180","v":0},{"$f":"'Z MÍSTA'!E180","v":0},{"$f":"REPRE!E64","v":100},{"$f":"ROČ!W186","v":8527.7504381435592}]
[{"$f":"'60'!B181","v":"ROZUMEK"},{"$f":"'60'!C181","v":"Adam"},{"$f":"'60'!E181","v":9.2200000000000006},{"$f":"'300'!#REF!","v":{"$error":"#REF!"}},{"$f":"'1000'!E181","v":"00:00:00"},{"$f":"DÁLKA!E181","v":385},{"$f":"VÝŠKA!E181","v":110},{"$f":"MÍČEK!E181","v":50},{"$f":"KOULE!E181","v":11.29},{"$f":"OŠTĚP!E181","v":0},{"$f":"ČLUNEK!E181","v":10.09},{"$f":"LEHSED!E181","v":0},{"$f":"ODBÍJENÍ!E181","v":86},{"$f":"PLAVÁNÍ!E181","v":0},{"$f":"SHYBY!E181","v":2},{"$f":"ŠPLH!E181","v":8.6999999999999993},{"$f":"ŠVIHADLO!E181","v":0},{"$f":"'Z MÍSTA'!E181","v":190},{"$f":"REPRE!E65","v":100},{"$f":"ROČ!W187","v":8842.009697947833}]
[{"$f":"'60'!B182","v":"VALENTA"},{"$f":"'60'!C182","v":"František"},{"$f":"'60'!E182","v":9.51},{"$f":"'300'!#REF!","v":{"$error":"#REF!"}},{"$f":"'1000'!E182","v":"00:00:00"},{"$f":"DÁLKA!E182","v":322},{"$f":"VÝŠKA!E182","v":115},{"$f":"MÍČEK!E182","v":29},{"$f":"KOULE!E182","v":8.07},{"$f":"OŠTĚP!E182","v":0},{"$f":"ČLUNEK!E182","v":10.38},{"$f":"LEHSED!E182","v":0},{"$f":"ODBÍJENÍ!E182","v":61},{"$f":"PLAVÁNÍ!E182","v":0},{"$f":"SHYBY!E182","v":1},{"$f":"ŠPLH!E182","v":0},{"$f":"ŠVIHADLO!E182","v":0},{"$f":"'Z MÍSTA'!E182","v":0},{"$f":"REPRE!E66","v":100},{"$f":"ROČ!W188","v":8878.0766059272646}]
[{"$f":"'60'!B183","v":"ZAPLATÍLEK"},{"$f":"'60'!C183","v":"Josef"},{"$f":"'60'!E183","v":8.94},{"$f":"'300'!#REF!","v":{"$error":"#REF!"}},{"$f":"'1000'!E183","v":"00:00:00"},{"$f":"DÁLKA!E183","v":413},{"$f":"VÝŠKA!E183","v":115},{"$f":"MÍČEK!E183","v":49},{"$f":"KOULE!E183","v":8.92},{"$f":"OŠTĚP!E183","v":0},{"$f":"ČLUNEK!E183","v":9.99},{"$f":"LEHSED!E183","v":0},{"$f":"ODBÍJENÍ!E183","v":86},{"$f":"PLAVÁNÍ!E183","v":0},{"$f":"SHYBY!E183","v":3},{"$f":"ŠPLH!E183","v":0},{"$f":"ŠVIHADLO!E183","v":0},{"$f":"'Z MÍSTA'!E183","v":226},{"$f":"REPRE!E67","v":150},{"$f":"ROČ!W189","v":10081.958687690514}]
[]
[]
[]
[]
[]
[]
["SPORTOVEC  ŠKOLY  2020 - 2021",null,null,null,null,null,null,null,null,"CHLAPCI  9. ROČNÍK"]
[]
[null,null,"60  m  ","300m","1000m","dálka","výška","míček","koule","oštěp","člunek","lehsed","odbíjení ","plavání","shyby","šplh","švihadlo","z místa"," REPRE","  BODY"]
[{"$f":"'60'!#REF!","v":{"$error":"#REF!"}},{"$f":"'60'!#REF!","v":{"$error":"#REF!"}},{"$f":"'60'!#REF!","v":{"$error":"#REF!"}},{"$f":"'300'!#REF!","v":{"$error":"#REF!"}},{"$f":"'1000'!#REF!","v":{"$error":"#REF!"}},{"$f":"DÁLKA!#REF!","v":{"$error":"#REF!"}},{"$f":"VÝŠKA!#REF!","v":{"$error":"#REF!"}},{"$f":"MÍČEK!#REF!","v":{"$error":"#REF!"}},{"$f":"KOULE!#REF!","v":{"$error":"#REF!"}},{"$f":"OŠTĚP!#REF!","v":{"$error":"#REF!"}},{"$f":"ČLUNEK!#REF!","v":{"$error":"#REF!"}},{"$f":"LEHSED!#REF!","v":{"$error":"#REF!"}},{"$f":"ODBÍJENÍ!#REF!","v":{"$error":"#REF!"}},{"$f":"PLAVÁNÍ!#REF!","v":{"$error":"#REF!"}},{"$f":"SHYBY!#REF!","v":{"$error":"#REF!"}},{"$f":"ŠPLH!#REF!","v":{"$error":"#REF!"}},{"$f":"ŠVIHADLO!#REF!","v":{"$error":"#REF!"}},{"$f":"'Z MÍSTA'!#REF!","v":{"$error":"#REF!"}},{"$f":"REPRE!E68","v":125},{"$f":"ROČ!W190","v":3947.4488025651008}]
[{"$f":"'60'!#REF!","v":{"$error":"#REF!"}},{"$f":"'60'!#REF!","v":{"$error":"#REF!"}},{"$f":"'60'!#REF!","v":{"$error":"#REF!"}},{"$f":"'300'!#REF!","v":{"$error":"#REF!"}},{"$f":"'1000'!#REF!","v":{"$error":"#REF!"}},{"$f":"DÁLKA!#REF!","v":{"$error":"#REF!"}},{"$f":"VÝŠKA!#REF!","v":{"$error":"#REF!"}},{"$f":"MÍČEK!#REF!","v":{"$error":"#REF!"}},{"$f":"KOULE!#REF!","v":{"$error":"#REF!"}},{"$f":"OŠTĚP!#REF!","v":{"$error":"#REF!"}},{"$f":"ČLUNEK!#REF!","v":{"$error":"#REF!"}},{"$f":"LEHSED!#REF!","v":{"$error":"#REF!"}},{"$f":"ODBÍJENÍ!#REF!","v":{"$error":"#REF!"}},{"$f":"PLAVÁNÍ!#REF!","v":{"$error":"#REF!"}},{"$f":"SHYBY!#REF!","v":{"$error":"#REF!"}},{"$f":"ŠPLH!#REF!","v":{"$error":"#REF!"}},{"$f":"ŠVIHADLO!#REF!","v":{"$error":"#REF!"}},{"$f":"'Z MÍSTA'!#REF!","v":{"$error":"#REF!"}},{"$f":"REPRE!E69","v":0},{"$f":"ROČ!W191","v":8417.1212567996281}]
[{"$f":"'60'!#REF!","v":{"$error":"#REF!"}},{"$f":"'60'!#REF!","v":{"$error":"#REF!"}},{"$f":"'60'!#REF!","v":{"$error":"#REF!"}},{"$f":"'300'!#REF!","v":{"$error":"#REF!"}},{"$f":"'1000'!#REF!","v":{"$error":"#REF!"}},{"$f":"DÁLKA!#REF!","v":{"$error":"#REF!"}},{"$f":"VÝŠKA!#REF!","v":{"$error":"#REF!"}},{"$f":"MÍČEK!#REF!","v":{"$error":"#REF!"}},{"$f":"KOULE!#REF!","v":{"$error":"#REF!"}},{"$f":"OŠTĚP!#REF!","v":{"$error":"#REF!"}},{"$f":"ČLUNEK!#REF!","v":{"$error":"#REF!"}},{"$f":"LEHSED!#REF!","v":{"$error":"#REF!"}},{"$f":"ODBÍJENÍ!#REF!","v":{"$error":"#REF!"}},{"$f":"PLAVÁNÍ!#REF!","v":{"$error":"#REF!"}},{"$f":"SHYBY!#REF!","v":{"$error":"#REF!"}},{"$f":"ŠPLH!#REF!","v":{"$error":"#REF!"}},{"$f":"ŠVIHADLO!#REF!","v":{"$error":"#REF!"}},{"$f":"'Z MÍSTA'!#REF!","v":{"$error":"#REF!"}},{"$f":"REPRE!E70","v":50},{"$f":"ROČ!W192","v":4070.1977399177431}]
[{"$f":"'60'!#REF!","v":{"$error":"#REF!"}},{"$f":"'60'!#REF!","v":{"$error":"#REF!"}},{"$f":"'60'!#REF!","v":{"$error":"#REF!"}},{"$f":"'300'!#REF!","v":{"$error":"#REF!"}},{"$f":"'1000'!#REF!","v":{"$error":"#REF!"}},{"$f":"DÁLKA!#REF!","v":{"$error":"#REF!"}},{"$f":"VÝŠKA!#REF!","v":{"$error":"#REF!"}},{"$f":"MÍČEK!#REF!","v":{"$error":"#REF!"}},{"$f":"KOULE!#REF!","v":{"$error":"#REF!"}},{"$f":"OŠTĚP!#REF!","v":{"$error":"#REF!"}},{"$f":"ČLUNEK!#REF!","v":{"$error":"#REF!"}},{"$f":"LEHSED!#REF!","v":{"$error":"#REF!"}},{"$f":"ODBÍJENÍ!#REF!","v":{"$error":"#REF!"}},{"$f":"PLAVÁNÍ!#REF!","v":{"$error":"#REF!"}},{"$f":"SHYBY!#REF!","v":{"$error":"#REF!"}},{"$f":"ŠPLH!#REF!","v":{"$error":"#REF!"}},{"$f":"ŠVIHADLO!#REF!","v":{"$error":"#REF!"}},{"$f":"'Z MÍSTA'!#REF!","v":{"$error":"#REF!"}},{"$f":"REPRE!E71","v":0},{"$f":"ROČ!W193","v":10145.456515127225}]
[{"$f":"'60'!#REF!","v":{"$error":"#REF!"}},{"$f":"'60'!#REF!","v":{"$error":"#REF!"}},{"$f":"'60'!#REF!","v":{"$error":"#REF!"}},{"$f":"'300'!#REF!","v":{"$error":"#REF!"}},{"$f":"'1000'!#REF!","v":{"$error":"#REF!"}},{"$f":"DÁLKA!#REF!","v":{"$error":"#REF!"}},{"$f":"VÝŠKA!#REF!","v":{"$error":"#REF!"}},{"$f":"MÍČEK!#REF!","v":{"$error":"#REF!"}},{"$f":"KOULE!#REF!","v":{"$error":"#REF!"}},{"$f":"OŠTĚP!#REF!","v":{"$error":"#REF!"}},{"$f":"ČLUNEK!#REF!","v":{"$error":"#REF!"}},{"$f":"LEHSED!#REF!","v":{"$error":"#REF!"}},{"$f":"ODBÍJENÍ!#REF!","v":{"$error":"#REF!"}},{"$f":"PLAVÁNÍ!#REF!","v":{"$error":"#REF!"}},{"$f":"SHYBY!#REF!","v":{"$error":"#REF!"}},{"$f":"ŠPLH!#REF!","v":{"$error":"#REF!"}},{"$f":"ŠVIHADLO!#REF!","v":{"$error":"#REF!"}},{"$f":"'Z MÍSTA'!#REF!","v":{"$error":"#REF!"}},{"$f":"REPRE!E72","v":225},{"$f":"ROČ!W194","v":5654.7042662620979}]
[{"$f":"'60'!#REF!","v":{"$error":"#REF!"}},{"$f":"'60'!#REF!","v":{"$error":"#REF!"}},{"$f":"'60'!#REF!","v":{"$error":"#REF!"}},{"$f":"'300'!#REF!","v":{"$error":"#REF!"}},{"$f":"'1000'!#REF!","v":{"$error":"#REF!"}},{"$f":"DÁLKA!#REF!","v":{"$error":"#REF!"}},{"$f":"VÝŠKA!#REF!","v":{"$error":"#REF!"}},{"$f":"MÍČEK!#REF!","v":{"$error":"#REF!"}},{"$f":"KOULE!#REF!","v":{"$error":"#REF!"}},{"$f":"OŠTĚP!#REF!","v":{"$error":"#REF!"}},{"$f":"ČLUNEK!#REF!","v":{"$error":"#REF!"}},{"$f":"LEHSED!#REF!","v":{"$error":"#REF!"}},{"$f":"ODBÍJENÍ!#REF!","v":{"$error":"#REF!"}},{"$f":"PLAVÁNÍ!#REF!","v":{"$error":"#REF!"}},{"$f":"SHYBY!#REF!","v":{"$error":"#REF!"}},{"$f":"ŠPLH!#REF!","v":{"$error":"#REF!"}},{"$f":"ŠVIHADLO!#REF!","v":{"$error":"#REF!"}},{"$f":"'Z MÍSTA'!#REF!","v":{"$error":"#REF!"}},{"$f":"REPRE!E73","v":0},{"$f":"ROČ!W195","v":2248.4073333333336}]
[{"$f":"'60'!#REF!","v":{"$error":"#REF!"}},{"$f":"'60'!#REF!","v":{"$error":"#REF!"}},{"$f":"'60'!#REF!","v":{"$error":"#REF!"}},{"$f":"'300'!#REF!","v":{"$error":"#REF!"}},{"$f":"'1000'!#REF!","v":{"$error":"#REF!"}},{"$f":"DÁLKA!#REF!","v":{"$error":"#REF!"}},{"$f":"VÝŠKA!#REF!","v":{"$error":"#REF!"}},{"$f":"MÍČEK!#REF!","v":{"$error":"#REF!"}},{"$f":"KOULE!#REF!","v":{"$error":"#REF!"}},{"$f":"OŠTĚP!#REF!","v":{"$error":"#REF!"}},{"$f":"ČLUNEK!#REF!","v":{"$error":"#REF!"}},{"$f":"LEHSED!#REF!","v":{"$error":"#REF!"}},{"$f":"ODBÍJENÍ!#REF!","v":{"$error":"#REF!"}},{"$f":"PLAVÁNÍ!#REF!","v":{"$error":"#REF!"}},{"$f":"SHYBY!#REF!","v":{"$error":"#REF!"}},{"$f":"ŠPLH!#REF!","v":{"$error":"#REF!"}},{"$f":"ŠVIHADLO!#REF!","v":{"$error":"#REF!"}},{"$f":"'Z MÍSTA'!#REF!","v":{"$error":"#REF!"}},{"$f":"REPRE!E74","v":150},{"$f":"ROČ!W196","v":11367.409730766381}]
[{"$f":"'60'!#REF!","v":{"$error":"#REF!"}},{"$f":"'60'!#REF!","v":{"$error":"#REF!"}},{"$f":"'60'!#REF!","v":{"$error":"#REF!"}},{"$f":"'300'!#REF!","v":{"$error":"#REF!"}},{"$f":"'1000'!#REF!","v":{"$error":"#REF!"}},{"$f":"DÁLKA!#REF!","v":{"$error":"#REF!"}},{"$f":"VÝŠKA!#REF!","v":{"$error":"#REF!"}},{"$f":"MÍČEK!#REF!","v":{"$error":"#REF!"}},{"$f":"KOULE!#REF!","v":{"$error":"#REF!"}},{"$f":"OŠTĚP!#REF!","v":{"$error":"#REF!"}},{"$f":"ČLUNEK!#REF!","v":{"$error":"#REF!"}},{"$f":"LEHSED!#REF!","v":{"$error":"#REF!"}},{"$f":"ODBÍJENÍ!#REF!","v":{"$error":"#REF!"}},{"$f":"PLAVÁNÍ!#REF!","v":{"$error":"#REF!"}},{"$f":"SHYBY!#REF!","v":{"$error":"#REF!"}},{"$f":"ŠPLH!#REF!","v":{"$error":"#REF!"}},{"$f":"ŠVIHADLO!#REF!","v":{"$error":"#REF!"}},{"$f":"'Z MÍSTA'!#REF!","v":{"$error":"#REF!"}},{"$f":"REPRE!E75","v":0},{"$f":"ROČ!W197","v":5847.8665343686698}]
[{"$f":"'60'!#REF!","v":{"$error":"#REF!"}},{"$f":"'60'!#REF!","v":{"$error":"#REF!"}},{"$f":"'60'!#REF!","v":{"$error":"#REF!"}},{"$f":"'300'!#REF!","v":{"$error":"#REF!"}},{"$f":"'1000'!#REF!","v":{"$error":"#REF!"}},{"$f":"DÁLKA!#REF!","v":{"$error":"#REF!"}},{"$f":"VÝŠKA!#REF!","v":{"$error":"#REF!"}},{"$f":"MÍČEK!#REF!","v":{"$error":"#REF!"}},{"$f":"KOULE!#REF!","v":{"$error":"#REF!"}},{"$f":"OŠTĚP!#REF!","v":{"$error":"#REF!"}},{"$f":"ČLUNEK!#REF!","v":{"$error":"#REF!"}},{"$f":"LEHSED!#REF!","v":{"$error":"#REF!"}},{"$f":"ODBÍJENÍ!#REF!","v":{"$error":"#REF!"}},{"$f":"PLAVÁNÍ!#REF!","v":{"$error":"#REF!"}},{"$f":"SHYBY!#REF!","v":{"$error":"#REF!"}},{"$f":"ŠPLH!#REF!","v":{"$error":"#REF!"}},{"$f":"ŠVIHADLO!#REF!","v":{"$error":"#REF!"}},{"$f":"'Z MÍSTA'!#REF!","v":{"$error":"#REF!"}},{"$f":"REPRE!E76","v":225},{"$f":"ROČ!#REF!","v":{"$error":"#REF!"}}]
[{"$f":"'60'!#REF!","v":{"$error":"#REF!"}},{"$f":"'60'!#REF!","v":{"$error":"#REF!"}},{"$f":"'60'!#REF!","v":{"$error":"#REF!"}},{"$f":"'300'!#REF!","v":{"$error":"#REF!"}},{"$f":"'1000'!#REF!","v":{"$error":"#REF!"}},{"$f":"DÁLKA!#REF!","v":{"$error":"#REF!"}},{"$f":"VÝŠKA!#REF!","v":{"$error":"#REF!"}},{"$f":"MÍČEK!#REF!","v":{"$error":"#REF!"}},{"$f":"KOULE!#REF!","v":{"$error":"#REF!"}},{"$f":"OŠTĚP!#REF!","v":{"$error":"#REF!"}},{"$f":"ČLUNEK!#REF!","v":{"$error":"#REF!"}},{"$f":"LEHSED!#REF!","v":{"$error":"#REF!"}},{"$f":"ODBÍJENÍ!#REF!","v":{"$error":"#REF!"}},{"$f":"PLAVÁNÍ!#REF!","v":{"$error":"#REF!"}},{"$f":"SHYBY!#REF!","v":{"$error":"#REF!"}},{"$f":"ŠPLH!#REF!","v":{"$error":"#REF!"}},{"$f":"ŠVIHADLO!#REF!","v":{"$error":"#REF!"}},{"$f":"'Z MÍSTA'!#REF!","v":{"$error":"#REF!"}},{"$f":"REPRE!E77","v":125},{"$f":"ROČ!#REF!","v":{"$error":"#REF!"}}]
[{"$f":"'60'!#REF!","v":{"$error":"#REF!"}},{"$f":"'60'!#REF!","v":{"$error":"#REF!"}},{"$f":"'60'!#REF!","v":{"$error":"#REF!"}},{"$f":"'300'!#REF!","v":{"$error":"#REF!"}},{"$f":"'1000'!#REF!","v":{"$error":"#REF!"}},{"$f":"DÁLKA!#REF!","v":{"$error":"#REF!"}},{"$f":"VÝŠKA!#REF!","v":{"$error":"#REF!"}},{"$f":"MÍČEK!#REF!","v":{"$error":"#REF!"}},{"$f":"KOULE!#REF!","v":{"$error":"#REF!"}},{"$f":"OŠTĚP!#REF!","v":{"$error":"#REF!"}},{"$f":"ČLUNEK!#REF!","v":{"$error":"#REF!"}},{"$f":"LEHSED!#REF!","v":{"$error":"#REF!"}},{"$f":"ODBÍJENÍ!#REF!","v":{"$error":"#REF!"}},{"$f":"PLAVÁNÍ!#REF!","v":{"$error":"#REF!"}},{"$f":"SHYBY!#REF!","v":{"$error":"#REF!"}},{"$f":"ŠPLH!#REF!","v":{"$error":"#REF!"}},{"$f":"ŠVIHADLO!#REF!","v":{"$error":"#REF!"}},{"$f":"'Z MÍSTA'!#REF!","v":{"$error":"#REF!"}},{"$f":"REPRE!E78","v":0},{"$f":"ROČ!#REF!","v":{"$error":"#REF!"}}]
[{"$f":"'60'!#REF!","v":{"$error":"#REF!"}},{"$f":"'60'!#REF!","v":{"$error":"#REF!"}},{"$f":"'60'!#REF!","v":{"$error":"#REF!"}},{"$f":"'300'!#REF!","v":{"$error":"#REF!"}},{"$f":"'1000'!#REF!","v":{"$error":"#REF!"}},{"$f":"DÁLKA!#REF!","v":{"$error":"#REF!"}},{"$f":"VÝŠKA!#REF!","v":{"$error":"#REF!"}},{"$f":"MÍČEK!#REF!","v":{"$error":"#REF!"}},{"$f":"KOULE!#REF!","v":{"$error":"#REF!"}},{"$f":"OŠTĚP!#REF!","v":{"$error":"#REF!"}},{"$f":"ČLUNEK!#REF!","v":{"$error":"#REF!"}},{"$f":"LEHSED!#REF!","v":{"$error":"#REF!"}},{"$f":"ODBÍJENÍ!#REF!","v":{"$error":"#REF!"}},{"$f":"PLAVÁNÍ!#REF!","v":{"$error":"#REF!"}},{"$f":"SHYBY!#REF!","v":{"$error":"#REF!"}},{"$f":"ŠPLH!#REF!","v":{"$error":"#REF!"}},{"$f":"ŠVIHADLO!#REF!","v":{"$error":"#REF!"}},{"$f":"'Z MÍSTA'!#REF!","v":{"$error":"#REF!"}},{"$f":"REPRE!E79","v":225},{"$f":"ROČ!#REF!","v":{"$error":"#REF!"}}]
[{"$f":"'60'!#REF!","v":{"$error":"#REF!"}},{"$f":"'60'!#REF!","v":{"$error":"#REF!"}},{"$f":"'60'!#REF!","v":{"$error":"#REF!"}},{"$f":"'300'!#REF!","v":{"$error":"#REF!"}},{"$f":"'1000'!#REF!","v":{"$error":"#REF!"}},{"$f":"DÁLKA!#REF!","v":{"$error":"#REF!"}},{"$f":"VÝŠKA!#REF!","v":{"$error":"#REF!"}},{"$f":"MÍČEK!#REF!","v":{"$error":"#REF!"}},{"$f":"KOULE!#REF!","v":{"$error":"#REF!"}},{"$f":"OŠTĚP!#REF!","v":{"$error":"#REF!"}},{"$f":"ČLUNEK!#REF!","v":{"$error":"#REF!"}},{"$f":"LEHSED!#REF!","v":{"$error":"#REF!"}},{"$f":"ODBÍJENÍ!#REF!","v":{"$error":"#REF!"}},{"$f":"PLAVÁNÍ!#REF!","v":{"$error":"#REF!"}},{"$f":"SHYBY!#REF!","v":{"$error":"#REF!"}},{"$f":"ŠPLH!#REF!","v":{"$error":"#REF!"}},{"$f":"ŠVIHADLO!#REF!","v":{"$error":"#REF!"}},{"$f":"'Z MÍSTA'!#REF!","v":{"$error":"#REF!"}},{"$f":"REPRE!E80","v":0},{"$f":"ROČ!W198","v":6136.8473690555738}]
[{"$f":"'60'!#REF!","v":{"$error":"#REF!"}},{"$f":"'60'!#REF!","v":{"$error":"#REF!"}},{"$f":"'60'!#REF!","v":{"$error":"#REF!"}},{"$f":"'300'!#REF!","v":{"$error":"#REF!"}},{"$f":"'1000'!#REF!","v":{"$error":"#REF!"}},{"$f":"DÁLKA!#REF!","v":{"$error":"#REF!"}},{"$f":"VÝŠKA!#REF!","v":{"$error":"#REF!"}},{"$f":"MÍČEK!#REF!","v":{"$error":"#REF!"}},{"$f":"KOULE!#REF!","v":{"$error":"#REF!"}},{"$f":"OŠTĚP!#REF!","v":{"$error":"#REF!"}},{"$f":"ČLUNEK!#REF!","v":{"$error":"#REF!"}},{"$f":"LEHSED!#REF!","v":{"$error":"#REF!"}},{"$f":"ODBÍJENÍ!#REF!","v":{"$error":"#REF!"}},{"$f":"PLAVÁNÍ!#REF!","v":{"$error":"#REF!"}},{"$f":"SHYBY!#REF!","v":{"$error":"#REF!"}},{"$f":"ŠPLH!#REF!","v":{"$error":"#REF!"}},{"$f":"ŠVIHADLO!#REF!","v":{"$error":"#REF!"}},{"$f":"'Z MÍSTA'!#REF!","v":{"$error":"#REF!"}},{"$f":"REPRE!E81","v":0},{"$f":"ROČ!W199","v":7590.3340042612735}]
[{"$f":"'60'!#REF!","v":{"$error":"#REF!"}},{"$f":"'60'!#REF!","v":{"$error":"#REF!"}},{"$f":"'60'!#REF!","v":{"$error":"#REF!"}},{"$f":"'300'!#REF!","v":{"$error":"#REF!"}},{"$f":"'1000'!#REF!","v":{"$error":"#REF!"}},{"$f":"DÁLKA!#REF!","v":{"$error":"#REF!"}},{"$f":"VÝŠKA!#REF!","v":{"$error":"#REF!"}},{"$f":"MÍČEK!#REF!","v":{"$error":"#REF!"}},{"$f":"KOULE!#REF!","v":{"$error":"#REF!"}},{"$f":"OŠTĚP!#REF!","v":{"$error":"#REF!"}},{"$f":"ČLUNEK!#REF!","v":{"$error":"#REF!"}},{"$f":"LEHSED!#REF!","v":{"$error":"#REF!"}},{"$f":"ODBÍJENÍ!#REF!","v":{"$error":"#REF!"}},{"$f":"PLAVÁNÍ!#REF!","v":{"$error":"#REF!"}},{"$f":"SHYBY!#REF!","v":{"$error":"#REF!"}},{"$f":"ŠPLH!#REF!","v":{"$error":"#REF!"}},{"$f":"ŠVIHADLO!#REF!","v":{"$error":"#REF!"}},{"$f":"'Z MÍSTA'!#REF!","v":{"$error":"#REF!"}},{"$f":"REPRE!E82","v":100},{"$f":"ROČ!W200","v":4551.9897626705369}]
[{"$f":"'60'!#REF!","v":{"$error":"#REF!"}},{"$f":"'60'!#REF!","v":{"$error":"#REF!"}},{"$f":"'60'!#REF!","v":{"$error":"#REF!"}},{"$f":"'300'!#REF!","v":{"$error":"#REF!"}},{"$f":"'1000'!#REF!","v":{"$error":"#REF!"}},{"$f":"DÁLKA!#REF!","v":{"$error":"#REF!"}},{"$f":"VÝŠKA!#REF!","v":{"$error":"#REF!"}},{"$f":"MÍČEK!#REF!","v":{"$error":"#REF!"}},{"$f":"KOULE!#REF!","v":{"$error":"#REF!"}},{"$f":"OŠTĚP!#REF!","v":{"$error":"#REF!"}},{"$f":"ČLUNEK!#REF!","v":{"$error":"#REF!"}},{"$f":"LEHSED!#REF!","v":{"$error":"#REF!"}},{"$f":"ODBÍJENÍ!#REF!","v":{"$error":"#REF!"}},{"$f":"PLAVÁNÍ!#REF!","v":{"$error":"#REF!"}},{"$f":"SHYBY!#REF!","v":{"$error":"#REF!"}},{"$f":"ŠPLH!#REF!","v":{"$error":"#REF!"}},{"$f":"ŠVIHADLO!#REF!","v":{"$error":"#REF!"}},{"$f":"'Z MÍSTA'!#REF!","v":{"$error":"#REF!"}},{"$f":"REPRE!E83","v":0},{"$f":"ROČ!W201","v":6868.4172017324545}]

{"sheet":"rekordy","index":24,"n_rows":44,"n_cols":15,"rows_kept":44,"cut":false,"hidden":false,"merged":[]}
[null,null,null,null,null,"REKORDY SPORTOVCE ŠKOLY"]
[null,null,null,"6.  ročník",null,null,null,null,null,null,"7.  ročník"]
[null,null,null,null,null,null,null,{"$f":"TODAY()","v":"2023-06-26"},null,null,null,null,null,null,{"$f":"TODAY()","v":"2023-06-26"}]
["   60  m",null,null,"HRUBÝ","Jakub",8.3000000000000007,null,"Turnov   29.05.08",null,"   60  m","ŠIMŮNEK","Patrik",7.67,null,"Turnov   21.06.11"]
[" 300  m",null,null,"ČIBIK","Tomáš","00:00:48.870",null,"Jilemnice  04.06.12",null," 300  m","SVOBODA","David","00:00:42.580",null,"Jilemnice  17.06.09"]
["1000  m",null,null,"ŠMÍD","Tomáš","00:03:27.330",null,"Turnov  13.05.15",null,"1000  m","GOTTSTEIN","Matouš","00:03:10.250",null,"Jilemnice 29.05.23"]
["dálka",null,null,"HRUBÝ","Jakub",443,null,"Jilemnice  02.06.08",null,"dálka","HRUBÝ","Jakub",536,null,"Jilemnice  08.06.09"]
["výška",null,null,"HRUBÝ","Jakub",145,null,"Turnov   13.05.08",null,"výška","HRUBÝ","Jakub",160,null,"Turnov   16.06.09"]
["míček",null,null,"RYCHLOVSKÝ","David",56.69,null,"Turnov   13.6.17",null,"míček","KVARDA","Adam",58.5,null,"Turnov   10.05.07"]
[null,null,null,null,null,null,null,null,null,null,"CEJNAR","Daniel",58.5,null,"Jilemnice  18.05.16"]
["koule  3",null,null,"ŠMÍD","Tomáš",9.1,null,"Jilemnice  29.04.15",null,"koule  3","VANCL","Dominik",11.68,null,"Jilemnice  27.04.11"]
["oštěp",null,null,null,null,null,null,null,null,"oštěp","LUKEŠ","Martin",27,null,"Jilemnice  18.05.15"]
["člunk. běh",null,null,"ČIBIK","Tomáš",9.76,null,"Jilemnice  08.06.12",null,"člunk. běh","ŠIMŮNEK","Patrik",9.64,null,"Jilemnice  30.05.11"]
["lehsedy",null,null,"PACLÍK","Matěj",58,null,"Jilemnice  20.01.12",null,"lehsedy","TOYA","Thomas",63,null,"Jilemnice  08.04.13"]
["odbíjení",null,null,"RYPL","Martin",1020,null,"Jilemnice  10.05.10",null,"odbíjení","SVOBODA","David",470,null,"Jilemnice  19.06.09"]
[null,null,null,"SEDLÁČEK","Pavel",1020,null,"Jilemnice  10.05.10"]
["plavání 25 m",null,null,"GABRIEL","Lukáš",14.59,null,"Jilemnice  10.03.10",null,"plavání 25 m","GABRIEL","Lukáš",14.15,null,"Jilemnice  21.12.11"]
["shyby",null,null,"HRUBÝ","Daniel",8,null,"Jilemnice  22.03.17",null,"shyby","JEŽEK ","Jonáš",12,null,"Jilemnice  04.06.19"]
["šplh",null,null,"GRZEŠ","Vojtěch",4.38,null,"Jilemnice  18.04.13",null,"šplh","HRUBÝ","Jakub",3.31,null,"Jilemnice  26.11.08"]
["švihadlo",null,null,"KOLDA","Vojtěch",162,null,"Jilemnice  19.10.15",null,"švihadlo","KOLDA","Vojtěch",180,null,"Jilemnice  17.02.17"]
["z místa",null,null,"ŠMÍD","Tomáš",240,null,"Jilemnice  03.06.15",null,"z místa","HRUBÝ","Jakub",258,null,"Jilemnice  15.06.09"]
[null,null,null,"8.  ročník",null,null,null,null,null,null,"9.  ročník"]
[null,null,null,null,null,null,null,{"$f":"TODAY()","v":"2023-06-26"},null,null,null,null,null,null,{"$f":"TODAY()","v":"2023-06-26"}]
["   60  m",null,null,"JINDŘIŠEK","Jakub",7.5,null,"Turnov   15.05.13",null,"   60  m","PLECHÁČ","Michal",7.3,null,"Turnov   13.05.08"]
[" 300  m",null,null,"ŠIMŮNEK","Patrik","00:00:41.650",null,"Turnov   19.06.12",null," 300  m","SVOBODA","David","00:00:39.600",null,"Turnov   21.06.11"]
["1000  m",null,null,"JINDŘIŠEK","Vít","00:03:07.980",null,"Jilemnice 29.05.23",null,"1000  m","GOTTSTEIN","Jonáš","00:02:59.200",null,"Jilemnice  3.4.17"]
["dálka",null,null,"SVOBODA","David",547,null,"Jilemnice  29.04.10",null,"dálka","SVOBODA","David",559,null,"Jilemnice  09.05.11"]
["výška",null,null,"POKORNÝ","Matyáš",153,null,"Jilemnice  12.05.23",null,"výška","FLÉGL","Adam",174,null,"Turnov   05.06.08"]
[]
["míček",null,null,"CEJNAR","Daniel",77.45,null,"Turnov  13.6.17",null,"míček","FLÉGL","Adam",74.69,null,"Jilemnice  17.09.07"]
[]
["koule  3",null,null,"MACHEK","Dominik",12.71,null,"Jilemnice  27.05.10",null,"koule  3","MACHEK","Dominik",14.29,null,"Jilemnice  06.06.11"]
["oštěp",null,null,"LUKEŠ","Martin",33,null,"Jilemnice  25.05.16",null,"oštěp","CEJNAR","Daniel",45,null,"Jilemnice  24.05.18"]
["člunk. běh",null,null,"DOHNAL","Martin",9.17,null,"Jilemnice  15.06.09",null,"člunk. běh","ZUZÁNEK","Vladimír",8.9499999999999993,null,"Jilemnice  12.03.15"]
["lehsedy",null,null,"TOYA","Thomas",72,null,"Jilemnice  14.04.14",null,"lehsedy","TOYA","Thomas",72,null,"Jilemnice  15.03.15 "]
["odbíjení",null,null,"RYPL","Martin",1201,null,"Jilemnice  25.04.12",null,"odbíjení","CEJNAR","Daniel",1822,null,"Jilemnice  29.01.18"]
[null,null,null,"SEDLÁČEK","Pavel",1201,null,"Jilemnice  25.04.12",null,null,"HAASE  ","Samuel",1822,null,"Jilemnice  29.01.18"]
["plavání 25 m",null,null,"GABRIEL","Lukáš",13.7,null,"Jilemnice  21.12.11",null,"plavání 25 m","GABRIEL","Lukáš",13.29,null,"Jilemnice  19.15.12"]
["shyby",null,null,"SCHILLING","Tomáš",26,null,"Jilemnice  25.05.17",null,"shyby","SCHILLING","Tomáš",30,null,"Jilemnice  11.05.18"]
["šplh",null,null,"VALIŠKA","Jan",2.8,null,"Jilemnice  08.03.10",null,"šplh","HARTIG","Aleš",2.64,null,"Jilemnice  25.04.16"]
["švihadlo",null,null,"KUDRNÁČ","Jakub",195,null,"Jilemnice  29.01.18",null,"švihadlo","KOLDA","Vojtěch",210,null,"Jilemnice  06.05.19"]
["z místa",null,null,"SVOBODA","David",252,null,"Jilemnice  01.03.10",null,"z místa","SPANILÝ","David",273,null,"Jilemnice 17.03.23"]
[null,null,null,"HRUBÝ","Patrik",252,null,"Jilemnice  10.05.19"]
[null,null,null,"VOHNOUT","Zdeněk",252,null,"Jilemnice  06.02.20"]

{"sheet":"press","index":25,"n_rows":201,"n_cols":8,"rows_kept":201,"cut":false,"hidden":false,"merged":[]}
["SPORTOVEC  ŠKOLY",null,null,null,null,"60 m"]
[]
[null,"7.  ročník",null,null,"výkon"]
["1.","GOTTSTEIN","Matouš","7.B",8.99,null,"Jilemnice  10.10.22",{"$f":"IF(E4=0,0,(1000000000 - 313216 / E4 + 34538300 / E4*2 - 1698600000 / E4*3 + 32198000000 / E4*4)/20000000+66)","v":804.34796097886533}]
["2.","FEJKL","Antonín","7.B",9.1999999999999993,null,"Jilemnice  10.10.22",788.63567056521754]
["3.","JINDŘIŠEK","Alex Jiří","7.A",9.25,null,"Jilemnice  10.10.22",784.99980207567569]
["4.","EFENBERK","Šimon","7.B",9.48,null,"Jilemnice  10.10.22",768.7687942194093]
["5.","VYBÍRAL","Radim","7.A",9.49,null,"Jilemnice  10.10.22",768.08094512118021]
["6.","EXNER","Tomáš","7.A",9.66,null,"Jilemnice  10.10.22",756.60540053830221]
["7.","VÁCLAVÍK","Jan","7.A",10.02,null,"Jilemnice  10.10.22",733.58963764471059]
["8.","TOMÁŠ","Jakub","7.A",10.15,null,"Jilemnice  10.10.22",725.67962258128068]
["9.","MARŠÁLEK","Ondřej","7.A",10.24,null,"Jilemnice  10.10.22",720.32111027343751]
["10.","MLATEČEK","Patrik","7.A",10.51,null,"Jilemnice  10.10.22",704.79621019980971]
["11.","POVAŽANEC","Lukáš","7.B",10.57,null,"Jilemnice  10.10.22",701.45394221381264]
["12.","JANATA","Denis","7.A",10.62,null,"Jilemnice  10.10.22",698.69756772128062]
["13.","SCHOLZ","Matyáš","7.A",10.63,null,"Jilemnice  10.10.22",698.14940444026331]
["14.","VANCL","Jakub","7.B",10.85,null,"Jilemnice  10.10.22",686.34545338248847]
["15.","VEČEŘA","David","7.A",10.9,null,"Jilemnice  10.10.22",683.72918983486238]
["16.","VOTOČEK","Michal","7.B",10.95,null,"Jilemnice  10.10.22",681.13681910502282]
["17.","MAŘAS","Dominik","7.B",16.25,null,"Jilemnice  10.10.22",496.81527195076922]
["18.","KAZLEPKA","Miroslav","7.A",null,null,null,0]
["19.","BERISHA","David","7.B",null,null,null,0]
["20.","VANCL","Miroslav","7.B",null,null,null,0]
[null,"8.  ročník",null,null,"výkon"]
["1.","JINDŘIŠEK","Vít","8.B",8.02,null,"Jilemnice  12.09.22",{"$f":"IF(E25=0,0,(1000000000 - 313216 / E25 + 34538300 / E25*2 - 1698600000 / E25*3 + 32198000000 / E25*4)/20000000+66)","v":887.60201610972581}]
["2.","FAISTAUER","Kryštof","8.A",8.32,null,"Jilemnice  10.10.22",859.77982802884617]
["3.","POKORNÝ","Matyáš","8.B",8.42,null,"Jilemnice  12.09.22",850.9463383847982]
["4.","LUKEŠ","Jakub","8.B",8.5,null,"Jilemnice  12.09.22",844.02919637647062]
["5.","OTT","Matyáš","8.B",8.6199999999999992,null,"Jilemnice  12.09.22",833.89421916473327]
["6.","KERLE","Marek","8.B",8.7200000000000006,null,"Jilemnice  12.09.22",825.66148729357792]
["7.","VÁCLAVÍK","Ondřej","8.A",8.84,null,"Jilemnice  10.10.22",816.02807343891413]
["8.","ULLMAN","Šimon","8.B",8.9700000000000006,null,"Jilemnice  12.09.22",805.88273904124856]
["9.","HUBÁLOVSKÝ","Marek","8.A",9.2799999999999994,null,"Jilemnice  10.10.22",782.83708719827598]
["10.","DEMČUK","Ilja","8.A",9.3000000000000007,null,"Jilemnice  10.10.22",781.40302894623653]
["11.","VALENTA","Jakub","8.B",9.3000000000000007,null,"Jilemnice  12.09.22",781.40302894623653]
["12.","VRBATA","Dominik","8.B",9.35,null,"Jilemnice  12.09.22",777.84472397860964]
["13.","BUDÍN","Martin","8.B",9.36,null,"Jilemnice  12.09.22",777.13762491452997]
["14.","JIROUŠ","Matouš","8.B",9.5500000000000007,null,"Jilemnice  10.10.22",763.98410148691096]
["15.","ŘEHOŘEK","Vojtěch","8.A",9.56,null,"Jilemnice  10.10.22",763.30629384937231]
["16.","DVOŘÁK","Dominik","8.B",9.64,null,"Jilemnice  12.09.22",757.93445738589196]
["17.","AUERSWALD","Daniel","8.B",9.84,null,"Jilemnice  12.09.22",744.88700906504073]
["18.","POLÁČEK","Matyáš","8.B",10.16,null,"Jilemnice  12.09.22",725.07954421259842]
["19.","FRK","Matyáš","8.A",10.27,null,"Jilemnice  10.10.22",718.55581004868554]
["20.","FIŠERA","Vojtěch","8.B",10.4,null,"Jilemnice  12.09.22",711.02386242307693]
["21.","ŠÍR","Matyáš","8.A",10.8,null,"Jilemnice  10.10.22",688.98594159259255]
["22.","MERY","Luboš","8.A",10.89,null,"Jilemnice  10.10.22",684.25052058769518]
["23.","NOVOTNÝ","Matěj","8.A",11.28,null,"Jilemnice  10.10.22",664.6035610992908]
[" ","MAŤÁTKO","Jakub","8.A",null,null,null,0]
[" ","TORÁČ","Tomáš","8.A",null,null,null,0]
[" ","BOUKAL","Jakub","8.B",null,null,null,0]
[]
[null,"9.  ročník",null,null,"výkon"]
["1.","NECHANICKÝ","David","9.A",8.14,null,"Turnov   13.09.22",{"$f":"IF(E53=0,0,(1000000000 - 313216 / E53 + 34538300 / E53*2 - 1698600000 / E53*3 + 32198000000 / E53*4)/20000000+66)","v":876.22704781326786}]
["2.","FEJKL","Jan","9.A",8.2100000000000009,null,"Jilemnice  09.09.22",869.74520940316677]
["3.","SPANILÝ","David","9.A",8.26,null,"Jilemnice  09.09.22",865.18258707021801]
["4.","KRAUSE","Tadeáš","9.A",8.57,null,"Jilemnice  09.09.22",838.08263351225207]
["5.","POVAŽANEC","Martin","9.B",8.65,null,"Jilemnice  09.09.22",831.40441262427737]
["6.","ZAPLATÍLEK","Josef","9.B",8.94,null,"Jilemnice  09.09.22",808.19778178970921]
["7.","DOLEJŠÍ","David","9.B",9.17,null,"Jilemnice  09.09.22",790.83622346782988]
["8.","ROZUMEK","Adam","9.B",9.2200000000000006,null,"Jilemnice  09.09.22",787.17659101952279]
["9.","VALENTA","František","9.B",9.51,null,"Jilemnice  09.09.22",766.70958666666672]
["10.","ČERNÝ","Michal","9.B",9.67,null,"Jilemnice  09.09.22",755.94293373319545]
["11.","RICHTER","Jakub","9.B",9.91,null,"Jilemnice  09.09.22",740.44482030272457]
["12.","LEŠÁK","Martin","9.A",9.9499999999999993,null,"Jilemnice  09.09.22",737.93448936683421]
["13.","KOTYK","Tadeáš","9.A",10.49,null,"Jilemnice  09.09.22",705.9187959199237]
[" ","ŘEHOŘEK","Jan","9.A",null,null,null,0]
[" ","SOUKUP","Ondřej","9.A",null,null,null,0]
["SPORTOVEC  ŠKOLY",null,null,null,null,"300 m"]
[]
[null,"7.  ročník",null,null,"výkon"]
["1.","GOTTSTEIN","Matouš","7.B","00:00:48.810",null,"Jilemnice  17.10.22",{"$f":"IF(E71=0,0,(1000000000-313216/E71+34538300/E71*2-1698600000/E71*3+32198000000/E71*4)/200000000000-304)","v":791.4047988503994}]
["2.","VYBÍRAL","Radim","7.A","00:00:52.120",null,"Jilemnice  17.10.22",721.83892520890277]
["3.","FEJKL","Antonín","7.B","00:00:52.640",null,"Jilemnice  17.10.22",711.70530740668687]
["4.","TOMÁŠ","Jakub","7.A","00:00:57.360",null,"Jilemnice  17.10.22",628.1260631430963]
["5.","VÁCLAVÍK","Jan","7.A","00:00:57.810",null,"Jilemnice  17.10.22",620.87032056543842]
["6.","JINDŘIŠEK","Alex Jiří","7.A","00:00:58.340",null,"Jilemnice  17.10.22",612.4682187502226]
["7.","EXNER","Tomáš","7.A","00:00:59.110",null,"Jilemnice  17.10.22",600.52985504801234]
["8.","EFENBERK","Šimon","7.B","00:01:01.510",null,"Jilemnice  17.10.22",565.23706278471786]
["9.","JANATA","Denis","7.A","00:01:02.160",null,"Jilemnice  17.10.22",556.14760266872588]
["10.","POVAŽANEC","Lukáš","7.B","00:01:04.360",null,"Jilemnice  17.10.22",526.74558703990067]
["11.","SCHOLZ","Matyáš","7.A","00:01:05.740",null,"Jilemnice  17.10.22",509.30685856233652]
["12.","MARŠÁLEK","Ondřej","7.A","00:01:06.170",null,"Jilemnice  17.10.22",504.02168704681878]
["13.","VANCL","Jakub","7.B","00:01:06.320",null,"Jilemnice  17.10.22",502.19414628902302]
["14.","VEČEŘA","David","7.A","00:01:06.690",null,"Jilemnice  17.10.22",497.72136200161935]
["15.","VOTOČEK","Michal","7.B","00:01:09.910",null,"Jilemnice  17.10.22",460.79493251162933]
["16.","MLATEČEK","Patrik","7.A","00:01:17.320",null,"Jilemnice  17.10.22",387.50091544086922]
["17.","MAŘAS","Dominik","7.B","00:01:26.820",null,"Jilemnice  17.10.22",311.83619306482376]
["18.","VANCL","Miroslav","7.B","00:01:36.810",null,"Jilemnice  17.10.22",248.28745203892151]
["19.","KAZLEPKA","Miroslav","7.A",null,null,null,0]
["20.","BERISHA","David","7.B",null,null," ",0]
[null,"8.  ročník",null,null,"výkon"]
["1.","JINDŘIŠEK","Vít","8.B","00:00:44.380",null,"Jilemnice  17.10.22",{"$f":"IF(E92=0,0,(1000000000-313216/E92+34538300/E92*2-1698600000/E92*3+32198000000/E92*4)/200000000000-304)","v":900.74732045714268}]
["2.","POKORNÝ","Matyáš","8.B","00:00:46.580",null,"Jilemnice  17.10.22",843.84665268115054]
["3.","LUKEŠ","Jakub","8.B","00:00:48.170",null,"Jilemnice  17.10.22",805.95858484301402]
["4.","KERLE","Marek","8.B","00:00:48.200",null,"Jilemnice  17.10.22",805.26774236282154]
["5.","OTT","Matyáš","8.B","00:00:49.190",null,"Jilemnice  17.10.22",782.94267395584461]
["6.","VALENTA","Jakub","8.B","00:00:50.250",null,"Jilemnice  17.10.22",760.01423745050761]
["7.","FAISTAUER","Kryštof","8.A","00:00:51.860",null,"Jilemnice  17.10.22",726.98194141704585]
["8.","ULLMAN","Šimon","8.B","00:00:53.180",null,"Jilemnice  17.10.22",701.39169014456581]
["9.","BUDÍN","Martin","8.B","00:00:53.280",null,"Jilemnice  17.10.22",699.50470311351341]
["10.","DEMČUK","Ilja","8.A","00:00:53.410",null,"Jilemnice  17.10.22",697.06218370881879]
["11.","VRBATA","Dominik","8.B","00:00:55.100",null,"Jilemnice  17.10.22",666.35825193989126]
["12.","JIROUŠ","Matouš","8.B","00:00:55.660",null,"Jilemnice  17.10.22",656.59544523693864]
["13.","HUBÁLOVSKÝ","Marek","8.A","00:00:56.800",null,"Jilemnice  17.10.22",637.31598911774654]
["14.","ŘEHOŘEK","Vojtěch","8.A","00:01:00.020",null,"Jilemnice  17.10.22",586.81579943165627]
["15.","AUERSWALD","Daniel","8.B","00:01:00.420",null,"Jilemnice  17.10.22",580.9183429640517]
["16.","FIŠERA","Vojtěch","8.B","00:01:01.920",null,"Jilemnice  17.10.22",559.48148872558136]
["17.","ŠÍR","Matyáš","8.A","00:01:02.280",null,"Jilemnice  17.10.22",554.49029514913298]
["18.","FRK","Matyáš","8.A","00:01:02.730",null,"Jilemnice  17.10.22",548.33186405050185]
["19.","MERY","Luboš","8.A","00:01:06.630",null,"Jilemnice  17.10.22",498.44330379540747]
["20.","NOVOTNÝ","Matěj","8.A","00:01:12.840",null,"Jilemnice  17.10.22",430.03114198088974]
["21.","MAŤÁTKO","Jakub","8.A","00:01:13.600",null,"Jilemnice  17.10.22",422.45152421043485]
["22.","TORÁČ","Tomáš","8.A","00:02:07.730",null,"Jilemnice  17.10.22",114.59471409917802]
["23.","VÁCLAVÍK","Ondřej","8.A",null,null," ",0]
[" ","BOUKAL","Jakub","8.B",null,null," "]
[" ","DVOŘÁK","Dominik","8.B",null,null," ",{"$f":"IF(E116=0,0,(1000000000-313216/E116+34538300/E116*2-1698600000/E116*3+32198000000/E116*4)/200000000000-304)","v":0}]
[" ","POLÁČEK","Matyáš","8.B",null,null," ",{"$f":"IF(E117=0,0,(1000000000-313216/E117+34538300/E117*2-1698600000/E117*3+32198000000/E117*4)/200000000000-304)","v":0}]
[]
[null,"9.  ročník",null,null,"výkon"]
["1.","FEJKL","Jan","9.A","00:00:45.510",null,"Jilemnice  14.10.22",{"$f":"IF(E120=0,0,(1000000000-313216/E120+34538300/E120*2-1698600000/E120*3+32198000000/E120*4)/200000000000-304)","v":870.83392071825983}]
["2.","SPANILÝ","David","9.A","00:00:45.800",null,"Jilemnice  14.10.22",863.39504763947616]
["3.","NECHANICKÝ","David","9.A","00:00:49.380",null,"Jilemnice  14.10.22",778.76045123304993]
["4.","ŘEHOŘEK","Jan","9.A","00:00:51.360",null,"Jilemnice  14.10.22",737.01871070654215]
["5.","DOLEJŠÍ","David","9.B","00:00:52.400",null,"Jilemnice  14.10.22",716.35736988335896]
["6.","ZAPLATÍLEK","Josef","9.B","00:00:52.400",null,"Jilemnice  14.10.22",716.35736988335896]
["7.","ROZUMEK","Adam","9.B","00:00:56.020",null,"Jilemnice  14.10.22",650.42242559600129]
["8.","VALENTA","František","9.B","00:00:56.020",null,"Jilemnice  14.10.22",650.42242559600129]
["9.","RICHTER","Jakub","9.B","00:00:57.870",null,"Jilemnice  14.10.22",619.91141406407473]
["10.","ČERNÝ","Michal","9.B","00:00:59.010",null,"Jilemnice  14.10.22",602.06268822043717]
["11.","KOTYK","Tadeáš","9.A",null,null,null,0]
["12.","KRAUSE","Tadeáš","9.A",null,null,null,0]
["13.","LEŠÁK","Martin","9.A",null,null,null,0]
[" ","SOUKUP","Ondřej","9.A",null,null,null,0]
[" ","POVAŽANEC","Martin","9.B",null,null,null,0]
["SPORTOVEC  ŠKOLY",null,null,null,null,"míček"]
[]
[null,"7.  ročník",null,null,"výkon"]
["1.","GOTTSTEIN","Matouš","7.B","00:00:48.810",null,"Jilemnice  17.10.22",{"$f":"IF(E138=0,0,(1000000000-313216/E138+34538300/E138*2-1698600000/E138*3+32198000000/E138*4)/200000000000-304)","v":791.4047988503994}]
["2.","VYBÍRAL","Radim","7.A","00:00:52.120",null,"Jilemnice  17.10.22",721.83892520890277]
["3.","FEJKL","Antonín","7.B","00:00:52.640",null,"Jilemnice  17.10.22",711.70530740668687]
["4.","TOMÁŠ","Jakub","7.A","00:00:57.360",null,"Jilemnice  17.10.22",628.1260631430963]
["5.","VÁCLAVÍK","Jan","7.A","00:00:57.810",null,"Jilemnice  17.10.22",620.87032056543842]
["6.","JINDŘIŠEK","Alex Jiří","7.A","00:00:58.340",null,"Jilemnice  17.10.22",612.4682187502226]
["7.","EXNER","Tomáš","7.A","00:00:59.110",null,"Jilemnice  17.10.22",600.52985504801234]
["8.","EFENBERK","Šimon","7.B","00:01:01.510",null,"Jilemnice  17.10.22",565.23706278471786]
["9.","JANATA","Denis","7.A","00:01:02.160",null,"Jilemnice  17.10.22",556.14760266872588]
["10.","POVAŽANEC","Lukáš","7.B","00:01:04.360",null,"Jilemnice  17.10.22",526.74558703990067]
["11.","SCHOLZ","Matyáš","7.A","00:01:05.740",null,"Jilemnice  17.10.22",509.30685856233652]
["12.","MARŠÁLEK","Ondřej","7.A","00:01:06.170",null,"Jilemnice  17.10.22",504.02168704681878]
["13.","VANCL","Jakub","7.B","00:01:06.320",null,"Jilemnice  17.10.22",502.19414628902302]
["14.","VEČEŘA","David","7.A","00:01:06.690",null,"Jilemnice  17.10.22",497.72136200161935]
["15.","VOTOČEK","Michal","7.B","00:01:09.910",null,"Jilemnice  17.10.22",460.79493251162933]
["16.","MLATEČEK","Patrik","7.A","00:01:17.320",null,"Jilemnice  17.10.22",387.50091544086922]
["17.","MAŘAS","Dominik","7.B","00:01:26.820",null,"Jilemnice  17.10.22",311.83619306482376]
["18.","VANCL","Miroslav","7.B","00:01:36.810",null,"Jilemnice  17.10.22",248.28745203892151]
["19.","KAZLEPKA","Miroslav","7.A",null,null,null,0]
["20.","BERISHA","David","7.B",null,null," ",0]
[null,"8.  ročník",null,null,"výkon"]
["1.","JINDŘIŠEK","Vít","8.B","00:00:44.380",null,"Jilemnice  17.10.22",{"$f":"IF(E159=0,0,(1000000000-313216/E159+34538300/E159*2-1698600000/E159*3+32198000000/E159*4)/200000000000-304)","v":900.74732045714268}]
["2.","POKORNÝ","Matyáš","8.B","00:00:46.580",null,"Jilemnice  17.10.22",843.84665268115054]
["3.","LUKEŠ","Jakub","8.B","00:00:48.170",null,"Jilemnice  17.10.22",805.95858484301402]
["4.","KERLE","Marek","8.B","00:00:48.200",null,"Jilemnice  17.10.22",805.26774236282154]
["5.","OTT","Matyáš","8.B","00:00:49.190",null,"Jilemnice  17.10.22",782.94267395584461]
["6.","VALENTA","Jakub","8.B","00:00:50.250",null,"Jilemnice  17.10.22",760.01423745050761]
["7.","FAISTAUER","Kryštof","8.A","00:00:51.860",null,"Jilemnice  17.10.22",726.98194141704585]
["8.","ULLMAN","Šimon","8.B","00:00:53.180",null,"Jilemnice  17.10.22",701.39169014456581]
["9.","BUDÍN","Martin","8.B","00:00:53.280",null,"Jilemnice  17.10.22",699.50470311351341]
["10.","DEMČUK","Ilja","8.A","00:00:53.410",null,"Jilemnice  17.10.22",697.06218370881879]
["11.","VRBATA","Dominik","8.B","00:00:55.100",null,"Jilemnice  17.10.22",666.35825193989126]
["12.","JIROUŠ","Matouš","8.B","00:00:55.660",null,"Jilemnice  17.10.22",656.59544523693864]
["13.","HUBÁLOVSKÝ","Marek","8.A","00:00:56.800",null,"Jilemnice  17.10.22",637.31598911774654]
["14.","ŘEHOŘEK","Vojtěch","8.A","00:01:00.020",null,"Jilemnice  17.10.22",586.81579943165627]
["15.","AUERSWALD","Daniel","8.B","00:01:00.420",null,"Jilemnice  17.10.22",580.9183429640517]
["16.","FIŠERA","Vojtěch","8.B","00:01:01.920",null,"Jilemnice  17.10.22",559.48148872558136]
["17.","ŠÍR","Matyáš","8.A","00:01:02.280",null,"Jilemnice  17.10.22",554.49029514913298]
["18.","FRK","Matyáš","8.A","00:01:02.730",null,"Jilemnice  17.10.22",548.33186405050185]
["19.","MERY","Luboš","8.A","00:01:06.630",null,"Jilemnice  17.10.22",498.44330379540747]
["20.","NOVOTNÝ","Matěj","8.A","00:01:12.840",null,"Jilemnice  17.10.22",430.03114198088974]
["21.","MAŤÁTKO","Jakub","8.A","00:01:13.600",null,"Jilemnice  17.10.22",422.45152421043485]
["22.","TORÁČ","Tomáš","8.A","00:02:07.730",null,"Jilemnice  17.10.22",114.59471409917802]
["23.","VÁCLAVÍK","Ondřej","8.A",null,null," ",0]
[" ","BOUKAL","Jakub","8.B",null,null," "]
[" ","DVOŘÁK","Dominik","8.B",null,null," ",{"$f":"IF(E183=0,0,(1000000000-313216/E183+34538300/E183*2-1698600000/E183*3+32198000000/E183*4)/200000000000-304)","v":0}]
[" ","POLÁČEK","Matyáš","8.B",null,null," ",{"$f":"IF(E184=0,0,(1000000000-313216/E184+34538300/E184*2-1698600000/E184*3+32198000000/E184*4)/200000000000-304)","v":0}]
[]
[null,"9.  ročník",null,null,"výkon"]
["1.","FEJKL","Jan","9.A","00:00:45.510",null,"Jilemnice  14.10.22",{"$f":"IF(E187=0,0,(1000000000-313216/E187+34538300/E187*2-1698600000/E187*3+32198000000/E187*4)/200000000000-304)","v":870.83392071825983}]
["2.","SPANILÝ","David","9.A","00:00:45.800",null,"Jilemnice  14.10.22",863.39504763947616]
["3.","NECHANICKÝ","David","9.A","00:00:49.380",null,"Jilemnice  14.10.22",778.76045123304993]
["4.","ŘEHOŘEK","Jan","9.A","00:00:51.360",null,"Jilemnice  14.10.22",737.01871070654215]
["5.","DOLEJŠÍ","David","9.B","00:00:52.400",null,"Jilemnice  14.10.22",716.35736988335896]
["6.","ZAPLATÍLEK","Josef","9.B","00:00:52.400",null,"Jilemnice  14.10.22",716.35736988335896]
["7.","ROZUMEK","Adam","9.B","00:00:56.020",null,"Jilemnice  14.10.22",650.42242559600129]
["8.","VALENTA","František","9.B","00:00:56.020",null,"Jilemnice  14.10.22",650.42242559600129]
["9.","RICHTER","Jakub","9.B","00:00:57.870",null,"Jilemnice  14.10.22",619.91141406407473]
["10.","ČERNÝ","Michal","9.B","00:00:59.010",null,"Jilemnice  14.10.22",602.06268822043717]
["11.","KOTYK","Tadeáš","9.A",null,null,null,0]
["12.","KRAUSE","Tadeáš","9.A",null,null,null,0]
["13.","LEŠÁK","Martin","9.A",null,null,null,0]
[" ","SOUKUP","Ondřej","9.A",null,null,null,0]
[" ","POVAŽANEC","Martin","9.B",null,null,null,0]

{"sheet":"week","index":26,"n_rows":18,"n_cols":10,"rows_kept":18,"cut":false,"hidden":false,"merged":[]}
[null,null,null,"VÝKONY  TÝDNE"]
[]
[null,"2021-11-19",null,"VÁCLAVÍK","ONDŘEJ","7.B",null,"shyby",null,11]
[]
[null,"2021-11-22",null,"ZUZÁNEK","FILIP","9.A",null,"shyby",null,14]
[]
[null,"2021-11-22",null,"VALENTA","TOMÁŠ","9.A",null,"skok z místa",null,"245  cm"]
[]
[null,"2021-11-23",null,"HORÁČKOVÁ ","VALÉRIE","6.B",null,"skok z místa",null,"181  cm"]
[]
[null,"2021-11-23",null,"EXNER","TOMÁŠ","6.A",null,"skok z místa",null,"212  cm"]
[]
[null,"2021-11-24",null,"REPASKÝ","JAKUB","9.A",null,"odbíjení",null,123]
[null,null,null,"VALENTA","TOMÁŠ","9.A",null,"odbíjení",null,123]
[]
[null,"2021-11-29",null,"JINDŘIŠEK","VÍT","7.B",null,"shyby",null,11]
[]
[null,"2021-12-09",null,"LUKEŠ","Jakub","7.B",null,"skok z místa",null,"241  cm"]

{"sheet":"%SPLNĚNO","index":27,"n_rows":11,"n_cols":16,"rows_kept":11,"cut":false,"hidden":false,"merged":[]}
[null,null,"CHLAPCI",null,null,null,null,"DĚVČATA",null,null,null,null,"CELKEM"]
[null,null,"POČET","CHYBÍ","SPLNĚNO","%",null,"POČET","CHYBÍ","SPLNĚNO","%",null,"POČET","CHYBÍ","SPLNĚNO","%"]
[]
[null,"7.A",11,32,{"$f":"C4*14-D4","v":122},{"$f":"E4/(C4*14/100)","v":79.220779220779221},null,7,19,{"$f":"H4*14-I4","v":79},{"$f":"J4/(H4*14/100)","v":80.612244897959187},null,{"$f":"C4+H4","v":18},51,201,{"$f":"O4/(M4*14/100)","v":79.761904761904759}]
[null,"7.B",9,28,98,77.777777777777771,null,13,49,133,73.07692307692308,null,22,77,231,75]
[null,"8.B",15,38,172,81.904761904761898,null,14,64,132,67.34693877551021,null,29,102,304,74.876847290640399]
[null,"8.A",11,37,117,75.974025974025977,null,16,92,132,58.928571428571423,null,27,129,249,65.873015873015873]
[null,"6.A",13,91,91,50,null,7,20,78,79.591836734693885,null,20,111,169,60.357142857142861]
[null,"9.A",7,41,57,58.163265306122447,null,17,105,133,55.882352941176471,null,24,146,190,56.547619047619051]
[null,"6.B",9,83,43,34.126984126984127,null,10,63,77,55,null,19,146,120,45.112781954887218]
[null,"9.B",8,35,77,68.75,null,15,169,41,19.523809523809522,null,23,204,118,36.645962732919251]