{"text_format":"1","workbook":"xlsx","n_sheets":23,"sheets":["HOME","TVOJE","TVOJE2","FOTO","D15","Droč","Dvýk","D60","D300","D800","Ddál","Dvýš","Dmíč","Dkou","Dčlu","Dls","Dodbíj","Dplav","Dšplh","Dšvih","Dz mís","Drepre","Drekordy"],"not_rendered":{"charts":0,"images":0,"macros":1,"external_links":0,"defined_names":10,"comments":0,"pivot_tables":0},"unopened":[],"bounds":{"document_bytes":16777216,"sheet_cells":100000,"rows_first":2000,"rows_last":500,"rows_between":2000,"halvings":0,"cell_chars":16384,"cell_head_chars":4096},"cells_cut":0,"cells_raw":0,"read":"whole","date_system":"1900"}

{"sheet":"HOME","index":0,"n_rows":9,"n_cols":2,"rows_kept":9,"cut":false,"hidden":false,"merged":[[8,1,8,3],[2,0,3,0],[0,0,0,6]]}
["DĚVČATA"]
[]
[]
[]
[]
[]
[]
[]
[null,"DISCIPLÍNY"]

{"sheet":"TVOJE","index":1,"n_rows":1,"n_cols":21,"rows_kept":1,"cut":false,"hidden":false,"merged":[]}
[null,"6.A",null,null,"6.B",null,null,"7.A",null,null,"7.B",null,null,"8.A",null,null,null,"8.B",null,null,"9.A"]

{"sheet":"TVOJE2","index":2,"n_rows":30,"n_cols":11,"rows_kept":30,"cut":false,"hidden":false,"merged":[]}
[]
[]
[null,null,null,"výkon",null,"místo","body",null,"19  - 20","18  - 19","17 - 18"]
[null,null,"60 m"]
[]
[null,null,"300 m"]
[]
[null,null,"800 m"]
[]
[null,null,"dálka"]
[]
[null,null,"výška"]
[]
[null,null,"míček"]
[]
[null,null,"koule"]
[]
[null,null,"člunek"]
[]
[null,null,"lehsed"]
[]
[null,null,"odbíjení"]
[]
[null,null,"plavání"]
[]
[null,null,"šplh"]
[]
[null,null,"švihadlo"]
[]
[" ",null,"z místa"]

{"sheet":"FOTO","index":3,"n_rows":20,"n_cols":6,"rows_kept":20,"cut":false,"hidden":false,"merged":[[1,1,1,2]]}
[]
[null,"PRO  ZOBRAZENÍ  FOTOGRAFIÍ  JE  TŘEBA  PŘÍSTUP  K  INTERNETU"]
[]
[]
[null,null,null,null,"DALŠÍ  SPORTOVNÍ  AKCE"]
[]
[null,2020,"VYHLÁŠENÍ  SE  NEUSKUTEČNILO",null,"10.12.2019  OF  FLORBAL  STARŠÍ ŽÁCI","13.11.2019  OF  PLAVÁNÍ    JILEMNICE"]
[null,null,null,null,"19.12.2019  OF  FLORBAL ML.ŽÁCI  JIL.","25.9.2019   JILEMNICKÉ  ŠTAFETY"]
[null,null,null,null,"24. 9.2019  OF  ČTYŘBOJ   TURNOV"]
[]
[null,2019,"VYHLÁŠENÍ  SPORTOVCE  ŠKOLY     13. ROČNÍK",null,"6. 12. 2018  OF  FLORBAL  6.-7. ROČ","14.11.2018  OF  PLAVÁNÍ  JILEMNICE"]
[null,null,null,null,"26. 9.2018  OF  ČTYŘBOJ  TURNOV"]
[null,2018,"VYHLÁŠENÍ  SPORTOVCE  ŠKOLY     12. ROČNÍK"]
[]
[null,2017,"VYHLÁŠENÍ  SPORTOVCE  ŠKOLY     11. ROČNÍK"]
[]
[null,2016,"VYHLÁŠENÍ  SPORTOVCE  ŠKOLY     10. ROČNÍK",null,"11. 5. 2016  POHÁR  ROZHLASU  TURNOV"]
[]
[]
[null,null,"průběžně budu přídávat další"]

{"sheet":"D15","index":4,"n_rows":128,"n_cols":21,"rows_kept":128,"cut":false,"hidden":false,"merged":[]}
[" ",null,"T O P     1 5",null,null,null,null,null,null,null,null,null,null,null,null,null,null,null,"stav  k ",null,{"$f":"TODAY()","v":"2022-06-28"}]
[]
[null,null,null,null,null,"60  m  ","300m","800m","dálka","výška","míček","koule","člunek","lehsed","odbíjení ","plavání","šplh","švihadlo","z místa"," REPRE","       CELKEM"]
[]
["1.",{"$f":"B35","v":"HEJRALOVÁ"},"Natálie","6.A",null,764.81691876127945,756.23959004337871,673.34442054850729,728.64100000000008,739.5,421.6,320,617.84669144425982,0,0,0,0,624.5,571.83852691218135,0,6218.3271477096059]
["2.","KERLE","Nikita","6.A",null,751.7160542614314,768.02511733568667,755.40310173832825,786.02800000000002,739.5,376.1,293.33333333333331,652.68792273443864,0,0,0,522.60152998285719,624.5,642.40509915014172,50,6962.3001585362172]
["3.","PACLÍKOVÁ","Markéta","6.A",null,768.99822259593907,670.79797849383704,637.21046182744692,712.99,772,494.40000000000003,400,665.3271387095914,0,0,0,451.69735399586978,687,731.78942398489153,0,6992.2105796075757]
["4.","PLŮCHOVÁ","Michaela","6.A",null,768.99822259593907,670.50457240622723,0,683.42700000000002,707,348.8,434.66666666666663,655.80618679842246,0,0,0,402.00334092341575,755.75,684.74504249291795,0,6111.7010318835892]
["5.","ŠERCLOVÁ","Nikola","6.A",null,615.05021777438014,453.50292675528885,523.33066151160835,605.17200000000003,0,0,295.11111111111114,0,0,0,0,0,218.25,553.02077431539215,0,3263.4376914677805]
["6.","VÁCLAVÍKOVÁ","Alena","6.A",null,732.82791466699018,619.63603624551979,637.17574642194563,667.77600000000007,609.5,0,299.5555555555556,625.80173157318779,0,0,0,0,562,632.99622285174701,0,5387.2692073149465]
["7.","DUCHÁČKOVÁ","Tereza","6.B",null,639.88299981462433,519.53535007402104,0,645.16899999999998,544.5,230.5,0,546.05532065801185,0,0,0,0,312,426.00094428706336,0,3863.6436148337207]
["8.","FLAŠKOVÁ","Anna Sabriel","6.B",null,659.5843689488986,538.79696647240939,0,662.55900000000008,674.5,421.6,268.44444444444446,571.78814289533375,0,0,0,0,287,411.88762983947129,0,4496.1605526005578]
["9.","HAASOVÁ","Julie","6.B",null,763.9857211271443,669.18664679821393,631.66145534433963,765.16000000000008,674.5,421.6,0,583.21005299763783,0,0,0,416.63405220911045,493.25,694.15391879131289,0,6113.3418472677586]
["10.","HOBLOVÁ","Barbora","6.B",null,746.91003059980244,640.1947661850287,607.09173098645749,619.08400000000006,609.5,376.1,0,618.97178974535893,0,0,0,463.73901635703703,612,581.24740321057607,0,5874.8387370842611]
["11.","HORÁČKOVÁ","Valérie","6.B",null,749.30589769772052,706.36402433031185,600.17157606395335,664.298,642,367,394.66666666666669,652.68792273443864,0,0,674.28398581016302,0,0,675.33616619452323,0,6126.1142394977778]
["12.","JIRANOVÁ","Anežka","6.B",null,543.37457357976371,0,386.43569901332626,570.39200000000005,512,321.5,271.11111111111109,528.62145157084524,0,0,0,0,280.75,336.61661945231356,0,3750.8014547273601]
["13.","JODASOVÁ","Denisa","6.B",null,727.48356080070721,0,614.47106332192413,756.46500000000003,0,603.6,396.44444444444446,684.47261289911864,0,0,0,475.87076351287016,555.75,665.92728989612851,0,5480.4847348751937]
["14.","KRČÍKOVÁ","Beatrix","6.B",null,723.71012751151648,619.63603624551979,561.91087155264449,737.33600000000001,707,{"$f":"K48","v":430.7},402.66666666666669,0,0,0,0,0,455.75,689.4494806421153,0,5328.1591826184631]
["15.",{"$f":"B49","v":"KUBÁTOVÁ"},"Veronika","6.B",null,604.63113483346899,479.91615391068365,0,513.005,0,130.4,0,0,0,0,0,0,5.75,482.45420207743166,0,2216.1564908215842]
[]
[]
[]
[]
[]
[]
[]
[]
[]
[]
[]
[]
[]
[]
[null,null,null,null,null,"60  m  ","300m","800m","dálka","výška","míček","koule","člunek","lehsed","odbíjení ","plavání","šplh","švihadlo","z místa"," REPRE","   CELKEM"]
[null,{"$f":"'D60'!B101","v":"HEJRALOVÁ"},{"$f":"'D60'!C101","v":"Natálie"},{"$f":"'D60'!D101","v":"6.A"},null,{"$f":"'D60'!H101","v":764.81691876127945},{"$f":"'D300'!H101","v":756.23959004337871},{"$f":"'D800'!H101","v":673.34442054850729},{"$f":"Ddál!H101","v":728.64100000000008},{"$f":"Dvýš!H101","v":739.5},{"$f":"Dmíč!H101","v":421.6},{"$f":"Dkou!H101","v":320},{"$f":"Dčlu!H101","v":617.84669144425982},{"$f":"Dls!H101","v":0},{"$f":"Dodbíj!H101","v":0},{"$f":"Dplav!H101","v":0},{"$f":"Dšplh!H101","v":0},{"$f":"Dšvih!H101","v":624.5},{"$f":"'Dz mís'!H101","v":571.83852691218135},{"$f":"Drepre!E4","v":0},{"$f":"SUM(F35:T35)","v":6218.3271477096059}]
[null,{"$f":"'D60'!B102","v":"KERLE"},{"$f":"'D60'!C102","v":"Nikita"},{"$f":"'D60'!D102","v":"6.A"},null,{"$f":"'D60'!H102","v":751.7160542614314},{"$f":"'D300'!H102","v":768.02511733568667},{"$f":"'D800'!H102","v":755.40310173832825},{"$f":"Ddál!H102","v":786.02800000000002},{"$f":"Dvýš!H102","v":739.5},{"$f":"Dmíč!H102","v":376.1},{"$f":"Dkou!H102","v":293.33333333333331},{"$f":"Dčlu!H102","v":652.68792273443864},{"$f":"Dls!H102","v":0},{"$f":"Dodbíj!H102","v":0},{"$f":"Dplav!H102","v":0},{"$f":"Dšplh!H102","v":522.60152998285719},{"$f":"Dšvih!H102","v":624.5},{"$f":"'Dz mís'!H102","v":642.40509915014172},{"$f":"Drepre!E5","v":50},{"$f":"SUM(F36:T36)","v":6962.3001585362172}]
[null,{"$f":"'D60'!B103","v":"PACLÍKOVÁ"},{"$f":"'D60'!C103","v":"Markéta"},{"$f":"'D60'!D103","v":"6.A"},null,{"$f":"'D60'!H103","v":768.99822259593907},{"$f":"'D300'!H103","v":670.79797849383704},{"$f":"'D800'!H103","v":637.21046182744692},{"$f":"Ddál!H103","v":712.99},{"$f":"Dvýš!H103","v":772},{"$f":"Dmíč!H103","v":494.40000000000003},{"$f":"Dkou!H103","v":400},{"$f":"Dčlu!H103","v":665.3271387095914},{"$f":"Dls!H103","v":0},{"$f":"Dodbíj!H103","v":0},{"$f":"Dplav!H103","v":0},{"$f":"Dšplh!H103","v":451.69735399586978},{"$f":"Dšvih!H103","v":687},{"$f":"'Dz mís'!H103","v":731.78942398489153},{"$f":"Drepre!E6","v":0},{"$f":"SUM(F37:T37)","v":6992.2105796075757}]
[null,{"$f":"'D60'!B104","v":"PLŮCHOVÁ"},{"$f":"'D60'!C104","v":"Michaela"},{"$f":"'D60'!D104","v":"6.A"},null,{"$f":"'D60'!H104","v":768.99822259593907},{"$f":"'D300'!H104","v":670.50457240622723},{"$f":"'D800'!H104","v":0},{"$f":"Ddál!H104","v":683.42700000000002},{"$f":"Dvýš!H104","v":707},{"$f":"Dmíč!H104","v":348.8},{"$f":"Dkou!H104","v":434.66666666666663},{"$f":"Dčlu!H104","v":655.80618679842246},{"$f":"Dls!H104","v":0},{"$f":"Dodbíj!H104","v":0},{"$f":"Dplav!H104","v":0},{"$f":"Dšplh!H104","v":402.00334092341575},{"$f":"Dšvih!H104","v":755.75},{"$f":"'Dz mís'!H104","v":684.74504249291795},{"$f":"Drepre!E7","v":0},{"$f":"SUM(F38:T38)","v":6111.7010318835892}]
[null,{"$f":"'D60'!B105","v":"ŠERCLOVÁ"},{"$f":"'D60'!C105","v":"Nikola"},{"$f":"'D60'!D105","v":"6.A"},null,{"$f":"'D60'!H105","v":615.05021777438014},{"$f":"'D300'!H105","v":453.50292675528885},{"$f":"'D800'!H105","v":523.33066151160835},{"$f":"Ddál!H105","v":605.17200000000003},{"$f":"Dvýš!H105","v":0},{"$f":"Dmíč!H105","v":0},{"$f":"Dkou!H105","v":295.11111111111114},{"$f":"Dčlu!H105","v":0},{"$f":"Dls!H105","v":0},{"$f":"Dodbíj!H105","v":0},{"$f":"Dplav!H105","v":0},{"$f":"Dšplh!H105","v":0},{"$f":"Dšvih!H105","v":218.25},{"$f":"'Dz mís'!H105","v":553.02077431539215},{"$f":"Drepre!E8","v":0},{"$f":"SUM(F39:T39)","v":3263.4376914677805}]
[null,{"$f":"'D60'!B106","v":"VÁCLAVÍKOVÁ"},{"$f":"'D60'!C106","v":"Alena"},{"$f":"'D60'!D106","v":"6.A"},null,{"$f":"'D60'!H106","v":732.82791466699018},{"$f":"'D300'!H106","v":619.63603624551979},{"$f":"'D800'!H106","v":637.17574642194563},{"$f":"Ddál!H106","v":667.77600000000007},{"$f":"Dvýš!H106","v":609.5},{"$f":"Dmíč!H106","v":0},{"$f":"Dkou!H106","v":299.5555555555556},{"$f":"Dčlu!H106","v":625.80173157318779},{"$f":"Dls!H106","v":0},{"$f":"Dodbíj!H106","v":0},{"$f":"Dplav!H106","v":0},{"$f":"Dšplh!H106","v":0},{"$f":"Dšvih!H106","v":562},{"$f":"'Dz mís'!H106","v":632.99622285174701},{"$f":"Drepre!E9","v":0},{"$f":"SUM(F40:T40)","v":5387.2692073149465}]
[null,{"$f":"'D60'!B107","v":"DUCHÁČKOVÁ"},{"$f":"'D60'!C107","v":"Tereza"},{"$f":"'D60'!D107","v":"6.B"},null,{"$f":"'D60'!H107","v":639.88299981462433},{"$f":"'D300'!H107","v":519.53535007402104},{"$f":"'D800'!H107","v":0},{"$f":"Ddál!H107","v":645.16899999999998},{"$f":"Dvýš!H107","v":544.5},{"$f":"Dmíč!H107","v":230.5},{"$f":"Dkou!H107","v":0},{"$f":"Dčlu!H107","v":546.05532065801185},{"$f":"Dls!H107","v":0},{"$f":"Dodbíj!H107","v":0},{"$f":"Dplav!H107","v":0},{"$f":"Dšplh!H107","v":0},{"$f":"Dšvih!H107","v":312},{"$f":"'Dz mís'!H107","v":426.00094428706336},{"$f":"Drepre!E10","v":0},{"$f":"SUM(F41:T41)","v":3863.6436148337207}]
[null,{"$f":"'D60'!B108","v":"FLAŠKOVÁ"},{"$f":"'D60'!C108","v":"Anna Sabriel"},{"$f":"'D60'!D108","v":"6.B"},null,{"$f":"'D60'!H108","v":659.5843689488986},{"$f":"'D300'!H108","v":538.79696647240939},{"$f":"'D800'!H108","v":0},{"$f":"Ddál!H108","v":662.55900000000008},{"$f":"Dvýš!H108","v":674.5},{"$f":"Dmíč!H108","v":421.6},{"$f":"Dkou!H108","v":268.44444444444446},{"$f":"Dčlu!H108","v":571.78814289533375},{"$f":"Dls!H108","v":0},{"$f":"Dodbíj!H108","v":0},{"$f":"Dplav!H108","v":0},{"$f":"Dšplh!H108","v":0},{"$f":"Dšvih!H108","v":287},{"$f":"'Dz mís'!H108","v":411.88762983947129},{"$f":"Drepre!E11","v":0},{"$f":"SUM(F42:T42)","v":4496.1605526005578}]
[null,{"$f":"'D60'!B109","v":"HAASOVÁ"},{"$f":"'D60'!C109","v":"Julie"},{"$f":"'D60'!D109","v":"6.B"},null,{"$f":"'D60'!H109","v":763.9857211271443},{"$f":"'D300'!H109","v":669.18664679821393},{"$f":"'D800'!H109","v":631.66145534433963},{"$f":"Ddál!H109","v":765.16000000000008},{"$f":"Dvýš!H109","v":674.5},{"$f":"Dmíč!H109","v":421.6},{"$f":"Dkou!H109","v":0},{"$f":"Dčlu!H109","v":583.21005299763783},{"$f":"Dls!H109","v":0},{"$f":"Dodbíj!H109","v":0},{"$f":"Dplav!H109","v":0},{"$f":"Dšplh!H109","v":416.63405220911045},{"$f":"Dšvih!H109","v":493.25},{"$f":"'Dz mís'!H109","v":694.15391879131289},{"$f":"Drepre!E12","v":0},{"$f":"SUM(F43:T43)","v":6113.3418472677586}]
[null,{"$f":"'D60'!B110","v":"HOBLOVÁ"},{"$f":"'D60'!C110","v":"Barbora"},{"$f":"'D60'!D110","v":"6.B"},null,{"$f":"'D60'!H110","v":746.91003059980244},{"$f":"'D300'!H110","v":640.1947661850287},{"$f":"'D800'!H110","v":607.09173098645749},{"$f":"Ddál!H110","v":619.08400000000006},{"$f":"Dvýš!H110","v":609.5},{"$f":"Dmíč!H110","v":376.1},{"$f":"Dkou!H110","v":0},{"$f":"Dčlu!H110","v":618.97178974535893},{"$f":"Dls!H110","v":0},{"$f":"Dodbíj!H110","v":0},{"$f":"Dplav!H110","v":0},{"$f":"Dšplh!H110","v":463.73901635703703},{"$f":"Dšvih!H110","v":612},{"$f":"'Dz mís'!H110","v":581.24740321057607},{"$f":"Drepre!E13","v":0},{"$f":"SUM(F44:T44)","v":5874.8387370842611}]
[null,{"$f":"'D60'!B111","v":"HORÁČKOVÁ"},{"$f":"'D60'!C111","v":"Valérie"},{"$f":"'D60'!D111","v":"6.B"},null,{"$f":"'D60'!H111","v":749.30589769772052},{"$f":"'D300'!H111","v":706.36402433031185},{"$f":"'D800'!H111","v":600.17157606395335},{"$f":"Ddál!H111","v":664.298},{"$f":"Dvýš!H111","v":642},{"$f":"Dmíč!H111","v":367},{"$f":"Dkou!H111","v":394.66666666666669},{"$f":"Dčlu!H111","v":652.68792273443864},{"$f":"Dls!H111","v":0},{"$f":"Dodbíj!H111","v":0},{"$f":"Dplav!H111","v":674.28398581016302},{"$f":"Dšplh!H111","v":0},{"$f":"Dšvih!H111","v":0},{"$f":"'Dz mís'!H111","v":675.33616619452323},{"$f":"Drepre!E14","v":0},{"$f":"SUM(F45:T45)","v":6126.1142394977778}]
[null,{"$f":"'D60'!B112","v":"JIRANOVÁ"},{"$f":"'D60'!C112","v":"Anežka"},{"$f":"'D60'!D112","v":"6.B"},null,{"$f":"'D60'!H112","v":543.37457357976371},{"$f":"'D300'!H112","v":0},{"$f":"'D800'!H112","v":386.43569901332626},{"$f":"Ddál!H112","v":570.39200000000005},{"$f":"Dvýš!H112","v":512},{"$f":"Dmíč!H112","v":321.5},{"$f":"Dkou!H112","v":271.11111111111109},{"$f":"Dčlu!H112","v":528.62145157084524},{"$f":"Dls!H112","v":0},{"$f":"Dodbíj!H112","v":0},{"$f":"Dplav!H112","v":0},{"$f":"Dšplh!H112","v":0},{"$f":"Dšvih!H112","v":280.75},{"$f":"'Dz mís'!H112","v":336.61661945231356},{"$f":"Drepre!E15","v":0},{"$f":"SUM(F46:T46)","v":3750.8014547273601}]
[null,{"$f":"'D60'!B113","v":"JODASOVÁ"},{"$f":"'D60'!C113","v":"Denisa"},{"$f":"'D60'!D113","v":"6.B"},null,{"$f":"'D60'!H113","v":727.48356080070721},{"$f":"'D300'!H113","v":0},{"$f":"'D800'!H113","v":614.47106332192413},{"$f":"Ddál!H113","v":756.46500000000003},{"$f":"Dvýš!H113","v":0},{"$f":"Dmíč!H113","v":603.6},{"$f":"Dkou!H113","v":396.44444444444446},{"$f":"Dčlu!H113","v":684.47261289911864},{"$f":"Dls!H113","v":0},{"$f":"Dodbíj!H113","v":0},{"$f":"Dplav!H113","v":0},{"$f":"Dšplh!H113","v":475.87076351287016},{"$f":"Dšvih!H113","v":555.75},{"$f":"'Dz mís'!H113","v":665.92728989612851},{"$f":"Drepre!E16","v":0},{"$f":"SUM(F47:T47)","v":5480.4847348751937}]
[null,{"$f":"'D60'!B114","v":"KRČÍKOVÁ"},{"$f":"'D60'!C114","v":"Beatrix"},{"$f":"'D60'!D114","v":"6.B"},null,{"$f":"'D60'!H114","v":723.71012751151648},{"$f":"'D300'!H114","v":619.63603624551979},{"$f":"'D800'!H114","v":561.91087155264449},{"$f":"Ddál!H114","v":737.33600000000001},{"$f":"Dvýš!H114","v":707},{"$f":"Dmíč!H114","v":430.7},{"$f":"Dkou!H114","v":402.66666666666669},{"$f":"Dčlu!H114","v":0},{"$f":"Dls!H114","v":0},{"$f":"Dodbíj!H114","v":0},{"$f":"Dplav!H114","v":0},{"$f":"Dšplh!H114","v":0},{"$f":"Dšvih!H114","v":455.75},{"$f":"'Dz mís'!H114","v":689.4494806421153},{"$f":"Drepre!E17","v":0},{"$f":"SUM(F48:T48)","v":5328.1591826184631}]
[null,{"$f":"'D60'!B115","v":"KUBÁTOVÁ"},{"$f":"'D60'!C115","v":"Veronika"},{"$f":"'D60'!D115","v":"6.B"},null,{"$f":"'D60'!H115","v":604.63113483346899},{"$f":"'D300'!H115","v":479.91615391068365},{"$f":"'D800'!H115","v":0},{"$f":"Ddál!H115","v":513.005},{"$f":"Dvýš!H115","v":0},{"$f":"Dmíč!H115","v":130.4},{"$f":"Dkou!H115","v":0},{"$f":"Dčlu!H115","v":0},{"$f":"Dls!H115","v":0},{"$f":"Dodbíj!H115","v":0},{"$f":"Dplav!H115","v":0},{"$f":"Dšplh!H115","v":0},{"$f":"Dšvih!H115","v":5.75},{"$f":"'Dz mís'!H115","v":482.45420207743166},{"$f":"Drepre!E18","v":0},{"$f":"SUM(F49:T49)","v":2216.1564908215842}]
[null,{"$f":"'D60'!B116","v":"LENČEŠOVÁ"},{"$f":"'D60'!C116","v":"Silvie"},{"$f":"'D60'!D116","v":"6.B"},null,{"$f":"'D60'!H116","v":646.53231841435979},{"$f":"'D300'!H116","v":574.76074862463793},{"$f":"'D800'!H116","v":593.10248629938815},{"$f":"Ddál!H116","v":619.08400000000006},{"$f":"Dvýš!H116","v":544.5},{"$f":"Dmíč!H116","v":385.2},{"$f":"Dkou!H116","v":221.33333333333334},{"$f":"Dčlu!H116","v":590.36732995249474},{"$f":"Dls!H116","v":0},{"$f":"Dodbíj!H116","v":0},{"$f":"Dplav!H116","v":0},{"$f":"Dšplh!H116","v":0},{"$f":"Dšvih!H116","v":593.25},{"$f":"'Dz mís'!H116","v":505.97639282341834},{"$f":"Drepre!E19","v":0},{"$f":"SUM(F50:T50)","v":5274.1066094476319}]
[null,{"$f":"'D60'!B117","v":"MATERNOVÁ"},{"$f":"'D60'!C117","v":"Lenka"},{"$f":"'D60'!D117","v":"6.B"},null,{"$f":"'D60'!H117","v":833.3097863898613},{"$f":"'D300'!H117","v":778.80544947747217},{"$f":"'D800'!H117","v":655.44352801799789},{"$f":"Ddál!H117","v":627.779},{"$f":"Dvýš!H117","v":707},{"$f":"Dmíč!H117","v":285.10000000000002},{"$f":"Dkou!H117","v":0},{"$f":"Dčlu!H117","v":631.59937482670045},{"$f":"Dls!H117","v":0},{"$f":"Dodbíj!H117","v":0},{"$f":"Dplav!H117","v":0},{"$f":"Dšplh!H117","v":704.07752050220381},{"$f":"Dšvih!H117","v":343.25},{"$f":"'Dz mís'!H117","v":520.08970727101064},{"$f":"Drepre!E20","v":0},{"$f":"SUM(F51:T51)","v":6086.4543664852454}]
[null,{"$f":"'D60'!B118","v":"TÓTHOVÁ"},{"$f":"'D60'!C118","v":"Viktorie"},{"$f":"'D60'!D118","v":"6.B"},null,{"$f":"'D60'!H118","v":665.3271387095914},{"$f":"'D300'!H118","v":580.75532269516316},{"$f":"'D800'!H118","v":504.45661030126666},{"$f":"Ddál!H118","v":669.51499999999999},{"$f":"Dvýš!H118","v":642},{"$f":"Dmíč!H118","v":403.40000000000003},{"$f":"Dkou!H118","v":297.77777777777777},{"$f":"Dčlu!H118","v":557.02127698413892},{"$f":"Dls!H118","v":0},{"$f":"Dodbíj!H118","v":0},{"$f":"Dplav!H118","v":0},{"$f":"Dšplh!H118","v":0},{"$f":"Dšvih!H118","v":380.75},{"$f":"'Dz mís'!H118","v":661.22285174693116},{"$f":"Drepre!E21","v":0},{"$f":"SUM(F52:T52)","v":5362.2259782148694}]
[null,{"$f":"'D60'!B119","v":"ERBENOVÁ"},{"$f":"'D60'!C119","v":"Sára"},{"$f":"'D60'!D119","v":"7.A"},null,{"$f":"'D60'!H119","v":656.43312199444438},{"$f":"'D300'!H119","v":451.66914191880301},{"$f":"'D800'!H119","v":418.97629834610166},{"$f":"Ddál!H119","v":599.95500000000004},{"$f":"Dvýš!H119","v":0},{"$f":"Dmíč!H119","v":266.90000000000003},{"$f":"Dkou!H119","v":0},{"$f":"Dčlu!H119","v":576.20885373338524},{"$f":"Dls!H119","v":0},{"$f":"Dodbíj!H119","v":51},{"$f":"Dplav!H119","v":0},{"$f":"Dšplh!H119","v":0},{"$f":"Dšvih!H119","v":0},{"$f":"'Dz mís'!H119","v":491.86307837582638},{"$f":"Drepre!E22","v":0},{"$f":"SUM(F53:T53)","v":3513.0054943685609}]
[null,{"$f":"'D60'!B120","v":"GINGALOVÁ"},{"$f":"'D60'!C120","v":"Linda"},{"$f":"'D60'!D120","v":"7.A"},null,{"$f":"'D60'!H120","v":794.11228809658292},{"$f":"'D300'!H120","v":0},{"$f":"'D800'!H120","v":419.04740926554416},{"$f":"Ddál!H120","v":733.85800000000006},{"$f":"Dvýš!H120","v":739.5},{"$f":"Dmíč!H120","v":439.8},{"$f":"Dkou!H120","v":0},{"$f":"Dčlu!H120","v":0},{"$f":"Dls!H120","v":0},{"$f":"Dodbíj!H120","v":0},{"$f":"Dplav!H120","v":0},{"$f":"Dšplh!H120","v":0},{"$f":"Dšvih!H120","v":593.25},{"$f":"'Dz mís'!H120","v":0},{"$f":"Drepre!E23","v":75},{"$f":"SUM(F54:T54)","v":3794.5676973621275}]
[null,{"$f":"'D60'!B121","v":"HOFMANOVÁ "},{"$f":"'D60'!C121","v":"Nicol"},{"$f":"'D60'!D121","v":"7.A"},null,{"$f":"'D60'!H121","v":687.87633336416366},{"$f":"'D300'!H121","v":0},{"$f":"'D800'!H121","v":0},{"$f":"Ddál!H121","v":617.34500000000003},{"$f":"Dvýš!H121","v":0},{"$f":"Dmíč!H121","v":394.3},{"$f":"Dkou!H121","v":454.22222222222223},{"$f":"Dčlu!H121","v":527.35433139491965},{"$f":"Dls!H121","v":0},{"$f":"Dodbíj!H121","v":51},{"$f":"Dplav!H121","v":0},{"$f":"Dšplh!H121","v":0},{"$f":"Dšvih!H121","v":368.25},{"$f":"'Dz mís'!H121","v":604.76959395656286},{"$f":"Drepre!E24","v":0},{"$f":"SUM(F55:T55)","v":3705.1174809378681}]
[null,{"$f":"'D60'!B122","v":"HOLEŠOVSKÁ"},{"$f":"'D60'!C122","v":"Aneta"},{"$f":"'D60'!D122","v":"7.A"},null,{"$f":"'D60'!H122","v":717.00842382207418},{"$f":"'D300'!H122","v":0},{"$f":"'D800'!H122","v":455.65056986658033},{"$f":"Ddál!H122","v":679.94900000000007},{"$f":"Dvýš!H122","v":0},{"$f":"Dmíč!H122","v":496.22},{"$f":"Dkou!H122","v":0},{"$f":"Dčlu!H122","v":0},{"$f":"Dls!H122","v":0},{"$f":"Dodbíj!H122","v":0},{"$f":"Dplav!H122","v":0},{"$f":"Dšplh!H122","v":0},{"$f":"Dšvih!H122","v":1124.5},{"$f":"'Dz mís'!H122","v":0},{"$f":"Drepre!E25","v":25},{"$f":"SUM(F56:T56)","v":3498.3279936886547}]
[null,{"$f":"'D60'!B123","v":"HOLUBCOVÁ"},{"$f":"'D60'!C123","v":"Alena"},{"$f":"'D60'!D123","v":"7.A"},null,{"$f":"'D60'!H123","v":797.69637307457981},{"$f":"'D300'!H123","v":592.28967736506092},{"$f":"'D800'!H123","v":563.07051451235554},{"$f":"Ddál!H123","v":678.21},{"$f":"Dvýš!H123","v":739.5},{"$f":"Dmíč!H123","v":704.79200000000003},{"$f":"Dkou!H123","v":546.66666666666663},{"$f":"Dčlu!H123","v":608.97859476139763},{"$f":"Dls!H123","v":0},{"$f":"Dodbíj!H123","v":30},{"$f":"Dplav!H123","v":0},{"$f":"Dšplh!H123","v":0},{"$f":"Dšvih!H123","v":499.5},{"$f":"'Dz mís'!H123","v":717.67610953729945},{"$f":"Drepre!E26","v":75},{"$f":"SUM(F57:T57)","v":6553.3799359173599}]
[null,{"$f":"'D60'!B124","v":"KOHOUTOVÁ"},{"$f":"'D60'!C124","v":"Anna"},{"$f":"'D60'!D124","v":"7.A"},null,{"$f":"'D60'!H124","v":655.18034956246345},{"$f":"'D300'!H124","v":493.45159045830121},{"$f":"'D800'!H124","v":529.27534303492848},{"$f":"Ddál!H124","v":579.08699999999999},{"$f":"Dvýš!H124","v":674.5},{"$f":"Dmíč!H124","v":294.2},{"$f":"Dkou!H124","v":329.77777777777777},{"$f":"Dčlu!H124","v":537.210945550926},{"$f":"Dls!H124","v":0},{"$f":"Dodbíj!H124","v":21},{"$f":"Dplav!H124","v":0},{"$f":"Dšplh!H124","v":0},{"$f":"Dšvih!H124","v":537},{"$f":"'Dz mís'!H124","v":482.45420207743166},{"$f":"Drepre!E27","v":0},{"$f":"SUM(F58:T58)","v":5133.1372084618279}]
[null,{"$f":"'D60'!B125","v":"KRAUSOVÁ"},{"$f":"'D60'!C125","v":"Anežka"},{"$f":"'D60'!D125","v":"7.A"},null,{"$f":"'D60'!H125","v":657.69029784446377},{"$f":"'D300'!H125","v":540.07439954650465},{"$f":"'D800'!H125","v":0},{"$f":"Ddál!H125","v":718.20699999999999},{"$f":"Dvýš!H125","v":674.5},{"$f":"Dmíč!H125","v":321.5},{"$f":"Dkou!H125","v":457.77777777777777},{"$f":"Dčlu!H125","v":608.43204931833054},{"$f":"Dls!H125","v":0},{"$f":"Dodbíj!H125","v":48},{"$f":"Dplav!H125","v":0},{"$f":"Dšplh!H125","v":0},{"$f":"Dšvih!H125","v":499.5},{"$f":"'Dz mís'!H125","v":618.88290840415493},{"$f":"Drepre!E28","v":0},{"$f":"SUM(F59:T59)","v":5144.5644328912313}]
[null,{"$f":"'D60'!B126","v":"KUŽELOVÁ"},{"$f":"'D60'!C126","v":"Apoléna"},{"$f":"'D60'!D126","v":"7.A"},null,{"$f":"'D60'!H126","v":737.46694504589846},{"$f":"'D300'!H126","v":0},{"$f":"'D800'!H126","v":488.10368199990887},{"$f":"Ddál!H126","v":660.82},{"$f":"Dvýš!H126","v":674.5},{"$f":"Dmíč!H126","v":403.40000000000003},{"$f":"Dkou!H126","v":0},{"$f":"Dčlu!H126","v":0},{"$f":"Dls!H126","v":0},{"$f":"Dodbíj!H126","v":0},{"$f":"Dplav!H126","v":0},{"$f":"Dšplh!H126","v":0},{"$f":"Dšvih!H126","v":843.25},{"$f":"'Dz mís'!H126","v":0},{"$f":"Drepre!E29","v":0},{"$f":"SUM(F60:T60)","v":3807.5406270458075}]
[null,{"$f":"'D60'!B127","v":"MORÁVKOVÁ"},{"$f":"'D60'!C127","v":"Lucie"},{"$f":"'D60'!D127","v":"7.A"},null,{"$f":"'D60'!H127","v":635.12532875773047},{"$f":"'D300'!H127","v":0},{"$f":"'D800'!H127","v":454.84249733175227},{"$f":"Ddál!H127","v":0},{"$f":"Dvýš!H127","v":0},{"$f":"Dmíč!H127","v":330.6},{"$f":"Dkou!H127","v":0},{"$f":"Dčlu!H127","v":0},{"$f":"Dls!H127","v":0},{"$f":"Dodbíj!H127","v":0},{"$f":"Dplav!H127","v":0},{"$f":"Dšplh!H127","v":0},{"$f":"Dšvih!H127","v":0},{"$f":"'Dz mís'!H127","v":0},{"$f":"Drepre!E30","v":0},{"$f":"SUM(F61:T61)","v":1420.5678260894829}]
[null,{"$f":"'D60'!B128","v":"SKLENÁROVÁ"},{"$f":"'D60'!C128","v":"Eliška"},{"$f":"'D60'!D128","v":"7.A"},null,{"$f":"'D60'!H128","v":0},{"$f":"'D300'!H128","v":0},{"$f":"'D800'!H128","v":0},{"$f":"Ddál!H128","v":598.21600000000001},{"$f":"Dvýš!H128","v":674.5},{"$f":"Dmíč!H128","v":0},{"$f":"Dkou!H128","v":0},{"$f":"Dčlu!H128","v":551.03251424856637},{"$f":"Dls!H128","v":0},{"$f":"Dodbíj!H128","v":21},{"$f":"Dplav!H128","v":0},{"$f":"Dšplh!H128","v":0},{"$f":"Dšvih!H128","v":337},{"$f":"'Dz mís'!H128","v":595.36071765816814},{"$f":"Drepre!E31","v":0},{"$f":"SUM(F62:T62)","v":2777.1092319067343}]
[null,{"$f":"'D60'!B129","v":"ŠEJNOVÁ"},{"$f":"'D60'!C129","v":"Karolína"},{"$f":"'D60'!D129","v":"7.A"},null,{"$f":"'D60'!H129","v":0},{"$f":"'D300'!H129","v":562.69902446382548},{"$f":"'D800'!H129","v":424.77844304964663},{"$f":"Ddál!H129","v":652.125},{"$f":"Dvýš!H129","v":642},{"$f":"Dmíč!H129","v":294.2},{"$f":"Dkou!H129","v":357.33333333333337},{"$f":"Dčlu!H129","v":594.00613769175322},{"$f":"Dls!H129","v":0},{"$f":"Dodbíj!H129","v":51},{"$f":"Dplav!H129","v":0},{"$f":"Dšplh!H129","v":0},{"$f":"Dšvih!H129","v":299.5},{"$f":"'Dz mís'!H129","v":694.15391879131289},{"$f":"Drepre!E32","v":0},{"$f":"SUM(F63:T63)","v":4571.795857329872}]
[null,{"$f":"'D60'!B130","v":"ŠTOLFOVÁ"},{"$f":"'D60'!C130","v":"Tereza"},{"$f":"'D60'!D130","v":"7.A"},null,{"$f":"'D60'!H130","v":698.27711706932837},{"$f":"'D300'!H130","v":602.28510060972189},{"$f":"'D800'!H130","v":0},{"$f":"Ddál!H130","v":669.51499999999999},{"$f":"Dvýš!H130","v":707},{"$f":"Dmíč!H130","v":266.90000000000003},{"$f":"Dkou!H130","v":319.11111111111109},{"$f":"Dčlu!H130","v":0},{"$f":"Dls!H130","v":0},{"$f":"Dodbíj!H130","v":48},{"$f":"Dplav!H130","v":0},{"$f":"Dšplh!H130","v":0},{"$f":"Dšvih!H130","v":343.25},{"$f":"'Dz mís'!H130","v":0},{"$f":"Drepre!E33","v":0},{"$f":"SUM(F64:T64)","v":3654.3383287901615}]
[null,{"$f":"'D60'!B131","v":"ŠUBÍKOVÁ"},{"$f":"'D60'!C131","v":"Klára"},{"$f":"'D60'!D131","v":"7.A"},null,{"$f":"'D60'!H131","v":717.74738416539685},{"$f":"'D300'!H131","v":632.60272006797732},{"$f":"'D800'!H131","v":559.88378892187495},{"$f":"Ddál!H131","v":709.51200000000006},{"$f":"Dvýš!H131","v":739.5},{"$f":"Dmíč!H131","v":403.40000000000003},{"$f":"Dkou!H131","v":306.66666666666669},{"$f":"Dčlu!H131","v":611.724805828125},{"$f":"Dls!H131","v":0},{"$f":"Dodbíj!H131","v":30},{"$f":"Dplav!H131","v":0},{"$f":"Dšplh!H131","v":446.12658522873272},{"$f":"Dšvih!H131","v":487},{"$f":"'Dz mís'!H131","v":623.58734655335252},{"$f":"Drepre!E34","v":75},{"$f":"SUM(F65:T65)","v":6342.7512974321253}]
[null,{"$f":"'D60'!B132","v":"ŠULKOVSKÁ"},{"$f":"'D60'!C132","v":"Klára"},{"$f":"'D60'!D132","v":"7.A"},null,{"$f":"'D60'!H132","v":650.82999098665505},{"$f":"'D300'!H132","v":482.45431100819201},{"$f":"'D800'!H132","v":0},{"$f":"Ddál!H132","v":648.64700000000005},{"$f":"Dvýš!H132","v":0},{"$f":"Dmíč!H132","v":385.2},{"$f":"Dkou!H132","v":379.55555555555549},{"$f":"Dčlu!H132","v":0},{"$f":"Dls!H132","v":0},{"$f":"Dodbíj!H132","v":51},{"$f":"Dplav!H132","v":0},{"$f":"Dšplh!H132","v":453.88588857617077},{"$f":"Dšvih!H132","v":249.5},{"$f":"'Dz mís'!H132","v":0},{"$f":"Drepre!E35","v":0},{"$f":"SUM(F66:T66)","v":3301.0727461265733}]
[null,{"$f":"'D60'!B133","v":"TULÁČKOVÁ"},{"$f":"'D60'!C133","v":"Natálie"},{"$f":"'D60'!D133","v":"7.A"},null,{"$f":"'D60'!H133","v":725.21514686570504},{"$f":"'D300'!H133","v":0},{"$f":"'D800'!H133","v":526.13715158126945},{"$f":"Ddál!H133","v":672.99300000000005},{"$f":"Dvýš!H133","v":0},{"$f":"Dmíč!H133","v":367},{"$f":"Dkou!H133","v":0},{"$f":"Dčlu!H133","v":0},{"$f":"Dls!H133","v":0},{"$f":"Dodbíj!H133","v":0},{"$f":"Dplav!H133","v":0},{"$f":"Dšplh!H133","v":0},{"$f":"Dšvih!H133","v":699.5},{"$f":"'Dz mís'!H133","v":0},{"$f":"Drepre!E36","v":0},{"$f":"SUM(F67:T67)","v":2990.8452984469745}]
[null,{"$f":"'D60'!B134","v":"VOJTÍŠKOVÁ"},{"$f":"'D60'!C134","v":"Ella"},{"$f":"'D60'!D134","v":"7.A"},null,{"$f":"'D60'!H134","v":797.69637307457981},{"$f":"'D300'!H134","v":0},{"$f":"'D800'!H134","v":466.57227295935957},{"$f":"Ddál!H134","v":784.2890000000001},{"$f":"Dvýš!H134","v":824},{"$f":"Dmíč!H134","v":0},{"$f":"Dkou!H134","v":0},{"$f":"Dčlu!H134","v":0},{"$f":"Dls!H134","v":0},{"$f":"Dodbíj!H134","v":0},{"$f":"Dplav!H134","v":0},{"$f":"Dšplh!H134","v":0},{"$f":"Dšvih!H134","v":687},{"$f":"'Dz mís'!H134","v":0},{"$f":"Drepre!E37","v":125},{"$f":"SUM(F68:T68)","v":3684.5576460339394}]
[null,{"$f":"'D60'!B135","v":"DRUGÁČOVÁ"},{"$f":"'D60'!C135","v":"Kristinka"},{"$f":"'D60'!D135","v":"7.B"},null,{"$f":"'D60'!H135","v":0},{"$f":"'D300'!H135","v":0},{"$f":"'D800'!H135","v":0},{"$f":"Ddál!H135","v":747.7700000000001},{"$f":"Dvýš!H135","v":0},{"$f":"Dmíč!H135","v":0},{"$f":"Dkou!H135","v":484.44444444444446},{"$f":"Dčlu!H135","v":0},{"$f":"Dls!H135","v":0},{"$f":"Dodbíj!H135","v":0},{"$f":"Dplav!H135","v":0},{"$f":"Dšplh!H135","v":0},{"$f":"Dšvih!H135","v":0},{"$f":"'Dz mís'!H135","v":0},{"$f":"Drepre!E38","v":0},{"$f":"SUM(F69:T69)","v":1232.2144444444446}]
[null,{"$f":"'D60'!B136","v":"FAJSTAVROVÁ"},{"$f":"'D60'!C136","v":"Karolína"},{"$f":"'D60'!D136","v":"7.B"},null,{"$f":"'D60'!H136","v":845.17953880303025},{"$f":"'D300'!H136","v":0},{"$f":"'D800'!H136","v":708.09115153027676},{"$f":"Ddál!H136","v":699.07800000000009},{"$f":"Dvýš!H136","v":0},{"$f":"Dmíč!H136","v":558.1},{"$f":"Dkou!H136","v":0},{"$f":"Dčlu!H136","v":0},{"$f":"Dls!H136","v":0},{"$f":"Dodbíj!H136","v":0},{"$f":"Dplav!H136","v":0},{"$f":"Dšplh!H136","v":0},{"$f":"Dšvih!H136","v":974.5},{"$f":"'Dz mís'!H136","v":0},{"$f":"Drepre!E39","v":75},{"$f":"SUM(F70:T70)","v":3859.9486903333068}]
[null,{"$f":"'D60'!B137","v":"FAJSTAVROVÁ"},{"$f":"'D60'!C137","v":"Magdaléna"},{"$f":"'D60'!D137","v":"7.B"},null,{"$f":"'D60'!H137","v":783.53775638464185},{"$f":"'D300'!H137","v":0},{"$f":"'D800'!H137","v":773.28098002623869},{"$f":"Ddál!H137","v":688.64400000000001},{"$f":"Dvýš!H137","v":0},{"$f":"Dmíč!H137","v":521.70000000000005},{"$f":"Dkou!H137","v":0},{"$f":"Dčlu!H137","v":0},{"$f":"Dls!H137","v":0},{"$f":"Dodbíj!H137","v":0},{"$f":"Dplav!H137","v":0},{"$f":"Dšplh!H137","v":444.61657818800001},{"$f":"Dšvih!H137","v":1193.25},{"$f":"'Dz mís'!H137","v":0},{"$f":"Drepre!E40","v":125},{"$f":"SUM(F71:T71)","v":4530.0293145988808}]
[null,{"$f":"'D60'!B138","v":"HLAVATÁ"},{"$f":"'D60'!C138","v":"Anna"},{"$f":"'D60'!D138","v":"7.B"},null,{"$f":"'D60'!H138","v":0},{"$f":"'D300'!H138","v":0},{"$f":"'D800'!H138","v":0},{"$f":"Ddál!H138","v":688.64400000000001},{"$f":"Dvýš!H138","v":0},{"$f":"Dmíč!H138","v":0},{"$f":"Dkou!H138","v":0},{"$f":"Dčlu!H138","v":0},{"$f":"Dls!H138","v":0},{"$f":"Dodbíj!H138","v":0},{"$f":"Dplav!H138","v":0},{"$f":"Dšplh!H138","v":0},{"$f":"Dšvih!H138","v":0},{"$f":"'Dz mís'!H138","v":0},{"$f":"Drepre!E41","v":0},{"$f":"SUM(F72:T72)","v":688.64400000000001}]
[null,{"$f":"'D60'!B139","v":"JINDROVÁ"},{"$f":"'D60'!C139","v":"Barbora"},{"$f":"'D60'!D139","v":"7.B"},null,{"$f":"'D60'!H139","v":696.17384747561709},{"$f":"'D300'!H139","v":0},{"$f":"'D800'!H139","v":567.43249676995072},{"$f":"Ddál!H139","v":685.16600000000005},{"$f":"Dvýš!H139","v":0},{"$f":"Dmíč!H139","v":294.2},{"$f":"Dkou!H139","v":0},{"$f":"Dčlu!H139","v":0},{"$f":"Dls!H139","v":0},{"$f":"Dodbíj!H139","v":0},{"$f":"Dplav!H139","v":0},{"$f":"Dšplh!H139","v":431.27499035838252},{"$f":"Dšvih!H139","v":1187},{"$f":"'Dz mís'!H139","v":0},{"$f":"Drepre!E42","v":75},{"$f":"SUM(F73:T73)","v":3936.2473346039505}]
[null,{"$f":"'D60'!B140","v":"MAŘASOVÁ"},{"$f":"'D60'!C140","v":"Vendula"},{"$f":"'D60'!D140","v":"7.B"},null,{"$f":"'D60'!H140","v":697.57472648144721},{"$f":"'D300'!H140","v":0},{"$f":"'D800'!H140","v":603.64707902109467},{"$f":"Ddál!H140","v":669.51499999999999},{"$f":"Dvýš!H140","v":544.5},{"$f":"Dmíč!H140","v":321.5},{"$f":"Dkou!H140","v":0},{"$f":"Dčlu!H140","v":0},{"$f":"Dls!H140","v":0},{"$f":"Dodbíj!H140","v":0},{"$f":"Dplav!H140","v":0},{"$f":"Dšplh!H140","v":0},{"$f":"Dšvih!H140","v":0},{"$f":"'Dz mís'!H140","v":0},{"$f":"Drepre!E43","v":25},{"$f":"SUM(F74:T74)","v":2861.7368055025418}]
[null,{"$f":"'D60'!B141","v":"PETŘÍČKOVÁ"},{"$f":"'D60'!C141","v":"Natálie"},{"$f":"'D60'!D141","v":"7.B"},null,{"$f":"'D60'!H141","v":857.36937442734074},{"$f":"'D300'!H141","v":752.89899315510479},{"$f":"'D800'!H141","v":621.53297854787229},{"$f":"Ddál!H141","v":803.41800000000001},{"$f":"Dvýš!H141","v":674.5},{"$f":"Dmíč!H141","v":430.7},{"$f":"Dkou!H141","v":0},{"$f":"Dčlu!H141","v":0},{"$f":"Dls!H141","v":0},{"$f":"Dodbíj!H141","v":0},{"$f":"Dplav!H141","v":0},{"$f":"Dšplh!H141","v":575.75936957242288},{"$f":"Dšvih!H141","v":0},{"$f":"'Dz mís'!H141","v":0},{"$f":"Drepre!E44","v":125},{"$f":"SUM(F75:T75)","v":4841.1787157027411}]
[null,{"$f":"'D60'!B142","v":"PETŘÍKOVÁ"},{"$f":"'D60'!C142","v":"Adéla"},{"$f":"'D60'!D142","v":"7.B"},null,{"$f":"'D60'!H142","v":684.47261289911864},{"$f":"'D300'!H142","v":648.06334030489097},{"$f":"'D800'!H142","v":0},{"$f":"Ddál!H142","v":606.91100000000006},{"$f":"Dvýš!H142","v":0},{"$f":"Dmíč!H142","v":294.2},{"$f":"Dkou!H142","v":303.11111111111114},{"$f":"Dčlu!H142","v":542.48626309267445},{"$f":"Dls!H142","v":0},{"$f":"Dodbíj!H142","v":18},{"$f":"Dplav!H142","v":0},{"$f":"Dšplh!H142","v":0},{"$f":"Dšvih!H142","v":180.75},{"$f":"'Dz mís'!H142","v":374.25212464589254},{"$f":"Drepre!E45","v":0},{"$f":"SUM(F76:T76)","v":3652.2464520536878}]
[null,{"$f":"'D60'!B143","v":"REGÁLOVÁ"},{"$f":"'D60'!C143","v":"Karolína"},{"$f":"'D60'!D143","v":"7.B"},null,{"$f":"'D60'!H143","v":716.27086834632451},{"$f":"'D300'!H143","v":0},{"$f":"'D800'!H143","v":461.57655260170975},{"$f":"Ddál!H143","v":669.51499999999999},{"$f":"Dvýš!H143","v":674.5},{"$f":"Dmíč!H143","v":530.80000000000007},{"$f":"Dkou!H143","v":0},{"$f":"Dčlu!H143","v":0},{"$f":"Dls!H143","v":0},{"$f":"Dodbíj!H143","v":0},{"$f":"Dplav!H143","v":0},{"$f":"Dšplh!H143","v":0},{"$f":"Dšvih!H143","v":943.25},{"$f":"'Dz mís'!H143","v":0},{"$f":"Drepre!E46","v":25},{"$f":"SUM(F77:T77)","v":4020.9124209480342}]
[null,{"$f":"'D60'!B144","v":"RIEGROVÁ"},{"$f":"'D60'!C144","v":"Magdaléna"},{"$f":"'D60'!D144","v":"7.B"},null,{"$f":"'D60'!H144","v":0},{"$f":"'D300'!H144","v":0},{"$f":"'D800'!H144","v":0},{"$f":"Ddál!H144","v":629.51800000000003},{"$f":"Dvýš!H144","v":0},{"$f":"Dmíč!H144","v":367},{"$f":"Dkou!H144","v":342.22222222222223},{"$f":"Dčlu!H144","v":577.19966307878315},{"$f":"Dls!H144","v":0},{"$f":"Dodbíj!H144","v":18},{"$f":"Dplav!H144","v":0},{"$f":"Dšplh!H144","v":409.24255262615492},{"$f":"Dšvih!H144","v":593.25},{"$f":"'Dz mís'!H144","v":0},{"$f":"Drepre!E47","v":0},{"$f":"SUM(F78:T78)","v":2936.4324379271602}]
[null,{"$f":"'D60'!B145","v":"RYBENSKÁ"},{"$f":"'D60'!C145","v":"Sabina"},{"$f":"'D60'!D145","v":"7.B"},null,{"$f":"'D60'!H145","v":726.72596590912008},{"$f":"'D300'!H145","v":0},{"$f":"'D800'!H145","v":539.34796670874459},{"$f":"Ddál!H145","v":0},{"$f":"Dvýš!H145","v":0},{"$f":"Dmíč!H145","v":279.64},{"$f":"Dkou!H145","v":0},{"$f":"Dčlu!H145","v":0},{"$f":"Dls!H145","v":0},{"$f":"Dodbíj!H145","v":0},{"$f":"Dplav!H145","v":0},{"$f":"Dšplh!H145","v":0},{"$f":"Dšvih!H145","v":0},{"$f":"'Dz mís'!H145","v":0},{"$f":"Drepre!E48","v":0},{"$f":"SUM(F79:T79)","v":1545.7139326178644}]
[null,{"$f":"'D60'!B146","v":"STEINEROVÁ"},{"$f":"'D60'!C146","v":"Barbora"},{"$f":"'D60'!D146","v":"7.B"},null,{"$f":"'D60'!H146","v":758.21397803640605},{"$f":"'D300'!H146","v":576.63165356659761},{"$f":"'D800'!H146","v":572.05316755434785},{"$f":"Ddál!H146","v":780.81100000000004},{"$f":"Dvýš!H146","v":674.5},{"$f":"Dmíč!H146","v":610.15200000000004},{"$f":"Dkou!H146","v":0},{"$f":"Dčlu!H146","v":0},{"$f":"Dls!H146","v":0},{"$f":"Dodbíj!H146","v":0},{"$f":"Dplav!H146","v":0},{"$f":"Dšplh!H146","v":505.35211247657509},{"$f":"Dšvih!H146","v":687},{"$f":"'Dz mís'!H146","v":0},{"$f":"Drepre!E49","v":100},{"$f":"SUM(F80:T80)","v":5264.7139116339267}]
[null,{"$f":"'D60'!B147","v":"TOMEŠOVÁ"},{"$f":"'D60'!C147","v":"Barbora"},{"$f":"'D60'!D147","v":"7.B"},null,{"$f":"'D60'!H147","v":758.21397803640605},{"$f":"'D300'!H147","v":0},{"$f":"'D800'!H147","v":622.19982236180113},{"$f":"Ddál!H147","v":0},{"$f":"Dvýš!H147","v":0},{"$f":"Dmíč!H147","v":439.8},{"$f":"Dkou!H147","v":0},{"$f":"Dčlu!H147","v":0},{"$f":"Dls!H147","v":0},{"$f":"Dodbíj!H147","v":0},{"$f":"Dplav!H147","v":0},{"$f":"Dšplh!H147","v":0},{"$f":"Dšvih!H147","v":762},{"$f":"'Dz mís'!H147","v":0},{"$f":"Drepre!E50","v":75},{"$f":"SUM(F81:T81)","v":2657.2138003982072}]
[null,{"$f":"'D60'!B148","v":"VOHNOUTOVÁ"},{"$f":"'D60'!C148","v":"Aneta"},{"$f":"'D60'!D148","v":"7.B"},null,{"$f":"'D60'!H148","v":830.39088871355852},{"$f":"'D300'!H148","v":0},{"$f":"'D800'!H148","v":654.57121683491459},{"$f":"Ddál!H148","v":765.16000000000008},{"$f":"Dvýš!H148","v":674.5},{"$f":"Dmíč!H148","v":640.36400000000015},{"$f":"Dkou!H148","v":0},{"$f":"Dčlu!H148","v":0},{"$f":"Dls!H148","v":0},{"$f":"Dodbíj!H148","v":0},{"$f":"Dplav!H148","v":0},{"$f":"Dšplh!H148","v":0},{"$f":"Dšvih!H148","v":949.5},{"$f":"'Dz mís'!H148","v":0},{"$f":"Drepre!E51","v":125},{"$f":"SUM(F82:T82)","v":4639.4861055484726}]
[null,{"$f":"'D60'!B149","v":"HAVLÍKOVÁ"},{"$f":"'D60'!C149","v":"Michaela"},{"$f":"'D60'!D149","v":"8.A"},null,{"$f":"'D60'!H149","v":761.50216280382278},{"$f":"'D300'!H149","v":551.65920392727276},{"$f":"'D800'!H149","v":588.87148595701717},{"$f":"Ddál!H149","v":686.90500000000009},{"$f":"Dvýš!H149","v":642},{"$f":"Dmíč!H149","v":294.2},{"$f":"Dkou!H149","v":307.55555555555554},{"$f":"Dčlu!H149","v":597.1577357980691},{"$f":"Dls!H149","v":0},{"$f":"Dodbíj!H149","v":27},{"$f":"Dplav!H149","v":0},{"$f":"Dšplh!H149","v":0},{"$f":"Dšvih!H149","v":387},{"$f":"'Dz mís'!H149","v":614.17847025495757},{"$f":"Drepre!E52","v":0},{"$f":"SUM(F83:T83)","v":5458.0296142966945}]
[null,{"$f":"'D60'!B150","v":"HOLUBCOVÁ"},{"$f":"'D60'!C150","v":"Sára"},{"$f":"'D60'!D150","v":"8.A"},null,{"$f":"'D60'!H150","v":845.17953880303025},{"$f":"'D300'!H150","v":714.04868691377942},{"$f":"'D800'!H150","v":622.86785062300169},{"$f":"Ddál!H150","v":765.16000000000008},{"$f":"Dvýš!H150","v":739.5},{"$f":"Dmíč!H150","v":476.2},{"$f":"Dkou!H150","v":455.11111111111114},{"$f":"Dčlu!H150","v":685.83037098051761},{"$f":"Dls!H150","v":0},{"$f":"Dodbíj!H150","v":30},{"$f":"Dplav!H150","v":0},{"$f":"Dšplh!H150","v":447.20463165569055},{"$f":"Dšvih!H150","v":505.75},{"$f":"'Dz mís'!H150","v":811.76487252124662},{"$f":"Drepre!E53","v":75},{"$f":"SUM(F84:T84)","v":7173.6170626083776}]
[null,{"$f":"'D60'!B151","v":"HONCŮ"},{"$f":"'D60'!C151","v":"Tereza"},{"$f":"'D60'!D151","v":"8.A"},null,{"$f":"'D60'!H151","v":740.58995242516346},{"$f":"'D300'!H151","v":619.63603624551979},{"$f":"'D800'!H151","v":0},{"$f":"Ddál!H151","v":712.99},{"$f":"Dvýš!H151","v":707},{"$f":"Dmíč!H151","v":458},{"$f":"Dkou!H151","v":432.88888888888891},{"$f":"Dčlu!H151","v":680.42888189513451},{"$f":"Dls!H151","v":0},{"$f":"Dodbíj!H151","v":27},{"$f":"Dplav!H151","v":0},{"$f":"Dšplh!H151","v":0},{"$f":"Dšvih!H151","v":0},{"$f":"'Dz mís'!H151","v":717.67610953729945},{"$f":"Drepre!E54","v":0},{"$f":"SUM(F85:T85)","v":5096.2098689920058}]
[null,{"$f":"'D60'!B152","v":"HORÁČKOVÁ"},{"$f":"'D60'!C152","v":"Kateřina"},{"$f":"'D60'!D152","v":"8.A"},null,{"$f":"'D60'!H152","v":771.52744304175155},{"$f":"'D300'!H152","v":731.98452854920299},{"$f":"'D800'!H152","v":662.71479314321107},{"$f":"Ddál!H152","v":0},{"$f":"Dvýš!H152","v":772},{"$f":"Dmíč!H152","v":494.40000000000003},{"$f":"Dkou!H152","v":678.22222222222217},{"$f":"Dčlu!H152","v":711.14698200535088},{"$f":"Dls!H152","v":0},{"$f":"Dodbíj!H152","v":57},{"$f":"Dplav!H152","v":0},{"$f":"Dšplh!H152","v":444.17034921599287},{"$f":"Dšvih!H152","v":487},{"$f":"'Dz mís'!H152","v":830.58262511803605},{"$f":"Drepre!E55","v":125},{"$f":"SUM(F86:T86)","v":6765.7489432957673}]
[null,{"$f":"'D60'!B153","v":"JOUDALOVÁ"},{"$f":"'D60'!C153","v":"Daniela"},{"$f":"'D60'!D153","v":"8.A"},null,{"$f":"'D60'!H153","v":0},{"$f":"'D300'!H153","v":0},{"$f":"'D800'!H153","v":0},{"$f":"Ddál!H153","v":0},{"$f":"Dvýš!H153","v":0},{"$f":"Dmíč!H153","v":0},{"$f":"Dkou!H153","v":0},{"$f":"Dčlu!H153","v":0},{"$f":"Dls!H153","v":0},{"$f":"Dodbíj!H153","v":0},{"$f":"Dplav!H153","v":0},{"$f":"Dšplh!H153","v":0},{"$f":"Dšvih!H153","v":0},{"$f":"'Dz mís'!H153","v":0},{"$f":"Drepre!E56","v":0},{"$f":"SUM(F87:T87)","v":0}]
[null,{"$f":"'D60'!B154","v":"KLÍMOVÁ"},{"$f":"'D60'!C154","v":"Anna"},{"$f":"'D60'!D154","v":"8.A"},null,{"$f":"'D60'!H154","v":689.24656505229348},{"$f":"'D300'!H154","v":644.7326761840809},{"$f":"'D800'!H154","v":602.15805139652161},{"$f":"Ddál!H154","v":686.90500000000009},{"$f":"Dvýš!H154","v":707},{"$f":"Dmíč!H154","v":458},{"$f":"Dkou!H154","v":491.5555555555556},{"$f":"Dčlu!H154","v":650.21283452782598},{"$f":"Dls!H154","v":0},{"$f":"Dodbíj!H154","v":27},{"$f":"Dplav!H154","v":0},{"$f":"Dšplh!H154","v":423.2687918197164},{"$f":"Dšvih!H154","v":518.25},{"$f":"'Dz mís'!H154","v":680.04060434372059},{"$f":"Drepre!E57","v":0},{"$f":"SUM(F88:T88)","v":6578.3700788797141}]
[null,{"$f":"'D60'!B155","v":"KOHOUTOVÁ"},{"$f":"'D60'!C155","v":"Veronika"},{"$f":"'D60'!D155","v":"8.A"},null,{"$f":"'D60'!H155","v":809.55553391231797},{"$f":"'D300'!H155","v":714.69486579530519},{"$f":"'D800'!H155","v":622.19982236180113},{"$f":"Ddál!H155","v":759.9430000000001},{"$f":"Dvýš!H155","v":707},{"$f":"Dmíč!H155","v":512.6},{"$f":"Dkou!H155","v":497.77777777777777},{"$f":"Dčlu!H155","v":682.44523321848476},{"$f":"Dls!H155","v":0},{"$f":"Dodbíj!H155","v":30},{"$f":"Dplav!H155","v":0},{"$f":"Dšplh!H155","v":476.77381349530651},{"$f":"Dšvih!H155","v":605.75},{"$f":"'Dz mís'!H155","v":670.63172804532587},{"$f":"Drepre!E58","v":75},{"$f":"SUM(F89:T89)","v":7164.3717746063194}]
[null,{"$f":"'D60'!B156","v":"KOVÁŘOVÁ"},{"$f":"'D60'!C156","v":"Viktorie"},{"$f":"'D60'!D156","v":"8.A"},null,{"$f":"'D60'!H156","v":734.36824122600524},{"$f":"'D300'!H156","v":683.29908907741935},{"$f":"'D800'!H156","v":713.09219271146208},{"$f":"Ddál!H156","v":765.16000000000008},{"$f":"Dvýš!H156","v":772},{"$f":"Dmíč!H156","v":448.90000000000003},{"$f":"Dkou!H156","v":440.88888888888891},{"$f":"Dčlu!H156","v":669.20692661339285},{"$f":"Dls!H156","v":0},{"$f":"Dodbíj!H156","v":18},{"$f":"Dplav!H156","v":0},{"$f":"Dšplh!H156","v":410.02066413068138},{"$f":"Dšvih!H156","v":474.5},{"$f":"'Dz mís'!H156","v":722.38054768649681},{"$f":"Drepre!E59","v":75},{"$f":"SUM(F90:T90)","v":6926.8165503343462}]
[null,{"$f":"'D60'!B157","v":"KYNČLOVÁ"},{"$f":"'D60'!C157","v":"Anna"},{"$f":"'D60'!D157","v":"8.A"},null,{"$f":"'D60'!H157","v":809.55553391231797},{"$f":"'D300'!H157","v":887.40632333789677},{"$f":"'D800'!H157","v":936.32603738207558},{"$f":"Ddál!H157","v":766.899},{"$f":"Dvýš!H157","v":707},{"$f":"Dmíč!H157","v":512.6},{"$f":"Dkou!H157","v":413.33333333333331},{"$f":"Dčlu!H157","v":721.46340005454545},{"$f":"Dls!H157","v":0},{"$f":"Dodbíj!H157","v":18},{"$f":"Dplav!H157","v":0},{"$f":"Dšplh!H157","v":475.19942110831761},{"$f":"Dšvih!H157","v":574.5},{"$f":"'Dz mís'!H157","v":858.8092540132202},{"$f":"Drepre!E60","v":125},{"$f":"SUM(F91:T91)","v":7806.0923031417069}]
[null,{"$f":"'D60'!B158","v":"MATOUŠOVÁ"},{"$f":"'D60'!C158","v":"Tereza"},{"$f":"'D60'!D158","v":"8.A"},null,{"$f":"'D60'!H158","v":717.00842382207418},{"$f":"'D300'!H158","v":578.86489876596875},{"$f":"'D800'!H158","v":514.19560002202786},{"$f":"Ddál!H158","v":704.29500000000007},{"$f":"Dvýš!H158","v":804.5},{"$f":"Dmíč!H158","v":421.6},{"$f":"Dkou!H158","v":435.55555555555554},{"$f":"Dčlu!H158","v":591.40284393434342},{"$f":"Dls!H158","v":0},{"$f":"Dodbíj!H158","v":30},{"$f":"Dplav!H158","v":0},{"$f":"Dšplh!H158","v":0},{"$f":"Dšvih!H158","v":318.25},{"$f":"'Dz mís'!H158","v":496.56751652502362},{"$f":"Drepre!E61","v":75},{"$f":"SUM(F92:T92)","v":5687.2398386249934}]
[null,{"$f":"'D60'!B159","v":"MAZÁNKOVÁ"},{"$f":"'D60'!C159","v":"Zuzana"},{"$f":"'D60'!D159","v":"8.A"},null,{"$f":"'D60'!H159","v":706.09038873076918},{"$f":"'D300'!H159","v":633.27509649195622},{"$f":"'D800'!H159","v":635.75511476153963},{"$f":"Ddál!H159","v":660.82},{"$f":"Dvýš!H159","v":0},{"$f":"Dmíč!H159","v":285.10000000000002},{"$f":"Dkou!H159","v":377.77777777777777},{"$f":"Dčlu!H159","v":604.63113483346899},{"$f":"Dls!H159","v":0},{"$f":"Dodbíj!H159","v":0},{"$f":"Dplav!H159","v":0},{"$f":"Dšplh!H159","v":0},{"$f":"Dšvih!H159","v":0},{"$f":"'Dz mís'!H159","v":0},{"$f":"Drepre!E62","v":0},{"$f":"SUM(F93:T93)","v":3903.4495125955118}]
[null,{"$f":"'D60'!B160","v":"MORKESOVÁ"},{"$f":"'D60'!C160","v":"Sabrina"},{"$f":"'D60'!D160","v":"8.A"},null,{"$f":"'D60'!H160","v":869.89241740356886},{"$f":"'D300'!H160","v":716.15205994231951},{"$f":"'D800'!H160","v":642.18973861449342},{"$f":"Ddál!H160","v":791.245},{"$f":"Dvýš!H160","v":804.5},{"$f":"Dmíč!H160","v":731},{"$f":"Dkou!H160","v":635.55555555555554},{"$f":"Dčlu!H160","v":736.69000174666667},{"$f":"Dls!H160","v":0},{"$f":"Dodbíj!H160","v":57},{"$f":"Dplav!H160","v":0},{"$f":"Dšplh!H160","v":387.50878125955205},{"$f":"Dšvih!H160","v":562},{"$f":"'Dz mís'!H160","v":821.17374881964133},{"$f":"Drepre!E63","v":75},{"$f":"SUM(F94:T94)","v":7829.9073033417981}]
[null,{"$f":"'D60'!B161","v":"POHOŘALÁ"},{"$f":"'D60'!C161","v":"Alžběta"},{"$f":"'D60'!D161","v":"8.A"},null,{"$f":"'D60'!H161","v":785.2819338029675},{"$f":"'D300'!H161","v":725.48809906575207},{"$f":"'D800'!H161","v":666.73796972368405},{"$f":"Ddál!H161","v":768.63800000000003},{"$f":"Dvýš!H161","v":739.5},{"$f":"Dmíč!H161","v":439.8},{"$f":"Dkou!H161","v":475.55555555555554},{"$f":"Dčlu!H161","v":702.51900532555237},{"$f":"Dls!H161","v":0},{"$f":"Dodbíj!H161","v":18},{"$f":"Dplav!H161","v":0},{"$f":"Dšplh!H161","v":0},{"$f":"Dšvih!H161","v":480.75},{"$f":"'Dz mís'!H161","v":698.85835694051002},{"$f":"Drepre!E64","v":75},{"$f":"SUM(F95:T95)","v":6576.1289204140221}]
[null,{"$f":"'D60'!B162","v":"SCHOLZOVÁ"},{"$f":"'D60'!C162","v":"Laura"},{"$f":"'D60'!D162","v":"8.A"},null,{"$f":"'D60'!H162","v":713.33461529703288},{"$f":"'D300'!H162","v":0},{"$f":"'D800'!H162","v":0},{"$f":"Ddál!H162","v":0},{"$f":"Dvýš!H162","v":0},{"$f":"Dmíč!H162","v":0},{"$f":"Dkou!H162","v":0},{"$f":"Dčlu!H162","v":0},{"$f":"Dls!H162","v":0},{"$f":"Dodbíj!H162","v":6},{"$f":"Dplav!H162","v":0},{"$f":"Dšplh!H162","v":0},{"$f":"Dšvih!H162","v":418.25},{"$f":"'Dz mís'!H162","v":482.45420207743166},{"$f":"Drepre!E65","v":0},{"$f":"SUM(F96:T96)","v":1620.0388173744645}]
[null,{"$f":"'D60'!B163","v":"VÁCLAVÍKOVÁ"},{"$f":"'D60'!C163","v":"Valerie"},{"$f":"'D60'!D163","v":"8.A"},null,{"$f":"'D60'!H163","v":763.15619929469074},{"$f":"'D300'!H163","v":765.50131729117902},{"$f":"'D800'!H163","v":681.18530192934543},{"$f":"Ddál!H163","v":742.553},{"$f":"Dvýš!H163","v":739.5},{"$f":"Dmíč!H163","v":530.80000000000007},{"$f":"Dkou!H163","v":740.44444444444446},{"$f":"Dčlu!H163","v":698.98081321592326},{"$f":"Dls!H163","v":0},{"$f":"Dodbíj!H163","v":30},{"$f":"Dplav!H163","v":0},{"$f":"Dšplh!H163","v":0},{"$f":"Dšvih!H163","v":530.75},{"$f":"'Dz mís'!H163","v":703.56279508970738},{"$f":"Drepre!E66","v":125},{"$f":"SUM(F97:T97)","v":7051.4338712652898}]
[null,{"$f":"'D60'!B164","v":"ZAPADLOVÁ"},{"$f":"'D60'!C164","v":"Emma"},{"$f":"'D60'!D164","v":"8.A"},null,{"$f":"'D60'!H164","v":877.35687949138901},{"$f":"'D300'!H164","v":737.72175306286545},{"$f":"'D800'!H164","v":0},{"$f":"Ddál!H164","v":722},{"$f":"Dvýš!H164","v":772},{"$f":"Dmíč!H164","v":685.5},{"$f":"Dkou!H164","v":488.88888888888886},{"$f":"Dčlu!H164","v":662.76350304454274},{"$f":"Dls!H164","v":0},{"$f":"Dodbíj!H164","v":24},{"$f":"Dplav!H164","v":816.39669282528484},{"$f":"Dšplh!H164","v":650.81380458698709},{"$f":"Dšvih!H164","v":562},{"$f":"'Dz mís'!H164","v":694.15391879131289},{"$f":"Drepre!E67","v":75},{"$f":"SUM(F98:T98)","v":7768.5954406912715}]
[null,{"$f":"'D60'!B165","v":"ŽIŠKOVÁ"},{"$f":"'D60'!C165","v":"Mia"},{"$f":"'D60'!D165","v":"8.A"},null,{"$f":"'D60'!H165","v":0},{"$f":"'D300'!H165","v":0},{"$f":"'D800'!H165","v":0},{"$f":"Ddál!H165","v":0},{"$f":"Dvýš!H165","v":0},{"$f":"Dmíč!H165","v":439.8},{"$f":"Dkou!H165","v":0},{"$f":"Dčlu!H165","v":0},{"$f":"Dls!H165","v":0},{"$f":"Dodbíj!H165","v":24},{"$f":"Dplav!H165","v":0},{"$f":"Dšplh!H165","v":0},{"$f":"Dšvih!H165","v":0},{"$f":"'Dz mís'!H165","v":0},{"$f":"Drepre!E68","v":0},{"$f":"SUM(F99:T99)","v":463.8}]
[null,{"$f":"'D60'!B166","v":"FARSKÁ"},{"$f":"'D60'!C166","v":"Tereza"},{"$f":"'D60'!D166","v":"8.B"},null,{"$f":"'D60'!H166","v":688.56082123770238},{"$f":"'D300'!H166","v":0},{"$f":"'D800'!H166","v":0},{"$f":"Ddál!H166","v":530.39499999999998},{"$f":"Dvýš!H166","v":0},{"$f":"Dmíč!H166","v":348.8},{"$f":"Dkou!H166","v":475.55555555555554},{"$f":"Dčlu!H166","v":577.19966307878315},{"$f":"Dls!H166","v":0},{"$f":"Dodbíj!H166","v":0},{"$f":"Dplav!H166","v":0},{"$f":"Dšplh!H166","v":0},{"$f":"Dšvih!H166","v":718.25},{"$f":"'Dz mís'!H166","v":0},{"$f":"Drepre!E69","v":0},{"$f":"SUM(F100:T100)","v":3338.7610398720408}]
[null,{"$f":"'D60'!B167","v":"FEIXOVÁ"},{"$f":"'D60'!C167","v":"Rozálie"},{"$f":"'D60'!D167","v":"8.B"},null,{"$f":"'D60'!H167","v":629.26857546300994},{"$f":"'D300'!H167","v":0},{"$f":"'D800'!H167","v":400.32793238637794},{"$f":"Ddál!H167","v":0},{"$f":"Dvýš!H167","v":0},{"$f":"Dmíč!H167","v":248.70000000000002},{"$f":"Dkou!H167","v":0},{"$f":"Dčlu!H167","v":0},{"$f":"Dls!H167","v":0},{"$f":"Dodbíj!H167","v":0},{"$f":"Dplav!H167","v":0},{"$f":"Dšplh!H167","v":0},{"$f":"Dšvih!H167","v":512},{"$f":"'Dz mís'!H167","v":0},{"$f":"Drepre!E70","v":0},{"$f":"SUM(F101:T101)","v":1790.2965078493878}]
[null,{"$f":"'D60'!B168","v":"FIŠEROVÁ"},{"$f":"'D60'!C168","v":"Michaela"},{"$f":"'D60'!D168","v":"8.B"},null,{"$f":"'D60'!H168","v":653.30939684745283},{"$f":"'D300'!H168","v":414.76311757229678},{"$f":"'D800'!H168","v":491.27460598103687},{"$f":"Ddál!H168","v":0},{"$f":"Dvýš!H168","v":0},{"$f":"Dmíč!H168","v":357.90000000000003},{"$f":"Dkou!H168","v":0},{"$f":"Dčlu!H168","v":639.88299981462433},{"$f":"Dls!H168","v":0},{"$f":"Dodbíj!H168","v":0},{"$f":"Dplav!H168","v":665.633633722127},{"$f":"Dšplh!H168","v":0},{"$f":"Dšvih!H168","v":874.5},{"$f":"'Dz mís'!H168","v":0},{"$f":"Drepre!E71","v":25},{"$f":"SUM(F102:T102)","v":4122.2637539375373}]
[null,{"$f":"'D60'!B169","v":"HAVLÍČKOVÁ"},{"$f":"'D60'!C169","v":"Kristýna"},{"$f":"'D60'!D169","v":"8.B"},null,{"$f":"'D60'!H169","v":590.88467438804776},{"$f":"'D300'!H169","v":485.74502859617292},{"$f":"'D800'!H169","v":419.22526718877543},{"$f":"Ddál!H169","v":0},{"$f":"Dvýš!H169","v":0},{"$f":"Dmíč!H169","v":294.2},{"$f":"Dkou!H169","v":520},{"$f":"Dčlu!H169","v":525.25456682449851},{"$f":"Dls!H169","v":0},{"$f":"Dodbíj!H169","v":0},{"$f":"Dplav!H169","v":673.76734319052605},{"$f":"Dšplh!H169","v":0},{"$f":"Dšvih!H169","v":505.75},{"$f":"'Dz mís'!H169","v":0},{"$f":"Drepre!E72","v":25},{"$f":"SUM(F103:T103)","v":4039.8268801880204}]
[null,{"$f":"'D60'!B170","v":"JODASOVÁ"},{"$f":"'D60'!C170","v":"Nikola"},{"$f":"'D60'!D170","v":"8.B"},null,{"$f":"'D60'!H170","v":745.32066182807353},{"$f":"'D300'!H170","v":673.1522455463122},{"$f":"'D800'!H170","v":0},{"$f":"Ddál!H170","v":0},{"$f":"Dvýš!H170","v":0},{"$f":"Dmíč!H170","v":0},{"$f":"Dkou!H170","v":564.44444444444446},{"$f":"Dčlu!H170","v":0},{"$f":"Dls!H170","v":0},{"$f":"Dodbíj!H170","v":0},{"$f":"Dplav!H170","v":0},{"$f":"Dšplh!H170","v":0},{"$f":"Dšvih!H170","v":737},{"$f":"'Dz mís'!H170","v":0},{"$f":"Drepre!E73","v":25},{"$f":"SUM(F104:T104)","v":2744.91735181883}]
[null,{"$f":"'D60'!B171","v":"KADAVÁ"},{"$f":"'D60'!C171","v":"Nikola"},{"$f":"'D60'!D171","v":"8.B"},null,{"$f":"'D60'!H171","v":587.28048082435294},{"$f":"'D300'!H171","v":461.79568584668345},{"$f":"'D800'!H171","v":407.38776539738512},{"$f":"Ddál!H171","v":608.65000000000009},{"$f":"Dvýš!H171","v":0},{"$f":"Dmíč!H171","v":276},{"$f":"Dkou!H171","v":448.88888888888886},{"$f":"Dčlu!H171","v":542.48626309267445},{"$f":"Dls!H171","v":0},{"$f":"Dodbíj!H171","v":0},{"$f":"Dplav!H171","v":0},{"$f":"Dšplh!H171","v":0},{"$f":"Dšvih!H171","v":312},{"$f":"'Dz mís'!H171","v":0},{"$f":"Drepre!E74","v":0},{"$f":"SUM(F105:T105)","v":3644.4890840499847}]
[null,{"$f":"'D60'!B172","v":"KRAFKOVÁ"},{"$f":"'D60'!C172","v":"Lucie"},{"$f":"'D60'!D172","v":"8.B"},null,{"$f":"'D60'!H172","v":0},{"$f":"'D300'!H172","v":0},{"$f":"'D800'!H172","v":0},{"$f":"Ddál!H172","v":0},{"$f":"Dvýš!H172","v":0},{"$f":"Dmíč!H172","v":0},{"$f":"Dkou!H172","v":0},{"$f":"Dčlu!H172","v":0},{"$f":"Dls!H172","v":0},{"$f":"Dodbíj!H172","v":0},{"$f":"Dplav!H172","v":0},{"$f":"Dšplh!H172","v":0},{"$f":"Dšvih!H172","v":0},{"$f":"'Dz mís'!H172","v":0},{"$f":"Drepre!E75","v":0},{"$f":"SUM(F106:T106)","v":0}]
[null,{"$f":"'D60'!B173","v":"KŘIVINKOVÁ"},{"$f":"'D60'!C173","v":"Alžběta"},{"$f":"'D60'!D173","v":"8.B"},null,{"$f":"'D60'!H173","v":683.11979661237478},{"$f":"'D300'!H173","v":0},{"$f":"'D800'!H173","v":488.55468796981029},{"$f":"Ddál!H173","v":700.81700000000001},{"$f":"Dvýš!H173","v":0},{"$f":"Dmíč!H173","v":439.8},{"$f":"Dkou!H173","v":0},{"$f":"Dčlu!H173","v":0},{"$f":"Dls!H173","v":0},{"$f":"Dodbíj!H173","v":0},{"$f":"Dplav!H173","v":0},{"$f":"Dšplh!H173","v":0},{"$f":"Dšvih!H173","v":474.5},{"$f":"'Dz mís'!H173","v":0},{"$f":"Drepre!E76","v":0},{"$f":"SUM(F107:T107)","v":2786.7914845821851}]
[null,{"$f":"'D60'!B174","v":"LEŠÁKOVÁ"},{"$f":"'D60'!C174","v":"Lenka"},{"$f":"'D60'!D174","v":"8.B"},null,{"$f":"'D60'!H174","v":568.39213015923076},{"$f":"'D300'!H174","v":495.05100507155396},{"$f":"'D800'!H174","v":468.46749020411221},{"$f":"Ddál!H174","v":645.16899999999998},{"$f":"Dvýš!H174","v":0},{"$f":"Dmíč!H174","v":276},{"$f":"Dkou!H174","v":306.66666666666669},{"$f":"Dčlu!H174","v":562.18131761640007},{"$f":"Dls!H174","v":0},{"$f":"Dodbíj!H174","v":0},{"$f":"Dplav!H174","v":0},{"$f":"Dšplh!H174","v":0},{"$f":"Dšvih!H174","v":712},{"$f":"'Dz mís'!H174","v":0},{"$f":"Drepre!E77","v":0},{"$f":"SUM(F108:T108)","v":4033.9276097179636}]
[null,{"$f":"'D60'!B175","v":"NYKLÍČKOVÁ"},{"$f":"'D60'!C175","v":"Adéla"},{"$f":"'D60'!D175","v":"8.B"},null,{"$f":"'D60'!H175","v":783.53775638464185},{"$f":"'D300'!H175","v":739.59282685034816},{"$f":"'D800'!H175","v":754.43317658802846},{"$f":"Ddál!H175","v":756.46500000000003},{"$f":"Dvýš!H175","v":759},{"$f":"Dmíč!H175","v":430.7},{"$f":"Dkou!H175","v":0},{"$f":"Dčlu!H175","v":687.19309798444647},{"$f":"Dls!H175","v":0},{"$f":"Dodbíj!H175","v":0},{"$f":"Dplav!H175","v":0},{"$f":"Dšplh!H175","v":0},{"$f":"Dšvih!H175","v":1312},{"$f":"'Dz mís'!H175","v":0},{"$f":"Drepre!E78","v":125},{"$f":"SUM(F109:T109)","v":6347.9218578074651}]
[null,{"$f":"'D60'!B176","v":"PLŮCHOVÁ"},{"$f":"'D60'!C176","v":"Petra"},{"$f":"'D60'!D176","v":"8.B"},null,{"$f":"'D60'!H176","v":714.79995600284633},{"$f":"'D300'!H176","v":605.04279420073613},{"$f":"'D800'!H176","v":571.47223816477049},{"$f":"Ddál!H176","v":632.99599999999998},{"$f":"Dvýš!H176","v":0},{"$f":"Dmíč!H176","v":439.8},{"$f":"Dkou!H176","v":564.44444444444446},{"$f":"Dčlu!H176","v":607.88639765358403},{"$f":"Dls!H176","v":0},{"$f":"Dodbíj!H176","v":0},{"$f":"Dplav!H176","v":0},{"$f":"Dšplh!H176","v":0},{"$f":"Dšvih!H176","v":1430.75},{"$f":"'Dz mís'!H176","v":0},{"$f":"Drepre!E79","v":75},{"$f":"SUM(F110:T110)","v":5642.1918304663814}]
[null,{"$f":"'D60'!B177","v":"PODZIMKOVÁ"},{"$f":"'D60'!C177","v":"Eliška"},{"$f":"'D60'!D177","v":"8.B"},null,{"$f":"'D60'!H177","v":696.17384747561709},{"$f":"'D300'!H177","v":414.76311757229678},{"$f":"'D800'!H177","v":452.83203842119281},{"$f":"Ddál!H177","v":648.64700000000005},{"$f":"Dvýš!H177","v":0},{"$f":"Dmíč!H177","v":476.2},{"$f":"Dkou!H177","v":0},{"$f":"Dčlu!H177","v":604.09167867777762},{"$f":"Dls!H177","v":0},{"$f":"Dodbíj!H177","v":0},{"$f":"Dplav!H177","v":0},{"$f":"Dšplh!H177","v":0},{"$f":"Dšvih!H177","v":999.5},{"$f":"'Dz mís'!H177","v":0},{"$f":"Drepre!E80","v":25},{"$f":"SUM(F111:T111)","v":4317.2076821468836}]
[null,{"$f":"'D60'!B178","v":"RUTKAYOVÁ"},{"$f":"'D60'!C178","v":"Klára"},{"$f":"'D60'!D178","v":"8.B"},null,{"$f":"'D60'!H178","v":568.39213015923076},{"$f":"'D300'!H178","v":0},{"$f":"'D800'!H178","v":458.49649418960428},{"$f":"Ddál!H178","v":613.86700000000008},{"$f":"Dvýš!H178","v":0},{"$f":"Dmíč!H178","v":276},{"$f":"Dkou!H178","v":0},{"$f":"Dčlu!H178","v":0},{"$f":"Dls!H178","v":0},{"$f":"Dodbíj!H178","v":0},{"$f":"Dplav!H178","v":0},{"$f":"Dšplh!H178","v":0},{"$f":"Dšvih!H178","v":405.75},{"$f":"'Dz mís'!H178","v":0},{"$f":"Drepre!E81","v":0},{"$f":"SUM(F112:T112)","v":2322.5056243488352}]
[null,{"$f":"'D60'!B179","v":"SEIDLOVÁ"},{"$f":"'D60'!C179","v":"Zuzana"},{"$f":"'D60'!D179","v":"8.B"},null,{"$f":"'D60'!H179","v":690.62183435692396},{"$f":"'D300'!H179","v":620.41850284199995},{"$f":"'D800'!H179","v":500.2819329786247},{"$f":"Ddál!H179","v":721.68500000000006},{"$f":"Dvýš!H179","v":0},{"$f":"Dmíč!H179","v":527.16},{"$f":"Dkou!H179","v":0},{"$f":"Dčlu!H179","v":0},{"$f":"Dls!H179","v":0},{"$f":"Dodbíj!H179","v":0},{"$f":"Dplav!H179","v":0},{"$f":"Dšplh!H179","v":0},{"$f":"Dšvih!H179","v":730.75},{"$f":"'Dz mís'!H179","v":0},{"$f":"Drepre!E82","v":75},{"$f":"SUM(F113:T113)","v":3865.9172701775483}]
[null,{"$f":"'D60'!B180","v":"TOMÁŠOVÁ"},{"$f":"'D60'!C180","v":"Sára"},{"$f":"'D60'!D180","v":"8.B"},null,{"$f":"'D60'!H180","v":0},{"$f":"'D300'!H180","v":422.26917380081045},{"$f":"'D800'!H180","v":0},{"$f":"Ddál!H180","v":636.47400000000005},{"$f":"Dvýš!H180","v":0},{"$f":"Dmíč!H180","v":339.7},{"$f":"Dkou!H180","v":478.22222222222217},{"$f":"Dčlu!H180","v":513.76838276708804},{"$f":"Dls!H180","v":0},{"$f":"Dodbíj!H180","v":0},{"$f":"Dplav!H180","v":0},{"$f":"Dšplh!H180","v":0},{"$f":"Dšvih!H180","v":418.25},{"$f":"'Dz mís'!H180","v":0},{"$f":"Drepre!E83","v":0},{"$f":"SUM(F114:T114)","v":2808.6837787901204}]
[null,{"$f":"'D60'!B181","v":"VANCLOVÁ"},{"$f":"'D60'!C181","v":"Barbora"},{"$f":"'D60'!D181","v":"8.B"},null,{"$f":"'D60'!H181","v":704.65782257833951},{"$f":"'D300'!H181","v":621.72587921577474},{"$f":"'D800'!H181","v":500.04771449749148},{"$f":"Ddál!H181","v":0},{"$f":"Dvýš!H181","v":0},{"$f":"Dmíč!H181","v":0},{"$f":"Dkou!H181","v":413.33333333333331},{"$f":"Dčlu!H181","v":0},{"$f":"Dls!H181","v":0},{"$f":"Dodbíj!H181","v":0},{"$f":"Dplav!H181","v":697.47710629090909},{"$f":"Dšplh!H181","v":0},{"$f":"Dšvih!H181","v":1012},{"$f":"'Dz mís'!H181","v":0},{"$f":"Drepre!E84","v":50},{"$f":"SUM(F115:T115)","v":3999.2418559158482}]
[null,{"$f":"'D60'!B182","v":"VOTOČKOVÁ"},{"$f":"'D60'!C182","v":"Veronika"},{"$f":"'D60'!D182","v":"8.B"},null,{"$f":"'D60'!H182","v":552.40417643203386},{"$f":"'D300'!H182","v":0},{"$f":"'D800'!H182","v":419.58132895016206},{"$f":"Ddál!H182","v":624.30100000000004},{"$f":"Dvýš!H182","v":0},{"$f":"Dmíč!H182","v":294.2},{"$f":"Dkou!H182","v":0},{"$f":"Dčlu!H182","v":0},{"$f":"Dls!H182","v":0},{"$f":"Dodbíj!H182","v":0},{"$f":"Dplav!H182","v":0},{"$f":"Dšplh!H182","v":0},{"$f":"Dšvih!H182","v":280.75},{"$f":"'Dz mís'!H182","v":0},{"$f":"Drepre!E85","v":0},{"$f":"SUM(F116:T116)","v":2171.2365053821959}]
[null,{"$f":"'D60'!B183","v":"HARTIGOVÁ"},{"$f":"'D60'!C183","v":"Anna"},{"$f":"'D60'!D183","v":"9.A"},null,{"$f":"'D60'!H183","v":735.91457295679004},{"$f":"'D300'!H183","v":0},{"$f":"'D800'!H183","v":582.37747883823533},{"$f":"Ddál!H183","v":704.29500000000007},{"$f":"Dvýš!H183","v":804.5},{"$f":"Dmíč!H183","v":448.90000000000003},{"$f":"Dkou!H183","v":608.88888888888891},{"$f":"Dčlu!H183","v":663.40270892559784},{"$f":"Dls!H183","v":0},{"$f":"Dodbíj!H183","v":117},{"$f":"Dplav!H183","v":0},{"$f":"Dšplh!H183","v":0},{"$f":"Dšvih!H183","v":0},{"$f":"'Dz mís'!H183","v":802.35599622285167},{"$f":"Drepre!E86","v":0},{"$f":"SUM(F117:T117)","v":5467.6346458323642}]
[null,{"$f":"'D60'!B184","v":"HONCŮ"},{"$f":"'D60'!C184","v":"Rozálie"},{"$f":"'D60'!D184","v":"9.A"},null,{"$f":"'D60'!H184","v":878.43303675134109},{"$f":"'D300'!H184","v":759.95875969890608},{"$f":"'D800'!H184","v":542.3207231622057},{"$f":"Ddál!H184","v":850.37100000000009},{"$f":"Dvýš!H184","v":772},{"$f":"Dmíč!H184","v":512.6},{"$f":"Dkou!H184","v":612.44444444444434},{"$f":"Dčlu!H184","v":740.58995242516346},{"$f":"Dls!H184","v":0},{"$f":"Dodbíj!H184","v":36},{"$f":"Dplav!H184","v":0},{"$f":"Dšplh!H184","v":413.01644428590907},{"$f":"Dšvih!H184","v":749.5},{"$f":"'Dz mís'!H184","v":854.10481586402284},{"$f":"Drepre!E87","v":50},{"$f":"SUM(F118:T118)","v":7771.3391766319928}]
[null,{"$f":"'D60'!B185","v":"CHALOUPSKÁ"},{"$f":"'D60'!C185","v":"Lucie"},{"$f":"'D60'!D185","v":"9.A"},null,{"$f":"'D60'!H185","v":862.54603720188322},{"$f":"'D300'!H185","v":769.83580091891702},{"$f":"'D800'!H185","v":0},{"$f":"Ddál!H185","v":791.245},{"$f":"Dvýš!H185","v":0},{"$f":"Dmíč!H185","v":512.6},{"$f":"Dkou!H185","v":644.44444444444446},{"$f":"Dčlu!H185","v":743.73755041371385},{"$f":"Dls!H185","v":0},{"$f":"Dodbíj!H185","v":0},{"$f":"Dplav!H185","v":0},{"$f":"Dšplh!H185","v":0},{"$f":"Dšvih!H185","v":449.5},{"$f":"'Dz mís'!H185","v":0},{"$f":"Drepre!E88","v":0},{"$f":"SUM(F119:T119)","v":4773.9088329789583}]
[null,{"$f":"'D60'!B186","v":"KŘÍŽKOVÁ"},{"$f":"'D60'!C186","v":"Anna"},{"$f":"'D60'!D186","v":"9.A"},null,{"$f":"'D60'!H186","v":735.91457295679004},{"$f":"'D300'!H186","v":602.78511902551236},{"$f":"'D800'!H186","v":553.81802035163741},{"$f":"Ddál!H186","v":704.29500000000007},{"$f":"Dvýš!H186","v":707},{"$f":"Dmíč!H186","v":439.8},{"$f":"Dkou!H186","v":506.66666666666663},{"$f":"Dčlu!H186","v":647.14308227157278},{"$f":"Dls!H186","v":0},{"$f":"Dodbíj!H186","v":45},{"$f":"Dplav!H186","v":0},{"$f":"Dšplh!H186","v":517.12073479653327},{"$f":"Dšvih!H186","v":562},{"$f":"'Dz mís'!H186","v":680.04060434372059},{"$f":"Drepre!E89","v":0},{"$f":"SUM(F120:T120)","v":6701.5838004124334}]
[null,{"$f":"'D60'!B187","v":"LUKEŠOVÁ"},{"$f":"'D60'!C187","v":"Kristýna"},{"$f":"'D60'!D187","v":"9.A"},null,{"$f":"'D60'!H187","v":772.37395413217803},{"$f":"'D300'!H187","v":0},{"$f":"'D800'!H187","v":550.22403196113351},{"$f":"Ddál!H187","v":723.42400000000009},{"$f":"Dvýš!H187","v":642},{"$f":"Dmíč!H187","v":367},{"$f":"Dkou!H187","v":493.33333333333331},{"$f":"Dčlu!H187","v":644.70635054098352},{"$f":"Dls!H187","v":0},{"$f":"Dodbíj!H187","v":36},{"$f":"Dplav!H187","v":0},{"$f":"Dšplh!H187","v":533.58555592381958},{"$f":"Dšvih!H187","v":437},{"$f":"'Dz mís'!H187","v":647.10953729933908},{"$f":"Drepre!E90","v":0},{"$f":"SUM(F121:T121)","v":5846.7567631907878}]
[null,{"$f":"'D60'!B188","v":"MOTLÍKOVÁ"},{"$f":"'D60'!C188","v":"Eliška"},{"$f":"'D60'!D188","v":"9.A"},null,{"$f":"'D60'!H188","v":803.12933064164883},{"$f":"'D300'!H188","v":687.54490853963534},{"$f":"'D800'!H188","v":735.47136270022975},{"$f":"Ddál!H188","v":779.072},{"$f":"Dvýš!H188","v":0},{"$f":"Dmíč!H188","v":421.6},{"$f":"Dkou!H188","v":657.77777777777771},{"$f":"Dčlu!H188","v":710.42052264811321},{"$f":"Dls!H188","v":0},{"$f":"Dodbíj!H188","v":66},{"$f":"Dplav!H188","v":0},{"$f":"Dšplh!H188","v":406.37826894888593},{"$f":"Dšvih!H188","v":780.75},{"$f":"'Dz mís'!H188","v":722.38054768649681},{"$f":"Drepre!E91","v":50},{"$f":"SUM(F122:T122)","v":6820.5247189427882}]
[null,{"$f":"'D60'!B189","v":"POHOŘELÁ"},{"$f":"'D60'!C189","v":"Amálie"},{"$f":"'D60'!D189","v":"9.A"},null,{"$f":"'D60'!H189","v":798.5971052614791},{"$f":"'D300'!H189","v":661.36074794112449},{"$f":"'D800'!H189","v":550.22403196113351},{"$f":"Ddál!H189","v":643.43000000000006},{"$f":"Dvýš!H189","v":0},{"$f":"Dmíč!H189","v":330.6},{"$f":"Dkou!H189","v":640},{"$f":"Dčlu!H189","v":693.38759734963094},{"$f":"Dls!H189","v":0},{"$f":"Dodbíj!H189","v":45},{"$f":"Dplav!H189","v":0},{"$f":"Dšplh!H189","v":0},{"$f":"Dšvih!H189","v":774.5},{"$f":"'Dz mís'!H189","v":745.9027384324836},{"$f":"Drepre!E92","v":0},{"$f":"SUM(F123:T123)","v":5883.0022209458511}]
[null,{"$f":"'D60'!B190","v":"POLÁČKOVÁ"},{"$f":"'D60'!C190","v":"Natálie"},{"$f":"'D60'!D190","v":"9.A"},null,{"$f":"'D60'!H190","v":557.95307912279372},{"$f":"'D300'!H190","v":335.41126088004933},{"$f":"'D800'!H190","v":0},{"$f":"Ddál!H190","v":558.21900000000005},{"$f":"Dvýš!H190","v":0},{"$f":"Dmíč!H190","v":367},{"$f":"Dkou!H190","v":383.11111111111103},{"$f":"Dčlu!H190","v":543.37457357976371},{"$f":"Dls!H190","v":0},{"$f":"Dodbíj!H190","v":27},{"$f":"Dplav!H190","v":0},{"$f":"Dšplh!H190","v":0},{"$f":"Dšvih!H190","v":249.5},{"$f":"'Dz mís'!H190","v":454.22757318224751},{"$f":"Drepre!E93","v":0},{"$f":"SUM(F124:T124)","v":3475.7965978759653}]
[null,{"$f":"'D60'!B191","v":"ŘEHOŘKOVÁ"},{"$f":"'D60'!C191","v":"Lucie"},{"$f":"'D60'!D191","v":"9.A"},null,{"$f":"'D60'!H191","v":753.33082715172645},{"$f":"'D300'!H191","v":588.28721427115374},{"$f":"'D800'!H191","v":478.60736583259745},{"$f":"Ddál!H191","v":773.85500000000002},{"$f":"Dvýš!H191","v":707},{"$f":"Dmíč!H191","v":467.1},{"$f":"Dkou!H191","v":717.33333333333337},{"$f":"Dčlu!H191","v":647.14308227157278},{"$f":"Dls!H191","v":0},{"$f":"Dodbíj!H191","v":27},{"$f":"Dplav!H191","v":0},{"$f":"Dšplh!H191","v":0},{"$f":"Dšvih!H191","v":368.25},{"$f":"'Dz mís'!H191","v":680.04060434372059},{"$f":"Drepre!E94","v":0},{"$f":"SUM(F125:T125)","v":6207.9474272041043}]
[null,{"$f":"'D60'!B192","v":"SKÁLOVÁ"},{"$f":"'D60'!C192","v":"Alena"},{"$f":"'D60'!D192","v":"9.A"},null,{"$f":"'D60'!H192","v":675.10518203150309},{"$f":"'D300'!H192","v":526.77059630810209},{"$f":"'D800'!H192","v":447.03982022141111},{"$f":"Ddál!H192","v":641.69100000000003},{"$f":"Dvýš!H192","v":642},{"$f":"Dmíč!H192","v":357.90000000000003},{"$f":"Dkou!H192","v":680},{"$f":"Dčlu!H192","v":600.87327277804752},{"$f":"Dls!H192","v":0},{"$f":"Dodbíj!H192","v":15},{"$f":"Dplav!H192","v":0},{"$f":"Dšplh!H192","v":0},{"$f":"Dšvih!H192","v":249.5},{"$f":"'Dz mís'!H192","v":510.68083097261569},{"$f":"Drepre!E95","v":0},{"$f":"SUM(F126:T126)","v":5346.56070231168}]
[null,{"$f":"'D60'!B193","v":"VÁVROVÁ "},{"$f":"'D60'!C193","v":"Aneta"},{"$f":"'D60'!D193","v":"9.A"},null,{"$f":"'D60'!H193","v":817.95994169211474},{"$f":"'D300'!H193","v":745.59544523693864},{"$f":"'D800'!H193","v":546.93779432490226},{"$f":"Ddál!H193","v":839.93700000000001},{"$f":"Dvýš!H193","v":772},{"$f":"Dmíč!H193","v":430.7},{"$f":"Dkou!H193","v":497.77777777777777},{"$f":"Dčlu!H193","v":675.10518203150309},{"$f":"Dls!H193","v":0},{"$f":"Dodbíj!H193","v":117},{"$f":"Dplav!H193","v":0},{"$f":"Dšplh!H193","v":0},{"$f":"Dšvih!H193","v":737},{"$f":"'Dz mís'!H193","v":717.67610953729945},{"$f":"Drepre!E96","v":50},{"$f":"SUM(F127:T127)","v":6947.6892506005361}]
[null,{"$f":"'D60'!B194","v":"ZELINKOVÁ"},{"$f":"'D60'!C194","v":"Klára"},{"$f":"'D60'!D194","v":"9.A"},null,{"$f":"'D60'!H194","v":768.99822259593907},{"$f":"'D300'!H194","v":578.86489876596875},{"$f":"'D800'!H194","v":0},{"$f":"Ddál!H194","v":716.46800000000007},{"$f":"Dvýš!H194","v":739.5},{"$f":"Dmíč!H194","v":503.5},{"$f":"Dkou!H194","v":795.55555555555554},{"$f":"Dčlu!H194","v":708.97170822379167},{"$f":"Dls!H194","v":0},{"$f":"Dodbíj!H194","v":66},{"$f":"Dplav!H194","v":0},{"$f":"Dšplh!H194","v":0},{"$f":"Dšvih!H194","v":468.25},{"$f":"'Dz mís'!H194","v":788.24268177525983},{"$f":"Drepre!E97","v":50},{"$f":"SUM(F128:T128)","v":6184.3510669165153}]

{"sheet":"Droč","index":5,"n_rows":232,"n_cols":24,"rows_kept":232,"cut":false,"hidden":false,"merged":[]}
[null,null,"CELKOVÉ   VÝSLEDKY  ",null,null,null,null,null,null,null,null,null,null,null,null,null,null,null,null,null,{"$f":"TODAY()","v":"2022-06-28"}]
[]
[null,"6. ročník",null,null,null,"   60  m  ","   300m","  800m","   dálka","   výška","   míček","   koule","  člunek","  lehsed","odbíjení ","  plavání","    šplh","švihadlo","z místa"," REPRE","          CELKEM"]
[]
["1.",{"$f":"B139","v":"HEJRALOVÁ"},{"$f":"C139","v":"Natálie"},"6.A",0,764.81691876127945,756.23959004337871,673.34442054850729,728.64100000000008,739.5,421.6,320,617.84669144425982,0,0,0,0,624.5,571.83852691218135,0,6218.3271477096059]
["2.",{"$f":"B140","v":"KERLE"},"Nikita","6.A",0,751.7160542614314,768.02511733568667,755.40310173832825,786.02800000000002,739.5,376.1,293.33333333333331,652.68792273443864,0,0,0,522.60152998285719,624.5,642.40509915014172,50,6962.3001585362172]
["3.",{"$f":"B141","v":"PACLÍKOVÁ"},"Markéta","6.A",0,768.99822259593907,670.79797849383704,637.21046182744692,712.99,772,494.40000000000003,400,665.3271387095914,0,0,0,451.69735399586978,687,731.78942398489153,0,6992.2105796075757]
["4.",{"$f":"B142","v":"PLŮCHOVÁ"},"Michaela","6.A",0,768.99822259593907,670.50457240622723,0,683.42700000000002,707,348.8,434.66666666666663,655.80618679842246,0,0,0,402.00334092341575,755.75,684.74504249291795,0,6111.7010318835892]
["5.",{"$f":"B143","v":"ŠERCLOVÁ"},"Nikola","6.A",0,615.05021777438014,453.50292675528885,523.33066151160835,605.17200000000003,0,0,295.11111111111114,0,0,0,0,0,218.25,553.02077431539215,0,3263.4376914677805]
["6.",{"$f":"B144","v":"VÁCLAVÍKOVÁ"},"Alena","6.A",0,732.82791466699018,619.63603624551979,637.17574642194563,667.77600000000007,609.5,0,299.5555555555556,625.80173157318779,0,0,0,0,562,632.99622285174701,0,5387.2692073149465]
["7.",{"$f":"B145","v":"DUCHÁČKOVÁ"},"Tereza","6.B",0,639.88299981462433,519.53535007402104,0,645.16899999999998,544.5,230.5,0,546.05532065801185,0,0,0,0,312,426.00094428706336,0,3863.6436148337207]
["8.",{"$f":"B146","v":"FLAŠKOVÁ"},"Anna Sabriel","6.B",0,659.5843689488986,538.79696647240939,0,662.55900000000008,674.5,421.6,268.44444444444446,571.78814289533375,0,0,0,0,287,411.88762983947129,0,4496.1605526005578]
["9.",{"$f":"B147","v":"HAASOVÁ"},"Julie","6.B",0,763.9857211271443,669.18664679821393,631.66145534433963,765.16000000000008,674.5,421.6,0,583.21005299763783,0,0,0,416.63405220911045,493.25,694.15391879131289,0,6113.3418472677586]
["10.",{"$f":"B148","v":"HOBLOVÁ"},"Barbora","6.B",0,746.91003059980244,640.1947661850287,607.09173098645749,619.08400000000006,609.5,376.1,0,618.97178974535893,0,0,0,463.73901635703703,612,581.24740321057607,0,5874.8387370842611]
["11.",{"$f":"B149","v":"HORÁČKOVÁ"},"Valérie","6.B",0,749.30589769772052,706.36402433031185,600.17157606395335,664.298,642,367,394.66666666666669,652.68792273443864,0,0,674.28398581016302,0,0,675.33616619452323,0,6126.1142394977778]
["12.",{"$f":"B150","v":"JIRANOVÁ"},"Anežka","6.B",0,543.37457357976371,0,386.43569901332626,570.39200000000005,512,321.5,271.11111111111109,528.62145157084524,0,0,0,0,280.75,336.61661945231356,0,3750.8014547273601]
["13.",{"$f":"B151","v":"JODASOVÁ"},"Denisa","6.B",0,727.48356080070721,0,614.47106332192413,756.46500000000003,0,603.6,396.44444444444446,684.47261289911864,0,0,0,475.87076351287016,555.75,665.92728989612851,0,5480.4847348751937]
["14.",{"$f":"B152","v":"KRČÍKOVÁ"},"Beatrix","6.B",0,723.71012751151648,619.63603624551979,561.91087155264449,737.33600000000001,707,430.7,402.66666666666669,0,0,0,0,0,455.75,689.4494806421153,0,5328.1591826184631]
["15.",{"$f":"B153","v":"KUBÁTOVÁ"},"Veronika","6.B",0,604.63113483346899,479.91615391068365,0,513.005,0,130.4,0,0,0,0,0,0,5.75,482.45420207743166,0,2216.1564908215842]
["16.",{"$f":"B154","v":"LENČEŠOVÁ"},"Silvie","6.B",0,646.53231841435979,574.76074862463793,593.10248629938815,619.08400000000006,544.5,385.2,221.33333333333334,590.36732995249474,0,0,0,0,593.25,505.97639282341834,0,5274.1066094476319]
["17.",{"$f":"B155","v":"MATERNOVÁ"},"Lenka","6.B",0,833.3097863898613,778.80544947747217,655.44352801799789,627.779,707,285.10000000000002,0,631.59937482670045,0,0,0,704.07752050220381,343.25,520.08970727101064,0,6086.4543664852454]
["18.",{"$f":"B156","v":"TÓTHOVÁ"},"Viktorie","6.B",0,665.3271387095914,580.75532269516316,504.45661030126666,669.51499999999999,642,403.40000000000003,297.77777777777777,557.02127698413892,0,0,0,0,380.75,661.22285174693116,0,5362.2259782148694]
[]
[]
[]
[]
[]
[]
[]
[]
[]
[null,null,"CELKOVÉ   VÝSLEDKY  ",null,null,null,null,null,null,null,null,null,null,null,null,null,null,null,null,null,{"$f":"TODAY()","v":"2022-06-28"}]
[]
[null,"7. ročník",null,null,null,"   60  m  ","   300m","  800m","   dálka","   výška","   míček","   koule","  člunek","  lehsed","odbíjení ","  plavání","    šplh","švihadlo","z místa"," REPRE","          CELKEM"]
[]
["1.",{"$f":"B157","v":"ERBENOVÁ"},{"$f":"C157","v":"Sára"},"7.A",0,656.43312199444438,451.66914191880301,418.97629834610166,599.95500000000004,0,266.90000000000003,0,576.20885373338524,0,51,0,0,0,491.86307837582638,0,3513.0054943685609]
["2.",{"$f":"B158","v":"GINGALOVÁ"},"Linda","7.A",0,794.11228809658292,0,419.04740926554416,733.85800000000006,739.5,439.8,0,0,0,0,0,0,593.25,0,75,3794.5676973621275]
["3.",{"$f":"B159","v":"HOFMANOVÁ "},"Nicol","7.A",0,687.87633336416366,0,0,617.34500000000003,0,394.3,454.22222222222223,527.35433139491965,0,51,0,0,368.25,604.76959395656286,0,3705.1174809378681]
["4.",{"$f":"B160","v":"HOLEŠOVSKÁ"},"Aneta","7.A",0,717.00842382207418,0,455.65056986658033,679.94900000000007,0,496.22,0,0,0,0,0,0,1124.5,0,25,3498.3279936886547]
["5.",{"$f":"B161","v":"HOLUBCOVÁ"},"Alena","7.A",0,797.69637307457981,592.28967736506092,563.07051451235554,678.21,739.5,704.79200000000003,546.66666666666663,608.97859476139763,0,30,0,0,499.5,717.67610953729945,75,6553.3799359173599]
["6.",{"$f":"B162","v":"KOHOUTOVÁ"},"Anna","7.A",0,655.18034956246345,493.45159045830121,529.27534303492848,579.08699999999999,674.5,294.2,329.77777777777777,537.210945550926,0,21,0,0,537,482.45420207743166,0,5133.1372084618279]
["7.",{"$f":"B163","v":"KRAUSOVÁ"},"Anežka","7.A",0,657.69029784446377,540.07439954650465,0,718.20699999999999,674.5,321.5,457.77777777777777,608.43204931833054,0,48,0,0,499.5,618.88290840415493,0,5144.5644328912313]
["8.",{"$f":"B164","v":"KUŽELOVÁ"},"Apoléna","7.A",0,737.46694504589846,0,488.10368199990887,660.82,674.5,403.40000000000003,0,0,0,0,0,0,843.25,0,0,3807.5406270458075]
["9.",{"$f":"B165","v":"MORÁVKOVÁ"},"Lucie","7.A",0,635.12532875773047,0,454.84249733175227,0,0,330.6,0,0,0,0,0,0,0,0,0,1420.5678260894829]
["10.",{"$f":"B166","v":"SKLENÁROVÁ"},"Eliška","7.A",0,0,0,0,598.21600000000001,674.5,0,0,551.03251424856637,0,21,0,0,337,595.36071765816814,0,2777.1092319067343]
["11.",{"$f":"B167","v":"ŠEJNOVÁ"},"Karolína","7.A",0,0,562.69902446382548,424.77844304964663,652.125,642,294.2,357.33333333333337,594.00613769175322,0,51,0,0,299.5,694.15391879131289,0,4571.795857329872]
["12.",{"$f":"B168","v":"ŠTOLFOVÁ"},"Tereza","7.A",0,698.27711706932837,602.28510060972189,0,669.51499999999999,707,266.90000000000003,319.11111111111109,0,0,48,0,0,343.25,0,0,3654.3383287901615]
["13.",{"$f":"B169","v":"ŠUBÍKOVÁ"},"Klára","7.A",0,717.74738416539685,632.60272006797732,559.88378892187495,709.51200000000006,739.5,403.40000000000003,306.66666666666669,611.724805828125,0,30,0,446.12658522873272,487,623.58734655335252,75,6342.7512974321253]
["14.",{"$f":"B170","v":"ŠULKOVSKÁ"},"Klára","7.A",0,650.82999098665505,482.45431100819201,0,648.64700000000005,0,385.2,379.55555555555549,0,0,51,0,453.88588857617077,249.5,0,0,3301.0727461265733]
["15.",{"$f":"B171","v":"TULÁČKOVÁ"},"Natálie","7.A",0,725.21514686570504,0,526.13715158126945,672.99300000000005,0,367,0,0,0,0,0,0,699.5,0,0,2990.8452984469745]
["16.",{"$f":"B172","v":"VOJTÍŠKOVÁ"},"Ella","7.A",0,797.69637307457981,0,466.57227295935957,784.2890000000001,824,0,0,0,0,0,0,0,687,0,125,3684.5576460339394]
["17.",{"$f":"B173","v":"DRUGÁČOVÁ"},"Kristinka","7.B",0,0,0,0,747.7700000000001,0,0,484.44444444444446,0,0,0,0,0,0,0,0,1232.2144444444446]
["18.",{"$f":"B174","v":"FAJSTAVROVÁ"},"Karolína","7.B",0,845.17953880303025,0,708.09115153027676,699.07800000000009,0,558.1,0,0,0,0,0,0,974.5,0,75,3859.9486903333068]
["19.",{"$f":"B175","v":"FAJSTAVROVÁ"},"Magdaléna","7.B",0,783.53775638464185,0,773.28098002623869,688.64400000000001,0,521.70000000000005,0,0,0,0,0,444.61657818800001,1193.25,0,125,4530.0293145988808]
["20.",{"$f":"B176","v":"HLAVATÁ"},"Anna","7.B",0,0,0,0,688.64400000000001,0,0,0,0,0,0,0,0,0,0,0,688.64400000000001]
["21.",{"$f":"B177","v":"JINDROVÁ"},"Barbora","7.B",0,696.17384747561709,0,567.43249676995072,685.16600000000005,0,294.2,0,0,0,0,0,431.27499035838252,1187,0,75,3936.2473346039505]
["22.",{"$f":"B178","v":"MAŘASOVÁ"},"Vendula","7.B",0,697.57472648144721,0,603.64707902109467,669.51499999999999,544.5,321.5,0,0,0,0,0,0,0,0,25,2861.7368055025418]
["23.",{"$f":"B179","v":"PETŘÍČKOVÁ"},"Natálie","7.B",0,857.36937442734074,752.89899315510479,621.53297854787229,803.41800000000001,674.5,430.7,0,0,0,0,0,575.75936957242288,0,0,125,4841.1787157027411]
["24.",{"$f":"B180","v":"PETŘÍKOVÁ"},"Adéla","7.B",0,684.47261289911864,648.06334030489097,0,606.91100000000006,0,294.2,303.11111111111114,542.48626309267445,0,18,0,0,180.75,374.25212464589254,0,3652.2464520536878]
["25.",{"$f":"B181","v":"REGÁLOVÁ"},"Karolína","7.B",0,716.27086834632451,0,461.57655260170975,669.51499999999999,674.5,530.80000000000007,0,0,0,0,0,0,943.25,0,25,4020.9124209480342]
["26.",{"$f":"B182","v":"RIEGROVÁ"},"Magdaléna","7.B",0,0,0,0,629.51800000000003,0,367,342.22222222222223,577.19966307878315,0,18,0,409.24255262615492,593.25,0,0,2936.4324379271602]
["27.",{"$f":"B183","v":"RYBENSKÁ"},"Sabina","7.B",0,726.72596590912008,0,539.34796670874459,0,0,279.64,0,0,0,0,0,0,0,0,0,1545.7139326178644]
["28.",{"$f":"B184","v":"STEINEROVÁ"},"Barbora","7.B",0,758.21397803640605,576.63165356659761,572.05316755434785,780.81100000000004,674.5,610.15200000000004,0,0,0,0,0,505.35211247657509,687,0,100,5264.7139116339267]
["29.",{"$f":"B185","v":"TOMEŠOVÁ"},"Barbora","7.B",0,758.21397803640605,0,622.19982236180113,0,0,439.8,0,0,0,0,0,0,762,0,75,2657.2138003982072]
["30.",{"$f":"B186","v":"VOHNOUTOVÁ"},"Aneta","7.B",0,830.39088871355852,0,654.57121683491459,765.16000000000008,674.5,640.36400000000015,0,0,0,0,0,0,949.5,0,125,4639.4861055484726]
[]
[]
[]
[]
[" ",null,"CELKOVÉ   VÝSLEDKY  ",null,null,null,null,null,null,null,null,null,null,null,null,null,null,null,null,null,{"$f":"U32","v":"2022-06-28"}]
[null,"8. ročník",null,null,null,"   60  m  ","   300m","  800m","   dálka","   výška","   míček","   koule","  člunek","  lehsed","odbíjení ","  plavání","    šplh","švihadlo","z místa"," REPRE","          CELKEM"]
[]
["1.",{"$f":"B187","v":"HAVLÍKOVÁ"},{"$f":"C187","v":"Michaela"},"8.A",null,{"$f":"F187","v":761.50216280382278},551.65920392727276,588.87148595701717,686.90500000000009,642,294.2,307.55555555555554,597.1577357980691,0,27,0,0,387,614.17847025495757,0,5458.0296142966945]
["2.",{"$f":"B188","v":"HOLUBCOVÁ"},"Sára","8.A",null,{"$f":"F188","v":845.17953880303025},714.04868691377942,622.86785062300169,765.16000000000008,739.5,476.2,455.11111111111114,685.83037098051761,0,30,0,447.20463165569055,505.75,811.76487252124662,75,7173.6170626083776]
["3.",{"$f":"B189","v":"HONCŮ"},"Tereza","8.A",null,{"$f":"F189","v":740.58995242516346},619.63603624551979,0,712.99,707,458,432.88888888888891,680.42888189513451,0,27,0,0,0,717.67610953729945,0,5096.2098689920058]
["4.",{"$f":"B190","v":"HORÁČKOVÁ"},"Kateřina","8.A",null,{"$f":"F190","v":771.52744304175155},731.98452854920299,662.71479314321107,0,772,494.40000000000003,678.22222222222217,711.14698200535088,0,57,0,444.17034921599287,487,830.58262511803605,125,6765.7489432957673]
["5.",{"$f":"B191","v":"JOUDALOVÁ"},"Daniela","8.A",null,{"$f":"F191","v":0},0,0,0,0,0,0,0,0,0,0,0,0,0,0,0]
["6.",{"$f":"B192","v":"KLÍMOVÁ"},"Anna","8.A",null,{"$f":"F192","v":689.24656505229348},644.7326761840809,602.15805139652161,686.90500000000009,707,458,491.5555555555556,650.21283452782598,0,27,0,423.2687918197164,518.25,680.04060434372059,0,6578.3700788797141]
["7.",{"$f":"B193","v":"KOHOUTOVÁ"},"Veronika","8.A",null,{"$f":"F193","v":809.55553391231797},714.69486579530519,622.19982236180113,759.9430000000001,707,512.6,497.77777777777777,682.44523321848476,0,30,0,476.77381349530651,605.75,670.63172804532587,75,7164.3717746063194]
["8.",{"$f":"B194","v":"KOVÁŘOVÁ"},"Viktorie","8.A",null,{"$f":"F194","v":734.36824122600524},683.29908907741935,713.09219271146208,765.16000000000008,772,448.90000000000003,440.88888888888891,669.20692661339285,0,18,0,410.02066413068138,474.5,722.38054768649681,75,6926.8165503343462]
["9.",{"$f":"B195","v":"KYNČLOVÁ"},"Anna","8.A",null,{"$f":"F195","v":809.55553391231797},887.40632333789677,936.32603738207558,766.899,707,512.6,413.33333333333331,721.46340005454545,0,18,0,475.19942110831761,574.5,858.8092540132202,125,7806.0923031417069]
["10.",{"$f":"B196","v":"MATOUŠOVÁ"},"Tereza","8.A",null,{"$f":"F196","v":717.00842382207418},578.86489876596875,514.19560002202786,704.29500000000007,804.5,421.6,435.55555555555554,591.40284393434342,0,30,0,0,318.25,496.56751652502362,75,5687.2398386249934]
["11.",{"$f":"B197","v":"MAZÁNKOVÁ"},"Zuzana","8.A",null,{"$f":"F197","v":706.09038873076918},633.27509649195622,635.75511476153963,660.82,0,285.10000000000002,377.77777777777777,604.63113483346899,0,0,0,0,0,0,0,3903.4495125955118]
["12.",{"$f":"B198","v":"MORKESOVÁ"},"Sabrina","8.A",null,{"$f":"F198","v":869.89241740356886},716.15205994231951,642.18973861449342,791.245,804.5,731,635.55555555555554,736.69000174666667,0,57,0,387.50878125955205,562,821.17374881964133,75,7829.9073033417981]
["13.",{"$f":"B199","v":"POHOŘALÁ"},"Alžběta","8.A",null,{"$f":"F199","v":785.2819338029675},725.48809906575207,666.73796972368405,768.63800000000003,739.5,439.8,475.55555555555554,702.51900532555237,0,18,0,0,480.75,698.85835694051002,75,6576.1289204140221]
["14.",{"$f":"B200","v":"SCHOLZOVÁ"},"Laura","8.A",null,{"$f":"F200","v":713.33461529703288},0,0,0,0,0,0,0,0,6,0,0,418.25,482.45420207743166,0,1620.0388173744645]
["15.",{"$f":"B201","v":"VÁCLAVÍKOVÁ"},"Valerie","8.A",null,{"$f":"F201","v":763.15619929469074},765.50131729117902,681.18530192934543,742.553,739.5,530.80000000000007,740.44444444444446,698.98081321592326,0,30,0,0,530.75,703.56279508970738,125,7051.4338712652898]
["16.",{"$f":"B202","v":"ZAPADLOVÁ"},"Emma","8.A",null,{"$f":"F202","v":877.35687949138901},737.72175306286545,0,722,772,685.5,488.88888888888886,662.76350304454274,0,24,816.39669282528484,650.81380458698709,562,694.15391879131289,75,7768.5954406912715]
["17.",{"$f":"B203","v":"ŽIŠKOVÁ"},"Mia","8.A",null,{"$f":"F203","v":0},0,0,0,0,439.8,0,0,0,24,0,0,0,0,0,463.8]
["18.",{"$f":"B204","v":"FARSKÁ"},"Tereza","8.B",null,{"$f":"F204","v":688.56082123770238},0,0,530.39499999999998,0,348.8,475.55555555555554,577.19966307878315,0,0,0,0,718.25,0,0,3338.7610398720408]
["19.",{"$f":"B205","v":"FEIXOVÁ"},"Rozálie","8.B",null,{"$f":"F205","v":629.26857546300994},0,400.32793238637794,0,0,248.70000000000002,0,0,0,0,0,0,512,0,0,1790.2965078493878]
["20.",{"$f":"B206","v":"FIŠEROVÁ"},"Michaela","8.B",null,{"$f":"F206","v":653.30939684745283},414.76311757229678,491.27460598103687,0,0,357.90000000000003,0,639.88299981462433,0,0,665.633633722127,0,874.5,0,25,4122.2637539375373]
["21.",{"$f":"B207","v":"HAVLÍČKOVÁ"},"Kristýna","8.B",null,{"$f":"F207","v":590.88467438804776},485.74502859617292,419.22526718877543,0,0,294.2,520,525.25456682449851,0,0,673.76734319052605,0,505.75,0,25,4039.8268801880204]
["22.",{"$f":"B208","v":"JODASOVÁ"},"Nikola","8.B",null,{"$f":"F208","v":745.32066182807353},673.1522455463122,0,0,0,0,564.44444444444446,0,0,0,0,0,737,0,25,2744.91735181883]
["23.",{"$f":"B209","v":"KADAVÁ"},"Nikola","8.B",null,{"$f":"F209","v":587.28048082435294},461.79568584668345,407.38776539738512,608.65000000000009,0,276,448.88888888888886,542.48626309267445,0,0,0,0,312,0,0,3644.4890840499847]
["24.",{"$f":"B210","v":"KRAFKOVÁ"},"Lucie","8.B",null,{"$f":"F210","v":0},0,0,0,0,0,0,0,0,0,0,0,0,0,0,0]
["25.",{"$f":"B211","v":"KŘIVINKOVÁ"},"Alžběta","8.B",null,{"$f":"F211","v":683.11979661237478},0,488.55468796981029,700.81700000000001,0,439.8,0,0,0,0,0,0,474.5,0,0,2786.7914845821851]
["26.",{"$f":"B212","v":"LEŠÁKOVÁ"},"Lenka","8.B",null,{"$f":"F212","v":568.39213015923076},495.05100507155396,468.46749020411221,645.16899999999998,0,276,306.66666666666669,562.18131761640007,0,0,0,0,712,0,0,4033.9276097179636]
["27.",{"$f":"B213","v":"NYKLÍČKOVÁ"},"Adéla","8.B",null,{"$f":"F213","v":783.53775638464185},739.59282685034816,754.43317658802846,756.46500000000003,759,430.7,0,687.19309798444647,0,0,0,0,1312,0,125,6347.9218578074651]
["28.",{"$f":"B214","v":"PLŮCHOVÁ"},"Petra","8.B",null,{"$f":"F214","v":714.79995600284633},605.04279420073613,571.47223816477049,632.99599999999998,0,439.8,564.44444444444446,607.88639765358403,0,0,0,0,1430.75,0,75,5642.1918304663814]
["29.",{"$f":"B215","v":"PODZIMKOVÁ"},"Eliška","8.B",null,{"$f":"F215","v":696.17384747561709},414.76311757229678,452.83203842119281,648.64700000000005,0,476.2,0,604.09167867777762,0,0,0,0,999.5,0,25,4317.2076821468836]
["30.",{"$f":"B216","v":"RUTKAYOVÁ"},"Klára","8.B",null,{"$f":"F216","v":568.39213015923076},0,458.49649418960428,613.86700000000008,0,276,0,0,0,0,0,0,405.75,0,0,2322.5056243488352]
["31.",{"$f":"B217","v":"SEIDLOVÁ"},"Zuzana","8.B",null,{"$f":"F217","v":690.62183435692396},620.41850284199995,500.2819329786247,721.68500000000006,0,527.16,0,0,0,0,0,0,730.75,0,75,3865.9172701775483]
["32.",{"$f":"B218","v":"TOMÁŠOVÁ"},"Sára","8.B",null,{"$f":"F218","v":0},422.26917380081045,0,636.47400000000005,0,339.7,478.22222222222217,513.76838276708804,0,0,0,0,418.25,0,0,2808.6837787901204]
["33.",{"$f":"B219","v":"VANCLOVÁ"},"Barbora","8.B",null,{"$f":"F219","v":704.65782257833951},621.72587921577474,500.04771449749148,0,0,0,413.33333333333331,0,0,0,697.47710629090909,0,1012,0,50,3999.2418559158482]
["34.",{"$f":"B220","v":"VOTOČKOVÁ"},"Veronika","8.B",null,{"$f":"F220","v":552.40417643203386},0,419.58132895016206,624.30100000000004,0,294.2,0,0,0,0,0,0,280.75,0,0,2171.2365053821959]
[]
[null,null,"CELKOVÉ   VÝSLEDKY  ",null,null,null,null,null,null,null,null,null,null,null,null,null,null,null,null,null,{"$f":"U70","v":"2022-06-28"}]
[]
[null,"9. ročník",null,null,null,"   60  m  ","   300m","  800m","   dálka","   výška","   míček","   koule","  člunek","  lehsed","odbíjení ","  plavání","    šplh","švihadlo","z místa"," REPRE","          CELKEM"]
[]
["1.",{"$f":"B221","v":"HARTIGOVÁ"},{"$f":"C221","v":"Anna"},"9.A",null,{"$f":"F221","v":735.91457295679004},0,582.37747883823533,704.29500000000007,804.5,448.90000000000003,608.88888888888891,663.40270892559784,0,117,0,0,0,802.35599622285167,0,5467.6346458323642]
["2.",{"$f":"B222","v":"HONCŮ"},"Rozálie","9.A",null,{"$f":"F222","v":878.43303675134109},759.95875969890608,542.3207231622057,850.37100000000009,772,512.6,612.44444444444434,740.58995242516346,0,36,0,413.01644428590907,749.5,854.10481586402284,50,7771.3391766319928]
["3.",{"$f":"B223","v":"CHALOUPSKÁ"},"Lucie","9.A",null,{"$f":"F223","v":862.54603720188322},769.83580091891702,0,791.245,0,512.6,644.44444444444446,743.73755041371385,0,0,0,0,449.5,0,0,4773.9088329789583]
["4.",{"$f":"B224","v":"KŘÍŽKOVÁ"},"Anna","9.A",null,{"$f":"F224","v":735.91457295679004},602.78511902551236,553.81802035163741,704.29500000000007,707,439.8,506.66666666666663,647.14308227157278,0,45,0,517.12073479653327,562,680.04060434372059,0,6701.5838004124334]
["5.",{"$f":"B225","v":"LUKEŠOVÁ"},"Kristýna","9.A",null,{"$f":"F225","v":772.37395413217803},0,550.22403196113351,723.42400000000009,642,367,493.33333333333331,644.70635054098352,0,36,0,533.58555592381958,437,647.10953729933908,0,5846.7567631907878]
["6.",{"$f":"B226","v":"MOTLÍKOVÁ"},"Eliška","9.A",null,{"$f":"F226","v":803.12933064164883},687.54490853963534,735.47136270022975,779.072,0,421.6,657.77777777777771,710.42052264811321,0,66,0,406.37826894888593,780.75,722.38054768649681,50,6820.5247189427882]
["7.",{"$f":"B227","v":"POHOŘELÁ"},"Amálie","9.A",null,{"$f":"F227","v":798.5971052614791},661.36074794112449,550.22403196113351,643.43000000000006,0,330.6,640,693.38759734963094,0,45,0,0,774.5,745.9027384324836,0,5883.0022209458511]
["8.",{"$f":"B228","v":"POLÁČKOVÁ"},"Natálie","9.A",null,{"$f":"F228","v":557.95307912279372},335.41126088004933,0,558.21900000000005,0,367,383.11111111111103,543.37457357976371,0,27,0,0,249.5,454.22757318224751,0,3475.7965978759653]
["9.",{"$f":"B229","v":"ŘEHOŘKOVÁ"},"Lucie","9.A",null,{"$f":"F229","v":753.33082715172645},588.28721427115374,478.60736583259745,773.85500000000002,707,467.1,717.33333333333337,647.14308227157278,0,27,0,0,368.25,680.04060434372059,0,6207.9474272041043]
["10.",{"$f":"B230","v":"SKÁLOVÁ"},"Alena","9.A",null,{"$f":"F230","v":675.10518203150309},526.77059630810209,447.03982022141111,641.69100000000003,642,357.90000000000003,680,600.87327277804752,0,15,0,0,249.5,510.68083097261569,0,5346.56070231168]
["11.",{"$f":"B231","v":"VÁVROVÁ "},"Aneta","9.A",null,{"$f":"F231","v":817.95994169211474},745.59544523693864,546.93779432490226,839.93700000000001,772,430.7,497.77777777777777,675.10518203150309,0,117,0,0,737,717.67610953729945,50,6947.6892506005361]
["12.",{"$f":"B232","v":"ZELINKOVÁ"},"Klára","9.A",null,{"$f":"F232","v":768.99822259593907},578.86489876596875,0,716.46800000000007,739.5,503.5,795.55555555555554,708.97170822379167,0,66,0,0,468.25,788.24268177525983,50,6184.3510669165153]
[]
[]
[]
[]
[]
[]
[]
[]
[]
[]
[]
[]
[]
[]
[]
[null,{"$f":"'D60'!B101","v":"HEJRALOVÁ"},{"$f":"'D60'!C101","v":"Natálie"},{"$f":"'D60'!D101","v":"6.A"},null,{"$f":"'D60'!H101","v":764.81691876127945},{"$f":"'D300'!H101","v":756.23959004337871},{"$f":"'D800'!H101","v":673.34442054850729},{"$f":"Ddál!H101","v":728.64100000000008},{"$f":"Dvýš!H101","v":739.5},{"$f":"Dmíč!H101","v":421.6},{"$f":"Dkou!H101","v":320},{"$f":"Dčlu!H101","v":617.84669144425982},{"$f":"Dls!H101","v":0},{"$f":"Dodbíj!H101","v":0},{"$f":"Dplav!H101","v":0},{"$f":"Dšplh!H101","v":0},{"$f":"Dšvih!H101","v":624.5},{"$f":"'Dz mís'!H101","v":571.83852691218135},{"$f":"Drepre!E4","v":0},{"$f":"SUM(F139:T139)","v":6218.3271477096059},null,{"$f":"FREQUENCY(E139:R139,0)","v":4}]
[null,{"$f":"'D60'!B102","v":"KERLE"},{"$f":"'D60'!C102","v":"Nikita"},{"$f":"'D60'!D102","v":"6.A"},null,{"$f":"'D60'!H102","v":751.7160542614314},{"$f":"'D300'!H102","v":768.02511733568667},{"$f":"'D800'!H102","v":755.40310173832825},{"$f":"Ddál!H102","v":786.02800000000002},{"$f":"Dvýš!H102","v":739.5},{"$f":"Dmíč!H102","v":376.1},{"$f":"Dkou!H102","v":293.33333333333331},{"$f":"Dčlu!H102","v":652.68792273443864},{"$f":"Dls!H102","v":0},{"$f":"Dodbíj!H102","v":0},{"$f":"Dplav!H102","v":0},{"$f":"Dšplh!H102","v":522.60152998285719},{"$f":"Dšvih!H102","v":624.5},{"$f":"'Dz mís'!H102","v":642.40509915014172},{"$f":"Drepre!E5","v":50},{"$f":"SUM(F140:T140)","v":6962.3001585362172},null,{"$f":"FREQUENCY(E140:R140,0)","v":3}]
[null,{"$f":"'D60'!B103","v":"PACLÍKOVÁ"},{"$f":"'D60'!C103","v":"Markéta"},{"$f":"'D60'!D103","v":"6.A"},null,{"$f":"'D60'!H103","v":768.99822259593907},{"$f":"'D300'!H103","v":670.79797849383704},{"$f":"'D800'!H103","v":637.21046182744692},{"$f":"Ddál!H103","v":712.99},{"$f":"Dvýš!H103","v":772},{"$f":"Dmíč!H103","v":494.40000000000003},{"$f":"Dkou!H103","v":400},{"$f":"Dčlu!H103","v":665.3271387095914},{"$f":"Dls!H103","v":0},{"$f":"Dodbíj!H103","v":0},{"$f":"Dplav!H103","v":0},{"$f":"Dšplh!H103","v":451.69735399586978},{"$f":"Dšvih!H103","v":687},{"$f":"'Dz mís'!H103","v":731.78942398489153},{"$f":"Drepre!E6","v":0},{"$f":"SUM(F141:T141)","v":6992.2105796075757},null,{"$f":"FREQUENCY(E141:R141,0)","v":3}]
[null,{"$f":"'D60'!B104","v":"PLŮCHOVÁ"},{"$f":"'D60'!C104","v":"Michaela"},{"$f":"'D60'!D104","v":"6.A"},null,{"$f":"'D60'!H104","v":768.99822259593907},{"$f":"'D300'!H104","v":670.50457240622723},{"$f":"'D800'!H104","v":0},{"$f":"Ddál!H104","v":683.42700000000002},{"$f":"Dvýš!H104","v":707},{"$f":"Dmíč!H104","v":348.8},{"$f":"Dkou!H104","v":434.66666666666663},{"$f":"Dčlu!H104","v":655.80618679842246},{"$f":"Dls!H104","v":0},{"$f":"Dodbíj!H104","v":0},{"$f":"Dplav!H104","v":0},{"$f":"Dšplh!H104","v":402.00334092341575},{"$f":"Dšvih!H104","v":755.75},{"$f":"'Dz mís'!H104","v":684.74504249291795},{"$f":"Drepre!E7","v":0},{"$f":"SUM(F142:T142)","v":6111.7010318835892},null,{"$f":"FREQUENCY(E142:R142,0)","v":4}]
[null,{"$f":"'D60'!B105","v":"ŠERCLOVÁ"},{"$f":"'D60'!C105","v":"Nikola"},{"$f":"'D60'!D105","v":"6.A"},null,{"$f":"'D60'!H105","v":615.05021777438014},{"$f":"'D300'!H105","v":453.50292675528885},{"$f":"'D800'!H105","v":523.33066151160835},{"$f":"Ddál!H105","v":605.17200000000003},{"$f":"Dvýš!H105","v":0},{"$f":"Dmíč!H105","v":0},{"$f":"Dkou!H105","v":295.11111111111114},{"$f":"Dčlu!H105","v":0},{"$f":"Dls!H105","v":0},{"$f":"Dodbíj!H105","v":0},{"$f":"Dplav!H105","v":0},{"$f":"Dšplh!H105","v":0},{"$f":"Dšvih!H105","v":218.25},{"$f":"'Dz mís'!H105","v":553.02077431539215},{"$f":"Drepre!E8","v":0},{"$f":"SUM(F143:T143)","v":3263.4376914677805},null,{"$f":"FREQUENCY(E143:R143,0)","v":7}]
[null,{"$f":"'D60'!B106","v":"VÁCLAVÍKOVÁ"},{"$f":"'D60'!C106","v":"Alena"},{"$f":"'D60'!D106","v":"6.A"},null,{"$f":"'D60'!H106","v":732.82791466699018},{"$f":"'D300'!H106","v":619.63603624551979},{"$f":"'D800'!H106","v":637.17574642194563},{"$f":"Ddál!H106","v":667.77600000000007},{"$f":"Dvýš!H106","v":609.5},{"$f":"Dmíč!H106","v":0},{"$f":"Dkou!H106","v":299.5555555555556},{"$f":"Dčlu!H106","v":625.80173157318779},{"$f":"Dls!H106","v":0},{"$f":"Dodbíj!H106","v":0},{"$f":"Dplav!H106","v":0},{"$f":"Dšplh!H106","v":0},{"$f":"Dšvih!H106","v":562},{"$f":"'Dz mís'!H106","v":632.99622285174701},{"$f":"Drepre!E9","v":0},{"$f":"SUM(F144:T144)","v":5387.2692073149465},null,{"$f":"FREQUENCY(E144:R144,0)","v":5}]
[null,{"$f":"'D60'!B107","v":"DUCHÁČKOVÁ"},{"$f":"'D60'!C107","v":"Tereza"},{"$f":"'D60'!D107","v":"6.B"},null,{"$f":"'D60'!H107","v":639.88299981462433},{"$f":"'D300'!H107","v":519.53535007402104},{"$f":"'D800'!H107","v":0},{"$f":"Ddál!H107","v":645.16899999999998},{"$f":"Dvýš!H107","v":544.5},{"$f":"Dmíč!H107","v":230.5},{"$f":"Dkou!H107","v":0},{"$f":"Dčlu!H107","v":546.05532065801185},{"$f":"Dls!H107","v":0},{"$f":"Dodbíj!H107","v":0},{"$f":"Dplav!H107","v":0},{"$f":"Dšplh!H107","v":0},{"$f":"Dšvih!H107","v":312},{"$f":"'Dz mís'!H107","v":426.00094428706336},{"$f":"Drepre!E10","v":0},{"$f":"SUM(F145:T145)","v":3863.6436148337207},null,{"$f":"FREQUENCY(E145:R145,0)","v":6},{"$f":"SUM(W139:W145)","v":32}]
[null,{"$f":"'D60'!B108","v":"FLAŠKOVÁ"},{"$f":"'D60'!C108","v":"Anna Sabriel"},{"$f":"'D60'!D108","v":"6.B"},null,{"$f":"'D60'!H108","v":659.5843689488986},{"$f":"'D300'!H108","v":538.79696647240939},{"$f":"'D800'!H108","v":0},{"$f":"Ddál!H108","v":662.55900000000008},{"$f":"Dvýš!H108","v":674.5},{"$f":"Dmíč!H108","v":421.6},{"$f":"Dkou!H108","v":268.44444444444446},{"$f":"Dčlu!H108","v":571.78814289533375},{"$f":"Dls!H108","v":0},{"$f":"Dodbíj!H108","v":0},{"$f":"Dplav!H108","v":0},{"$f":"Dšplh!H108","v":0},{"$f":"Dšvih!H108","v":287},{"$f":"'Dz mís'!H108","v":411.88762983947129},{"$f":"Drepre!E11","v":0},{"$f":"SUM(F146:T146)","v":4496.1605526005578},null,{"$f":"FREQUENCY(E146:R146,0)","v":5}]
[null,{"$f":"'D60'!B109","v":"HAASOVÁ"},{"$f":"'D60'!C109","v":"Julie"},{"$f":"'D60'!D109","v":"6.B"},null,{"$f":"'D60'!H109","v":763.9857211271443},{"$f":"'D300'!H109","v":669.18664679821393},{"$f":"'D800'!H109","v":631.66145534433963},{"$f":"Ddál!H109","v":765.16000000000008},{"$f":"Dvýš!H109","v":674.5},{"$f":"Dmíč!H109","v":421.6},{"$f":"Dkou!H109","v":0},{"$f":"Dčlu!H109","v":583.21005299763783},{"$f":"Dls!H109","v":0},{"$f":"Dodbíj!H109","v":0},{"$f":"Dplav!H109","v":0},{"$f":"Dšplh!H109","v":416.63405220911045},{"$f":"Dšvih!H109","v":493.25},{"$f":"'Dz mís'!H109","v":694.15391879131289},{"$f":"Drepre!E12","v":0},{"$f":"SUM(F147:T147)","v":6113.3418472677586},null,{"$f":"FREQUENCY(E147:R147,0)","v":4}]
[null,{"$f":"'D60'!B110","v":"HOBLOVÁ"},{"$f":"'D60'!C110","v":"Barbora"},{"$f":"'D60'!D110","v":"6.B"},null,{"$f":"'D60'!H110","v":746.91003059980244},{"$f":"'D300'!H110","v":640.1947661850287},{"$f":"'D800'!H110","v":607.09173098645749},{"$f":"Ddál!H110","v":619.08400000000006},{"$f":"Dvýš!H110","v":609.5},{"$f":"Dmíč!H110","v":376.1},{"$f":"Dkou!H110","v":0},{"$f":"Dčlu!H110","v":618.97178974535893},{"$f":"Dls!H110","v":0},{"$f":"Dodbíj!H110","v":0},{"$f":"Dplav!H110","v":0},{"$f":"Dšplh!H110","v":463.73901635703703},{"$f":"Dšvih!H110","v":612},{"$f":"'Dz mís'!H110","v":581.24740321057607},{"$f":"Drepre!E13","v":0},{"$f":"SUM(F148:T148)","v":5874.8387370842611},null,{"$f":"FREQUENCY(E148:R148,0)","v":4}]
[null,{"$f":"'D60'!B111","v":"HORÁČKOVÁ"},{"$f":"'D60'!C111","v":"Valérie"},{"$f":"'D60'!D111","v":"6.B"},null,{"$f":"'D60'!H111","v":749.30589769772052},{"$f":"'D300'!H111","v":706.36402433031185},{"$f":"'D800'!H111","v":600.17157606395335},{"$f":"Ddál!H111","v":664.298},{"$f":"Dvýš!H111","v":642},{"$f":"Dmíč!H111","v":367},{"$f":"Dkou!H111","v":394.66666666666669},{"$f":"Dčlu!H111","v":652.68792273443864},{"$f":"Dls!H111","v":0},{"$f":"Dodbíj!H111","v":0},{"$f":"Dplav!H111","v":674.28398581016302},{"$f":"Dšplh!H111","v":0},{"$f":"Dšvih!H111","v":0},{"$f":"'Dz mís'!H111","v":675.33616619452323},{"$f":"Drepre!E14","v":0},{"$f":"SUM(F149:T149)","v":6126.1142394977778},null,{"$f":"FREQUENCY(E149:R149,0)","v":4}]
[null,{"$f":"'D60'!B112","v":"JIRANOVÁ"},{"$f":"'D60'!C112","v":"Anežka"},{"$f":"'D60'!D112","v":"6.B"},null,{"$f":"'D60'!H112","v":543.37457357976371},{"$f":"'D300'!H112","v":0},{"$f":"'D800'!H112","v":386.43569901332626},{"$f":"Ddál!H112","v":570.39200000000005},{"$f":"Dvýš!H112","v":512},{"$f":"Dmíč!H112","v":321.5},{"$f":"Dkou!H112","v":271.11111111111109},{"$f":"Dčlu!H112","v":528.62145157084524},{"$f":"Dls!H112","v":0},{"$f":"Dodbíj!H112","v":0},{"$f":"Dplav!H112","v":0},{"$f":"Dšplh!H112","v":0},{"$f":"Dšvih!H112","v":280.75},{"$f":"'Dz mís'!H112","v":336.61661945231356},{"$f":"Drepre!E15","v":0},{"$f":"SUM(F150:T150)","v":3750.8014547273601},null,{"$f":"FREQUENCY(E150:R150,0)","v":5}]
[null,{"$f":"'D60'!B113","v":"JODASOVÁ"},{"$f":"'D60'!C113","v":"Denisa"},{"$f":"'D60'!D113","v":"6.B"},null,{"$f":"'D60'!H113","v":727.48356080070721},{"$f":"'D300'!H113","v":0},{"$f":"'D800'!H113","v":614.47106332192413},{"$f":"Ddál!H113","v":756.46500000000003},{"$f":"Dvýš!H113","v":0},{"$f":"Dmíč!H113","v":603.6},{"$f":"Dkou!H113","v":396.44444444444446},{"$f":"Dčlu!H113","v":684.47261289911864},{"$f":"Dls!H113","v":0},{"$f":"Dodbíj!H113","v":0},{"$f":"Dplav!H113","v":0},{"$f":"Dšplh!H113","v":475.87076351287016},{"$f":"Dšvih!H113","v":555.75},{"$f":"'Dz mís'!H113","v":665.92728989612851},{"$f":"Drepre!E16","v":0},{"$f":"SUM(F151:T151)","v":5480.4847348751937},null,{"$f":"FREQUENCY(E151:R151,0)","v":5}]
[null,{"$f":"'D60'!B114","v":"KRČÍKOVÁ"},{"$f":"'D60'!C114","v":"Beatrix"},{"$f":"'D60'!D114","v":"6.B"},null,{"$f":"'D60'!H114","v":723.71012751151648},{"$f":"'D300'!H114","v":619.63603624551979},{"$f":"'D800'!H114","v":561.91087155264449},{"$f":"Ddál!H114","v":737.33600000000001},{"$f":"Dvýš!H114","v":707},{"$f":"Dmíč!H114","v":430.7},{"$f":"Dkou!H114","v":402.66666666666669},{"$f":"Dčlu!H114","v":0},{"$f":"Dls!H114","v":0},{"$f":"Dodbíj!H114","v":0},{"$f":"Dplav!H114","v":0},{"$f":"Dšplh!H114","v":0},{"$f":"Dšvih!H114","v":455.75},{"$f":"'Dz mís'!H114","v":689.4494806421153},{"$f":"Drepre!E17","v":0},{"$f":"SUM(F152:T152)","v":5328.1591826184631},null,{"$f":"FREQUENCY(E152:R152,0)","v":5}]
[null,{"$f":"'D60'!B115","v":"KUBÁTOVÁ"},{"$f":"'D60'!C115","v":"Veronika"},{"$f":"'D60'!D115","v":"6.B"},null,{"$f":"'D60'!H115","v":604.63113483346899},{"$f":"'D300'!H115","v":479.91615391068365},{"$f":"'D800'!H115","v":0},{"$f":"Ddál!H115","v":513.005},{"$f":"Dvýš!H115","v":0},{"$f":"Dmíč!H115","v":130.4},{"$f":"Dkou!H115","v":0},{"$f":"Dčlu!H115","v":0},{"$f":"Dls!H115","v":0},{"$f":"Dodbíj!H115","v":0},{"$f":"Dplav!H115","v":0},{"$f":"Dšplh!H115","v":0},{"$f":"Dšvih!H115","v":5.75},{"$f":"'Dz mís'!H115","v":482.45420207743166},{"$f":"Drepre!E18","v":0},{"$f":"SUM(F153:T153)","v":2216.1564908215842},null,{"$f":"FREQUENCY(E153:R153,0)","v":8}]
[null,{"$f":"'D60'!B116","v":"LENČEŠOVÁ"},{"$f":"'D60'!C116","v":"Silvie"},{"$f":"'D60'!D116","v":"6.B"},null,{"$f":"'D60'!H116","v":646.53231841435979},{"$f":"'D300'!H116","v":574.76074862463793},{"$f":"'D800'!H116","v":593.10248629938815},{"$f":"Ddál!H116","v":619.08400000000006},{"$f":"Dvýš!H116","v":544.5},{"$f":"Dmíč!H116","v":385.2},{"$f":"Dkou!H116","v":221.33333333333334},{"$f":"Dčlu!H116","v":590.36732995249474},{"$f":"Dls!H116","v":0},{"$f":"Dodbíj!H116","v":0},{"$f":"Dplav!H116","v":0},{"$f":"Dšplh!H116","v":0},{"$f":"Dšvih!H116","v":593.25},{"$f":"'Dz mís'!H116","v":505.97639282341834},{"$f":"Drepre!E19","v":0},{"$f":"SUM(F154:T154)","v":5274.1066094476319},null,{"$f":"FREQUENCY(E154:R154,0)","v":4}]
[null,{"$f":"'D60'!B117","v":"MATERNOVÁ"},{"$f":"'D60'!C117","v":"Lenka"},{"$f":"'D60'!D117","v":"6.B"},null,{"$f":"'D60'!H117","v":833.3097863898613},{"$f":"'D300'!H117","v":778.80544947747217},{"$f":"'D800'!H117","v":655.44352801799789},{"$f":"Ddál!H117","v":627.779},{"$f":"Dvýš!H117","v":707},{"$f":"Dmíč!H117","v":285.10000000000002},{"$f":"Dkou!H117","v":0},{"$f":"Dčlu!H117","v":631.59937482670045},{"$f":"Dls!H117","v":0},{"$f":"Dodbíj!H117","v":0},{"$f":"Dplav!H117","v":0},{"$f":"Dšplh!H117","v":704.07752050220381},{"$f":"Dšvih!H117","v":343.25},{"$f":"'Dz mís'!H117","v":520.08970727101064},{"$f":"Drepre!E20","v":0},{"$f":"SUM(F155:T155)","v":6086.4543664852454},null,{"$f":"FREQUENCY(E155:R155,0)","v":4}]
[null,{"$f":"'D60'!B118","v":"TÓTHOVÁ"},{"$f":"'D60'!C118","v":"Viktorie"},{"$f":"'D60'!D118","v":"6.B"},null,{"$f":"'D60'!H118","v":665.3271387095914},{"$f":"'D300'!H118","v":580.75532269516316},{"$f":"'D800'!H118","v":504.45661030126666},{"$f":"Ddál!H118","v":669.51499999999999},{"$f":"Dvýš!H118","v":642},{"$f":"Dmíč!H118","v":403.40000000000003},{"$f":"Dkou!H118","v":297.77777777777777},{"$f":"Dčlu!H118","v":557.02127698413892},{"$f":"Dls!H118","v":0},{"$f":"Dodbíj!H118","v":0},{"$f":"Dplav!H118","v":0},{"$f":"Dšplh!H118","v":0},{"$f":"Dšvih!H118","v":380.75},{"$f":"'Dz mís'!H118","v":661.22285174693116},{"$f":"Drepre!E21","v":0},{"$f":"SUM(F156:T156)","v":5362.2259782148694},null,{"$f":"FREQUENCY(E156:R156,0)","v":4},{"$f":"SUM(W146:W156)-5","v":47}]
[null,{"$f":"'D60'!B119","v":"ERBENOVÁ"},{"$f":"'D60'!C119","v":"Sára"},{"$f":"'D60'!D119","v":"7.A"},null,{"$f":"'D60'!H119","v":656.43312199444438},{"$f":"'D300'!H119","v":451.66914191880301},{"$f":"'D800'!H119","v":418.97629834610166},{"$f":"Ddál!H119","v":599.95500000000004},{"$f":"Dvýš!H119","v":0},{"$f":"Dmíč!H119","v":266.90000000000003},{"$f":"Dkou!H119","v":0},{"$f":"Dčlu!H119","v":576.20885373338524},{"$f":"Dls!H119","v":0},{"$f":"Dodbíj!H119","v":51},{"$f":"Dplav!H119","v":0},{"$f":"Dšplh!H119","v":0},{"$f":"Dšvih!H119","v":0},{"$f":"'Dz mís'!H119","v":491.86307837582638},{"$f":"Drepre!E22","v":0},{"$f":"SUM(F157:T157)","v":3513.0054943685609},null,{"$f":"FREQUENCY(E157:R157,0)","v":6}]
[null,{"$f":"'D60'!B120","v":"GINGALOVÁ"},{"$f":"'D60'!C120","v":"Linda"},{"$f":"'D60'!D120","v":"7.A"},null,{"$f":"'D60'!H120","v":794.11228809658292},{"$f":"'D300'!H120","v":0},{"$f":"'D800'!H120","v":419.04740926554416},{"$f":"Ddál!H120","v":733.85800000000006},{"$f":"Dvýš!H120","v":739.5},{"$f":"Dmíč!H120","v":439.8},{"$f":"Dkou!H120","v":0},{"$f":"Dčlu!H120","v":0},{"$f":"Dls!H120","v":0},{"$f":"Dodbíj!H120","v":0},{"$f":"Dplav!H120","v":0},{"$f":"Dšplh!H120","v":0},{"$f":"Dšvih!H120","v":593.25},{"$f":"'Dz mís'!H120","v":0},{"$f":"Drepre!E23","v":75},{"$f":"SUM(F158:T158)","v":3794.5676973621275},null,{"$f":"FREQUENCY(E158:R158,0)","v":7}]
[null,{"$f":"'D60'!B121","v":"HOFMANOVÁ "},{"$f":"'D60'!C121","v":"Nicol"},{"$f":"'D60'!D121","v":"7.A"},null,{"$f":"'D60'!H121","v":687.87633336416366},{"$f":"'D300'!H121","v":0},{"$f":"'D800'!H121","v":0},{"$f":"Ddál!H121","v":617.34500000000003},{"$f":"Dvýš!H121","v":0},{"$f":"Dmíč!H121","v":394.3},{"$f":"Dkou!H121","v":454.22222222222223},{"$f":"Dčlu!H121","v":527.35433139491965},{"$f":"Dls!H121","v":0},{"$f":"Dodbíj!H121","v":51},{"$f":"Dplav!H121","v":0},{"$f":"Dšplh!H121","v":0},{"$f":"Dšvih!H121","v":368.25},{"$f":"'Dz mís'!H121","v":604.76959395656286},{"$f":"Drepre!E24","v":0},{"$f":"SUM(F159:T159)","v":3705.1174809378681},null,{"$f":"FREQUENCY(E159:R159,0)","v":6}]
[null,{"$f":"'D60'!B122","v":"HOLEŠOVSKÁ"},{"$f":"'D60'!C122","v":"Aneta"},{"$f":"'D60'!D122","v":"7.A"},null,{"$f":"'D60'!H122","v":717.00842382207418},{"$f":"'D300'!H122","v":0},{"$f":"'D800'!H122","v":455.65056986658033},{"$f":"Ddál!H122","v":679.94900000000007},{"$f":"Dvýš!H122","v":0},{"$f":"Dmíč!H122","v":496.22},{"$f":"Dkou!H122","v":0},{"$f":"Dčlu!H122","v":0},{"$f":"Dls!H122","v":0},{"$f":"Dodbíj!H122","v":0},{"$f":"Dplav!H122","v":0},{"$f":"Dšplh!H122","v":0},{"$f":"Dšvih!H122","v":1124.5},{"$f":"'Dz mís'!H122","v":0},{"$f":"Drepre!E25","v":25},{"$f":"SUM(F160:T160)","v":3498.3279936886547},null,{"$f":"FREQUENCY(E160:R160,0)","v":8}]
[null,{"$f":"'D60'!B123","v":"HOLUBCOVÁ"},{"$f":"'D60'!C123","v":"Alena"},{"$f":"'D60'!D123","v":"7.A"},null,{"$f":"'D60'!H123","v":797.69637307457981},{"$f":"'D300'!H123","v":592.28967736506092},{"$f":"'D800'!H123","v":563.07051451235554},{"$f":"Ddál!H123","v":678.21},{"$f":"Dvýš!H123","v":739.5},{"$f":"Dmíč!H123","v":704.79200000000003},{"$f":"Dkou!H123","v":546.66666666666663},{"$f":"Dčlu!H123","v":608.97859476139763},{"$f":"Dls!H123","v":0},{"$f":"Dodbíj!H123","v":30},{"$f":"Dplav!H123","v":0},{"$f":"Dšplh!H123","v":0},{"$f":"Dšvih!H123","v":499.5},{"$f":"'Dz mís'!H123","v":717.67610953729945},{"$f":"Drepre!E26","v":75},{"$f":"SUM(F161:T161)","v":6553.3799359173599},null,{"$f":"FREQUENCY(E161:R161,0)","v":3}]
[null,{"$f":"'D60'!B124","v":"KOHOUTOVÁ"},{"$f":"'D60'!C124","v":"Anna"},{"$f":"'D60'!D124","v":"7.A"},null,{"$f":"'D60'!H124","v":655.18034956246345},{"$f":"'D300'!H124","v":493.45159045830121},{"$f":"'D800'!H124","v":529.27534303492848},{"$f":"Ddál!H124","v":579.08699999999999},{"$f":"Dvýš!H124","v":674.5},{"$f":"Dmíč!H124","v":294.2},{"$f":"Dkou!H124","v":329.77777777777777},{"$f":"Dčlu!H124","v":537.210945550926},{"$f":"Dls!H124","v":0},{"$f":"Dodbíj!H124","v":21},{"$f":"Dplav!H124","v":0},{"$f":"Dšplh!H124","v":0},{"$f":"Dšvih!H124","v":537},{"$f":"'Dz mís'!H124","v":482.45420207743166},{"$f":"Drepre!E27","v":0},{"$f":"SUM(F162:T162)","v":5133.1372084618279},null,{"$f":"FREQUENCY(E162:R162,0)","v":3}]
[null,{"$f":"'D60'!B125","v":"KRAUSOVÁ"},{"$f":"'D60'!C125","v":"Anežka"},{"$f":"'D60'!D125","v":"7.A"},null,{"$f":"'D60'!H125","v":657.69029784446377},{"$f":"'D300'!H125","v":540.07439954650465},{"$f":"'D800'!H125","v":0},{"$f":"Ddál!H125","v":718.20699999999999},{"$f":"Dvýš!H125","v":674.5},{"$f":"Dmíč!H125","v":321.5},{"$f":"Dkou!H125","v":457.77777777777777},{"$f":"Dčlu!H125","v":608.43204931833054},{"$f":"Dls!H125","v":0},{"$f":"Dodbíj!H125","v":48},{"$f":"Dplav!H125","v":0},{"$f":"Dšplh!H125","v":0},{"$f":"Dšvih!H125","v":499.5},{"$f":"'Dz mís'!H125","v":618.88290840415493},{"$f":"Drepre!E28","v":0},{"$f":"SUM(F163:T163)","v":5144.5644328912313},null,{"$f":"FREQUENCY(E163:R163,0)","v":4}]
[null,{"$f":"'D60'!B126","v":"KUŽELOVÁ"},{"$f":"'D60'!C126","v":"Apoléna"},{"$f":"'D60'!D126","v":"7.A"},null,{"$f":"'D60'!H126","v":737.46694504589846},{"$f":"'D300'!H126","v":0},{"$f":"'D800'!H126","v":488.10368199990887},{"$f":"Ddál!H126","v":660.82},{"$f":"Dvýš!H126","v":674.5},{"$f":"Dmíč!H126","v":403.40000000000003},{"$f":"Dkou!H126","v":0},{"$f":"Dčlu!H126","v":0},{"$f":"Dls!H126","v":0},{"$f":"Dodbíj!H126","v":0},{"$f":"Dplav!H126","v":0},{"$f":"Dšplh!H126","v":0},{"$f":"Dšvih!H126","v":843.25},{"$f":"'Dz mís'!H126","v":0},{"$f":"Drepre!E29","v":0},{"$f":"SUM(F164:T164)","v":3807.5406270458075},null,{"$f":"FREQUENCY(E164:R164,0)","v":7}]
[null,{"$f":"'D60'!B127","v":"MORÁVKOVÁ"},{"$f":"'D60'!C127","v":"Lucie"},{"$f":"'D60'!D127","v":"7.A"},null,{"$f":"'D60'!H127","v":635.12532875773047},{"$f":"'D300'!H127","v":0},{"$f":"'D800'!H127","v":454.84249733175227},{"$f":"Ddál!H127","v":0},{"$f":"Dvýš!H127","v":0},{"$f":"Dmíč!H127","v":330.6},{"$f":"Dkou!H127","v":0},{"$f":"Dčlu!H127","v":0},{"$f":"Dls!H127","v":0},{"$f":"Dodbíj!H127","v":0},{"$f":"Dplav!H127","v":0},{"$f":"Dšplh!H127","v":0},{"$f":"Dšvih!H127","v":0},{"$f":"'Dz mís'!H127","v":0},{"$f":"Drepre!E30","v":0},{"$f":"SUM(F165:T165)","v":1420.5678260894829},null,{"$f":"FREQUENCY(E165:R165,0)","v":10}]
[null,{"$f":"'D60'!B128","v":"SKLENÁROVÁ"},{"$f":"'D60'!C128","v":"Eliška"},{"$f":"'D60'!D128","v":"7.A"},null,{"$f":"'D60'!H128","v":0},{"$f":"'D300'!H128","v":0},{"$f":"'D800'!H128","v":0},{"$f":"Ddál!H128","v":598.21600000000001},{"$f":"Dvýš!H128","v":674.5},{"$f":"Dmíč!H128","v":0},{"$f":"Dkou!H128","v":0},{"$f":"Dčlu!H128","v":551.03251424856637},{"$f":"Dls!H128","v":0},{"$f":"Dodbíj!H128","v":21},{"$f":"Dplav!H128","v":0},{"$f":"Dšplh!H128","v":0},{"$f":"Dšvih!H128","v":337},{"$f":"'Dz mís'!H128","v":595.36071765816814},{"$f":"Drepre!E31","v":0},{"$f":"SUM(F166:T166)","v":2777.1092319067343},null,{"$f":"FREQUENCY(E166:R166,0)","v":8}]
[null,{"$f":"'D60'!B129","v":"ŠEJNOVÁ"},{"$f":"'D60'!C129","v":"Karolína"},{"$f":"'D60'!D129","v":"7.A"},null,{"$f":"'D60'!H129","v":0},{"$f":"'D300'!H129","v":562.69902446382548},{"$f":"'D800'!H129","v":424.77844304964663},{"$f":"Ddál!H129","v":652.125},{"$f":"Dvýš!H129","v":642},{"$f":"Dmíč!H129","v":294.2},{"$f":"Dkou!H129","v":357.33333333333337},{"$f":"Dčlu!H129","v":594.00613769175322},{"$f":"Dls!H129","v":0},{"$f":"Dodbíj!H129","v":51},{"$f":"Dplav!H129","v":0},{"$f":"Dšplh!H129","v":0},{"$f":"Dšvih!H129","v":299.5},{"$f":"'Dz mís'!H129","v":694.15391879131289},{"$f":"Drepre!E32","v":0},{"$f":"SUM(F167:T167)","v":4571.795857329872},null,{"$f":"FREQUENCY(E167:R167,0)","v":4}]
[null,{"$f":"'D60'!B130","v":"ŠTOLFOVÁ"},{"$f":"'D60'!C130","v":"Tereza"},{"$f":"'D60'!D130","v":"7.A"},null,{"$f":"'D60'!H130","v":698.27711706932837},{"$f":"'D300'!H130","v":602.28510060972189},{"$f":"'D800'!H130","v":0},{"$f":"Ddál!H130","v":669.51499999999999},{"$f":"Dvýš!H130","v":707},{"$f":"Dmíč!H130","v":266.90000000000003},{"$f":"Dkou!H130","v":319.11111111111109},{"$f":"Dčlu!H130","v":0},{"$f":"Dls!H130","v":0},{"$f":"Dodbíj!H130","v":48},{"$f":"Dplav!H130","v":0},{"$f":"Dšplh!H130","v":0},{"$f":"Dšvih!H130","v":343.25},{"$f":"'Dz mís'!H130","v":0},{"$f":"Drepre!E33","v":0},{"$f":"SUM(F168:T168)","v":3654.3383287901615},null,{"$f":"FREQUENCY(E168:R168,0)","v":5}]
[null,{"$f":"'D60'!B131","v":"ŠUBÍKOVÁ"},{"$f":"'D60'!C131","v":"Klára"},{"$f":"'D60'!D131","v":"7.A"},null,{"$f":"'D60'!H131","v":717.74738416539685},{"$f":"'D300'!H131","v":632.60272006797732},{"$f":"'D800'!H131","v":559.88378892187495},{"$f":"Ddál!H131","v":709.51200000000006},{"$f":"Dvýš!H131","v":739.5},{"$f":"Dmíč!H131","v":403.40000000000003},{"$f":"Dkou!H131","v":306.66666666666669},{"$f":"Dčlu!H131","v":611.724805828125},{"$f":"Dls!H131","v":0},{"$f":"Dodbíj!H131","v":30},{"$f":"Dplav!H131","v":0},{"$f":"Dšplh!H131","v":446.12658522873272},{"$f":"Dšvih!H131","v":487},{"$f":"'Dz mís'!H131","v":623.58734655335252},{"$f":"Drepre!E34","v":75},{"$f":"SUM(F169:T169)","v":6342.7512974321253},null,{"$f":"FREQUENCY(E169:R169,0)","v":2}]
[null,{"$f":"'D60'!B132","v":"ŠULKOVSKÁ"},{"$f":"'D60'!C132","v":"Klára"},{"$f":"'D60'!D132","v":"7.A"},null,{"$f":"'D60'!H132","v":650.82999098665505},{"$f":"'D300'!H132","v":482.45431100819201},{"$f":"'D800'!H132","v":0},{"$f":"Ddál!H132","v":648.64700000000005},{"$f":"Dvýš!H132","v":0},{"$f":"Dmíč!H132","v":385.2},{"$f":"Dkou!H132","v":379.55555555555549},{"$f":"Dčlu!H132","v":0},{"$f":"Dls!H132","v":0},{"$f":"Dodbíj!H132","v":51},{"$f":"Dplav!H132","v":0},{"$f":"Dšplh!H132","v":453.88588857617077},{"$f":"Dšvih!H132","v":249.5},{"$f":"'Dz mís'!H132","v":0},{"$f":"Drepre!E35","v":0},{"$f":"SUM(F170:T170)","v":3301.0727461265733},null,{"$f":"FREQUENCY(E170:R170,0)","v":5}]
[null,{"$f":"'D60'!B133","v":"TULÁČKOVÁ"},{"$f":"'D60'!C133","v":"Natálie"},{"$f":"'D60'!D133","v":"7.A"},null,{"$f":"'D60'!H133","v":725.21514686570504},{"$f":"'D300'!H133","v":0},{"$f":"'D800'!H133","v":526.13715158126945},{"$f":"Ddál!H133","v":672.99300000000005},{"$f":"Dvýš!H133","v":0},{"$f":"Dmíč!H133","v":367},{"$f":"Dkou!H133","v":0},{"$f":"Dčlu!H133","v":0},{"$f":"Dls!H133","v":0},{"$f":"Dodbíj!H133","v":0},{"$f":"Dplav!H133","v":0},{"$f":"Dšplh!H133","v":0},{"$f":"Dšvih!H133","v":699.5},{"$f":"'Dz mís'!H133","v":0},{"$f":"Drepre!E36","v":0},{"$f":"SUM(F171:T171)","v":2990.8452984469745},null,{"$f":"FREQUENCY(E171:R171,0)","v":8}]
[null,{"$f":"'D60'!B134","v":"VOJTÍŠKOVÁ"},{"$f":"'D60'!C134","v":"Ella"},{"$f":"'D60'!D134","v":"7.A"},null,{"$f":"'D60'!H134","v":797.69637307457981},{"$f":"'D300'!H134","v":0},{"$f":"'D800'!H134","v":466.57227295935957},{"$f":"Ddál!H134","v":784.2890000000001},{"$f":"Dvýš!H134","v":824},{"$f":"Dmíč!H134","v":0},{"$f":"Dkou!H134","v":0},{"$f":"Dčlu!H134","v":0},{"$f":"Dls!H134","v":0},{"$f":"Dodbíj!H134","v":0},{"$f":"Dplav!H134","v":0},{"$f":"Dšplh!H134","v":0},{"$f":"Dšvih!H134","v":687},{"$f":"'Dz mís'!H134","v":0},{"$f":"Drepre!E37","v":125},{"$f":"SUM(F172:T172)","v":3684.5576460339394},null,{"$f":"FREQUENCY(E172:R172,0)","v":8},{"$f":"SUM(W157:W172)","v":94}]
[null,{"$f":"'D60'!B135","v":"DRUGÁČOVÁ"},{"$f":"'D60'!C135","v":"Kristinka"},{"$f":"'D60'!D135","v":"7.B"},null,{"$f":"'D60'!H135","v":0},{"$f":"'D300'!H135","v":0},{"$f":"'D800'!H135","v":0},{"$f":"Ddál!H135","v":747.7700000000001},{"$f":"Dvýš!H135","v":0},{"$f":"Dmíč!H135","v":0},{"$f":"Dkou!H135","v":484.44444444444446},{"$f":"Dčlu!H135","v":0},{"$f":"Dls!H135","v":0},{"$f":"Dodbíj!H135","v":0},{"$f":"Dplav!H135","v":0},{"$f":"Dšplh!H135","v":0},{"$f":"Dšvih!H135","v":0},{"$f":"'Dz mís'!H135","v":0},{"$f":"Drepre!E38","v":0},{"$f":"SUM(F173:T173)","v":1232.2144444444446},null,{"$f":"FREQUENCY(E173:R173,0)","v":11}]
[null,{"$f":"'D60'!B136","v":"FAJSTAVROVÁ"},{"$f":"'D60'!C136","v":"Karolína"},{"$f":"'D60'!D136","v":"7.B"},null,{"$f":"'D60'!H136","v":845.17953880303025},{"$f":"'D300'!H136","v":0},{"$f":"'D800'!H136","v":708.09115153027676},{"$f":"Ddál!H136","v":699.07800000000009},{"$f":"Dvýš!H136","v":0},{"$f":"Dmíč!H136","v":558.1},{"$f":"Dkou!H136","v":0},{"$f":"Dčlu!H136","v":0},{"$f":"Dls!H136","v":0},{"$f":"Dodbíj!H136","v":0},{"$f":"Dplav!H136","v":0},{"$f":"Dšplh!H136","v":0},{"$f":"Dšvih!H136","v":974.5},{"$f":"'Dz mís'!H136","v":0},{"$f":"Drepre!E39","v":75},{"$f":"SUM(F174:T174)","v":3859.9486903333068},null,{"$f":"FREQUENCY(E174:R174,0)","v":8}]
[null,{"$f":"'D60'!B137","v":"FAJSTAVROVÁ"},{"$f":"'D60'!C137","v":"Magdaléna"},{"$f":"'D60'!D137","v":"7.B"},null,{"$f":"'D60'!H137","v":783.53775638464185},{"$f":"'D300'!H137","v":0},{"$f":"'D800'!H137","v":773.28098002623869},{"$f":"Ddál!H137","v":688.64400000000001},{"$f":"Dvýš!H137","v":0},{"$f":"Dmíč!H137","v":521.70000000000005},{"$f":"Dkou!H137","v":0},{"$f":"Dčlu!H137","v":0},{"$f":"Dls!H137","v":0},{"$f":"Dodbíj!H137","v":0},{"$f":"Dplav!H137","v":0},{"$f":"Dšplh!H137","v":444.61657818800001},{"$f":"Dšvih!H137","v":1193.25},{"$f":"'Dz mís'!H137","v":0},{"$f":"Drepre!E40","v":125},{"$f":"SUM(F175:T175)","v":4530.0293145988808},null,{"$f":"FREQUENCY(E175:R175,0)","v":7}]
[null,{"$f":"'D60'!B138","v":"HLAVATÁ"},{"$f":"'D60'!C138","v":"Anna"},{"$f":"'D60'!D138","v":"7.B"},null,{"$f":"'D60'!H138","v":0},{"$f":"'D300'!H138","v":0},{"$f":"'D800'!H138","v":0},{"$f":"Ddál!H138","v":688.64400000000001},{"$f":"Dvýš!H138","v":0},{"$f":"Dmíč!H138","v":0},{"$f":"Dkou!H138","v":0},{"$f":"Dčlu!H138","v":0},{"$f":"Dls!H138","v":0},{"$f":"Dodbíj!H138","v":0},{"$f":"Dplav!H138","v":0},{"$f":"Dšplh!H138","v":0},{"$f":"Dšvih!H138","v":0},{"$f":"'Dz mís'!H138","v":0},{"$f":"Drepre!E41","v":0},{"$f":"SUM(F176:T176)","v":688.64400000000001},null,{"$f":"FREQUENCY(E176:R176,0)","v":12}]
[null,{"$f":"'D60'!B139","v":"JINDROVÁ"},{"$f":"'D60'!C139","v":"Barbora"},{"$f":"'D60'!D139","v":"7.B"},null,{"$f":"'D60'!H139","v":696.17384747561709},{"$f":"'D300'!H139","v":0},{"$f":"'D800'!H139","v":567.43249676995072},{"$f":"Ddál!H139","v":685.16600000000005},{"$f":"Dvýš!H139","v":0},{"$f":"Dmíč!H139","v":294.2},{"$f":"Dkou!H139","v":0},{"$f":"Dčlu!H139","v":0},{"$f":"Dls!H139","v":0},{"$f":"Dodbíj!H139","v":0},{"$f":"Dplav!H139","v":0},{"$f":"Dšplh!H139","v":431.27499035838252},{"$f":"Dšvih!H139","v":1187},{"$f":"'Dz mís'!H139","v":0},{"$f":"Drepre!E42","v":75},{"$f":"SUM(F177:T177)","v":3936.2473346039505},null,{"$f":"FREQUENCY(E177:R177,0)","v":7}]
[null,{"$f":"'D60'!B140","v":"MAŘASOVÁ"},{"$f":"'D60'!C140","v":"Vendula"},{"$f":"'D60'!D140","v":"7.B"},null,{"$f":"'D60'!H140","v":697.57472648144721},{"$f":"'D300'!H140","v":0},{"$f":"'D800'!H140","v":603.64707902109467},{"$f":"Ddál!H140","v":669.51499999999999},{"$f":"Dvýš!H140","v":544.5},{"$f":"Dmíč!H140","v":321.5},{"$f":"Dkou!H140","v":0},{"$f":"Dčlu!H140","v":0},{"$f":"Dls!H140","v":0},{"$f":"Dodbíj!H140","v":0},{"$f":"Dplav!H140","v":0},{"$f":"Dšplh!H140","v":0},{"$f":"Dšvih!H140","v":0},{"$f":"'Dz mís'!H140","v":0},{"$f":"Drepre!E43","v":25},{"$f":"SUM(F178:T178)","v":2861.7368055025418},null,{"$f":"FREQUENCY(E178:R178,0)","v":8}]
[null,{"$f":"'D60'!B141","v":"PETŘÍČKOVÁ"},{"$f":"'D60'!C141","v":"Natálie"},{"$f":"'D60'!D141","v":"7.B"},null,{"$f":"'D60'!H141","v":857.36937442734074},{"$f":"'D300'!H141","v":752.89899315510479},{"$f":"'D800'!H141","v":621.53297854787229},{"$f":"Ddál!H141","v":803.41800000000001},{"$f":"Dvýš!H141","v":674.5},{"$f":"Dmíč!H141","v":430.7},{"$f":"Dkou!H141","v":0},{"$f":"Dčlu!H141","v":0},{"$f":"Dls!H141","v":0},{"$f":"Dodbíj!H141","v":0},{"$f":"Dplav!H141","v":0},{"$f":"Dšplh!H141","v":575.75936957242288},{"$f":"Dšvih!H141","v":0},{"$f":"'Dz mís'!H141","v":0},{"$f":"Drepre!E44","v":125},{"$f":"SUM(F179:T179)","v":4841.1787157027411},null,{"$f":"FREQUENCY(E179:R179,0)","v":6}]
[null,{"$f":"'D60'!B142","v":"PETŘÍKOVÁ"},{"$f":"'D60'!C142","v":"Adéla"},{"$f":"'D60'!D142","v":"7.B"},null,{"$f":"'D60'!H142","v":684.47261289911864},{"$f":"'D300'!H142","v":648.06334030489097},{"$f":"'D800'!H142","v":0},{"$f":"Ddál!H142","v":606.91100000000006},{"$f":"Dvýš!H142","v":0},{"$f":"Dmíč!H142","v":294.2},{"$f":"Dkou!H142","v":303.11111111111114},{"$f":"Dčlu!H142","v":542.48626309267445},{"$f":"Dls!H142","v":0},{"$f":"Dodbíj!H142","v":18},{"$f":"Dplav!H142","v":0},{"$f":"Dšplh!H142","v":0},{"$f":"Dšvih!H142","v":180.75},{"$f":"'Dz mís'!H142","v":374.25212464589254},{"$f":"Drepre!E45","v":0},{"$f":"SUM(F180:T180)","v":3652.2464520536878},null,{"$f":"FREQUENCY(E180:R180,0)","v":5}]
[null,{"$f":"'D60'!B143","v":"REGÁLOVÁ"},{"$f":"'D60'!C143","v":"Karolína"},{"$f":"'D60'!D143","v":"7.B"},null,{"$f":"'D60'!H143","v":716.27086834632451},{"$f":"'D300'!H143","v":0},{"$f":"'D800'!H143","v":461.57655260170975},{"$f":"Ddál!H143","v":669.51499999999999},{"$f":"Dvýš!H143","v":674.5},{"$f":"Dmíč!H143","v":530.80000000000007},{"$f":"Dkou!H143","v":0},{"$f":"Dčlu!H143","v":0},{"$f":"Dls!H143","v":0},{"$f":"Dodbíj!H143","v":0},{"$f":"Dplav!H143","v":0},{"$f":"Dšplh!H143","v":0},{"$f":"Dšvih!H143","v":943.25},{"$f":"'Dz mís'!H143","v":0},{"$f":"Drepre!E46","v":25},{"$f":"SUM(F181:T181)","v":4020.9124209480342},null,{"$f":"FREQUENCY(E181:R181,0)","v":7}]
[null,{"$f":"'D60'!B144","v":"RIEGROVÁ"},{"$f":"'D60'!C144","v":"Magdaléna"},{"$f":"'D60'!D144","v":"7.B"},null,{"$f":"'D60'!H144","v":0},{"$f":"'D300'!H144","v":0},{"$f":"'D800'!H144","v":0},{"$f":"Ddál!H144","v":629.51800000000003},{"$f":"Dvýš!H144","v":0},{"$f":"Dmíč!H144","v":367},{"$f":"Dkou!H144","v":342.22222222222223},{"$f":"Dčlu!H144","v":577.19966307878315},{"$f":"Dls!H144","v":0},{"$f":"Dodbíj!H144","v":18},{"$f":"Dplav!H144","v":0},{"$f":"Dšplh!H144","v":409.24255262615492},{"$f":"Dšvih!H144","v":593.25},{"$f":"'Dz mís'!H144","v":0},{"$f":"Drepre!E47","v":0},{"$f":"SUM(F182:T182)","v":2936.4324379271602},null,{"$f":"FREQUENCY(E182:R182,0)","v":6}]
[null,{"$f":"'D60'!B145","v":"RYBENSKÁ"},{"$f":"'D60'!C145","v":"Sabina"},{"$f":"'D60'!D145","v":"7.B"},null,{"$f":"'D60'!H145","v":726.72596590912008},{"$f":"'D300'!H145","v":0},{"$f":"'D800'!H145","v":539.34796670874459},{"$f":"Ddál!H145","v":0},{"$f":"Dvýš!H145","v":0},{"$f":"Dmíč!H145","v":279.64},{"$f":"Dkou!H145","v":0},{"$f":"Dčlu!H145","v":0},{"$f":"Dls!H145","v":0},{"$f":"Dodbíj!H145","v":0},{"$f":"Dplav!H145","v":0},{"$f":"Dšplh!H145","v":0},{"$f":"Dšvih!H145","v":0},{"$f":"'Dz mís'!H145","v":0},{"$f":"Drepre!E48","v":0},{"$f":"SUM(F183:T183)","v":1545.7139326178644},null,{"$f":"FREQUENCY(E183:R183,0)","v":10}]
[null,{"$f":"'D60'!B146","v":"STEINEROVÁ"},{"$f":"'D60'!C146","v":"Barbora"},{"$f":"'D60'!D146","v":"7.B"},null,{"$f":"'D60'!H146","v":758.21397803640605},{"$f":"'D300'!H146","v":576.63165356659761},{"$f":"'D800'!H146","v":572.05316755434785},{"$f":"Ddál!H146","v":780.81100000000004},{"$f":"Dvýš!H146","v":674.5},{"$f":"Dmíč!H146","v":610.15200000000004},{"$f":"Dkou!H146","v":0},{"$f":"Dčlu!H146","v":0},{"$f":"Dls!H146","v":0},{"$f":"Dodbíj!H146","v":0},{"$f":"Dplav!H146","v":0},{"$f":"Dšplh!H146","v":505.35211247657509},{"$f":"Dšvih!H146","v":687},{"$f":"'Dz mís'!H146","v":0},{"$f":"Drepre!E49","v":100},{"$f":"SUM(F184:T184)","v":5264.7139116339267},null,{"$f":"FREQUENCY(E184:R184,0)","v":5}]
[null,{"$f":"'D60'!B147","v":"TOMEŠOVÁ"},{"$f":"'D60'!C147","v":"Barbora"},{"$f":"'D60'!D147","v":"7.B"},null,{"$f":"'D60'!H147","v":758.21397803640605},{"$f":"'D300'!H147","v":0},{"$f":"'D800'!H147","v":622.19982236180113},{"$f":"Ddál!H147","v":0},{"$f":"Dvýš!H147","v":0},{"$f":"Dmíč!H147","v":439.8},{"$f":"Dkou!H147","v":0},{"$f":"Dčlu!H147","v":0},{"$f":"Dls!H147","v":0},{"$f":"Dodbíj!H147","v":0},{"$f":"Dplav!H147","v":0},{"$f":"Dšplh!H147","v":0},{"$f":"Dšvih!H147","v":762},{"$f":"'Dz mís'!H147","v":0},{"$f":"Drepre!E50","v":75},{"$f":"SUM(F185:T185)","v":2657.2138003982072},null,{"$f":"FREQUENCY(E185:R185,0)","v":9}]
[null,{"$f":"'D60'!B148","v":"VOHNOUTOVÁ"},{"$f":"'D60'!C148","v":"Aneta"},{"$f":"'D60'!D148","v":"7.B"},null,{"$f":"'D60'!H148","v":830.39088871355852},{"$f":"'D300'!H148","v":0},{"$f":"'D800'!H148","v":654.57121683491459},{"$f":"Ddál!H148","v":765.16000000000008},{"$f":"Dvýš!H148","v":674.5},{"$f":"Dmíč!H148","v":640.36400000000015},{"$f":"Dkou!H148","v":0},{"$f":"Dčlu!H148","v":0},{"$f":"Dls!H148","v":0},{"$f":"Dodbíj!H148","v":0},{"$f":"Dplav!H148","v":0},{"$f":"Dšplh!H148","v":0},{"$f":"Dšvih!H148","v":949.5},{"$f":"'Dz mís'!H148","v":0},{"$f":"Drepre!E51","v":125},{"$f":"SUM(F186:T186)","v":4639.4861055484726},null,{"$f":"FREQUENCY(E186:R186,0)","v":7},{"$f":"SUM(W173:W186)","v":108}]
[null,{"$f":"'D60'!B149","v":"HAVLÍKOVÁ"},{"$f":"'D60'!C149","v":"Michaela"},{"$f":"'D60'!D149","v":"8.A"},null,{"$f":"'D60'!H149","v":761.50216280382278},{"$f":"'D300'!H149","v":551.65920392727276},{"$f":"'D800'!H149","v":588.87148595701717},{"$f":"Ddál!H149","v":686.90500000000009},{"$f":"Dvýš!H149","v":642},{"$f":"Dmíč!H149","v":294.2},{"$f":"Dkou!H149","v":307.55555555555554},{"$f":"Dčlu!H149","v":597.1577357980691},{"$f":"Dls!H149","v":0},{"$f":"Dodbíj!H149","v":27},{"$f":"Dplav!H149","v":0},{"$f":"Dšplh!H149","v":0},{"$f":"Dšvih!H149","v":387},{"$f":"'Dz mís'!H149","v":614.17847025495757},{"$f":"Drepre!E52","v":0},{"$f":"SUM(F187:T187)","v":5458.0296142966945},null,{"$f":"FREQUENCY(E187:R187,0)","v":3}]
[null,{"$f":"'D60'!B150","v":"HOLUBCOVÁ"},{"$f":"'D60'!C150","v":"Sára"},{"$f":"'D60'!D150","v":"8.A"},null,{"$f":"'D60'!H150","v":845.17953880303025},{"$f":"'D300'!H150","v":714.04868691377942},{"$f":"'D800'!H150","v":622.86785062300169},{"$f":"Ddál!H150","v":765.16000000000008},{"$f":"Dvýš!H150","v":739.5},{"$f":"Dmíč!H150","v":476.2},{"$f":"Dkou!H150","v":455.11111111111114},{"$f":"Dčlu!H150","v":685.83037098051761},{"$f":"Dls!H150","v":0},{"$f":"Dodbíj!H150","v":30},{"$f":"Dplav!H150","v":0},{"$f":"Dšplh!H150","v":447.20463165569055},{"$f":"Dšvih!H150","v":505.75},{"$f":"'Dz mís'!H150","v":811.76487252124662},{"$f":"Drepre!E53","v":75},{"$f":"SUM(F188:T188)","v":7173.6170626083776},null,{"$f":"FREQUENCY(E188:R188,0)","v":2}]
[null,{"$f":"'D60'!B151","v":"HONCŮ"},{"$f":"'D60'!C151","v":"Tereza"},{"$f":"'D60'!D151","v":"8.A"},null,{"$f":"'D60'!H151","v":740.58995242516346},{"$f":"'D300'!H151","v":619.63603624551979},{"$f":"'D800'!H151","v":0},{"$f":"Ddál!H151","v":712.99},{"$f":"Dvýš!H151","v":707},{"$f":"Dmíč!H151","v":458},{"$f":"Dkou!H151","v":432.88888888888891},{"$f":"Dčlu!H151","v":680.42888189513451},{"$f":"Dls!H151","v":0},{"$f":"Dodbíj!H151","v":27},{"$f":"Dplav!H151","v":0},{"$f":"Dšplh!H151","v":0},{"$f":"Dšvih!H151","v":0},{"$f":"'Dz mís'!H151","v":717.67610953729945},{"$f":"Drepre!E54","v":0},{"$f":"SUM(F189:T189)","v":5096.2098689920058},null,{"$f":"FREQUENCY(E189:R189,0)","v":5}]
[null,{"$f":"'D60'!B152","v":"HORÁČKOVÁ"},{"$f":"'D60'!C152","v":"Kateřina"},{"$f":"'D60'!D152","v":"8.A"},null,{"$f":"'D60'!H152","v":771.52744304175155},{"$f":"'D300'!H152","v":731.98452854920299},{"$f":"'D800'!H152","v":662.71479314321107},{"$f":"Ddál!H152","v":0},{"$f":"Dvýš!H152","v":772},{"$f":"Dmíč!H152","v":494.40000000000003},{"$f":"Dkou!H152","v":678.22222222222217},{"$f":"Dčlu!H152","v":711.14698200535088},{"$f":"Dls!H152","v":0},{"$f":"Dodbíj!H152","v":57},{"$f":"Dplav!H152","v":0},{"$f":"Dšplh!H152","v":444.17034921599287},{"$f":"Dšvih!H152","v":487},{"$f":"'Dz mís'!H152","v":830.58262511803605},{"$f":"Drepre!E55","v":125},{"$f":"SUM(F190:T190)","v":6765.7489432957673},null,{"$f":"FREQUENCY(E190:R190,0)","v":3}]
[null,{"$f":"'D60'!B153","v":"JOUDALOVÁ"},{"$f":"'D60'!C153","v":"Daniela"},{"$f":"'D60'!D153","v":"8.A"},null,{"$f":"'D60'!H153","v":0},{"$f":"'D300'!H153","v":0},{"$f":"'D800'!H153","v":0},{"$f":"Ddál!H153","v":0},{"$f":"Dvýš!H153","v":0},{"$f":"Dmíč!H153","v":0},{"$f":"Dkou!H153","v":0},{"$f":"Dčlu!H153","v":0},{"$f":"Dls!H153","v":0},{"$f":"Dodbíj!H153","v":0},{"$f":"Dplav!H153","v":0},{"$f":"Dšplh!H153","v":0},{"$f":"Dšvih!H153","v":0},{"$f":"'Dz mís'!H153","v":0},{"$f":"Drepre!E56","v":0},{"$f":"SUM(F191:T191)","v":0},null,{"$f":"FREQUENCY(E191:R191,0)","v":13}]
[null,{"$f":"'D60'!B154","v":"KLÍMOVÁ"},{"$f":"'D60'!C154","v":"Anna"},{"$f":"'D60'!D154","v":"8.A"},null,{"$f":"'D60'!H154","v":689.24656505229348},{"$f":"'D300'!H154","v":644.7326761840809},{"$f":"'D800'!H154","v":602.15805139652161},{"$f":"Ddál!H154","v":686.90500000000009},{"$f":"Dvýš!H154","v":707},{"$f":"Dmíč!H154","v":458},{"$f":"Dkou!H154","v":491.5555555555556},{"$f":"Dčlu!H154","v":650.21283452782598},{"$f":"Dls!H154","v":0},{"$f":"Dodbíj!H154","v":27},{"$f":"Dplav!H154","v":0},{"$f":"Dšplh!H154","v":423.2687918197164},{"$f":"Dšvih!H154","v":518.25},{"$f":"'Dz mís'!H154","v":680.04060434372059},{"$f":"Drepre!E57","v":0},{"$f":"SUM(F192:T192)","v":6578.3700788797141},null,{"$f":"FREQUENCY(E192:R192,0)","v":2}]
[null,{"$f":"'D60'!B155","v":"KOHOUTOVÁ"},{"$f":"'D60'!C155","v":"Veronika"},{"$f":"'D60'!D155","v":"8.A"},null,{"$f":"'D60'!H155","v":809.55553391231797},{"$f":"'D300'!H155","v":714.69486579530519},{"$f":"'D800'!H155","v":622.19982236180113},{"$f":"Ddál!H155","v":759.9430000000001},{"$f":"Dvýš!H155","v":707},{"$f":"Dmíč!H155","v":512.6},{"$f":"Dkou!H155","v":497.77777777777777},{"$f":"Dčlu!H155","v":682.44523321848476},{"$f":"Dls!H155","v":0},{"$f":"Dodbíj!H155","v":30},{"$f":"Dplav!H155","v":0},{"$f":"Dšplh!H155","v":476.77381349530651},{"$f":"Dšvih!H155","v":605.75},{"$f":"'Dz mís'!H155","v":670.63172804532587},{"$f":"Drepre!E58","v":75},{"$f":"SUM(F193:T193)","v":7164.3717746063194},null,{"$f":"FREQUENCY(E193:R193,0)","v":2}]
[null,{"$f":"'D60'!B156","v":"KOVÁŘOVÁ"},{"$f":"'D60'!C156","v":"Viktorie"},{"$f":"'D60'!D156","v":"8.A"},null,{"$f":"'D60'!H156","v":734.36824122600524},{"$f":"'D300'!H156","v":683.29908907741935},{"$f":"'D800'!H156","v":713.09219271146208},{"$f":"Ddál!H156","v":765.16000000000008},{"$f":"Dvýš!H156","v":772},{"$f":"Dmíč!H156","v":448.90000000000003},{"$f":"Dkou!H156","v":440.88888888888891},{"$f":"Dčlu!H156","v":669.20692661339285},{"$f":"Dls!H156","v":0},{"$f":"Dodbíj!H156","v":18},{"$f":"Dplav!H156","v":0},{"$f":"Dšplh!H156","v":410.02066413068138},{"$f":"Dšvih!H156","v":474.5},{"$f":"'Dz mís'!H156","v":722.38054768649681},{"$f":"Drepre!E59","v":75},{"$f":"SUM(F194:T194)","v":6926.8165503343462},null,{"$f":"FREQUENCY(E194:R194,0)","v":2}]
[null,{"$f":"'D60'!B157","v":"KYNČLOVÁ"},{"$f":"'D60'!C157","v":"Anna"},{"$f":"'D60'!D157","v":"8.A"},null,{"$f":"'D60'!H157","v":809.55553391231797},{"$f":"'D300'!H157","v":887.40632333789677},{"$f":"'D800'!H157","v":936.32603738207558},{"$f":"Ddál!H157","v":766.899},{"$f":"Dvýš!H157","v":707},{"$f":"Dmíč!H157","v":512.6},{"$f":"Dkou!H157","v":413.33333333333331},{"$f":"Dčlu!H157","v":721.46340005454545},{"$f":"Dls!H157","v":0},{"$f":"Dodbíj!H157","v":18},{"$f":"Dplav!H157","v":0},{"$f":"Dšplh!H157","v":475.19942110831761},{"$f":"Dšvih!H157","v":574.5},{"$f":"'Dz mís'!H157","v":858.8092540132202},{"$f":"Drepre!E60","v":125},{"$f":"SUM(F195:T195)","v":7806.0923031417069},null,{"$f":"FREQUENCY(E195:R195,0)","v":2}]
[null,{"$f":"'D60'!B158","v":"MATOUŠOVÁ"},{"$f":"'D60'!C158","v":"Tereza"},{"$f":"'D60'!D158","v":"8.A"},null,{"$f":"'D60'!H158","v":717.00842382207418},{"$f":"'D300'!H158","v":578.86489876596875},{"$f":"'D800'!H158","v":514.19560002202786},{"$f":"Ddál!H158","v":704.29500000000007},{"$f":"Dvýš!H158","v":804.5},{"$f":"Dmíč!H158","v":421.6},{"$f":"Dkou!H158","v":435.55555555555554},{"$f":"Dčlu!H158","v":591.40284393434342},{"$f":"Dls!H158","v":0},{"$f":"Dodbíj!H158","v":30},{"$f":"Dplav!H158","v":0},{"$f":"Dšplh!H158","v":0},{"$f":"Dšvih!H158","v":318.25},{"$f":"'Dz mís'!H158","v":496.56751652502362},{"$f":"Drepre!E61","v":75},{"$f":"SUM(F196:T196)","v":5687.2398386249934},null,{"$f":"FREQUENCY(E196:R196,0)","v":3}]
[null,{"$f":"'D60'!B159","v":"MAZÁNKOVÁ"},{"$f":"'D60'!C159","v":"Zuzana"},{"$f":"'D60'!D159","v":"8.A"},null,{"$f":"'D60'!H159","v":706.09038873076918},{"$f":"'D300'!H159","v":633.27509649195622},{"$f":"'D800'!H159","v":635.75511476153963},{"$f":"Ddál!H159","v":660.82},{"$f":"Dvýš!H159","v":0},{"$f":"Dmíč!H159","v":285.10000000000002},{"$f":"Dkou!H159","v":377.77777777777777},{"$f":"Dčlu!H159","v":604.63113483346899},{"$f":"Dls!H159","v":0},{"$f":"Dodbíj!H159","v":0},{"$f":"Dplav!H159","v":0},{"$f":"Dšplh!H159","v":0},{"$f":"Dšvih!H159","v":0},{"$f":"'Dz mís'!H159","v":0},{"$f":"Drepre!E62","v":0},{"$f":"SUM(F197:T197)","v":3903.4495125955118},null,{"$f":"FREQUENCY(E197:R197,0)","v":6}]
[null,{"$f":"'D60'!B160","v":"MORKESOVÁ"},{"$f":"'D60'!C160","v":"Sabrina"},{"$f":"'D60'!D160","v":"8.A"},null,{"$f":"'D60'!H160","v":869.89241740356886},{"$f":"'D300'!H160","v":716.15205994231951},{"$f":"'D800'!H160","v":642.18973861449342},{"$f":"Ddál!H160","v":791.245},{"$f":"Dvýš!H160","v":804.5},{"$f":"Dmíč!H160","v":731},{"$f":"Dkou!H160","v":635.55555555555554},{"$f":"Dčlu!H160","v":736.69000174666667},{"$f":"Dls!H160","v":0},{"$f":"Dodbíj!H160","v":57},{"$f":"Dplav!H160","v":0},{"$f":"Dšplh!H160","v":387.50878125955205},{"$f":"Dšvih!H160","v":562},{"$f":"'Dz mís'!H160","v":821.17374881964133},{"$f":"Drepre!E63","v":75},{"$f":"SUM(F198:T198)","v":7829.9073033417981},null,{"$f":"FREQUENCY(E198:R198,0)","v":2}]
[null,{"$f":"'D60'!B161","v":"POHOŘALÁ"},{"$f":"'D60'!C161","v":"Alžběta"},{"$f":"'D60'!D161","v":"8.A"},null,{"$f":"'D60'!H161","v":785.2819338029675},{"$f":"'D300'!H161","v":725.48809906575207},{"$f":"'D800'!H161","v":666.73796972368405},{"$f":"Ddál!H161","v":768.63800000000003},{"$f":"Dvýš!H161","v":739.5},{"$f":"Dmíč!H161","v":439.8},{"$f":"Dkou!H161","v":475.55555555555554},{"$f":"Dčlu!H161","v":702.51900532555237},{"$f":"Dls!H161","v":0},{"$f":"Dodbíj!H161","v":18},{"$f":"Dplav!H161","v":0},{"$f":"Dšplh!H161","v":0},{"$f":"Dšvih!H161","v":480.75},{"$f":"'Dz mís'!H161","v":698.85835694051002},{"$f":"Drepre!E64","v":75},{"$f":"SUM(F199:T199)","v":6576.1289204140221},null,{"$f":"FREQUENCY(E199:R199,0)","v":3}]
[null,{"$f":"'D60'!B162","v":"SCHOLZOVÁ"},{"$f":"'D60'!C162","v":"Laura"},{"$f":"'D60'!D162","v":"8.A"},null,{"$f":"'D60'!H162","v":713.33461529703288},{"$f":"'D300'!H162","v":0},{"$f":"'D800'!H162","v":0},{"$f":"Ddál!H162","v":0},{"$f":"Dvýš!H162","v":0},{"$f":"Dmíč!H162","v":0},{"$f":"Dkou!H162","v":0},{"$f":"Dčlu!H162","v":0},{"$f":"Dls!H162","v":0},{"$f":"Dodbíj!H162","v":6},{"$f":"Dplav!H162","v":0},{"$f":"Dšplh!H162","v":0},{"$f":"Dšvih!H162","v":418.25},{"$f":"'Dz mís'!H162","v":482.45420207743166},{"$f":"Drepre!E65","v":0},{"$f":"SUM(F200:T200)","v":1620.0388173744645},null,{"$f":"FREQUENCY(E200:R200,0)","v":10}]
[null,{"$f":"'D60'!B163","v":"VÁCLAVÍKOVÁ"},{"$f":"'D60'!C163","v":"Valerie"},{"$f":"'D60'!D163","v":"8.A"},null,{"$f":"'D60'!H163","v":763.15619929469074},{"$f":"'D300'!H163","v":765.50131729117902},{"$f":"'D800'!H163","v":681.18530192934543},{"$f":"Ddál!H163","v":742.553},{"$f":"Dvýš!H163","v":739.5},{"$f":"Dmíč!H163","v":530.80000000000007},{"$f":"Dkou!H163","v":740.44444444444446},{"$f":"Dčlu!H163","v":698.98081321592326},{"$f":"Dls!H163","v":0},{"$f":"Dodbíj!H163","v":30},{"$f":"Dplav!H163","v":0},{"$f":"Dšplh!H163","v":0},{"$f":"Dšvih!H163","v":530.75},{"$f":"'Dz mís'!H163","v":703.56279508970738},{"$f":"Drepre!E66","v":125},{"$f":"SUM(F201:T201)","v":7051.4338712652898},null,{"$f":"FREQUENCY(E201:R201,0)","v":3}]
[null,{"$f":"'D60'!B164","v":"ZAPADLOVÁ"},{"$f":"'D60'!C164","v":"Emma"},{"$f":"'D60'!D164","v":"8.A"},null,{"$f":"'D60'!H164","v":877.35687949138901},{"$f":"'D300'!H164","v":737.72175306286545},{"$f":"'D800'!H164","v":0},{"$f":"Ddál!H164","v":722},{"$f":"Dvýš!H164","v":772},{"$f":"Dmíč!H164","v":685.5},{"$f":"Dkou!H164","v":488.88888888888886},{"$f":"Dčlu!H164","v":662.76350304454274},{"$f":"Dls!H164","v":0},{"$f":"Dodbíj!H164","v":24},{"$f":"Dplav!H164","v":816.39669282528484},{"$f":"Dšplh!H164","v":650.81380458698709},{"$f":"Dšvih!H164","v":562},{"$f":"'Dz mís'!H164","v":694.15391879131289},{"$f":"Drepre!E67","v":75},{"$f":"SUM(F202:T202)","v":7768.5954406912715},null,{"$f":"FREQUENCY(E202:R202,0)","v":2}]
[null,{"$f":"'D60'!B165","v":"ŽIŠKOVÁ"},{"$f":"'D60'!C165","v":"Mia"},{"$f":"'D60'!D165","v":"8.A"},null,{"$f":"'D60'!H165","v":0},{"$f":"'D300'!H165","v":0},{"$f":"'D800'!H165","v":0},{"$f":"Ddál!H165","v":0},{"$f":"Dvýš!H165","v":0},{"$f":"Dmíč!H165","v":439.8},{"$f":"Dkou!H165","v":0},{"$f":"Dčlu!H165","v":0},{"$f":"Dls!H165","v":0},{"$f":"Dodbíj!H165","v":24},{"$f":"Dplav!H165","v":0},{"$f":"Dšplh!H165","v":0},{"$f":"Dšvih!H165","v":0},{"$f":"'Dz mís'!H165","v":0},{"$f":"Drepre!E68","v":0},{"$f":"SUM(F203:T203)","v":463.8},null,{"$f":"FREQUENCY(E203:R203,0)","v":11},{"$f":"SUM(W187:W203)-13","v":61}]
[null,{"$f":"'D60'!B166","v":"FARSKÁ"},{"$f":"'D60'!C166","v":"Tereza"},{"$f":"'D60'!D166","v":"8.B"},null,{"$f":"'D60'!H166","v":688.56082123770238},{"$f":"'D300'!H166","v":0},{"$f":"'D800'!H166","v":0},{"$f":"Ddál!H166","v":530.39499999999998},{"$f":"Dvýš!H166","v":0},{"$f":"Dmíč!H166","v":348.8},{"$f":"Dkou!H166","v":475.55555555555554},{"$f":"Dčlu!H166","v":577.19966307878315},{"$f":"Dls!H166","v":0},{"$f":"Dodbíj!H166","v":0},{"$f":"Dplav!H166","v":0},{"$f":"Dšplh!H166","v":0},{"$f":"Dšvih!H166","v":718.25},{"$f":"'Dz mís'!H166","v":0},{"$f":"Drepre!E69","v":0},{"$f":"SUM(F204:T204)","v":3338.7610398720408},null,{"$f":"FREQUENCY(E204:R204,0)","v":7}]
[null,{"$f":"'D60'!B167","v":"FEIXOVÁ"},{"$f":"'D60'!C167","v":"Rozálie"},{"$f":"'D60'!D167","v":"8.B"},null,{"$f":"'D60'!H167","v":629.26857546300994},{"$f":"'D300'!H167","v":0},{"$f":"'D800'!H167","v":400.32793238637794},{"$f":"Ddál!H167","v":0},{"$f":"Dvýš!H167","v":0},{"$f":"Dmíč!H167","v":248.70000000000002},{"$f":"Dkou!H167","v":0},{"$f":"Dčlu!H167","v":0},{"$f":"Dls!H167","v":0},{"$f":"Dodbíj!H167","v":0},{"$f":"Dplav!H167","v":0},{"$f":"Dšplh!H167","v":0},{"$f":"Dšvih!H167","v":512},{"$f":"'Dz mís'!H167","v":0},{"$f":"Drepre!E70","v":0},{"$f":"SUM(F205:T205)","v":1790.2965078493878},null,{"$f":"FREQUENCY(E205:R205,0)","v":9}]
[null,{"$f":"'D60'!B168","v":"FIŠEROVÁ"},{"$f":"'D60'!C168","v":"Michaela"},{"$f":"'D60'!D168","v":"8.B"},null,{"$f":"'D60'!H168","v":653.30939684745283},{"$f":"'D300'!H168","v":414.76311757229678},{"$f":"'D800'!H168","v":491.27460598103687},{"$f":"Ddál!H168","v":0},{"$f":"Dvýš!H168","v":0},{"$f":"Dmíč!H168","v":357.90000000000003},{"$f":"Dkou!H168","v":0},{"$f":"Dčlu!H168","v":639.88299981462433},{"$f":"Dls!H168","v":0},{"$f":"Dodbíj!H168","v":0},{"$f":"Dplav!H168","v":665.633633722127},{"$f":"Dšplh!H168","v":0},{"$f":"Dšvih!H168","v":874.5},{"$f":"'Dz mís'!H168","v":0},{"$f":"Drepre!E71","v":25},{"$f":"SUM(F206:T206)","v":4122.2637539375373},null,{"$f":"FREQUENCY(E206:R206,0)","v":6}]
[null,{"$f":"'D60'!B169","v":"HAVLÍČKOVÁ"},{"$f":"'D60'!C169","v":"Kristýna"},{"$f":"'D60'!D169","v":"8.B"},null,{"$f":"'D60'!H169","v":590.88467438804776},{"$f":"'D300'!H169","v":485.74502859617292},{"$f":"'D800'!H169","v":419.22526718877543},{"$f":"Ddál!H169","v":0},{"$f":"Dvýš!H169","v":0},{"$f":"Dmíč!H169","v":294.2},{"$f":"Dkou!H169","v":520},{"$f":"Dčlu!H169","v":525.25456682449851},{"$f":"Dls!H169","v":0},{"$f":"Dodbíj!H169","v":0},{"$f":"Dplav!H169","v":673.76734319052605},{"$f":"Dšplh!H169","v":0},{"$f":"Dšvih!H169","v":505.75},{"$f":"'Dz mís'!H169","v":0},{"$f":"Drepre!E72","v":25},{"$f":"SUM(F207:T207)","v":4039.8268801880204},null,{"$f":"FREQUENCY(E207:R207,0)","v":5}]
[null,{"$f":"'D60'!B170","v":"JODASOVÁ"},{"$f":"'D60'!C170","v":"Nikola"},{"$f":"'D60'!D170","v":"8.B"},null,{"$f":"'D60'!H170","v":745.32066182807353},{"$f":"'D300'!H170","v":673.1522455463122},{"$f":"'D800'!H170","v":0},{"$f":"Ddál!H170","v":0},{"$f":"Dvýš!H170","v":0},{"$f":"Dmíč!H170","v":0},{"$f":"Dkou!H170","v":564.44444444444446},{"$f":"Dčlu!H170","v":0},{"$f":"Dls!H170","v":0},{"$f":"Dodbíj!H170","v":0},{"$f":"Dplav!H170","v":0},{"$f":"Dšplh!H170","v":0},{"$f":"Dšvih!H170","v":737},{"$f":"'Dz mís'!H170","v":0},{"$f":"Drepre!E73","v":25},{"$f":"SUM(F208:T208)","v":2744.91735181883},null,{"$f":"FREQUENCY(E208:R208,0)","v":9}]
[null,{"$f":"'D60'!B171","v":"KADAVÁ"},{"$f":"'D60'!C171","v":"Nikola"},{"$f":"'D60'!D171","v":"8.B"},null,{"$f":"'D60'!H171","v":587.28048082435294},{"$f":"'D300'!H171","v":461.79568584668345},{"$f":"'D800'!H171","v":407.38776539738512},{"$f":"Ddál!H171","v":608.65000000000009},{"$f":"Dvýš!H171","v":0},{"$f":"Dmíč!H171","v":276},{"$f":"Dkou!H171","v":448.88888888888886},{"$f":"Dčlu!H171","v":542.48626309267445},{"$f":"Dls!H171","v":0},{"$f":"Dodbíj!H171","v":0},{"$f":"Dplav!H171","v":0},{"$f":"Dšplh!H171","v":0},{"$f":"Dšvih!H171","v":312},{"$f":"'Dz mís'!H171","v":0},{"$f":"Drepre!E74","v":0},{"$f":"SUM(F209:T209)","v":3644.4890840499847},null,{"$f":"FREQUENCY(E209:R209,0)","v":5}]
[null,{"$f":"'D60'!B172","v":"KRAFKOVÁ"},{"$f":"'D60'!C172","v":"Lucie"},{"$f":"'D60'!D172","v":"8.B"},null,{"$f":"'D60'!H172","v":0},{"$f":"'D300'!H172","v":0},{"$f":"'D800'!H172","v":0},{"$f":"Ddál!H172","v":0},{"$f":"Dvýš!H172","v":0},{"$f":"Dmíč!H172","v":0},{"$f":"Dkou!H172","v":0},{"$f":"Dčlu!H172","v":0},{"$f":"Dls!H172","v":0},{"$f":"Dodbíj!H172","v":0},{"$f":"Dplav!H172","v":0},{"$f":"Dšplh!H172","v":0},{"$f":"Dšvih!H172","v":0},{"$f":"'Dz mís'!H172","v":0},{"$f":"Drepre!E75","v":0},{"$f":"SUM(F210:T210)","v":0},null,{"$f":"FREQUENCY(E210:R210,0)","v":13}]
[null,{"$f":"'D60'!B173","v":"KŘIVINKOVÁ"},{"$f":"'D60'!C173","v":"Alžběta"},{"$f":"'D60'!D173","v":"8.B"},null,{"$f":"'D60'!H173","v":683.11979661237478},{"$f":"'D300'!H173","v":0},{"$f":"'D800'!H173","v":488.55468796981029},{"$f":"Ddál!H173","v":700.81700000000001},{"$f":"Dvýš!H173","v":0},{"$f":"Dmíč!H173","v":439.8},{"$f":"Dkou!H173","v":0},{"$f":"Dčlu!H173","v":0},{"$f":"Dls!H173","v":0},{"$f":"Dodbíj!H173","v":0},{"$f":"Dplav!H173","v":0},{"$f":"Dšplh!H173","v":0},{"$f":"Dšvih!H173","v":474.5},{"$f":"'Dz mís'!H173","v":0},{"$f":"Drepre!E76","v":0},{"$f":"SUM(F211:T211)","v":2786.7914845821851},null,{"$f":"FREQUENCY(E211:R211,0)","v":8}]
[null,{"$f":"'D60'!B174","v":"LEŠÁKOVÁ"},{"$f":"'D60'!C174","v":"Lenka"},{"$f":"'D60'!D174","v":"8.B"},null,{"$f":"'D60'!H174","v":568.39213015923076},{"$f":"'D300'!H174","v":495.05100507155396},{"$f":"'D800'!H174","v":468.46749020411221},{"$f":"Ddál!H174","v":645.16899999999998},{"$f":"Dvýš!H174","v":0},{"$f":"Dmíč!H174","v":276},{"$f":"Dkou!H174","v":306.66666666666669},{"$f":"Dčlu!H174","v":562.18131761640007},{"$f":"Dls!H174","v":0},{"$f":"Dodbíj!H174","v":0},{"$f":"Dplav!H174","v":0},{"$f":"Dšplh!H174","v":0},{"$f":"Dšvih!H174","v":712},{"$f":"'Dz mís'!H174","v":0},{"$f":"Drepre!E77","v":0},{"$f":"SUM(F212:T212)","v":4033.9276097179636},null,{"$f":"FREQUENCY(E212:R212,0)","v":5}]
[null,{"$f":"'D60'!B175","v":"NYKLÍČKOVÁ"},{"$f":"'D60'!C175","v":"Adéla"},{"$f":"'D60'!D175","v":"8.B"},null,{"$f":"'D60'!H175","v":783.53775638464185},{"$f":"'D300'!H175","v":739.59282685034816},{"$f":"'D800'!H175","v":754.43317658802846},{"$f":"Ddál!H175","v":756.46500000000003},{"$f":"Dvýš!H175","v":759},{"$f":"Dmíč!H175","v":430.7},{"$f":"Dkou!H175","v":0},{"$f":"Dčlu!H175","v":687.19309798444647},{"$f":"Dls!H175","v":0},{"$f":"Dodbíj!H175","v":0},{"$f":"Dplav!H175","v":0},{"$f":"Dšplh!H175","v":0},{"$f":"Dšvih!H175","v":1312},{"$f":"'Dz mís'!H175","v":0},{"$f":"Drepre!E78","v":125},{"$f":"SUM(F213:T213)","v":6347.9218578074651},null,{"$f":"FREQUENCY(E213:R213,0)","v":5}]
[null,{"$f":"'D60'!B176","v":"PLŮCHOVÁ"},{"$f":"'D60'!C176","v":"Petra"},{"$f":"'D60'!D176","v":"8.B"},null,{"$f":"'D60'!H176","v":714.79995600284633},{"$f":"'D300'!H176","v":605.04279420073613},{"$f":"'D800'!H176","v":571.47223816477049},{"$f":"Ddál!H176","v":632.99599999999998},{"$f":"Dvýš!H176","v":0},{"$f":"Dmíč!H176","v":439.8},{"$f":"Dkou!H176","v":564.44444444444446},{"$f":"Dčlu!H176","v":607.88639765358403},{"$f":"Dls!H176","v":0},{"$f":"Dodbíj!H176","v":0},{"$f":"Dplav!H176","v":0},{"$f":"Dšplh!H176","v":0},{"$f":"Dšvih!H176","v":1430.75},{"$f":"'Dz mís'!H176","v":0},{"$f":"Drepre!E79","v":75},{"$f":"SUM(F214:T214)","v":5642.1918304663814},null,{"$f":"FREQUENCY(E214:R214,0)","v":5}]
[null,{"$f":"'D60'!B177","v":"PODZIMKOVÁ"},{"$f":"'D60'!C177","v":"Eliška"},{"$f":"'D60'!D177","v":"8.B"},null,{"$f":"'D60'!H177","v":696.17384747561709},{"$f":"'D300'!H177","v":414.76311757229678},{"$f":"'D800'!H177","v":452.83203842119281},{"$f":"Ddál!H177","v":648.64700000000005},{"$f":"Dvýš!H177","v":0},{"$f":"Dmíč!H177","v":476.2},{"$f":"Dkou!H177","v":0},{"$f":"Dčlu!H177","v":604.09167867777762},{"$f":"Dls!H177","v":0},{"$f":"Dodbíj!H177","v":0},{"$f":"Dplav!H177","v":0},{"$f":"Dšplh!H177","v":0},{"$f":"Dšvih!H177","v":999.5},{"$f":"'Dz mís'!H177","v":0},{"$f":"Drepre!E80","v":25},{"$f":"SUM(F215:T215)","v":4317.2076821468836},null,{"$f":"FREQUENCY(E215:R215,0)","v":6}]
[null,{"$f":"'D60'!B178","v":"RUTKAYOVÁ"},{"$f":"'D60'!C178","v":"Klára"},{"$f":"'D60'!D178","v":"8.B"},null,{"$f":"'D60'!H178","v":568.39213015923076},{"$f":"'D300'!H178","v":0},{"$f":"'D800'!H178","v":458.49649418960428},{"$f":"Ddál!H178","v":613.86700000000008},{"$f":"Dvýš!H178","v":0},{"$f":"Dmíč!H178","v":276},{"$f":"Dkou!H178","v":0},{"$f":"Dčlu!H178","v":0},{"$f":"Dls!H178","v":0},{"$f":"Dodbíj!H178","v":0},{"$f":"Dplav!H178","v":0},{"$f":"Dšplh!H178","v":0},{"$f":"Dšvih!H178","v":405.75},{"$f":"'Dz mís'!H178","v":0},{"$f":"Drepre!E81","v":0},{"$f":"SUM(F216:T216)","v":2322.5056243488352},null,{"$f":"FREQUENCY(E216:R216,0)","v":8}]
[null,{"$f":"'D60'!B179","v":"SEIDLOVÁ"},{"$f":"'D60'!C179","v":"Zuzana"},{"$f":"'D60'!D179","v":"8.B"},null,{"$f":"'D60'!H179","v":690.62183435692396},{"$f":"'D300'!H179","v":620.41850284199995},{"$f":"'D800'!H179","v":500.2819329786247},{"$f":"Ddál!H179","v":721.68500000000006},{"$f":"Dvýš!H179","v":0},{"$f":"Dmíč!H179","v":527.16},{"$f":"Dkou!H179","v":0},{"$f":"Dčlu!H179","v":0},{"$f":"Dls!H179","v":0},{"$f":"Dodbíj!H179","v":0},{"$f":"Dplav!H179","v":0},{"$f":"Dšplh!H179","v":0},{"$f":"Dšvih!H179","v":730.75},{"$f":"'Dz mís'!H179","v":0},{"$f":"Drepre!E82","v":75},{"$f":"SUM(F217:T217)","v":3865.9172701775483},null,{"$f":"FREQUENCY(E217:R217,0)","v":7}]
[null,{"$f":"'D60'!B180","v":"TOMÁŠOVÁ"},{"$f":"'D60'!C180","v":"Sára"},{"$f":"'D60'!D180","v":"8.B"},null,{"$f":"'D60'!H180","v":0},{"$f":"'D300'!H180","v":422.26917380081045},{"$f":"'D800'!H180","v":0},{"$f":"Ddál!H180","v":636.47400000000005},{"$f":"Dvýš!H180","v":0},{"$f":"Dmíč!H180","v":339.7},{"$f":"Dkou!H180","v":478.22222222222217},{"$f":"Dčlu!H180","v":513.76838276708804},{"$f":"Dls!H180","v":0},{"$f":"Dodbíj!H180","v":0},{"$f":"Dplav!H180","v":0},{"$f":"Dšplh!H180","v":0},{"$f":"Dšvih!H180","v":418.25},{"$f":"'Dz mís'!H180","v":0},{"$f":"Drepre!E83","v":0},{"$f":"SUM(F218:T218)","v":2808.6837787901204},null,{"$f":"FREQUENCY(E218:R218,0)","v":7}]
[null,{"$f":"'D60'!B181","v":"VANCLOVÁ"},{"$f":"'D60'!C181","v":"Barbora"},{"$f":"'D60'!D181","v":"8.B"},null,{"$f":"'D60'!H181","v":704.65782257833951},{"$f":"'D300'!H181","v":621.72587921577474},{"$f":"'D800'!H181","v":500.04771449749148},{"$f":"Ddál!H181","v":0},{"$f":"Dvýš!H181","v":0},{"$f":"Dmíč!H181","v":0},{"$f":"Dkou!H181","v":413.33333333333331},{"$f":"Dčlu!H181","v":0},{"$f":"Dls!H181","v":0},{"$f":"Dodbíj!H181","v":0},{"$f":"Dplav!H181","v":697.47710629090909},{"$f":"Dšplh!H181","v":0},{"$f":"Dšvih!H181","v":1012},{"$f":"'Dz mís'!H181","v":0},{"$f":"Drepre!E84","v":50},{"$f":"SUM(F219:T219)","v":3999.2418559158482},null,{"$f":"FREQUENCY(E219:R219,0)","v":7}]
[null,{"$f":"'D60'!B182","v":"VOTOČKOVÁ"},{"$f":"'D60'!C182","v":"Veronika"},{"$f":"'D60'!D182","v":"8.B"},null,{"$f":"'D60'!H182","v":552.40417643203386},{"$f":"'D300'!H182","v":0},{"$f":"'D800'!H182","v":419.58132895016206},{"$f":"Ddál!H182","v":624.30100000000004},{"$f":"Dvýš!H182","v":0},{"$f":"Dmíč!H182","v":294.2},{"$f":"Dkou!H182","v":0},{"$f":"Dčlu!H182","v":0},{"$f":"Dls!H182","v":0},{"$f":"Dodbíj!H182","v":0},{"$f":"Dplav!H182","v":0},{"$f":"Dšplh!H182","v":0},{"$f":"Dšvih!H182","v":280.75},{"$f":"'Dz mís'!H182","v":0},{"$f":"Drepre!E85","v":0},{"$f":"SUM(F220:T220)","v":2171.2365053821959},null,{"$f":"FREQUENCY(E220:R220,0)","v":8},{"$f":"SUM(W204:W220)-13","v":107}]
[null,{"$f":"'D60'!B183","v":"HARTIGOVÁ"},{"$f":"'D60'!C183","v":"Anna"},{"$f":"'D60'!D183","v":"9.A"},null,{"$f":"'D60'!H183","v":735.91457295679004},{"$f":"'D300'!H183","v":0},{"$f":"'D800'!H183","v":582.37747883823533},{"$f":"Ddál!H183","v":704.29500000000007},{"$f":"Dvýš!H183","v":804.5},{"$f":"Dmíč!H183","v":448.90000000000003},{"$f":"Dkou!H183","v":608.88888888888891},{"$f":"Dčlu!H183","v":663.40270892559784},{"$f":"Dls!H183","v":0},{"$f":"Dodbíj!H183","v":117},{"$f":"Dplav!H183","v":0},{"$f":"Dšplh!H183","v":0},{"$f":"Dšvih!H183","v":0},{"$f":"'Dz mís'!H183","v":802.35599622285167},{"$f":"Drepre!E86","v":0},{"$f":"SUM(F221:T221)","v":5467.6346458323642},null,{"$f":"FREQUENCY(E221:R221,0)","v":5}]
[null,{"$f":"'D60'!B184","v":"HONCŮ"},{"$f":"'D60'!C184","v":"Rozálie"},{"$f":"'D60'!D184","v":"9.A"},null,{"$f":"'D60'!H184","v":878.43303675134109},{"$f":"'D300'!H184","v":759.95875969890608},{"$f":"'D800'!H184","v":542.3207231622057},{"$f":"Ddál!H184","v":850.37100000000009},{"$f":"Dvýš!H184","v":772},{"$f":"Dmíč!H184","v":512.6},{"$f":"Dkou!H184","v":612.44444444444434},{"$f":"Dčlu!H184","v":740.58995242516346},{"$f":"Dls!H184","v":0},{"$f":"Dodbíj!H184","v":36},{"$f":"Dplav!H184","v":0},{"$f":"Dšplh!H184","v":413.01644428590907},{"$f":"Dšvih!H184","v":749.5},{"$f":"'Dz mís'!H184","v":854.10481586402284},{"$f":"Drepre!E87","v":50},{"$f":"SUM(F222:T222)","v":7771.3391766319928},null,{"$f":"FREQUENCY(E222:R222,0)","v":2}]
[null,{"$f":"'D60'!B185","v":"CHALOUPSKÁ"},{"$f":"'D60'!C185","v":"Lucie"},{"$f":"'D60'!D185","v":"9.A"},null,{"$f":"'D60'!H185","v":862.54603720188322},{"$f":"'D300'!H185","v":769.83580091891702},{"$f":"'D800'!H185","v":0},{"$f":"Ddál!H185","v":791.245},{"$f":"Dvýš!H185","v":0},{"$f":"Dmíč!H185","v":512.6},{"$f":"Dkou!H185","v":644.44444444444446},{"$f":"Dčlu!H185","v":743.73755041371385},{"$f":"Dls!H185","v":0},{"$f":"Dodbíj!H185","v":0},{"$f":"Dplav!H185","v":0},{"$f":"Dšplh!H185","v":0},{"$f":"Dšvih!H185","v":449.5},{"$f":"'Dz mís'!H185","v":0},{"$f":"Drepre!E88","v":0},{"$f":"SUM(F223:T223)","v":4773.9088329789583},null,{"$f":"FREQUENCY(E223:R223,0)","v":6}]
[null,{"$f":"'D60'!B186","v":"KŘÍŽKOVÁ"},{"$f":"'D60'!C186","v":"Anna"},{"$f":"'D60'!D186","v":"9.A"},null,{"$f":"'D60'!H186","v":735.91457295679004},{"$f":"'D300'!H186","v":602.78511902551236},{"$f":"'D800'!H186","v":553.81802035163741},{"$f":"Ddál!H186","v":704.29500000000007},{"$f":"Dvýš!H186","v":707},{"$f":"Dmíč!H186","v":439.8},{"$f":"Dkou!H186","v":506.66666666666663},{"$f":"Dčlu!H186","v":647.14308227157278},{"$f":"Dls!H186","v":0},{"$f":"Dodbíj!H186","v":45},{"$f":"Dplav!H186","v":0},{"$f":"Dšplh!H186","v":517.12073479653327},{"$f":"Dšvih!H186","v":562},{"$f":"'Dz mís'!H186","v":680.04060434372059},{"$f":"Drepre!E89","v":0},{"$f":"SUM(F224:T224)","v":6701.5838004124334},null,{"$f":"FREQUENCY(E224:R224,0)","v":2}]
[null,{"$f":"'D60'!B187","v":"LUKEŠOVÁ"},{"$f":"'D60'!C187","v":"Kristýna"},{"$f":"'D60'!D187","v":"9.A"},null,{"$f":"'D60'!H187","v":772.37395413217803},{"$f":"'D300'!H187","v":0},{"$f":"'D800'!H187","v":550.22403196113351},{"$f":"Ddál!H187","v":723.42400000000009},{"$f":"Dvýš!H187","v":642},{"$f":"Dmíč!H187","v":367},{"$f":"Dkou!H187","v":493.33333333333331},{"$f":"Dčlu!H187","v":644.70635054098352},{"$f":"Dls!H187","v":0},{"$f":"Dodbíj!H187","v":36},{"$f":"Dplav!H187","v":0},{"$f":"Dšplh!H187","v":533.58555592381958},{"$f":"Dšvih!H187","v":437},{"$f":"'Dz mís'!H187","v":647.10953729933908},{"$f":"Drepre!E90","v":0},{"$f":"SUM(F225:T225)","v":5846.7567631907878},null,{"$f":"FREQUENCY(E225:R225,0)","v":3}]
[null,{"$f":"'D60'!B188","v":"MOTLÍKOVÁ"},{"$f":"'D60'!C188","v":"Eliška"},{"$f":"'D60'!D188","v":"9.A"},null,{"$f":"'D60'!H188","v":803.12933064164883},{"$f":"'D300'!H188","v":687.54490853963534},{"$f":"'D800'!H188","v":735.47136270022975},{"$f":"Ddál!H188","v":779.072},{"$f":"Dvýš!H188","v":0},{"$f":"Dmíč!H188","v":421.6},{"$f":"Dkou!H188","v":657.77777777777771},{"$f":"Dčlu!H188","v":710.42052264811321},{"$f":"Dls!H188","v":0},{"$f":"Dodbíj!H188","v":66},{"$f":"Dplav!H188","v":0},{"$f":"Dšplh!H188","v":406.37826894888593},{"$f":"Dšvih!H188","v":780.75},{"$f":"'Dz mís'!H188","v":722.38054768649681},{"$f":"Drepre!E91","v":50},{"$f":"SUM(F226:T226)","v":6820.5247189427882},null,{"$f":"FREQUENCY(E226:R226,0)","v":3}]
[null,{"$f":"'D60'!B189","v":"POHOŘELÁ"},{"$f":"'D60'!C189","v":"Amálie"},{"$f":"'D60'!D189","v":"9.A"},null,{"$f":"'D60'!H189","v":798.5971052614791},{"$f":"'D300'!H189","v":661.36074794112449},{"$f":"'D800'!H189","v":550.22403196113351},{"$f":"Ddál!H189","v":643.43000000000006},{"$f":"Dvýš!H189","v":0},{"$f":"Dmíč!H189","v":330.6},{"$f":"Dkou!H189","v":640},{"$f":"Dčlu!H189","v":693.38759734963094},{"$f":"Dls!H189","v":0},{"$f":"Dodbíj!H189","v":45},{"$f":"Dplav!H189","v":0},{"$f":"Dšplh!H189","v":0},{"$f":"Dšvih!H189","v":774.5},{"$f":"'Dz mís'!H189","v":745.9027384324836},{"$f":"Drepre!E92","v":0},{"$f":"SUM(F227:T227)","v":5883.0022209458511},null,{"$f":"FREQUENCY(E227:R227,0)","v":4}]
[null,{"$f":"'D60'!B190","v":"POLÁČKOVÁ"},{"$f":"'D60'!C190","v":"Natálie"},{"$f":"'D60'!D190","v":"9.A"},null,{"$f":"'D60'!H190","v":557.95307912279372},{"$f":"'D300'!H190","v":335.41126088004933},{"$f":"'D800'!H190","v":0},{"$f":"Ddál!H190","v":558.21900000000005},{"$f":"Dvýš!H190","v":0},{"$f":"Dmíč!H190","v":367},{"$f":"Dkou!H190","v":383.11111111111103},{"$f":"Dčlu!H190","v":543.37457357976371},{"$f":"Dls!H190","v":0},{"$f":"Dodbíj!H190","v":27},{"$f":"Dplav!H190","v":0},{"$f":"Dšplh!H190","v":0},{"$f":"Dšvih!H190","v":249.5},{"$f":"'Dz mís'!H190","v":454.22757318224751},{"$f":"Drepre!E93","v":0},{"$f":"SUM(F228:T228)","v":3475.7965978759653},null,{"$f":"FREQUENCY(E228:R228,0)","v":5}]
[null,{"$f":"'D60'!B191","v":"ŘEHOŘKOVÁ"},{"$f":"'D60'!C191","v":"Lucie"},{"$f":"'D60'!D191","v":"9.A"},null,{"$f":"'D60'!H191","v":753.33082715172645},{"$f":"'D300'!H191","v":588.28721427115374},{"$f":"'D800'!H191","v":478.60736583259745},{"$f":"Ddál!H191","v":773.85500000000002},{"$f":"Dvýš!H191","v":707},{"$f":"Dmíč!H191","v":467.1},{"$f":"Dkou!H191","v":717.33333333333337},{"$f":"Dčlu!H191","v":647.14308227157278},{"$f":"Dls!H191","v":0},{"$f":"Dodbíj!H191","v":27},{"$f":"Dplav!H191","v":0},{"$f":"Dšplh!H191","v":0},{"$f":"Dšvih!H191","v":368.25},{"$f":"'Dz mís'!H191","v":680.04060434372059},{"$f":"Drepre!E94","v":0},{"$f":"SUM(F229:T229)","v":6207.9474272041043},null,{"$f":"FREQUENCY(E229:R229,0)","v":3}]
[null,{"$f":"'D60'!B192","v":"SKÁLOVÁ"},{"$f":"'D60'!C192","v":"Alena"},{"$f":"'D60'!D192","v":"9.A"},null,{"$f":"'D60'!H192","v":675.10518203150309},{"$f":"'D300'!H192","v":526.77059630810209},{"$f":"'D800'!H192","v":447.03982022141111},{"$f":"Ddál!H192","v":641.69100000000003},{"$f":"Dvýš!H192","v":642},{"$f":"Dmíč!H192","v":357.90000000000003},{"$f":"Dkou!H192","v":680},{"$f":"Dčlu!H192","v":600.87327277804752},{"$f":"Dls!H192","v":0},{"$f":"Dodbíj!H192","v":15},{"$f":"Dplav!H192","v":0},{"$f":"Dšplh!H192","v":0},{"$f":"Dšvih!H192","v":249.5},{"$f":"'Dz mís'!H192","v":510.68083097261569},{"$f":"Drepre!E95","v":0},{"$f":"SUM(F230:T230)","v":5346.56070231168},null,{"$f":"FREQUENCY(E230:R230,0)","v":3}]
[null,{"$f":"'D60'!B193","v":"VÁVROVÁ "},{"$f":"'D60'!C193","v":"Aneta"},{"$f":"'D60'!D193","v":"9.A"},null,{"$f":"'D60'!H193","v":817.95994169211474},{"$f":"'D300'!H193","v":745.59544523693864},{"$f":"'D800'!H193","v":546.93779432490226},{"$f":"Ddál!H193","v":839.93700000000001},{"$f":"Dvýš!H193","v":772},{"$f":"Dmíč!H193","v":430.7},{"$f":"Dkou!H193","v":497.77777777777777},{"$f":"Dčlu!H193","v":675.10518203150309},{"$f":"Dls!H193","v":0},{"$f":"Dodbíj!H193","v":117},{"$f":"Dplav!H193","v":0},{"$f":"Dšplh!H193","v":0},{"$f":"Dšvih!H193","v":737},{"$f":"'Dz mís'!H193","v":717.67610953729945},{"$f":"Drepre!E96","v":50},{"$f":"SUM(F231:T231)","v":6947.6892506005361},null,{"$f":"FREQUENCY(E231:R231,0)","v":3}]
[null,{"$f":"'D60'!B194","v":"ZELINKOVÁ"},{"$f":"'D60'!C194","v":"Klára"},{"$f":"'D60'!D194","v":"9.A"},null,{"$f":"'D60'!H194","v":768.99822259593907},{"$f":"'D300'!H194","v":578.86489876596875},{"$f":"'D800'!H194","v":0},{"$f":"Ddál!H194","v":716.46800000000007},{"$f":"Dvýš!H194","v":739.5},{"$f":"Dmíč!H194","v":503.5},{"$f":"Dkou!H194","v":795.55555555555554},{"$f":"Dčlu!H194","v":708.97170822379167},{"$f":"Dls!H194","v":0},{"$f":"Dodbíj!H194","v":66},{"$f":"Dplav!H194","v":0},{"$f":"Dšplh!H194","v":0},{"$f":"Dšvih!H194","v":468.25},{"$f":"'Dz mís'!H194","v":788.24268177525983},{"$f":"Drepre!E97","v":50},{"$f":"SUM(F232:T232)","v":6184.3510669165153},null,{"$f":"FREQUENCY(E232:R232,0)","v":4},{"$f":"SUM(W221:W232)","v":43}]

{"sheet":"Dvýk","index":6,"n_rows":0,"n_cols":0,"rows_kept":0,"cut":false,"hidden":false,"merged":[]}

{"sheet":"D60","index":7,"n_rows":194,"n_cols":12,"rows_kept":194,"cut":false,"hidden":false,"merged":[]}
[null,"SPORTOVEC  ŠKOLY  2021 - 2022",null,null,null,null,"60  M"]
[null,null,null,null,null,null,null,null,null,null,"stav  k ",{"$f":"TODAY()","v":44740}]
[null,null,null,null,null,null,null,"   BODY",null,"   20 - 21   ","   19 - 20   ","   18 - 19   "]
[]
["1.",{"$f":"B101","v":"HEJRALOVÁ"},{"$f":"C101","v":"Natálie"},"6.A",9.9,null,"Jilemnice  03.05.22",764.81691876127945,null,0,0,0]
["2. ",{"$f":"B102","v":"KERLE"},"Nikita","6.A",10.06,null,"Jilemnice  03.05.22",751.7160542614314,null,0,0,0]
["3. ",{"$f":"B103","v":"PACLÍKOVÁ"},"Markéta","6.A",9.85,null,"Jilemnice  03.05.22",768.99822259593907,null,0,0,0]
["4.",{"$f":"B104","v":"PLŮCHOVÁ"},"Michaela","6.A",9.85,null,"Jilemnice 10.09.21",768.99822259593907,null,0,0,0]
["5.",{"$f":"B105","v":"ŠERCLOVÁ"},"Nikola","6.A",12.1,null,"Jilemnice 10.09.21",615.05021777438014,null,0,0,0]
["6.",{"$f":"B106","v":"VÁCLAVÍKOVÁ"},"Alena","6.A",10.3,null,"Jilemnice 10.09.21",732.82791466699018,null,0,0,0]
["7.",{"$f":"B107","v":"DUCHÁČKOVÁ"},"Tereza","6.B",11.67,null,"Jilemnice  03.05.22",639.88299981462433,null,0,0,0]
["8.",{"$f":"B108","v":"FLAŠKOVÁ"},"Anna Sabriel","6.B",11.35,null,"Jilemnice  03.05.22",659.5843689488986,null,0,0,0]
["9.",{"$f":"B109","v":"HAASOVÁ"},"Julie","6.B",9.91,null,"Jilemnice 10.09.21",763.9857211271443,null,0,0,0]
["10.",{"$f":"B110","v":"HOBLOVÁ"},"Barbora","6.B",10.119999999999999,null,"Jilemnice  03.05.22",746.91003059980244,null,0,0,0]
["11.",{"$f":"B111","v":"HORÁČKOVÁ"},"Valérie","6.B",10.09,null,"Jilemnice  03.05.22",749.30589769772052,null,0,0,0]
["12.",{"$f":"B112","v":"JIRANOVÁ"},"Anežka","6.B",13.54,null,"Jilemnice  03.05.22",543.37457357976371,null,0,0,0]
["13.",{"$f":"B113","v":"JODASOVÁ"},"Denisa","6.B",10.37,null,"Jilemnice 10.09.21",727.48356080070721,null,0,0,0]
["14.",{"$f":"B114","v":"KRČÍKOVÁ"},"Beatrix","6.B",10.42,null,"Jilemnice 10.09.21",723.71012751151648,null,0,0,0]
["15.",{"$f":"B115","v":"KUBÁTOVÁ"},"Veronika","6.B",12.29,null,"Jilemnice  03.05.22",604.63113483346899,null,0,0,0]
["16.",{"$f":"B116","v":"LENČEŠOVÁ"},"Silvie","6.B",11.56,null,"Jilemnice  03.05.22",646.53231841435979,null,0,0,0]
["17.",{"$f":"B117","v":"MATERNOVÁ"},"Lenka","6.B",9.14,null,"Jilemnice  03.05.22",833.3097863898613,null,0,0,0]
["18.",{"$f":"B118","v":"TÓTHOVÁ"},"Viktorie","6.B",11.26,null,"Jilemnice 10.09.21",665.3271387095914,null,0,0,0]
["19.",{"$f":"B119","v":"ERBENOVÁ"},"Sára","7.A",11.4,null,"Jilemnice  29.04.22",656.43312199444438,null,11.58,0,0]
["20.",{"$f":"B120","v":"GINGALOVÁ"},"Linda","7.A",9.56,null," ",794.11228809658292,null,0,0,0]
["21.",{"$f":"B121","v":"HOFMANOVÁ "},"Nicol","7.A",10.92,null,"Jilemnice  29.04.22",687.87633336416366,null,11.92,0,0]
["22.",{"$f":"B122","v":"HOLEŠOVSKÁ"},"Aneta","7.A",10.51,null,0,717.00842382207418,null,10.99,0,0]
["23.",{"$f":"B123","v":"HOLUBCOVÁ"},"Alena","7.A",9.52,null,"Jilemnice  29.04.22",797.69637307457981,null,0,0,0]
["24.",{"$f":"B124","v":"KOHOUTOVÁ"},"Anna","7.A",11.42,null,"Jilemnice  29.04.22",655.18034956246345,null,13.25,0,0]
["25.",{"$f":"B125","v":"KRAUSOVÁ"},"Anežka","7.A",11.38,null,"Jilemnice  29.04.22",657.69029784446377,null,11.74,0,0]
["26.",{"$f":"B126","v":"KUŽELOVÁ"},"Apoléna","7.A",10.24,null,0,737.46694504589846,null,10.86,0,0]
["27.",{"$f":"B127","v":"MORÁVKOVÁ"},"Lucie","7.A",11.75,null,0,635.12532875773047,null,11.58,0,0]
["28.",{"$f":"B128","v":"SKLENÁROVÁ"},"Eliška","7.A",0,null,0,0,null,0,0,0]
["29.",{"$f":"B129","v":"ŠEJNOVÁ"},"Karolína","7.A",0,null,0,0,null,0,0,0]
["30.",{"$f":"B130","v":"ŠTOLFOVÁ"},"Tereza","7.A",10.77,null,"Jilemnice  29.04.22",698.27711706932837,null,10.82,0,0]
["31.",{"$f":"B131","v":"ŠUBÍKOVÁ"},"Klára","7.A",10.5,null,"Jilemnice  29.04.22",717.74738416539685,null,0,0,0]
["32.",{"$f":"B132","v":"ŠULKOVSKÁ"},"Klára","7.A",11.49,null,"Jilemnice  29.04.22",650.82999098665505,null,0,0,0]
["33.",{"$f":"B133","v":"TULÁČKOVÁ"},"Natálie","7.A",10.4,null,0,725.21514686570504,null,11.52,0,0]
["34.",{"$f":"B134","v":"VOJTÍŠKOVÁ"},"Ella","7.A",9.52,null,0,797.69637307457981,null,10.61,0,0]
["35.",{"$f":"B135","v":"DRUGÁČOVÁ"},"Kristinka","7.B",0,null,0,0,null,0,0,0]
["36.",{"$f":"B136","v":"FAJSTAVROVÁ"},"Karolína","7.B",9.02,null,"Turnov   10.05.22",845.17953880303025,null,10.61,0,0]
["37.",{"$f":"B137","v":"FAJSTAVROVÁ"},"Magdaléna","7.B",9.68,null,0,783.53775638464185,null,10.25,0,0]
["38.",{"$f":"B138","v":"HLAVATÁ"},"Anna","7.B",0,null,0,0,null,0,0,0]
["39.",{"$f":"B139","v":"JINDROVÁ"},"Barbora","7.B",10.8,null,0,696.17384747561709,null,12.1,0,0]
["40.",{"$f":"B140","v":"MAŘASOVÁ"},"Vendula","7.B",10.78,null,0,697.57472648144721,null,0,0,0]
["41.",{"$f":"B141","v":"PETŘÍČKOVÁ"},"Natálie","7.B",8.9,null,"Jilemnice 14.6.22",857.36937442734074,null,10.78,0,0]
["42.",{"$f":"B142","v":"PETŘÍKOVÁ"},"Adéla","7.B",10.97,null,"Jilemnice  29.04.22",684.47261289911864,null,12.38,0,0]
["43.",{"$f":"B143","v":"REGÁLOVÁ"},"Karolína","7.B",10.52,null,0,716.27086834632451,null,11.39,0,0]
["44.",{"$f":"B144","v":"RIEGROVÁ"},"Magdaléna","7.B",0,null,0,0,null,0,0,0]
["45.",{"$f":"B145","v":"RYBENSKÁ"},"Sabina","7.B",10.38,null,0,726.72596590912008,null,11.01,0,0]
["46.",{"$f":"B146","v":"STEINEROVÁ"},"Barbora","7.B",9.98,null,0,758.21397803640605,null,11.26,0,0]
["47.",{"$f":"B147","v":"TOMEŠOVÁ"},"Barbora","7.B",9.98,null,0,758.21397803640605,null,11.59,0,0]
["48.",{"$f":"B148","v":"VOHNOUTOVÁ"},"Aneta","7.B",9.17,null," ",830.39088871355852,null,10.210000000000001,0,0]
["49.",{"$f":"B149","v":"HAVLÍKOVÁ"},"Michaela","8.A",9.94,null,"Jilemnice 08.06.22",761.50216280382278,null,11.75,12.24,0]
["50.",{"$f":"B150","v":"HOLUBCOVÁ"},"Sára","8.A",9.02,null,"Jilemnice 08.06.22",845.17953880303025,null,9.58,9.9600000000000009,0]
["51.",{"$f":"B151","v":"HONCŮ"},"Tereza","8.A",10.199999999999999,null,"Jilemnice 08.06.22",740.58995242516346,null,11.17,0,0]
["52.",{"$f":"B152","v":"HORÁČKOVÁ"},"Kateřina","8.A",9.82,null,"Jilemnice 13.09.21",771.52744304175155,null,9.59,9.91,0]
["53.",{"$f":"B153","v":"JOUDALOVÁ"},"Daniela","8.A",0,null,0,0,null,0,13.96,0]
["54.",{"$f":"B154","v":"KLÍMOVÁ"},"Anna","8.A",10.9,null,"Jilemnice 08.06.22",689.24656505229348,null,10.81,11.09,0]
["55.",{"$f":"B155","v":"KOHOUTOVÁ"},"Veronika","8.A",9.39,null,"Jilemnice 08.06.22",809.55553391231797,null,0,9.9600000000000009,0]
["56.",{"$f":"B156","v":"KOVÁŘOVÁ"},"Viktorie","8.A",10.28,null,"Jilemnice 13.09.21",734.36824122600524,null,10.62,11.22,0]
["57.",{"$f":"B157","v":"KYNČLOVÁ"},"Anna","8.A",9.39,null,"Jilemnice 08.06.22",809.55553391231797,null,9.5,10.51,0]
["58.",{"$f":"B158","v":"MATOUŠOVÁ"},"Tereza","8.A",10.51,null,"Jilemnice 08.06.22",717.00842382207418,null,10.81,11.37,0]
["59.",{"$f":"B159","v":"MAZÁNKOVÁ"},"Zuzana","8.A",10.66,null,"Jilemnice 13.09.21",706.09038873076918,null,10.26,11.5,0]
["60.",{"$f":"B160","v":"MORKESOVÁ"},"Sabrina","8.A",8.7799999999999994,null,"Jilemnice 08.06.22",869.89241740356886,null,0,9.39,0]
["61.",{"$f":"B161","v":"POHOŘALÁ"},"Alžběta","8.A",9.66,null,"Jilemnice 13.09.21",785.2819338029675,null,9.5,10.59,0]
["62.",{"$f":"B162","v":"SCHOLZOVÁ"},"Laura","8.A",10.56,null,"Jilemnice 13.09.21",713.33461529703288,null,11.29,0,0]
["63.",{"$f":"B163","v":"VÁCLAVÍKOVÁ"},"Valerie","8.A",9.92,null,"Jilemnice 08.06.22",763.15619929469074,null,9.42,10.34,0]
["64.",{"$f":"B164","v":"ZAPADLOVÁ"},"Emma","8.A",8.7100000000000009,null,"Jilemnice 08.06.22",877.35687949138901,null,9.52,0,0]
["65.",{"$f":"B165","v":"ŽIŠKOVÁ"},"Mia","8.A",0,null,0,0,null,9.58,10.58,0]
["66.",{"$f":"B166","v":"FARSKÁ"},"Tereza","8.B",10.91,null,"Jilemnice  30.10.21",688.56082123770238,null,11.55,11.73,0]
["67.",{"$f":"B167","v":"FEIXOVÁ"},"Rozálie","8.B",11.85,null,"Jilemnice  30.10.21",629.26857546300994,null,11.58,12.86,0]
["68.",{"$f":"B168","v":"FIŠEROVÁ"},"Michaela","8.B",11.45,null,"Jilemnice  30.10.21",653.30939684745283,null,10.9,11.71,0]
["69.",{"$f":"B169","v":"HAVLÍČKOVÁ"},"Kristýna","8.B",12.55,null,"Jilemnice  30.10.21",590.88467438804776,null,12.36,12.86,0]
["70.",{"$f":"B170","v":"JODASOVÁ"},"Nikola","8.B",10.14,null,"Jilemnice  30.10.21",745.32066182807353,null,9.75,10.37,0]
["71.",{"$f":"B171","v":"KADAVÁ"},"Nikola","8.B",12.62,null,"Jilemnice  30.10.21",587.28048082435294,null,0,12.41,0]
["72.",{"$f":"B172","v":"KRAFKOVÁ"},"Lucie","8.B",0,null,0,0,null,11.1,0,0]
["73.",{"$f":"B173","v":"KŘIVINKOVÁ"},"Alžběta","8.B",10.99,null,"Jilemnice  30.10.21",683.11979661237478,null,11.01,0,0]
["74.",{"$f":"B174","v":"LEŠÁKOVÁ"},"Lenka","8.B",13,null,"Jilemnice  30.10.21",568.39213015923076,null,12.4,12.92,0]
["75.",{"$f":"B175","v":"NYKLÍČKOVÁ"},"Adéla","8.B",9.68,null,"Jilemnice  30.10.21",783.53775638464185,null,10.11,10,0]
["76.",{"$f":"B176","v":"PLŮCHOVÁ"},"Petra","8.B",10.54,null,0,714.79995600284633,null,11.01,11.32,0]
["77.",{"$f":"B177","v":"PODZIMKOVÁ"},"Eliška","8.B",10.8,null,"Jilemnice  30.10.21",696.17384747561709,null,12.35,12.09,0]
["78.",{"$f":"B178","v":"RUTKAYOVÁ"},"Klára","8.B",13,null,"Jilemnice  30.10.21",568.39213015923076,null,0,0,0]
["79.",{"$f":"B179","v":"SEIDLOVÁ"},"Zuzana","8.B",10.88,null,"Jilemnice  30.10.21",690.62183435692396,null,12.14,0,0]
["80.",{"$f":"B180","v":"TOMÁŠOVÁ"},"Sára","8.B",0,null,0,0,null,12.51,12.51,0]
["81.",{"$f":"B181","v":"VANCLOVÁ"},"Barbora","8.B",10.68,null,"Jilemnice  30.10.21",704.65782257833951,null,9.9700000000000006,0,0]
["82.",{"$f":"B182","v":"VOTOČKOVÁ"},"Veronika","8.B",13.34,null,"Jilemnice 13.09.21",552.40417643203386,null,12.55,13.86,0]
["83.",{"$f":"B183","v":"HARTIGOVÁ"},"Anna","9.A",10.26,null,"Jilemnice 13.09.21",735.91457295679004,null,10.7,10.5,13.01]
["84.",{"$f":"B184","v":"HONCŮ"},"Rozálie","9.A",8.6999999999999993,null,"Jilemnice  04.05.22",878.43303675134109,null,9.18,9.34,9.91]
["85.",{"$f":"B185","v":"CHALOUPSKÁ"},"Lucie","9.A",8.85,null,"Jilemnice  04.05.22",862.54603720188322,null,0,9.1199999999999992,9.9499999999999993]
["86.",{"$f":"B186","v":"KŘÍŽKOVÁ"},"Anna","9.A",10.26,null,"Jilemnice 13.09.21",735.91457295679004,null,10.8,11.23,11.61]
["87.",{"$f":"B187","v":"LUKEŠOVÁ"},"Kristýna","9.A",9.81,null,"Jilemnice 13.09.21",772.37395413217803,null,0,10.65,11.73]
["88.",{"$f":"B188","v":"MOTLÍKOVÁ"},"Eliška","9.A",9.4600000000000009,null,"Jilemnice  04.05.22",803.12933064164883,null,10.45,10.77,11.39]
["89.",{"$f":"B189","v":"POHOŘELÁ"},"Amálie","9.A",9.51,null,"Jilemnice  04.05.22",798.5971052614791,null,9.2799999999999994,10.23,10.33]
["90.",{"$f":"B190","v":"POLÁČKOVÁ"},"Natálie","9.A",13.22,null,"Jilemnice  04.05.22",557.95307912279372,null,0,12.7,13.16]
["91.",{"$f":"B191","v":"ŘEHOŘKOVÁ"},"Lucie","9.A",10.039999999999999,null,"Jilemnice 13.09.21",753.33082715172645,null,10.38,10.4,11.62]
["92.",{"$f":"B192","v":"SKÁLOVÁ"},"Alena","9.A",11.11,null,{"$f":"G192","v":"Jilemnice  04.05.22"},675.10518203150309,null,{"$f":"J192","v":11.43},12.9,12.88]
["93.",{"$f":"B193","v":"VÁVROVÁ "},"Aneta","9.A",9.3000000000000007,null,{"$f":"G193","v":"Jilemnice 13.09.21"},817.95994169211474,null,{"$f":"J193","v":9.7200000000000006},9.6999999999999993,10.59]
["94.",{"$f":"B194","v":"ZELINKOVÁ"},"Klára","9.A",9.85,null,{"$f":"G194","v":"Jilemnice  04.05.22"},768.99822259593907,null,{"$f":"J194","v":9.7100000000000009},10.4,10.92]
[]
[]
[null,"HEJRALOVÁ","Natálie","6.A",9.9,null,"Jilemnice  03.05.22",{"$f":"IF(E101=0,0,IF(E101>0,((1000 - 321 / E101 + 340 / E101*2 - 16600 / E101*3 + 32190000000 / E101*4)/15000000-62)*0.95))","v":764.81691876127945}]
[null,"KERLE","Nikita","6.A",10.06,null,"Jilemnice  03.05.22",751.7160542614314]
[null,"PACLÍKOVÁ","Markéta","6.A",9.85,null,"Jilemnice  03.05.22",768.99822259593907]
[null,"PLŮCHOVÁ","Michaela","6.A",9.85,null,"Jilemnice 10.09.21",768.99822259593907]
[null,"ŠERCLOVÁ","Nikola","6.A",12.1,null,"Jilemnice 10.09.21",615.05021777438014]
[null,"VÁCLAVÍKOVÁ","Alena","6.A",10.3,null,"Jilemnice 10.09.21",732.82791466699018]
[null,"DUCHÁČKOVÁ","Tereza","6.B",11.67,null,"Jilemnice  03.05.22",639.88299981462433]
[null,"FLAŠKOVÁ","Anna Sabriel","6.B",11.35,null,"Jilemnice  03.05.22",659.5843689488986]
[null,"HAASOVÁ","Julie","6.B",9.91,null,"Jilemnice 10.09.21",763.9857211271443]
[null,"HOBLOVÁ","Barbora","6.B",10.119999999999999,null,"Jilemnice  03.05.22",746.91003059980244]
[null,"HORÁČKOVÁ","Valérie","6.B",10.09,null,"Jilemnice  03.05.22",749.30589769772052]
[null,"JIRANOVÁ","Anežka","6.B",13.54,null,"Jilemnice  03.05.22",543.37457357976371]
[null,"JODASOVÁ","Denisa","6.B",10.37,null,"Jilemnice 10.09.21",727.48356080070721]
[null,"KRČÍKOVÁ","Beatrix","6.B",10.42,null,"Jilemnice 10.09.21",723.71012751151648]
[null,"KUBÁTOVÁ","Veronika","6.B",12.29,null,"Jilemnice  03.05.22",604.63113483346899]
[null,"LENČEŠOVÁ","Silvie","6.B",11.56,null,"Jilemnice  03.05.22",646.53231841435979]
[null,"MATERNOVÁ","Lenka","6.B",9.14,null,"Jilemnice  03.05.22",833.3097863898613]
[null,"TÓTHOVÁ","Viktorie","6.B",11.26,null,"Jilemnice 10.09.21",665.3271387095914]
[null,"ERBENOVÁ","Sára","7.A",11.4,null,"Jilemnice  29.04.22",656.43312199444438,null,11.58]
[null,"GINGALOVÁ","Linda","7.A",9.56,null," ",794.11228809658292]
[null,"HOFMANOVÁ ","Nicol","7.A",10.92,null,"Jilemnice  29.04.22",687.87633336416366,null,11.92]
[null,"HOLEŠOVSKÁ","Aneta","7.A",10.51,null,null,717.00842382207418,null,10.99]
[null,"HOLUBCOVÁ","Alena","7.A",9.52,null,"Jilemnice  29.04.22",797.69637307457981]
[null,"KOHOUTOVÁ","Anna","7.A",11.42,null,"Jilemnice  29.04.22",655.18034956246345,null,13.25]
[null,"KRAUSOVÁ","Anežka","7.A",11.38,null,"Jilemnice  29.04.22",657.69029784446377,null,11.74]
[null,"KUŽELOVÁ","Apoléna","7.A",10.24,null,null,737.46694504589846,null,10.86]
[null,"MORÁVKOVÁ","Lucie","7.A",11.75,null,null,635.12532875773047,null,11.58]
[null,"SKLENÁROVÁ","Eliška","7.A",null,null,null,0]
[null,"ŠEJNOVÁ","Karolína","7.A",null,null,null,0]
[null,"ŠTOLFOVÁ","Tereza","7.A",10.77,null,"Jilemnice  29.04.22",698.27711706932837,null,10.82]
[null,"ŠUBÍKOVÁ","Klára","7.A",10.5,null,"Jilemnice  29.04.22",717.74738416539685]
[null,"ŠULKOVSKÁ","Klára","7.A",11.49,null,"Jilemnice  29.04.22",650.82999098665505]
[null,"TULÁČKOVÁ","Natálie","7.A",10.4,null,null,{"$f":"IF(E133=0,0,IF(E133>0,((1000 - 321 / E133 + 340 / E133*2 - 16600 / E133*3 + 32190000000 / E133*4)/15000000-62)*0.95))","v":725.21514686570504},null,11.52]
[null,"VOJTÍŠKOVÁ","Ella","7.A",9.52,null,null,797.69637307457981,null,10.61]
[null,"DRUGÁČOVÁ","Kristinka","7.B",null,null,null,0]
[null,"FAJSTAVROVÁ","Karolína","7.B",9.02,null,"Turnov   10.05.22",845.17953880303025,null,10.61]
[null,"FAJSTAVROVÁ","Magdaléna","7.B",9.68,null,null,783.53775638464185,null,10.25]
[null,"HLAVATÁ","Anna","7.B",null,null,null,0]
[null,"JINDROVÁ","Barbora","7.B",10.8,null,null,696.17384747561709,null,12.1]
[null,"MAŘASOVÁ","Vendula","7.B",10.78,null,null,697.57472648144721]
[null,"PETŘÍČKOVÁ","Natálie","7.B",8.9,null,"Jilemnice 14.6.22",857.36937442734074,null,10.78]
[null,"PETŘÍKOVÁ","Adéla","7.B",10.97,null,"Jilemnice  29.04.22",684.47261289911864,null,12.38]
[null,"REGÁLOVÁ","Karolína","7.B",10.52,null,null,716.27086834632451,null,11.39]
[null,"RIEGROVÁ","Magdaléna","7.B",null,null,null,0]
[null,"RYBENSKÁ","Sabina","7.B",10.38,null,null,726.72596590912008,null,11.01]
[null,"STEINEROVÁ","Barbora","7.B",9.98,null,null,758.21397803640605,null,11.26]
[null,"TOMEŠOVÁ","Barbora","7.B",9.98,null,null,758.21397803640605,null,11.59]
[null,"VOHNOUTOVÁ","Aneta","7.B",9.17,null," ",830.39088871355852,null,10.210000000000001]
[null,"HAVLÍKOVÁ","Michaela","8.A",9.94,null,"Jilemnice 08.06.22",761.50216280382278,null,11.75,12.24]
[null,"HOLUBCOVÁ","Sára","8.A",9.02,null,"Jilemnice 08.06.22",845.17953880303025,null,9.58,9.9600000000000009]
[null,"HONCŮ","Tereza","8.A",10.199999999999999,null,"Jilemnice 08.06.22",740.58995242516346,null,11.17]
[null,"HORÁČKOVÁ","Kateřina","8.A",9.82,null,"Jilemnice 13.09.21",771.52744304175155,null,9.59,9.91]
[null,"JOUDALOVÁ","Daniela","8.A",null,null,null,0,null,null,13.96]
[null,"KLÍMOVÁ","Anna","8.A",10.9,null,"Jilemnice 08.06.22",689.24656505229348,null,10.81,11.09]
[null,"KOHOUTOVÁ","Veronika","8.A",9.39,null,"Jilemnice 08.06.22",809.55553391231797,null,null,9.9600000000000009]
[null,"KOVÁŘOVÁ","Viktorie","8.A",10.28,null,"Jilemnice 13.09.21",734.36824122600524,null,10.62,11.22]
[null,"KYNČLOVÁ","Anna","8.A",9.39,null,"Jilemnice 08.06.22",809.55553391231797,null,9.5,10.51]
[null,"MATOUŠOVÁ","Tereza","8.A",10.51,null,"Jilemnice 08.06.22",717.00842382207418,null,10.81,11.37]
[null,"MAZÁNKOVÁ","Zuzana","8.A",10.66,null,"Jilemnice 13.09.21",706.09038873076918,null,10.26,11.5]
[null,"MORKESOVÁ","Sabrina","8.A",8.7799999999999994,null,"Jilemnice 08.06.22",869.89241740356886,null,null,9.39]
[null,"POHOŘALÁ","Alžběta","8.A",9.66,null,"Jilemnice 13.09.21",785.2819338029675,null,9.5,10.59]
[null,"SCHOLZOVÁ","Laura","8.A",10.56,null,"Jilemnice 13.09.21",713.33461529703288,null,11.29]
[null,"VÁCLAVÍKOVÁ","Valerie","8.A",9.92,null,"Jilemnice 08.06.22",763.15619929469074,null,9.42,10.34]
[null,"ZAPADLOVÁ","Emma","8.A",8.7100000000000009,null,"Jilemnice 08.06.22",877.35687949138901,null,9.52]
[null,"ŽIŠKOVÁ","Mia","8.A",null,null,null,{"$f":"IF(E165=0,0,IF(E165>0,((1000 - 321 / E165 + 340 / E165*2 - 16600 / E165*3 + 32190000000 / E165*4)/15000000-62)*0.95))","v":0},null,9.58,10.58]
[null,"FARSKÁ","Tereza","8.B",10.91,null,"Jilemnice  30.10.21",688.56082123770238,null,11.55,11.73]
[null,"FEIXOVÁ","Rozálie","8.B",11.85,null,"Jilemnice  30.10.21",629.26857546300994,null,11.58,12.86]
[null,"FIŠEROVÁ","Michaela","8.B",11.45,null,"Jilemnice  30.10.21",653.30939684745283,null,10.9,11.71]
[null,"HAVLÍČKOVÁ","Kristýna","8.B",12.55,null,"Jilemnice  30.10.21",590.88467438804776,null,12.36,12.86]
[null,"JODASOVÁ","Nikola","8.B",10.14,null,"Jilemnice  30.10.21",745.32066182807353,null,9.75,10.37]
[null,"KADAVÁ","Nikola","8.B",12.62,null,"Jilemnice  30.10.21",587.28048082435294,null,null,12.41]
[null,"KRAFKOVÁ","Lucie","8.B",null,null,null,0,null,11.1]
[null,"KŘIVINKOVÁ","Alžběta","8.B",10.99,null,"Jilemnice  30.10.21",683.11979661237478,null,11.01]
[null,"LEŠÁKOVÁ","Lenka","8.B",13,null,"Jilemnice  30.10.21",568.39213015923076,null,12.4,12.92]
[null,"NYKLÍČKOVÁ","Adéla","8.B",9.68,null,"Jilemnice  30.10.21",783.53775638464185,null,10.11,10]
[null,"PLŮCHOVÁ","Petra","8.B",10.54,null,null,714.79995600284633,null,11.01,11.32]
[null,"PODZIMKOVÁ","Eliška","8.B",10.8,null,"Jilemnice  30.10.21",696.17384747561709,null,12.35,12.09]
[null,"RUTKAYOVÁ","Klára","8.B",13,null,"Jilemnice  30.10.21",568.39213015923076]
[null,"SEIDLOVÁ","Zuzana","8.B",10.88,null,"Jilemnice  30.10.21",690.62183435692396,null,12.14]
[null,"TOMÁŠOVÁ","Sára","8.B",null,null,null,0,null,12.51,12.51]
[null,"VANCLOVÁ","Barbora","8.B",10.68,null,"Jilemnice  30.10.21",704.65782257833951,null,9.9700000000000006]
[null,"VOTOČKOVÁ","Veronika","8.B",13.34,null,"Jilemnice 13.09.21",552.40417643203386,null,12.55,13.86]
[null,"HARTIGOVÁ","Anna","9.A",10.26,null,"Jilemnice 13.09.21",735.91457295679004,null,10.7,10.5,13.01]
[null,"HONCŮ","Rozálie","9.A",8.6999999999999993,null,"Jilemnice  04.05.22",878.43303675134109,null,9.18,9.34,9.91]
[null,"CHALOUPSKÁ","Lucie","9.A",8.85,null,"Jilemnice  04.05.22",862.54603720188322,null,null,9.1199999999999992,9.9499999999999993]
[null,"KŘÍŽKOVÁ","Anna","9.A",10.26,null,"Jilemnice 13.09.21",735.91457295679004,null,10.8,11.23,11.61]
[null,"LUKEŠOVÁ","Kristýna","9.A",9.81,null,"Jilemnice 13.09.21",772.37395413217803,null,null,10.65,11.73]
[null,"MOTLÍKOVÁ","Eliška","9.A",9.4600000000000009,null,"Jilemnice  04.05.22",803.12933064164883,null,10.45,10.77,11.39]
[null,"POHOŘELÁ","Amálie","9.A",9.51,null,"Jilemnice  04.05.22",798.5971052614791,null,9.2799999999999994,10.23,10.33]
[null,"POLÁČKOVÁ","Natálie","9.A",13.22,null,"Jilemnice  04.05.22",557.95307912279372,null,null,12.7,13.16]
[null,"ŘEHOŘKOVÁ","Lucie","9.A",10.039999999999999,null,"Jilemnice 13.09.21",753.33082715172645,null,10.38,10.4,11.62]
[null,"SKÁLOVÁ","Alena","9.A",11.11,null,"Jilemnice  04.05.22",675.10518203150309,null,11.43,12.9,12.88]
[null,"VÁVROVÁ ","Aneta","9.A",9.3000000000000007,null,"Jilemnice 13.09.21",817.95994169211474,null,9.7200000000000006,9.6999999999999993,10.59]
[null,"ZELINKOVÁ","Klára","9.A",9.85,null,"Jilemnice  04.05.22",768.99822259593907,null,9.7100000000000009,10.4,10.92]

{"sheet":"D300","index":8,"n_rows":194,"n_cols":12,"rows_kept":194,"cut":false,"hidden":false,"merged":[]}
[null,null,"VÝKONY  2020 - 2021",null,null,null,"300 M"]
[null,null,null,null,null,null,null,null,null,null,"stav  k ",{"$f":"TODAY()","v":44740}]
[null,null,null,null,null,null,null,"   BODY",null,"   20 - 21   ","   19 - 20   ","   18 - 19   "]
[]
["1.",{"$f":"B101","v":"HEJRALOVÁ"},{"$f":"C101","v":"Natálie"},"6.A","00:00:55.050",null,"Jilemnice 27.05.22",756.23959004337871,null,"00:00:00","00:00:00","00:00:00"]
["2.",{"$f":"B102","v":"KERLE"},"Nikita","6.A","00:00:54.390",null,"Jilemnice 27.05.22",768.02511733568667,null,"00:00:00","00:00:00","00:00:00"]
["3.",{"$f":"B103","v":"PACLÍKOVÁ"},"Markéta","6.A","00:01:00.360",null,"Jilemnice 27.05.22",670.79797849383704,null,"00:00:00","00:00:00","00:00:00"]
["4.",{"$f":"B104","v":"PLŮCHOVÁ"},"Michaela","6.A","00:01:00.380",null,"Jilemnice 27.05.22",670.50457240622723,null,"00:00:00","00:00:00","00:00:00"]
["5.",{"$f":"B105","v":"ŠERCLOVÁ"},"Nikola","6.A","00:01:19.980",null,"Jilemnice 27.05.22",453.50292675528885,null,"00:00:00","00:00:00","00:00:00"]
["6.",{"$f":"B106","v":"VÁCLAVÍKOVÁ"},"Alena","6.A","00:01:04.060",null,"Jilemnice 27.05.22",619.63603624551979,null,"00:00:00","00:00:00","00:00:00"]
["7.",{"$f":"B107","v":"DUCHÁČKOVÁ"},"Tereza","6.B","00:01:12.790",null,"Jilemnice 27.05.22",519.53535007402104,null,"00:00:00","00:00:00","00:00:00"]
["8.",{"$f":"B108","v":"FLAŠKOVÁ"},"Anna Sabriel","6.B","00:01:10.930",null,"Jilemnice 27.05.22",538.79696647240939,null,"00:00:00","00:00:00","00:00:00"]
["9.",{"$f":"B109","v":"HAASOVÁ"},"Julie","6.B","00:01:00.470",null,"Jilemnice 27.05.22",669.18664679821393,null,"00:00:00","00:00:00","00:00:00"]
["10.",{"$f":"B110","v":"HOBLOVÁ"},"Barbora","6.B","00:01:02.520",null,"Jilemnice 27.05.22",640.1947661850287,null,"00:00:00","00:00:00","00:00:00"]
["11.",{"$f":"B111","v":"HORÁČKOVÁ"},"Valérie","6.B","00:00:58.030",null,"Jilemnice 27.05.22",706.36402433031185,null,"00:00:00","00:00:00","00:00:00"]
["12.",{"$f":"B112","v":"JIRANOVÁ"},"Anežka","6.B","00:00:00",null,0,0,null,"00:00:00","00:00:00","00:00:00"]
["13.",{"$f":"B113","v":"JODASOVÁ"},"Denisa","6.B","00:00:00",null,0,0,null,"00:00:00","00:00:00","00:00:00"]
["14.",{"$f":"B114","v":"KRČÍKOVÁ"},"Beatrix","6.B","00:01:04.060",null,"Jilemnice 27.05.22",619.63603624551979,null,"00:00:00","00:00:00","00:00:00"]
["15.",{"$f":"B115","v":"KUBÁTOVÁ"},"Veronika","6.B","00:01:16.940",null,"Jilemnice 27.05.22",479.91615391068365,null,"00:00:00","00:00:00","00:00:00"]
["16.",{"$f":"B116","v":"LENČEŠOVÁ"},"Silvie","6.B","00:01:07.700",null,"Jilemnice 27.05.22",574.76074862463793,null,"00:00:00","00:00:00","00:00:00"]
["17.",{"$f":"B117","v":"MATERNOVÁ"},"Lenka","6.B","00:00:53.800",null,"Jilemnice 27.05.22",778.80544947747217,null,"00:00:00","00:00:00","00:00:00"]
["18.",{"$f":"B118","v":"TÓTHOVÁ"},"Viktorie","6.B","00:01:07.190",null,"Jilemnice 27.05.22",580.75532269516316,null,"00:00:00","00:00:00","00:00:00"]
["19.",{"$f":"B119","v":"ERBENOVÁ"},"Sára","7.A","00:01:20.200",null,"Jilemnice 27.05.22",451.66914191880301,null,"00:00:00","00:00:00","00:00:00"]
["20.",{"$f":"B120","v":"GINGALOVÁ"},"Linda","7.A","00:00:00",null,0,0,null,"00:00:00","00:00:00","00:00:00"]
["21.",{"$f":"B121","v":"HOFMANOVÁ "},"Nicol","7.A","00:00:00",null,0,0,null,"00:01:15.700","00:00:00","00:00:00"]
["22.",{"$f":"B122","v":"HOLEŠOVSKÁ"},"Aneta","7.A","00:00:00",null,0,0,null,"00:00:00","00:00:00","00:00:00"]
["23.",{"$f":"B123","v":"HOLUBCOVÁ"},"Alena","7.A","00:01:06.230",null,"Jilemnice 27.05.22",592.28967736506092,null,"00:00:59.270","00:00:00","00:00:00"]
["24.",{"$f":"B124","v":"KOHOUTOVÁ"},"Anna","7.A","00:01:15.470",null,"Jilemnice 27.05.22",493.45159045830121,null,"00:01:24.100","00:00:00","00:00:00"]
["25.",{"$f":"B125","v":"KRAUSOVÁ"},"Anežka","7.A","00:01:10.810",null,"Jilemnice 27.05.22",540.07439954650465,null,"00:01:04.100","00:00:00","00:00:00"]
["26.",{"$f":"B126","v":"KUŽELOVÁ"},"Apoléna","7.A","00:00:00",null,0,0,null,"00:00:00","00:00:00","00:00:00"]
["27.",{"$f":"B127","v":"MORÁVKOVÁ"},"Lucie","7.A","00:00:00",null,0,0,null,"00:00:00","00:00:00","00:00:00"]
["28.",{"$f":"B128","v":"SKLENÁROVÁ"},"Eliška","7.A","00:00:00",null,0,0,null,"00:01:17.530","00:00:00","00:00:00"]
["29.",{"$f":"B129","v":"ŠEJNOVÁ"},"Karolína","7.A","00:01:08.750",null,"Jilemnice 27.05.22",562.69902446382548,null,"00:00:00","00:00:00","00:00:00"]
["30.",{"$f":"B130","v":"ŠTOLFOVÁ"},"Tereza","7.A","00:01:05.420",null,"Jilemnice 27.05.22",602.28510060972189,null,"00:01:04.880","00:00:00","00:00:00"]
["31.",{"$f":"B131","v":"ŠUBÍKOVÁ"},"Klára","7.A","00:01:03.080",null,"Jilemnice 27.05.22",632.60272006797732,null,"00:01:06.100","00:00:00","00:00:00"]
["32.",{"$f":"B132","v":"ŠULKOVSKÁ"},"Klára","7.A","00:01:16.660",null,"Jilemnice 27.05.22",482.45431100819201,null,"00:00:00","00:00:00","00:00:00"]
["33.",{"$f":"B133","v":"TULÁČKOVÁ"},"Natálie","7.A","00:00:00",null,0,0,null,"00:00:00","00:00:00","00:00:00"]
["34.",{"$f":"B134","v":"VOJTÍŠKOVÁ"},"Ella","7.A","00:00:00",null,0,0,null,"00:00:00","00:00:00","00:00:00"]
["35.",{"$f":"B135","v":"DRUGÁČOVÁ"},"Kristinka","7.B","00:00:00",null,0,0,null,"00:01:03.360","00:00:00","00:00:00"]
["36.",{"$f":"B136","v":"FAJSTAVROVÁ"},"Karolína","7.B","00:00:00",null,0,0,null,"00:00:00","00:00:00","00:00:00"]
["37.",{"$f":"B137","v":"FAJSTAVROVÁ"},"Magdaléna","7.B","00:00:00",null,0,0,null,"00:00:00","00:00:00","00:00:00"]
["38.",{"$f":"B138","v":"HLAVATÁ"},"Anna","7.B","00:00:00",null,0,0,null,"00:00:00","00:00:00","00:00:00"]
["39.",{"$f":"B139","v":"JINDROVÁ"},"Barbora","7.B","00:00:00",null,0,0,null,"00:00:00","00:00:00","00:00:00"]
["40.",{"$f":"B140","v":"MAŘASOVÁ"},"Vendula","7.B","00:00:00",null,0,0,null,"00:00:00","00:00:00","00:00:00"]
["41.",{"$f":"B141","v":"PETŘÍČKOVÁ"},"Natálie","7.B","00:00:55.240",null,0,752.89899315510479,null,"00:00:00","00:00:00","00:00:00"]
["42.",{"$f":"B142","v":"PETŘÍKOVÁ"},"Adéla","7.B","00:01:01.950",null,"Jilemnice 27.05.22",648.06334030489097,null,"00:01:10.660","00:00:00","00:00:00"]
["43.",{"$f":"B143","v":"REGÁLOVÁ"},"Karolína","7.B","00:00:00",null,0,0,null,"00:00:00","00:00:00","00:00:00"]
["44.",{"$f":"B144","v":"RIEGROVÁ"},"Magdaléna","7.B","00:00:00",null,0,0,null,"00:01:13.300","00:00:00","00:00:00"]
["45.",{"$f":"B145","v":"RYBENSKÁ"},"Sabina","7.B","00:00:00",null,0,0,null,"00:00:00","00:00:00","00:00:00"]
["46.",{"$f":"B146","v":"STEINEROVÁ"},"Barbora","7.B","00:01:07.540",null,"Jilemnice 27.05.22",576.63165356659761,null,"00:00:00","00:00:00","00:00:00"]
["47.",{"$f":"B147","v":"TOMEŠOVÁ"},"Barbora","7.B","00:00:00",null,0,0,null,"00:00:00","00:00:00","00:00:00"]
["48.",{"$f":"B148","v":"VOHNOUTOVÁ"},"Aneta","7.B","00:00:00",null,0,0,null,"00:00:00","00:00:00","00:00:00"]
["49.",{"$f":"B149","v":"HAVLÍKOVÁ"},"Michaela","8.A","00:01:09.740",null,"Jilemnice  29.09.21",551.65920392727276,null,"00:00:00","00:01:18.970","00:00:00"]
["50.",{"$f":"B150","v":"HOLUBCOVÁ"},"Sára","8.A","00:00:57.550",null,"Jilemnice  29.09.21",714.04868691377942,null,"00:00:00","00:00:58.890","00:00:00"]
["51.",{"$f":"B151","v":"HONCŮ"},"Tereza","8.A","00:01:04.060",null,"Jilemnice 22.06.22",619.63603624551979,null,"00:00:00","00:01:07.580","00:00:00"]
["52.",{"$f":"B152","v":"HORÁČKOVÁ"},"Kateřina","8.A","00:00:56.460",null,"Jilemnice  29.09.21",731.98452854920299,null,"00:00:00","00:01:02.240","00:00:00"]
["53.",{"$f":"B153","v":"JOUDALOVÁ"},"Daniela","8.A","00:00:00",null,0,0,null,"00:00:00","00:01:29.440","00:00:00"]
["54.",{"$f":"B154","v":"KLÍMOVÁ"},"Anna","8.A","00:01:02.190",null,"Jilemnice 22.06.22",644.7326761840809,null,"00:00:00","00:01:03.720","00:00:00"]
["55.",{"$f":"B155","v":"KOHOUTOVÁ"},"Veronika","8.A","00:00:57.510",null,"Jilemnice  29.09.21",714.69486579530519,null,"00:00:00","00:00:59.130","00:00:00"]
["56.",{"$f":"B156","v":"KOVÁŘOVÁ"},"Viktorie","8.A","00:00:59.520",null,"Jilemnice 22.06.22",683.29908907741935,null,"00:00:00","00:01:04.860","00:00:00"]
["57.",{"$f":"B157","v":"KYNČLOVÁ"},"Anna","8.A","00:00:48.500",null,"Jilemnice 22.06.22",887.40632333789677,null,"00:00:00","00:00:59.780","00:00:00"]
["58.",{"$f":"B158","v":"MATOUŠOVÁ"},"Tereza","8.A","00:01:07.350",null,"Jilemnice 22.06.22",578.86489876596875,null,"00:00:00","00:01:10.610","00:00:00"]
["59.",{"$f":"B159","v":"MAZÁNKOVÁ"},"Zuzana","8.A","00:01:03.030",null,"Jilemnice  29.09.21",633.27509649195622,null,"00:00:00","00:01:04.850","00:00:00"]
["60.",{"$f":"B160","v":"MORKESOVÁ"},"Sabrina","8.A","00:00:57.420",null,"Jilemnice 22.06.22",716.15205994231951,null,"00:00:00","00:01:00.680","00:00:00"]
["61.",{"$f":"B161","v":"POHOŘALÁ"},"Alžběta","8.A","00:00:56.850",null,"Jilemnice 22.06.22",725.48809906575207,null,"00:00:00","00:01:05.990","00:00:00"]
["62.",{"$f":"B162","v":"SCHOLZOVÁ"},"Laura","8.A","00:00:00",null,0,0,null,"00:00:00","00:01:14.770","00:00:00"]
["63.",{"$f":"B163","v":"VÁCLAVÍKOVÁ"},"Valerie","8.A","00:00:54.530",null,"Jilemnice 22.06.22",765.50131729117902,null,"00:00:00","00:01:03.520","00:00:00"]
["64.",{"$f":"B164","v":"ZAPADLOVÁ"},"Emma","8.A","00:00:56.120",null,"Jilemnice 22.06.22",737.72175306286545,null,"00:00:00","00:01:04.690","00:00:00"]
["65.",{"$f":"B165","v":"ŽIŠKOVÁ"},"Mia","8.A","00:00:00",null,0,0,null,"00:00:00","00:01:06.460","00:00:00"]
["66.",{"$f":"B166","v":"FARSKÁ"},"Tereza","8.B","00:00:00",null,0,0,null,"00:00:00","00:01:14.230","00:00:00"]
["67.",{"$f":"B167","v":"FEIXOVÁ"},"Rozálie","8.B","00:00:00",null,0,0,null,"00:00:00","00:01:28.320","00:00:00"]
["68.",{"$f":"B168","v":"FIŠEROVÁ"},"Michaela","8.B","00:01:24.900",null,"Jilemnice  30.10.21",414.76311757229678,null,"00:00:00","00:01:19.320","00:00:00"]
["69.",{"$f":"B169","v":"HAVLÍČKOVÁ"},"Kristýna","8.B","00:01:16.300",null,"Jilemnice  30.10.21",485.74502859617292,null,"00:00:00","00:00:00","00:00:00"]
["70.",{"$f":"B170","v":"JODASOVÁ"},"Nikola","8.B","00:01:00.200",null,"Jilemnice  30.10.21",673.1522455463122,null,"00:00:00","00:01:11.830","00:00:00"]
["71.",{"$f":"B171","v":"KADAVÁ"},"Nikola","8.B","00:01:19",null,"Jilemnice  30.10.21",461.79568584668345,null,"00:00:00","00:01:29.980","00:00:00"]
["72.",{"$f":"B172","v":"KRAFKOVÁ"},"Lucie","8.B","00:00:00",null,0,0,null,"00:00:00","00:00:00","00:00:00"]
["73.",{"$f":"B173","v":"KŘIVINKOVÁ"},"Alžběta","8.B","00:00:00",null,0,0,null,"00:00:00","00:01:12.620","00:00:00"]
["74.",{"$f":"B174","v":"LEŠÁKOVÁ"},"Lenka","8.B","00:01:15.300",null,"Jilemnice  30.10.21",495.05100507155396,null,"00:00:00","00:01:32.350","00:00:00"]
["75.",{"$f":"B175","v":"NYKLÍČKOVÁ"},"Adéla","8.B","00:00:56.010",null,"Jilemnice  30.10.21",739.59282685034816,null,"00:00:00","00:01:09.160","00:00:00"]
["76.",{"$f":"B176","v":"PLŮCHOVÁ"},"Petra","8.B","00:01:05.200",null,"Jilemnice  30.10.21",605.04279420073613,null,"00:00:00","00:01:10.250","00:00:00"]
["77.",{"$f":"B177","v":"PODZIMKOVÁ"},"Eliška","8.B","00:01:24.900",null,"Jilemnice  30.10.21",414.76311757229678,null,"00:00:00","00:01:21.100","00:00:00"]
["78.",{"$f":"B178","v":"RUTKAYOVÁ"},"Klára","8.B","00:00:00",null,0,0,null,"00:00:00","00:01:19.660","00:00:00"]
["79.",{"$f":"B179","v":"SEIDLOVÁ"},"Zuzana","8.B","00:01:04",null,0,620.41850284199995,null,"00:00:00","00:01:25.020","00:00:00"]
["80.",{"$f":"B180","v":"TOMÁŠOVÁ"},"Sára","8.B","00:01:23.900",null,"Jilemnice  30.10.21",422.26917380081045,null,"00:00:00","00:00:00","00:00:00"]
["81.",{"$f":"B181","v":"VANCLOVÁ"},"Barbora","8.B","00:01:03.900",null,"Jilemnice  30.10.21",621.72587921577474,null,"00:00:00","00:01:16.110","00:00:00"]
["82.",{"$f":"B182","v":"VOTOČKOVÁ"},"Veronika","8.B","00:00:00",null,0,0,null,"00:00:00","00:01:36.510","00:00:00"]
["83.",{"$f":"B183","v":"HARTIGOVÁ"},"Anna","9.A","00:00:00",null,0,0,null,"00:00:00","00:01:03.510","00:01:29.540"]
["84.",{"$f":"B184","v":"HONCŮ"},"Rozálie","9.A","00:00:54.840",null,"Jilemnice  29.09.21",759.95875969890608,null,"00:00:00","00:01:03.850","00:01:06.010"]
["85.",{"$f":"B185","v":"CHALOUPSKÁ"},"Lucie","9.A","00:00:54.290",null,"Jilemnice  29.09.21",769.83580091891702,null,"00:00:50.300","00:00:57.680","00:00:56.920"]
["86.",{"$f":"B186","v":"KŘÍŽKOVÁ"},"Anna","9.A","00:01:05.380",null,"Jilemnice  29.09.21",602.78511902551236,null,"00:01:01.790","00:01:07.500","00:01:05.510"]
["87.",{"$f":"B187","v":"LUKEŠOVÁ"},"Kristýna","9.A","00:00:00",null,0,0,null,"00:00:56.800","00:01:05.900","00:01:15.580"]
["88.",{"$f":"B188","v":"MOTLÍKOVÁ"},"Eliška","9.A","00:00:59.240",null,"Jilemnice  29.09.21",687.54490853963534,null,"00:00:00","00:01:02.560","00:01:06.450"]
["89.",{"$f":"B189","v":"POHOŘELÁ"},"Amálie","9.A","00:01:01.010",null,"Jilemnice  29.09.21",661.36074794112449,null,"00:01:00.730","00:01:03.840","00:01:07.200"]
["90.",{"$f":"B190","v":"POLÁČKOVÁ"},"Natálie","9.A","00:01:37.140",null,"Jilemnice  29.09.21",335.41126088004933,null,"00:01:32.640","00:01:29.720","00:01:29.520"]
["91.",{"$f":"B191","v":"ŘEHOŘKOVÁ"},"Lucie","9.A","00:01:06.560",null,"Jilemnice  29.09.21",588.28721427115374,null,"00:00:59.520","00:00:00","00:01:18.550"]
["92.",{"$f":"B192","v":"SKÁLOVÁ"},"Alena","9.A","00:01:12.080",null,{"$f":"G192","v":"Jilemnice  29.09.21"},526.77059630810209,null,{"$f":"J192","v":"00:01:10.120"},"00:01:20.570","00:01:32.380"]
["93.",{"$f":"B193","v":"VÁVROVÁ "},"Aneta","9.A","00:00:55.660",null,{"$f":"G193","v":"Jilemnice  29.09.21"},745.59544523693864,null,{"$f":"J193","v":"00:00:53.350"},"00:00:53.320","00:01:05.390"]
["94.",{"$f":"B194","v":"ZELINKOVÁ"},"Klára","9.A","00:01:07.350",null,{"$f":"G194","v":"Jilemnice  29.09.21"},578.86489876596875,null,{"$f":"J194","v":"00:01:01.100"},"00:01:01.220","00:01:08.240"]
[]
[]
[null,"HEJRALOVÁ","Natálie","6.A","00:00:55.050",null,"Jilemnice 27.05.22",{"$f":"IF(E101=0,0,IF(E101>0,(1000000000 - 313216 / E101 + 34538300 / E101*2 - 1698600000 / E101*3 + 32198000000 / E101*4)/200000000000-215))","v":756.23959004337871}]
[null,"KERLE","Nikita","6.A","00:00:54.390",null,"Jilemnice 27.05.22",768.02511733568667]
[null,"PACLÍKOVÁ","Markéta","6.A","00:01:00.360",null,"Jilemnice 27.05.22",670.79797849383704]
[null,"PLŮCHOVÁ","Michaela","6.A","00:01:00.380",null,"Jilemnice 27.05.22",670.50457240622723]
[null,"ŠERCLOVÁ","Nikola","6.A","00:01:19.980",null,"Jilemnice 27.05.22",453.50292675528885]
[null,"VÁCLAVÍKOVÁ","Alena","6.A","00:01:04.060",null,"Jilemnice 27.05.22",619.63603624551979]
[null,"DUCHÁČKOVÁ","Tereza","6.B","00:01:12.790",null,"Jilemnice 27.05.22",519.53535007402104]
[null,"FLAŠKOVÁ","Anna Sabriel","6.B","00:01:10.930",null,"Jilemnice 27.05.22",538.79696647240939]
[null,"HAASOVÁ","Julie","6.B","00:01:00.470",null,"Jilemnice 27.05.22",669.18664679821393]
[null,"HOBLOVÁ","Barbora","6.B","00:01:02.520",null,"Jilemnice 27.05.22",640.1947661850287]
[null,"HORÁČKOVÁ","Valérie","6.B","00:00:58.030",null,"Jilemnice 27.05.22",706.36402433031185]
[null,"JIRANOVÁ","Anežka","6.B",null,null,null,0]
[null,"JODASOVÁ","Denisa","6.B",null,null,null,0]
[null,"KRČÍKOVÁ","Beatrix","6.B","00:01:04.060",null,"Jilemnice 27.05.22",619.63603624551979]
[null,"KUBÁTOVÁ","Veronika","6.B","00:01:16.940",null,"Jilemnice 27.05.22",479.91615391068365]
[null,"LENČEŠOVÁ","Silvie","6.B","00:01:07.700",null,"Jilemnice 27.05.22",574.76074862463793]
[null,"MATERNOVÁ","Lenka","6.B","00:00:53.800",null,"Jilemnice 27.05.22",778.80544947747217]
[null,"TÓTHOVÁ","Viktorie","6.B","00:01:07.190",null,"Jilemnice 27.05.22",580.75532269516316]
[null,"ERBENOVÁ","Sára","7.A","00:01:20.200",null,"Jilemnice 27.05.22",451.66914191880301]
[null,"GINGALOVÁ","Linda","7.A",null,null,null,0]
[null,"HOFMANOVÁ ","Nicol","7.A",null,null,null,0,null,"00:01:15.700"]
[null,"HOLEŠOVSKÁ","Aneta","7.A",null,null,null,0]
[null,"HOLUBCOVÁ","Alena","7.A","00:01:06.230",null,"Jilemnice 27.05.22",592.28967736506092,null,"00:00:59.270"]
[null,"KOHOUTOVÁ","Anna","7.A","00:01:15.470",null,"Jilemnice 27.05.22",493.45159045830121,null,"00:01:24.100"]
[null,"KRAUSOVÁ","Anežka","7.A","00:01:10.810",null,"Jilemnice 27.05.22",540.07439954650465,null,"00:01:04.100"]
[null,"KUŽELOVÁ","Apoléna","7.A",null,null,null,0]
[null,"MORÁVKOVÁ","Lucie","7.A",null,null,null,0]
[null,"SKLENÁROVÁ","Eliška","7.A",null,null,null,0,null,"00:01:17.530"]
[null,"ŠEJNOVÁ","Karolína","7.A","00:01:08.750",null,"Jilemnice 27.05.22",562.69902446382548]
[null,"ŠTOLFOVÁ","Tereza","7.A","00:01:05.420",null,"Jilemnice 27.05.22",602.28510060972189,null,"00:01:04.880"]
[null,"ŠUBÍKOVÁ","Klára","7.A","00:01:03.080",null,"Jilemnice 27.05.22",632.60272006797732,null,"00:01:06.100"]
[null,"ŠULKOVSKÁ","Klára","7.A","00:01:16.660",null,"Jilemnice 27.05.22",482.45431100819201]
[null,"TULÁČKOVÁ","Natálie","7.A",null,null,null,{"$f":"IF(E133=0,0,IF(E133>0,(1000000000 - 313216 / E133 + 34538300 / E133*2 - 1698600000 / E133*3 + 32198000000 / E133*4)/200000000000-215))","v":0}]
[null,"VOJTÍŠKOVÁ","Ella","7.A",null,null,null,0]
[null,"DRUGÁČOVÁ","Kristinka","7.B",null,null,null,0,null,"00:01:03.360"]
[null,"FAJSTAVROVÁ","Karolína","7.B",null,null,null,0]
[null,"FAJSTAVROVÁ","Magdaléna","7.B",null,null,null,0]
[null,"HLAVATÁ","Anna","7.B",null,null,null,0]
[null,"JINDROVÁ","Barbora","7.B",null,null,null,0]
[null,"MAŘASOVÁ","Vendula","7.B",null,null,null,0]
[null,"PETŘÍČKOVÁ","Natálie","7.B","00:00:55.240",null,null,752.89899315510479]
[null,"PETŘÍKOVÁ","Adéla","7.B","00:01:01.950",null,"Jilemnice 27.05.22",648.06334030489097,null,"00:01:10.660"]
[null,"REGÁLOVÁ","Karolína","7.B",null,null,null,0]
[null,"RIEGROVÁ","Magdaléna","7.B",null,null,null,0,null,"00:01:13.300"]
[null,"RYBENSKÁ","Sabina","7.B",null,null,null,0]
[null,"STEINEROVÁ","Barbora","7.B","00:01:07.540",null,"Jilemnice 27.05.22",576.63165356659761]
[null,"TOMEŠOVÁ","Barbora","7.B",null,null,null,0]
[null,"VOHNOUTOVÁ","Aneta","7.B",null,null,null,0]
[null,"HAVLÍKOVÁ","Michaela","8.A","00:01:09.740",null,"Jilemnice  29.09.21",551.65920392727276,null,null,"00:01:18.970"]
[null,"HOLUBCOVÁ","Sára","8.A","00:00:57.550",null,"Jilemnice  29.09.21",714.04868691377942,null,null,"00:00:58.890"]
[null,"HONCŮ","Tereza","8.A","00:01:04.060",null,"Jilemnice 22.06.22",619.63603624551979,null,null,"00:01:07.580"]
[null,"HORÁČKOVÁ","Kateřina","8.A","00:00:56.460",null,"Jilemnice  29.09.21",731.98452854920299,null,null,"00:01:02.240"]
[null,"JOUDALOVÁ","Daniela","8.A",null,null,null,0,null,null,"00:01:29.440"]
[null,"KLÍMOVÁ","Anna","8.A","00:01:02.190",null,"Jilemnice 22.06.22",644.7326761840809,null,null,"00:01:03.720"]
[null,"KOHOUTOVÁ","Veronika","8.A","00:00:57.510",null,"Jilemnice  29.09.21",714.69486579530519,null,null,"00:00:59.130"]
[null,"KOVÁŘOVÁ","Viktorie","8.A","00:00:59.520",null,"Jilemnice 22.06.22",683.29908907741935,null,null,"00:01:04.860"]
[null,"KYNČLOVÁ","Anna","8.A","00:00:48.500",null,"Jilemnice 22.06.22",887.40632333789677,null,null,"00:00:59.780"]
[null,"MATOUŠOVÁ","Tereza","8.A","00:01:07.350",null,"Jilemnice 22.06.22",578.86489876596875,null,null,"00:01:10.610"]
[null,"MAZÁNKOVÁ","Zuzana","8.A","00:01:03.030",null,"Jilemnice  29.09.21",633.27509649195622,null,null,"00:01:04.850"]
[null,"MORKESOVÁ","Sabrina","8.A","00:00:57.420",null,"Jilemnice 22.06.22",716.15205994231951,null,null,"00:01:00.680"]
[null,"POHOŘALÁ","Alžběta","8.A","00:00:56.850",null,"Jilemnice 22.06.22",725.48809906575207,null,null,"00:01:05.990"]
[null,"SCHOLZOVÁ","Laura","8.A",null,null,null,0,null,null,"00:01:14.770"]
[null,"VÁCLAVÍKOVÁ","Valerie","8.A","00:00:54.530",null,"Jilemnice 22.06.22",765.50131729117902,null,null,"00:01:03.520"]
[null,"ZAPADLOVÁ","Emma","8.A","00:00:56.120",null,"Jilemnice 22.06.22",737.72175306286545,null,null,"00:01:04.690"]
[null,"ŽIŠKOVÁ","Mia","8.A",null,null,null,{"$f":"IF(E165=0,0,IF(E165>0,(1000000000 - 313216 / E165 + 34538300 / E165*2 - 1698600000 / E165*3 + 32198000000 / E165*4)/200000000000-215))","v":0},null,null,"00:01:06.460"]
[null,"FARSKÁ","Tereza","8.B",null,null,null,0,null,null,"00:01:14.230"]
[null,"FEIXOVÁ","Rozálie","8.B",null,null,null,0,null,null,"00:01:28.320"]
[null,"FIŠEROVÁ","Michaela","8.B","00:01:24.900",null,"Jilemnice  30.10.21",414.76311757229678,null,null,"00:01:19.320"]
[null,"HAVLÍČKOVÁ","Kristýna","8.B","00:01:16.300",null,"Jilemnice  30.10.21",485.74502859617292]
[null,"JODASOVÁ","Nikola","8.B","00:01:00.200",null,"Jilemnice  30.10.21",673.1522455463122,null,null,"00:01:11.830"]
[null,"KADAVÁ","Nikola","8.B","00:01:19",null,"Jilemnice  30.10.21",461.79568584668345,null,null,"00:01:29.980"]
[null,"KRAFKOVÁ","Lucie","8.B",null,null,null,0]
[null,"KŘIVINKOVÁ","Alžběta","8.B",null,null,null,0,null,null,"00:01:12.620"]
[null,"LEŠÁKOVÁ","Lenka","8.B","00:01:15.300",null,"Jilemnice  30.10.21",495.05100507155396,null,null,"00:01:32.350"]
[null,"NYKLÍČKOVÁ","Adéla","8.B","00:00:56.010",null,"Jilemnice  30.10.21",739.59282685034816,null,null,"00:01:09.160"]
[null,"PLŮCHOVÁ","Petra","8.B","00:01:05.200",null,"Jilemnice  30.10.21",605.04279420073613,null,null,"00:01:10.250"]
[null,"PODZIMKOVÁ","Eliška","8.B","00:01:24.900",null,"Jilemnice  30.10.21",414.76311757229678,null,null,"00:01:21.100"]
[null,"RUTKAYOVÁ","Klára","8.B",null,null,null,0,null,null,"00:01:19.660"]
[null,"SEIDLOVÁ","Zuzana","8.B","00:01:04",null,null,620.41850284199995,null,null,"00:01:25.020"]
[null,"TOMÁŠOVÁ","Sára","8.B","00:01:23.900",null,"Jilemnice  30.10.21",422.26917380081045]
[null,"VANCLOVÁ","Barbora","8.B","00:01:03.900",null,"Jilemnice  30.10.21",621.72587921577474,null,null,"00:01:16.110"]
[null,"VOTOČKOVÁ","Veronika","8.B",null,null,null,0,null,null,"00:01:36.510"]
[null,"HARTIGOVÁ","Anna","9.A",null,null,null,0,null,null,"00:01:03.510","00:01:29.540"]
[null,"HONCŮ","Rozálie","9.A","00:00:54.840",null,"Jilemnice  29.09.21",759.95875969890608,null,null,"00:01:03.850","00:01:06.010"]
[null,"CHALOUPSKÁ","Lucie","9.A","00:00:54.290",null,"Jilemnice  29.09.21",769.83580091891702,null,"00:00:50.300","00:00:57.680","00:00:56.920"]
[null,"KŘÍŽKOVÁ","Anna","9.A","00:01:05.380",null,"Jilemnice  29.09.21",602.78511902551236,null,"00:01:01.790","00:01:07.500","00:01:05.510"]
[null,"LUKEŠOVÁ","Kristýna","9.A",null,null,null,0,null,"00:00:56.800","00:01:05.900","00:01:15.580"]
[null,"MOTLÍKOVÁ","Eliška","9.A","00:00:59.240",null,"Jilemnice  29.09.21",687.54490853963534,null,null,"00:01:02.560","00:01:06.450"]
[null,"POHOŘELÁ","Amálie","9.A","00:01:01.010",null,"Jilemnice  29.09.21",661.36074794112449,null,"00:01:00.730","00:01:03.840","00:01:07.200"]
[null,"POLÁČKOVÁ","Natálie","9.A","00:01:37.140",null,"Jilemnice  29.09.21",335.41126088004933,null,"00:01:32.640","00:01:29.720","00:01:29.520"]
[null,"ŘEHOŘKOVÁ","Lucie","9.A","00:01:06.560",null,"Jilemnice  29.09.21",588.28721427115374,null,"00:00:59.520",null,"00:01:18.550"]
[null,"SKÁLOVÁ","Alena","9.A","00:01:12.080",null,"Jilemnice  29.09.21",526.77059630810209,null,"00:01:10.120","00:01:20.570","00:01:32.380"]
[null,"VÁVROVÁ ","Aneta","9.A","00:00:55.660",null,"Jilemnice  29.09.21",745.59544523693864,null,"00:00:53.350","00:00:53.320","00:01:05.390"]
[null,"ZELINKOVÁ","Klára","9.A","00:01:07.350",null,"Jilemnice  29.09.21",578.86489876596875,null,"00:01:01.100","00:01:01.220","00:01:08.240"]

{"sheet":"D800","index":9,"n_rows":194,"n_cols":12,"rows_kept":194,"cut":false,"hidden":false,"merged":[]}
[null,null,"VÝKONY  2020 - 2021",null,null,null,"800 M","DĚVČATA  6. -  9.  ROČ."]
[null,null,null,null,null,null,null,null,null,null,"stav  k ",{"$f":"TODAY()","v":44740}]
[null,null,null,null,null,null,null,"   BODY",null,"   20 - 21   ","   19 - 20   ","   18 - 19   "]
[]
["1.",{"$f":"B101","v":"HEJRALOVÁ"},{"$f":"C101","v":"Natálie"},"6.A","00:03:31.050",null,"Jilemnice  19.10.21",673.34442054850729,null,"00:00:00","00:00:00","00:00:00"]
["2.",{"$f":"B102","v":"KERLE"},"Nikita","6.A","00:03:11.490",null,"Jilemnice 10.06.22",755.40310173832825,null,"00:00:00","00:00:00","00:00:00"]
["3.",{"$f":"B103","v":"PACLÍKOVÁ"},"Markéta","6.A","00:03:40.990",null,"Jilemnice 10.06.22",637.21046182744692,null,"00:00:00","00:00:00","00:00:00"]
["4.",{"$f":"B104","v":"PLŮCHOVÁ"},"Michaela","6.A","00:00:00",null,0,0,null,"00:00:00","00:00:00","00:00:00"]
["5.",{"$f":"B105","v":"ŠERCLOVÁ"},"Nikola","6.A","00:04:19.510",null,"Jilemnice 10.06.22",523.33066151160835,null,"00:00:00","00:00:00","00:00:00"]
["6.",{"$f":"B106","v":"VÁCLAVÍKOVÁ"},"Alena","6.A","00:03:41",null,"Jilemnice  19.10.21",637.17574642194563,null,"00:00:00","00:00:00","00:00:00"]
["7.",{"$f":"B107","v":"DUCHÁČKOVÁ"},"Tereza","6.B","00:00:00",null,0,0,null,"00:00:00","00:00:00","00:00:00"]
["8.",{"$f":"B108","v":"FLAŠKOVÁ"},"Anna Sabriel","6.B","00:00:00",null,0,0,null,"00:00:00","00:00:00","00:00:00"]
["9.",{"$f":"B109","v":"HAASOVÁ"},"Julie","6.B","00:03:42.600",null,"Jilemnice 10.06.22",631.66145534433963,null,"00:00:00","00:00:00","00:00:00"]
["10.",{"$f":"B110","v":"HOBLOVÁ"},"Barbora","6.B","00:03:50.020",null,"Jilemnice 10.06.22",607.09173098645749,null,"00:00:00","00:00:00","00:00:00"]
["11.",{"$f":"B111","v":"HORÁČKOVÁ"},"Valérie","6.B","00:03:52.200",null,"Jilemnice 10.06.22",600.17157606395335,null,"00:00:00","00:00:00","00:00:00"]
["12.",{"$f":"B112","v":"JIRANOVÁ"},"Anežka","6.B","00:05:28.300",null,"Jilemnice  19.10.21",386.43569901332626,null,"00:00:00","00:00:00","00:00:00"]
["13.",{"$f":"B113","v":"JODASOVÁ"},"Denisa","6.B","00:03:47.740",null,"Jilemnice  19.10.21",614.47106332192413,null,"00:00:00","00:00:00","00:00:00"]
["14.",{"$f":"B114","v":"KRČÍKOVÁ"},"Beatrix","6.B","00:04:05.040",null,"Jilemnice  19.10.21",561.91087155264449,null,"00:00:00","00:00:00","00:00:00"]
["15.",{"$f":"B115","v":"KUBÁTOVÁ"},"Veronika","6.B","00:00:00",null,0,0,null,"00:00:00","00:00:00","00:00:00"]
["16.",{"$f":"B116","v":"LENČEŠOVÁ"},"Silvie","6.B","00:03:54.470",null,"Jilemnice 10.06.22",593.10248629938815,null,"00:00:00","00:00:00","00:00:00"]
["17.",{"$f":"B117","v":"MATERNOVÁ"},"Lenka","6.B","00:03:35.860",null,"Jilemnice 10.06.22",655.44352801799789,null,"00:00:00","00:00:00","00:00:00"]
["18.",{"$f":"B118","v":"TÓTHOVÁ"},"Viktorie","6.B","00:04:27.230",null,"Jilemnice  19.10.21",504.45661030126666,null,"00:00:00","00:00:00","00:00:00"]
["19.",{"$f":"B119","v":"ERBENOVÁ"},"Sára","7.A","00:05:08.840",null,"Jilemnice  06.05.22",418.97629834610166,null,"00:00:00","00:00:00","00:00:00"]
["20.",{"$f":"B120","v":"GINGALOVÁ"},"Linda","7.A","00:05:08.800",null,"Jilemnice  30.10.21",419.04740926554416,null,"00:00:00","00:00:00","00:00:00"]
["21.",{"$f":"B121","v":"HOFMANOVÁ "},"Nicol","7.A","00:00:00",null,0,0,null,"00:00:00","00:00:00","00:00:00"]
["22.",{"$f":"B122","v":"HOLEŠOVSKÁ"},"Aneta","7.A","00:04:49.500",null,"Jilemnice  30.10.21",455.65056986658033,null,"00:06:54","00:00:00","00:00:00"]
["23.",{"$f":"B123","v":"HOLUBCOVÁ"},"Alena","7.A","00:04:04.630",null,"Jilemnice  06.05.22",563.07051451235554,null,"00:00:00","00:00:00","00:00:00"]
["24.",{"$f":"B124","v":"KOHOUTOVÁ"},"Anna","7.A","00:04:17.170",null,"Jilemnice  06.05.22",529.27534303492848,null,"00:00:00","00:00:00","00:00:00"]
["25.",{"$f":"B125","v":"KRAUSOVÁ"},"Anežka","7.A","00:00:00",null,0,0,null,"00:00:00","00:00:00","00:00:00"]
["26.",{"$f":"B126","v":"KUŽELOVÁ"},"Apoléna","7.A","00:04:34.300",null,"Jilemnice  30.10.21",488.10368199990887,null,"00:04:22","00:00:00","00:00:00"]
["27.",{"$f":"B127","v":"MORÁVKOVÁ"},"Lucie","7.A","00:04:49.900",null,"Jilemnice  30.10.21",454.84249733175227,null,"00:04:54","00:00:00","00:00:00"]
["28.",{"$f":"B128","v":"SKLENÁROVÁ"},"Eliška","7.A","00:00:00",null,0,0,null,"00:00:00","00:00:00","00:00:00"]
["29.",{"$f":"B129","v":"ŠEJNOVÁ"},"Karolína","7.A","00:05:05.610",null,"Jilemnice  06.05.22",424.77844304964663,null,"00:00:00","00:00:00","00:00:00"]
["30.",{"$f":"B130","v":"ŠTOLFOVÁ"},"Tereza","7.A","00:00:00",null,0,0,null,"00:00:00","00:00:00","00:00:00"]
["31.",{"$f":"B131","v":"ŠUBÍKOVÁ"},"Klára","7.A","00:04:05.760",null,"Jilemnice  06.05.22",559.88378892187495,null,"00:00:00","00:00:00","00:00:00"]
["32.",{"$f":"B132","v":"ŠULKOVSKÁ"},"Klára","7.A","00:00:00",null,0,0,null,"00:00:00","00:00:00","00:00:00"]
["33.",{"$f":"B133","v":"TULÁČKOVÁ"},"Natálie","7.A","00:04:18.400",null,0,526.13715158126945,null,"00:04:48","00:00:00","00:00:00"]
["34.",{"$f":"B134","v":"VOJTÍŠKOVÁ"},"Ella","7.A","00:04:44.200",null,"Jilemnice  30.10.21",466.57227295935957,null,"00:00:00","00:00:00","00:00:00"]
["35.",{"$f":"B135","v":"DRUGÁČOVÁ"},"Kristinka","7.B","00:00:00",null,0,0,null,"00:00:00","00:00:00","00:00:00"]
["36.",{"$f":"B136","v":"FAJSTAVROVÁ"},"Karolína","7.B","00:03:22.300",null,"Jilemnice  30.10.21",708.09115153027676,null,"00:03:11","00:00:00","00:00:00"]
["37.",{"$f":"B137","v":"FAJSTAVROVÁ"},"Magdaléna","7.B","00:03:07.700",null," ",773.28098002623869,null,"00:03:02","00:00:00","00:00:00"]
["38.",{"$f":"B138","v":"HLAVATÁ"},"Anna","7.B","00:00:00",null,0,0,null,"00:00:00","00:00:00","00:00:00"]
["39.",{"$f":"B139","v":"JINDROVÁ"},"Barbora","7.B","00:04:03.100",null," ",567.43249676995072,null,"00:04:04","00:00:00","00:00:00"]
["40.",{"$f":"B140","v":"MAŘASOVÁ"},"Vendula","7.B","00:03:51.100",null," ",603.64707902109467,null,"00:04:11","00:00:00","00:00:00"]
["41.",{"$f":"B141","v":"PETŘÍČKOVÁ"},"Natálie","7.B","00:03:45.600",null," ",621.53297854787229,null,"00:00:00","00:00:00","00:00:00"]
["42.",{"$f":"B142","v":"PETŘÍKOVÁ"},"Adéla","7.B","00:00:00",null,0,0,null,"00:00:00","00:00:00","00:00:00"]
["43.",{"$f":"B143","v":"REGÁLOVÁ"},"Karolína","7.B","00:04:46.600",null,"Jilemnice  30.10.21",461.57655260170975,null,"00:04:17","00:00:00","00:00:00"]
["44.",{"$f":"B144","v":"RIEGROVÁ"},"Magdaléna","7.B","00:00:00",null,0,0,null,"00:00:00","00:00:00","00:00:00"]
["45.",{"$f":"B145","v":"RYBENSKÁ"},"Sabina","7.B","00:04:13.300",null," ",539.34796670874459,null,"00:04:17","00:00:00","00:00:00"]
["46.",{"$f":"B146","v":"STEINEROVÁ"},"Barbora","7.B","00:04:01.500",null," ",572.05316755434785,null,"00:04:18","00:00:00","00:00:00"]
["47.",{"$f":"B147","v":"TOMEŠOVÁ"},"Barbora","7.B","00:03:45.400",null,0,622.19982236180113,null,"00:04:20","00:00:00","00:00:00"]
["48.",{"$f":"B148","v":"VOHNOUTOVÁ"},"Aneta","7.B","00:03:36.100",null," ",654.57121683491459,null,"00:03:36","00:00:00","00:00:00"]
["49.",{"$f":"B149","v":"HAVLÍKOVÁ"},"Michaela","8.A","00:03:55.850",null,"Jilemnice  09.05.22",588.87148595701717,null,"00:00:00","00:04:12.990","00:00:00"]
["50.",{"$f":"B150","v":"HOLUBCOVÁ"},"Sára","8.A","00:03:45.200",null,"Jilemnice  09.05.22",622.86785062300169,null,"00:00:00","00:03:44.190","00:00:00"]
["51.",{"$f":"B151","v":"HONCŮ"},"Tereza","8.A","00:00:00",null,0,0,null,"00:00:00","00:04:00.600","00:00:00"]
["52.",{"$f":"B152","v":"HORÁČKOVÁ"},"Kateřina","8.A","00:03:33.880",null,"Jilemnice  09.05.22",662.71479314321107,null,"00:00:00","00:03:39.880","00:00:00"]
["53.",{"$f":"B153","v":"JOUDALOVÁ"},"Daniela","8.A","00:00:00",null,0,0,null,"00:00:00","00:00:00","00:00:00"]
["54.",{"$f":"B154","v":"KLÍMOVÁ"},"Anna","8.A","00:03:51.570",null,"Jilemnice  09.05.22",602.15805139652161,null,"00:00:00","00:03:43.750","00:00:00"]
["55.",{"$f":"B155","v":"KOHOUTOVÁ"},"Veronika","8.A","00:03:45.400",null,"Jilemnice  09.05.22",622.19982236180113,null,"00:00:00","00:03:21.790","00:00:00"]
["56.",{"$f":"B156","v":"KOVÁŘOVÁ"},"Viktorie","8.A","00:03:21.100",null,"Jilemnice  09.05.22",713.09219271146208,null,"00:00:00","00:03:46.100","00:00:00"]
["57.",{"$f":"B157","v":"KYNČLOVÁ"},"Anna","8.A","00:02:39",null,"Turnov   10.05.22",936.32603738207558,null,"00:00:00","00:03:11.460","00:00:00"]
["58.",{"$f":"B158","v":"MATOUŠOVÁ"},"Tereza","8.A","00:04:23.190",null,"Jilemnice  09.05.22",514.19560002202786,null,"00:00:00","00:04:28.960","00:00:00"]
["59.",{"$f":"B159","v":"MAZÁNKOVÁ"},"Zuzana","8.A","00:03:41.410",null,"Jilemnice  09.05.22",635.75511476153963,null,"00:00:00","00:04:00.600","00:00:00"]
["60.",{"$f":"B160","v":"MORKESOVÁ"},"Sabrina","8.A","00:03:39.565",null,"Jilemnice  09.05.22",642.18973861449342,null,"00:00:00","00:03:22.340","00:00:00"]
["61.",{"$f":"B161","v":"POHOŘALÁ"},"Alžběta","8.A","00:03:32.800",null,"Jilemnice  09.05.22",666.73796972368405,null,"00:00:00","00:04:00.600","00:00:00"]
["62.",{"$f":"B162","v":"SCHOLZOVÁ"},"Laura","8.A","00:00:00",null,0,0,null,"00:00:00","00:04:18.780","00:00:00"]
["63.",{"$f":"B163","v":"VÁCLAVÍKOVÁ"},"Valerie","8.A","00:03:29.010",null,"Jilemnice  09.05.22",681.18530192934543,null,"00:00:00","00:03:49.500","00:00:00"]
["64.",{"$f":"B164","v":"ZAPADLOVÁ"},"Emma","8.A","00:00:00",null,0,0,null,"00:00:00","00:03:24.360","00:00:00"]
["65.",{"$f":"B165","v":"ŽIŠKOVÁ"},"Mia","8.A","00:00:00",null,0,0,null,"00:00:00","00:04:11.900","00:00:00"]
["66.",{"$f":"B166","v":"FARSKÁ"},"Tereza","8.B",{"$f":"E166","v":"00:00:00"},null,0,0,null,"00:00:00","00:00:00","00:00:00"]
["67.",{"$f":"B167","v":"FEIXOVÁ"},"Rozálie","8.B",{"$f":"E167","v":"00:05:19.700"},null,0,400.32793238637794,null,"00:00:00","00:00:00","00:00:00"]
["68.",{"$f":"B168","v":"FIŠEROVÁ"},"Michaela","8.B","00:04:32.900",null,0,491.27460598103687,null,"00:00:00","00:00:00","00:00:00"]
["69.",{"$f":"B169","v":"HAVLÍČKOVÁ"},"Kristýna","8.B","00:05:08.700",null,0,419.22526718877543,null,"00:00:00","00:00:00","00:00:00"]
["70.",{"$f":"B170","v":"JODASOVÁ"},"Nikola","8.B","00:00:00",null,0,0,null,"00:00:00","00:00:00","00:00:00"]
["71.",{"$f":"B171","v":"KADAVÁ"},"Nikola","8.B","00:05:15.500",null,0,407.38776539738512,null,"00:00:00","00:00:00","00:00:00"]
["72.",{"$f":"B172","v":"KRAFKOVÁ"},"Lucie","8.B","00:00:00",null,0,0,null,"00:00:00","00:00:00","00:00:00"]
["73.",{"$f":"B173","v":"KŘIVINKOVÁ"},"Alžběta","8.B","00:04:34.100",null,0,488.55468796981029,null,"00:00:00","00:00:00","00:00:00"]
["74.",{"$f":"B174","v":"LEŠÁKOVÁ"},"Lenka","8.B","00:04:43.300",null,0,468.46749020411221,null,"00:00:00","00:00:00","00:00:00"]
["75.",{"$f":"B175","v":"NYKLÍČKOVÁ"},"Adéla","8.B","00:03:11.700",null,"Turnov   10.05.22",754.43317658802846,null,"00:00:00","00:00:00","00:00:00"]
["76.",{"$f":"B176","v":"PLŮCHOVÁ"},"Petra","8.B","00:04:01.700",null,0,571.47223816477049,null,"00:00:00","00:00:00","00:00:00"]
["77.",{"$f":"B177","v":"PODZIMKOVÁ"},"Eliška","8.B","00:04:50.900",null,0,452.83203842119281,null,"00:00:00","00:00:00","00:00:00"]
["78.",{"$f":"B178","v":"RUTKAYOVÁ"},"Klára","8.B","00:04:48.100",null,0,458.49649418960428,null,"00:00:00","00:00:00","00:00:00"]
["79.",{"$f":"B179","v":"SEIDLOVÁ"},"Zuzana","8.B","00:04:29",null,0,500.2819329786247,null,"00:00:00","00:00:00","00:00:00"]
["80.",{"$f":"B180","v":"TOMÁŠOVÁ"},"Sára","8.B","00:00:00",null,0,0,null,"00:00:00","00:00:00","00:00:00"]
["81.",{"$f":"B181","v":"VANCLOVÁ"},"Barbora","8.B","00:04:29.100",null,0,500.04771449749148,null,"00:00:00","00:00:00","00:00:00"]
["82.",{"$f":"B182","v":"VOTOČKOVÁ"},"Veronika","8.B","00:05:08.500",null,0,419.58132895016206,null,"00:00:00","00:00:00","00:00:00"]
["83.",{"$f":"B183","v":"HARTIGOVÁ"},"Anna","9.A","00:03:58",null,"Jilemnice 13.06.22",582.37747883823533,null,"00:00:00","00:00:00","00:04:39.330"]
["84.",{"$f":"B184","v":"HONCŮ"},"Rozálie","9.A","00:04:12.180",null,"Jilemnice 10.06.22",542.3207231622057,null,"00:00:00","00:00:00","00:04:50.840"]
["85.",{"$f":"B185","v":"CHALOUPSKÁ"},"Lucie","9.A","00:00:00",null,0,0,null,"00:00:00","00:00:00","00:04:20.270"]
["86.",{"$f":"B186","v":"KŘÍŽKOVÁ"},"Anna","9.A","00:04:07.940",null,"Jilemnice 10.06.22",553.81802035163741,null,"00:00:00","00:00:00","00:04:01.790"]
["87.",{"$f":"B187","v":"LUKEŠOVÁ"},"Kristýna","9.A","00:04:09.250",null,"Jilemnice 10.06.22",550.22403196113351,null,"00:00:00","00:00:00","00:04:33.830"]
["88.",{"$f":"B188","v":"MOTLÍKOVÁ"},"Eliška","9.A","00:03:15.900",null,"Turnov   10.05.22",735.47136270022975,null,"00:00:00","00:00:00","00:03:45.680"]
["89.",{"$f":"B189","v":"POHOŘELÁ"},"Amálie","9.A","00:04:09.250",null,"Jilemnice 10.06.22",550.22403196113351,null,"00:00:00","00:00:00","00:04:11.300"]
["90.",{"$f":"B190","v":"POLÁČKOVÁ"},"Natálie","9.A","00:00:00",null,0,0,null,"00:00:00","00:00:00","00:05:24.730"]
["91.",{"$f":"B191","v":"ŘEHOŘKOVÁ"},"Lucie","9.A","00:04:38.580",null,"Jilemnice 10.06.22",478.60736583259745,null,"00:00:00","00:00:00","00:04:53.870"]
["92.",{"$f":"B192","v":"SKÁLOVÁ"},"Alena","9.A","00:04:53.820",null,{"$f":"G192","v":"Jilemnice 10.06.22"},447.03982022141111,null,{"$f":"J192","v":"00:00:00"},"00:00:00","00:05:00.980"]
["93.",{"$f":"B193","v":"VÁVROVÁ "},"Aneta","9.A","00:04:10.460",null,{"$f":"G193","v":"Jilemnice 10.06.22"},546.93779432490226,null,{"$f":"J193","v":"00:00:00"},"00:00:00","00:04:39.330"]
["94.",{"$f":"B194","v":"ZELINKOVÁ"},"Klára","9.A","00:00:00",null,{"$f":"G194","v":0},0,null,{"$f":"J194","v":"00:00:00"},"00:00:00","00:03:48.280"]
[]
[]
[null,"HEJRALOVÁ","Natálie","6.A","00:03:31.050",null,"Jilemnice  19.10.21",{"$f":"IF(E101=0,0,IF(E101>0,(100 - 313216 / E101 + 3453830 / E101*2 - 169860000 / E101*3 + 321980000/ E101*4)/400000000-130))","v":673.34442054850729}]
[null,"KERLE","Nikita","6.A","00:03:11.490",null,"Jilemnice 10.06.22",755.40310173832825]
[null,"PACLÍKOVÁ","Markéta","6.A","00:03:40.990",null,"Jilemnice 10.06.22",637.21046182744692]
[null,"PLŮCHOVÁ","Michaela","6.A",null,null,null,0]
[null,"ŠERCLOVÁ","Nikola","6.A","00:04:19.510",null,"Jilemnice 10.06.22",523.33066151160835]
[null,"VÁCLAVÍKOVÁ","Alena","6.A","00:03:41",null,"Jilemnice  19.10.21",637.17574642194563]
[null,"DUCHÁČKOVÁ","Tereza","6.B",null,null,null,0]
[null,"FLAŠKOVÁ","Anna Sabriel","6.B",null,null,null,0]
[null,"HAASOVÁ","Julie","6.B","00:03:42.600",null,"Jilemnice 10.06.22",631.66145534433963]
[null,"HOBLOVÁ","Barbora","6.B","00:03:50.020",null,"Jilemnice 10.06.22",607.09173098645749]
[null,"HORÁČKOVÁ","Valérie","6.B","00:03:52.200",null,"Jilemnice 10.06.22",600.17157606395335]
[null,"JIRANOVÁ","Anežka","6.B","00:05:28.300",null,"Jilemnice  19.10.21",386.43569901332626]
[null,"JODASOVÁ","Denisa","6.B","00:03:47.740",null,"Jilemnice  19.10.21",614.47106332192413]
[null,"KRČÍKOVÁ","Beatrix","6.B","00:04:05.040",null,"Jilemnice  19.10.21",561.91087155264449]
[null,"KUBÁTOVÁ","Veronika","6.B",null,null,null,0]
[null,"LENČEŠOVÁ","Silvie","6.B","00:03:54.470",null,"Jilemnice 10.06.22",593.10248629938815]
[null,"MATERNOVÁ","Lenka","6.B","00:03:35.860",null,"Jilemnice 10.06.22",655.44352801799789]
[null,"TÓTHOVÁ","Viktorie","6.B","00:04:27.230",null,"Jilemnice  19.10.21",504.45661030126666]
[null,"ERBENOVÁ","Sára","7.A","00:05:08.840",null,"Jilemnice  06.05.22",418.97629834610166]
[null,"GINGALOVÁ","Linda","7.A","00:05:08.800",null,"Jilemnice  30.10.21",419.04740926554416]
[null,"HOFMANOVÁ ","Nicol","7.A",null,null,null,0]
[null,"HOLEŠOVSKÁ","Aneta","7.A","00:04:49.500",null,"Jilemnice  30.10.21",455.65056986658033,null,"00:06:54"]
[null,"HOLUBCOVÁ","Alena","7.A","00:04:04.630",null,"Jilemnice  06.05.22",563.07051451235554]
[null,"KOHOUTOVÁ","Anna","7.A","00:04:17.170",null,"Jilemnice  06.05.22",529.27534303492848]
[null,"KRAUSOVÁ","Anežka","7.A",null,null,null,0]
[null,"KUŽELOVÁ","Apoléna","7.A","00:04:34.300",null,"Jilemnice  30.10.21",488.10368199990887,null,"00:04:22"]
[null,"MORÁVKOVÁ","Lucie","7.A","00:04:49.900",null,"Jilemnice  30.10.21",454.84249733175227,null,"00:04:54"]
[null,"SKLENÁROVÁ","Eliška","7.A",null,null,null,0]
[null,"ŠEJNOVÁ","Karolína","7.A","00:05:05.610",null,"Jilemnice  06.05.22",424.77844304964663]
[null,"ŠTOLFOVÁ","Tereza","7.A",null,null,null,0]
[null,"ŠUBÍKOVÁ","Klára","7.A","00:04:05.760",null,"Jilemnice  06.05.22",559.88378892187495]
[null,"ŠULKOVSKÁ","Klára","7.A",null,null,null,0]
[null,"TULÁČKOVÁ","Natálie","7.A","00:04:18.400",null,null,{"$f":"IF(E133=0,0,IF(E133>0,(100 - 313216 / E133 + 3453830 / E133*2 - 169860000 / E133*3 + 321980000/ E133*4)/400000000-130))","v":526.13715158126945},null,"00:04:48"]
[null,"VOJTÍŠKOVÁ","Ella","7.A","00:04:44.200",null,"Jilemnice  30.10.21",466.57227295935957]
[null,"DRUGÁČOVÁ","Kristinka","7.B",null,null,null,0]
[null,"FAJSTAVROVÁ","Karolína","7.B","00:03:22.300",null,"Jilemnice  30.10.21",708.09115153027676,null,"00:03:11"]
[null,"FAJSTAVROVÁ","Magdaléna","7.B","00:03:07.700",null," ",773.28098002623869,null,"00:03:02"]
[null,"HLAVATÁ","Anna","7.B",null,null,null,0]
[null,"JINDROVÁ","Barbora","7.B","00:04:03.100",null," ",567.43249676995072,null,"00:04:04"]
[null,"MAŘASOVÁ","Vendula","7.B","00:03:51.100",null," ",603.64707902109467,null,"00:04:11"]
[null,"PETŘÍČKOVÁ","Natálie","7.B","00:03:45.600",null," ",621.53297854787229]
[null,"PETŘÍKOVÁ","Adéla","7.B",null,null,null,0]
[null,"REGÁLOVÁ","Karolína","7.B","00:04:46.600",null,"Jilemnice  30.10.21",461.57655260170975,null,"00:04:17"]
[null,"RIEGROVÁ","Magdaléna","7.B",null,null,null,0]
[null,"RYBENSKÁ","Sabina","7.B","00:04:13.300",null," ",539.34796670874459,null,"00:04:17"]
[null,"STEINEROVÁ","Barbora","7.B","00:04:01.500",null," ",572.05316755434785,null,"00:04:18"]
[null,"TOMEŠOVÁ","Barbora","7.B","00:03:45.400",null,null,622.19982236180113,null,"00:04:20"]
[null,"VOHNOUTOVÁ","Aneta","7.B","00:03:36.100",null," ",654.57121683491459,null,"00:03:36"]
[null,"HAVLÍKOVÁ","Michaela","8.A","00:03:55.850",null,"Jilemnice  09.05.22",588.87148595701717,null,null,"00:04:12.990"]
[null,"HOLUBCOVÁ","Sára","8.A","00:03:45.200",null,"Jilemnice  09.05.22",622.86785062300169,null,null,"00:03:44.190"]
[null,"HONCŮ","Tereza","8.A",null,null,null,0,null,null,"00:04:00.600"]
[null,"HORÁČKOVÁ","Kateřina","8.A","00:03:33.880",null,"Jilemnice  09.05.22",662.71479314321107,null,null,"00:03:39.880"]
[null,"JOUDALOVÁ","Daniela","8.A",null,null,null,0]
[null,"KLÍMOVÁ","Anna","8.A","00:03:51.570",null,"Jilemnice  09.05.22",602.15805139652161,null,null,"00:03:43.750"]
[null,"KOHOUTOVÁ","Veronika","8.A","00:03:45.400",null,"Jilemnice  09.05.22",622.19982236180113,null,null,"00:03:21.790"]
[null,"KOVÁŘOVÁ","Viktorie","8.A","00:03:21.100",null,"Jilemnice  09.05.22",713.09219271146208,null,null,"00:03:46.100"]
[null,"KYNČLOVÁ","Anna","8.A","00:02:39",null,"Turnov   10.05.22",936.32603738207558,null,null,"00:03:11.460"]
[null,"MATOUŠOVÁ","Tereza","8.A","00:04:23.190",null,"Jilemnice  09.05.22",514.19560002202786,null,null,"00:04:28.960"]
[null,"MAZÁNKOVÁ","Zuzana","8.A","00:03:41.410",null,"Jilemnice  09.05.22",635.75511476153963,null,null,"00:04:00.600"]
[null,"MORKESOVÁ","Sabrina","8.A","00:03:39.565",null,"Jilemnice  09.05.22",642.18973861449342,null,null,"00:03:22.340"]
[null,"POHOŘALÁ","Alžběta","8.A","00:03:32.800",null,"Jilemnice  09.05.22",666.73796972368405,null,null,"00:04:00.600"]
[null,"SCHOLZOVÁ","Laura","8.A",null,null,null,0,null,null,"00:04:18.780"]
[null,"VÁCLAVÍKOVÁ","Valerie","8.A","00:03:29.010",null,"Jilemnice  09.05.22",681.18530192934543,null,null,"00:03:49.500"]
[null,"ZAPADLOVÁ","Emma","8.A",null,null,null,0,null,null,"00:03:24.360"]
[null,"ŽIŠKOVÁ","Mia","8.A",null,null,null,{"$f":"IF(E165=0,0,IF(E165>0,(100 - 313216 / E165 + 3453830 / E165*2 - 169860000 / E165*3 + 321980000/ E165*4)/400000000-130))","v":0},null,null,"00:04:11.900"]
[null,"FARSKÁ","Tereza","8.B",null,null,null,0]
[null,"FEIXOVÁ","Rozálie","8.B","00:05:19.700",null,null,400.32793238637794]
[null,"FIŠEROVÁ","Michaela","8.B","00:04:32.900",null,null,491.27460598103687]
[null,"HAVLÍČKOVÁ","Kristýna","8.B","00:05:08.700",null,null,419.22526718877543]
[null,"JODASOVÁ","Nikola","8.B",null,null,null,0]
[null,"KADAVÁ","Nikola","8.B","00:05:15.500",null,null,407.38776539738512]
[null,"KRAFKOVÁ","Lucie","8.B",null,null,null,0]
[null,"KŘIVINKOVÁ","Alžběta","8.B","00:04:34.100",null,null,488.55468796981029]
[null,"LEŠÁKOVÁ","Lenka","8.B","00:04:43.300",null,null,468.46749020411221]
[null,"NYKLÍČKOVÁ","Adéla","8.B","00:03:11.700",null,"Turnov   10.05.22",754.43317658802846]
[null,"PLŮCHOVÁ","Petra","8.B","00:04:01.700",null,null,571.47223816477049]
[null,"PODZIMKOVÁ","Eliška","8.B","00:04:50.900",null,null,452.83203842119281]
[null,"RUTKAYOVÁ","Klára","8.B","00:04:48.100",null,null,458.49649418960428]
[null,"SEIDLOVÁ","Zuzana","8.B","00:04:29",null,null,500.2819329786247]
[null,"TOMÁŠOVÁ","Sára","8.B",null,null,null,0]
[null,"VANCLOVÁ","Barbora","8.B","00:04:29.100",null,null,500.04771449749148]
[null,"VOTOČKOVÁ","Veronika","8.B","00:05:08.500",null,null,419.58132895016206]
[null,"HARTIGOVÁ","Anna","9.A","00:03:58",null,"Jilemnice 13.06.22",582.37747883823533,null,null,null,"00:04:39.330"]
[null,"HONCŮ","Rozálie","9.A","00:04:12.180",null,"Jilemnice 10.06.22",542.3207231622057,null,null,null,"00:04:50.840"]
[null,"CHALOUPSKÁ","Lucie","9.A",null,null,null,0,null,null,null,"00:04:20.270"]
[null,"KŘÍŽKOVÁ","Anna","9.A","00:04:07.940",null,"Jilemnice 10.06.22",553.81802035163741,null,null,null,"00:04:01.790"]
[null,"LUKEŠOVÁ","Kristýna","9.A","00:04:09.250",null,"Jilemnice 10.06.22",550.22403196113351,null,null,null,"00:04:33.830"]
[null,"MOTLÍKOVÁ","Eliška","9.A","00:03:15.900",null,"Turnov   10.05.22",735.47136270022975,null,null,null,"00:03:45.680"]
[null,"POHOŘELÁ","Amálie","9.A","00:04:09.250",null,"Jilemnice 10.06.22",550.22403196113351,null,null,null,"00:04:11.300"]
[null,"POLÁČKOVÁ","Natálie","9.A",null,null,null,0,null,null,null,"00:05:24.730"]
[null,"ŘEHOŘKOVÁ","Lucie","9.A","00:04:38.580",null,"Jilemnice 10.06.22",478.60736583259745,null,null,null,"00:04:53.870"]
[null,"SKÁLOVÁ","Alena","9.A","00:04:53.820",null,"Jilemnice 10.06.22",447.03982022141111,null,null,null,"00:05:00.980"]
[null,"VÁVROVÁ ","Aneta","9.A","00:04:10.460",null,"Jilemnice 10.06.22",546.93779432490226,null,null,null,"00:04:39.330"]
[null,"ZELINKOVÁ","Klára","9.A",null,null,null,0,null,null,null,"00:03:48.280"]

{"sheet":"Ddál","index":10,"n_rows":194,"n_cols":12,"rows_kept":194,"cut":false,"hidden":false,"merged":[]}
[null,null,"VÝKONY  2020 - 2021",null,null,null,"DÁLKA","DĚVČATA  6. -  9.  ROČ."]
[null,null,null,null,null,null,null,null,null,null,"stav  k ",{"$f":"TODAY()","v":"2022-06-28"}]
[null,null,null,null,null,null,null,"   BODY",null,"   20 - 21   ","   19 - 20   ","   18 - 19   "]
[]
["1.",{"$f":"B101","v":"HEJRALOVÁ"},{"$f":"C101","v":"Natálie"},"6.A",344,null,"Jilemnice  02.05.22",728.64100000000008,null,0,0,0]
["2.",{"$f":"B102","v":"KERLE"},"Nikita","6.A",377,null,"Turnov   10.05.22",786.02800000000002,null,0,0,0]
["3.",{"$f":"B103","v":"PACLÍKOVÁ"},"Markéta","6.A",335,null,"Jilemnice  24.09.21",712.99,null,0,0,0]
["4.",{"$f":"B104","v":"PLŮCHOVÁ"},"Michaela","6.A",318,null,"Jilemnice  24.09.21",683.42700000000002,null,0,0,0]
["5.",{"$f":"B105","v":"ŠERCLOVÁ"},"Nikola","6.A",273,null,"Jilemnice  02.05.22",605.17200000000003,null,0,0,0]
["6.",{"$f":"B106","v":"VÁCLAVÍKOVÁ"},"Alena","6.A",309,null,"Jilemnice  24.09.21",667.77600000000007,null,0,0,0]
["7.",{"$f":"B107","v":"DUCHÁČKOVÁ"},"Tereza","6.B",296,null,"Jilemnice  02.05.22",645.16899999999998,null,0,0,0]
["8.",{"$f":"B108","v":"FLAŠKOVÁ"},"Anna Sabriel","6.B",306,null,"Jilemnice  24.09.21",662.55900000000008,null,0,0,0]
["9.",{"$f":"B109","v":"HAASOVÁ"},"Julie","6.B",365,null,"Jilemnice  24.09.21",765.16000000000008,null,0,0,0]
["10.",{"$f":"B110","v":"HOBLOVÁ"},"Barbora","6.B",281,null,"Jilemnice  24.09.21",619.08400000000006,null,0,0,0]
["11.",{"$f":"B111","v":"HORÁČKOVÁ"},"Valérie","6.B",307,null,"Jilemnice  24.09.21",664.298,null,0,0,0]
["12.",{"$f":"B112","v":"JIRANOVÁ"},"Anežka","6.B",253,null,"Jilemnice  02.05.22",570.39200000000005,null,0,0,0]
["13.",{"$f":"B113","v":"JODASOVÁ"},"Denisa","6.B",360,null,"Jilemnice  24.09.21",756.46500000000003,null,0,0,0]
["14.",{"$f":"B114","v":"KRČÍKOVÁ"},"Beatrix","6.B",349,null,"Jilemnice  24.09.21",737.33600000000001,null,0,0,0]
["15.",{"$f":"B115","v":"KUBÁTOVÁ"},"Veronika","6.B",220,null,"Jilemnice  02.05.22",513.005,null,0,0,0]
["16.",{"$f":"B116","v":"LENČEŠOVÁ"},"Silvie","6.B",281,null,"Jilemnice  02.05.22",619.08400000000006,null,0,0,0]
["17.",{"$f":"B117","v":"MATERNOVÁ"},"Lenka","6.B",286,null,"Jilemnice  24.09.21",627.779,null,0,0,0]
["18.",{"$f":"B118","v":"TÓTHOVÁ"},"Viktorie","6.B",310,null,"Jilemnice  24.09.21",669.51499999999999,null,0,0,0]
["19.",{"$f":"B119","v":"ERBENOVÁ"},"Sára","7.A",270,null,0,599.95500000000004,null,253,0,0]
["20.",{"$f":"B120","v":"GINGALOVÁ"},"Linda","7.A",347,null," ",733.85800000000006,null,0,0,0]
["21.",{"$f":"B121","v":"HOFMANOVÁ "},"Nicol","7.A",280,null," ",617.34500000000003,null,297,0,0]
["22.",{"$f":"B122","v":"HOLEŠOVSKÁ"},"Aneta","7.A",316,null,"Jilemnice  30.10.21",679.94900000000007,null,283,0,0]
["23.",{"$f":"B123","v":"HOLUBCOVÁ"},"Alena","7.A",315,null," ",678.21,null,290,0,0]
["24.",{"$f":"B124","v":"KOHOUTOVÁ"},"Anna","7.A",258,null," ",579.08699999999999,null,227,0,0]
["25.",{"$f":"B125","v":"KRAUSOVÁ"},"Anežka","7.A",338,null,"Jilemnice  24.09.21",718.20699999999999,null,0,0,0]
["26.",{"$f":"B126","v":"KUŽELOVÁ"},"Apoléna","7.A",305,null,"Jilemnice  30.10.21",660.82,null,274,0,0]
["27.",{"$f":"B127","v":"MORÁVKOVÁ"},"Lucie","7.A",0,null,0,0,null,220,0,0]
["28.",{"$f":"B128","v":"SKLENÁROVÁ"},"Eliška","7.A",269,null,0,598.21600000000001,null,0,0,0]
["29.",{"$f":"B129","v":"ŠEJNOVÁ"},"Karolína","7.A",300,null,"Jilemnice  24.09.21",652.125,null,0,0,0]
["30.",{"$f":"B130","v":"ŠTOLFOVÁ"},"Tereza","7.A",310,null," ",669.51499999999999,null,0,0,0]
["31.",{"$f":"B131","v":"ŠUBÍKOVÁ"},"Klára","7.A",333,null,"Jilemnice  24.09.21",709.51200000000006,null,310,0,0]
["32.",{"$f":"B132","v":"ŠULKOVSKÁ"},"Klára","7.A",298,null,"Jilemnice  24.09.21",648.64700000000005,null,0,0,0]
["33.",{"$f":"B133","v":"TULÁČKOVÁ"},"Natálie","7.A",312,null,"Jilemnice  30.10.21",672.99300000000005,null,257,0,0]
["34.",{"$f":"B134","v":"VOJTÍŠKOVÁ"},"Ella","7.A",376,null," ",784.2890000000001,null,304,0,0]
["35.",{"$f":"B135","v":"DRUGÁČOVÁ"},"Kristinka","7.B",355,null,"Jilemnice  24.09.21",747.7700000000001,null,307,0,0]
["36.",{"$f":"B136","v":"FAJSTAVROVÁ"},"Karolína","7.B",327,null,"Jilemnice  30.10.21",699.07800000000009,null,290,0,0]
["37.",{"$f":"B137","v":"FAJSTAVROVÁ"},"Magdaléna","7.B",321,null,"Jilemnice  30.10.21",688.64400000000001,null,0,0,0]
["38.",{"$f":"B138","v":"HLAVATÁ"},"Anna","7.B",321,null,"Jilemnice  30.10.21",688.64400000000001,null,291,0,0]
["39.",{"$f":"B139","v":"JINDROVÁ"},"Barbora","7.B",319,null,0,685.16600000000005,null,295,0,0]
["40.",{"$f":"B140","v":"MAŘASOVÁ"},"Vendula","7.B",310,null,0,669.51499999999999,null,240,0,0]
["41.",{"$f":"B141","v":"PETŘÍČKOVÁ"},"Natálie","7.B",387,null,"Turnov   10.05.22",803.41800000000001,null,313,0,0]
["42.",{"$f":"B142","v":"PETŘÍKOVÁ"},"Adéla","7.B",274,null,"Jilemnice  24.09.21",606.91100000000006,null,192,0,0]
["43.",{"$f":"B143","v":"REGÁLOVÁ"},"Karolína","7.B",310,null,"Jilemnice  30.10.21",669.51499999999999,null,291,0,0]
["44.",{"$f":"B144","v":"RIEGROVÁ"},"Magdaléna","7.B",287,null,"Jilemnice  24.09.21",629.51800000000003,null,0,0,0]
["45.",{"$f":"B145","v":"RYBENSKÁ"},"Sabina","7.B",0,null,0,0,null,260,0,0]
["46.",{"$f":"B146","v":"STEINEROVÁ"},"Barbora","7.B",374,null,"Turnov   10.05.22",780.81100000000004,null,288,0,0]
["47.",{"$f":"B147","v":"TOMEŠOVÁ"},"Barbora","7.B",0,null,0,0,null,218,0,0]
["48.",{"$f":"B148","v":"VOHNOUTOVÁ"},"Aneta","7.B",365,null," ",765.16000000000008,null,0,0,0]
["49.",{"$f":"B149","v":"HAVLÍKOVÁ"},"Michaela","8.A",320,null,"Jilemnice  05.02.22",686.90500000000009,null,290,237,0]
["50.",{"$f":"B150","v":"HOLUBCOVÁ"},"Sára","8.A",365,null,"Jilemnice  27.09.21",765.16000000000008,null,361,327,0]
["51.",{"$f":"B151","v":"HONCŮ"},"Tereza","8.A",335,null,"Jilemnice  27.09.21",712.99,null,341,280,0]
["52.",{"$f":"B152","v":"HORÁČKOVÁ"},"Kateřina","8.A",0,null,0,0,null,359,293,0]
["53.",{"$f":"B153","v":"JOUDALOVÁ"},"Daniela","8.A",0,null,0,0,null,0,0,0]
["54.",{"$f":"B154","v":"KLÍMOVÁ"},"Anna","8.A",320,null,"Jilemnice  27.09.21",686.90500000000009,null,0,277,0]
["55.",{"$f":"B155","v":"KOHOUTOVÁ"},"Veronika","8.A",362,null,"Jilemnice  27.09.21",759.9430000000001,null,374,323,0]
["56.",{"$f":"B156","v":"KOVÁŘOVÁ"},"Viktorie","8.A",365,null,"Jilemnice  05.02.22",765.16000000000008,null,340,279,0]
["57.",{"$f":"B157","v":"KYNČLOVÁ"},"Anna","8.A",366,null,"Jilemnice  27.09.21",766.899,null,366,292,0]
["58.",{"$f":"B158","v":"MATOUŠOVÁ"},"Tereza","8.A",330,null,"Jilemnice  05.02.22",704.29500000000007,null,350,260,0]
["59.",{"$f":"B159","v":"MAZÁNKOVÁ"},"Zuzana","8.A",305,null,"Jilemnice  27.09.21",660.82,null,312,241,0]
["60.",{"$f":"B160","v":"MORKESOVÁ"},"Sabrina","8.A",380,null,"Jilemnice  05.02.22",791.245,null,366,350,0]
["61.",{"$f":"B161","v":"POHOŘALÁ"},"Alžběta","8.A",367,null,"Jilemnice  05.02.22",768.63800000000003,null,347,323,0]
["62.",{"$f":"B162","v":"SCHOLZOVÁ"},"Laura","8.A",0,null,0,0,null,0,225,0]
["63.",{"$f":"B163","v":"VÁCLAVÍKOVÁ"},"Valerie","8.A",352,null,"Jilemnice  05.02.22",742.553,null,352,310,0]
["64.",{"$f":"B164","v":"ZAPADLOVÁ"},"Emma","8.A",340,null,"Jilemnice 26.04.22",722,null,344,0,0]
["65.",{"$f":"B165","v":"ŽIŠKOVÁ"},"Mia","8.A",0,null,0,0,null,342,0,0]
["66.",{"$f":"B166","v":"FARSKÁ"},"Tereza","8.B",230,null,0,530.39499999999998,null,0,0,0]
["67.",{"$f":"B167","v":"FEIXOVÁ"},"Rozálie","8.B",0,null,0,0,null,250,0,0]
["68.",{"$f":"B168","v":"FIŠEROVÁ"},"Michaela","8.B",0,null,0,0,null,243,0,0]
["69.",{"$f":"B169","v":"HAVLÍČKOVÁ"},"Kristýna","8.B",0,null,0,0,null,235,0,0]
["70.",{"$f":"B170","v":"JODASOVÁ"},"Nikola","8.B",0,null,0,0,null,325,319,0]
["71.",{"$f":"B171","v":"KADAVÁ"},"Nikola","8.B",275,null,0,608.65000000000009,null,0,0,0]
["72.",{"$f":"B172","v":"KRAFKOVÁ"},"Lucie","8.B",0,null,0,0,null,234,0,0]
["73.",{"$f":"B173","v":"KŘIVINKOVÁ"},"Alžběta","8.B",328,null,0,700.81700000000001,null,285,0,0]
["74.",{"$f":"B174","v":"LEŠÁKOVÁ"},"Lenka","8.B",296,null,0,645.16899999999998,null,0,0,0]
["75.",{"$f":"B175","v":"NYKLÍČKOVÁ"},"Adéla","8.B",360,null,0,756.46500000000003,null,325,0,0]
["76.",{"$f":"B176","v":"PLŮCHOVÁ"},"Petra","8.B",289,null,0,632.99599999999998,null,225,0,0]
["77.",{"$f":"B177","v":"PODZIMKOVÁ"},"Eliška","8.B",298,null,0,648.64700000000005,null,190,0,0]
["78.",{"$f":"B178","v":"RUTKAYOVÁ"},"Klára","8.B",278,null,0,613.86700000000008,null,0,0,0]
["79.",{"$f":"B179","v":"SEIDLOVÁ"},"Zuzana","8.B",340,null,0,721.68500000000006,null,284,0,0]
["80.",{"$f":"B180","v":"TOMÁŠOVÁ"},"Sára","8.B",291,null,0,636.47400000000005,null,197,0,0]
["81.",{"$f":"B181","v":"VANCLOVÁ"},"Barbora","8.B",0,null,0,0,null,278,0,0]
["82.",{"$f":"B182","v":"VOTOČKOVÁ"},"Veronika","8.B",284,null,0,624.30100000000004,null,255,0,0]
["83.",{"$f":"B183","v":"HARTIGOVÁ"},"Anna","9.A",330,null,"Jilemnice  27.09.21",704.29500000000007,null,337,0,0]
["84.",{"$f":"B184","v":"HONCŮ"},"Rozálie","9.A",414,null,"Jilemnice  02.05.22",850.37100000000009,null,391,0,0]
["85.",{"$f":"B185","v":"CHALOUPSKÁ"},"Lucie","9.A",380,null,"Jilemnice  02.05.22",791.245,null,380,320,0]
["86.",{"$f":"B186","v":"KŘÍŽKOVÁ"},"Anna","9.A",330,null,"Jilemnice  02.05.22",704.29500000000007,null,278,0,0]
["87.",{"$f":"B187","v":"LUKEŠOVÁ"},"Kristýna","9.A",341,null,"Jilemnice  27.09.21",723.42400000000009,null,341,0,0]
["88.",{"$f":"B188","v":"MOTLÍKOVÁ"},"Eliška","9.A",373,null,"Jilemnice  02.05.22",779.072,null,327,0,0]
["89.",{"$f":"B189","v":"POHOŘELÁ"},"Amálie","9.A",295,null,"Jilemnice  02.05.22",643.43000000000006,null,0,0,0]
["90.",{"$f":"B190","v":"POLÁČKOVÁ"},"Natálie","9.A",246,null,"Jilemnice  02.05.22",558.21900000000005,null,0,0,0]
["91.",{"$f":"B191","v":"ŘEHOŘKOVÁ"},"Lucie","9.A",370,null,{"$f":"G193","v":"Jilemnice  02.05.22"},773.85500000000002,null,353,0,0]
["92.",{"$f":"B192","v":"SKÁLOVÁ"},"Alena","9.A",294,null,{"$f":"G192","v":"Jilemnice  27.09.21"},641.69100000000003,null,{"$f":"J192","v":312},0,0]
["93.",{"$f":"B193","v":"VÁVROVÁ "},"Aneta","9.A",408,null,"Jilemnice  02.05.22",{"$f":"H193","v":839.93700000000001},null,{"$f":"J193","v":377},0,0]
["94.",{"$f":"B194","v":"ZELINKOVÁ"},"Klára","9.A",337,null,{"$f":"G194","v":"Jilemnice  27.09.21"},716.46800000000007,null,{"$f":"J194","v":344},0,0]
[]
[]
[null,"HEJRALOVÁ","Natálie","6.A",344,null,"Jilemnice  02.05.22",{"$f":"IF(E101=0,0,IF(E101>0,(E101+75)*1.739))","v":728.64100000000008}]
[null,"KERLE","Nikita","6.A",377,null,"Turnov   10.05.22",786.02800000000002]
[null,"PACLÍKOVÁ","Markéta","6.A",335,null,"Jilemnice  24.09.21",712.99]
[null,"PLŮCHOVÁ","Michaela","6.A",318,null,"Jilemnice  24.09.21",683.42700000000002]
[null,"ŠERCLOVÁ","Nikola","6.A",273,null,"Jilemnice  02.05.22",605.17200000000003]
[null,"VÁCLAVÍKOVÁ","Alena","6.A",309,null,"Jilemnice  24.09.21",667.77600000000007]
[null,"DUCHÁČKOVÁ","Tereza","6.B",296,null,"Jilemnice  02.05.22",645.16899999999998]
[null,"FLAŠKOVÁ","Anna Sabriel","6.B",306,null,"Jilemnice  24.09.21",662.55900000000008]
[null,"HAASOVÁ","Julie","6.B",365,null,"Jilemnice  24.09.21",765.16000000000008]
[null,"HOBLOVÁ","Barbora","6.B",281,null,"Jilemnice  24.09.21",619.08400000000006]
[null,"HORÁČKOVÁ","Valérie","6.B",307,null,"Jilemnice  24.09.21",664.298]
[null,"JIRANOVÁ","Anežka","6.B",253,null,"Jilemnice  02.05.22",570.39200000000005]
[null,"JODASOVÁ","Denisa","6.B",360,null,"Jilemnice  24.09.21",756.46500000000003]
[null,"KRČÍKOVÁ","Beatrix","6.B",349,null,"Jilemnice  24.09.21",737.33600000000001]
[null,"KUBÁTOVÁ","Veronika","6.B",220,null,"Jilemnice  02.05.22",513.005]
[null,"LENČEŠOVÁ","Silvie","6.B",281,null,"Jilemnice  02.05.22",619.08400000000006]
[null,"MATERNOVÁ","Lenka","6.B",286,null,"Jilemnice  24.09.21",627.779]
[null,"TÓTHOVÁ","Viktorie","6.B",310,null,"Jilemnice  24.09.21",669.51499999999999]
[null,"ERBENOVÁ","Sára","7.A",270,null,null,599.95500000000004,null,253]
[null,"GINGALOVÁ","Linda","7.A",347,null," ",733.85800000000006]
[null,"HOFMANOVÁ ","Nicol","7.A",280,null," ",617.34500000000003,null,297]
[null,"HOLEŠOVSKÁ","Aneta","7.A",316,null,"Jilemnice  30.10.21",679.94900000000007,null,283]
[null,"HOLUBCOVÁ","Alena","7.A",315,null," ",678.21,null,290]
[null,"KOHOUTOVÁ","Anna","7.A",258,null," ",579.08699999999999,null,227]
[null,"KRAUSOVÁ","Anežka","7.A",338,null,"Jilemnice  24.09.21",718.20699999999999,null,{"$f":"J204","v":0}]
[null,"KUŽELOVÁ","Apoléna","7.A",305,null,"Jilemnice  30.10.21",660.82,null,274]
[null,"MORÁVKOVÁ","Lucie","7.A",null,null,null,0,null,220]
[null,"SKLENÁROVÁ","Eliška","7.A",269,null,null,598.21600000000001,null,{"$f":"J207","v":0}]
[null,"ŠEJNOVÁ","Karolína","7.A",300,null,"Jilemnice  24.09.21",652.125]
[null,"ŠTOLFOVÁ","Tereza","7.A",310,null," ",669.51499999999999,null,{"$f":"J208","v":0}]
[null,"ŠUBÍKOVÁ","Klára","7.A",333,null,"Jilemnice  24.09.21",709.51200000000006,null,310]
[null,"ŠULKOVSKÁ","Klára","7.A",298,null,"Jilemnice  24.09.21",648.64700000000005]
[null,"TULÁČKOVÁ","Natálie","7.A",312,null,"Jilemnice  30.10.21",{"$f":"IF(E133=0,0,IF(E133>0,(E133+75)*1.739))","v":672.99300000000005},null,257]
[null,"VOJTÍŠKOVÁ","Ella","7.A",376,null," ",784.2890000000001,null,304]
[null,"DRUGÁČOVÁ","Kristinka","7.B",355,null,"Jilemnice  24.09.21",747.7700000000001,null,307]
[null,"FAJSTAVROVÁ","Karolína","7.B",327,null,"Jilemnice  30.10.21",699.07800000000009,null,290]
[null,"FAJSTAVROVÁ","Magdaléna","7.B",321,null,"Jilemnice  30.10.21",688.64400000000001,null,{"$f":"J214","v":0}]
[null,"HLAVATÁ","Anna","7.B",321,null,"Jilemnice  30.10.21",688.64400000000001,null,291]
[null,"JINDROVÁ","Barbora","7.B",319,null,null,685.16600000000005,null,295]
[null,"MAŘASOVÁ","Vendula","7.B",310,null,null,669.51499999999999,null,240]
[null,"PETŘÍČKOVÁ","Natálie","7.B",387,null,"Turnov   10.05.22",803.41800000000001,null,313]
[null,"PETŘÍKOVÁ","Adéla","7.B",274,null,"Jilemnice  24.09.21",606.91100000000006,null,192]
[null,"REGÁLOVÁ","Karolína","7.B",310,null,"Jilemnice  30.10.21",669.51499999999999,null,291]
[null,"RIEGROVÁ","Magdaléna","7.B",287,null,"Jilemnice  24.09.21",629.51800000000003,null,{"$f":"J221","v":0}]
[null,"RYBENSKÁ","Sabina","7.B",null,null,null,0,null,260]
[null,"STEINEROVÁ","Barbora","7.B",374,null,"Turnov   10.05.22",780.81100000000004,null,288]
[null,"TOMEŠOVÁ","Barbora","7.B",null,null,null,0,null,218]
[null,"VOHNOUTOVÁ","Aneta","7.B",365,null," ",765.16000000000008,null,{"$f":"J225","v":0}]
[null,"HAVLÍKOVÁ","Michaela","8.A",320,null,"Jilemnice  05.02.22",686.90500000000009,null,290,237]
[null,"HOLUBCOVÁ","Sára","8.A",365,null,"Jilemnice  27.09.21",765.16000000000008,null,361,327]
[null,"HONCŮ","Tereza","8.A",335,null,"Jilemnice  27.09.21",712.99,null,341,280]
[null,"HORÁČKOVÁ","Kateřina","8.A",null,null,null,0,null,359,293]
[null,"JOUDALOVÁ","Daniela","8.A",null,null,null,0,null,{"$f":"J230","v":0}]
[null,"KLÍMOVÁ","Anna","8.A",320,null,"Jilemnice  27.09.21",686.90500000000009,null,{"$f":"J231","v":0},277]
[null,"KOHOUTOVÁ","Veronika","8.A",362,null,"Jilemnice  27.09.21",759.9430000000001,null,374,323]
[null,"KOVÁŘOVÁ","Viktorie","8.A",365,null,"Jilemnice  05.02.22",765.16000000000008,null,340,279]
[null,"KYNČLOVÁ","Anna","8.A",366,null,"Jilemnice  27.09.21",766.899,null,366,292]
[null,"MATOUŠOVÁ","Tereza","8.A",330,null,"Jilemnice  05.02.22",704.29500000000007,null,350,260]
[null,"MAZÁNKOVÁ","Zuzana","8.A",305,null,"Jilemnice  27.09.21",660.82,null,312,241]
[null,"MORKESOVÁ","Sabrina","8.A",380,null,"Jilemnice  05.02.22",791.245,null,366,350]
[null,"POHOŘALÁ","Alžběta","8.A",367,null,"Jilemnice  05.02.22",768.63800000000003,null,347,323]
[null,"SCHOLZOVÁ","Laura","8.A",null,null,null,0,null,{"$f":"J239","v":0},225]
[null,"VÁCLAVÍKOVÁ","Valerie","8.A",352,null,"Jilemnice  05.02.22",742.553,null,352,310]
[null,"ZAPADLOVÁ","Emma","8.A",340,null,"Jilemnice 26.04.22",722,null,344]
[null,"ŽIŠKOVÁ","Mia","8.A",null,null,null,{"$f":"IF(E165=0,0,IF(E165>0,(E165+75)*1.739))","v":0},null,342]
[null,"FARSKÁ","Tereza","8.B",230,null,null,530.39499999999998]
[null,"FEIXOVÁ","Rozálie","8.B",null,null,null,0,null,250]
[null,"FIŠEROVÁ","Michaela","8.B",null,null,null,0,null,243]
[null,"HAVLÍČKOVÁ","Kristýna","8.B",null,null,null,0,null,235]
[null,"JODASOVÁ","Nikola","8.B",null,null,null,0,null,325,319]
[null,"KADAVÁ","Nikola","8.B",275,null,null,608.65000000000009,null,{"$f":"J248","v":0}]
[null,"KRAFKOVÁ","Lucie","8.B",null,null,null,0,null,234]
[null,"KŘIVINKOVÁ","Alžběta","8.B",328,null,null,700.81700000000001,null,285]
[null,"LEŠÁKOVÁ","Lenka","8.B",296,null,null,645.16899999999998,null,{"$f":"J251","v":0}]
[null,"NYKLÍČKOVÁ","Adéla","8.B",360,null,null,756.46500000000003,null,325]
[null,"PLŮCHOVÁ","Petra","8.B",289,null,null,632.99599999999998,null,225]
[null,"PODZIMKOVÁ","Eliška","8.B",298,null,null,648.64700000000005,null,190]
[null,"RUTKAYOVÁ","Klára","8.B",278,null,null,613.86700000000008,null,{"$f":"J255","v":0}]
[null,"SEIDLOVÁ","Zuzana","8.B",340,null,null,721.68500000000006,null,284]
[null,"TOMÁŠOVÁ","Sára","8.B",291,null,null,636.47400000000005,null,197]
[null,"VANCLOVÁ","Barbora","8.B",null,null,null,0,null,278]
[null,"VOTOČKOVÁ","Veronika","8.B",284,null,null,624.30100000000004,null,255]
[null,"HARTIGOVÁ","Anna","9.A",330,null,"Jilemnice  27.09.21",704.29500000000007,null,337]
[null,"HONCŮ","Rozálie","9.A",414,null,"Jilemnice  02.05.22",850.37100000000009,null,391]
[null,"CHALOUPSKÁ","Lucie","9.A",380,null,"Jilemnice  02.05.22",791.245,null,380,320]
[null,"KŘÍŽKOVÁ","Anna","9.A",330,null,"Jilemnice  02.05.22",704.29500000000007,null,278]
[null,"LUKEŠOVÁ","Kristýna","9.A",341,null,"Jilemnice  27.09.21",723.42400000000009,null,341]
[null,"MOTLÍKOVÁ","Eliška","9.A",373,null,"Jilemnice  02.05.22",779.072,null,327]
[null,"POHOŘELÁ","Amálie","9.A",295,null,"Jilemnice  02.05.22",643.43000000000006,null,{"$f":"J266","v":0}]
[null,"POLÁČKOVÁ","Natálie","9.A",246,null,"Jilemnice  02.05.22",558.21900000000005,null,{"$f":"J267","v":0}]
[null,"ŘEHOŘKOVÁ","Lucie","9.A",370,null,"Jilemnice  02.05.22",773.85500000000002,null,353]
[null,"SKÁLOVÁ","Alena","9.A",294,null,"Jilemnice  27.09.21",641.69100000000003,null,312]
[null,"VÁVROVÁ ","Aneta","9.A",408,null,"Jilemnice  02.05.22",839.93700000000001,null,377]
[null,"ZELINKOVÁ","Klára","9.A",337,null,"Jilemnice  27.09.21",716.46800000000007,null,344]

{"sheet":"Dvýš","index":11,"n_rows":194,"n_cols":12,"rows_kept":194,"cut":false,"hidden":false,"merged":[]}
[null,null,"VÝKONY  2020 - 2021",null,null,null,"VÝŠKA","DĚVČATA  6. -  9.  ROČ."]
[null,null,null,null,null,null,null,null,null,null,"stav  k ",{"$f":"TODAY()","v":"2022-06-28"}]
[null,null,null,null,null,null,null,"   BODY",null,"   20 - 21   ","   19 - 20   ","   18 - 19   "]
[]
["1.",{"$f":"B101","v":"HEJRALOVÁ"},{"$f":"C101","v":"Natálie"},"6.A",115,null,"Jilemnice  13.05.22",739.5,null,0,0,0]
["2.",{"$f":"B102","v":"KERLE"},"Nikita","6.A",115,null,"Jilemnice 03.06.22",739.5,null,0,0,0]
["3.",{"$f":"B103","v":"PACLÍKOVÁ"},"Markéta","6.A",120,null,"Jilemnice  17.05.22",772,null,0,0,0]
["4.",{"$f":"B104","v":"PLŮCHOVÁ"},"Michaela","6.A",110,null,"Jilemnice  13.05.22",707,null,0,0,0]
["5.",{"$f":"B105","v":"ŠERCLOVÁ"},"Nikola","6.A",0,null,0,0,null,0,0,0]
["6.",{"$f":"B106","v":"VÁCLAVÍKOVÁ"},"Alena","6.A",95,null,"Jilemnice  13.05.22",609.5,null,0,0,0]
["7.",{"$f":"B107","v":"DUCHÁČKOVÁ"},"Tereza","6.B",85,null,"Jilemnice  13.05.22",544.5,null,0,0,0]
["8.",{"$f":"B108","v":"FLAŠKOVÁ"},"Anna Sabriel","6.B",105,null,"Jilemnice  13.05.22",674.5,null,0,0,0]
["9.",{"$f":"B109","v":"HAASOVÁ"},"Julie","6.B",105,null,"Jilemnice 03.06.22",674.5,null,0,0,0]
["10.",{"$f":"B110","v":"HOBLOVÁ"},"Barbora","6.B",95,null,"Jilemnice 03.06.22",609.5,null,0,0,0]
["11.",{"$f":"B111","v":"HORÁČKOVÁ"},"Valérie","6.B",100,null,"Jilemnice 03.06.22",642,null,0,0,0]
["12.",{"$f":"B112","v":"JIRANOVÁ"},"Anežka","6.B",80,null,"Jilemnice  13.05.22",512,null,0,0,0]
["13.",{"$f":"B113","v":"JODASOVÁ"},"Denisa","6.B",0,null,0,0,null,0,0,0]
["14.",{"$f":"B114","v":"KRČÍKOVÁ"},"Beatrix","6.B",110,null,"Jilemnice  13.05.22",707,null,0,0,0]
["15.",{"$f":"B115","v":"KUBÁTOVÁ"},"Veronika","6.B",0,null,0,0,null,0,0,0]
["16.",{"$f":"B116","v":"LENČEŠOVÁ"},"Silvie","6.B",85,null,"Jilemnice  13.05.22",544.5,null,0,0,0]
["17.",{"$f":"B117","v":"MATERNOVÁ"},"Lenka","6.B",110,null,"Jilemnice 03.06.22",707,null,0,0,0]
["18.",{"$f":"B118","v":"TÓTHOVÁ"},"Viktorie","6.B",100,null,"Jilemnice 03.06.22",642,null,0,0,0]
["19.",{"$f":"B119","v":"ERBENOVÁ"},"Sára","7.A",0,null,0,0,null,0,0,0]
["20.",{"$f":"B120","v":"GINGALOVÁ"},"Linda","7.A",115,null,"Jilemnice  17.05.22",739.5,null,0,0,0]
["21.",{"$f":"B121","v":"HOFMANOVÁ "},"Nicol","7.A",0,null,0,0,null,0,0,0]
["22.",{"$f":"B122","v":"HOLEŠOVSKÁ"},"Aneta","7.A",0,null,0,0,null,0,0,0]
["23.",{"$f":"B123","v":"HOLUBCOVÁ"},"Alena","7.A",115,null,"Jilemnice  17.05.22",739.5,null,0,0,0]
["24.",{"$f":"B124","v":"KOHOUTOVÁ"},"Anna","7.A",105,null,"Jilemnice 03.06.22",674.5,null,0,0,0]
["25.",{"$f":"B125","v":"KRAUSOVÁ"},"Anežka","7.A",105,null,"Jilemnice 03.06.22",674.5,null,0,0,0]
["26.",{"$f":"B126","v":"KUŽELOVÁ"},"Apoléna","7.A",105,null,0,674.5,null,0,0,0]
["27.",{"$f":"B127","v":"MORÁVKOVÁ"},"Lucie","7.A",0,null,0,0,null,0,0,0]
["28.",{"$f":"B128","v":"SKLENÁROVÁ"},"Eliška","7.A",105,null,"Jilemnice 03.06.22",674.5,null,0,0,0]
["29.",{"$f":"B129","v":"ŠEJNOVÁ"},"Karolína","7.A",100,null,"Jilemnice 03.06.22",642,null,0,0,0]
["30.",{"$f":"B130","v":"ŠTOLFOVÁ"},"Tereza","7.A",110,null,"Jilemnice 03.06.22",707,null,0,0,0]
["31.",{"$f":"B131","v":"ŠUBÍKOVÁ"},"Klára","7.A",115,null,"Jilemnice 03.06.22",739.5,null,0,0,0]
["32.",{"$f":"B132","v":"ŠULKOVSKÁ"},"Klára","7.A",0,null,0,0,null,0,0,0]
["33.",{"$f":"B133","v":"TULÁČKOVÁ"},"Natálie","7.A",0,null,0,0,null,0,0,0]
["34.",{"$f":"B134","v":"VOJTÍŠKOVÁ"},"Ella","7.A",128,null,"Jilemnice  17.05.22",824,null,0,0,0]
["35.",{"$f":"B135","v":"DRUGÁČOVÁ"},"Kristinka","7.B",0,null,0,0,null,0,0,0]
["36.",{"$f":"B136","v":"FAJSTAVROVÁ"},"Karolína","7.B",0,null,0,0,null,0,0,0]
["37.",{"$f":"B137","v":"FAJSTAVROVÁ"},"Magdaléna","7.B",0,null,0,0,null,0,0,0]
["38.",{"$f":"B138","v":"HLAVATÁ"},"Anna","7.B",0,null,0,0,null,0,0,0]
["39.",{"$f":"B139","v":"JINDROVÁ"},"Barbora","7.B",0,null,0,0,null,0,0,0]
["40.",{"$f":"B140","v":"MAŘASOVÁ"},"Vendula","7.B",85,null,0,544.5,null,0,0,0]
["41.",{"$f":"B141","v":"PETŘÍČKOVÁ"},"Natálie","7.B",105,null,0,674.5,null,0,0,0]
["42.",{"$f":"B142","v":"PETŘÍKOVÁ"},"Adéla","7.B",0,null,0,0,null,0,0,0]
["43.",{"$f":"B143","v":"REGÁLOVÁ"},"Karolína","7.B",105,null,0,674.5,null,0,0,0]
["44.",{"$f":"B144","v":"RIEGROVÁ"},"Magdaléna","7.B",0,null,0,0,null,0,0,0]
["45.",{"$f":"B145","v":"RYBENSKÁ"},"Sabina","7.B",0,null,0,0,null,0,0,0]
["46.",{"$f":"B146","v":"STEINEROVÁ"},"Barbora","7.B",105,null,0,674.5,null,0,0,0]
["47.",{"$f":"B147","v":"TOMEŠOVÁ"},"Barbora","7.B",0,null,0,0,null,0,0,0]
["48.",{"$f":"B148","v":"VOHNOUTOVÁ"},"Aneta","7.B",105,null,0,674.5,null,0,0,0]
["49.",{"$f":"B149","v":"HAVLÍKOVÁ"},"Michaela","8.A",100,null,"Jilemnice  17.05.22",642,null,0,0,0]
["50.",{"$f":"B150","v":"HOLUBCOVÁ"},"Sára","8.A",115,null,"Jilemnice 15.06.22",739.5,null,0,0,0]
["51.",{"$f":"B151","v":"HONCŮ"},"Tereza","8.A",110,null,"Jilemnice 15.06.22",707,null,0,0,0]
["52.",{"$f":"B152","v":"HORÁČKOVÁ"},"Kateřina","8.A",120,null,"Jilemnice 15.06.22",772,null,0,0,0]
["53.",{"$f":"B153","v":"JOUDALOVÁ"},"Daniela","8.A",0,null,0,0,null,0,0,0]
["54.",{"$f":"B154","v":"KLÍMOVÁ"},"Anna","8.A",110,null,"Jilemnice 15.06.22",707,null,0,0,0]
["55.",{"$f":"B155","v":"KOHOUTOVÁ"},"Veronika","8.A",110,null,"Jilemnice 15.06.22",707,null,0,0,0]
["56.",{"$f":"B156","v":"KOVÁŘOVÁ"},"Viktorie","8.A",120,null,"Jilemnice  17.05.22",772,null,0,0,0]
["57.",{"$f":"B157","v":"KYNČLOVÁ"},"Anna","8.A",110,null,"Jilemnice 15.06.22",707,null,0,0,0]
["58.",{"$f":"B158","v":"MATOUŠOVÁ"},"Tereza","8.A",125,null,"Jilemnice  17.05.22",804.5,null,0,0,0]
["59.",{"$f":"B159","v":"MAZÁNKOVÁ"},"Zuzana","8.A",0,null,0,0,null,0,0,0]
["60.",{"$f":"B160","v":"MORKESOVÁ"},"Sabrina","8.A",125,null,"Jilemnice 15.06.22",804.5,null,0,0,0]
["61.",{"$f":"B161","v":"POHOŘALÁ"},"Alžběta","8.A",115,null,"Jilemnice 15.06.22",739.5,null,0,0,0]
["62.",{"$f":"B162","v":"SCHOLZOVÁ"},"Laura","8.A",0,null,0,0,null,0,0,0]
["63.",{"$f":"B163","v":"VÁCLAVÍKOVÁ"},"Valerie","8.A",115,null,"Jilemnice 15.06.22",739.5,null,0,0,0]
["64.",{"$f":"B164","v":"ZAPADLOVÁ"},"Emma","8.A",120,null,"Jilemnice 15.06.22",772,null,0,0,0]
["65.",{"$f":"B165","v":"ŽIŠKOVÁ"},"Mia","8.A",0,null,0,0,null,0,0,0]
["66.",{"$f":"B166","v":"FARSKÁ"},"Tereza","8.B",0,null,0,0,null,0,0,0]
["67.",{"$f":"B167","v":"FEIXOVÁ"},"Rozálie","8.B",0,null,0,0,null,0,0,0]
["68.",{"$f":"B168","v":"FIŠEROVÁ"},"Michaela","8.B",0,null,0,0,null,89,0,0]
["69.",{"$f":"B169","v":"HAVLÍČKOVÁ"},"Kristýna","8.B",0,null,0,0,null,0,0,0]
["70.",{"$f":"B170","v":"JODASOVÁ"},"Nikola","8.B",0,null,0,0,null,0,0,0]
["71.",{"$f":"B171","v":"KADAVÁ"},"Nikola","8.B",0,null,0,0,null,0,0,0]
["72.",{"$f":"B172","v":"KRAFKOVÁ"},"Lucie","8.B",0,null,0,0,null,0,0,0]
["73.",{"$f":"B173","v":"KŘIVINKOVÁ"},"Alžběta","8.B",0,null,0,0,null,0,0,0]
["74.",{"$f":"B174","v":"LEŠÁKOVÁ"},"Lenka","8.B",0,null,0,0,null,0,0,0]
["75.",{"$f":"B175","v":"NYKLÍČKOVÁ"},"Adéla","8.B",118,null,"Turnov   10.05.22",759,null,104,0,0]
["76.",{"$f":"B176","v":"PLŮCHOVÁ"},"Petra","8.B",0,null,0,0,null,104,0,0]
["77.",{"$f":"B177","v":"PODZIMKOVÁ"},"Eliška","8.B",0,null,0,0,null,93,0,0]
["78.",{"$f":"B178","v":"RUTKAYOVÁ"},"Klára","8.B",0,null,0,0,null,0,0,0]
["79.",{"$f":"B179","v":"SEIDLOVÁ"},"Zuzana","8.B",0,null,0,0,null,99,0,0]
["80.",{"$f":"B180","v":"TOMÁŠOVÁ"},"Sára","8.B",0,null,0,0,null,0,0,0]
["81.",{"$f":"B181","v":"VANCLOVÁ"},"Barbora","8.B",0,null,0,0,null,99,0,0]
["82.",{"$f":"B182","v":"VOTOČKOVÁ"},"Veronika","8.B",0,null,0,0,null,0,0,0]
["83.",{"$f":"B183","v":"HARTIGOVÁ"},"Anna","9.A",125,null,"Jilemnice 15.06.22",804.5,null,0,0,0]
["84.",{"$f":"B184","v":"HONCŮ"},"Rozálie","9.A",120,null,"Jilemnice 15.06.22",772,null,0,110,0]
["85.",{"$f":"B185","v":"CHALOUPSKÁ"},"Lucie","9.A",0,null,0,0,null,0,0,0]
["86.",{"$f":"B186","v":"KŘÍŽKOVÁ"},"Anna","9.A",110,null,"Jilemnice 15.06.22",707,null,0,0,0]
["87.",{"$f":"B187","v":"LUKEŠOVÁ"},"Kristýna","9.A",100,null,"Jilemnice 15.06.22",642,null,0,0,0]
["88.",{"$f":"B188","v":"MOTLÍKOVÁ"},"Eliška","9.A",0,null,0,0,null,0,0,0]
["89.",{"$f":"B189","v":"POHOŘELÁ"},"Amálie","9.A",0,null,0,0,null,0,0,0]
["90.",{"$f":"B190","v":"POLÁČKOVÁ"},"Natálie","9.A",0,null,0,0,null,0,0,0]
["91.",{"$f":"B191","v":"ŘEHOŘKOVÁ"},"Lucie","9.A",110,null,"Jilemnice 15.06.22",707,null,0,0,0]
["92.",{"$f":"B192","v":"SKÁLOVÁ"},"Alena","9.A",100,null,{"$f":"G192","v":"Jilemnice 15.06.22"},642,null,{"$f":"J192","v":0},0,0]
["93.",{"$f":"B193","v":"VÁVROVÁ "},"Aneta","9.A",120,null,{"$f":"G193","v":"Jilemnice 15.06.22"},772,null,{"$f":"J193","v":0},0,0]
["94.",{"$f":"B194","v":"ZELINKOVÁ"},"Klára","9.A",115,null,{"$f":"G194","v":"Jilemnice 15.06.22"},739.5,null,{"$f":"J194","v":0},105,0]
[]
[]
[null,"HEJRALOVÁ","Natálie","6.A",115,null,"Jilemnice  13.05.22",{"$f":"IF(E101=0,0,(IF(E101>0,E101*5*1.3-8)))","v":739.5}]
[null,"KERLE","Nikita","6.A",115,null,"Jilemnice 03.06.22",739.5]
[null,"PACLÍKOVÁ","Markéta","6.A",120,null,"Jilemnice  17.05.22",772]
[null,"PLŮCHOVÁ","Michaela","6.A",110,null,"Jilemnice  13.05.22",707]
[null,"ŠERCLOVÁ","Nikola","6.A",null,null,null,0]
[null,"VÁCLAVÍKOVÁ","Alena","6.A",95,null,"Jilemnice  13.05.22",609.5]
[null,"DUCHÁČKOVÁ","Tereza","6.B",85,null,"Jilemnice  13.05.22",544.5]
[null,"FLAŠKOVÁ","Anna Sabriel","6.B",105,null,"Jilemnice  13.05.22",674.5]
[null,"HAASOVÁ","Julie","6.B",105,null,"Jilemnice 03.06.22",674.5]
[null,"HOBLOVÁ","Barbora","6.B",95,null,"Jilemnice 03.06.22",609.5]
[null,"HORÁČKOVÁ","Valérie","6.B",100,null,"Jilemnice 03.06.22",642]
[null,"JIRANOVÁ","Anežka","6.B",80,null,"Jilemnice  13.05.22",512]
[null,"JODASOVÁ","Denisa","6.B",null,null,null,0]
[null,"KRČÍKOVÁ","Beatrix","6.B",110,null,"Jilemnice  13.05.22",707]
[null,"KUBÁTOVÁ","Veronika","6.B",null,null,null,0]
[null,"LENČEŠOVÁ","Silvie","6.B",85,null,"Jilemnice  13.05.22",544.5]
[null,"MATERNOVÁ","Lenka","6.B",110,null,"Jilemnice 03.06.22",707]
[null,"TÓTHOVÁ","Viktorie","6.B",100,null,"Jilemnice 03.06.22",642]
[null,"ERBENOVÁ","Sára","7.A",null,null,null,0]
[null,"GINGALOVÁ","Linda","7.A",115,null,"Jilemnice  17.05.22",739.5]
[null,"HOFMANOVÁ ","Nicol","7.A",null,null,null,0]
[null,"HOLEŠOVSKÁ","Aneta","7.A",null,null,null,0]
[null,"HOLUBCOVÁ","Alena","7.A",115,null,"Jilemnice  17.05.22",739.5]
[null,"KOHOUTOVÁ","Anna","7.A",105,null,"Jilemnice 03.06.22",674.5]
[null,"KRAUSOVÁ","Anežka","7.A",105,null,"Jilemnice 03.06.22",674.5]
[null,"KUŽELOVÁ","Apoléna","7.A",105,null,null,674.5]
[null,"MORÁVKOVÁ","Lucie","7.A",null,null,null,0]
[null,"SKLENÁROVÁ","Eliška","7.A",105,null,"Jilemnice 03.06.22",674.5]
[null,"ŠEJNOVÁ","Karolína","7.A",100,null,"Jilemnice 03.06.22",642]
[null,"ŠTOLFOVÁ","Tereza","7.A",110,null,"Jilemnice 03.06.22",707]
[null,"ŠUBÍKOVÁ","Klára","7.A",115,null,"Jilemnice 03.06.22",739.5]
[null,"ŠULKOVSKÁ","Klára","7.A",null,null,null,0]
[null,"TULÁČKOVÁ","Natálie","7.A",null,null,null,{"$f":"IF(E133=0,0,(IF(E133>0,E133*5*1.3-8)))","v":0}]
[null,"VOJTÍŠKOVÁ","Ella","7.A",128,null,"Jilemnice  17.05.22",824]
[null,"DRUGÁČOVÁ","Kristinka","7.B",null,null,null,0]
[null,"FAJSTAVROVÁ","Karolína","7.B",null,null,null,0]
[null,"FAJSTAVROVÁ","Magdaléna","7.B",null,null,null,0]
[null,"HLAVATÁ","Anna","7.B",null,null,null,0]
[null,"JINDROVÁ","Barbora","7.B",null,null,null,0]
[null,"MAŘASOVÁ","Vendula","7.B",85,null,null,544.5]
[null,"PETŘÍČKOVÁ","Natálie","7.B",105,null,null,674.5]
[null,"PETŘÍKOVÁ","Adéla","7.B",null,null,null,0]
[null,"REGÁLOVÁ","Karolína","7.B",105,null,null,674.5]
[null,"RIEGROVÁ","Magdaléna","7.B",null,null,null,0]
[null,"RYBENSKÁ","Sabina","7.B",null,null,null,0]
[null,"STEINEROVÁ","Barbora","7.B",105,null,null,674.5]
[null,"TOMEŠOVÁ","Barbora","7.B",null,null,null,0]
[null,"VOHNOUTOVÁ","Aneta","7.B",105,null,null,674.5]
[null,"HAVLÍKOVÁ","Michaela","8.A",100,null,"Jilemnice  17.05.22",642]
[null,"HOLUBCOVÁ","Sára","8.A",115,null,"Jilemnice 15.06.22",739.5]
[null,"HONCŮ","Tereza","8.A",110,null,"Jilemnice 15.06.22",707]
[null,"HORÁČKOVÁ","Kateřina","8.A",120,null,"Jilemnice 15.06.22",772]
[null,"JOUDALOVÁ","Daniela","8.A",null,null,null,0]
[null,"KLÍMOVÁ","Anna","8.A",110,null,"Jilemnice 15.06.22",707]
[null,"KOHOUTOVÁ","Veronika","8.A",110,null,"Jilemnice 15.06.22",707]
[null,"KOVÁŘOVÁ","Viktorie","8.A",120,null,"Jilemnice  17.05.22",772]
[null,"KYNČLOVÁ","Anna","8.A",110,null,"Jilemnice 15.06.22",707]
[null,"MATOUŠOVÁ","Tereza","8.A",125,null,"Jilemnice  17.05.22",804.5]
[null,"MAZÁNKOVÁ","Zuzana","8.A",null,null,null,0]
[null,"MORKESOVÁ","Sabrina","8.A",125,null,"Jilemnice 15.06.22",804.5]
[null,"POHOŘALÁ","Alžběta","8.A",115,null,"Jilemnice 15.06.22",739.5]
[null,"SCHOLZOVÁ","Laura","8.A",null,null,null,0]
[null,"VÁCLAVÍKOVÁ","Valerie","8.A",115,null,"Jilemnice 15.06.22",739.5]
[null,"ZAPADLOVÁ","Emma","8.A",120,null,"Jilemnice 15.06.22",772]
[null,"ŽIŠKOVÁ","Mia","8.A",null,null,null,{"$f":"IF(E165=0,0,(IF(E165>0,E165*5*1.3-8)))","v":0}]
[null,"FARSKÁ","Tereza","8.B",null,null,null,0]
[null,"FEIXOVÁ","Rozálie","8.B",null,null,null,0]
[null,"FIŠEROVÁ","Michaela","8.B",null,null,null,0,null,89]
[null,"HAVLÍČKOVÁ","Kristýna","8.B",null,null,null,0]
[null,"JODASOVÁ","Nikola","8.B",null,null,null,0]
[null,"KADAVÁ","Nikola","8.B",null,null,null,0]
[null,"KRAFKOVÁ","Lucie","8.B",null,null,null,0]
[null,"KŘIVINKOVÁ","Alžběta","8.B",null,null,null,0]
[null,"LEŠÁKOVÁ","Lenka","8.B",null,null,null,0]
[null,"NYKLÍČKOVÁ","Adéla","8.B",118,null,"Turnov   10.05.22",759,null,104]
[null,"PLŮCHOVÁ","Petra","8.B",null,null,null,0,null,104]
[null,"PODZIMKOVÁ","Eliška","8.B",null,null,null,0,null,93]
[null,"RUTKAYOVÁ","Klára","8.B",null,null,null,0]
[null,"SEIDLOVÁ","Zuzana","8.B",null,null,null,0,null,99]
[null,"TOMÁŠOVÁ","Sára","8.B",null,null,null,0]
[null,"VANCLOVÁ","Barbora","8.B",null,null,null,0,null,99]
[null,"VOTOČKOVÁ","Veronika","8.B",null,null,null,0]
[null,"HARTIGOVÁ","Anna","9.A",125,null,"Jilemnice 15.06.22",804.5]
[null,"HONCŮ","Rozálie","9.A",120,null,"Jilemnice 15.06.22",772,null,null,110]
[null,"CHALOUPSKÁ","Lucie","9.A",null,null,null,0]
[null,"KŘÍŽKOVÁ","Anna","9.A",110,null,"Jilemnice 15.06.22",707]
[null,"LUKEŠOVÁ","Kristýna","9.A",100,null,"Jilemnice 15.06.22",642]
[null,"MOTLÍKOVÁ","Eliška","9.A",null,null,null,0]
[null,"POHOŘELÁ","Amálie","9.A",null,null,null,0]
[null,"POLÁČKOVÁ","Natálie","9.A",null,null,null,0]
[null,"ŘEHOŘKOVÁ","Lucie","9.A",110,null,"Jilemnice 15.06.22",707]
[null,"SKÁLOVÁ","Alena","9.A",100,null,"Jilemnice 15.06.22",642]
[null,"VÁVROVÁ ","Aneta","9.A",120,null,"Jilemnice 15.06.22",772]
[null,"ZELINKOVÁ","Klára","9.A",115,null,"Jilemnice 15.06.22",739.5,null,null,105]

{"sheet":"Dmíč","index":12,"n_rows":194,"n_cols":12,"rows_kept":194,"cut":false,"hidden":false,"merged":[]}
[null,null,"VÝKONY  2020 - 2021",null,null,null,"MÍČEK","DĚVČATA  6. -  9.  ROČ."]
[null,null,null,null,null,null,null,null,null,null,"stav  k ",{"$f":"TODAY()","v":44740}]
[null,null,null,null,null,null,null,"   BODY",null,"   20 - 21   ","   19 - 20   ","   18 - 19   "]
[]
["1.",{"$f":"B101","v":"HEJRALOVÁ"},{"$f":"C101","v":"Natálie"},"6.A",23,null,"Jilemnice  25.03.22",421.6,null,0,0,0]
["2.",{"$f":"B102","v":"KERLE"},"Nikita","6.A",20.5,null,"Jilemnice  25.03.22",376.1,null,0,0,0]
["3.",{"$f":"B103","v":"PACLÍKOVÁ"},"Markéta","6.A",27,null,"Jilemnice  25.03.22",494.40000000000003,null,0,0,0]
["4.",{"$f":"B104","v":"PLŮCHOVÁ"},"Michaela","6.A",19,null,"Jilemnice  25.03.22",348.8,null,0,0,0]
["5.",{"$f":"B105","v":"ŠERCLOVÁ"},"Nikola","6.A",0,null,0,0,null,0,0,0]
["6.",{"$f":"B106","v":"VÁCLAVÍKOVÁ"},"Alena","6.A",0,null,0,0,null,0,0,0]
["7.",{"$f":"B107","v":"DUCHÁČKOVÁ"},"Tereza","6.B",12.5,null,"Jilemnice  14.09.21",230.5,null,0,0,0]
["8.",{"$f":"B108","v":"FLAŠKOVÁ"},"Anna Sabriel","6.B",23,null,"Jilemnice  25.03.22",421.6,null,0,0,0]
["9.",{"$f":"B109","v":"HAASOVÁ"},"Julie","6.B",23,null,"Jilemnice  25.03.22",421.6,null,0,0,0]
["10.",{"$f":"B110","v":"HOBLOVÁ"},"Barbora","6.B",20.5,null,"Jilemnice  25.03.22",376.1,null,0,0,0]
["11.",{"$f":"B111","v":"HORÁČKOVÁ"},"Valérie","6.B",20,null,"Jilemnice  25.03.22",367,null,0,0,0]
["12.",{"$f":"B112","v":"JIRANOVÁ"},"Anežka","6.B",17.5,null,"Jilemnice  25.03.22",321.5,null,0,0,0]
["13.",{"$f":"B113","v":"JODASOVÁ"},"Denisa","6.B",33,null,"Jilemnice  25.03.22",603.6,null,0,0,0]
["14.",{"$f":"B114","v":"KRČÍKOVÁ"},"Beatrix","6.B",23.5,null,"Jilemnice  25.03.22",430.7,null,0,0,0]
["15.",{"$f":"B115","v":"KUBÁTOVÁ"},"Veronika","6.B",7,null,"Jilemnice  14.09.21",130.4,null,0,0,0]
["16.",{"$f":"B116","v":"LENČEŠOVÁ"},"Silvie","6.B",21,null,"Jilemnice  25.03.22",385.2,null,0,0,0]
["17.",{"$f":"B117","v":"MATERNOVÁ"},"Lenka","6.B",15.5,null,"Jilemnice  14.09.21",285.10000000000002,null,0,0,0]
["18.",{"$f":"B118","v":"TÓTHOVÁ"},"Viktorie","6.B",22,null,"Jilemnice  25.03.22",403.40000000000003,null,0,0,0]
["19.",{"$f":"B119","v":"ERBENOVÁ"},"Sára","7.A",14.5,null,"Jilemnice  13.09.21",266.90000000000003,null,17.5,0,0]
["20.",{"$f":"B120","v":"GINGALOVÁ"},"Linda","7.A",24,null,"Jilemnice  30.10.21",439.8,null,0,0,0]
["21.",{"$f":"B121","v":"HOFMANOVÁ "},"Nicol","7.A",21.5,null,0,394.3,null,15.5,0,0]
["22.",{"$f":"B122","v":"HOLEŠOVSKÁ"},"Aneta","7.A",27.1,null,"Jilemnice  30.10.21",496.22,null,22.6,0,0]
["23.",{"$f":"B123","v":"HOLUBCOVÁ"},"Alena","7.A",38.56,null,"Turnov   10.05.22",704.79200000000003,null,29,0,0]
["24.",{"$f":"B124","v":"KOHOUTOVÁ"},"Anna","7.A",16,null,"Jilemnice  13.09.21",294.2,null,13,0,0]
["25.",{"$f":"B125","v":"KRAUSOVÁ"},"Anežka","7.A",17.5,null,0,321.5,null,0,0,0]
["26.",{"$f":"B126","v":"KUŽELOVÁ"},"Apoléna","7.A",22,null,0,403.40000000000003,null,18.399999999999999,0,0]
["27.",{"$f":"B127","v":"MORÁVKOVÁ"},"Lucie","7.A",18,null,"Jilemnice  30.10.21",330.6,null,20.9,0,0]
["28.",{"$f":"B128","v":"SKLENÁROVÁ"},"Eliška","7.A",0,null,0,0,null,0,0,0]
["29.",{"$f":"B129","v":"ŠEJNOVÁ"},"Karolína","7.A",16,null,0,294.2,null,0,0,0]
["30.",{"$f":"B130","v":"ŠTOLFOVÁ"},"Tereza","7.A",14.5,null,0,266.90000000000003,null,14,0,0]
["31.",{"$f":"B131","v":"ŠUBÍKOVÁ"},"Klára","7.A",22,null,0,403.40000000000003,null,13,0,0]
["32.",{"$f":"B132","v":"ŠULKOVSKÁ"},"Klára","7.A",21,null,0,385.2,null,0,0,0]
["33.",{"$f":"B133","v":"TULÁČKOVÁ"},"Natálie","7.A",20,null,"Jilemnice  30.10.21",367,null,17.8,0,0]
["34.",{"$f":"B134","v":"VOJTÍŠKOVÁ"},"Ella","7.A",0,null,0,0,null,24.6,0,0]
["35.",{"$f":"B135","v":"DRUGÁČOVÁ"},"Kristinka","7.B",0,null,0,0,null,16.5,0,0]
["36.",{"$f":"B136","v":"FAJSTAVROVÁ"},"Karolína","7.B",30.5,null,"Jilemnice  30.10.21",558.1,null,22.4,0,0]
["37.",{"$f":"B137","v":"FAJSTAVROVÁ"},"Magdaléna","7.B",28.5,null,"Jilemnice  30.10.21",521.70000000000005,null,29,0,0]
["38.",{"$f":"B138","v":"HLAVATÁ"},"Anna","7.B",0,null,0,0,null,0,0,0]
["39.",{"$f":"B139","v":"JINDROVÁ"},"Barbora","7.B",16,null,"Jilemnice  30.10.21",294.2,null,12,0,0]
["40.",{"$f":"B140","v":"MAŘASOVÁ"},"Vendula","7.B",17.5,null,"Jilemnice  30.10.21",321.5,null,13,0,0]
["41.",{"$f":"B141","v":"PETŘÍČKOVÁ"},"Natálie","7.B",23.5,null,0,430.7,null,21.8,0,0]
["42.",{"$f":"B142","v":"PETŘÍKOVÁ"},"Adéla","7.B",16,null,0,294.2,null,11,0,0]
["43.",{"$f":"B143","v":"REGÁLOVÁ"},"Karolína","7.B",29,null,"Jilemnice  30.10.21",530.80000000000007,null,23.2,0,0]
["44.",{"$f":"B144","v":"RIEGROVÁ"},"Magdaléna","7.B",20,null,0,367,null,15.5,0,0]
["45.",{"$f":"B145","v":"RYBENSKÁ"},"Sabina","7.B",15.2,null,"Jilemnice  30.10.21",279.64,null,12.6,0,0]
["46.",{"$f":"B146","v":"STEINEROVÁ"},"Barbora","7.B",33.36,null,"Turnov   10.05.22",610.15200000000004,null,24.4,0,0]
["47.",{"$f":"B147","v":"TOMEŠOVÁ"},"Barbora","7.B",24,null,"Jilemnice  30.10.21",439.8,null,16.2,0,0]
["48.",{"$f":"B148","v":"VOHNOUTOVÁ"},"Aneta","7.B",35.020000000000003,null,"Turnov   10.05.22",640.36400000000015,null,29,0,0]
["49.",{"$f":"B149","v":"HAVLÍKOVÁ"},"Michaela","8.A",16,null,"Jilemnice  28.03.22",294.2,null,0,10.5,0]
["50.",{"$f":"B150","v":"HOLUBCOVÁ"},"Sára","8.A",26,null,"Jilemnice  20.09.21",476.2,null,25,0,0]
["51.",{"$f":"B151","v":"HONCŮ"},"Tereza","8.A",25,null,"Jilemnice  28.03.22",458,null,22,18.5,0]
["52.",{"$f":"B152","v":"HORÁČKOVÁ"},"Kateřina","8.A",27,null,"Jilemnice  28.03.22",494.40000000000003,null,22,21,0]
["53.",{"$f":"B153","v":"JOUDALOVÁ"},"Daniela","8.A",0,null,0,0,null,0,10,0]
["54.",{"$f":"B154","v":"KLÍMOVÁ"},"Anna","8.A",25,null,"Jilemnice  28.03.22",458,null,0,17.5,0]
["55.",{"$f":"B155","v":"KOHOUTOVÁ"},"Veronika","8.A",28,null,"Jilemnice  20.09.21",512.6,null,29.5,24,0]
["56.",{"$f":"B156","v":"KOVÁŘOVÁ"},"Viktorie","8.A",24.5,null,"Jilemnice  28.03.22",448.90000000000003,null,19.5,17.5,0]
["57.",{"$f":"B157","v":"KYNČLOVÁ"},"Anna","8.A",28,null,"Jilemnice  28.03.22",512.6,null,27.5,21,0]
["58.",{"$f":"B158","v":"MATOUŠOVÁ"},"Tereza","8.A",23,null,"Jilemnice  28.03.22",421.6,null,20.5,17.5,0]
["59.",{"$f":"B159","v":"MAZÁNKOVÁ"},"Zuzana","8.A",15.5,null,"Jilemnice  28.03.22",285.10000000000002,null,19,14.5,0]
["60.",{"$f":"B160","v":"MORKESOVÁ"},"Sabrina","8.A",40,null,"Jilemnice  20.09.21",731,null,42,36.5,0]
["61.",{"$f":"B161","v":"POHOŘALÁ"},"Alžběta","8.A",24,null,"Jilemnice  20.09.21",439.8,null,22.5,15.5,0]
["62.",{"$f":"B162","v":"SCHOLZOVÁ"},"Laura","8.A",0,null,0,0,null,0,0,0]
["63.",{"$f":"B163","v":"VÁCLAVÍKOVÁ"},"Valerie","8.A",29,null,"Jilemnice  20.09.21",530.80000000000007,null,26.5,25.5,0]
["64.",{"$f":"B164","v":"ZAPADLOVÁ"},"Emma","8.A",37.5,null,"Jilemnice  28.03.22",685.5,null,33.5,27.5,0]
["65.",{"$f":"B165","v":"ŽIŠKOVÁ"},"Mia","8.A",24,null,"Jilemnice  28.03.22",439.8,null,22.5,0,0]
["66.",{"$f":"B166","v":"FARSKÁ"},"Tereza","8.B",19,null,0,348.8,null,0,0,0]
["67.",{"$f":"B167","v":"FEIXOVÁ"},"Rozálie","8.B",13.5,null,0,248.70000000000002,null,0,0,0]
["68.",{"$f":"B168","v":"FIŠEROVÁ"},"Michaela","8.B",19.5,null,0,357.90000000000003,null,0,0,0]
["69.",{"$f":"B169","v":"HAVLÍČKOVÁ"},"Kristýna","8.B",16,null,0,294.2,null,0,0,0]
["70.",{"$f":"B170","v":"JODASOVÁ"},"Nikola","8.B",0,null,0,0,null,0,24,0]
["71.",{"$f":"B171","v":"KADAVÁ"},"Nikola","8.B",15,null,0,276,null,0,0,0]
["72.",{"$f":"B172","v":"KRAFKOVÁ"},"Lucie","8.B",0,null,0,0,null,0,0,0]
["73.",{"$f":"B173","v":"KŘIVINKOVÁ"},"Alžběta","8.B",24,null,0,439.8,null,0,0,0]
["74.",{"$f":"B174","v":"LEŠÁKOVÁ"},"Lenka","8.B",15,null,0,276,null,0,0,0]
["75.",{"$f":"B175","v":"NYKLÍČKOVÁ"},"Adéla","8.B",23.5,null,0,430.7,null,0,0,0]
["76.",{"$f":"B176","v":"PLŮCHOVÁ"},"Petra","8.B",24,null,0,439.8,null,0,0,0]
["77.",{"$f":"B177","v":"PODZIMKOVÁ"},"Eliška","8.B",26,null,0,476.2,null,0,0,0]
["78.",{"$f":"B178","v":"RUTKAYOVÁ"},"Klára","8.B",15,null,0,276,null,0,0,0]
["79.",{"$f":"B179","v":"SEIDLOVÁ"},"Zuzana","8.B",28.8,null,0,527.16,null,0,0,0]
["80.",{"$f":"B180","v":"TOMÁŠOVÁ"},"Sára","8.B",18.5,null,0,339.7,null,0,0,0]
["81.",{"$f":"B181","v":"VANCLOVÁ"},"Barbora","8.B",0,null,0,0,null,0,0,0]
["82.",{"$f":"B182","v":"VOTOČKOVÁ"},"Veronika","8.B",16,null,0,294.2,null,0,0,0]
["83.",{"$f":"B183","v":"HARTIGOVÁ"},"Anna","9.A",24.5,null,"Jilemnice  28.03.22",448.90000000000003,null,25,0,20.5]
["84.",{"$f":"B184","v":"HONCŮ"},"Rozálie","9.A",28,null,"Jilemnice  28.03.22",512.6,null,27,21.5,20]
["85.",{"$f":"B185","v":"CHALOUPSKÁ"},"Lucie","9.A",28,null,"Jilemnice  20.09.21",512.6,null,29,0,22]
["86.",{"$f":"B186","v":"KŘÍŽKOVÁ"},"Anna","9.A",24,null,"Jilemnice  28.03.22",439.8,null,25,0,17]
["87.",{"$f":"B187","v":"LUKEŠOVÁ"},"Kristýna","9.A",20,null,"Jilemnice  28.03.22",367,null,22.5,0,16.5]
["88.",{"$f":"B188","v":"MOTLÍKOVÁ"},"Eliška","9.A",23,null,"Jilemnice  28.03.22",421.6,null,25,0,17]
["89.",{"$f":"B189","v":"POHOŘELÁ"},"Amálie","9.A",18,null,"Jilemnice  28.03.22",330.6,null,0,0,14.5]
["90.",{"$f":"B190","v":"POLÁČKOVÁ"},"Natálie","9.A",20,null,"Jilemnice  28.03.22",367,null,24,0,18.5]
["91.",{"$f":"B191","v":"ŘEHOŘKOVÁ"},"Lucie","9.A",25.5,null,"Jilemnice  20.09.21",467.1,null,30.5,0,29]
["92.",{"$f":"B192","v":"SKÁLOVÁ"},"Alena","9.A",19.5,null,{"$f":"G192","v":"Jilemnice  28.03.22"},357.90000000000003,null,{"$f":"J192","v":20},0,14]
["93.",{"$f":"B193","v":"VÁVROVÁ "},"Aneta","9.A",23.5,null,{"$f":"G193","v":"Jilemnice  20.09.21"},430.7,null,{"$f":"J193","v":24},0,19.5]
["94.",{"$f":"B194","v":"ZELINKOVÁ"},"Klára","9.A",27.5,null,{"$f":"G194","v":"Jilemnice  28.03.22"},503.5,null,{"$f":"J194","v":27},22,20]
[]
[]
[null,"HEJRALOVÁ","Natálie","6.A",23,null,"Jilemnice  25.03.22",{"$f":"IF(E101=0,0,IF(E101>0,E101*10*1.82+3))","v":421.6}]
[null,"KERLE","Nikita","6.A",20.5,null,"Jilemnice  25.03.22",376.1]
[null,"PACLÍKOVÁ","Markéta","6.A",27,null,"Jilemnice  25.03.22",494.40000000000003]
[null,"PLŮCHOVÁ","Michaela","6.A",19,null,"Jilemnice  25.03.22",348.8]
[null,"ŠERCLOVÁ","Nikola","6.A",null,null,null,0]
[null,"VÁCLAVÍKOVÁ","Alena","6.A",null,null,null,0]
[null,"DUCHÁČKOVÁ","Tereza","6.B",12.5,null,"Jilemnice  14.09.21",230.5]
[null,"FLAŠKOVÁ","Anna Sabriel","6.B",23,null,"Jilemnice  25.03.22",421.6]
[null,"HAASOVÁ","Julie","6.B",23,null,"Jilemnice  25.03.22",421.6]
[null,"HOBLOVÁ","Barbora","6.B",20.5,null,"Jilemnice  25.03.22",376.1]
[null,"HORÁČKOVÁ","Valérie","6.B",20,null,"Jilemnice  25.03.22",367]
[null,"JIRANOVÁ","Anežka","6.B",17.5,null,"Jilemnice  25.03.22",321.5]
[null,"JODASOVÁ","Denisa","6.B",33,null,"Jilemnice  25.03.22",603.6]
[null,"KRČÍKOVÁ","Beatrix","6.B",23.5,null,"Jilemnice  25.03.22",430.7]
[null,"KUBÁTOVÁ","Veronika","6.B",7,null,"Jilemnice  14.09.21",130.4]
[null,"LENČEŠOVÁ","Silvie","6.B",21,null,"Jilemnice  25.03.22",385.2]
[null,"MATERNOVÁ","Lenka","6.B",15.5,null,"Jilemnice  14.09.21",285.10000000000002]
[null,"TÓTHOVÁ","Viktorie","6.B",22,null,"Jilemnice  25.03.22",403.40000000000003]
[null,"ERBENOVÁ","Sára","7.A",14.5,null,"Jilemnice  13.09.21",266.90000000000003,null,17.5]
[null,"GINGALOVÁ","Linda","7.A",24,null,"Jilemnice  30.10.21",439.8]
[null,"HOFMANOVÁ ","Nicol","7.A",21.5,null,null,394.3,null,15.5]
[null,"HOLEŠOVSKÁ","Aneta","7.A",27.1,null,"Jilemnice  30.10.21",496.22,null,22.6]
[null,"HOLUBCOVÁ","Alena","7.A",38.56,null,"Turnov   10.05.22",704.79200000000003,null,29]
[null,"KOHOUTOVÁ","Anna","7.A",16,null,"Jilemnice  13.09.21",294.2,null,13]
[null,"KRAUSOVÁ","Anežka","7.A",17.5,null,null,321.5]
[null,"KUŽELOVÁ","Apoléna","7.A",22,null,null,403.40000000000003,null,18.399999999999999]
[null,"MORÁVKOVÁ","Lucie","7.A",18,null,"Jilemnice  30.10.21",330.6,null,20.9]
[null,"SKLENÁROVÁ","Eliška","7.A",null,null,null,0]
[null,"ŠEJNOVÁ","Karolína","7.A",16,null,null,294.2]
[null,"ŠTOLFOVÁ","Tereza","7.A",14.5,null,null,266.90000000000003,null,14]
[null,"ŠUBÍKOVÁ","Klára","7.A",22,null,null,403.40000000000003,null,13]
[null,"ŠULKOVSKÁ","Klára","7.A",21,null,null,385.2]
[null,"TULÁČKOVÁ","Natálie","7.A",20,null,"Jilemnice  30.10.21",{"$f":"IF(E133=0,0,IF(E133>0,E133*10*1.82+3))","v":367},null,17.8]
[null,"VOJTÍŠKOVÁ","Ella","7.A",null,null,null,0,null,24.6]
[null,"DRUGÁČOVÁ","Kristinka","7.B",null,null,null,0,null,16.5]
[null,"FAJSTAVROVÁ","Karolína","7.B",30.5,null,"Jilemnice  30.10.21",558.1,null,22.4]
[null,"FAJSTAVROVÁ","Magdaléna","7.B",28.5,null,"Jilemnice  30.10.21",521.70000000000005,null,29]
[null,"HLAVATÁ","Anna","7.B",null,null,null,0]
[null,"JINDROVÁ","Barbora","7.B",16,null,"Jilemnice  30.10.21",294.2,null,12]
[null,"MAŘASOVÁ","Vendula","7.B",17.5,null,"Jilemnice  30.10.21",321.5,null,13]
[null,"PETŘÍČKOVÁ","Natálie","7.B",23.5,null,null,430.7,null,21.8]
[null,"PETŘÍKOVÁ","Adéla","7.B",16,null,null,294.2,null,11]
[null,"REGÁLOVÁ","Karolína","7.B",29,null,"Jilemnice  30.10.21",530.80000000000007,null,23.2]
[null,"RIEGROVÁ","Magdaléna","7.B",20,null,null,367,null,15.5]
[null,"RYBENSKÁ","Sabina","7.B",15.2,null,"Jilemnice  30.10.21",279.64,null,12.6]
[null,"STEINEROVÁ","Barbora","7.B",33.36,null,"Turnov   10.05.22",610.15200000000004,null,24.4]
[null,"TOMEŠOVÁ","Barbora","7.B",24,null,"Jilemnice  30.10.21",439.8,null,16.2]
[null,"VOHNOUTOVÁ","Aneta","7.B",35.020000000000003,null,"Turnov   10.05.22",640.36400000000015,null,29]
[null,"HAVLÍKOVÁ","Michaela","8.A",16,null,"Jilemnice  28.03.22",294.2,null,null,10.5]
[null,"HOLUBCOVÁ","Sára","8.A",26,null,"Jilemnice  20.09.21",476.2,null,25]
[null,"HONCŮ","Tereza","8.A",25,null,"Jilemnice  28.03.22",458,null,22,18.5]
[null,"HORÁČKOVÁ","Kateřina","8.A",27,null,"Jilemnice  28.03.22",494.40000000000003,null,22,21]
[null,"JOUDALOVÁ","Daniela","8.A",null,null,null,0,null,null,10]
[null,"KLÍMOVÁ","Anna","8.A",25,null,"Jilemnice  28.03.22",458,null,null,17.5]
[null,"KOHOUTOVÁ","Veronika","8.A",28,null,"Jilemnice  20.09.21",512.6,null,29.5,24]
[null,"KOVÁŘOVÁ","Viktorie","8.A",24.5,null,"Jilemnice  28.03.22",448.90000000000003,null,19.5,17.5]
[null,"KYNČLOVÁ","Anna","8.A",28,null,"Jilemnice  28.03.22",512.6,null,27.5,21]
[null,"MATOUŠOVÁ","Tereza","8.A",23,null,"Jilemnice  28.03.22",421.6,null,20.5,17.5]
[null,"MAZÁNKOVÁ","Zuzana","8.A",15.5,null,"Jilemnice  28.03.22",285.10000000000002,null,19,14.5]
[null,"MORKESOVÁ","Sabrina","8.A",40,null,"Jilemnice  20.09.21",731,null,42,36.5]
[null,"POHOŘALÁ","Alžběta","8.A",24,null,"Jilemnice  20.09.21",439.8,null,22.5,15.5]
[null,"SCHOLZOVÁ","Laura","8.A",null,null,null,0]
[null,"VÁCLAVÍKOVÁ","Valerie","8.A",29,null,"Jilemnice  20.09.21",530.80000000000007,null,26.5,25.5]
[null,"ZAPADLOVÁ","Emma","8.A",37.5,null,"Jilemnice  28.03.22",685.5,null,33.5,27.5]
[null,"ŽIŠKOVÁ","Mia","8.A",24,null,"Jilemnice  28.03.22",{"$f":"IF(E165=0,0,IF(E165>0,E165*10*1.82+3))","v":439.8},null,22.5]
[null,"FARSKÁ","Tereza","8.B",19,null,null,348.8]
[null,"FEIXOVÁ","Rozálie","8.B",13.5,null,null,248.70000000000002]
[null,"FIŠEROVÁ","Michaela","8.B",19.5,null,null,357.90000000000003]
[null,"HAVLÍČKOVÁ","Kristýna","8.B",16,null,null,294.2]
[null,"JODASOVÁ","Nikola","8.B",null,null,null,0,null,null,24]
[null,"KADAVÁ","Nikola","8.B",15,null,null,276]
[null,"KRAFKOVÁ","Lucie","8.B",null,null,null,0]
[null,"KŘIVINKOVÁ","Alžběta","8.B",24,null,null,439.8]
[null,"LEŠÁKOVÁ","Lenka","8.B",15,null,null,276]
[null,"NYKLÍČKOVÁ","Adéla","8.B",23.5,null,null,430.7]
[null,"PLŮCHOVÁ","Petra","8.B",24,null,null,439.8]
[null,"PODZIMKOVÁ","Eliška","8.B",26,null,null,476.2]
[null,"RUTKAYOVÁ","Klára","8.B",15,null,null,276]
[null,"SEIDLOVÁ","Zuzana","8.B",28.8,null,null,527.16]
[null,"TOMÁŠOVÁ","Sára","8.B",18.5,null,null,339.7]
[null,"VANCLOVÁ","Barbora","8.B",null,null,null,0]
[null,"VOTOČKOVÁ","Veronika","8.B",16,null,null,294.2]
[null,"HARTIGOVÁ","Anna","9.A",24.5,null,"Jilemnice  28.03.22",448.90000000000003,null,25,null,20.5]
[null,"HONCŮ","Rozálie","9.A",28,null,"Jilemnice  28.03.22",512.6,null,27,21.5,20]
[null,"CHALOUPSKÁ","Lucie","9.A",28,null,"Jilemnice  20.09.21",512.6,null,29,null,22]
[null,"KŘÍŽKOVÁ","Anna","9.A",24,null,"Jilemnice  28.03.22",439.8,null,25,null,17]
[null,"LUKEŠOVÁ","Kristýna","9.A",20,null,"Jilemnice  28.03.22",367,null,22.5,null,16.5]
[null,"MOTLÍKOVÁ","Eliška","9.A",23,null,"Jilemnice  28.03.22",421.6,null,25,null,17]
[null,"POHOŘELÁ","Amálie","9.A",18,null,"Jilemnice  28.03.22",330.6,null,null,null,14.5]
[null,"POLÁČKOVÁ","Natálie","9.A",20,null,"Jilemnice  28.03.22",367,null,24,null,18.5]
[null,"ŘEHOŘKOVÁ","Lucie","9.A",25.5,null,"Jilemnice  20.09.21",467.1,null,30.5,null,29]
[null,"SKÁLOVÁ","Alena","9.A",19.5,null,"Jilemnice  28.03.22",357.90000000000003,null,20,null,14]
[null,"VÁVROVÁ ","Aneta","9.A",23.5,null,"Jilemnice  20.09.21",430.7,null,24,null,19.5]
[null,"ZELINKOVÁ","Klára","9.A",27.5,null,"Jilemnice  28.03.22",503.5,null,27,22,20]

{"sheet":"Dkou","index":13,"n_rows":194,"n_cols":12,"rows_kept":194,"cut":false,"hidden":false,"merged":[]}
[null,null,"VÝKONY   2020 - 2021",null,null,null,"KOULE","DĚVČATA  6. -  9.  ROČ."]
[null,null,null,null,null,null,null,null,null,null,"stav  k ",{"$f":"TODAY()","v":44740}]
[null,null,null,null,null,null,null,"   BODY",null,"   20 - 21   ","   19 - 20   ","   18 - 19   "]
[]
["1.",{"$f":"B101","v":"HEJRALOVÁ"},{"$f":"C101","v":"Natálie"},"6.A",3.35," ","Jilemnice  27.09.21",320," ",0,0,0]
["2.",{"$f":"B102","v":"KERLE"},"nikita","6.A",3.05," ",{"$f":"G102","v":"Jilemnice 03.05.22"},293.33333333333331," ",{"$f":"J102","v":0},0,0]
["3.",{"$f":"B103","v":"PACLÍKOVÁ"},"Markéta","6.A",4.25," ",{"$f":"G103","v":"Jilemnice  27.09.21"},400," ",{"$f":"J103","v":0},0,0]
["4.",{"$f":"B104","v":"PLŮCHOVÁ"},"Michaela","6.A",4.6399999999999997," ",{"$f":"G104","v":"Jilemnice  27.09.21"},434.66666666666663," ",{"$f":"J104","v":0},0,0]
["5.",{"$f":"B105","v":"ŠERCLOVÁ"},"Nikola","6.A",3.07," ",{"$f":"G105","v":"Jilemnice  27.09.21"},295.11111111111114," ",{"$f":"J105","v":0},0,0]
["6.",{"$f":"B106","v":"VÁCLAVÍKOVÁ"},"Alena","6.A",3.12," ",{"$f":"G106","v":"Jilemnice  27.09.21"},299.5555555555556," ",{"$f":"J106","v":0},0,0]
["7.",{"$f":"B107","v":"DUCHÁČKOVÁ"},"Tereza","6.B",0," ",{"$f":"G107","v":0},0," ",{"$f":"J107","v":0},0,0]
["8.",{"$f":"B108","v":"FLAŠKOVÁ"},"Anna Sabriel","6.B",2.77," ",{"$f":"G108","v":"Jilemnice  27.09.21"},268.44444444444446," ",{"$f":"J108","v":0},0,0]
["9.",{"$f":"B109","v":"HAASOVÁ"},"Julie","6.B",0," ",{"$f":"G109","v":0},0," ",{"$f":"J109","v":0},0,0]
["10.",{"$f":"B110","v":"HOBLOVÁ"},"Barbora","6.B",0," ",{"$f":"G110","v":0},0," ",{"$f":"J110","v":0},0,0]
["11.",{"$f":"B111","v":"HORÁČKOVÁ"},"Valérie","6.B",4.1900000000000004," ",{"$f":"G111","v":"Jilemnice  27.09.21"},394.66666666666669," ",{"$f":"J111","v":0},0,0]
["12.",{"$f":"B112","v":"JIRANOVÁ"},"Anežka","6.B",2.8," ",{"$f":"G112","v":"Jilemnice  27.09.21"},271.11111111111109," ",{"$f":"J112","v":0},0,0]
["13.",{"$f":"B113","v":"JODASOVÁ"},"Denisa","6.B",4.21," ",{"$f":"G113","v":"Jilemnice  27.09.21"},396.44444444444446," ",{"$f":"J113","v":0},0,0]
["14.",{"$f":"B114","v":"KRČÍKOVÁ"},"Beatrix","6.B",4.28," ",{"$f":"G114","v":"Jilemnice  27.09.21"},402.66666666666669," ",{"$f":"J114","v":0},0,0]
["15.",{"$f":"B115","v":"KUBÁTOVÁ"},"Veronika","6.B",0," ",{"$f":"G115","v":0},0," ",{"$f":"J115","v":0},0,0]
["16.",{"$f":"B116","v":"LENČEŠOVÁ"},"Silvie","6.B",2.2400000000000002," ",{"$f":"G116","v":"Jilemnice  27.09.21"},221.33333333333334," ",{"$f":"J116","v":0},0,0]
["17.",{"$f":"B117","v":"MATERNOVÁ"},"Lenka","6.B",0," ",{"$f":"G117","v":0},0," ",{"$f":"J117","v":0},0,0]
["18.",{"$f":"B118","v":"TÓTHOVÁ"},"Viktorie","6.B",3.1," ",{"$f":"G118","v":"Jilemnice  27.09.21"},297.77777777777777," ",{"$f":"J118","v":0},0,0]
["19.",{"$f":"B119","v":"ERBENOVÁ"},"Sára","7.A",0," ",{"$f":"G119","v":0},0," ",{"$f":"J119","v":3.41},0,0]
["20.",{"$f":"B120","v":"GINGALOVÁ"},"Linda","7.A",0," ",{"$f":"G120","v":0},0," ",{"$f":"J120","v":0},0,0]
["21.",{"$f":"B121","v":"HOFMANOVÁ "},"Nicol","7.A",4.8600000000000003," ",{"$f":"G121","v":"Jilemnice  27.09.21"},454.22222222222223," ",{"$f":"J121","v":4.47},0,0]
["22.",{"$f":"B122","v":"HOLEŠOVSKÁ"},"Aneta","7.A",0," ",{"$f":"G122","v":0},0," ",{"$f":"J122","v":0},0,0]
["23.",{"$f":"B123","v":"HOLUBCOVÁ"},"Alena","7.A",5.9," ",{"$f":"G123","v":"Jilemnice  27.09.21"},546.66666666666663," ",{"$f":"J123","v":6.21},0,0]
["24.",{"$f":"B124","v":"KOHOUTOVÁ"},"Anna","7.A",3.46," ",{"$f":"G124","v":"Jilemnice  27.09.21"},329.77777777777777," ",{"$f":"J124","v":2.82},0,0]
["25.",{"$f":"B125","v":"KRAUSOVÁ"},"Anežka","7.A",4.9000000000000004," ",{"$f":"G125","v":"Jilemnice  27.09.21"},457.77777777777777," ",{"$f":"J125","v":0},0,0]
["26.",{"$f":"B126","v":"KUŽELOVÁ"},"Apoléna","7.A",0," ",{"$f":"G126","v":0},0," ",{"$f":"J126","v":0},0,0]
["27.",{"$f":"B127","v":"MORÁVKOVÁ"},"Lucie","7.A",0," ",{"$f":"G127","v":0},0," ",{"$f":"J127","v":0},0,0]
["28.",{"$f":"B128","v":"SKLENÁROVÁ"},"Eliška","7.A",0," ",{"$f":"G128","v":0},0," ",{"$f":"J128","v":0},0,0]
["29.",{"$f":"B129","v":"ŠEJNOVÁ"},"Karolína","7.A",3.77," ",{"$f":"G129","v":"Jilemnice  27.09.21"},357.33333333333337," ",{"$f":"J129","v":0},0,0]
["30.",{"$f":"B130","v":"ŠTOLFOVÁ"},"Tereza","7.A",3.34," ",{"$f":"G130","v":"Jilemnice  27.09.21"},319.11111111111109," ",{"$f":"J130","v":3.05},0,0]
["31.",{"$f":"B131","v":"ŠUBÍKOVÁ"},"Klára","7.A",3.2," ",{"$f":"G131","v":"Jilemnice  27.09.21"},306.66666666666669," ",{"$f":"J131","v":3.85},0,0]
["32.",{"$f":"B132","v":"ŠULKOVSKÁ"},"Klára","7.A",4.0199999999999996," ",{"$f":"G132","v":"Jilemnice  27.09.21"},379.55555555555549," ",{"$f":"J132","v":0},0,0]
["33.",{"$f":"B133","v":"TULÁČKOVÁ"},"Natálie","7.A",0," ",{"$f":"G133","v":0},0," ",{"$f":"J133","v":0},0,0]
["34.",{"$f":"B134","v":"VOJTÍŠKOVÁ"},"Ella","7.A",0," ",{"$f":"G134","v":0},0," ",{"$f":"J134","v":0},0,0]
["35.",{"$f":"B135","v":"DRUGÁČOVÁ"},"Kristinka","7.B",5.2," ",{"$f":"G135","v":"Jilemnice  27.09.21"},484.44444444444446," ",{"$f":"J135","v":4},0,0]
["36.",{"$f":"B136","v":"FAJSTAVROVÁ"},"Karolína","7.B",0," ",{"$f":"G136","v":0},0," ",{"$f":"J136","v":0},0,0]
["37.",{"$f":"B137","v":"FAJSTAVROVÁ"},"Magdaléna","7.B",0," ",{"$f":"G137","v":0},0," ",{"$f":"J137","v":0},0,0]
["38.",{"$f":"B138","v":"HLAVATÁ"},"Anna","7.B",0," ",{"$f":"G138","v":0},0," ",{"$f":"J138","v":0},0,0]
["39.",{"$f":"B139","v":"JINDROVÁ"},"Barbora","7.B",0," ",{"$f":"G139","v":0},0," ",{"$f":"J139","v":0},0,0]
["40.",{"$f":"B140","v":"MAŘASOVÁ"},"Vendula","7.B",0," ",{"$f":"G140","v":0},0," ",{"$f":"J140","v":0},0,0]
["41.",{"$f":"B141","v":"PETŘÍČKOVÁ"},"Natálie","7.B",0," ",{"$f":"G141","v":0},0," ",{"$f":"J141","v":0},0,0]
["42.",{"$f":"B142","v":"PETŘÍKOVÁ"},"Adéla","7.B",3.16," ",{"$f":"G142","v":"Jilemnice  27.09.21"},303.11111111111114," ",{"$f":"J142","v":3.73},0,0]
["43.",{"$f":"B143","v":"REGÁLOVÁ"},"Karolína","7.B",0," ",{"$f":"G143","v":0},0," ",{"$f":"J143","v":0},0,0]
["44.",{"$f":"B144","v":"RIEGROVÁ"},"Magdaléna","7.B",3.6," ",{"$f":"G144","v":"Jilemnice  27.09.21"},342.22222222222223," ",{"$f":"J144","v":2.64},0,0]
["45.",{"$f":"B145","v":"RYBENSKÁ"},"Sabina","7.B",0," ",{"$f":"G145","v":0},0," ",{"$f":"J145","v":0},0,0]
["46.",{"$f":"B146","v":"STEINEROVÁ"},"Barbora","7.B",0," ",{"$f":"G146","v":0},0," ",{"$f":"J146","v":0},0,0]
["47.",{"$f":"B147","v":"TOMEŠOVÁ"},"Barbora","7.B",0," ",{"$f":"G147","v":0},0," ",{"$f":"J147","v":0},0,0]
["48.",{"$f":"B148","v":"VOHNOUTOVÁ"},"Aneta","7.B",0," ",{"$f":"G148","v":0},0," ",{"$f":"J148","v":0},0,0]
["49.",{"$f":"B149","v":"HAVLÍKOVÁ"},"Michaela","8.A",3.21," ",{"$f":"G149","v":"Jilemnice  15.09.21"},307.55555555555554," ",{"$f":"J149","v":2.61},0,0]
["50.",{"$f":"B150","v":"HOLUBCOVÁ"},"Sára","8.A",4.87," ",{"$f":"G150","v":"Jilemnice  09.05.22"},455.11111111111114," ",{"$f":"J150","v":4.04},3.1,0]
["51.",{"$f":"B151","v":"HONCŮ"},"Tereza","8.A",4.62," ",{"$f":"G151","v":"Jilemnice  09.05.22"},432.88888888888891," ",{"$f":"J151","v":3.76},2.62,0]
["52.",{"$f":"B152","v":"HORÁČKOVÁ"},"Kateřina","8.A",7.38," ",{"$f":"G152","v":"Turnov   10.05.22"},678.22222222222217," ",{"$f":"J152","v":5.5},4.9000000000000004,0]
["53.",{"$f":"B153","v":"JOUDALOVÁ"},"Daniela","8.A",0," ",{"$f":"G153","v":0},0," ",{"$f":"J153","v":3.85},2.87,0]
["54.",{"$f":"B154","v":"KLÍMOVÁ"},"Anna","8.A",5.28," ",{"$f":"G154","v":"Jilemnice  09.05.22"},491.5555555555556," ",{"$f":"J154","v":4.5},4.4400000000000004,0]
["55.",{"$f":"B155","v":"KOHOUTOVÁ"},"Veronika","8.A",5.35," ",{"$f":"G155","v":"Jilemnice  15.09.21"},497.77777777777777," ",{"$f":"J155","v":5.31},3.57,0]
["56.",{"$f":"B156","v":"KOVÁŘOVÁ"},"Viktorie","8.A",4.71," ",{"$f":"G156","v":"Jilemnice  15.09.21"},440.88888888888891," ",{"$f":"J156","v":3.94},3.16,0]
["57.",{"$f":"B157","v":"KYNČLOVÁ"},"Anna","8.A",4.4000000000000004," ",{"$f":"G157","v":"Jilemnice  15.09.21"},413.33333333333331," ",{"$f":"J157","v":3.46},2.46,0]
["58.",{"$f":"B158","v":"MATOUŠOVÁ"},"Tereza","8.A",4.6500000000000004," ",{"$f":"G158","v":"Jilemnice  15.09.21"},435.55555555555554," ",{"$f":"J158","v":4.6100000000000003},3.51,0]
["59.",{"$f":"B159","v":"MAZÁNKOVÁ"},"Zuzana","8.A",4," ",{"$f":"G159","v":"Jilemnice  15.09.21"},377.77777777777777," ",{"$f":"J159","v":4.5},3.66,0]
["60.",{"$f":"B160","v":"MORKESOVÁ"},"Sabrina","8.A",6.9," ",{"$f":"G160","v":"Jilemnice  15.09.21"},635.55555555555554," ",{"$f":"J160","v":6.62},5.65,0]
["61.",{"$f":"B161","v":"POHOŘALÁ"},"Alžběta","8.A",5.0999999999999996," ",{"$f":"G161","v":"Jilemnice  09.05.22"},475.55555555555554," ",{"$f":"J161","v":4.26},3.78,0]
["62.",{"$f":"B162","v":"SCHOLZOVÁ"},"Laura","8.A",0," ",{"$f":"G162","v":0},0," ",{"$f":"J162","v":3.08},2.75,0]
["63.",{"$f":"B163","v":"VÁCLAVÍKOVÁ"},"Valerie","8.A",8.08," ",{"$f":"G163","v":"Jilemnice  15.09.21"},740.44444444444446," ",{"$f":"J163","v":5.92},5.56,0]
["64.",{"$f":"B164","v":"ZAPADLOVÁ"},"Emma","8.A",5.25," ",{"$f":"G164","v":"Jilemnice  15.09.21"},488.88888888888886," ",{"$f":"J164","v":4.26},5.08,0]
["65.",{"$f":"B165","v":"ŽIŠKOVÁ"},"Mia","8.A",0," ",{"$f":"G165","v":0},0," ",{"$f":"J165","v":0},3.84,0]
["66.",{"$f":"B166","v":"FARSKÁ"},"Tereza","8.B",5.0999999999999996," ",{"$f":"G166","v":"Jilemnice  30.10.21"},475.55555555555554," ",{"$f":"J166","v":0},2.2000000000000002,0]
["67.",{"$f":"B167","v":"FEIXOVÁ"},"Rozálie","8.B",0," ",{"$f":"G167","v":0},0," ",{"$f":"J167","v":0},2.8,0]
["68.",{"$f":"B168","v":"FIŠEROVÁ"},"Michaela","8.B",0," ",{"$f":"G168","v":0},0," ",{"$f":"J168","v":0},4.1500000000000004,0]
["69.",{"$f":"B169","v":"HAVLÍČKOVÁ"},"Kristýna","8.B",5.6," ",{"$f":"G169","v":"Jilemnice  30.10.21"},520," ",{"$f":"J169","v":0},3.75,0]
["70.",{"$f":"B170","v":"JODASOVÁ"},"Nikola","8.B",6.1," ",{"$f":"G170","v":"Jilemnice  30.10.21"},564.44444444444446," ",{"$f":"J170","v":0},4.8,0]
["71.",{"$f":"B171","v":"KADAVÁ"},"Nikola","8.B",4.8," ",{"$f":"G171","v":"Jilemnice  30.10.21"},448.88888888888886," ",{"$f":"J171","v":0},3.79,0]
["72.",{"$f":"B172","v":"KRAFKOVÁ"},"Lucie","8.B",0," ",{"$f":"G172","v":0},0," ",{"$f":"J172","v":0},0,0]
["73.",{"$f":"B173","v":"KŘIVINKOVÁ"},"Alžběta","8.B",0," ",{"$f":"G173","v":0},0," ",{"$f":"J173","v":0},5.15,0]
["74.",{"$f":"B174","v":"LEŠÁKOVÁ"},"Lenka","8.B",3.2," ",{"$f":"G174","v":"Jilemnice  30.10.21"},306.66666666666669," ",{"$f":"J174","v":0},3.23,0]
["75.",{"$f":"B175","v":"NYKLÍČKOVÁ"},"Adéla","8.B",0," ",{"$f":"G175","v":0},0," ",{"$f":"J175","v":0},4.28,0]
["76.",{"$f":"B176","v":"PLŮCHOVÁ"},"Petra","8.B",6.1," ",{"$f":"G176","v":"Jilemnice  30.10.21"},564.44444444444446," ",{"$f":"J176","v":0},5.53,0]
["77.",{"$f":"B177","v":"PODZIMKOVÁ"},"Eliška","8.B",0," ",{"$f":"G177","v":0},0," ",{"$f":"J177","v":0},2.4,0]
["78.",{"$f":"B178","v":"RUTKAYOVÁ"},"Klára","8.B",0," ",{"$f":"G178","v":0},0," ",{"$f":"J178","v":0},4.3099999999999996,0]
["79.",{"$f":"B179","v":"SEIDLOVÁ"},"Zuzana","8.B",0," ",{"$f":"G179","v":0},0," ",{"$f":"J179","v":0},5.9,0]
["80.",{"$f":"B180","v":"TOMÁŠOVÁ"},"Sára","8.B",5.13," ",{"$f":"G180","v":"Jilemnice  30.10.21"},478.22222222222217," ",{"$f":"J180","v":0},4.8,0]
["81.",{"$f":"B181","v":"VANCLOVÁ"},"Barbora","8.B",4.4000000000000004," ",{"$f":"G181","v":"Jilemnice  30.10.21"},413.33333333333331," ",{"$f":"J181","v":0},3.98,0]
["82.",{"$f":"B182","v":"VOTOČKOVÁ"},"Veronika","8.B",0," ",{"$f":"G182","v":0},0," ",{"$f":"J182","v":0},0,0]
["83.",{"$f":"B183","v":"HARTIGOVÁ"},"Anna","9.A",6.6," ",{"$f":"G183","v":"Jilemnice  06.05.22"},608.88888888888891," ",{"$f":"J183","v":6.81},0,5.16]
["84.",{"$f":"B184","v":"HONCŮ"},"Rozálie","9.A",6.64," ",{"$f":"G184","v":"Jilemnice  06.05.22"},612.44444444444434," ",{"$f":"J184","v":7.1},0,5.34]
["85.",{"$f":"B185","v":"CHALOUPSKÁ"},"Lucie","9.A",7," ",{"$f":"G185","v":"Jilemnice  15.09.21"},644.44444444444446," ",{"$f":"J185","v":7.18},0,5.18]
["86.",{"$f":"B186","v":"KŘÍŽKOVÁ"},"Anna","9.A",5.45," ",{"$f":"G186","v":"Jilemnice  06.05.22"},506.66666666666663," ",{"$f":"J186","v":5.8},0,4]
["87.",{"$f":"B187","v":"LUKEŠOVÁ"},"Kristýna","9.A",5.3," ",{"$f":"G187","v":"Jilemnice  06.05.22"},493.33333333333331," ",{"$f":"J187","v":5.6},0,4.37]
["88.",{"$f":"B188","v":"MOTLÍKOVÁ"},"Eliška","9.A",7.15," ",{"$f":"G188","v":"Jilemnice  06.05.22"},657.77777777777771," ",{"$f":"J188","v":6.39},0,5.3]
["89.",{"$f":"B189","v":"POHOŘELÁ"},"Amálie","9.A",6.95," ",{"$f":"G189","v":"Jilemnice  06.05.22"},640," ",{"$f":"J189","v":5.9},0,4.55]
["90.",{"$f":"B190","v":"POLÁČKOVÁ"},"Natálie","9.A",4.0599999999999996," ",{"$f":"G190","v":"Jilemnice  06.05.22"},383.11111111111103," ",{"$f":"J190","v":3.6},0,2.73]
["91.",{"$f":"B191","v":"ŘEHOŘKOVÁ"},"Lucie","9.A",7.82," ",{"$f":"G191","v":"Jilemnice  06.05.22"},717.33333333333337," ",{"$f":"J191","v":7.5},0,6.03]
["92.",{"$f":"B192","v":"SKÁLOVÁ"},"Alena","9.A",7.4," ",{"$f":"G192","v":"Jilemnice  06.05.22"},680," ",{"$f":"J192","v":7.5},0,4.17]
["93.",{"$f":"B193","v":"VÁVROVÁ "},"Aneta","9.A",5.35," ",{"$f":"G193","v":"Jilemnice  06.05.22"},497.77777777777777," ",{"$f":"J193","v":5.5},0,3.8]
["94.",{"$f":"B194","v":"ZELINKOVÁ"},"Klára","9.A",8.6999999999999993," ",{"$f":"G194","v":"Turnov   10.05.22"},795.55555555555554," ",{"$f":"J194","v":6.74},0,5.5]
[]
[]
[null,"HEJRALOVÁ","Natálie","6.A",3.35,null,"Jilemnice  27.09.21",{"$f":"IF(E101=0,0,IF(E101>0,(40*E101+10)/0.45))","v":320}]
[null,"KERLE","nikita","6.A",3.05,null,"Jilemnice 03.05.22",293.33333333333331]
[null,"PACLÍKOVÁ","Markéta","6.A",4.25,null,"Jilemnice  27.09.21",400]
[null,"PLŮCHOVÁ","Michaela","6.A",4.6399999999999997,null,"Jilemnice  27.09.21",434.66666666666663]
[null,"ŠERCLOVÁ","Nikola","6.A",3.07,null,"Jilemnice  27.09.21",295.11111111111114]
[null,"VÁCLAVÍKOVÁ","Alena","6.A",3.12,null,"Jilemnice  27.09.21",299.5555555555556]
[null,"DUCHÁČKOVÁ","Tereza","6.B",null,null,null,0]
[null,"FLAŠKOVÁ","Anna Sabriel","6.B",2.77,null,"Jilemnice  27.09.21",268.44444444444446]
[null,"HAASOVÁ","Julie","6.B",null,null,null,0]
[null,"HOBLOVÁ","Barbora","6.B",null,null,null,0]
[null,"HORÁČKOVÁ","Valérie","6.B",4.1900000000000004,null,"Jilemnice  27.09.21",394.66666666666669]
[null,"JIRANOVÁ","Anežka","6.B",2.8,null,"Jilemnice  27.09.21",271.11111111111109]
[null,"JODASOVÁ","Denisa","6.B",4.21,null,"Jilemnice  27.09.21",396.44444444444446]
[null,"KRČÍKOVÁ","Beatrix","6.B",4.28,null,"Jilemnice  27.09.21",402.66666666666669]
[null,"KUBÁTOVÁ","Veronika","6.B",null,null,null,0]
[null,"LENČEŠOVÁ","Silvie","6.B",2.2400000000000002,null,"Jilemnice  27.09.21",221.33333333333334]
[null,"MATERNOVÁ","Lenka","6.B",null,null,null,0]
[null,"TÓTHOVÁ","Viktorie","6.B",3.1,null,"Jilemnice  27.09.21",297.77777777777777]
[null,"ERBENOVÁ","Sára","7.A",null,null,null,0,null,3.41]
[null,"GINGALOVÁ","Linda","7.A",null,null,null,0]
[null,"HOFMANOVÁ ","Nicol","7.A",4.8600000000000003,null,"Jilemnice  27.09.21",454.22222222222223,null,4.47]
[null,"HOLEŠOVSKÁ","Aneta","7.A",null,null,null,0]
[null,"HOLUBCOVÁ","Alena","7.A",5.9,null,"Jilemnice  27.09.21",546.66666666666663,null,6.21]
[null,"KOHOUTOVÁ","Anna","7.A",3.46,null,"Jilemnice  27.09.21",329.77777777777777,null,2.82]
[null,"KRAUSOVÁ","Anežka","7.A",4.9000000000000004,null,"Jilemnice  27.09.21",457.77777777777777]
[null,"KUŽELOVÁ","Apoléna","7.A",null,null,null,0]
[null,"MORÁVKOVÁ","Lucie","7.A",null,null,null,0]
[null,"SKLENÁROVÁ","Eliška","7.A",null,null,null,0]
[null,"ŠEJNOVÁ","Karolína","7.A",3.77,null,"Jilemnice  27.09.21",357.33333333333337]
[null,"ŠTOLFOVÁ","Tereza","7.A",3.34,null,"Jilemnice  27.09.21",319.11111111111109,null,3.05]
[null,"ŠUBÍKOVÁ","Klára","7.A",3.2,null,"Jilemnice  27.09.21",306.66666666666669,null,3.85]
[null,"ŠULKOVSKÁ","Klára","7.A",4.0199999999999996,null,"Jilemnice  27.09.21",379.55555555555549]
[null,"TULÁČKOVÁ","Natálie","7.A",null,null,null,{"$f":"IF(E133=0,0,IF(E133>0,(40*E133+10)/0.45))","v":0}]
[null,"VOJTÍŠKOVÁ","Ella","7.A",null,null,null,0]
[null,"DRUGÁČOVÁ","Kristinka","7.B",5.2,null,"Jilemnice  27.09.21",484.44444444444446,null,4]
[null,"FAJSTAVROVÁ","Karolína","7.B",null,null,null,0]
[null,"FAJSTAVROVÁ","Magdaléna","7.B",null,null,null,0]
[null,"HLAVATÁ","Anna","7.B",null,null,null,0]
[null,"JINDROVÁ","Barbora","7.B",null,null,null,0]
[null,"MAŘASOVÁ","Vendula","7.B",null,null,null,0]
[null,"PETŘÍČKOVÁ","Natálie","7.B",null,null,null,0]
[null,"PETŘÍKOVÁ","Adéla","7.B",3.16,null,"Jilemnice  27.09.21",303.11111111111114,null,3.73]
[null,"REGÁLOVÁ","Karolína","7.B",null,null,null,0]
[null,"RIEGROVÁ","Magdaléna","7.B",3.6,null,"Jilemnice  27.09.21",342.22222222222223,null,2.64]
[null,"RYBENSKÁ","Sabina","7.B",null,null,null,0]
[null,"STEINEROVÁ","Barbora","7.B",null,null,null,0]
[null,"TOMEŠOVÁ","Barbora","7.B",null,null,null,0]
[null,"VOHNOUTOVÁ","Aneta","7.B",null,null,null,0]
[null,"HAVLÍKOVÁ","Michaela","8.A",3.21,null,"Jilemnice  15.09.21",307.55555555555554,null,2.61]
[null,"HOLUBCOVÁ","Sára","8.A",4.87,null,"Jilemnice  09.05.22",455.11111111111114,null,4.04,3.1]
[null,"HONCŮ","Tereza","8.A",4.62,null,"Jilemnice  09.05.22",432.88888888888891,null,3.76,2.62]
[null,"HORÁČKOVÁ","Kateřina","8.A",7.38,null,"Turnov   10.05.22",678.22222222222217,null,5.5,4.9000000000000004]
[null,"JOUDALOVÁ","Daniela","8.A",null,null,null,0,null,3.85,2.87]
[null,"KLÍMOVÁ","Anna","8.A",5.28,null,"Jilemnice  09.05.22",491.5555555555556,null,4.5,4.4400000000000004]
[null,"KOHOUTOVÁ","Veronika","8.A",5.35," ","Jilemnice  15.09.21",497.77777777777777,null,5.31,3.57]
[null,"KOVÁŘOVÁ","Viktorie","8.A",4.71,null,"Jilemnice  15.09.21",440.88888888888891,null,3.94,3.16]
[null,"KYNČLOVÁ","Anna","8.A",4.4000000000000004,null,"Jilemnice  15.09.21",413.33333333333331,null,3.46,2.46]
[null,"MATOUŠOVÁ","Tereza","8.A",4.6500000000000004,null,"Jilemnice  15.09.21",435.55555555555554,null,4.6100000000000003,3.51]
[null,"MAZÁNKOVÁ","Zuzana","8.A",4,null,"Jilemnice  15.09.21",377.77777777777777,null,4.5,3.66]
[null,"MORKESOVÁ","Sabrina","8.A",6.9,null,"Jilemnice  15.09.21",635.55555555555554,null,6.62,5.65]
[null,"POHOŘALÁ","Alžběta","8.A",5.0999999999999996,null,"Jilemnice  09.05.22",475.55555555555554,null,4.26,3.78]
[null,"SCHOLZOVÁ","Laura","8.A",null,null,null,0,null,3.08,2.75]
[null,"VÁCLAVÍKOVÁ","Valerie","8.A",8.08,null,"Jilemnice  15.09.21",740.44444444444446,null,5.92,5.56]
[null,"ZAPADLOVÁ","Emma","8.A",5.25,null,"Jilemnice  15.09.21",488.88888888888886,null,4.26,5.08]
[null,"ŽIŠKOVÁ","Mia","8.A",null,null,null,{"$f":"IF(E165=0,0,IF(E165>0,(40*E165+10)/0.45))","v":0},null,null,3.84]
[null,"FARSKÁ","Tereza","8.B",5.0999999999999996,null,"Jilemnice  30.10.21",475.55555555555554,null,null,2.2000000000000002]
[null,"FEIXOVÁ","Rozálie","8.B",null,null,null,0,null,null,2.8]
[null,"FIŠEROVÁ","Michaela","8.B",null,null,null,0,null,null,4.1500000000000004]
[null,"HAVLÍČKOVÁ","Kristýna","8.B",5.6,null,"Jilemnice  30.10.21",520,null,null,3.75]
[null,"JODASOVÁ","Nikola","8.B",6.1,null,"Jilemnice  30.10.21",564.44444444444446,null,null,4.8]
[null,"KADAVÁ","Nikola","8.B",4.8,null,"Jilemnice  30.10.21",448.88888888888886,null,null,3.79]
[null,"KRAFKOVÁ","Lucie","8.B",null,null,null,0]
[null,"KŘIVINKOVÁ","Alžběta","8.B",null,null,null,0,null,null,5.15]
[null,"LEŠÁKOVÁ","Lenka","8.B",3.2,null,"Jilemnice  30.10.21",306.66666666666669,null,null,3.23]
[null,"NYKLÍČKOVÁ","Adéla","8.B",null,null,null,0,null,null,4.28]
[null,"PLŮCHOVÁ","Petra","8.B",6.1,null,"Jilemnice  30.10.21",564.44444444444446,null,null,5.53]
[null,"PODZIMKOVÁ","Eliška","8.B",null,null,null,0,null,null,2.4]
[null,"RUTKAYOVÁ","Klára","8.B",null,null,null,0,null,null,4.3099999999999996]
[null,"SEIDLOVÁ","Zuzana","8.B",null,null,null,0,null,null,5.9]
[null,"TOMÁŠOVÁ","Sára","8.B",5.13,null,"Jilemnice  30.10.21",478.22222222222217,null,null,4.8]
[null,"VANCLOVÁ","Barbora","8.B",4.4000000000000004,null,"Jilemnice  30.10.21",413.33333333333331,null,null,3.98]
[null,"VOTOČKOVÁ","Veronika","8.B",null,null,null,0]
[null,"HARTIGOVÁ","Anna","9.A",6.6,null,"Jilemnice  06.05.22",608.88888888888891,null,6.81,null,5.16]
[null,"HONCŮ","Rozálie","9.A",6.64,null,"Jilemnice  06.05.22",612.44444444444434,null,7.1,null,5.34]
[null,"CHALOUPSKÁ","Lucie","9.A",7,null,"Jilemnice  15.09.21",644.44444444444446,null,7.18,null,5.18]
[null,"KŘÍŽKOVÁ","Anna","9.A",5.45,null,"Jilemnice  06.05.22",506.66666666666663,null,5.8,null,4]
[null,"LUKEŠOVÁ","Kristýna","9.A",5.3,null,"Jilemnice  06.05.22",493.33333333333331,null,5.6,null,4.37]
[null,"MOTLÍKOVÁ","Eliška","9.A",7.15,null,"Jilemnice  06.05.22",657.77777777777771,null,6.39,null,5.3]
[null,"POHOŘELÁ","Amálie","9.A",6.95,null,"Jilemnice  06.05.22",640,null,5.9,null,4.55]
[null,"POLÁČKOVÁ","Natálie","9.A",4.0599999999999996,null,"Jilemnice  06.05.22",383.11111111111103,null,3.6,null,2.73]
[null,"ŘEHOŘKOVÁ","Lucie","9.A",7.82,null,"Jilemnice  06.05.22",717.33333333333337,null,7.5,null,6.03]
[null,"SKÁLOVÁ","Alena","9.A",7.4,null,"Jilemnice  06.05.22",680,null,7.5,null,4.17]
[null,"VÁVROVÁ ","Aneta","9.A",5.35,null,"Jilemnice  06.05.22",497.77777777777777,null,5.5,null,3.8]
[null,"ZELINKOVÁ","Klára","9.A",8.6999999999999993,null,"Turnov   10.05.22",795.55555555555554,null,6.74,null,5.5]

{"sheet":"Dčlu","index":14,"n_rows":194,"n_cols":12,"rows_kept":194,"cut":false,"hidden":false,"merged":[]}
[null,null,"VÝKONY   2020 - 2021",null,null,null,"ČLUNEK","DĚVČATA  6. -  9.  ROČ."]
[null,null,null,null,null,null,null,null,null,null,"stav  k ",{"$f":"TODAY()","v":44740}]
[null,null,null,null,null,null,null,"   BODY",null,"   20 - 21   ","   19 - 20   ","   18 - 19   "]
[]
["1.",{"$f":"B101","v":"HEJRALOVÁ"},{"$f":"C101","v":"Natálie"},"6.A",12.05," ","Jilemnice  22.11.22",617.84669144425982," ",0,0,0]
["2.",{"$f":"B102","v":"KERLE"},"Nikita","6.A",11.46," ",{"$f":"G102","v":"Jilemnice  22.11.22"},652.68792273443864," ",{"$f":"J102","v":0},0,0]
["3.",{"$f":"B103","v":"PACLÍKOVÁ"},"Markéta","6.A",11.26," ",{"$f":"G103","v":"Jilemnice  22.11.22"},665.3271387095914," ",{"$f":"J103","v":0},0,0]
["4.",{"$f":"B104","v":"PLŮCHOVÁ"},"Michaela","6.A",11.41," ",{"$f":"G104","v":"Jilemnice  22.11.22"},655.80618679842246," ",{"$f":"J104","v":0},0,0]
["5.",{"$f":"B105","v":"ŠERCLOVÁ"},"Nikola","6.A",0," ",{"$f":"G105","v":0},0," ",{"$f":"J105","v":0},0,0]
["6.",{"$f":"B106","v":"VÁCLAVÍKOVÁ"},"Alena","6.A",11.91," ",{"$f":"G106","v":"Jilemnice  22.11.22"},625.80173157318779," ",{"$f":"J106","v":0},0,0]
["7.",{"$f":"B107","v":"DUCHÁČKOVÁ"},"Tereza","6.B",13.48," ",{"$f":"G107","v":"Jilemnice  22.11.22"},546.05532065801185," ",{"$f":"J107","v":0},0,0]
["8.",{"$f":"B108","v":"FLAŠKOVÁ"},"Anna Sabriel","6.B",12.93," ",{"$f":"G108","v":"Jilemnice  22.11.22"},571.78814289533375," ",{"$f":"J108","v":0},0,0]
["9.",{"$f":"B109","v":"HAASOVÁ"},"Julie","6.B",12.7," ",{"$f":"G109","v":"Jilemnice  22.11.22"},583.21005299763783," ",{"$f":"J109","v":0},0,0]
["10.",{"$f":"B110","v":"HOBLOVÁ"},"Barbora","6.B",12.03," ",{"$f":"G110","v":"Jilemnice  22.11.22"},618.97178974535893," ",{"$f":"J110","v":0},0,0]
["11.",{"$f":"B111","v":"HORÁČKOVÁ"},"Valérie","6.B",11.46," ",{"$f":"G111","v":"Jilemnice  22.11.22"},652.68792273443864," ",{"$f":"J111","v":0},0,0]
["12.",{"$f":"B112","v":"JIRANOVÁ"},"Anežka","6.B",13.88," ",{"$f":"G112","v":"Jilemnice  22.11.22"},528.62145157084524," ",{"$f":"J112","v":0},0,0]
["13.",{"$f":"B113","v":"JODASOVÁ"},"Denisa","6.B",10.97," ",{"$f":"G113","v":"Jilemnice  22.11.22"},684.47261289911864," ",{"$f":"J113","v":0},0,0]
["14.",{"$f":"B114","v":"KRČÍKOVÁ"},"Beatrix","6.B",0," ",{"$f":"G114","v":0},0," ",{"$f":"J114","v":0},0,0]
["15.",{"$f":"B115","v":"KUBÁTOVÁ"},"Veronika","6.B",0," ",{"$f":"G115","v":0},0," ",{"$f":"J115","v":0},0,0]
["16.",{"$f":"B116","v":"LENČEŠOVÁ"},"Silvie","6.B",12.56," ",{"$f":"G116","v":"Jilemnice  22.11.22"},590.36732995249474," ",{"$f":"J116","v":0},0,0]
["17.",{"$f":"B117","v":"MATERNOVÁ"},"Lenka","6.B",11.81," ",{"$f":"G117","v":"Jilemnice  22.11.22"},631.59937482670045," ",{"$f":"J117","v":0},0,0]
["18.",{"$f":"B118","v":"TÓTHOVÁ"},"Viktorie","6.B",13.24," ",{"$f":"G118","v":"Jilemnice  22.11.22"},557.02127698413892," ",{"$f":"J118","v":0},0,0]
["19.",{"$f":"B119","v":"ERBENOVÁ"},"Sára","7.A",12.84," ",{"$f":"G119","v":"Jilemnice  07.03.22"},576.20885373338524," ",{"$f":"J119","v":0},0,0]
["20.",{"$f":"B120","v":"GINGALOVÁ"},"Linda","7.A",0," ",{"$f":"G120","v":0},0," ",{"$f":"J120","v":0},0,0]
["21.",{"$f":"B121","v":"HOFMANOVÁ "},"Nicol","7.A",13.91," ",{"$f":"G121","v":"Jilemnice  07.03.22"},527.35433139491965," ",{"$f":"J121","v":12.25},0,0]
["22.",{"$f":"B122","v":"HOLEŠOVSKÁ"},"Aneta","7.A",0," ",{"$f":"G122","v":0},0," ",{"$f":"J122","v":0},0,0]
["23.",{"$f":"B123","v":"HOLUBCOVÁ"},"Alena","7.A",12.21," ",{"$f":"G123","v":"Jilemnice  07.03.22"},608.97859476139763," ",{"$f":"J123","v":11.03},0,0]
["24.",{"$f":"B124","v":"KOHOUTOVÁ"},"Anna","7.A",13.68," ",{"$f":"G124","v":"Jilemnice  07.03.22"},537.210945550926," ",{"$f":"J124","v":13.62},0,0]
["25.",{"$f":"B125","v":"KRAUSOVÁ"},"Anežka","7.A",12.22," ",{"$f":"G125","v":"Jilemnice  07.03.22"},608.43204931833054," ",{"$f":"J125","v":11.7},0,0]
["26.",{"$f":"B126","v":"KUŽELOVÁ"},"Apoléna","7.A",0," ",{"$f":"G126","v":0},0," ",{"$f":"J126","v":0},0,0]
["27.",{"$f":"B127","v":"MORÁVKOVÁ"},"Lucie","7.A",0," ",{"$f":"G127","v":0},0," ",{"$f":"J127","v":0},0,0]
["28.",{"$f":"B128","v":"SKLENÁROVÁ"},"Eliška","7.A",13.37," ",{"$f":"G128","v":"Jilemnice  07.03.22"},551.03251424856637," ",{"$f":"J128","v":0},0,0]
["29.",{"$f":"B129","v":"ŠEJNOVÁ"},"Karolína","7.A",12.49," ",{"$f":"G129","v":"Jilemnice  07.03.22"},594.00613769175322," ",{"$f":"J129","v":0},0,0]
["30.",{"$f":"B130","v":"ŠTOLFOVÁ"},"Tereza","7.A",0," ",{"$f":"G130","v":0},0," ",{"$f":"J130","v":11.97},0,0]
["31.",{"$f":"B131","v":"ŠUBÍKOVÁ"},"Klára","7.A",12.16," ",{"$f":"G131","v":"Jilemnice  07.03.22"},611.724805828125," ",{"$f":"J131","v":11.62},0,0]
["32.",{"$f":"B132","v":"ŠULKOVSKÁ"},"Klára","7.A",0," ",{"$f":"G132","v":0},0," ",{"$f":"J132","v":0},0,0]
["33.",{"$f":"B133","v":"TULÁČKOVÁ"},"Natálie","7.A",0," ",{"$f":"G133","v":0},0," ",{"$f":"J133","v":0},0,0]
["34.",{"$f":"B134","v":"VOJTÍŠKOVÁ"},"Ella","7.A",0," ",{"$f":"G134","v":0},0," ",{"$f":"J134","v":0},0,0]
["35.",{"$f":"B135","v":"DRUGÁČOVÁ"},"Kristinka","7.B",0," ",{"$f":"G135","v":0},0," ",{"$f":"J135","v":10.84},0,0]
["36.",{"$f":"B136","v":"FAJSTAVROVÁ"},"Karolína","7.B",0," ",{"$f":"G136","v":0},0," ",{"$f":"J136","v":0},0,0]
["37.",{"$f":"B137","v":"FAJSTAVROVÁ"},"Magdaléna","7.B",0," ",{"$f":"G137","v":0},0," ",{"$f":"J137","v":0},0,0]
["38.",{"$f":"B138","v":"HLAVATÁ"},"Anna","7.B",0," ",{"$f":"G138","v":0},0," ",{"$f":"J138","v":11.8},0,0]
["39.",{"$f":"B139","v":"JINDROVÁ"},"Barbora","7.B",0," ",{"$f":"G139","v":0},0," ",{"$f":"J139","v":0},0,0]
["40.",{"$f":"B140","v":"MAŘASOVÁ"},"Vendula","7.B",0," ",{"$f":"G140","v":0},0," ",{"$f":"J140","v":0},0,0]
["41.",{"$f":"B141","v":"PETŘÍČKOVÁ"},"Natálie","7.B",0," ",{"$f":"G141","v":0},0," ",{"$f":"J141","v":0},0,0]
["42.",{"$f":"B142","v":"PETŘÍKOVÁ"},"Adéla","7.B",13.56," ",{"$f":"G142","v":"Jilemnice  07.03.22"},542.48626309267445," ",{"$f":"J142","v":12.88},0,0]
["43.",{"$f":"B143","v":"REGÁLOVÁ"},"Karolína","7.B",0," ",{"$f":"G143","v":0},0," ",{"$f":"J143","v":0},0,0]
["44.",{"$f":"B144","v":"RIEGROVÁ"},"Magdaléna","7.B",12.82," ",{"$f":"G144","v":"Jilemnice  07.03.22"},577.19966307878315," ",{"$f":"J144","v":12.61},0,0]
["45.",{"$f":"B145","v":"RYBENSKÁ"},"Sabina","7.B",0," ",{"$f":"G145","v":0},0," ",{"$f":"J145","v":0},0,0]
["46.",{"$f":"B146","v":"STEINEROVÁ"},"Barbora","7.B",0," ",{"$f":"G146","v":0},0," ",{"$f":"J146","v":0},0,0]
["47.",{"$f":"B147","v":"TOMEŠOVÁ"},"Barbora","7.B",0," ",{"$f":"G147","v":0},0," ",{"$f":"J147","v":0},0,0]
["48.",{"$f":"B148","v":"VOHNOUTOVÁ"},"Aneta","7.B",0," ",{"$f":"G148","v":0},0," ",{"$f":"J148","v":0},0,0]
["49.",{"$f":"B149","v":"HAVLÍKOVÁ"},"Michaela","8.A",12.43," ",{"$f":"G149","v":0},597.1577357980691," ",{"$f":"J149","v":11.13},12.46,0]
["50.",{"$f":"B150","v":"HOLUBCOVÁ"},"Sára","8.A",10.95," ",{"$f":"G150","v":"Jilemnice  02.03.22"},685.83037098051761," ",{"$f":"J150","v":10.65},10.87,0]
["51.",{"$f":"B151","v":"HONCŮ"},"Tereza","8.A",11.03," ",{"$f":"G151","v":0},680.42888189513451," ",{"$f":"J151","v":0},11.63,0]
["52.",{"$f":"B152","v":"HORÁČKOVÁ"},"Kateřina","8.A",10.59," ",{"$f":"G152","v":0},711.14698200535088," ",{"$f":"J152","v":10.83},10.96,0]
["53.",{"$f":"B153","v":"JOUDALOVÁ"},"Daniela","8.A",0," ",{"$f":"G153","v":0},0," ",{"$f":"J153","v":0},14.45,0]
["54.",{"$f":"B154","v":"KLÍMOVÁ"},"Anna","8.A",11.5," ",{"$f":"G154","v":"Jilemnice  02.03.22"},650.21283452782598," ",{"$f":"J154","v":11.3},11.46,0]
["55.",{"$f":"B155","v":"KOHOUTOVÁ"},"Veronika","8.A",11," ",{"$f":"G155","v":" "},682.44523321848476," ",{"$f":"J155","v":10.81},10.88,0]
["56.",{"$f":"B156","v":"KOVÁŘOVÁ"},"Viktorie","8.A",11.2," ",{"$f":"G156","v":" "},669.20692661339285," ",{"$f":"J156","v":10.85},12,0]
["57.",{"$f":"B157","v":"KYNČLOVÁ"},"Anna","8.A",10.45," ",{"$f":"G157","v":"Jilemnice  02.03.22"},721.46340005454545," ",{"$f":"J157","v":10.08},10.8,0]
["58.",{"$f":"B158","v":"MATOUŠOVÁ"},"Tereza","8.A",12.54," ",{"$f":"G158","v":"Jilemnice  02.03.22"},591.40284393434342," ",{"$f":"J158","v":11.86},12.46,0]
["59.",{"$f":"B159","v":"MAZÁNKOVÁ"},"Zuzana","8.A",12.29," ",{"$f":"G159","v":"Jilemnice  02.03.22"},604.63113483346899," ",{"$f":"J159","v":0},12.51,0]
["60.",{"$f":"B160","v":"MORKESOVÁ"},"Sabrina","8.A",10.25," ",{"$f":"G160","v":0},736.69000174666667," ",{"$f":"J160","v":10.16},10.82,0]
["61.",{"$f":"B161","v":"POHOŘALÁ"},"Alžběta","8.A",10.71," ",{"$f":"G161","v":0},702.51900532555237," ",{"$f":"J161","v":10.75},11.52,0]
["62.",{"$f":"B162","v":"SCHOLZOVÁ"},"Laura","8.A",0," ",{"$f":"G162","v":0},0," ",{"$f":"J162","v":11.73},12.75,0]
["63.",{"$f":"B163","v":"VÁCLAVÍKOVÁ"},"Valerie","8.A",10.76," ",{"$f":"G163","v":" "},698.98081321592326," ",{"$f":"J163","v":10.97},0,0]
["64.",{"$f":"B164","v":"ZAPADLOVÁ"},"Emma","8.A",11.3," ",{"$f":"G164","v":"Jilemnice  02.03.22"},662.76350304454274," ",{"$f":"J164","v":10.88},12.18,0]
["65.",{"$f":"B165","v":"ŽIŠKOVÁ"},"Mia","8.A",0," ",{"$f":"G165","v":0},0," ",{"$f":"J165","v":0},11.37,0]
["66.",{"$f":"B166","v":"FARSKÁ"},"Tereza","8.B",12.82," ",{"$f":"G166","v":0},577.19966307878315," ",{"$f":"J166","v":0},0,0]
["67.",{"$f":"B167","v":"FEIXOVÁ"},"Rozálie","8.B",0," ",{"$f":"G167","v":0},0," ",{"$f":"J167","v":0},0,0]
["68.",{"$f":"B168","v":"FIŠEROVÁ"},"Michaela","8.B",11.67," ",{"$f":"G168","v":0},639.88299981462433," ",{"$f":"J168","v":0},0,0]
["69.",{"$f":"B169","v":"HAVLÍČKOVÁ"},"Kristýna","8.B",13.96," ",{"$f":"G169","v":0},525.25456682449851," ",{"$f":"J169","v":0},0,0]
["70.",{"$f":"B170","v":"JODASOVÁ"},"Nikola","8.B",0," ",{"$f":"G170","v":0},0," ",{"$f":"J170","v":0},0,0]
["71.",{"$f":"B171","v":"KADAVÁ"},"Nikola","8.B",13.56," ",{"$f":"G171","v":0},542.48626309267445," ",{"$f":"J171","v":0},0,0]
["72.",{"$f":"B172","v":"KRAFKOVÁ"},"Lucie","8.B",0," ",{"$f":"G172","v":0},0," ",{"$f":"J172","v":0},0,0]
["73.",{"$f":"B173","v":"KŘIVINKOVÁ"},"Alžběta","8.B",0," ",{"$f":"G173","v":0},0," ",{"$f":"J173","v":0},0,0]
["74.",{"$f":"B174","v":"LEŠÁKOVÁ"},"Lenka","8.B",13.13," ",{"$f":"G174","v":0},562.18131761640007," ",{"$f":"J174","v":0},0,0]
["75.",{"$f":"B175","v":"NYKLÍČKOVÁ"},"Adéla","8.B",10.93," ",{"$f":"G175","v":0},687.19309798444647," ",{"$f":"J175","v":0},0,0]
["76.",{"$f":"B176","v":"PLŮCHOVÁ"},"Petra","8.B",12.23," ",{"$f":"G176","v":0},607.88639765358403," ",{"$f":"J176","v":0},0,0]
["77.",{"$f":"B177","v":"PODZIMKOVÁ"},"Eliška","8.B",12.3," ",{"$f":"G177","v":0},604.09167867777762," ",{"$f":"J177","v":0},0,0]
["78.",{"$f":"B178","v":"RUTKAYOVÁ"},"Klára","8.B",0," ",{"$f":"G178","v":0},0," ",{"$f":"J178","v":0},0,0]
["79.",{"$f":"B179","v":"SEIDLOVÁ"},"Zuzana","8.B",0," ",{"$f":"G179","v":0},0," ",{"$f":"J179","v":0},0,0]
["80.",{"$f":"B180","v":"TOMÁŠOVÁ"},"Sára","8.B",14.24," ",{"$f":"G180","v":0},513.76838276708804," ",{"$f":"J180","v":0},0,0]
["81.",{"$f":"B181","v":"VANCLOVÁ"},"Barbora","8.B",0," ",{"$f":"G181","v":0},0," ",{"$f":"J181","v":0},0,0]
["82.",{"$f":"B182","v":"VOTOČKOVÁ"},"Veronika","8.B",0," ",{"$f":"G182","v":0},0," ",{"$f":"J182","v":0},0,0]
["83.",{"$f":"B183","v":"HARTIGOVÁ"},"Anna","9.A",11.29," ",{"$f":"G183","v":"Jilemnice  02.03.22"},663.40270892559784," ",{"$f":"J183","v":0},0,11.41]
["84.",{"$f":"B184","v":"HONCŮ"},"Rozálie","9.A",10.199999999999999," ",{"$f":"G184","v":"Jilemnice  02.03.22"},740.58995242516346," ",{"$f":"J184","v":10.29},0,10.9]
["85.",{"$f":"B185","v":"CHALOUPSKÁ"},"Lucie","9.A",10.16," ",{"$f":"G185","v":"Jilemnice  02.03.22"},743.73755041371385," ",{"$f":"J185","v":10.72},0,11.37]
["86.",{"$f":"B186","v":"KŘÍŽKOVÁ"},"Anna","9.A",11.55," ",{"$f":"G186","v":"Jilemnice  02.03.22"},647.14308227157278," ",{"$f":"J186","v":11.32},0,12.79]
["87.",{"$f":"B187","v":"LUKEŠOVÁ"},"Kristýna","9.A",11.59," ",{"$f":"G187","v":"Jilemnice  02.03.22"},644.70635054098352," ",{"$f":"J187","v":10.83},0,11.42]
["88.",{"$f":"B188","v":"MOTLÍKOVÁ"},"Eliška","9.A",10.6," ",{"$f":"G188","v":"Jilemnice  02.03.22"},710.42052264811321," ",{"$f":"J188","v":10.92},0,11.59]
["89.",{"$f":"B189","v":"POHOŘELÁ"},"Amálie","9.A",10.84," ",{"$f":"G189","v":"Jilemnice  02.03.22"},693.38759734963094," ",{"$f":"J189","v":11.17},0,12.03]
["90.",{"$f":"B190","v":"POLÁČKOVÁ"},"Natálie","9.A",13.54," ",{"$f":"G190","v":"Jilemnice  02.03.22"},543.37457357976371," ",{"$f":"J190","v":13.04},0,13.36]
["91.",{"$f":"B191","v":"ŘEHOŘKOVÁ"},"Lucie","9.A",11.55," ",{"$f":"G191","v":"Jilemnice  02.03.22"},647.14308227157278," ",{"$f":"J191","v":10.37},0,12.83]
["92.",{"$f":"B192","v":"SKÁLOVÁ"},"Alena","9.A",12.36," ",{"$f":"G192","v":"Jilemnice  02.03.22"},600.87327277804752," ",{"$f":"J192","v":11.83},0,12.8]
["93.",{"$f":"B193","v":"VÁVROVÁ "},"Aneta","9.A",11.11," ",{"$f":"G193","v":"Jilemnice  02.03.22"},675.10518203150309," ",{"$f":"J193","v":0},0,11.91]
["94.",{"$f":"B194","v":"ZELINKOVÁ"},"Klára","9.A",10.62," ",{"$f":"G194","v":"Jilemnice  02.03.22"},708.97170822379167," ",{"$f":"J194","v":11.13},0,11.77]
[]
[]
[null,"HEJRALOVÁ","Natálie","6.A",12.05,null,"Jilemnice  22.11.22",{"$f":"IF(E101=0,0,IF(E101>0,((1000 - 321 / E101 + 340 / E101*2 - 16600 / E101*3 + 32190000000 / E101*4)/15000000-62)*0.95))","v":617.84669144425982}]
[null,"KERLE","Nikita","6.A",11.46,null,"Jilemnice  22.11.22",652.68792273443864]
[null,"PACLÍKOVÁ","Markéta","6.A",11.26,null,"Jilemnice  22.11.22",665.3271387095914]
[null,"PLŮCHOVÁ","Michaela","6.A",11.41,null,"Jilemnice  22.11.22",655.80618679842246]
[null,"ŠERCLOVÁ","Nikola","6.A",null,null,null,0]
[null,"VÁCLAVÍKOVÁ","Alena","6.A",11.91,null,"Jilemnice  22.11.22",625.80173157318779]
[null,"DUCHÁČKOVÁ","Tereza","6.B",13.48,null,"Jilemnice  22.11.22",546.05532065801185]
[null,"FLAŠKOVÁ","Anna Sabriel","6.B",12.93,null,"Jilemnice  22.11.22",571.78814289533375]
[null,"HAASOVÁ","Julie","6.B",12.7,null,"Jilemnice  22.11.22",583.21005299763783]
[null,"HOBLOVÁ","Barbora","6.B",12.03,null,"Jilemnice  22.11.22",618.97178974535893]
[null,"HORÁČKOVÁ","Valérie","6.B",11.46,null,"Jilemnice  22.11.22",652.68792273443864]
[null,"JIRANOVÁ","Anežka","6.B",13.88,null,"Jilemnice  22.11.22",528.62145157084524]
[null,"JODASOVÁ","Denisa","6.B",10.97,null,"Jilemnice  22.11.22",684.47261289911864]
[null,"KRČÍKOVÁ","Beatrix","6.B",null,null,null,0]
[null,"KUBÁTOVÁ","Veronika","6.B",null,null,null,0]
[null,"LENČEŠOVÁ","Silvie","6.B",12.56,null,"Jilemnice  22.11.22",590.36732995249474]
[null,"MATERNOVÁ","Lenka","6.B",11.81,null,"Jilemnice  22.11.22",631.59937482670045]
[null,"TÓTHOVÁ","Viktorie","6.B",13.24,null,"Jilemnice  22.11.22",557.02127698413892]
[null,"ERBENOVÁ","Sára","7.A",12.84,null,"Jilemnice  07.03.22",576.20885373338524]
[null,"GINGALOVÁ","Linda","7.A",null,null,null,0]
[null,"HOFMANOVÁ ","Nicol","7.A",13.91,null,"Jilemnice  07.03.22",527.35433139491965,null,12.25]
[null,"HOLEŠOVSKÁ","Aneta","7.A",null,null,null,0]
[null,"HOLUBCOVÁ","Alena","7.A",12.21,null,"Jilemnice  07.03.22",608.97859476139763,null,11.03]
[null,"KOHOUTOVÁ","Anna","7.A",13.68,null,"Jilemnice  07.03.22",537.210945550926,null,13.62]
[null,"KRAUSOVÁ","Anežka","7.A",12.22,null,"Jilemnice  07.03.22",608.43204931833054,null,11.7]
[null,"KUŽELOVÁ","Apoléna","7.A",null,null,null,0]
[null,"MORÁVKOVÁ","Lucie","7.A",null,null,null,0]
[null,"SKLENÁROVÁ","Eliška","7.A",13.37,null,"Jilemnice  07.03.22",551.03251424856637]
[null,"ŠEJNOVÁ","Karolína","7.A",12.49,null,"Jilemnice  07.03.22",594.00613769175322]
[null,"ŠTOLFOVÁ","Tereza","7.A",null,null,null,0,null,11.97]
[null,"ŠUBÍKOVÁ","Klára","7.A",12.16,null,"Jilemnice  07.03.22",611.724805828125,null,11.62]
[null,"ŠULKOVSKÁ","Klára","7.A",null,null,null,0]
[null,"TULÁČKOVÁ","Natálie","7.A",null,null,null,{"$f":"IF(E133=0,0,IF(E133>0,((1000 - 321 / E133 + 340 / E133*2 - 16600 / E133*3 + 32190000000 / E133*4)/15000000-62)*0.95))","v":0}]
[null,"VOJTÍŠKOVÁ","Ella","7.A",null,null,null,0]
[null,"DRUGÁČOVÁ","Kristinka","7.B",null,null,null,0,null,10.84]
[null,"FAJSTAVROVÁ","Karolína","7.B",null,null,null,0]
[null,"FAJSTAVROVÁ","Magdaléna","7.B",null,null,null,0]
[null,"HLAVATÁ","Anna","7.B",null,null,null,0,null,11.8]
[null,"JINDROVÁ","Barbora","7.B",null,null,null,0]
[null,"MAŘASOVÁ","Vendula","7.B",null,null,null,0]
[null,"PETŘÍČKOVÁ","Natálie","7.B",null,null,null,0]
[null,"PETŘÍKOVÁ","Adéla","7.B",13.56,null,"Jilemnice  07.03.22",542.48626309267445,null,12.88]
[null,"REGÁLOVÁ","Karolína","7.B",null,null,null,0]
[null,"RIEGROVÁ","Magdaléna","7.B",12.82,null,"Jilemnice  07.03.22",577.19966307878315,null,12.61]
[null,"RYBENSKÁ","Sabina","7.B",null,null,null,0]
[null,"STEINEROVÁ","Barbora","7.B",null,null,null,0]
[null,"TOMEŠOVÁ","Barbora","7.B",null,null,null,0]
[null,"VOHNOUTOVÁ","Aneta","7.B",null,null,null,0]
[null,"HAVLÍKOVÁ","Michaela","8.A",12.43,null,null,597.1577357980691,null,11.13,12.46]
[null,"HOLUBCOVÁ","Sára","8.A",10.95,null,"Jilemnice  02.03.22",685.83037098051761,null,10.65,10.87]
[null,"HONCŮ","Tereza","8.A",11.03,null,null,680.42888189513451,null,null,11.63]
[null,"HORÁČKOVÁ","Kateřina","8.A",10.59,null,null,711.14698200535088,null,10.83,10.96]
[null,"JOUDALOVÁ","Daniela","8.A",null,null,null,0,null,null,14.45]
[null,"KLÍMOVÁ","Anna","8.A",11.5,null,"Jilemnice  02.03.22",650.21283452782598,null,11.3,11.46]
[null,"KOHOUTOVÁ","Veronika","8.A",11,null," ",682.44523321848476,null,10.81,10.88]
[null,"KOVÁŘOVÁ","Viktorie","8.A",11.2,null," ",669.20692661339285,null,10.85,12]
[null,"KYNČLOVÁ","Anna","8.A",10.45,null,"Jilemnice  02.03.22",721.46340005454545,null,10.08,10.8]
[null,"MATOUŠOVÁ","Tereza","8.A",12.54,null,"Jilemnice  02.03.22",591.40284393434342,null,11.86,12.46]
[null,"MAZÁNKOVÁ","Zuzana","8.A",12.29,null,"Jilemnice  02.03.22",604.63113483346899,null,null,12.51]
[null,"MORKESOVÁ","Sabrina","8.A",10.25,null,null,736.69000174666667,null,10.16,10.82]
[null,"POHOŘALÁ","Alžběta","8.A",10.71,null,null,702.51900532555237,null,10.75,11.52]
[null,"SCHOLZOVÁ","Laura","8.A",null,null,null,0,null,11.73,12.75]
[null,"VÁCLAVÍKOVÁ","Valerie","8.A",10.76,null," ",698.98081321592326,null,10.97]
[null,"ZAPADLOVÁ","Emma","8.A",11.3,null,"Jilemnice  02.03.22",662.76350304454274,null,10.88,12.18]
[null,"ŽIŠKOVÁ","Mia","8.A",null,null,null,{"$f":"IF(E165=0,0,IF(E165>0,((1000 - 321 / E165 + 340 / E165*2 - 16600 / E165*3 + 32190000000 / E165*4)/15000000-62)*0.95))","v":0},null,null,11.37]
[null,"FARSKÁ","Tereza","8.B",12.82,null,null,577.19966307878315]
[null,"FEIXOVÁ","Rozálie","8.B",null,null,null,0]
[null,"FIŠEROVÁ","Michaela","8.B",11.67,null,null,639.88299981462433]
[null,"HAVLÍČKOVÁ","Kristýna","8.B",13.96,null,null,525.25456682449851]
[null,"JODASOVÁ","Nikola","8.B",null,null,null,0]
[null,"KADAVÁ","Nikola","8.B",13.56,null,null,542.48626309267445]
[null,"KRAFKOVÁ","Lucie","8.B",null,null,null,0]
[null,"KŘIVINKOVÁ","Alžběta","8.B",null,null,null,0]
[null,"LEŠÁKOVÁ","Lenka","8.B",13.13,null,null,562.18131761640007]
[null,"NYKLÍČKOVÁ","Adéla","8.B",10.93,null,null,687.19309798444647]
[null,"PLŮCHOVÁ","Petra","8.B",12.23,null,null,607.88639765358403]
[null,"PODZIMKOVÁ","Eliška","8.B",12.3,null,null,604.09167867777762]
[null,"RUTKAYOVÁ","Klára","8.B",null,null,null,0]
[null,"SEIDLOVÁ","Zuzana","8.B",null,null,null,0]
[null,"TOMÁŠOVÁ","Sára","8.B",14.24,null,null,513.76838276708804]
[null,"VANCLOVÁ","Barbora","8.B",null,null,null,0]
[null,"VOTOČKOVÁ","Veronika","8.B",null,null,null,0]
[null,"HARTIGOVÁ","Anna","9.A",11.29,null,"Jilemnice  02.03.22",663.40270892559784,null,null,null,11.41]
[null,"HONCŮ","Rozálie","9.A",10.199999999999999,null,"Jilemnice  02.03.22",740.58995242516346,null,10.29,null,10.9]
[null,"CHALOUPSKÁ","Lucie","9.A",10.16,null,"Jilemnice  02.03.22",743.73755041371385,null,10.72,null,11.37]
[null,"KŘÍŽKOVÁ","Anna","9.A",11.55,null,"Jilemnice  02.03.22",647.14308227157278,null,11.32,null,12.79]
[null,"LUKEŠOVÁ","Kristýna","9.A",11.59,null,"Jilemnice  02.03.22",644.70635054098352,null,10.83,null,11.42]
[null,"MOTLÍKOVÁ","Eliška","9.A",10.6,null,"Jilemnice  02.03.22",710.42052264811321,null,10.92,null,11.59]
[null,"POHOŘELÁ","Amálie","9.A",10.84,null,"Jilemnice  02.03.22",693.38759734963094,null,11.17,null,12.03]
[null,"POLÁČKOVÁ","Natálie","9.A",13.54,null,"Jilemnice  02.03.22",543.37457357976371,null,13.04,null,13.36]
[null,"ŘEHOŘKOVÁ","Lucie","9.A",11.55,null,"Jilemnice  02.03.22",647.14308227157278,null,10.37,null,12.83]
[null,"SKÁLOVÁ","Alena","9.A",12.36,null,"Jilemnice  02.03.22",600.87327277804752,null,11.83,null,12.8]
[null,"VÁVROVÁ ","Aneta","9.A",11.11,null,"Jilemnice  02.03.22",675.10518203150309,null,null,null,11.91]
[null,"ZELINKOVÁ","Klára","9.A",10.62,null,"Jilemnice  02.03.22",708.97170822379167,null,11.13,null,11.77]

{"sheet":"Dls","index":15,"n_rows":194,"n_cols":12,"rows_kept":194,"cut":false,"hidden":false,"merged":[]}
[null,null,"VÝKONY   2020 - 2021",null,null,null,"LEHSED","    DĚVČATA  6. -  9.  ROČ."]
[null,null,null,null,null,null,null,null,null,null,"stav  k ",{"$f":"TODAY()","v":"2022-06-28"}]
[null,null,null,null,null,null,null,"   BODY",null,"   20 - 21   ","   19 - 20   ","   18 - 19   "]
[]
["1.",{"$f":"B101","v":"HEJRALOVÁ"},{"$f":"C101","v":"Natálie"},"6.A",0," ",0,0," ",0,0,0]
["2.",{"$f":"B102","v":"KERLE"},"Nikita","6.A",0," ",{"$f":"G102","v":0},0," ",{"$f":"J102","v":0},0,0]
["3.",{"$f":"B103","v":"PACLÍKOVÁ"},"Markéta","6.A",0," ",{"$f":"G103","v":0},0," ",{"$f":"J103","v":0},0,0]
["4.",{"$f":"B104","v":"PLŮCHOVÁ"},"Michaela","6.A",0," ",{"$f":"G104","v":0},0," ",{"$f":"J104","v":0},0,0]
["5.",{"$f":"B105","v":"ŠERCLOVÁ"},"Nikola","6.A",0," ",{"$f":"G105","v":0},0," ",{"$f":"J105","v":0},0,0]
["6.",{"$f":"B106","v":"VÁCLAVÍKOVÁ"},"Alena","6.A",0," ",{"$f":"G106","v":0},0," ",{"$f":"J106","v":0},0,0]
["7.",{"$f":"B107","v":"DUCHÁČKOVÁ"},"Tereza","6.B",0," ",{"$f":"G107","v":0},0," ",{"$f":"J107","v":0},0,0]
["8.",{"$f":"B108","v":"FLAŠKOVÁ"},"Anna Sabriel","6.B",0," ",{"$f":"G108","v":0},0," ",{"$f":"J108","v":0},0,0]
["9.",{"$f":"B109","v":"HAASOVÁ"},"Julie","6.B",0," ",{"$f":"G109","v":0},0," ",{"$f":"J109","v":0},0,0]
["10.",{"$f":"B110","v":"HOBLOVÁ"},"Barbora","6.B",0," ",{"$f":"G110","v":0},0," ",{"$f":"J110","v":0},0,0]
["11.",{"$f":"B111","v":"HORÁČKOVÁ"},"Valérie","6.B",0," ",{"$f":"G111","v":0},0," ",{"$f":"J111","v":0},0,0]
["12.",{"$f":"B112","v":"JIRANOVÁ"},"Anežka","6.B",0," ",{"$f":"G112","v":0},0," ",{"$f":"J112","v":0},0,0]
["13.",{"$f":"B113","v":"JODASOVÁ"},"Denisa","6.B",0," ",{"$f":"G113","v":0},0," ",{"$f":"J113","v":0},0,0]
["14.",{"$f":"B114","v":"KRČÍKOVÁ"},"Beatrix","6.B",0," ",{"$f":"G114","v":0},0," ",{"$f":"J114","v":0},0,0]
["15.",{"$f":"B115","v":"KUBÁTOVÁ"},"Veronika","6.B",0," ",{"$f":"G115","v":0},0," ",{"$f":"J115","v":0},0,0]
["16.",{"$f":"B116","v":"LENČEŠOVÁ"},"Silvie","6.B",0," ",{"$f":"G116","v":0},0," ",{"$f":"J116","v":0},0,0]
["17.",{"$f":"B117","v":"MATERNOVÁ"},"Lenka","6.B",0," ",{"$f":"G117","v":0},0," ",{"$f":"J117","v":0},0,0]
["18.",{"$f":"B118","v":"TÓTHOVÁ"},"Viktorie","6.B",0," ",{"$f":"G118","v":0},0," ",{"$f":"J118","v":0},0,0]
["19.",{"$f":"B119","v":"ERBENOVÁ"},"Sára","7.A",0," ",{"$f":"G119","v":0},0," ",{"$f":"J119","v":37},0,0]
["20.",{"$f":"B120","v":"GINGALOVÁ"},"Linda","7.A",0," ",{"$f":"G120","v":0},0," ",{"$f":"J120","v":0},0,0]
["21.",{"$f":"B121","v":"HOFMANOVÁ "},"Nicol","7.A",0," ",{"$f":"G121","v":0},0," ",{"$f":"J121","v":26},0,0]
["22.",{"$f":"B122","v":"HOLEŠOVSKÁ"},"Aneta","7.A",0," ",{"$f":"G122","v":0},0," ",{"$f":"J122","v":0},0,0]
["23.",{"$f":"B123","v":"HOLUBCOVÁ"},"Alena","7.A",0," ",{"$f":"G123","v":0},0," ",{"$f":"J123","v":0},0,0]
["24.",{"$f":"B124","v":"KOHOUTOVÁ"},"Anna","7.A",0," ",{"$f":"G124","v":0},0," ",{"$f":"J124","v":0},0,0]
["25.",{"$f":"B125","v":"KRAUSOVÁ"},"Anežka","7.A",0," ",{"$f":"G125","v":0},0," ",{"$f":"J125","v":36},0,0]
["26.",{"$f":"B126","v":"KUŽELOVÁ"},"Apoléna","7.A",0," ",{"$f":"G126","v":0},0," ",{"$f":"J126","v":0},0,0]
["27.",{"$f":"B127","v":"MORÁVKOVÁ"},"Lucie","7.A",0," ",{"$f":"G127","v":0},0," ",{"$f":"J127","v":43},0,0]
["28.",{"$f":"B128","v":"SKLENÁROVÁ"},"Eliška","7.A",0," ",{"$f":"G128","v":0},0," ",{"$f":"J128","v":40},0,0]
["29.",{"$f":"B129","v":"ŠEJNOVÁ"},"Karolína","7.A",0," ",{"$f":"G129","v":0},0," ",{"$f":"J129","v":0},0,0]
["30.",{"$f":"B130","v":"ŠTOLFOVÁ"},"Tereza","7.A",0," ",{"$f":"G130","v":0},0," ",{"$f":"J130","v":0},0,0]
["31.",{"$f":"B131","v":"ŠUBÍKOVÁ"},"Klára","7.A",0," ",{"$f":"G131","v":0},0," ",{"$f":"J131","v":0},0,0]
["32.",{"$f":"B132","v":"ŠULKOVSKÁ"},"Klára","7.A",0," ",{"$f":"G132","v":0},0," ",{"$f":"J132","v":0},0,0]
["33.",{"$f":"B133","v":"TULÁČKOVÁ"},"Natálie","7.A",0," ",{"$f":"G133","v":0},0," ",{"$f":"J133","v":46},0,0]
["34.",{"$f":"B134","v":"VOJTÍŠKOVÁ"},"Ella","7.A",0," ",{"$f":"G134","v":0},0," ",{"$f":"J134","v":0},0,0]
["35.",{"$f":"B135","v":"DRUGÁČOVÁ"},"Kristinka","7.B",0," ",{"$f":"G135","v":0},0," ",{"$f":"J135","v":28},0,0]
["36.",{"$f":"B136","v":"FAJSTAVROVÁ"},"Karolína","7.B",0," ",{"$f":"G136","v":0},0," ",{"$f":"J136","v":20},0,0]
["37.",{"$f":"B137","v":"FAJSTAVROVÁ"},"Magdaléna","7.B",0," ",{"$f":"G137","v":0},0," ",{"$f":"J137","v":43},0,0]
["38.",{"$f":"B138","v":"HLAVATÁ"},"Anna","7.B",0," ",{"$f":"G138","v":0},0," ",{"$f":"J138","v":0},0,0]
["39.",{"$f":"B139","v":"JINDROVÁ"},"Barbora","7.B",0," ",{"$f":"G139","v":0},0," ",{"$f":"J139","v":23},0,0]
["40.",{"$f":"B140","v":"MAŘASOVÁ"},"Vendula","7.B",0," ",{"$f":"G140","v":0},0," ",{"$f":"J140","v":0},0,0]
["41.",{"$f":"B141","v":"PETŘÍČKOVÁ"},"Natálie","7.B",0," ",{"$f":"G141","v":0},0," ",{"$f":"J141","v":0},0,0]
["42.",{"$f":"B142","v":"PETŘÍKOVÁ"},"Adéla","7.B",0," ",{"$f":"G142","v":0},0," ",{"$f":"J142","v":22},0,0]
["43.",{"$f":"B143","v":"REGÁLOVÁ"},"Karolína","7.B",0," ",{"$f":"G143","v":0},0," ",{"$f":"J143","v":54},0,0]
["44.",{"$f":"B144","v":"RIEGROVÁ"},"Magdaléna","7.B",0," ",{"$f":"G144","v":0},0," ",{"$f":"J144","v":0},0,0]
["45.",{"$f":"B145","v":"RYBENSKÁ"},"Sabina","7.B",0," ",{"$f":"G145","v":0},0," ",{"$f":"J145","v":0},0,0]
["46.",{"$f":"B146","v":"STEINEROVÁ"},"Barbora","7.B",0," ",{"$f":"G146","v":0},0," ",{"$f":"J146","v":0},0,0]
["47.",{"$f":"B147","v":"TOMEŠOVÁ"},"Barbora","7.B",0," ",{"$f":"G147","v":0},0," ",{"$f":"J147","v":0},0,0]
["48.",{"$f":"B148","v":"VOHNOUTOVÁ"},"Aneta","7.B",0," ",{"$f":"G148","v":0},0," ",{"$f":"J148","v":56},0,0]
["49.",{"$f":"B149","v":"HAVLÍKOVÁ"},"Michaela","8.A",0," ",{"$f":"G149","v":0},0," ",{"$f":"J149","v":0},0,0]
["50.",{"$f":"B150","v":"HOLUBCOVÁ"},"Sára","8.A",0," ",{"$f":"G150","v":0},0," ",{"$f":"J150","v":0},0,0]
["51.",{"$f":"B151","v":"HONCŮ"},"Tereza","8.A",0," ",{"$f":"G151","v":0},0," ",{"$f":"J151","v":0},0,0]
["52.",{"$f":"B152","v":"HORÁČKOVÁ"},"Kateřina","8.A",0," ",{"$f":"G152","v":0},0," ",{"$f":"J152","v":37},0,0]
["53.",{"$f":"B153","v":"JOUDALOVÁ"},"Daniela","8.A",0," ",{"$f":"G153","v":0},0," ",{"$f":"J153","v":0},0,0]
["54.",{"$f":"B154","v":"KLÍMOVÁ"},"Anna","8.A",0," ",{"$f":"G154","v":0},0," ",{"$f":"J154","v":0},0,0]
["55.",{"$f":"B155","v":"KOHOUTOVÁ"},"Veronika","8.A",0," ",{"$f":"G155","v":0},0," ",{"$f":"J155","v":0},0,0]
["56.",{"$f":"B156","v":"KOVÁŘOVÁ"},"Viktorie","8.A",0," ",{"$f":"G156","v":0},0," ",{"$f":"J156","v":40},0,0]
["57.",{"$f":"B157","v":"KYNČLOVÁ"},"Anna","8.A",0," ",{"$f":"G157","v":0},0," ",{"$f":"J157","v":51},0,0]
["58.",{"$f":"B158","v":"MATOUŠOVÁ"},"Tereza","8.A",0," ",{"$f":"G158","v":0},0," ",{"$f":"J158","v":0},0,0]
["59.",{"$f":"B159","v":"MAZÁNKOVÁ"},"Zuzana","8.A",0," ",{"$f":"G159","v":0},0," ",{"$f":"J159","v":0},0,0]
["60.",{"$f":"B160","v":"MORKESOVÁ"},"Sabrina","8.A",0," ",{"$f":"G160","v":0},0," ",{"$f":"J160","v":37},0,0]
["61.",{"$f":"B161","v":"POHOŘALÁ"},"Alžběta","8.A",0," ",{"$f":"G161","v":0},0," ",{"$f":"J161","v":0},0,0]
["62.",{"$f":"B162","v":"SCHOLZOVÁ"},"Laura","8.A",0," ",{"$f":"G162","v":0},0," ",{"$f":"J162","v":0},0,0]
["63.",{"$f":"B163","v":"VÁCLAVÍKOVÁ"},"Valerie","8.A",0," ",{"$f":"G163","v":0},0," ",{"$f":"J163","v":36},0,0]
["64.",{"$f":"B164","v":"ZAPADLOVÁ"},"Emma","8.A",0," ",{"$f":"G164","v":0},0," ",{"$f":"J164","v":33},0,0]
["65.",{"$f":"B165","v":"ŽIŠKOVÁ"},"Mia","8.A",0," ",{"$f":"G165","v":0},0," ",{"$f":"J165","v":0},0,0]
["66.",{"$f":"B166","v":"FARSKÁ"},"Tereza","8.B",0," ",{"$f":"G166","v":0},0," ",{"$f":"J166","v":32},0,0]
["67.",{"$f":"B167","v":"FEIXOVÁ"},"Rozálie","8.B",0," ",{"$f":"G167","v":0},0," ",{"$f":"J167","v":0},0,0]
["68.",{"$f":"B168","v":"FIŠEROVÁ"},"Michaela","8.B",0," ",{"$f":"G168","v":0},0," ",{"$f":"J168","v":0},0,0]
["69.",{"$f":"B169","v":"HAVLÍČKOVÁ"},"Kristýna","8.B",0," ",{"$f":"G169","v":0},0," ",{"$f":"J169","v":0},0,0]
["70.",{"$f":"B170","v":"JODASOVÁ"},"Nikola","8.B",0," ",{"$f":"G170","v":0},0," ",{"$f":"J170","v":0},0,0]
["71.",{"$f":"B171","v":"KADAVÁ"},"Nikola","8.B",0," ",{"$f":"G171","v":0},0," ",{"$f":"J171","v":40},0,0]
["72.",{"$f":"B172","v":"KRAFKOVÁ"},"Lucie","8.B",0," ",{"$f":"G172","v":0},0," ",{"$f":"J172","v":0},0,0]
["73.",{"$f":"B173","v":"KŘIVINKOVÁ"},"Alžběta","8.B",0," ",{"$f":"G173","v":0},0," ",{"$f":"J173","v":0},0,0]
["74.",{"$f":"B174","v":"LEŠÁKOVÁ"},"Lenka","8.B",0," ",{"$f":"G174","v":0},0," ",{"$f":"J174","v":0},0,0]
["75.",{"$f":"B175","v":"NYKLÍČKOVÁ"},"Adéla","8.B",0," ",{"$f":"G175","v":0},0," ",{"$f":"J175","v":0},0,0]
["76.",{"$f":"B176","v":"PLŮCHOVÁ"},"Petra","8.B",0," ",{"$f":"G176","v":0},0," ",{"$f":"J176","v":0},0,0]
["77.",{"$f":"B177","v":"PODZIMKOVÁ"},"Eliška","8.B",0," ",{"$f":"G177","v":0},0," ",{"$f":"J177","v":0},0,0]
["78.",{"$f":"B178","v":"RUTKAYOVÁ"},"Klára","8.B",0," ",{"$f":"G178","v":0},0," ",{"$f":"J178","v":40},0,0]
["79.",{"$f":"B179","v":"SEIDLOVÁ"},"Zuzana","8.B",0," ",{"$f":"G179","v":0},0," ",{"$f":"J179","v":25},0,0]
["80.",{"$f":"B180","v":"TOMÁŠOVÁ"},"Sára","8.B",0," ",{"$f":"G180","v":0},0," ",{"$f":"J180","v":0},0,0]
["81.",{"$f":"B181","v":"VANCLOVÁ"},"Barbora","8.B",0," ",{"$f":"G181","v":0},0," ",{"$f":"J181","v":0},0,0]
["82.",{"$f":"B182","v":"VOTOČKOVÁ"},"Veronika","8.B",0," ",{"$f":"G182","v":0},0," ",{"$f":"J182","v":0},0,0]
["83.",{"$f":"B183","v":"HARTIGOVÁ"},"Anna","9.A",0," ",{"$f":"G183","v":0},0," ",{"$f":"J183","v":0},0,41]
["84.",{"$f":"B184","v":"HONCŮ"},"Rozálie","9.A",0," ",{"$f":"G184","v":0},0," ",{"$f":"J184","v":0},0,47]
["85.",{"$f":"B185","v":"CHALOUPSKÁ"},"Lucie","9.A",0," ",{"$f":"G185","v":0},0," ",{"$f":"J185","v":0},0,51]
["86.",{"$f":"B186","v":"KŘÍŽKOVÁ"},"Anna","9.A",0," ",{"$f":"G186","v":0},0," ",{"$f":"J186","v":0},0,41]
["87.",{"$f":"B187","v":"LUKEŠOVÁ"},"Kristýna","9.A",0," ",{"$f":"G187","v":0},0," ",{"$f":"J187","v":0},0,48]
["88.",{"$f":"B188","v":"MOTLÍKOVÁ"},"Eliška","9.A",0," ",{"$f":"G188","v":0},0," ",{"$f":"J188","v":0},0,40]
["89.",{"$f":"B189","v":"POHOŘELÁ"},"Amálie","9.A",0," ",{"$f":"G189","v":0},0," ",{"$f":"J189","v":37},0,45]
["90.",{"$f":"B190","v":"POLÁČKOVÁ"},"Natálie","9.A",0," ",{"$f":"G190","v":0},0," ",{"$f":"J190","v":0},0,40]
["91.",{"$f":"B191","v":"ŘEHOŘKOVÁ"},"Lucie","9.A",0," ",{"$f":"G191","v":0},0," ",{"$f":"J191","v":0},0,37]
["92.",{"$f":"B192","v":"SKÁLOVÁ"},"Alena","9.A",0," ",{"$f":"G192","v":0},0," ",{"$f":"J192","v":0},0,0]
["93.",{"$f":"B193","v":"VÁVROVÁ "},"Aneta","9.A",0," ",{"$f":"G193","v":0},0," ",{"$f":"J193","v":26},0,32]
["94.",{"$f":"B194","v":"ZELINKOVÁ"},"Klára","9.A",0," ",{"$f":"G194","v":0},0," ",{"$f":"J194","v":0},0,19]
[]
[]
[null,"HEJRALOVÁ","Natálie","6.A",null,null,null,{"$f":"IF(E101=0,0,IF(E101>0,(E101*13.89+28)))","v":0}]
[null,"KERLE","Nikita","6.A",null,null,null,0]
[null,"PACLÍKOVÁ","Markéta","6.A",null,null,null,0]
[null,"PLŮCHOVÁ","Michaela","6.A",null,null,null,0]
[null,"ŠERCLOVÁ","Nikola","6.A",null,null,null,0]
[null,"VÁCLAVÍKOVÁ","Alena","6.A",null,null,null,0]
[null,"DUCHÁČKOVÁ","Tereza","6.B",null,null,null,0]
[null,"FLAŠKOVÁ","Anna Sabriel","6.B",null,null,null,0]
[null,"HAASOVÁ","Julie","6.B",null,null,null,0]
[null,"HOBLOVÁ","Barbora","6.B",null,null,null,0]
[null,"HORÁČKOVÁ","Valérie","6.B",null,null,null,0]
[null,"JIRANOVÁ","Anežka","6.B",null,null,null,0]
[null,"JODASOVÁ","Denisa","6.B",null,null,null,0]
[null,"KRČÍKOVÁ","Beatrix","6.B",null,null,null,0]
[null,"KUBÁTOVÁ","Veronika","6.B",null,null,null,0]
[null,"LENČEŠOVÁ","Silvie","6.B",null,null,null,0]
[null,"MATERNOVÁ","Lenka","6.B",null,null,null,0]
[null,"TÓTHOVÁ","Viktorie","6.B",null,null,null,0]
[null,"ERBENOVÁ","Sára","7.A",null,null,null,0,null,37]
[null,"GINGALOVÁ","Linda","7.A",null,null,null,0]
[null,"HOFMANOVÁ ","Nicol","7.A",null,null,null,0,null,26]
[null,"HOLEŠOVSKÁ","Aneta","7.A",null,null,null,0]
[null,"HOLUBCOVÁ","Alena","7.A",null,null,null,0]
[null,"KOHOUTOVÁ","Anna","7.A",null,null,null,0]
[null,"KRAUSOVÁ","Anežka","7.A",null,null,null,0,null,36]
[null,"KUŽELOVÁ","Apoléna","7.A",null,null,null,0]
[null,"MORÁVKOVÁ","Lucie","7.A",null,null,null,0,null,43]
[null,"SKLENÁROVÁ","Eliška","7.A",null,null,null,0,null,40]
[null,"ŠEJNOVÁ","Karolína","7.A",null,null,null,0]
[null,"ŠTOLFOVÁ","Tereza","7.A",null,null,null,0]
[null,"ŠUBÍKOVÁ","Klára","7.A",null,null,null,0]
[null,"ŠULKOVSKÁ","Klára","7.A",null,null,null,0]
[null,"TULÁČKOVÁ","Natálie","7.A",null,null,null,{"$f":"IF(E133=0,0,IF(E133>0,(E133*13.89+28)))","v":0},null,46]
[null,"VOJTÍŠKOVÁ","Ella","7.A",null,null,null,0]
[null,"DRUGÁČOVÁ","Kristinka","7.B",null,null,null,0,null,28]
[null,"FAJSTAVROVÁ","Karolína","7.B",null,null,null,0,null,20]
[null,"FAJSTAVROVÁ","Magdaléna","7.B",null,null,null,0,null,43]
[null,"HLAVATÁ","Anna","7.B",null,null,null,0]
[null,"JINDROVÁ","Barbora","7.B",null,null,null,0,null,23]
[null,"MAŘASOVÁ","Vendula","7.B",null,null,null,0]
[null,"PETŘÍČKOVÁ","Natálie","7.B",null,null,null,0]
[null,"PETŘÍKOVÁ","Adéla","7.B",null,null,null,0,null,22]
[null,"REGÁLOVÁ","Karolína","7.B",null,null,null,0,null,54]
[null,"RIEGROVÁ","Magdaléna","7.B",null,null,null,0]
[null,"RYBENSKÁ","Sabina","7.B",null,null,null,0]
[null,"STEINEROVÁ","Barbora","7.B",null,null,null,0]
[null,"TOMEŠOVÁ","Barbora","7.B",null,null,null,0]
[null,"VOHNOUTOVÁ","Aneta","7.B",null,null,null,0,null,56]
[null,"HAVLÍKOVÁ","Michaela","8.A",null,null,null,0]
[null,"HOLUBCOVÁ","Sára","8.A",null,null,null,0]
[null,"HONCŮ","Tereza","8.A",null,null,null,0]
[null,"HORÁČKOVÁ","Kateřina","8.A",null,null,null,0,null,37]
[null,"JOUDALOVÁ","Daniela","8.A",null,null,null,0]
[null,"KLÍMOVÁ","Anna","8.A",null,null,null,0]
[null,"KOHOUTOVÁ","Veronika","8.A",null,null,null,0]
[null,"KOVÁŘOVÁ","Viktorie","8.A",null,null,null,0,null,40]
[null,"KYNČLOVÁ","Anna","8.A",null,null,null,0,null,51]
[null,"MATOUŠOVÁ","Tereza","8.A",null,null,null,0]
[null,"MAZÁNKOVÁ","Zuzana","8.A",null,null,null,0]
[null,"MORKESOVÁ","Sabrina","8.A",null,null,null,0,null,37]
[null,"POHOŘALÁ","Alžběta","8.A",null,null,null,0]
[null,"SCHOLZOVÁ","Laura","8.A",null,null,null,0]
[null,"VÁCLAVÍKOVÁ","Valerie","8.A",null,null,null,0,null,36]
[null,"ZAPADLOVÁ","Emma","8.A",null,null,null,0,null,33]
[null,"ŽIŠKOVÁ","Mia","8.A",null,null,null,{"$f":"IF(E165=0,0,IF(E165>0,(E165*13.89+28)))","v":0}]
[null,"FARSKÁ","Tereza","8.B",null,null,null,0,null,32]
[null,"FEIXOVÁ","Rozálie","8.B",null,null,null,0]
[null,"FIŠEROVÁ","Michaela","8.B",null,null,null,0]
[null,"HAVLÍČKOVÁ","Kristýna","8.B",null,null,null,0]
[null,"JODASOVÁ","Nikola","8.B",null,null,null,0]
[null,"KADAVÁ","Nikola","8.B",null,null,null,0,null,40]
[null,"KRAFKOVÁ","Lucie","8.B",null,null,null,0]
[null,"KŘIVINKOVÁ","Alžběta","8.B",null,null,null,0]
[null,"LEŠÁKOVÁ","Lenka","8.B",null,null,null,0]
[null,"NYKLÍČKOVÁ","Adéla","8.B",null,null,null,0]
[null,"PLŮCHOVÁ","Petra","8.B",null,null,null,0]
[null,"PODZIMKOVÁ","Eliška","8.B",null,null,null,0]
[null,"RUTKAYOVÁ","Klára","8.B",null,null,null,0,null,40]
[null,"SEIDLOVÁ","Zuzana","8.B",null,null,null,0,null,25]
[null,"TOMÁŠOVÁ","Sára","8.B",null,null,null,0]
[null,"VANCLOVÁ","Barbora","8.B",null,null,null,0]
[null,"VOTOČKOVÁ","Veronika","8.B",null,null,null,0]
[null,"HARTIGOVÁ","Anna","9.A",null,null,null,0,null,null,null,41]
[null,"HONCŮ","Rozálie","9.A",null,null,null,0,null,null,null,47]
[null,"CHALOUPSKÁ","Lucie","9.A",null,null,null,0,null,null,null,51]
[null,"KŘÍŽKOVÁ","Anna","9.A",null,null,null,0,null,null,null,41]
[null,"LUKEŠOVÁ","Kristýna","9.A",null,null,null,0,null,null,null,48]
[null,"MOTLÍKOVÁ","Eliška","9.A",null,null,null,0,null,null,null,40]
[null,"POHOŘELÁ","Amálie","9.A",null,null,null,0,null,37,null,45]
[null,"POLÁČKOVÁ","Natálie","9.A",null,null,null,0,null,null,null,40]
[null,"ŘEHOŘKOVÁ","Lucie","9.A",null,null,null,0,null,null,null,37]
[null,"SKÁLOVÁ","Alena","9.A",null,null,null,0]
[null,"VÁVROVÁ ","Aneta","9.A",null,null,null,0,null,26,null,32]
[null,"ZELINKOVÁ","Klára","9.A",null,null,null,0,null,null,null,19]

{"sheet":"Dodbíj","index":16,"n_rows":194,"n_cols":12,"rows_kept":194,"cut":false,"hidden":false,"merged":[]}
[null,null,"VÝKONY   2020 - 2021",null,null,null,"ODBÍJENÍ","DĚVČATA  6. -  9.  ROČ."]
[null,null,null,null,null,null,null,null,null,null,"stav  k ",{"$f":"TODAY()","v":"2022-06-28"}]
[null,null,null,null,null,null,null,"   BODY",null,"   20 - 21   ","   19 - 20   ","   18 - 19   "]
[]
["1.",{"$f":"B101","v":"HEJRALOVÁ"},{"$f":"C101","v":"Natálie"},"6.A",0," ",0,0," ",0,0,0]
["2.",{"$f":"B102","v":"KERLE"},"Nikita","6.A",0," ",{"$f":"G102","v":0},0," ",{"$f":"J102","v":0},0,0]
["3.",{"$f":"B103","v":"PACLÍKOVÁ"},"Markéta","6.A",0," ",{"$f":"G103","v":0},0," ",{"$f":"J103","v":0},0,0]
["4.",{"$f":"B104","v":"PLŮCHOVÁ"},"Michaela","6.A",0," ",{"$f":"G104","v":0},0," ",{"$f":"J104","v":0},0,0]
["5.",{"$f":"B105","v":"ŠERCLOVÁ"},"Nikola","6.A",0," ",{"$f":"G105","v":0},0," ",{"$f":"J105","v":0},0,0]
["6.",{"$f":"B106","v":"VÁCLAVÍKOVÁ"},"Alena","6.A",0," ",{"$f":"G106","v":0},0," ",{"$f":"J106","v":0},0,0]
["7.",{"$f":"B107","v":"DUCHÁČKOVÁ"},"Tereza","6.B",0," ",{"$f":"G107","v":0},0," ",{"$f":"J107","v":0},0,0]
["8.",{"$f":"B108","v":"FLAŠKOVÁ"},"Anna Sabriel","6.B",0," ",{"$f":"G108","v":0},0," ",{"$f":"J108","v":0},0,0]
["9.",{"$f":"B109","v":"HAASOVÁ"},"Julie","6.B",0," ",{"$f":"G109","v":0},0," ",{"$f":"J109","v":0},0,0]
["10.",{"$f":"B110","v":"HOBLOVÁ"},"Barbora","6.B",0," ",{"$f":"G110","v":0},0," ",{"$f":"J110","v":0},0,0]
["11.",{"$f":"B111","v":"HORÁČKOVÁ"},"Valérie","6.B",0," ",{"$f":"G111","v":0},0," ",{"$f":"J111","v":0},0,0]
["12.",{"$f":"B112","v":"JIRANOVÁ"},"Anežka","6.B",0," ",{"$f":"G112","v":0},0," ",{"$f":"J112","v":0},0,0]
["13.",{"$f":"B113","v":"JODASOVÁ"},"Denisa","6.B",0," ",{"$f":"G113","v":0},0," ",{"$f":"J113","v":0},0,0]
["14.",{"$f":"B114","v":"KRČÍKOVÁ"},"Beatrix","6.B",0," ",{"$f":"G114","v":0},0," ",{"$f":"J114","v":0},0,0]
["15.",{"$f":"B115","v":"KUBÁTOVÁ"},"Veronika","6.B",0," ",{"$f":"G115","v":0},0," ",{"$f":"J115","v":0},0,0]
["16.",{"$f":"B116","v":"LENČEŠOVÁ"},"Silvie","6.B",0," ",{"$f":"G116","v":0},0," ",{"$f":"J116","v":0},0,0]
["17.",{"$f":"B117","v":"MATERNOVÁ"},"Lenka","6.B",0," ",{"$f":"G117","v":0},0," ",{"$f":"J117","v":0},0,0]
["18.",{"$f":"B118","v":"TÓTHOVÁ"},"Viktorie","6.B",0," ",{"$f":"G118","v":0},0," ",{"$f":"J118","v":0},0,0]
["19.",{"$f":"B119","v":"ERBENOVÁ"},"Sára","7.A",17," ",{"$f":"G119","v":"Jilemnice 13.06.22"},51," ",{"$f":"J119","v":0},0,0]
["20.",{"$f":"B120","v":"GINGALOVÁ"},"Linda","7.A",0," ",{"$f":"G120","v":0},0," ",{"$f":"J120","v":0},0,0]
["21.",{"$f":"B121","v":"HOFMANOVÁ "},"Nicol","7.A",17," ",{"$f":"G121","v":"Jilemnice 13.06.22"},51," ",{"$f":"J121","v":0},0,0]
["22.",{"$f":"B122","v":"HOLEŠOVSKÁ"},"Aneta","7.A",0," ",{"$f":"G122","v":0},0," ",{"$f":"J122","v":0},0,0]
["23.",{"$f":"B123","v":"HOLUBCOVÁ"},"Alena","7.A",10," ",{"$f":"G123","v":"Jilemnice 13.06.22"},30," ",{"$f":"J123","v":0},0,0]
["24.",{"$f":"B124","v":"KOHOUTOVÁ"},"Anna","7.A",7," ",{"$f":"G124","v":"Jilemnice 13.06.22"},21," ",{"$f":"J124","v":0},0,0]
["25.",{"$f":"B125","v":"KRAUSOVÁ"},"Anežka","7.A",16," ",{"$f":"G125","v":"Jilemnice 13.06.22"},48," ",{"$f":"J125","v":0},0,0]
["26.",{"$f":"B126","v":"KUŽELOVÁ"},"Apoléna","7.A",0," ",{"$f":"G126","v":0},0," ",{"$f":"J126","v":0},0,0]
["27.",{"$f":"B127","v":"MORÁVKOVÁ"},"Lucie","7.A",0," ",{"$f":"G127","v":0},0," ",{"$f":"J127","v":0},0,0]
["28.",{"$f":"B128","v":"SKLENÁROVÁ"},"Eliška","7.A",7," ",{"$f":"G128","v":"Jilemnice 13.06.22"},21," ",{"$f":"J128","v":0},0,0]
["29.",{"$f":"B129","v":"ŠEJNOVÁ"},"Karolína","7.A",17," ",{"$f":"G129","v":"Jilemnice 13.06.22"},51," ",{"$f":"J129","v":0},0,0]
["30.",{"$f":"B130","v":"ŠTOLFOVÁ"},"Tereza","7.A",16," ",{"$f":"G130","v":"Jilemnice 13.06.22"},48," ",{"$f":"J130","v":0},0,0]
["31.",{"$f":"B131","v":"ŠUBÍKOVÁ"},"Klára","7.A",10," ",{"$f":"G131","v":"Jilemnice 13.06.22"},30," ",{"$f":"J131","v":0},0,0]
["32.",{"$f":"B132","v":"ŠULKOVSKÁ"},"Klára","7.A",17," ",{"$f":"G132","v":"Jilemnice 13.06.22"},51," ",{"$f":"J132","v":0},0,0]
["33.",{"$f":"B133","v":"TULÁČKOVÁ"},"Natálie","7.A",0," ",{"$f":"G133","v":0},0," ",{"$f":"J133","v":0},0,0]
["34.",{"$f":"B134","v":"VOJTÍŠKOVÁ"},"Ella","7.A",0," ",{"$f":"G134","v":0},0," ",{"$f":"J134","v":0},0,0]
["35.",{"$f":"B135","v":"DRUGÁČOVÁ"},"Kristinka","7.B",0," ",{"$f":"G135","v":0},0," ",{"$f":"J135","v":0},0,0]
["36.",{"$f":"B136","v":"FAJSTAVROVÁ"},"Karolína","7.B",0," ",{"$f":"G136","v":0},0," ",{"$f":"J136","v":0},0,0]
["37.",{"$f":"B137","v":"FAJSTAVROVÁ"},"Magdaléna","7.B",0," ",{"$f":"G137","v":0},0," ",{"$f":"J137","v":0},0,0]
["38.",{"$f":"B138","v":"HLAVATÁ"},"Anna","7.B",0," ",{"$f":"G138","v":0},0," ",{"$f":"J138","v":0},0,0]
["39.",{"$f":"B139","v":"JINDROVÁ"},"Barbora","7.B",0," ",{"$f":"G139","v":0},0," ",{"$f":"J139","v":0},0,0]
["40.",{"$f":"B140","v":"MAŘASOVÁ"},"Vendula","7.B",0," ",{"$f":"G140","v":0},0," ",{"$f":"J140","v":0},0,0]
["41.",{"$f":"B141","v":"PETŘÍČKOVÁ"},"Natálie","7.B",0," ",{"$f":"G141","v":0},0," ",{"$f":"J141","v":0},0,0]
["42.",{"$f":"B142","v":"PETŘÍKOVÁ"},"Adéla","7.B",6," ",{"$f":"G142","v":"Jilemnice 13.06.22"},18," ",{"$f":"J142","v":0},0,0]
["43.",{"$f":"B143","v":"REGÁLOVÁ"},"Karolína","7.B",0," ",{"$f":"G143","v":0},0," ",{"$f":"J143","v":0},0,0]
["44.",{"$f":"B144","v":"RIEGROVÁ"},"Magdaléna","7.B",6," ",{"$f":"G144","v":"Jilemnice 13.06.22"},18," ",{"$f":"J144","v":0},0,0]
["45.",{"$f":"B145","v":"RYBENSKÁ"},"Sabina","7.B",0," ",{"$f":"G145","v":0},0," ",{"$f":"J145","v":0},0,0]
["46.",{"$f":"B146","v":"STEINEROVÁ"},"Barbora","7.B",0," ",{"$f":"G146","v":0},0," ",{"$f":"J146","v":0},0,0]
["47.",{"$f":"B147","v":"TOMEŠOVÁ"},"Barbora","7.B",0," ",{"$f":"G147","v":0},0," ",{"$f":"J147","v":0},0,0]
["48.",{"$f":"B148","v":"VOHNOUTOVÁ"},"Aneta","7.B",0," ",{"$f":"G148","v":0},0," ",{"$f":"J148","v":0},0,0]
["49.",{"$f":"B149","v":"HAVLÍKOVÁ"},"Michaela","8.A",9," ",{"$f":"G149","v":"Jilemnice  25.05.22"},27," ",{"$f":"J149","v":0},3,0]
["50.",{"$f":"B150","v":"HOLUBCOVÁ"},"Sára","8.A",10," ",{"$f":"G150","v":"Jilemnice  03.01.22"},30," ",{"$f":"J150","v":0},8,0]
["51.",{"$f":"B151","v":"HONCŮ"},"Tereza","8.A",9," ",{"$f":"G151","v":"Jilemnice  25.05.22"},27," ",{"$f":"J151","v":0},6,0]
["52.",{"$f":"B152","v":"HORÁČKOVÁ"},"Kateřina","8.A",19," ",{"$f":"G152","v":"Jilemnice  03.01.22"},57," ",{"$f":"J152","v":0},7,0]
["53.",{"$f":"B153","v":"JOUDALOVÁ"},"Daniela","8.A",0," ",{"$f":"G153","v":0},0," ",{"$f":"J153","v":0},0,0]
["54.",{"$f":"B154","v":"KLÍMOVÁ"},"Anna","8.A",9," ",{"$f":"G154","v":"Jilemnice  25.05.22"},27," ",{"$f":"J154","v":0},6,0]
["55.",{"$f":"B155","v":"KOHOUTOVÁ"},"Veronika","8.A",10," ",{"$f":"G155","v":"Jilemnice  03.01.22"},30," ",{"$f":"J155","v":0},6,0]
["56.",{"$f":"B156","v":"KOVÁŘOVÁ"},"Viktorie","8.A",6," ",{"$f":"G156","v":"Jilemnice  03.01.22"},18," ",{"$f":"J156","v":0},8,0]
["57.",{"$f":"B157","v":"KYNČLOVÁ"},"Anna","8.A",6," ",{"$f":"G157","v":"Jilemnice  03.01.22"},18," ",{"$f":"J157","v":0},10,0]
["58.",{"$f":"B158","v":"MATOUŠOVÁ"},"Tereza","8.A",10," ",{"$f":"G158","v":"Jilemnice  03.01.22"},{"$f":"H158","v":30}," ",{"$f":"J158","v":0},9,0]
["59.",{"$f":"B159","v":"MAZÁNKOVÁ"},"Zuzana","8.A",0," ",{"$f":"#REF!","v":{"$error":"#REF!"}},{"$f":"H159","v":0}," ",{"$f":"J159","v":0},6,0]
["60.",{"$f":"B160","v":"MORKESOVÁ"},"Sabrina","8.A",19," ",{"$f":"G160","v":"Jilemnice  03.01.22"},57," ",{"$f":"J160","v":0},9,0]
["61.",{"$f":"B161","v":"POHOŘALÁ"},"Alžběta","8.A",6," ",{"$f":"G162","v":"Jilemnice  03.01.22"},{"$f":"H161","v":18}," ",{"$f":"J161","v":0},11,0]
["62.",{"$f":"B162","v":"SCHOLZOVÁ"},"Laura","8.A",2," ",{"$f":"#REF!","v":{"$error":"#REF!"}},{"$f":"H162","v":6}," ",{"$f":"J162","v":0},6,0]
["63.",{"$f":"B163","v":"VÁCLAVÍKOVÁ"},"Valerie","8.A",10," ",{"$f":"G163","v":"Jilemnice  03.01.22"},30," ",{"$f":"J163","v":0},11,0]
["64.",{"$f":"B164","v":"ZAPADLOVÁ"},"Emma","8.A",8," ",{"$f":"G164","v":"Jilemnice  03.01.22"},{"$f":"H164","v":24}," ",{"$f":"J164","v":0},10,0]
["65.",{"$f":"B165","v":"ŽIŠKOVÁ"},"Mia","8.A",8," ",{"$f":"#REF!","v":{"$error":"#REF!"}},{"$f":"H165","v":24}," ",{"$f":"J165","v":0},9,0]
["66.",{"$f":"B166","v":"FARSKÁ"},"Tereza","8.B",0," ",{"$f":"G166","v":0},0," ",{"$f":"J166","v":0},0,0]
["67.",{"$f":"B167","v":"FEIXOVÁ"},"Rozálie","8.B",0," ",{"$f":"G167","v":0},0," ",{"$f":"J167","v":0},0,0]
["68.",{"$f":"B168","v":"FIŠEROVÁ"},"Michaela","8.B",0," ",{"$f":"G168","v":0},0," ",{"$f":"J168","v":0},0,0]
["69.",{"$f":"B169","v":"HAVLÍČKOVÁ"},"Kristýna","8.B",0," ",{"$f":"G169","v":0},0," ",{"$f":"J169","v":0},0,0]
["70.",{"$f":"B170","v":"JODASOVÁ"},"Nikola","8.B",0," ",{"$f":"G170","v":0},0," ",{"$f":"J170","v":0},0,0]
["71.",{"$f":"B171","v":"KADAVÁ"},"Nikola","8.B",0," ",{"$f":"G171","v":0},0," ",{"$f":"J171","v":0},0,0]
["72.",{"$f":"B172","v":"KRAFKOVÁ"},"Lucie","8.B",0," ",{"$f":"G172","v":0},0," ",{"$f":"J172","v":0},0,0]
["73.",{"$f":"B173","v":"KŘIVINKOVÁ"},"Alžběta","8.B",0," ",{"$f":"G173","v":0},0," ",{"$f":"J173","v":0},0,0]
["74.",{"$f":"B174","v":"LEŠÁKOVÁ"},"Lenka","8.B",0," ",{"$f":"G174","v":0},0," ",{"$f":"J174","v":0},0,0]
["75.",{"$f":"B175","v":"NYKLÍČKOVÁ"},"Adéla","8.B",0," ",{"$f":"G175","v":0},0," ",{"$f":"J175","v":0},0,0]
["76.",{"$f":"B176","v":"PLŮCHOVÁ"},"Petra","8.B",0," ",{"$f":"G176","v":0},0," ",{"$f":"J176","v":0},0,0]
["77.",{"$f":"B177","v":"PODZIMKOVÁ"},"Eliška","8.B",0," ",{"$f":"G177","v":0},0," ",{"$f":"J177","v":0},0,0]
["78.",{"$f":"B178","v":"RUTKAYOVÁ"},"Klára","8.B",0," ",{"$f":"G178","v":0},0," ",{"$f":"J178","v":0},0,0]
["79.",{"$f":"B179","v":"SEIDLOVÁ"},"Zuzana","8.B",0," ",{"$f":"G179","v":0},0," ",{"$f":"J179","v":0},0,0]
["80.",{"$f":"B180","v":"TOMÁŠOVÁ"},"Sára","8.B",0," ",{"$f":"G180","v":0},0," ",{"$f":"J180","v":0},0,0]
["81.",{"$f":"B181","v":"VANCLOVÁ"},"Barbora","8.B",0," ",{"$f":"G181","v":0},0," ",{"$f":"J181","v":0},0,0]
["82.",{"$f":"B182","v":"VOTOČKOVÁ"},"Veronika","8.B",0," ",{"$f":"G182","v":0},0," ",{"$f":"J182","v":0},0,0]
["83.",{"$f":"B183","v":"HARTIGOVÁ"},"Anna","9.A",39," ",{"$f":"G183","v":"Jilemnice  25.05.22"},117," ",{"$f":"J183","v":21},0,19]
["84.",{"$f":"B184","v":"HONCŮ"},"Rozálie","9.A",12," ",{"$f":"G184","v":"Jilemnice  25.05.22"},36," ",{"$f":"J184","v":10},0,5]
["85.",{"$f":"B185","v":"CHALOUPSKÁ"},"Lucie","9.A",0," ",{"$f":"G185","v":0},0," ",{"$f":"J185","v":4},0,10]
["86.",{"$f":"B186","v":"KŘÍŽKOVÁ"},"Anna","9.A",15," ",{"$f":"G186","v":"Jilemnice  25.05.22"},45," ",{"$f":"J186","v":12},0,10]
["87.",{"$f":"B187","v":"LUKEŠOVÁ"},"Kristýna","9.A",12," ",{"$f":"G187","v":"Jilemnice  25.05.22"},36," ",{"$f":"J187","v":10},0,5]
["88.",{"$f":"B188","v":"MOTLÍKOVÁ"},"Eliška","9.A",22," ",{"$f":"G188","v":"Jilemnice  25.05.22"},66," ",{"$f":"J188","v":10},0,11]
["89.",{"$f":"B189","v":"POHOŘELÁ"},"Amálie","9.A",15," ",{"$f":"G189","v":"Jilemnice  25.05.22"},45," ",{"$f":"J189","v":12},0,9]
["90.",{"$f":"B190","v":"POLÁČKOVÁ"},"Natálie","9.A",9," ",{"$f":"G190","v":"Jilemnice  25.05.22"},27," ",{"$f":"J190","v":6},0,0]
["91.",{"$f":"B191","v":"ŘEHOŘKOVÁ"},"Lucie","9.A",9," ",{"$f":"G191","v":"Jilemnice  25.05.22"},27," ",{"$f":"J191","v":6},0,19]
["92.",{"$f":"B192","v":"SKÁLOVÁ"},"Alena","9.A",5," ",{"$f":"G192","v":"Jilemnice  25.05.22"},15," ",{"$f":"J192","v":4},0,4]
["93.",{"$f":"B193","v":"VÁVROVÁ "},"Aneta","9.A",39," ",{"$f":"G193","v":"Jilemnice  25.05.22"},117," ",{"$f":"J193","v":21},0,11]
["94.","ZELINKOVÁ","Klára","9.A",22," ","Jilemnice  25.05.22",66," ",10,0,10]
[]
[]
[null,"HEJRALOVÁ","Natálie","6.A",null,null,null,{"$f":"IF(E101=0,0,IF(E101<101,3*E101,IF(E101>80,300+E101/2.5)))","v":0}]
[null,"KERLE","Nikita","6.A",null,null,null,0]
[null,"PACLÍKOVÁ","Markéta","6.A",null,null,null,0]
[null,"PLŮCHOVÁ","Michaela","6.A",null,null,null,0]
[null,"ŠERCLOVÁ","Nikola","6.A",null,null,null,0]
[null,"VÁCLAVÍKOVÁ","Alena","6.A",null,null,null,0]
[null,"DUCHÁČKOVÁ","Tereza","6.B",null,null,null,0]
[null,"FLAŠKOVÁ","Anna Sabriel","6.B",null,null,null,0]
[null,"HAASOVÁ","Julie","6.B",null,null,null,0]
[null,"HOBLOVÁ","Barbora","6.B",null,null,null,0]
[null,"HORÁČKOVÁ","Valérie","6.B",null,null,null,0]
[null,"JIRANOVÁ","Anežka","6.B",null,null,null,0]
[null,"JODASOVÁ","Denisa","6.B",null,null,null,0]
[null,"KRČÍKOVÁ","Beatrix","6.B",null,null,null,0]
[null,"KUBÁTOVÁ","Veronika","6.B",null,null,null,0]
[null,"LENČEŠOVÁ","Silvie","6.B",null,null,null,0]
[null,"MATERNOVÁ","Lenka","6.B",null,null,null,0]
[null,"TÓTHOVÁ","Viktorie","6.B",null,null,null,0]
[null,"ERBENOVÁ","Sára","7.A",17,null,"Jilemnice 13.06.22",51]
[null,"GINGALOVÁ","Linda","7.A",null,null,null,0]
[null,"HOFMANOVÁ ","Nicol","7.A",17,null,"Jilemnice 13.06.22",51]
[null,"HOLEŠOVSKÁ","Aneta","7.A",null,null,null,0]
[null,"HOLUBCOVÁ","Alena","7.A",10,null,"Jilemnice 13.06.22",30]
[null,"KOHOUTOVÁ","Anna","7.A",7,null,"Jilemnice 13.06.22",21]
[null,"KRAUSOVÁ","Anežka","7.A",16,null,"Jilemnice 13.06.22",48]
[null,"KUŽELOVÁ","Apoléna","7.A",null,null,null,0]
[null,"MORÁVKOVÁ","Lucie","7.A",null,null,null,0]
[null,"SKLENÁROVÁ","Eliška","7.A",7,null,"Jilemnice 13.06.22",21]
[null,"ŠEJNOVÁ","Karolína","7.A",17,null,"Jilemnice 13.06.22",51]
[null,"ŠTOLFOVÁ","Tereza","7.A",16,null,"Jilemnice 13.06.22",48]
[null,"ŠUBÍKOVÁ","Klára","7.A",10,null,"Jilemnice 13.06.22",30]
[null,"ŠULKOVSKÁ","Klára","7.A",17,null,"Jilemnice 13.06.22",51]
[null,"TULÁČKOVÁ","Natálie","7.A",null,null,null,{"$f":"IF(E133=0,0,IF(E133<101,3*E133,IF(E133>80,300+E133/2.5)))","v":0}]
[null,"VOJTÍŠKOVÁ","Ella","7.A",null,null,null,0]
[null,"DRUGÁČOVÁ","Kristinka","7.B",null,null,null,0]
[null,"FAJSTAVROVÁ","Karolína","7.B",null,null,null,0]
[null,"FAJSTAVROVÁ","Magdaléna","7.B",null,null,null,0]
[null,"HLAVATÁ","Anna","7.B",null,null,null,0]
[null,"JINDROVÁ","Barbora","7.B",null,null,null,0]
[null,"MAŘASOVÁ","Vendula","7.B",null,null,null,0]
[null,"PETŘÍČKOVÁ","Natálie","7.B",null,null,null,0]
[null,"PETŘÍKOVÁ","Adéla","7.B",6,null,"Jilemnice 13.06.22",18]
[null,"REGÁLOVÁ","Karolína","7.B",null,null,null,0]
[null,"RIEGROVÁ","Magdaléna","7.B",6,null,"Jilemnice 13.06.22",18]
[null,"RYBENSKÁ","Sabina","7.B",null,null,null,0]
[null,"STEINEROVÁ","Barbora","7.B",null,null,null,0]
[null,"TOMEŠOVÁ","Barbora","7.B",null,null,null,0]
[null,"VOHNOUTOVÁ","Aneta","7.B",null,null,null,0]
[null,"HAVLÍKOVÁ","Michaela","8.A",9,null,"Jilemnice  25.05.22",27,null,null,3]
[null,"HOLUBCOVÁ","Sára","8.A",10,null,"Jilemnice  03.01.22",30,null,null,8]
[null,"HONCŮ","Tereza","8.A",9,null,"Jilemnice  25.05.22",27,null,null,6]
[null,"HORÁČKOVÁ","Kateřina","8.A",19,null,"Jilemnice  03.01.22",57,null,null,7]
[null,"JOUDALOVÁ","Daniela","8.A",null,null,null,0]
[null,"KLÍMOVÁ","Anna","8.A",9,null,"Jilemnice  25.05.22",27,null,null,6]
[null,"KOHOUTOVÁ","Veronika","8.A",10,null,"Jilemnice  03.01.22",30,null,null,6]
[null,"KOVÁŘOVÁ","Viktorie","8.A",6,null,"Jilemnice  03.01.22",18,null,null,8]
[null,"KYNČLOVÁ","Anna","8.A",6,null,"Jilemnice  03.01.22",18,null,null,10]
[null,"MATOUŠOVÁ","Tereza","8.A",10,null,"Jilemnice  03.01.22",30,null,null,9]
[null,"MAZÁNKOVÁ","Zuzana","8.A",null,null,null,0,null,null,6]
[null,"MORKESOVÁ","Sabrina","8.A",19,null,"Jilemnice  03.01.22",57,null,null,9]
[null,"POHOŘALÁ","Alžběta","8.A",6,null,"Jilemnice  03.01.22",18,null,null,11]
[null,"SCHOLZOVÁ","Laura","8.A",2,null,"Jilemnice  03.01.22",6,null,null,6]
[null,"VÁCLAVÍKOVÁ","Valerie","8.A",10,null,"Jilemnice  03.01.22",30,null,null,11]
[null,"ZAPADLOVÁ","Emma","8.A",8,null,"Jilemnice  03.01.22",24,null,null,10]
[null,"ŽIŠKOVÁ","Mia","8.A",8,null,"Jilemnice  03.01.22",{"$f":"IF(E165=0,0,IF(E165<101,3*E165,IF(E165>80,300+E165/2.5)))","v":24},null,null,9]
[null,"FARSKÁ","Tereza","8.B",null,null,null,0]
[null,"FEIXOVÁ","Rozálie","8.B",null,null,null,0]
[null,"FIŠEROVÁ","Michaela","8.B",null,null,null,0]
[null,"HAVLÍČKOVÁ","Kristýna","8.B",null,null,null,0]
[null,"JODASOVÁ","Nikola","8.B",null,null,null,0]
[null,"KADAVÁ","Nikola","8.B",null,null,null,0]
[null,"KRAFKOVÁ","Lucie","8.B",null,null,null,0]
[null,"KŘIVINKOVÁ","Alžběta","8.B",null,null,null,0]
[null,"LEŠÁKOVÁ","Lenka","8.B",null,null,null,0]
[null,"NYKLÍČKOVÁ","Adéla","8.B",null,null,null,0]
[null,"PLŮCHOVÁ","Petra","8.B",null,null,null,0]
[null,"PODZIMKOVÁ","Eliška","8.B",null,null,null,0]
[null,"RUTKAYOVÁ","Klára","8.B",null,null,null,0]
[null,"SEIDLOVÁ","Zuzana","8.B",null,null,null,0]
[null,"TOMÁŠOVÁ","Sára","8.B",null,null,null,0]
[null,"VANCLOVÁ","Barbora","8.B",null,null,null,0]
[null,"VOTOČKOVÁ","Veronika","8.B",null,null,null,0]
[null,"HARTIGOVÁ","Anna","9.A",39,null,"Jilemnice  25.05.22",117,null,21,null,19]
[null,"HONCŮ","Rozálie","9.A",12,null,"Jilemnice  25.05.22",36,null,10,null,5]
[null,"CHALOUPSKÁ","Lucie","9.A",null,null,null,0,null,4,null,10]
[null,"KŘÍŽKOVÁ","Anna","9.A",15,null,"Jilemnice  25.05.22",45,null,12,null,10]
[null,"LUKEŠOVÁ","Kristýna","9.A",12,null,"Jilemnice  25.05.22",36,null,10,null,5]
[null,"MOTLÍKOVÁ","Eliška","9.A",22,null,"Jilemnice  25.05.22",66,null,10,null,11]
[null,"POHOŘELÁ","Amálie","9.A",15,null,"Jilemnice  25.05.22",45,null,12,null,9]
[null,"POLÁČKOVÁ","Natálie","9.A",9,null,"Jilemnice  25.05.22",27,null,6]
[null,"ŘEHOŘKOVÁ","Lucie","9.A",9,null,"Jilemnice  25.05.22",27,null,6,null,19]
[null,"SKÁLOVÁ","Alena","9.A",5,null,"Jilemnice  25.05.22",15,null,4,null,4]
[null,"VÁVROVÁ ","Aneta","9.A",39,null,"Jilemnice  25.05.22",117,null,21,null,11]
[null,"ZELINKOVÁ","Klára","9.A",22,null,"Jilemnice  25.05.22",66,null,10,null,10]

{"sheet":"Dplav","index":17,"n_rows":194,"n_cols":12,"rows_kept":194,"cut":false,"hidden":false,"merged":[]}
[null,null,"VÝKONY   2020 - 2021",null,null,null,"PLAVÁNÍ","   DĚVČATA  6. -  9.  ROČ."]
[null,null,null,null,null,null,null,null,null,null,"stav  k ",{"$f":"TODAY()","v":44740}]
[null,null,null,null,null,null,null,"   BODY",null,"   20 - 21   ","   19 - 20   ","   18 - 19   "]
[]
["1.",{"$f":"B101","v":"HEJRALOVÁ"},{"$f":"C101","v":"Natálie"},"6.A",0," ",0,0," ",0,0,0]
["2.",{"$f":"B102","v":"KERLE"},"Nikita","6.A",0," ",{"$f":"G102","v":0},0," ",{"$f":"J102","v":0},0,0]
["3.",{"$f":"B103","v":"PACLÍKOVÁ"},"Markéta","6.A",0," ",{"$f":"G103","v":0},0," ",{"$f":"J103","v":0},0,0]
["4.",{"$f":"B104","v":"PLŮCHOVÁ"},"Michaela","6.A",0," ",{"$f":"G104","v":0},0," ",{"$f":"J104","v":0},0,0]
["5.",{"$f":"B105","v":"ŠERCLOVÁ"},"Nikola","6.A",0," ",{"$f":"G105","v":0},0," ",{"$f":"J105","v":0},0,0]
["6.",{"$f":"B106","v":"VÁCLAVÍKOVÁ"},"Alena","6.A",0," ",{"$f":"G106","v":0},0," ",{"$f":"J106","v":0},0,0]
["7.",{"$f":"B107","v":"DUCHÁČKOVÁ"},"Tereza","6.B",0," ",{"$f":"G107","v":0},0," ",{"$f":"J107","v":0},0,0]
["8.",{"$f":"B108","v":"FLAŠKOVÁ"},"Anna Sabriel","6.B",0," ",{"$f":"G108","v":0},0," ",{"$f":"J108","v":0},0,0]
["9.",{"$f":"B109","v":"HAASOVÁ"},"Julie","6.B",0," ",{"$f":"G109","v":0},0," ",{"$f":"J109","v":0},0,0]
["10.",{"$f":"B110","v":"HOBLOVÁ"},"Barbora","6.B",0," ",{"$f":"G110","v":0},0," ",{"$f":"J110","v":0},0,0]
["11.",{"$f":"B111","v":"HORÁČKOVÁ"},"Valérie","6.B",20.86," ",{"$f":"G111","v":"Jilemnice  11.01.22"},674.28398581016302," ",{"$f":"J111","v":0},0,0]
["12.",{"$f":"B112","v":"JIRANOVÁ"},"Anežka","6.B",0," ",{"$f":"G112","v":0},0," ",{"$f":"J112","v":0},0,0]
["13.",{"$f":"B113","v":"JODASOVÁ"},"Denisa","6.B",0," ",{"$f":"G113","v":0},0," ",{"$f":"J113","v":0},0,0]
["14.",{"$f":"B114","v":"KRČÍKOVÁ"},"Beatrix","6.B",0," ",{"$f":"G114","v":0},0," ",{"$f":"J114","v":0},0,0]
["15.",{"$f":"B115","v":"KUBÁTOVÁ"},"Veronika","6.B",0," ",{"$f":"G115","v":0},0," ",{"$f":"J115","v":0},0,0]
["16.",{"$f":"B116","v":"LENČEŠOVÁ"},"Silvie","6.B",0," ",{"$f":"G116","v":0},0," ",{"$f":"J116","v":0},0,0]
["17.",{"$f":"B117","v":"MATERNOVÁ"},"Lenka","6.B",0," ",{"$f":"G117","v":0},0," ",{"$f":"J117","v":0},0,0]
["18.",{"$f":"B118","v":"TÓTHOVÁ"},"Viktorie","6.B",0," ",{"$f":"G118","v":0},0," ",{"$f":"J118","v":0},0,0]
["19.",{"$f":"B119","v":"ERBENOVÁ"},"Sára","7.A",0," ",{"$f":"G119","v":0},0," ",{"$f":"J119","v":0},0,0]
["20.",{"$f":"B120","v":"GINGALOVÁ"},"Linda","7.A",0," ",{"$f":"G120","v":0},0," ",{"$f":"J120","v":0},0,0]
["21.",{"$f":"B121","v":"HOFMANOVÁ "},"Nicol","7.A",0," ",{"$f":"G121","v":0},0," ",{"$f":"J121","v":0},0,0]
["22.",{"$f":"B122","v":"HOLEŠOVSKÁ"},"Aneta","7.A",0," ",{"$f":"G122","v":0},0," ",{"$f":"J122","v":0},0,0]
["23.",{"$f":"B123","v":"HOLUBCOVÁ"},"Alena","7.A",0," ",{"$f":"G123","v":0},0," ",{"$f":"J123","v":0},0,0]
["24.",{"$f":"B124","v":"KOHOUTOVÁ"},"Anna","7.A",0," ",{"$f":"G124","v":0},0," ",{"$f":"J124","v":0},0,0]
["25.",{"$f":"B125","v":"KRAUSOVÁ"},"Anežka","7.A",0," ",{"$f":"G125","v":0},0," ",{"$f":"J125","v":0},0,0]
["26.",{"$f":"B126","v":"KUŽELOVÁ"},"Apoléna","7.A",0," ",{"$f":"G126","v":0},0," ",{"$f":"J126","v":0},0,0]
["27.",{"$f":"B127","v":"MORÁVKOVÁ"},"Lucie","7.A",0," ",{"$f":"G127","v":0},0," ",{"$f":"J127","v":0},0,0]
["28.",{"$f":"B128","v":"SKLENÁROVÁ"},"Eliška","7.A",0," ",{"$f":"G128","v":0},0," ",{"$f":"J128","v":0},0,0]
["29.",{"$f":"B129","v":"ŠEJNOVÁ"},"Karolína","7.A",0," ",{"$f":"G129","v":0},0," ",{"$f":"J129","v":0},0,0]
["30.",{"$f":"B130","v":"ŠTOLFOVÁ"},"Tereza","7.A",0," ",{"$f":"G130","v":0},0," ",{"$f":"J130","v":0},0,0]
["31.",{"$f":"B131","v":"ŠUBÍKOVÁ"},"Klára","7.A",0," ",{"$f":"G131","v":0},0," ",{"$f":"J131","v":0},0,0]
["32.",{"$f":"B132","v":"ŠULKOVSKÁ"},"Klára","7.A",0," ",{"$f":"G132","v":0},0," ",{"$f":"J132","v":0},0,0]
["33.",{"$f":"B133","v":"TULÁČKOVÁ"},"Natálie","7.A",0," ",{"$f":"G133","v":0},0," ",{"$f":"J133","v":0},0,0]
["34.",{"$f":"B134","v":"VOJTÍŠKOVÁ"},"Ella","7.A",0," ",{"$f":"G134","v":0},0," ",{"$f":"J134","v":0},0,0]
["35.",{"$f":"B135","v":"DRUGÁČOVÁ"},"Kristinka","7.B",0," ",{"$f":"G135","v":0},0," ",{"$f":"J135","v":0},0,0]
["36.",{"$f":"B136","v":"FAJSTAVROVÁ"},"Karolína","7.B",0," ",{"$f":"G136","v":0},0," ",{"$f":"J136","v":0},0,0]
["37.",{"$f":"B137","v":"FAJSTAVROVÁ"},"Magdaléna","7.B",0," ",{"$f":"G137","v":0},0," ",{"$f":"J137","v":0},0,0]
["38.",{"$f":"B138","v":"HLAVATÁ"},"Anna","7.B",0," ",{"$f":"G138","v":0},0," ",{"$f":"J138","v":0},0,0]
["39.",{"$f":"B139","v":"JINDROVÁ"},"Barbora","7.B",0," ",{"$f":"G139","v":0},0," ",{"$f":"J139","v":0},0,0]
["40.",{"$f":"B140","v":"MAŘASOVÁ"},"Vendula","7.B",0," ",{"$f":"G140","v":0},0," ",{"$f":"J140","v":0},0,0]
["41.",{"$f":"B141","v":"PETŘÍČKOVÁ"},"Natálie","7.B",0," ",{"$f":"G141","v":0},0," ",{"$f":"J141","v":0},0,0]
["42.",{"$f":"B142","v":"PETŘÍKOVÁ"},"Adéla","7.B",0," ",{"$f":"G142","v":0},0," ",{"$f":"J142","v":0},0,0]
["43.",{"$f":"B143","v":"REGÁLOVÁ"},"Karolína","7.B",0," ",{"$f":"G143","v":0},0," ",{"$f":"J143","v":0},0,0]
["44.",{"$f":"B144","v":"RIEGROVÁ"},"Magdaléna","7.B",0," ",{"$f":"G144","v":0},0," ",{"$f":"J144","v":0},0,0]
["45.",{"$f":"B145","v":"RYBENSKÁ"},"Sabina","7.B",0," ",{"$f":"G145","v":0},0," ",{"$f":"J145","v":0},0,0]
["46.",{"$f":"B146","v":"STEINEROVÁ"},"Barbora","7.B",0," ",{"$f":"G146","v":0},0," ",{"$f":"J146","v":0},0,0]
["47.",{"$f":"B147","v":"TOMEŠOVÁ"},"Barbora","7.B",0," ",{"$f":"G147","v":0},0," ",{"$f":"J147","v":0},0,0]
["48.",{"$f":"B148","v":"VOHNOUTOVÁ"},"Aneta","7.B",0," ",{"$f":"G148","v":0},0," ",{"$f":"J148","v":0},0,0]
["49.",{"$f":"B149","v":"HAVLÍKOVÁ"},"Michaela","8.A",0," ",{"$f":"G149","v":0},0," ",{"$f":"J149","v":0},0,0]
["50.",{"$f":"B150","v":"HOLUBCOVÁ"},"Sára","8.A",0," ",{"$f":"G150","v":0},0," ",{"$f":"J150","v":0},0,0]
["51.",{"$f":"B151","v":"HONCŮ"},"Tereza","8.A",0," ",{"$f":"G151","v":0},0," ",{"$f":"J151","v":0},0,0]
["52.",{"$f":"B152","v":"HORÁČKOVÁ"},"Kateřina","8.A",0," ",{"$f":"G152","v":0},0," ",{"$f":"J152","v":0},0,0]
["53.",{"$f":"B153","v":"JOUDALOVÁ"},"Daniela","8.A",0," ",{"$f":"G153","v":0},0," ",{"$f":"J153","v":0},0,0]
["54.",{"$f":"B154","v":"KLÍMOVÁ"},"Anna","8.A",0," ",{"$f":"G154","v":0},0," ",{"$f":"J154","v":0},0,0]
["55.",{"$f":"B155","v":"KOHOUTOVÁ"},"Veronika","8.A",0," ",{"$f":"G155","v":0},0," ",{"$f":"J155","v":0},0,0]
["56.",{"$f":"B156","v":"KOVÁŘOVÁ"},"Viktorie","8.A",0," ",{"$f":"G156","v":0},0," ",{"$f":"J156","v":0},0,0]
["57.",{"$f":"B157","v":"KYNČLOVÁ"},"Anna","8.A",0," ",{"$f":"G157","v":0},0," ",{"$f":"J157","v":0},0,0]
["58.",{"$f":"B158","v":"MATOUŠOVÁ"},"Tereza","8.A",0," ",{"$f":"G158","v":0},0," ",{"$f":"J158","v":30},26.05,0]
["59.",{"$f":"B159","v":"MAZÁNKOVÁ"},"Zuzana","8.A",0," ",{"$f":"G159","v":0},0," ",{"$f":"J159","v":0},0,0]
["60.",{"$f":"B160","v":"MORKESOVÁ"},"Sabrina","8.A",0," ",{"$f":"G160","v":0},0," ",{"$f":"J160","v":0},0,0]
["61.",{"$f":"B161","v":"POHOŘALÁ"},"Alžběta","8.A",0," ",{"$f":"G161","v":0},0," ",{"$f":"J161","v":30},0,0]
["62.",{"$f":"B162","v":"SCHOLZOVÁ"},"Laura","8.A",0," ",{"$f":"G162","v":0},0," ",{"$f":"J162","v":30},0,0]
["63.",{"$f":"B163","v":"VÁCLAVÍKOVÁ"},"Valerie","8.A",0," ",{"$f":"G163","v":0},0," ",{"$f":"J163","v":30},0,0]
["64.",{"$f":"B164","v":"ZAPADLOVÁ"},"Emma","8.A",16.510000000000002," ",{"$f":"G164","v":"Jilemnice  11.01.22"},816.39669282528484," ",{"$f":"J164","v":30},0,0]
["65.",{"$f":"B165","v":"ŽIŠKOVÁ"},"Mia","8.A",0," ",{"$f":"G165","v":0},0," ",{"$f":"J165","v":0},0,0]
["66.",{"$f":"B166","v":"FARSKÁ"},"Tereza","8.B",0," ",{"$f":"G166","v":0},0," ",{"$f":"J166","v":0},0,0]
["67.",{"$f":"B167","v":"FEIXOVÁ"},"Rozálie","8.B",0," ",{"$f":"G167","v":0},0," ",{"$f":"J167","v":0},0,0]
["68.",{"$f":"B168","v":"FIŠEROVÁ"},"Michaela","8.B",21.2," ",{"$f":"G168","v":"Jilemnice  08.11.21"},665.633633722127," ",{"$f":"J168","v":0},0,0]
["69.",{"$f":"B169","v":"HAVLÍČKOVÁ"},"Kristýna","8.B",20.88," ",{"$f":"G169","v":"Jilemnice  08.11.21"},673.76734319052605," ",{"$f":"J169","v":0},22.15,0]
["70.",{"$f":"B170","v":"JODASOVÁ"},"Nikola","8.B",0," ",{"$f":"G170","v":0},0," ",{"$f":"J170","v":0},0,0]
["71.",{"$f":"B171","v":"KADAVÁ"},"Nikola","8.B",0," ",{"$f":"G171","v":0},0," ",{"$f":"J171","v":0},0,0]
["72.",{"$f":"B172","v":"KRAFKOVÁ"},"Lucie","8.B",0," ",{"$f":"G172","v":0},0," ",{"$f":"J172","v":0},0,0]
["73.",{"$f":"B173","v":"KŘIVINKOVÁ"},"Alžběta","8.B",0," ",{"$f":"G173","v":0},0," ",{"$f":"J173","v":0},0,0]
["74.",{"$f":"B174","v":"LEŠÁKOVÁ"},"Lenka","8.B",0," ",{"$f":"G174","v":0},0," ",{"$f":"J174","v":0},0,0]
["75.",{"$f":"B175","v":"NYKLÍČKOVÁ"},"Adéla","8.B",0," ",{"$f":"G175","v":0},0," ",{"$f":"J175","v":0},0,0]
["76.",{"$f":"B176","v":"PLŮCHOVÁ"},"Petra","8.B",0," ",{"$f":"G176","v":0},0," ",{"$f":"J176","v":0},34.65,0]
["77.",{"$f":"B177","v":"PODZIMKOVÁ"},"Eliška","8.B",0," ",{"$f":"G177","v":0},0," ",{"$f":"J177","v":0},0,0]
["78.",{"$f":"B178","v":"RUTKAYOVÁ"},"Klára","8.B",0," ",{"$f":"G178","v":0},0," ",{"$f":"J178","v":0},0,0]
["79.",{"$f":"B179","v":"SEIDLOVÁ"},"Zuzana","8.B",0," ",{"$f":"G179","v":0},0," ",{"$f":"J179","v":0},0,0]
["80.",{"$f":"B180","v":"TOMÁŠOVÁ"},"Sára","8.B",0," ",{"$f":"G180","v":0},0," ",{"$f":"J180","v":0},0,0]
["81.",{"$f":"B181","v":"VANCLOVÁ"},"Barbora","8.B",20," ",{"$f":"G181","v":"Jilemnice  08.11.21"},697.47710629090909," ",{"$f":"J181","v":0},0,0]
["82.",{"$f":"B182","v":"VOTOČKOVÁ"},"Veronika","8.B",0," ",{"$f":"G182","v":0},0," ",{"$f":"J182","v":0},0,0]
["83.",{"$f":"B183","v":"HARTIGOVÁ"},"Anna","9.A",0," ",{"$f":"G183","v":0},0," ",{"$f":"J183","v":0},0,0]
["84.",{"$f":"B184","v":"HONCŮ"},"Rozálie","9.A",0," ",{"$f":"G184","v":0},0," ",{"$f":"J184","v":0},29.45,34.6]
["85.",{"$f":"B185","v":"CHALOUPSKÁ"},"Lucie","9.A",0," ",{"$f":"G185","v":0},0," ",{"$f":"J185","v":0},0,0]
["86.",{"$f":"B186","v":"KŘÍŽKOVÁ"},"Anna","9.A",0," ",{"$f":"G186","v":0},0," ",{"$f":"J186","v":0},0,0]
["87.",{"$f":"B187","v":"LUKEŠOVÁ"},"Kristýna","9.A",0," ",{"$f":"G187","v":0},0," ",{"$f":"J187","v":0},23.4,25.7]
["88.",{"$f":"B188","v":"MOTLÍKOVÁ"},"Eliška","9.A",0," ",{"$f":"G188","v":0},0," ",{"$f":"J188","v":0},0,0]
["89.",{"$f":"B189","v":"POHOŘELÁ"},"Amálie","9.A",0," ",{"$f":"G189","v":0},0," ",{"$f":"J189","v":0},0,0]
["90.",{"$f":"B190","v":"POLÁČKOVÁ"},"Natálie","9.A",0," ",{"$f":"G190","v":0},0," ",{"$f":"J190","v":0},0,0]
["91.","ŘEHOŘKOVÁ","Lucie","9.A",0," ",0,0," ",0,0,0]
["92.",{"$f":"B192","v":"SKÁLOVÁ"},"Alena","9.A",0," ",{"$f":"G192","v":0},0," ",{"$f":"J192","v":0},0,0]
["93.",{"$f":"B193","v":"VÁVROVÁ "},"Aneta","9.A",0," ",{"$f":"G193","v":0},0," ",{"$f":"J193","v":0},0,0]
["94.",{"$f":"B194","v":"ZELINKOVÁ"},"Klára","9.A",0," ",{"$f":"G194","v":0},0," ",{"$f":"J194","v":0},0,0]
[]
[]
[null,"HEJRALOVÁ","Natálie","6.A",null,null,null,{"$f":"IF(E101=0,0,IF(E101>0,(1000000000 - 313216 /E101 + 34538300 /E101*2 - 1698600000 /E101*3 + 32198000000 /E101*4)/11000000+44))","v":0}]
[null,"KERLE","Nikita","6.A",null,null,null,0]
[null,"PACLÍKOVÁ","Markéta","6.A",null,null,null,0]
[null,"PLŮCHOVÁ","Michaela","6.A",null,null,null,0]
[null,"ŠERCLOVÁ","Nikola","6.A",null,null,null,0]
[null,"VÁCLAVÍKOVÁ","Alena","6.A",null,null,null,0]
[null,"DUCHÁČKOVÁ","Tereza","6.B",null,null,null,0]
[null,"FLAŠKOVÁ","Anna Sabriel","6.B",null,null,null,0]
[null,"HAASOVÁ","Julie","6.B",null,null,null,0]
[null,"HOBLOVÁ","Barbora","6.B",null,null,null,0]
[null,"HORÁČKOVÁ","Valérie","6.B",20.86,null,"Jilemnice  11.01.22",674.28398581016302]
[null,"JIRANOVÁ","Anežka","6.B",null,null,null,0]
[null,"JODASOVÁ","Denisa","6.B",null,null,null,0]
[null,"KRČÍKOVÁ","Beatrix","6.B",null,null,null,0]
[null,"KUBÁTOVÁ","Veronika","6.B",null,null,null,0]
[null,"LENČEŠOVÁ","Silvie","6.B",null,null,null,0]
[null,"MATERNOVÁ","Lenka","6.B",null,null,null,0]
[null,"TÓTHOVÁ","Viktorie","6.B",null,null,null,0]
[null,"ERBENOVÁ","Sára","7.A",null,null,null,0]
[null,"GINGALOVÁ","Linda","7.A",null,null,null,0]
[null,"HOFMANOVÁ ","Nicol","7.A",null,null,null,0]
[null,"HOLEŠOVSKÁ","Aneta","7.A",null,null,null,0]
[null,"HOLUBCOVÁ","Alena","7.A",null,null,null,0]
[null,"KOHOUTOVÁ","Anna","7.A",null,null,null,0]
[null,"KRAUSOVÁ","Anežka","7.A",null,null,null,0]
[null,"KUŽELOVÁ","Apoléna","7.A",null,null,null,0]
[null,"MORÁVKOVÁ","Lucie","7.A",null,null,null,0]
[null,"SKLENÁROVÁ","Eliška","7.A",null,null,null,0]
[null,"ŠEJNOVÁ","Karolína","7.A",null,null,null,0]
[null,"ŠTOLFOVÁ","Tereza","7.A",null,null,null,0]
[null,"ŠUBÍKOVÁ","Klára","7.A",null,null,null,0]
[null,"ŠULKOVSKÁ","Klára","7.A",null,null,null,0]
[null,"TULÁČKOVÁ","Natálie","7.A",null,null,null,{"$f":"IF(E133=0,0,IF(E133>0,(1000000000 - 313216 /E133 + 34538300 /E133*2 - 1698600000 /E133*3 + 32198000000 /E133*4)/11000000+44))","v":0}]
[null,"VOJTÍŠKOVÁ","Ella","7.A",null,null,null,0]
[null,"DRUGÁČOVÁ","Kristinka","7.B",null,null,null,0]
[null,"FAJSTAVROVÁ","Karolína","7.B",null,null,null,0]
[null,"FAJSTAVROVÁ","Magdaléna","7.B",null,null,null,0]
[null,"HLAVATÁ","Anna","7.B",null,null,null,0]
[null,"JINDROVÁ","Barbora","7.B",null,null,null,0]
[null,"MAŘASOVÁ","Vendula","7.B",null,null,null,0]
[null,"PETŘÍČKOVÁ","Natálie","7.B",null,null,null,0]
[null,"PETŘÍKOVÁ","Adéla","7.B",null,null,null,0]
[null,"REGÁLOVÁ","Karolína","7.B",null,null,null,0]
[null,"RIEGROVÁ","Magdaléna","7.B",null,null,null,0]
[null,"RYBENSKÁ","Sabina","7.B",null,null,null,0]
[null,"STEINEROVÁ","Barbora","7.B",null,null,null,0]
[null,"TOMEŠOVÁ","Barbora","7.B",null,null,null,0]
[null,"VOHNOUTOVÁ","Aneta","7.B",null,null,null,0]
[null,"HAVLÍKOVÁ","Michaela","8.A",null,null,null,0]
[null,"HOLUBCOVÁ","Sára","8.A",null,null,null,0]
[null,"HONCŮ","Tereza","8.A",null,null,null,0]
[null,"HORÁČKOVÁ","Kateřina","8.A",null,null,null,0]
[null,"JOUDALOVÁ","Daniela","8.A",null,null,null,0]
[null,"KLÍMOVÁ","Anna","8.A",null,null,null,0]
[null,"KOHOUTOVÁ","Veronika","8.A",null,null,null,0]
[null,"KOVÁŘOVÁ","Viktorie","8.A",null,null,null,0]
[null,"KYNČLOVÁ","Anna","8.A",null,null,null,0]
[null,"MATOUŠOVÁ","Tereza","8.A",null,null,null,0,null,30,26.05]
[null,"MAZÁNKOVÁ","Zuzana","8.A",null,null,null,0]
[null,"MORKESOVÁ","Sabrina","8.A",null,null,null,0]
[null,"POHOŘALÁ","Alžběta","8.A",null,null,null,0,null,30]
[null,"SCHOLZOVÁ","Laura","8.A",null,null,null,0,null,30]
[null,"VÁCLAVÍKOVÁ","Valerie","8.A",null,null,null,0,null,30]
[null,"ZAPADLOVÁ","Emma","8.A",16.510000000000002,null,"Jilemnice  11.01.22",816.39669282528484,null,30]
[null,"ŽIŠKOVÁ","Mia","8.A",null,null,null,{"$f":"IF(E165=0,0,IF(E165>0,(1000000000 - 313216 /E165 + 34538300 /E165*2 - 1698600000 /E165*3 + 32198000000 /E165*4)/11000000+44))","v":0}]
[null,"FARSKÁ","Tereza","8.B",null,null,null,0]
[null,"FEIXOVÁ","Rozálie","8.B",null,null,null,0]
[null,"FIŠEROVÁ","Michaela","8.B",21.2,null,"Jilemnice  08.11.21",665.633633722127]
[null,"HAVLÍČKOVÁ","Kristýna","8.B",20.88,null,"Jilemnice  08.11.21",673.76734319052605,null,null,22.15]
[null,"JODASOVÁ","Nikola","8.B",null,null,null,0]
[null,"KADAVÁ","Nikola","8.B",null,null,null,0]
[null,"KRAFKOVÁ","Lucie","8.B",null,null,null,0]
[null,"KŘIVINKOVÁ","Alžběta","8.B",null,null,null,0]
[null,"LEŠÁKOVÁ","Lenka","8.B",null,null,null,0]
[null,"NYKLÍČKOVÁ","Adéla","8.B",null,null,null,0]
[null,"PLŮCHOVÁ","Petra","8.B",null,null,null,0,null,null,34.65]
[null,"PODZIMKOVÁ","Eliška","8.B",null,null,null,0]
[null,"RUTKAYOVÁ","Klára","8.B",null,null,null,0]
[null,"SEIDLOVÁ","Zuzana","8.B",null,null,null,0]
[null,"TOMÁŠOVÁ","Sára","8.B",null,null,null,0]
[null,"VANCLOVÁ","Barbora","8.B",20,null,"Jilemnice  08.11.21",697.47710629090909]
[null,"VOTOČKOVÁ","Veronika","8.B",null,null,null,0]
[null,"HARTIGOVÁ","Anna","9.A",null,null,null,0]
[null,"HONCŮ","Rozálie","9.A",null,null,null,0,null,null,29.45,34.6]
[null,"CHALOUPSKÁ","Lucie","9.A",null,null,null,0]
[null,"KŘÍŽKOVÁ","Anna","9.A",null,null,null,0]
[null,"LUKEŠOVÁ","Kristýna","9.A",null,null,null,0,null,null,23.4,25.7]
[null,"MOTLÍKOVÁ","Eliška","9.A",null,null,null,0]
[null,"POHOŘELÁ","Amálie","9.A",null,null,null,0]
[null,"POLÁČKOVÁ","Natálie","9.A",null,null,null,0]
[null,"ŘEHOŘKOVÁ","Lucie","9.A",null,null,null,0]
[null,"SKÁLOVÁ","Alena","9.A",null,null,null,0]
[null,"VÁVROVÁ ","Aneta","9.A",null,null,null,0]
[null,"ZELINKOVÁ","Klára","9.A",null,null,null,0]

{"sheet":"Dšplh","index":18,"n_rows":194,"n_cols":12,"rows_kept":194,"cut":false,"hidden":false,"merged":[]}
[null,null,"VÝKONY   2020 - 2021",null,null,null,"ŠPLH","DĚVČATA  6. -  9.  ROČ."]
[null,null,null,null,null,null,null,null,null,null,"stav  k ",{"$f":"TODAY()","v":44740}]
[null,null,null,null,null,null,null,"   BODY",null,"   20 - 21   ","   19 - 20   ","   18 - 19   "]
[]
["1.",{"$f":"B101","v":"HEJRALOVÁ"},{"$f":"C101","v":"Natálie"},"6.A",0," ",0,0," ",0,0,0]
["2.",{"$f":"B102","v":"KERLE"},"Nikita","6.A",7.84," ",{"$f":"G102","v":"Jilemnice 17.06.22"},522.60152998285719," ",{"$f":"J102","v":0},0,0]
["3.",{"$f":"B103","v":"PACLÍKOVÁ"},"Markéta","6.A",10.75," ",{"$f":"G103","v":"Jilemnice 13.06.22"},451.69735399586978," ",{"$f":"J103","v":0},0,0]
["4.",{"$f":"B104","v":"PLŮCHOVÁ"},"Michaela","6.A",15.77," ",{"$f":"G104","v":"Jilemnice 13.06.22"},402.00334092341575," ",{"$f":"J104","v":0},0,0]
["5.",{"$f":"B105","v":"ŠERCLOVÁ"},"Nikola","6.A",0," ",{"$f":"G105","v":0},0," ",{"$f":"J105","v":0},0,0]
["6.",{"$f":"B106","v":"VÁCLAVÍKOVÁ"},"Alena","6.A",0," ",{"$f":"G106","v":0},0," ",{"$f":"J106","v":0},0,0]
["7.",{"$f":"B107","v":"DUCHÁČKOVÁ"},"Tereza","6.B",0," ",{"$f":"G107","v":0},0," ",{"$f":"J107","v":0},0,0]
["8.",{"$f":"B108","v":"FLAŠKOVÁ"},"Anna Sabriel","6.B",0," ",{"$f":"G108","v":0},0," ",{"$f":"J108","v":0},0,0]
["9.",{"$f":"B109","v":"HAASOVÁ"},"Julie","6.B",13.64," ",{"$f":"G109","v":"Jilemnice  07.02.22"},416.63405220911045," ",{"$f":"J109","v":0},0,0]
["10.",{"$f":"B110","v":"HOBLOVÁ"},"Barbora","6.B",10.08," ",{"$f":"G110","v":"Jilemnice  07.02.22"},463.73901635703703," ",{"$f":"J110","v":0},0,0]
["11.",{"$f":"B111","v":"HORÁČKOVÁ"},"Valérie","6.B",0," ",{"$f":"G111","v":0},0," ",{"$f":"J111","v":0},0,0]
["12.",{"$f":"B112","v":"JIRANOVÁ"},"Anežka","6.B",0," ",{"$f":"G112","v":0},0," ",{"$f":"J112","v":0},0,0]
["13.",{"$f":"B113","v":"JODASOVÁ"},"Denisa","6.B",9.5," ",{"$f":"G113","v":"Jilemnice  07.02.22"},475.87076351287016," ",{"$f":"J113","v":0},0,0]
["14.",{"$f":"B114","v":"KRČÍKOVÁ"},"Beatrix","6.B",0," ",{"$f":"G114","v":0},0," ",{"$f":"J114","v":0},0,0]
["15.",{"$f":"B115","v":"KUBÁTOVÁ"},"Veronika","6.B",0," ",{"$f":"G115","v":0},0," ",{"$f":"J115","v":0},{"$f":"K115","v":0},0]
["16.",{"$f":"B116","v":"LENČEŠOVÁ"},"Silvie","6.B",0," ",{"$f":"G116","v":0},0," ",{"$f":"J116","v":0},{"$f":"K116","v":0},0]
["17.",{"$f":"B117","v":"MATERNOVÁ"},"Lenka","6.B",4.8099999999999996," ",{"$f":"G117","v":"Jilemnice  07.02.22"},704.07752050220381," ",{"$f":"J117","v":0},{"$f":"K117","v":0},0]
["18.",{"$f":"B118","v":"TÓTHOVÁ"},"Viktorie","6.B",0," ",{"$f":"G118","v":0},0," ",{"$f":"J118","v":0},{"$f":"K118","v":0},0]
["19.",{"$f":"B119","v":"ERBENOVÁ"},"Sára","7.A",0," ",{"$f":"G119","v":0},0," ",{"$f":"J119","v":0},0,0]
["20.",{"$f":"B120","v":"GINGALOVÁ"},"Linda","7.A",0," ",{"$f":"G120","v":0},0," ",{"$f":"J120","v":0},0,0]
["21.",{"$f":"B121","v":"HOFMANOVÁ "},"Nicol","7.A",0," ",{"$f":"G121","v":0},0," ",{"$f":"J121","v":0},0,0]
["22.",{"$f":"B122","v":"HOLEŠOVSKÁ"},"Aneta","7.A",0," ",{"$f":"G122","v":0},0," ",{"$f":"J122","v":0},0,0]
["23.",{"$f":"B123","v":"HOLUBCOVÁ"},"Alena","7.A",0," ",{"$f":"G123","v":0},0," ",{"$f":"J123","v":0},0,0]
["24.",{"$f":"B124","v":"KOHOUTOVÁ"},"Anna","7.A",0," ",{"$f":"G124","v":0},0," ",{"$f":"J124","v":0},0,0]
["25.",{"$f":"B125","v":"KRAUSOVÁ"},"Anežka","7.A",0," ",{"$f":"G125","v":0},0," ",{"$f":"J125","v":0},0,0]
["26.",{"$f":"B126","v":"KUŽELOVÁ"},"Apoléna","7.A",0," ",{"$f":"G126","v":0},0," ",{"$f":"J126","v":0},0,0]
["27.",{"$f":"B127","v":"MORÁVKOVÁ"},"Lucie","7.A",0," ",{"$f":"G127","v":0},0," ",{"$f":"J127","v":0},0,0]
["28.",{"$f":"B128","v":"SKLENÁROVÁ"},"Eliška","7.A",0," ",{"$f":"G128","v":0},0," ",{"$f":"J128","v":0},0,0]
["29.",{"$f":"B129","v":"ŠEJNOVÁ"},"Karolína","7.A",0," ",{"$f":"G129","v":0},0," ",{"$f":"J129","v":0},0,0]
["30.",{"$f":"B130","v":"ŠTOLFOVÁ"},"Tereza","7.A",0," ",{"$f":"G130","v":0},0," ",{"$f":"J130","v":0},0,0]
["31.",{"$f":"B131","v":"ŠUBÍKOVÁ"},"Klára","7.A",11.1," ",{"$f":"G131","v":"Jilemnice  07.02.22"},446.12658522873272," ",{"$f":"J131","v":0},0,0]
["32.",{"$f":"B132","v":"ŠULKOVSKÁ"},"Klára","7.A",10.62," ",{"$f":"G132","v":"Jilemnice  07.02.22"},453.88588857617077," ",{"$f":"J132","v":0},0,0]
["33.",{"$f":"B133","v":"TULÁČKOVÁ"},"Natálie","7.A",0," ",{"$f":"G133","v":0},0," ",{"$f":"J133","v":0},0,0]
["34.",{"$f":"B134","v":"VOJTÍŠKOVÁ"},"Ella","7.A",0," ",{"$f":"G134","v":0},0," ",{"$f":"J134","v":0},0,0]
["35.",{"$f":"B135","v":"DRUGÁČOVÁ"},"Kristinka","7.B",0," ",{"$f":"G135","v":0},0," ",{"$f":"J135","v":0},0,0]
["36.",{"$f":"B136","v":"FAJSTAVROVÁ"},"Karolína","7.B",0," ",{"$f":"G136","v":0},0," ",{"$f":"J136","v":0},0,0]
["37.",{"$f":"B137","v":"FAJSTAVROVÁ"},"Magdaléna","7.B",11.2," ",{"$f":"G137","v":0},444.61657818800001," ",{"$f":"J137","v":0},0,0]
["38.",{"$f":"B138","v":"HLAVATÁ"},"Anna","7.B",0," ",{"$f":"G138","v":0},0," ",{"$f":"J138","v":0},0,0]
["39.",{"$f":"B139","v":"JINDROVÁ"},"Barbora","7.B",12.2," ",{"$f":"G139","v":0},431.27499035838252," ",{"$f":"J139","v":0},0,0]
["40.",{"$f":"B140","v":"MAŘASOVÁ"},"Vendula","7.B",0," ",{"$f":"G140","v":0},0," ",{"$f":"J140","v":0},0,0]
["41.",{"$f":"B141","v":"PETŘÍČKOVÁ"},"Natálie","7.B",6.59," ",{"$f":"G141","v":0},575.75936957242288," ",{"$f":"J141","v":0},0,0]
["42.",{"$f":"B142","v":"PETŘÍKOVÁ"},"Adéla","7.B",0," ",{"$f":"G142","v":0},0," ",{"$f":"J142","v":0},0,0]
["43.",{"$f":"B143","v":"REGÁLOVÁ"},"Karolína","7.B",0," ",{"$f":"G143","v":0},0," ",{"$f":"J143","v":0},0,0]
["44.",{"$f":"B144","v":"RIEGROVÁ"},"Magdaléna","7.B",14.59," ",{"$f":"#REF!","v":{"$error":"#REF!"}},{"$f":"H144","v":409.24255262615492}," ",{"$f":"J144","v":0},0,0]
["45.",{"$f":"B145","v":"RYBENSKÁ"},"Sabina","7.B",0," ",{"$f":"G145","v":0},0," ",{"$f":"J145","v":0},0,0]
["46.",{"$f":"B146","v":"STEINEROVÁ"},"Barbora","7.B",8.3699999999999992," ",{"$f":"G146","v":0},505.35211247657509," ",{"$f":"J146","v":0},0,0]
["47.",{"$f":"B147","v":"TOMEŠOVÁ"},"Barbora","7.B",0," ",{"$f":"G147","v":0},0," ",{"$f":"J147","v":0},0,0]
["48.",{"$f":"B148","v":"VOHNOUTOVÁ"},"Aneta","7.B",0," ",{"$f":"G148","v":0},0," ",{"$f":"J148","v":0},0,0]
["49.",{"$f":"B149","v":"HAVLÍKOVÁ"},"Michaela","8.A",0," ",{"$f":"G149","v":0},0," ",{"$f":"J149","v":0},25.69,0]
["50.",{"$f":"B150","v":"HOLUBCOVÁ"},"Sára","8.A",11.03," ",{"$f":"G150","v":"Jilemnice  07.02.22"},447.20463165569055," ",{"$f":"J150","v":0},0,0]
["51.",{"$f":"B151","v":"HONCŮ"},"Tereza","8.A",0," ",{"$f":"G151","v":0},0," ",{"$f":"J151","v":0},0,0]
["52.",{"$f":"B152","v":"HORÁČKOVÁ"},"Kateřina","8.A",11.23," ",{"$f":"G152","v":"Jilemnice  07.02.22"},444.17034921599287," ",{"$f":"J152","v":0},20.13,0]
["53.",{"$f":"B153","v":"JOUDALOVÁ"},"Daniela","8.A",0," ",{"$f":"G153","v":0},0," ",{"$f":"J153","v":0},0,0]
["54.",{"$f":"B154","v":"KLÍMOVÁ"},"Anna","8.A",12.93," ",{"$f":"G154","v":"Jilemnice  07.02.22"},423.2687918197164," ",{"$f":"J154","v":0},0,0]
["55.",{"$f":"B155","v":"KOHOUTOVÁ"},"Veronika","8.A",9.4600000000000009," ",{"$f":"G155","v":"Jilemnice  07.02.22"},476.77381349530651," ",{"$f":"J155","v":0},11.58,0]
["56.",{"$f":"B156","v":"KOVÁŘOVÁ"},"Viktorie","8.A",14.48," ",{"$f":"G156","v":"Jilemnice  07.02.22"},410.02066413068138," ",{"$f":"J156","v":0},9.7899999999999991,0]
["57.",{"$f":"B157","v":"KYNČLOVÁ"},"Anna","8.A",9.5299999999999994," ",{"$f":"G157","v":"Jilemnice  07.02.22"},475.19942110831761," ",{"$f":"J157","v":0},8.3699999999999992,0]
["58.",{"$f":"B158","v":"MATOUŠOVÁ"},"Tereza","8.A",0," ",{"$f":"G158","v":0},0," ",{"$f":"J158","v":0},0,0]
["59.",{"$f":"B159","v":"MAZÁNKOVÁ"},"Zuzana","8.A",0," ",{"$f":"G159","v":0},0," ",{"$f":"J159","v":0},0,0]
["60.",{"$f":"B160","v":"MORKESOVÁ"},"Sabrina","8.A",20.39," ",{"$f":"G160","v":"Jilemnice  07.02.22"},387.50878125955205," ",{"$f":"J160","v":0},10.89,0]
["61.",{"$f":"B161","v":"POHOŘALÁ"},"Alžběta","8.A",0," ",{"$f":"G161","v":0},0," ",{"$f":"J161","v":0},0,0]
["62.",{"$f":"B162","v":"SCHOLZOVÁ"},"Laura","8.A",0," ",{"$f":"G162","v":0},0," ",{"$f":"J162","v":0},0,0]
["63.",{"$f":"B163","v":"VÁCLAVÍKOVÁ"},"Valerie","8.A",0," ",{"$f":"G163","v":0},0," ",{"$f":"J163","v":0},0,0]
["64.",{"$f":"B164","v":"ZAPADLOVÁ"},"Emma","8.A",5.41," ",{"$f":"G164","v":"Jilemnice  07.02.22"},650.81380458698709," ",{"$f":"J164","v":0},12.01,0]
["65.",{"$f":"B165","v":"ŽIŠKOVÁ"},"Mia","8.A",0," ",{"$f":"G165","v":0},0," ",{"$f":"J165","v":0},0,0]
["66.",{"$f":"B166","v":"FARSKÁ"},"Tereza","8.B",0," ",{"$f":"G166","v":0},0," ",{"$f":"J166","v":0},0,0]
["67.",{"$f":"B167","v":"FEIXOVÁ"},"Rozálie","8.B",0," ",{"$f":"G167","v":0},0," ",{"$f":"J167","v":0},0,0]
["68.",{"$f":"B168","v":"FIŠEROVÁ"},"Michaela","8.B",0," ",{"$f":"G168","v":0},0," ",{"$f":"J168","v":0},0,0]
["69.",{"$f":"B169","v":"HAVLÍČKOVÁ"},"Kristýna","8.B",0," ",{"$f":"G169","v":0},0," ",{"$f":"J169","v":0},0,0]
["70.",{"$f":"B170","v":"JODASOVÁ"},"Nikola","8.B",0," ",{"$f":"G170","v":0},0," ",{"$f":"J170","v":0},0,0]
["71.",{"$f":"B171","v":"KADAVÁ"},"Nikola","8.B",0," ",{"$f":"G171","v":0},0," ",{"$f":"J171","v":0},0,0]
["72.",{"$f":"B172","v":"KRAFKOVÁ"},"Lucie","8.B",0," ",{"$f":"G172","v":0},0," ",{"$f":"J172","v":0},0,0]
["73.",{"$f":"B173","v":"KŘIVINKOVÁ"},"Alžběta","8.B",0," ",{"$f":"G173","v":0},0," ",{"$f":"J173","v":0},0,0]
["74.",{"$f":"B174","v":"LEŠÁKOVÁ"},"Lenka","8.B",0," ",{"$f":"G174","v":0},0," ",{"$f":"J174","v":0},0,0]
["75.",{"$f":"B175","v":"NYKLÍČKOVÁ"},"Adéla","8.B",0," ",{"$f":"G175","v":0},0," ",{"$f":"J175","v":0},0,0]
["76.",{"$f":"B176","v":"PLŮCHOVÁ"},"Petra","8.B",0," ",{"$f":"G176","v":0},0," ",{"$f":"J176","v":0},0,0]
["77.",{"$f":"B177","v":"PODZIMKOVÁ"},"Eliška","8.B",0," ",{"$f":"G177","v":0},0," ",{"$f":"J177","v":0},0,0]
["78.",{"$f":"B178","v":"RUTKAYOVÁ"},"Klára","8.B",0," ",{"$f":"G178","v":0},0," ",{"$f":"J178","v":0},0,0]
["79.",{"$f":"B179","v":"SEIDLOVÁ"},"Zuzana","8.B",0," ",{"$f":"G179","v":0},0," ",{"$f":"J179","v":0},0,0]
["80.",{"$f":"B180","v":"TOMÁŠOVÁ"},"Sára","8.B",0," ",{"$f":"G180","v":0},0," ",{"$f":"J180","v":0},0,0]
["81.",{"$f":"B181","v":"VANCLOVÁ"},"Barbora","8.B",0," ",{"$f":"G181","v":0},0," ",{"$f":"J181","v":0},0,0]
["82.",{"$f":"B182","v":"VOTOČKOVÁ"},"Veronika","8.B",0," ",{"$f":"G182","v":0},0," ",{"$f":"J182","v":0},0,0]
["83.",{"$f":"B183","v":"HARTIGOVÁ"},"Anna","9.A",0," ",{"$f":"G183","v":0},0," ",{"$f":"J183","v":0},7.92,6.89]
["84.",{"$f":"B184","v":"HONCŮ"},"Rozálie","9.A",14.08," ",{"$f":"G184","v":"Jilemnice  07.02.22"},413.01644428590907," ",{"$f":"J184","v":0},5.32,5.92]
["85.",{"$f":"B185","v":"CHALOUPSKÁ"},"Lucie","9.A",0," ",{"$f":"G185","v":0},0," ",{"$f":"J185","v":0},0,0]
["86.",{"$f":"B186","v":"KŘÍŽKOVÁ"},"Anna","9.A",8," ",{"$f":"G186","v":"Jilemnice  07.02.22"},517.12073479653327," ",{"$f":"J186","v":0},0,11.09]
["87.",{"$f":"B187","v":"LUKEŠOVÁ"},"Kristýna","9.A",7.54," ",{"$f":"G187","v":"Jilemnice  07.02.22"},533.58555592381958," ",{"$f":"J187","v":0},7.57,8.85]
["88.",{"$f":"B188","v":"MOTLÍKOVÁ"},"Eliška","9.A",15.02," ",{"$f":"G188","v":"Jilemnice  07.02.22"},406.37826894888593," ",{"$f":"J188","v":0},0,0]
["89.",{"$f":"B189","v":"POHOŘELÁ"},"Amálie","9.A",0," ",{"$f":"G189","v":0},0," ",{"$f":"J189","v":0},0,0]
["90.",{"$f":"B190","v":"POLÁČKOVÁ"},"Natálie","9.A",0," ",{"$f":"G190","v":0},0," ",{"$f":"J190","v":0},0,0]
["91.",{"$f":"B191","v":"ŘEHOŘKOVÁ"},"Lucie","9.A",0," ",{"$f":"G191","v":0},0," ",{"$f":"J191","v":0},0,0]
["92.",{"$f":"B192","v":"SKÁLOVÁ"},"Alena","9.A",0," ",{"$f":"G192","v":0},0," ",{"$f":"J192","v":0},0,0]
["93.",{"$f":"B193","v":"VÁVROVÁ "},"Aneta","9.A",0," ",{"$f":"G193","v":0},0," ",{"$f":"J193","v":0},7.17,6.79]
["94.",{"$f":"B194","v":"ZELINKOVÁ"},"Klára","9.A",0," ",{"$f":"G194","v":0},0," ",{"$f":"J194","v":0},0,0]
[]
[]
[null,"HEJRALOVÁ","Natálie","6.A",null,null,null,{"$f":"IF(E101=0,0,IF(E101>0,((1000000000-313216/E101+34538300/E101*2-1698600/E101*3+32198000000/E101*4)/60000000+E101*3.9)*1.129+160))","v":0}]
[null,"KERLE","Nikita","6.A",7.84,null,"Jilemnice 17.06.22",522.60152998285719]
[null,"PACLÍKOVÁ","Markéta","6.A",10.75,null,"Jilemnice 13.06.22",451.69735399586978]
[null,"PLŮCHOVÁ","Michaela","6.A",15.77,null,"Jilemnice 13.06.22",402.00334092341575]
[null,"ŠERCLOVÁ","Nikola","6.A",null,null,null,0]
[null,"VÁCLAVÍKOVÁ","Alena","6.A",null,null,null,0]
[null,"DUCHÁČKOVÁ","Tereza","6.B",null,null,null,0]
[null,"FLAŠKOVÁ","Anna Sabriel","6.B",null,null,null,0]
[null,"HAASOVÁ","Julie","6.B",13.64,null,"Jilemnice  07.02.22",416.63405220911045]
[null,"HOBLOVÁ","Barbora","6.B",10.08,null,"Jilemnice  07.02.22",463.73901635703703]
[null,"HORÁČKOVÁ","Valérie","6.B",null,null,null,0]
[null,"JIRANOVÁ","Anežka","6.B",null,null,null,0]
[null,"JODASOVÁ","Denisa","6.B",9.5,null,"Jilemnice  07.02.22",475.87076351287016]
[null,"KRČÍKOVÁ","Beatrix","6.B",null,null,null,0]
[null,"KUBÁTOVÁ","Veronika","6.B",null,null,null,0]
[null,"LENČEŠOVÁ","Silvie","6.B",null,null,null,0]
[null,"MATERNOVÁ","Lenka","6.B",4.8099999999999996,null,"Jilemnice  07.02.22",704.07752050220381]
[null,"TÓTHOVÁ","Viktorie","6.B",null,null,null,0]
[null,"ERBENOVÁ","Sára","7.A",null,null,null,0]
[null,"GINGALOVÁ","Linda","7.A",null,null,null,0]
[null,"HOFMANOVÁ ","Nicol","7.A",null,null,null,0]
[null,"HOLEŠOVSKÁ","Aneta","7.A",null,null,null,0]
[null,"HOLUBCOVÁ","Alena","7.A",null,null,null,0]
[null,"KOHOUTOVÁ","Anna","7.A",null,null,null,0]
[null,"KRAUSOVÁ","Anežka","7.A",null,null,null,0]
[null,"KUŽELOVÁ","Apoléna","7.A",null,null,null,0]
[null,"MORÁVKOVÁ","Lucie","7.A",null,null,null,0]
[null,"SKLENÁROVÁ","Eliška","7.A",null,null,null,0]
[null,"ŠEJNOVÁ","Karolína","7.A",null,null,null,0]
[null,"ŠTOLFOVÁ","Tereza","7.A",null,null,null,0]
[null,"ŠUBÍKOVÁ","Klára","7.A",11.1,null,"Jilemnice  07.02.22",446.12658522873272]
[null,"ŠULKOVSKÁ","Klára","7.A",10.62,null,"Jilemnice  07.02.22",453.88588857617077]
[null,"TULÁČKOVÁ","Natálie","7.A",null,null,null,{"$f":"IF(E133=0,0,IF(E133>0,((1000000000-313216/E133+34538300/E133*2-1698600/E133*3+32198000000/E133*4)/60000000+E133*3.9)*1.129+160))","v":0}]
[null,"VOJTÍŠKOVÁ","Ella","7.A",null,null,null,0]
[null,"DRUGÁČOVÁ","Kristinka","7.B",0,null,null,0]
[null,"FAJSTAVROVÁ","Karolína","7.B",0,null,null,0]
[null,"FAJSTAVROVÁ","Magdaléna","7.B",11.2,null,null,444.61657818800001]
[null,"HLAVATÁ","Anna","7.B",0,null,null,0]
[null,"JINDROVÁ","Barbora","7.B",12.2,null,null,431.27499035838252]
[null,"MAŘASOVÁ","Vendula","7.B",0,null,null,0]
[null,"PETŘÍČKOVÁ","Natálie","7.B",6.59,null,null,575.75936957242288]
[null,"PETŘÍKOVÁ","Adéla","7.B",0,null,null,0]
[null,"REGÁLOVÁ","Karolína","7.B",0,null,null,0]
[null,"RIEGROVÁ","Magdaléna","7.B",14.59,null,"Jilemnice  07.02.22",409.24255262615492]
[null,"RYBENSKÁ","Sabina","7.B",0,null,null,0]
[null,"STEINEROVÁ","Barbora","7.B",8.3699999999999992,null,null,505.35211247657509]
[null,"TOMEŠOVÁ","Barbora","7.B",0,null,null,0]
[null,"VOHNOUTOVÁ","Aneta","7.B",0,null,null,0]
[null,"HAVLÍKOVÁ","Michaela","8.A",null,null,null,0,null,null,25.69]
[null,"HOLUBCOVÁ","Sára","8.A",11.03,null,"Jilemnice  07.02.22",447.20463165569055]
[null,"HONCŮ","Tereza","8.A",null,null,null,0]
[null,"HORÁČKOVÁ","Kateřina","8.A",11.23,null,"Jilemnice  07.02.22",444.17034921599287,null,null,20.13]
[null,"JOUDALOVÁ","Daniela","8.A",null,null,null,0]
[null,"KLÍMOVÁ","Anna","8.A",12.93,null,"Jilemnice  07.02.22",423.2687918197164]
[null,"KOHOUTOVÁ","Veronika","8.A",9.4600000000000009,null,"Jilemnice  07.02.22",476.77381349530651,null,null,11.58]
[null,"KOVÁŘOVÁ","Viktorie","8.A",14.48,null,"Jilemnice  07.02.22",410.02066413068138,null,null,9.7899999999999991]
[null,"KYNČLOVÁ","Anna","8.A",9.5299999999999994,null,"Jilemnice  07.02.22",475.19942110831761,null,null,8.3699999999999992]
[null,"MATOUŠOVÁ","Tereza","8.A",null,null,null,0]
[null,"MAZÁNKOVÁ","Zuzana","8.A",null,null,null,0]
[null,"MORKESOVÁ","Sabrina","8.A",20.39,null,"Jilemnice  07.02.22",387.50878125955205,null,null,10.89]
[null,"POHOŘALÁ","Alžběta","8.A",null,null,null,0]
[null,"SCHOLZOVÁ","Laura","8.A",null,null,null,0]
[null,"VÁCLAVÍKOVÁ","Valerie","8.A",null,null,null,0]
[null,"ZAPADLOVÁ","Emma","8.A",5.41,null,"Jilemnice  07.02.22",650.81380458698709,null,null,12.01]
[null,"ŽIŠKOVÁ","Mia","8.A",null,null,null,{"$f":"IF(E165=0,0,IF(E165>0,((1000000000-313216/E165+34538300/E165*2-1698600/E165*3+32198000000/E165*4)/60000000+E165*3.9)*1.129+160))","v":0}]
[null,"FARSKÁ","Tereza","8.B",null,null,null,0]
[null,"FEIXOVÁ","Rozálie","8.B",null,null,null,0]
[null,"FIŠEROVÁ","Michaela","8.B",null,null,null,0]
[null,"HAVLÍČKOVÁ","Kristýna","8.B",null,null,null,0]
[null,"JODASOVÁ","Nikola","8.B",null,null,null,0]
[null,"KADAVÁ","Nikola","8.B",null,null,null,0]
[null,"KRAFKOVÁ","Lucie","8.B",null,null,null,0]
[null,"KŘIVINKOVÁ","Alžběta","8.B",null,null,null,0]
[null,"LEŠÁKOVÁ","Lenka","8.B",null,null,null,0]
[null,"NYKLÍČKOVÁ","Adéla","8.B",null,null,null,0]
[null,"PLŮCHOVÁ","Petra","8.B",null,null,null,0]
[null,"PODZIMKOVÁ","Eliška","8.B",null,null,null,0]
[null,"RUTKAYOVÁ","Klára","8.B",null,null,null,0]
[null,"SEIDLOVÁ","Zuzana","8.B",null,null,null,0]
[null,"TOMÁŠOVÁ","Sára","8.B",null,null,null,0]
[null,"VANCLOVÁ","Barbora","8.B",null,null,null,0]
[null,"VOTOČKOVÁ","Veronika","8.B",null,null,null,0]
[null,"HARTIGOVÁ","Anna","9.A",null,null,null,0,null,null,7.92,6.89]
[null,"HONCŮ","Rozálie","9.A",14.08,null,"Jilemnice  07.02.22",413.01644428590907,null,null,5.32,5.92]
[null,"CHALOUPSKÁ","Lucie","9.A",null,null,null,0]
[null,"KŘÍŽKOVÁ","Anna","9.A",8,null,"Jilemnice  07.02.22",517.12073479653327,null,null,null,11.09]
[null,"LUKEŠOVÁ","Kristýna","9.A",7.54,null,"Jilemnice  07.02.22",533.58555592381958,null,null,7.57,8.85]
[null,"MOTLÍKOVÁ","Eliška","9.A",15.02,null,"Jilemnice  07.02.22",406.37826894888593]
[null,"POHOŘELÁ","Amálie","9.A",null,null,null,0]
[null,"POLÁČKOVÁ","Natálie","9.A",null,null,null,0]
[null,"ŘEHOŘKOVÁ","Lucie","9.A",null,null,null,0]
[null,"SKÁLOVÁ","Alena","9.A",null,null,null,0]
[null,"VÁVROVÁ ","Aneta","9.A",null,null,null,0,null,null,7.17,6.79]
[null,"ZELINKOVÁ","Klára","9.A",null,null,null,0]

{"sheet":"Dšvih","index":19,"n_rows":194,"n_cols":12,"rows_kept":194,"cut":false,"hidden":false,"merged":[]}
[null,null,"VÝKONY   2020 - 2021",null,null,null,"ŠVIHADLO","DĚVČATA  6. -  9.  ROČ."]
[null,null,null,null,null,null,null,null,null,null,"stav  k ",{"$f":"TODAY()","v":"2022-06-28"}]
[null,null,null,null,null,null,null,"   BODY",null,"   20 - 21   ","   19 - 20   ","   18 - 19   "]
[]
["1.",{"$f":"B101","v":"HEJRALOVÁ"},{"$f":"C101","v":"Natálie"},"6.A",110," ","Jilemnice 17.06.22",624.5," ",0,0,0]
["2.",{"$f":"B102","v":"KERLE"},"Nikita","6.A",110," ",{"$f":"G102","v":"Jilemnice 17.06.22"},624.5," ",{"$f":"J102","v":0},0,0]
["3.",{"$f":"B103","v":"PACLÍKOVÁ"},"Markéta","6.A",120," ",{"$f":"G103","v":"Jilemnice 17.06.22"},687," ",{"$f":"J103","v":0},0,0]
["4.",{"$f":"B104","v":"PLŮCHOVÁ"},"Michaela","6.A",131," ",{"$f":"G104","v":"Jilemnice 17.06.22"},755.75," ",{"$f":"J104","v":0},0,0]
["5.",{"$f":"B105","v":"ŠERCLOVÁ"},"Nikola","6.A",45," ",{"$f":"G105","v":"Jilemnice  02.11.21"},218.25," ",{"$f":"J105","v":0},0,0]
["6.",{"$f":"B106","v":"VÁCLAVÍKOVÁ"},"Alena","6.A",100," ",{"$f":"G106","v":"Jilemnice  02.11.21"},562," ",{"$f":"J106","v":0},0,0]
["7.",{"$f":"B107","v":"DUCHÁČKOVÁ"},"Tereza","6.B",60," ",{"$f":"G107","v":"Jilemnice  02.11.21"},312," ",{"$f":"J107","v":0},0,0]
["8.",{"$f":"B108","v":"FLAŠKOVÁ"},"Anna Sabriel","6.B",56," ",{"$f":"G108","v":"Jilemnice  02.11.21"},287," ",{"$f":"J108","v":0},0,0]
["9.",{"$f":"B109","v":"HAASOVÁ"},"Julie","6.B",89," ",{"$f":"G109","v":"Jilemnice 17.06.22"},493.25," ",{"$f":"J109","v":0},0,0]
["10.",{"$f":"B110","v":"HOBLOVÁ"},"Barbora","6.B",108," ",{"$f":"G110","v":"Jilemnice 17.06.22"},612," ",{"$f":"J110","v":0},0,0]
["11.",{"$f":"B111","v":"HORÁČKOVÁ"},"Valérie","6.B",0," ",{"$f":"G111","v":0},0," ",{"$f":"J111","v":0},0,0]
["12.",{"$f":"B112","v":"JIRANOVÁ"},"Anežka","6.B",55," ",{"$f":"G112","v":"Jilemnice  02.11.21"},280.75," ",{"$f":"J112","v":0},0,0]
["13.",{"$f":"B113","v":"JODASOVÁ"},"Denisa","6.B",99," ",{"$f":"G113","v":"Jilemnice  02.11.21"},555.75," ",{"$f":"J113","v":0},0,0]
["14.",{"$f":"B114","v":"KRČÍKOVÁ"},"Beatrix","6.B",83," ",{"$f":"G114","v":"Jilemnice  02.11.21"},455.75," ",{"$f":"J114","v":0},0,0]
["15.",{"$f":"B115","v":"KUBÁTOVÁ"},"Veronika","6.B",11," ",{"$f":"G115","v":"Jilemnice  02.11.21"},5.75," ",{"$f":"J115","v":0},0,0]
["16.",{"$f":"B116","v":"LENČEŠOVÁ"},"Silvie","6.B",105," ",{"$f":"G116","v":"Jilemnice  02.11.21"},593.25," ",{"$f":"J116","v":0},0,0]
["17.",{"$f":"B117","v":"MATERNOVÁ"},"Lenka","6.B",65," ",{"$f":"G117","v":"Jilemnice  02.11.21"},343.25," ",{"$f":"J117","v":0},0,0]
["18.",{"$f":"B118","v":"TÓTHOVÁ"},"Viktorie","6.B",71," ",{"$f":"G118","v":"Jilemnice  02.11.21"},380.75," ",{"$f":"J118","v":0},0,0]
["19.",{"$f":"B119","v":"ERBENOVÁ"},"Sára","7.A",0," ",{"$f":"G119","v":0},0," ",{"$f":"J119","v":38},0,0]
["20.",{"$f":"B120","v":"GINGALOVÁ"},"Linda","7.A",105," ",{"$f":"G120","v":0},593.25," ",{"$f":"J120","v":0},0,0]
["21.",{"$f":"B121","v":"HOFMANOVÁ "},"Nicol","7.A",69," ",{"$f":"G121","v":"Jilemnice  03.01.22"},368.25," ",{"$f":"J121","v":61},0,0]
["22.",{"$f":"B122","v":"HOLEŠOVSKÁ"},"Aneta","7.A",190," ",{"$f":"G122","v":0},1124.5," ",{"$f":"J122","v":0},0,0]
["23.",{"$f":"B123","v":"HOLUBCOVÁ"},"Alena","7.A",90," ",{"$f":"G123","v":"Jilemnice 13.06.22"},499.5," ",{"$f":"J123","v":0},0,0]
["24.",{"$f":"B124","v":"KOHOUTOVÁ"},"Anna","7.A",96," ",{"$f":"G124","v":"Jilemnice  03.01.22"},537," ",{"$f":"J124","v":0},0,0]
["25.",{"$f":"B125","v":"KRAUSOVÁ"},"Anežka","7.A",90," ",{"$f":"G125","v":"Jilemnice 13.06.22"},499.5," ",{"$f":"J125","v":0},0,0]
["26.",{"$f":"B126","v":"KUŽELOVÁ"},"Apoléna","7.A",145," ",{"$f":"G126","v":0},843.25," ",{"$f":"J126","v":0},0,0]
["27.",{"$f":"B127","v":"MORÁVKOVÁ"},"Lucie","7.A",0," ",{"$f":"G127","v":0},0," ",{"$f":"J127","v":89},0,0]
["28.",{"$f":"B128","v":"SKLENÁROVÁ"},"Eliška","7.A",64," ",{"$f":"G128","v":"Jilemnice 13.06.22"},337," ",{"$f":"J128","v":49},0,0]
["29.",{"$f":"B129","v":"ŠEJNOVÁ"},"Karolína","7.A",58," ",{"$f":"G129","v":"Jilemnice 13.06.22"},299.5," ",{"$f":"J129","v":0},0,0]
["30.",{"$f":"B130","v":"ŠTOLFOVÁ"},"Tereza","7.A",65," ",{"$f":"G130","v":"Jilemnice  03.01.22"},343.25," ",{"$f":"J130","v":0},0,0]
["31.",{"$f":"B131","v":"ŠUBÍKOVÁ"},"Klára","7.A",88," ",{"$f":"G131","v":"Jilemnice 13.06.22"},487," ",{"$f":"J131","v":0},0,0]
["32.",{"$f":"B132","v":"ŠULKOVSKÁ"},"Klára","7.A",50," ",{"$f":"G132","v":"Jilemnice 13.06.22"},249.5," ",{"$f":"J132","v":0},0,0]
["33.",{"$f":"B133","v":"TULÁČKOVÁ"},"Natálie","7.A",122," ",{"$f":"G133","v":0},699.5," ",{"$f":"J133","v":52},0,0]
["34.",{"$f":"B134","v":"VOJTÍŠKOVÁ"},"Ella","7.A",120," ",{"$f":"G134","v":0},687," ",{"$f":"J134","v":143},0,0]
["35.",{"$f":"B135","v":"DRUGÁČOVÁ"},"Kristinka","7.B",0," ",{"$f":"G135","v":0},0," ",{"$f":"J135","v":0},0,0]
["36.",{"$f":"B136","v":"FAJSTAVROVÁ"},"Karolína","7.B",166," ",{"$f":"G136","v":0},974.5," ",{"$f":"J136","v":64},0,0]
["37.",{"$f":"B137","v":"FAJSTAVROVÁ"},"Magdaléna","7.B",201," ",{"$f":"G137","v":0},1193.25," ",{"$f":"J137","v":0},0,0]
["38.",{"$f":"B138","v":"HLAVATÁ"},"Anna","7.B",0," ",{"$f":"G138","v":0},0," ",{"$f":"J138","v":50},0,0]
["39.",{"$f":"B139","v":"JINDROVÁ"},"Barbora","7.B",200," ",{"$f":"G139","v":0},1187," ",{"$f":"J139","v":68},0,0]
["40.",{"$f":"B140","v":"MAŘASOVÁ"},"Vendula","7.B",0," ",{"$f":"G140","v":0},0," ",{"$f":"J140","v":54},0,0]
["41.",{"$f":"B141","v":"PETŘÍČKOVÁ"},"Natálie","7.B",0," ",{"$f":"G141","v":0},0," ",{"$f":"J141","v":0},0,0]
["42.",{"$f":"B142","v":"PETŘÍKOVÁ"},"Adéla","7.B",39," ",{"$f":"G142","v":"Jilemnice 13.06.22"},180.75," ",{"$f":"J142","v":0},0,0]
["43.",{"$f":"B143","v":"REGÁLOVÁ"},"Karolína","7.B",161," ",{"$f":"G143","v":0},943.25," ",{"$f":"J143","v":0},0,0]
["44.",{"$f":"B144","v":"RIEGROVÁ"},"Magdaléna","7.B",105," ",{"$f":"Dšplh!G144","v":"Jilemnice  07.02.22"},{"$f":"H144","v":593.25}," ",{"$f":"J144","v":84},0,0]
["45.",{"$f":"B145","v":"RYBENSKÁ"},"Sabina","7.B",0," ",{"$f":"G145","v":0},0," ",{"$f":"J145","v":0},0,0]
["46.",{"$f":"B146","v":"STEINEROVÁ"},"Barbora","7.B",120," ",{"$f":"G146","v":0},687," ",{"$f":"J146","v":89},0,0]
["47.",{"$f":"B147","v":"TOMEŠOVÁ"},"Barbora","7.B",132," ",{"$f":"G147","v":0},762," ",{"$f":"J147","v":0},0,0]
["48.",{"$f":"B148","v":"VOHNOUTOVÁ"},"Aneta","7.B",162," ",{"$f":"G148","v":"Jilemnice  03.01.22"},949.5," ",{"$f":"J148","v":30},0,0]
["49.",{"$f":"B149","v":"HAVLÍKOVÁ"},"Michaela","8.A",72," ",{"$f":"G149","v":"Jilemnice  07.03.22"},387," ",{"$f":"J149","v":0},0,0]
["50.",{"$f":"B150","v":"HOLUBCOVÁ"},"Sára","8.A",91," ",{"$f":"G150","v":"Jilemnice  07.03.22"},505.75," ",{"$f":"J150","v":68},0,0]
["51.",{"$f":"B151","v":"HONCŮ"},"Tereza","8.A",0," ",{"$f":"G151","v":0},0," ",{"$f":"J151","v":0},0,0]
["52.",{"$f":"B152","v":"HORÁČKOVÁ"},"Kateřina","8.A",88," ",{"$f":"G152","v":"Jilemnice  07.03.22"},487," ",{"$f":"J152","v":44},0,0]
["53.",{"$f":"B153","v":"JOUDALOVÁ"},"Daniela","8.A",0," ",{"$f":"G153","v":0},0," ",{"$f":"J153","v":0},0,0]
["54.",{"$f":"B154","v":"KLÍMOVÁ"},"Anna","8.A",93," ",{"$f":"G154","v":"Jilemnice  07.03.22"},518.25," ",{"$f":"J154","v":0},0,0]
["55.",{"$f":"B155","v":"KOHOUTOVÁ"},"Veronika","8.A",107," ",{"$f":"G155","v":"Jilemnice  07.03.22"},605.75," ",{"$f":"J155","v":0},0,0]
["56.",{"$f":"B156","v":"KOVÁŘOVÁ"},"Viktorie","8.A",86," ",{"$f":"G156","v":"Jilemnice  07.03.22"},474.5," ",{"$f":"J156","v":0},0,0]
["57.",{"$f":"B157","v":"KYNČLOVÁ"},"Anna","8.A",102," ",{"$f":"G157","v":"Jilemnice  07.03.22"},574.5," ",{"$f":"J157","v":67},0,0]
["58.",{"$f":"B158","v":"MATOUŠOVÁ"},"Tereza","8.A",61," ",{"$f":"G158","v":"Jilemnice  07.03.22"},318.25," ",{"$f":"J158","v":60},0,0]
["59.",{"$f":"B159","v":"MAZÁNKOVÁ"},"Zuzana","8.A",0," ",{"$f":"G159","v":0},0," ",{"$f":"J159","v":0},0,0]
["60.",{"$f":"B160","v":"MORKESOVÁ"},"Sabrina","8.A",100," ",{"$f":"G160","v":"Jilemnice  07.03.22"},562," ",{"$f":"J160","v":76},0,0]
["61.",{"$f":"B161","v":"POHOŘALÁ"},"Alžběta","8.A",87," ",{"$f":"G161","v":"Jilemnice  07.03.22"},480.75," ",{"$f":"J161","v":0},0,0]
["62.",{"$f":"B162","v":"SCHOLZOVÁ"},"Laura","8.A",77," ",{"$f":"G162","v":"Jilemnice  07.03.22"},418.25," ",{"$f":"J162","v":0},0,0]
["63.",{"$f":"B163","v":"VÁCLAVÍKOVÁ"},"Valerie","8.A",95," ",{"$f":"G163","v":"Jilemnice  07.03.22"},530.75," ",{"$f":"J163","v":56},0,0]
["64.",{"$f":"B164","v":"ZAPADLOVÁ"},"Emma","8.A",100," ",{"$f":"G164","v":"Jilemnice  07.03.22"},562," ",{"$f":"J164","v":76},0,0]
["65.",{"$f":"B165","v":"ŽIŠKOVÁ"},"Mia","8.A",0," ",{"$f":"G165","v":0},0," ",{"$f":"J165","v":0},0,0]
["66.",{"$f":"B166","v":"FARSKÁ"},"Tereza","8.B",125," ",{"$f":"G166","v":"Jilemnice  30.10.21"},718.25," ",{"$f":"J166","v":0},106,0]
["67.",{"$f":"B167","v":"FEIXOVÁ"},"Rozálie","8.B",92," ",{"$f":"G167","v":"Jilemnice  30.10.21"},512," ",{"$f":"J167","v":0},83,0]
["68.",{"$f":"B168","v":"FIŠEROVÁ"},"Michaela","8.B",150," ",{"$f":"G168","v":"Jilemnice  30.10.21"},874.5," ",{"$f":"J168","v":0},109,0]
["69.",{"$f":"B169","v":"HAVLÍČKOVÁ"},"Kristýna","8.B",91," ",{"$f":"G169","v":"Jilemnice  30.10.21"},505.75," ",{"$f":"J169","v":0},105,0]
["70.",{"$f":"B170","v":"JODASOVÁ"},"Nikola","8.B",128," ",{"$f":"G170","v":"Jilemnice  30.10.21"},737," ",{"$f":"J170","v":67},111,0]
["71.",{"$f":"B171","v":"KADAVÁ"},"Nikola","8.B",60," ",{"$f":"G171","v":"Jilemnice  30.10.21"},312," ",{"$f":"J171","v":0},80,0]
["72.",{"$f":"B172","v":"KRAFKOVÁ"},"Lucie","8.B",0," ",{"$f":"G172","v":"Jilemnice  30.10.21"},0," ",{"$f":"J172","v":46},62,0]
["73.",{"$f":"B173","v":"KŘIVINKOVÁ"},"Alžběta","8.B",86," ",{"$f":"G173","v":"Jilemnice  30.10.21"},474.5," ",{"$f":"J173","v":0},106,0]
["74.",{"$f":"B174","v":"LEŠÁKOVÁ"},"Lenka","8.B",124," ",{"$f":"G174","v":"Jilemnice  30.10.21"},712," ",{"$f":"J174","v":0},0,0]
["75.",{"$f":"B175","v":"NYKLÍČKOVÁ"},"Adéla","8.B",220," ",{"$f":"G175","v":"Jilemnice  30.10.21"},1312," ",{"$f":"J175","v":0},58,0]
["76.",{"$f":"B176","v":"PLŮCHOVÁ"},"Petra","8.B",239," ",{"$f":"G176","v":"Jilemnice  30.10.21"},1430.75," ",{"$f":"J176","v":0},88,0]
["77.",{"$f":"B177","v":"PODZIMKOVÁ"},"Eliška","8.B",170," ",{"$f":"G177","v":"Jilemnice  30.10.21"},999.5," ",{"$f":"J177","v":0},24,0]
["78.",{"$f":"B178","v":"RUTKAYOVÁ"},"Klára","8.B",75," ",{"$f":"G178","v":"Jilemnice  30.10.21"},405.75," ",{"$f":"J178","v":0},31,0]
["79.",{"$f":"B179","v":"SEIDLOVÁ"},"Zuzana","8.B",127," ",{"$f":"G179","v":"Jilemnice  30.10.21"},730.75," ",{"$f":"J179","v":0},0,0]
["80.",{"$f":"B180","v":"TOMÁŠOVÁ"},"Sára","8.B",77," ",{"$f":"G180","v":0},418.25," ",{"$f":"J180","v":0},0,0]
["81.",{"$f":"B181","v":"VANCLOVÁ"},"Barbora","8.B",172," ",{"$f":"G181","v":0},1012," ",{"$f":"J181","v":0},70,0]
["82.",{"$f":"B182","v":"VOTOČKOVÁ"},"Veronika","8.B",55," ",{"$f":"G182","v":0},280.75," ",{"$f":"J182","v":80},75,0]
["83.",{"$f":"B183","v":"HARTIGOVÁ"},"Anna","9.A",0," ",{"$f":"G183","v":0},0," ",{"$f":"J183","v":0},107,73]
["84.",{"$f":"B184","v":"HONCŮ"},"Rozálie","9.A",130," ",{"$f":"G184","v":"Jilemnice  18.10.21"},749.5," ",{"$f":"J184","v":0},100,95]
["85.",{"$f":"B185","v":"CHALOUPSKÁ"},"Lucie","9.A",82," ",{"$f":"G185","v":"Jilemnice  18.10.21"},449.5," ",{"$f":"J185","v":0},87,54]
["86.",{"$f":"B186","v":"KŘÍŽKOVÁ"},"Anna","9.A",100," ",{"$f":"G186","v":"Jilemnice  18.10.21"},562," ",{"$f":"J186","v":0},100,90]
["87.",{"$f":"B187","v":"LUKEŠOVÁ"},"Kristýna","9.A",80," ",{"$f":"G187","v":"Jilemnice  18.10.21"},437," ",{"$f":"J187","v":0},91,71]
["88.",{"$f":"B188","v":"MOTLÍKOVÁ"},"Eliška","9.A",135," ",{"$f":"G188","v":"Jilemnice  18.10.21"},780.75," ",{"$f":"J188","v":0},123,115]
["89.",{"$f":"B189","v":"POHOŘELÁ"},"Amálie","9.A",134," ",{"$f":"G189","v":"Jilemnice  18.10.21"},774.5," ",{"$f":"J189","v":121},109,82]
["90.",{"$f":"B190","v":"POLÁČKOVÁ"},"Natálie","9.A",50," ",{"$f":"G190","v":"Jilemnice  18.10.21"},249.5," ",{"$f":"J190","v":0},26,49]
["91.",{"$f":"B191","v":"ŘEHOŘKOVÁ"},"Lucie","9.A",69," ",{"$f":"G191","v":"Jilemnice  18.10.21"},368.25," ",{"$f":"J191","v":0},79,63]
["92.",{"$f":"B192","v":"SKÁLOVÁ"},"Alena","9.A",50," ",{"$f":"G192","v":"Jilemnice  18.10.21"},249.5," ",{"$f":"J192","v":0},11,47]
["93.",{"$f":"B193","v":"VÁVROVÁ "},"Aneta","9.A",128," ",{"$f":"G193","v":"Jilemnice  18.10.21"},737," ",{"$f":"J193","v":85},0,75]
["94.",{"$f":"B194","v":"ZELINKOVÁ"},"Klára","9.A",85," ",{"$f":"G194","v":"Jilemnice  18.10.21"},468.25," ",{"$f":"J194","v":0},0,0]
[]
[]
[null,"HEJRALOVÁ","Natálie","6.A",110,null,"Jilemnice 17.06.22",{"$f":"IF(E101=0,0,IF(E101>0,(E101*6.25-63)))","v":624.5}]
[null,"KERLE","Nikita","6.A",110,null,"Jilemnice 17.06.22",624.5]
[null,"PACLÍKOVÁ","Markéta","6.A",120,null,"Jilemnice 17.06.22",687]
[null,"PLŮCHOVÁ","Michaela","6.A",131,null,"Jilemnice 17.06.22",755.75]
[null,"ŠERCLOVÁ","Nikola","6.A",45,null,"Jilemnice  02.11.21",218.25]
[null,"VÁCLAVÍKOVÁ","Alena","6.A",100,null,"Jilemnice  02.11.21",562]
[null,"DUCHÁČKOVÁ","Tereza","6.B",60,null,"Jilemnice  02.11.21",312]
[null,"FLAŠKOVÁ","Anna Sabriel","6.B",56,null,"Jilemnice  02.11.21",287]
[null,"HAASOVÁ","Julie","6.B",89,null,"Jilemnice 17.06.22",493.25]
[null,"HOBLOVÁ","Barbora","6.B",108,null,"Jilemnice 17.06.22",612]
[null,"HORÁČKOVÁ","Valérie","6.B",null,null,null,0]
[null,"JIRANOVÁ","Anežka","6.B",55,null,"Jilemnice  02.11.21",280.75]
[null,"JODASOVÁ","Denisa","6.B",99,null,"Jilemnice  02.11.21",555.75]
[null,"KRČÍKOVÁ","Beatrix","6.B",83,null,"Jilemnice  02.11.21",455.75]
[null,"KUBÁTOVÁ","Veronika","6.B",11,null,"Jilemnice  02.11.21",5.75]
[null,"LENČEŠOVÁ","Silvie","6.B",105,null,"Jilemnice  02.11.21",593.25]
[null,"MATERNOVÁ","Lenka","6.B",65,null,"Jilemnice  02.11.21",343.25]
[null,"TÓTHOVÁ","Viktorie","6.B",71,null,"Jilemnice  02.11.21",380.75]
[null,"ERBENOVÁ","Sára","7.A",null,null,null,0,null,38]
[null,"GINGALOVÁ","Linda","7.A",105,null,null,593.25]
[null,"HOFMANOVÁ ","Nicol","7.A",69,null,"Jilemnice  03.01.22",368.25,null,61]
[null,"HOLEŠOVSKÁ","Aneta","7.A",190,null,null,1124.5]
[null,"HOLUBCOVÁ","Alena","7.A",90,null,"Jilemnice 13.06.22",499.5]
[null,"KOHOUTOVÁ","Anna","7.A",96,null,"Jilemnice  03.01.22",537]
[null,"KRAUSOVÁ","Anežka","7.A",90,null,"Jilemnice 13.06.22",499.5]
[null,"KUŽELOVÁ","Apoléna","7.A",145,null,null,843.25]
[null,"MORÁVKOVÁ","Lucie","7.A",null,null,null,0,null,89]
[null,"SKLENÁROVÁ","Eliška","7.A",64,null,"Jilemnice 13.06.22",337,null,49]
[null,"ŠEJNOVÁ","Karolína","7.A",58,null,"Jilemnice 13.06.22",299.5]
[null,"ŠTOLFOVÁ","Tereza","7.A",65,null,"Jilemnice  03.01.22",343.25]
[null,"ŠUBÍKOVÁ","Klára","7.A",88,null,"Jilemnice 13.06.22",487]
[null,"ŠULKOVSKÁ","Klára","7.A",50,null,"Jilemnice 13.06.22",249.5]
[null,"TULÁČKOVÁ","Natálie","7.A",122,null,null,{"$f":"IF(E133=0,0,IF(E133>0,(E133*6.25-63)))","v":699.5},null,52]
[null,"VOJTÍŠKOVÁ","Ella","7.A",120,null,null,687,null,143]
[null,"DRUGÁČOVÁ","Kristinka","7.B",null,null,null,0]
[null,"FAJSTAVROVÁ","Karolína","7.B",166,null,null,974.5,null,64]
[null,"FAJSTAVROVÁ","Magdaléna","7.B",201,null,null,1193.25]
[null,"HLAVATÁ","Anna","7.B",null,null,null,0,null,50]
[null,"JINDROVÁ","Barbora","7.B",200,null,null,1187,null,68]
[null,"MAŘASOVÁ","Vendula","7.B",null,null,null,0,null,54]
[null,"PETŘÍČKOVÁ","Natálie","7.B",null,null,null,0]
[null,"PETŘÍKOVÁ","Adéla","7.B",39,null,"Jilemnice 13.06.22",180.75]
[null,"REGÁLOVÁ","Karolína","7.B",161,null,null,943.25]
[null,"RIEGROVÁ","Magdaléna","7.B",105,null,null,593.25,null,84]
[null,"RYBENSKÁ","Sabina","7.B",null,null,null,0]
[null,"STEINEROVÁ","Barbora","7.B",120,null,null,687,null,89]
[null,"TOMEŠOVÁ","Barbora","7.B",132,null,null,762]
[null,"VOHNOUTOVÁ","Aneta","7.B",162,null,"Jilemnice  03.01.22",949.5,null,30]
[null,"HAVLÍKOVÁ","Michaela","8.A",72,null,"Jilemnice  07.03.22",387]
[null,"HOLUBCOVÁ","Sára","8.A",91,null,"Jilemnice  07.03.22",505.75,null,68]
[null,"HONCŮ","Tereza","8.A",null,null,null,0]
[null,"HORÁČKOVÁ","Kateřina","8.A",88,null,"Jilemnice  07.03.22",487,null,44]
[null,"JOUDALOVÁ","Daniela","8.A",null,null,null,0]
[null,"KLÍMOVÁ","Anna","8.A",93,null,"Jilemnice  07.03.22",518.25]
[null,"KOHOUTOVÁ","Veronika","8.A",107,null,"Jilemnice  07.03.22",605.75]
[null,"KOVÁŘOVÁ","Viktorie","8.A",86,null,"Jilemnice  07.03.22",474.5]
[null,"KYNČLOVÁ","Anna","8.A",102,null,"Jilemnice  07.03.22",574.5,null,67]
[null,"MATOUŠOVÁ","Tereza","8.A",61,null,"Jilemnice  07.03.22",318.25,null,60]
[null,"MAZÁNKOVÁ","Zuzana","8.A",null,null,null,0]
[null,"MORKESOVÁ","Sabrina","8.A",100,null,"Jilemnice  07.03.22",562,null,76]
[null,"POHOŘALÁ","Alžběta","8.A",87,null,"Jilemnice  07.03.22",480.75]
[null,"SCHOLZOVÁ","Laura","8.A",77,null,"Jilemnice  07.03.22",418.25]
[null,"VÁCLAVÍKOVÁ","Valerie","8.A",95,null,"Jilemnice  07.03.22",530.75,null,56]
[null,"ZAPADLOVÁ","Emma","8.A",100,null,"Jilemnice  07.03.22",562,null,76]
[null,"ŽIŠKOVÁ","Mia","8.A",null,null,null,{"$f":"IF(E165=0,0,IF(E165>0,(E165*6.25-63)))","v":0}]
[null,"FARSKÁ","Tereza","8.B",125,null,"Jilemnice  30.10.21",718.25,null,null,106]
[null,"FEIXOVÁ","Rozálie","8.B",92,null,"Jilemnice  30.10.21",512,null,null,83]
[null,"FIŠEROVÁ","Michaela","8.B",150,null,"Jilemnice  30.10.21",874.5,null,null,109]
[null,"HAVLÍČKOVÁ","Kristýna","8.B",91,null,"Jilemnice  30.10.21",505.75,null,null,105]
[null,"JODASOVÁ","Nikola","8.B",128,null,"Jilemnice  30.10.21",737,null,67,111]
[null,"KADAVÁ","Nikola","8.B",60,null,"Jilemnice  30.10.21",312,null,null,80]
[null,"KRAFKOVÁ","Lucie","8.B",null,null,"Jilemnice  30.10.21",0,null,46,62]
[null,"KŘIVINKOVÁ","Alžběta","8.B",86,null,"Jilemnice  30.10.21",474.5,null,null,106]
[null,"LEŠÁKOVÁ","Lenka","8.B",124,null,"Jilemnice  30.10.21",712]
[null,"NYKLÍČKOVÁ","Adéla","8.B",220,null,"Jilemnice  30.10.21",1312,null,null,58]
[null,"PLŮCHOVÁ","Petra","8.B",239,null,"Jilemnice  30.10.21",1430.75,null,null,88]
[null,"PODZIMKOVÁ","Eliška","8.B",170,null,"Jilemnice  30.10.21",999.5,null,null,24]
[null,"RUTKAYOVÁ","Klára","8.B",75,null,"Jilemnice  30.10.21",405.75,null,null,31]
[null,"SEIDLOVÁ","Zuzana","8.B",127,null,"Jilemnice  30.10.21",730.75]
[null,"TOMÁŠOVÁ","Sára","8.B",77,null,null,418.25]
[null,"VANCLOVÁ","Barbora","8.B",172,null,null,1012,null,null,70]
[null,"VOTOČKOVÁ","Veronika","8.B",55,null,null,280.75,null,80,75]
[null,"HARTIGOVÁ","Anna","9.A",null,null,null,0,null,null,107,73]
[null,"HONCŮ","Rozálie","9.A",130,null,"Jilemnice  18.10.21",749.5,null,null,100,95]
[null,"CHALOUPSKÁ","Lucie","9.A",82,null,"Jilemnice  18.10.21",449.5,null,null,87,54]
[null,"KŘÍŽKOVÁ","Anna","9.A",100,null,"Jilemnice  18.10.21",562,null,null,100,90]
[null,"LUKEŠOVÁ","Kristýna","9.A",80,null,"Jilemnice  18.10.21",437,null,null,91,71]
[null,"MOTLÍKOVÁ","Eliška","9.A",135,null,"Jilemnice  18.10.21",780.75,null,null,123,115]
[null,"POHOŘELÁ","Amálie","9.A",134,null,"Jilemnice  18.10.21",774.5,null,121,109,82]
[null,"POLÁČKOVÁ","Natálie","9.A",50,null,"Jilemnice  18.10.21",249.5,null,null,26,49]
[null,"ŘEHOŘKOVÁ","Lucie","9.A",69,null,"Jilemnice  18.10.21",368.25,null,null,79,63]
[null,"SKÁLOVÁ","Alena","9.A",50,null,"Jilemnice  18.10.21",249.5,null,null,11,47]
[null,"VÁVROVÁ ","Aneta","9.A",128,null,"Jilemnice  18.10.21",737,null,85,null,75]
[null,"ZELINKOVÁ","Klára","9.A",85,null,"Jilemnice  18.10.21",468.25]

{"sheet":"Dz mís","index":20,"n_rows":194,"n_cols":12,"rows_kept":194,"cut":false,"hidden":false,"merged":[]}
[null,null,"VÝKONY   2020 - 2021",null,null,null,"Z MÍSTA","DĚVČATA  6. -  9.  ROČ."]
[null,null,null,null,null,null,null,null,null,null,"stav  k ",{"$f":"TODAY()","v":"2022-06-28"}]
[null,null,null,null,null,null,null,"   BODY",null,"   20 - 21   ","   19 - 20   ","   18 - 19   "]
[]
["1.",{"$f":"B101","v":"HEJRALOVÁ"},{"$f":"C101","v":"Natálie"},"6.A",159," ","Jilemnice  23.11.21",571.83852691218135," ",0,0,0]
["2.",{"$f":"B102","v":"KERLE"},"Nikita","6.A",174," ",{"$f":"G102","v":"Jilemnice  04.01.22"},642.40509915014172," ",{"$f":"J102","v":0},0,0]
["3.",{"$f":"B103","v":"PACLÍKOVÁ"},"Markéta","6.A",193," ",{"$f":"G103","v":"Jilemnice  04.01.22"},731.78942398489153," ",{"$f":"J103","v":0},0,0]
["4.",{"$f":"B104","v":"PLŮCHOVÁ"},"Michaela","6.A",183," ",{"$f":"G104","v":"Jilemnice  04.01.22"},684.74504249291795," ",{"$f":"J104","v":0},0,0]
["5.",{"$f":"B105","v":"ŠERCLOVÁ"},"Nikola","6.A",155," ",{"$f":"G105","v":"Jilemnice  04.01.22"},553.02077431539215," ",{"$f":"J105","v":0},0,0]
["6.",{"$f":"B106","v":"VÁCLAVÍKOVÁ"},"Alena","6.A",172," ",{"$f":"G106","v":"Jilemnice  23.11.21"},632.99622285174701," ",{"$f":"J106","v":0},0,0]
["7.",{"$f":"B107","v":"DUCHÁČKOVÁ"},"Tereza","6.B",128," ",{"$f":"G107","v":"Jilemnice  23.11.21"},426.00094428706336," ",{"$f":"J107","v":0},0,0]
["8.",{"$f":"B108","v":"FLAŠKOVÁ"},"Anna Sabriel","6.B",125," ",{"$f":"G108","v":"Jilemnice  04.01.22"},411.88762983947129," ",{"$f":"J108","v":0},0,0]
["9.",{"$f":"B109","v":"HAASOVÁ"},"Julie","6.B",185," ",{"$f":"G109","v":"Jilemnice  04.01.22"},694.15391879131289," ",{"$f":"J109","v":0},0,0]
["10.",{"$f":"B110","v":"HOBLOVÁ"},"Barbora","6.B",161," ",{"$f":"G110","v":"Jilemnice  23.11.21"},581.24740321057607," ",{"$f":"J110","v":0},0,0]
["11.",{"$f":"B111","v":"HORÁČKOVÁ"},"Valérie","6.B",181," ",{"$f":"G111","v":"Jilemnice  23.11.21"},675.33616619452323," ",{"$f":"J111","v":0},0,0]
["12.",{"$f":"B112","v":"JIRANOVÁ"},"Anežka","6.B",109," ",{"$f":"G112","v":"Jilemnice  04.01.22"},336.61661945231356," ",{"$f":"J112","v":0},0,0]
["13.",{"$f":"B113","v":"JODASOVÁ"},"Denisa","6.B",179," ",{"$f":"G113","v":"Jilemnice  04.01.22"},665.92728989612851," ",{"$f":"J113","v":0},0,0]
["14.",{"$f":"B114","v":"KRČÍKOVÁ"},"Beatrix","6.B",184," ",{"$f":"G114","v":"Jilemnice  04.01.22"},689.4494806421153," ",{"$f":"J114","v":0},0,0]
["15.",{"$f":"B115","v":"KUBÁTOVÁ"},"Veronika","6.B",140," ",{"$f":"G115","v":"Jilemnice  04.01.22"},482.45420207743166," ",{"$f":"J115","v":0},0,0]
["16.",{"$f":"B116","v":"LENČEŠOVÁ"},"Silvie","6.B",145," ",{"$f":"G116","v":"Jilemnice  04.01.22"},505.97639282341834," ",{"$f":"J116","v":0},0,0]
["17.",{"$f":"B117","v":"MATERNOVÁ"},"Lenka","6.B",148," ",{"$f":"G117","v":"Jilemnice  23.11.21"},520.08970727101064," ",{"$f":"J117","v":0},0,0]
["18.",{"$f":"B118","v":"TÓTHOVÁ"},"Viktorie","6.B",178," ",{"$f":"G118","v":"Jilemnice  04.01.22"},661.22285174693116," ",{"$f":"J118","v":0},0,0]
["19.",{"$f":"B119","v":"ERBENOVÁ"},"Sára","7.A",142," ",{"$f":"G119","v":"Jjilemnice  07.03.22"},491.86307837582638," ",{"$f":"J119","v":134},0,0]
["20.",{"$f":"B120","v":"GINGALOVÁ"},"Linda","7.A",0," ",{"$f":"G120","v":0},0," ",{"$f":"J120","v":0},0,0]
["21.",{"$f":"B121","v":"HOFMANOVÁ "},"Nicol","7.A",166," ",{"$f":"G121","v":"Jjilemnice  07.03.22"},604.76959395656286," ",{"$f":"J121","v":180},0,0]
["22.",{"$f":"B122","v":"HOLEŠOVSKÁ"},"Aneta","7.A",0," ",{"$f":"G122","v":0},0," ",{"$f":"J122","v":0},0,0]
["23.",{"$f":"B123","v":"HOLUBCOVÁ"},"Alena","7.A",190," ",{"$f":"G123","v":"Jjilemnice  07.03.22"},717.67610953729945," ",{"$f":"J123","v":185},0,0]
["24.",{"$f":"B124","v":"KOHOUTOVÁ"},"Anna","7.A",140," ",{"$f":"G124","v":"Jjilemnice  07.03.22"},482.45420207743166," ",{"$f":"J124","v":0},0,0]
["25.",{"$f":"B125","v":"KRAUSOVÁ"},"Anežka","7.A",169," ",{"$f":"G125","v":"Jjilemnice  07.03.22"},618.88290840415493," ",{"$f":"J125","v":185},0,0]
["26.",{"$f":"B126","v":"KUŽELOVÁ"},"Apoléna","7.A",0," ",{"$f":"G126","v":0},0," ",{"$f":"J126","v":0},0,0]
["27.",{"$f":"B127","v":"MORÁVKOVÁ"},"Lucie","7.A",0," ",{"$f":"G127","v":0},0," ",{"$f":"J127","v":0},0,0]
["28.",{"$f":"B128","v":"SKLENÁROVÁ"},"Eliška","7.A",164," ",{"$f":"G128","v":"Jjilemnice  07.03.22"},595.36071765816814," ",{"$f":"J128","v":155},0,0]
["29.",{"$f":"B129","v":"ŠEJNOVÁ"},"Karolína","7.A",185," ",{"$f":"G129","v":"Jjilemnice  07.03.22"},694.15391879131289," ",{"$f":"J129","v":0},0,0]
["30.",{"$f":"B130","v":"ŠTOLFOVÁ"},"Tereza","7.A",0," ",{"$f":"G130","v":0},0," ",{"$f":"J130","v":142},0,0]
["31.",{"$f":"B131","v":"ŠUBÍKOVÁ"},"Klára","7.A",170," ",{"$f":"G131","v":"Jjilemnice  07.03.22"},623.58734655335252," ",{"$f":"J131","v":170},0,0]
["32.",{"$f":"B132","v":"ŠULKOVSKÁ"},"Klára","7.A",0," ",{"$f":"G132","v":0},0," ",{"$f":"J132","v":0},0,0]
["33.",{"$f":"B133","v":"TULÁČKOVÁ"},"Natálie","7.A",0," ",{"$f":"G133","v":0},0," ",{"$f":"J133","v":0},0,0]
["34.",{"$f":"B134","v":"VOJTÍŠKOVÁ"},"Ella","7.A",0," ",{"$f":"G134","v":0},0," ",{"$f":"J134","v":158},0,0]
["35.",{"$f":"B135","v":"DRUGÁČOVÁ"},"Kristinka","7.B",0," ",{"$f":"G135","v":0},0," ",{"$f":"J135","v":187},0,0]
["36.",{"$f":"B136","v":"FAJSTAVROVÁ"},"Karolína","7.B",0," ",{"$f":"G136","v":0},0," ",{"$f":"J136","v":103},0,0]
["37.",{"$f":"B137","v":"FAJSTAVROVÁ"},"Magdaléna","7.B",0," ",{"$f":"G137","v":0},0," ",{"$f":"J137","v":191},0,0]
["38.",{"$f":"B138","v":"HLAVATÁ"},"Anna","7.B",0," ",{"$f":"G138","v":0},0," ",{"$f":"J138","v":0},0,0]
["39.",{"$f":"B139","v":"JINDROVÁ"},"Barbora","7.B",0," ",{"$f":"G139","v":0},0," ",{"$f":"J139","v":139},0,0]
["40.",{"$f":"B140","v":"MAŘASOVÁ"},"Vendula","7.B",0," ",{"$f":"G140","v":0},0," ",{"$f":"J140","v":0},0,0]
["41.",{"$f":"B141","v":"PETŘÍČKOVÁ"},"Natálie","7.B",0," ",{"$f":"G141","v":0},0," ",{"$f":"J141","v":0},0,0]
["42.",{"$f":"B142","v":"PETŘÍKOVÁ"},"Adéla","7.B",117," ",{"$f":"G142","v":"Jjilemnice  07.03.22"},374.25212464589254," ",{"$f":"J142","v":160},0,0]
["43.",{"$f":"B143","v":"REGÁLOVÁ"},"Karolína","7.B",0," ",{"$f":"G143","v":0},0," ",{"$f":"J143","v":129},0,0]
["44.",{"$f":"B144","v":"RIEGROVÁ"},"Magdaléna","7.B",0," ",{"$f":"G144","v":0},0," ",{"$f":"J144","v":163},0,0]
["45.",{"$f":"B145","v":"RYBENSKÁ"},"Sabina","7.B",0," ",{"$f":"G145","v":0},0," ",{"$f":"J145","v":0},0,0]
["46.",{"$f":"B146","v":"STEINEROVÁ"},"Barbora","7.B",0," ",{"$f":"G146","v":0},0," ",{"$f":"J146","v":0},0,0]
["47.",{"$f":"B147","v":"TOMEŠOVÁ"},"Barbora","7.B",0," ",{"$f":"G147","v":0},0," ",{"$f":"J147","v":0},0,0]
["48.",{"$f":"B148","v":"VOHNOUTOVÁ"},"Aneta","7.B",0," ",{"$f":"G148","v":0},0," ",{"$f":"J148","v":135},0,0]
["49.",{"$f":"B149","v":"HAVLÍKOVÁ"},"Michaela","8.A",168," ",{"$f":"G149","v":"Jilemnice  07.03.22"},614.17847025495757," ",{"$f":"J149","v":0},137,0]
["50.",{"$f":"B150","v":"HOLUBCOVÁ"},"Sára","8.A",210," ",{"$f":"G150","v":"Jilemnice  07.03.22"},811.76487252124662," ",{"$f":"J150","v":0},177,0]
["51.",{"$f":"B151","v":"HONCŮ"},"Tereza","8.A",190," ",{"$f":"G151","v":"Jilemnice  07.03.22"},717.67610953729945," ",{"$f":"J151","v":0},166,0]
["52.",{"$f":"B152","v":"HORÁČKOVÁ"},"Kateřina","8.A",214," ",{"$f":"G152","v":"Jilemnice  07.03.22"},830.58262511803605," ",{"$f":"J152","v":0},197,0]
["53.",{"$f":"B153","v":"JOUDALOVÁ"},"Daniela","8.A",0," ",{"$f":"G153","v":0},0," ",{"$f":"J153","v":0},133,0]
["54.",{"$f":"B154","v":"KLÍMOVÁ"},"Anna","8.A",182," ",{"$f":"G154","v":"Jilemnice  07.03.22"},680.04060434372059," ",{"$f":"J154","v":0},166,0]
["55.",{"$f":"B155","v":"KOHOUTOVÁ"},"Veronika","8.A",180," ",{"$f":"G155","v":"Jilemnice  07.03.22"},670.63172804532587," ",{"$f":"J155","v":0},0,0]
["56.",{"$f":"B156","v":"KOVÁŘOVÁ"},"Viktorie","8.A",191," ",{"$f":"G156","v":"Jilemnice  07.03.22"},722.38054768649681," ",{"$f":"J156","v":0},179,0]
["57.",{"$f":"B157","v":"KYNČLOVÁ"},"Anna","8.A",220," ",{"$f":"G157","v":"Jilemnice  07.03.22"},858.8092540132202," ",{"$f":"J157","v":0},180,0]
["58.",{"$f":"B158","v":"MATOUŠOVÁ"},"Tereza","8.A",143," ",{"$f":"G158","v":"Jilemnice  07.03.22"},496.56751652502362," ",{"$f":"J158","v":0},145,0]
["59.",{"$f":"B159","v":"MAZÁNKOVÁ"},"Zuzana","8.A",0," ",{"$f":"G159","v":0},0," ",{"$f":"J159","v":0},140,0]
["60.",{"$f":"B160","v":"MORKESOVÁ"},"Sabrina","8.A",212," ",{"$f":"G160","v":"Jilemnice  07.03.22"},821.17374881964133," ",{"$f":"J160","v":173},199,0]
["61.",{"$f":"B161","v":"POHOŘALÁ"},"Alžběta","8.A",186," ",{"$f":"G161","v":"Jilemnice  07.03.22"},698.85835694051002," ",{"$f":"J161","v":0},181,0]
["62.",{"$f":"B162","v":"SCHOLZOVÁ"},"Laura","8.A",140," ",{"$f":"G162","v":"Jilemnice  07.03.22"},482.45420207743166," ",{"$f":"J162","v":0},128,0]
["63.",{"$f":"B163","v":"VÁCLAVÍKOVÁ"},"Valerie","8.A",187," ",{"$f":"G163","v":"Jilemnice  07.03.22"},703.56279508970738," ",{"$f":"J163","v":139},167,0]
["64.",{"$f":"B164","v":"ZAPADLOVÁ"},"Emma","8.A",185," ",{"$f":"G164","v":"Jilemnice  07.03.22"},694.15391879131289," ",{"$f":"J164","v":0},170,0]
["65.",{"$f":"B165","v":"ŽIŠKOVÁ"},"Mia","8.A",0," ",{"$f":"G165","v":0},0," ",{"$f":"J165","v":0},181,0]
["66.",{"$f":"B166","v":"FARSKÁ"},"Tereza","8.B",0," ",{"$f":"G166","v":0},0," ",{"$f":"J166","v":128},0,0]
["67.",{"$f":"B167","v":"FEIXOVÁ"},"Rozálie","8.B",0," ",{"$f":"G167","v":0},0," ",{"$f":"J167","v":0},115,0]
["68.",{"$f":"B168","v":"FIŠEROVÁ"},"Michaela","8.B",0," ",{"$f":"G168","v":0},0," ",{"$f":"J168","v":0},154,0]
["69.",{"$f":"B169","v":"HAVLÍČKOVÁ"},"Kristýna","8.B",0," ",{"$f":"G169","v":0},0," ",{"$f":"J169","v":0},0,0]
["70.",{"$f":"B170","v":"JODASOVÁ"},"Nikola","8.B",0," ",{"$f":"G170","v":0},0," ",{"$f":"J170","v":0},149,0]
["71.",{"$f":"B171","v":"KADAVÁ"},"Nikola","8.B",0," ",{"$f":"G171","v":0},0," ",{"$f":"J171","v":0},128,0]
["72.",{"$f":"B172","v":"KRAFKOVÁ"},"Lucie","8.B",0," ",{"$f":"G172","v":0},0," ",{"$f":"J172","v":0},0,0]
["73.",{"$f":"B173","v":"KŘIVINKOVÁ"},"Alžběta","8.B",0," ",{"$f":"G173","v":0},0," ",{"$f":"J173","v":0},179,0]
["74.",{"$f":"B174","v":"LEŠÁKOVÁ"},"Lenka","8.B",0," ",{"$f":"G174","v":0},0," ",{"$f":"J174","v":0},135,0]
["75.",{"$f":"B175","v":"NYKLÍČKOVÁ"},"Adéla","8.B",0," ",{"$f":"G175","v":0},0," ",{"$f":"J175","v":0},195,0]
["76.",{"$f":"B176","v":"PLŮCHOVÁ"},"Petra","8.B",0," ",{"$f":"G176","v":0},0," ",{"$f":"J176","v":0},164,0]
["77.",{"$f":"B177","v":"PODZIMKOVÁ"},"Eliška","8.B",0," ",{"$f":"G177","v":0},0," ",{"$f":"J177","v":0},155,0]
["78.",{"$f":"B178","v":"RUTKAYOVÁ"},"Klára","8.B",0," ",{"$f":"G178","v":0},0," ",{"$f":"J178","v":0},165,0]
["79.",{"$f":"B179","v":"SEIDLOVÁ"},"Zuzana","8.B",0," ",{"$f":"G179","v":0},0," ",{"$f":"J179","v":139},150,0]
["80.",{"$f":"B180","v":"TOMÁŠOVÁ"},"Sára","8.B",0," ",{"$f":"G180","v":0},0," ",{"$f":"J180","v":0},121,0]
["81.",{"$f":"B181","v":"VANCLOVÁ"},"Barbora","8.B",0," ",{"$f":"G181","v":0},0," ",{"$f":"J181","v":0},0,0]
["82.",{"$f":"B182","v":"VOTOČKOVÁ"},"Veronika","8.B",0," ",{"$f":"G182","v":0},0," ",{"$f":"J182","v":0},131,0]
["83.",{"$f":"B183","v":"HARTIGOVÁ"},"Anna","9.A",208," ",{"$f":"G183","v":"Jilemnice  25.05.22"},802.35599622285167," ",{"$f":"J183","v":0},192,197]
["84.",{"$f":"B184","v":"HONCŮ"},"Rozálie","9.A",219," ",{"$f":"G184","v":"Jilemnice  25.05.22"},854.10481586402284," ",{"$f":"J184","v":0},0,207]
["85.",{"$f":"B185","v":"CHALOUPSKÁ"},"Lucie","9.A",0," ",{"$f":"G185","v":0},0," ",{"$f":"J185","v":0},190,187]
["86.",{"$f":"B186","v":"KŘÍŽKOVÁ"},"Anna","9.A",182," ",{"$f":"G186","v":"Jilemnice  25.05.22"},680.04060434372059," ",{"$f":"J186","v":0},164,170]
["87.",{"$f":"B187","v":"LUKEŠOVÁ"},"Kristýna","9.A",175," ",{"$f":"G187","v":"Jilemnice  25.05.22"},647.10953729933908," ",{"$f":"J187","v":0},174,180]
["88.",{"$f":"B188","v":"MOTLÍKOVÁ"},"Eliška","9.A",191," ",{"$f":"G188","v":"Jilemnice  25.05.22"},722.38054768649681," ",{"$f":"J188","v":0},0,180]
["89.",{"$f":"B189","v":"POHOŘELÁ"},"Amálie","9.A",196," ",{"$f":"G189","v":"Jilemnice  25.05.22"},745.9027384324836," ",{"$f":"J189","v":180},176,168]
["90.",{"$f":"B190","v":"POLÁČKOVÁ"},"Natálie","9.A",134," ",{"$f":"G190","v":"Jilemnice  25.05.22"},454.22757318224751," ",{"$f":"J190","v":0},120,125]
["91.",{"$f":"B191","v":"ŘEHOŘKOVÁ"},"Lucie","9.A",182," ",{"$f":"G191","v":"Jilemnice  25.05.22"},680.04060434372059," ",{"$f":"J191","v":0},0,182]
["92.",{"$f":"B192","v":"SKÁLOVÁ"},"Alena","9.A",146," ",{"$f":"G192","v":"Jilemnice  25.05.22"},510.68083097261569," ",{"$f":"J192","v":0},153,140]
["93.",{"$f":"B193","v":"VÁVROVÁ "},"Aneta","9.A",190," ",{"$f":"G193","v":"Jilemnice  25.05.22"},717.67610953729945," ",{"$f":"J193","v":206},198,198]
["94.",{"$f":"B194","v":"ZELINKOVÁ"},"Klára","9.A",205," ",{"$f":"G194","v":"Jilemnice  25.05.22"},788.24268177525983," ",{"$f":"J194","v":0},185,198]
[]
[]
[null,"HEJRALOVÁ","Natálie","6.A",159,null,"Jilemnice  23.11.21",{"$f":"IF(E101=0,0,IF(E101>0,(E101+75)*4.982/1.059-529))","v":571.83852691218135}]
[null,"KERLE","Nikita","6.A",174,null,"Jilemnice  04.01.22",642.40509915014172]
[null,"PACLÍKOVÁ","Markéta","6.A",193,null,"Jilemnice  04.01.22",731.78942398489153]
[null,"PLŮCHOVÁ","Michaela","6.A",183,null,"Jilemnice  04.01.22",684.74504249291795]
[null,"ŠERCLOVÁ","Nikola","6.A",155,null,"Jilemnice  04.01.22",553.02077431539215]
[null,"VÁCLAVÍKOVÁ","Alena","6.A",172,null,"Jilemnice  23.11.21",632.99622285174701]
[null,"DUCHÁČKOVÁ","Tereza","6.B",128,null,"Jilemnice  23.11.21",426.00094428706336]
[null,"FLAŠKOVÁ","Anna Sabriel","6.B",125,null,"Jilemnice  04.01.22",411.88762983947129]
[null,"HAASOVÁ","Julie","6.B",185,null,"Jilemnice  04.01.22",694.15391879131289]
[null,"HOBLOVÁ","Barbora","6.B",161,null,"Jilemnice  23.11.21",581.24740321057607]
[null,"HORÁČKOVÁ","Valérie","6.B",181,null,"Jilemnice  23.11.21",675.33616619452323]
[null,"JIRANOVÁ","Anežka","6.B",109,null,"Jilemnice  04.01.22",336.61661945231356]
[null,"JODASOVÁ","Denisa","6.B",179,null,"Jilemnice  04.01.22",665.92728989612851]
[null,"KRČÍKOVÁ","Beatrix","6.B",184,null,"Jilemnice  04.01.22",689.4494806421153]
[null,"KUBÁTOVÁ","Veronika","6.B",140,null,"Jilemnice  04.01.22",482.45420207743166]
[null,"LENČEŠOVÁ","Silvie","6.B",145,null,"Jilemnice  04.01.22",505.97639282341834]
[null,"MATERNOVÁ","Lenka","6.B",148,null,"Jilemnice  23.11.21",520.08970727101064]
[null,"TÓTHOVÁ","Viktorie","6.B",178,null,"Jilemnice  04.01.22",661.22285174693116]
[null,"ERBENOVÁ","Sára","7.A",142,null,"Jjilemnice  07.03.22",491.86307837582638,null,134]
[null,"GINGALOVÁ","Linda","7.A",null,null,null,0]
[null,"HOFMANOVÁ ","Nicol","7.A",166,null,"Jjilemnice  07.03.22",604.76959395656286,null,180]
[null,"HOLEŠOVSKÁ","Aneta","7.A",null,null,null,0]
[null,"HOLUBCOVÁ","Alena","7.A",190,null,"Jjilemnice  07.03.22",717.67610953729945,null,185]
[null,"KOHOUTOVÁ","Anna","7.A",140,null,"Jjilemnice  07.03.22",482.45420207743166]
[null,"KRAUSOVÁ","Anežka","7.A",169,null,"Jjilemnice  07.03.22",618.88290840415493,null,185]
[null,"KUŽELOVÁ","Apoléna","7.A",null,null,null,0]
[null,"MORÁVKOVÁ","Lucie","7.A",null,null,null,0]
[null,"SKLENÁROVÁ","Eliška","7.A",164,null,"Jjilemnice  07.03.22",595.36071765816814,null,155]
[null,"ŠEJNOVÁ","Karolína","7.A",185,null,"Jjilemnice  07.03.22",694.15391879131289]
[null,"ŠTOLFOVÁ","Tereza","7.A",null,null,null,0,null,142]
[null,"ŠUBÍKOVÁ","Klára","7.A",170,null,"Jjilemnice  07.03.22",623.58734655335252,null,170]
[null,"ŠULKOVSKÁ","Klára","7.A",null,null,null,0]
[null,"TULÁČKOVÁ","Natálie","7.A",null,null,null,{"$f":"IF(E133=0,0,IF(E133>0,(E133+75)*4.982/1.059-529))","v":0}]
[null,"VOJTÍŠKOVÁ","Ella","7.A",null,null,null,0,null,158]
[null,"DRUGÁČOVÁ","Kristinka","7.B",null,null,null,0,null,187]
[null,"FAJSTAVROVÁ","Karolína","7.B",null,null,null,0,null,103]
[null,"FAJSTAVROVÁ","Magdaléna","7.B",null,null,null,0,null,191]
[null,"HLAVATÁ","Anna","7.B",null,null,null,0]
[null,"JINDROVÁ","Barbora","7.B",null,null,null,0,null,139]
[null,"MAŘASOVÁ","Vendula","7.B",null,null,null,0]
[null,"PETŘÍČKOVÁ","Natálie","7.B",null,null,null,0]
[null,"PETŘÍKOVÁ","Adéla","7.B",117,null,"Jjilemnice  07.03.22",374.25212464589254,null,160]
[null,"REGÁLOVÁ","Karolína","7.B",null,null,null,0,null,129]
[null,"RIEGROVÁ","Magdaléna","7.B",null,null,null,0,null,163]
[null,"RYBENSKÁ","Sabina","7.B",null,null,null,0]
[null,"STEINEROVÁ","Barbora","7.B",null,null,null,0]
[null,"TOMEŠOVÁ","Barbora","7.B",null,null,null,0]
[null,"VOHNOUTOVÁ","Aneta","7.B",null,null,null,0,null,135]
[null,"HAVLÍKOVÁ","Michaela","8.A",168,null,"Jilemnice  07.03.22",614.17847025495757,null,null,137]
[null,"HOLUBCOVÁ","Sára","8.A",210,null,"Jilemnice  07.03.22",811.76487252124662,null,null,177]
[null,"HONCŮ","Tereza","8.A",190,null,"Jilemnice  07.03.22",717.67610953729945,null,null,166]
[null,"HORÁČKOVÁ","Kateřina","8.A",214,null,"Jilemnice  07.03.22",830.58262511803605,null,null,197]
[null,"JOUDALOVÁ","Daniela","8.A",null,null,null,0,null,null,133]
[null,"KLÍMOVÁ","Anna","8.A",182,null,"Jilemnice  07.03.22",680.04060434372059,null,null,166]
[null,"KOHOUTOVÁ","Veronika","8.A",180,null,"Jilemnice  07.03.22",670.63172804532587]
[null,"KOVÁŘOVÁ","Viktorie","8.A",191,null,"Jilemnice  07.03.22",722.38054768649681,null,null,179]
[null,"KYNČLOVÁ","Anna","8.A",220,null,"Jilemnice  07.03.22",858.8092540132202,null,null,180]
[null,"MATOUŠOVÁ","Tereza","8.A",143,null,"Jilemnice  07.03.22",496.56751652502362,null,null,145]
[null,"MAZÁNKOVÁ","Zuzana","8.A",null,null,null,0,null,null,140]
[null,"MORKESOVÁ","Sabrina","8.A",212,null,"Jilemnice  07.03.22",821.17374881964133,null,173,199]
[null,"POHOŘALÁ","Alžběta","8.A",186,null,"Jilemnice  07.03.22",698.85835694051002,null,null,181]
[null,"SCHOLZOVÁ","Laura","8.A",140,null,"Jilemnice  07.03.22",482.45420207743166,null,null,128]
[null,"VÁCLAVÍKOVÁ","Valerie","8.A",187,null,"Jilemnice  07.03.22",703.56279508970738,null,139,167]
[null,"ZAPADLOVÁ","Emma","8.A",185,null,"Jilemnice  07.03.22",694.15391879131289,null,null,170]
[null,"ŽIŠKOVÁ","Mia","8.A",null,null,null,{"$f":"IF(E165=0,0,IF(E165>0,(E165+75)*4.982/1.059-529))","v":0},null,null,181]
[null,"FARSKÁ","Tereza","8.B",null,null,null,0,null,128]
[null,"FEIXOVÁ","Rozálie","8.B",null,null,null,0,null,null,115]
[null,"FIŠEROVÁ","Michaela","8.B",null,null,null,0,null,null,154]
[null,"HAVLÍČKOVÁ","Kristýna","8.B",null,null,null,0]
[null,"JODASOVÁ","Nikola","8.B",null,null,null,0,null,null,149]
[null,"KADAVÁ","Nikola","8.B",null,null,null,0,null,null,128]
[null,"KRAFKOVÁ","Lucie","8.B",null,null,null,0]
[null,"KŘIVINKOVÁ","Alžběta","8.B",null,null,null,0,null,null,179]
[null,"LEŠÁKOVÁ","Lenka","8.B",null,null,null,0,null,null,135]
[null,"NYKLÍČKOVÁ","Adéla","8.B",null,null,null,0,null,null,195]
[null,"PLŮCHOVÁ","Petra","8.B",null,null,null,0,null,null,164]
[null,"PODZIMKOVÁ","Eliška","8.B",null,null,null,0,null,null,155]
[null,"RUTKAYOVÁ","Klára","8.B",null,null,null,0,null,null,165]
[null,"SEIDLOVÁ","Zuzana","8.B",null,null,null,0,null,139,150]
[null,"TOMÁŠOVÁ","Sára","8.B",null,null,null,0,null,null,121]
[null,"VANCLOVÁ","Barbora","8.B",null,null,null,0]
[null,"VOTOČKOVÁ","Veronika","8.B",null,null,null,0,null,null,131]
[null,"HARTIGOVÁ","Anna","9.A",208,null,"Jilemnice  25.05.22",802.35599622285167,null,null,192,197]
[null,"HONCŮ","Rozálie","9.A",219,null,"Jilemnice  25.05.22",854.10481586402284,null,null,null,207]
[null,"CHALOUPSKÁ","Lucie","9.A",null,null,null,0,null,null,190,187]
[null,"KŘÍŽKOVÁ","Anna","9.A",182,null,"Jilemnice  25.05.22",680.04060434372059,null,null,164,170]
[null,"LUKEŠOVÁ","Kristýna","9.A",175,null,"Jilemnice  25.05.22",647.10953729933908,null,null,174,180]
[null,"MOTLÍKOVÁ","Eliška","9.A",191,null,"Jilemnice  25.05.22",722.38054768649681,null,null,null,180]
[null,"POHOŘELÁ","Amálie","9.A",196,null,"Jilemnice  25.05.22",745.9027384324836,null,180,176,168]
[null,"POLÁČKOVÁ","Natálie","9.A",134,null,"Jilemnice  25.05.22",454.22757318224751,null,null,120,125]
[null,"ŘEHOŘKOVÁ","Lucie","9.A",182,null,"Jilemnice  25.05.22",680.04060434372059,null,null,null,182]
[null,"SKÁLOVÁ","Alena","9.A",146,null,"Jilemnice  25.05.22",510.68083097261569,null,null,153,140]
[null,"VÁVROVÁ ","Aneta","9.A",190,null,"Jilemnice  25.05.22",717.67610953729945,null,206,198,198]
[null,"ZELINKOVÁ","Klára","9.A",205,null,"Jilemnice  25.05.22",788.24268177525983,null,null,185,198]

{"sheet":"Drepre","index":21,"n_rows":97,"n_cols":22,"rows_kept":97,"cut":false,"hidden":false,"merged":[]}
[]
[null,null,null,null,null,"OF","OF","OF ","OKRSEK",null,"OF","KF","okrsek","OF","OF","of BASK "," KF","OF","JIL ","OF ","štaf","OVVO "]
[null,null,null,null,"CELKEM","4boj","přespole","PLAV","FLORB","   ŠTAF","FLORB","PLAV","kopaná","fotbal","and 1","8.-9.","bask","VOLEJ","laťka","PoRo",null,"OF"]
[null,"HEJRALOVÁ","Natálie","6.A",{"$f":"SUM(F4:V4)","v":0}]
[null,"KERLE","Nikita","6.A",50,null,null,null,null,null,null,null,null,null,null,null,null,null,null,50]
[null,"PACLÍKOVÁ","Markéta","6.A",0]
[null,"PLŮCHOVÁ","Michaela","6.A",0]
[null,"ŠERCLOVÁ","Nikola","6.A",0]
[null,"VÁCLAVÍKOVÁ","Alena","6.A",0]
[null,"DUCHÁČKOVÁ","Tereza","6.B",0]
[null,"FLAŠKOVÁ","Anna Sabriel","6.B",0]
[null,"HAASOVÁ","Julie","6.B",0]
[null,"HOBLOVÁ","Barbora","6.B",0]
[null,"HORÁČKOVÁ","Valérie","6.B",0]
[null,"JIRANOVÁ","Anežka","6.B",0]
[null,"JODASOVÁ","Denisa","6.B",0]
[null,"KRČÍKOVÁ","Beatrix","6.B",0]
[null,"KUBÁTOVÁ","Veronika","6.B",0]
[null,"LENČEŠOVÁ","Silvie","6.B",0]
[null,"MATERNOVÁ","Lenka","6.B",0]
[null,"TÓTHOVÁ","Viktorie","6.B",0]
[null,"ERBENOVÁ","Sára","7.A",0]
[null,"GINGALOVÁ","Linda","7.A",75,null,null,null,25,null,null,null,null,null,null,null,null,null,null,null,null,50]
[null,"HOFMANOVÁ ","Nicol","7.A",0]
[null,"HOLEŠOVSKÁ","Aneta","7.A",25,null,null,null,25]
[null,"HOLUBCOVÁ","Alena","7.A",75,null,null,null,25,null,null,null,null,null,null,null,null,null,null,50]
[null,"KOHOUTOVÁ","Anna","7.A",0]
[null,"KRAUSOVÁ","Anežka","7.A",0]
[null,"KUŽELOVÁ","Apoléna","7.A",0]
[null,"MORÁVKOVÁ","Lucie","7.A",0]
[null,"SKLENÁROVÁ","Eliška","7.A",0]
[null,"ŠEJNOVÁ","Karolína","7.A",0]
[null,"ŠTOLFOVÁ","Tereza","7.A",0]
[null,"ŠUBÍKOVÁ","Klára","7.A",75,null,null,null,25,null,null,null,null,null,null,null,null,null,null,50]
[null,"ŠULKOVSKÁ","Klára","7.A",0]
[null,"TULÁČKOVÁ","Natálie","7.A",0]
[null,"VOJTÍŠKOVÁ","Ella","7.A",125,null,null,null,25,null,null,null,null,null,null,null,null,null,null,50,null,50]
[null,"DRUGÁČOVÁ","Kristinka","7.B",0]
[null,"FAJSTAVROVÁ","Karolína","7.B",75,null,null,null,25,null,null,null,null,null,null,null,null,null,null,50]
[null,"FAJSTAVROVÁ","Magdaléna","7.B",125,null,null,null,25,null,null,null,null,null,null,null,null,null,null,50,null,50]
[null,"HLAVATÁ","Anna","7.B",0]
[null,"JINDROVÁ","Barbora","7.B",75,null,null,null,25,null,null,null,null,null,null,null,null,null,null,null,null,50]
[null,"MAŘASOVÁ","Vendula","7.B",25,null,null,null,25]
[null,"PETŘÍČKOVÁ","Natálie","7.B",125,null,null,null,25,null,null,null,null,null,null,null,null,null,null,50,null,50]
[null,"PETŘÍKOVÁ","Adéla","7.B",0]
[null,"REGÁLOVÁ","Karolína","7.B",25,null,null,null,25]
[null,"RIEGROVÁ","Magdaléna","7.B",0]
[null,"RYBENSKÁ","Sabina","7.B",0]
[null,"STEINEROVÁ","Barbora","7.B",100,null,null,null,null,null,null,null,null,null,null,null,null,null,null,50,null,50]
[null,"TOMEŠOVÁ","Barbora","7.B",75,null,null,null,25,null,null,null,null,null,null,null,null,null,null,null,null,50]
[null,"VOHNOUTOVÁ","Aneta","7.B",125,null,null,null,25,null,null,null,null,null,null,null,null,null,null,50,null,50]
[null,"HAVLÍKOVÁ","Michaela","8.A",0]
[null,"HOLUBCOVÁ","Sára","8.A",75,null,null,null,25,null,50]
[null,"HONCŮ","Tereza","8.A",0]
[null,"HORÁČKOVÁ","Kateřina","8.A",125,null,null,null,25,null,50,null,null,null,null,null,null,null,null,50]
[null,"JOUDALOVÁ","Daniela","8.A",0]
[null,"KLÍMOVÁ","Anna","8.A",0]
[null,"KOHOUTOVÁ","Veronika","8.A",75,null,null,null,25,null,50]
[null,"KOVÁŘOVÁ","Viktorie","8.A",75,null,null,null,25,null,50]
[null,"KYNČLOVÁ","Anna","8.A",125,null,null,null,25,null,50,null,null,null,null,null,null,null,null,50]
[null,"MATOUŠOVÁ","Tereza","8.A",75,null,null,null,25,null,50]
[null,"MAZÁNKOVÁ","Zuzana","8.A",0]
[null,"MORKESOVÁ","Sabrina","8.A",75,null,null,null,25,null,50]
[null,"POHOŘALÁ","Alžběta","8.A",75,null,null,null,25,null,50]
[null,"SCHOLZOVÁ","Laura","8.A",0]
[null,"VÁCLAVÍKOVÁ","Valerie","8.A",125,null,null,null,25,null,50,null,null,null,null,null,null,null,null,50]
[null,"ZAPADLOVÁ","Emma","8.A",75,null,null,null,25,null,null,null,null,null,null,null,null,null,null,50]
[null,"ŽIŠKOVÁ","Mia","8.A",{"$f":"SUM(F68:V68)","v":0}]
[null,"FARSKÁ","Tereza","8.B",0]
[null,"FEIXOVÁ","Rozálie","8.B",0]
[null,"FIŠEROVÁ","Michaela","8.B",25,null,null,null,25]
[null,"HAVLÍČKOVÁ","Kristýna","8.B",25,null,null,null,25]
[null,"JODASOVÁ","Nikola","8.B",25,null,null,null,25]
[null,"KADAVÁ","Nikola","8.B",0]
[null,"KRAFKOVÁ","Lucie","8.B",0]
[null,"KŘIVINKOVÁ","Alžběta","8.B",0]
[null,"LEŠÁKOVÁ","Lenka","8.B",0]
[null,"NYKLÍČKOVÁ","Adéla","8.B",125,null,null,null,25,null,50,null,null,null,null,null,null,null,null,50]
[null,"PLŮCHOVÁ","Petra","8.B",75,null,null,null,25,null,50]
[null,"PODZIMKOVÁ","Eliška","8.B",25,null,null,null,25]
[null,"RUTKAYOVÁ","Klára","8.B",{"$f":"SUM(F81:V81)","v":0}]
[null,"SEIDLOVÁ","Zuzana","8.B",{"$f":"SUM(F82:V82)","v":75},null,null,null,25,null,50]
[null,"TOMÁŠOVÁ","Sára","8.B",{"$f":"SUM(F83:V83)","v":0}]
[null,"VANCLOVÁ","Barbora","8.B",{"$f":"SUM(F84:V84)","v":50},null,null,null,null,null,50]
[null,"VOTOČKOVÁ","Veronika","8.B",0]
[null,"HARTIGOVÁ","Anna","9.A",0]
[null,"HONCŮ","Rozálie","9.A",50,null,null,null,null,null,null,null,null,null,null,null,null,null,null,50]
[null,"CHALOUPSKÁ","Lucie","9.A",0]
[null,"KŘÍŽKOVÁ","Anna","9.A",0]
[null,"LUKEŠOVÁ","Kristýna","9.A",0]
[null,"MOTLÍKOVÁ","Eliška","9.A",50,null,null,null,null,null,null,null,null,null,null,null,null,null,null,50]
[null,"POHOŘELÁ","Amálie","9.A",0]
[null,"POLÁČKOVÁ","Natálie","9.A",0]
[null,"ŘEHOŘKOVÁ","Lucie","9.A",0]
[null,"SKÁLOVÁ","Alena","9.A",0]
[null,"VÁVROVÁ ","Aneta","9.A",50,null,null,null,null,null,null,null,null,null,null,null,null,null,null,50]
[null,"ZELINKOVÁ","Klára","9.A",50,null,null,null,null,null,null,null,null,null,null,null,null,null,null,50]

{"sheet":"Drekordy","index":22,"n_rows":37,"n_cols":15,"rows_kept":37,"cut":false,"hidden":false,"merged":[]}
["REKORDY SPORTOVCE ŠKOLY",null,null,null,null,null,null,"6.  ročník",null,"REKORDY SPORTOVCE ŠKOLY",null,null,null,null,"7.  ročník"]
[" ",null,null,null,null,null,null,{"$f":"TODAY()","v":"2022-06-28"},null,null,null,null,null,null,{"$f":"TODAY()","v":"2022-06-28"}]
["   60  m",null,null,"PRCHLÍKOVÁ","Lenka",8.6,null,"Turnov 08.06.11",null,"   60  m","HOLCOVÁ","Kristina",8.3000000000000007,null,"Turnov 29.05.07"]
[" 300  m",null,null,"JUNGOVÁ ","Lucie","00:00:53.350",null,"Jilemnice 05.06.18",null," 300  m","JUNGOVÁ ","Lucie","00:00:51.060",null,"Jilemnice  22.10.18"]
[" 800  m",null,null,"NOVÁKOVÁ","Lucie","00:02:52.700",null,"Turnov 11.06.10",null," 800  m","TROJANOVÁ","Hana","00:02:38.890",null,"Turnov 14.06.13"]
["dálka",null,null,"MÁČKOVÁ","Pavla",409," ","Jilemnice 18.06.09"," ","dálka","HOLCOVÁ","Kristina",448,null,"Turnov 10.05.07"]
["výška",null,null,"MÁČKOVÁ","Pavla",135,null,"Turnov 16.06.09",null,"výška","SVOBODOVÁ","Kristýna",135,null,"Jilemnice 26.04.12"]
["míček",null,null,"SPROSTÁ","Karolína",44,null,"Turnov 18.05.09",null,"míček","SPROSTÁ","Karolína",46,null,"Jilemnice 08.10.09"]
["koule  3",null,null,"MAREŠOVÁ","Tereza",6.85,null,"Jilemnice 13.06.07",null,"koule  3","MENDŘICKÁ","Marta",9.0399999999999991,null,"Jilemnice 28.04.10"]
["člunk. běh",null,null,"NECHANICKÁ","Natálie",10.65,null,"Jilemnice 13.02.15",null,"člunk. běh","RYŠAVÁ","Kateřina",10.130000000000001,null,"Jilemnice 13.11.15"]
["lehsedy",null,null,"ŠUPOVÁ","Nikola",60,null,"Jilemnice 30.03.15",null,"lehsedy","MÁČKOVÁ","Pavla",55,null,"Jilemnice 22.04.10"]
["odbíjení",null,null,"HRUBÁ","Martina",280,null,"Jilemnice 03.12.09",null,"odbíjení","MÁČKOVÁ","Denisa",649,null,"Jilemnice 07.04.10"]
[null,null,null," ",null,null,null,null,null,null,"MÁČKOVÁ","Pavla",649,null,"Jilemnice 07.04.10"]
["plavání 25 m",null,null,"RYPLOVÁ","Adéla",15.4,null,"Jilemnice 21.12.06",null,"plavání 25 m","MÁČKOVÁ","Denisa",15.3,null,"Jilemnice 12.04.10"]
["šplh",null,null,"URBANOVÁ","Nikola",4.7300000000000004,null,"Jilemnice 15.04.13",null,"šplh","VOTOČKOVÁ ","Nikola",3.64,null,"Jilemnice  06.05.19"]
["švihadlo",null,null,"PRCHLÍKOVÁ","Lenka",165,null,"Jilemnice 07.03.11",null,"švihadlo","PRCHLÍKOVÁ","Lenka",154,null,"Jilemnice 08.03.12"]
["z místa",null,null,"HONCŮ","Rozálie",207,null,"Jilemnice 05.06.19",null,"z místa","JANATOVÁ","Nikola",225,null,"Jilemnice 26.05.16"]
[]
["REKORDY SPORTOVCE ŠKOLY",null,null,null,null,null,null,"8.  ročník",null,"REKORDY SPORTOVCE ŠKOLY",null,null,null,null,"9.  ročník"]
[null,null,null,null,null,null,null,{"$f":"TODAY()","v":"2022-06-28"},null,null,null,null,null,null,{"$f":"TODAY()","v":"2022-06-28"}]
["   60  m",null,null,"HOLCOVÁ","Kristina",8.1,null,"Turnov 13.05.08",null,"   60  m","PAVLOUSKOVÁ","Lenka",8.3000000000000007,null,"Turnov 19.05.10"]
[null,null,null,null,null,null,null,null,null,null,"HOLCOVÁ","Kristina",8.3000000000000007,null,"Turnov 07.05.09"]
[" 300  m",null,null,"FRKOVÁ","Dita","00:00:47.200",null,"Turnov 11.06.10",null," 300  m","VRBINIAKOVÁ","Šárka","00:00:47.500",null,"Turnov 16.06.09"]
[" 800  m",null,null,"TROJANOVÁ","Hana","00:02:35.300",null,"Turnov 14.05.14",null," 800  m","TROJANOVÁ","Hana","00:02:31.570",null,"Turnov 13.05.15"]
["dálka",null,null,"PRCHLÍKOVÁ","Lenka",463,null,"Jablonné vP.27.05.13",null,"dálka","HOLCOVÁ","Kristina",481,null,"Jilemnice 26.09.08"]
["výška",null,null,"KAVANOVÁ","Michaela",143,null,"Turnov 21.09.17",null,"výška","HOFMANOVÁ","Tereza",135,null,"Turnov 13.05.10"]
[null,null,null,null,null,null,null,null,null,null,"VRBINIAKOVÁ","Šárka",135,null,"Turnov 02.06.09"]
["míček",null,null,"MÁČKOVÁ","Denisa",46.5,null,"Jilemnice 07.10.10",null,"míček","SPROSTÁ","Karolína",48,null,"Jilemnice 05.10.11"]
["koule  3",null,null,"HOLCOVÁ","Kristina",8.75,null,"Jilemnice 31.10.07",null,"koule  3","HOLCOVÁ","Kristina",9.15,null,"Jilemnice 29.09.08"]
["člunk. běh",null,null,"PRCHLÍKOVÁ","Lenka",10.17,null,"Jilemnice 07.12.12",null,"člunk. běh","PRCHLÍKOVÁ","Lenka",9.98,null,"Jilemnice 22.11.13"]
["lehsedy",null,null,"MÁČKOVÁ","Pavla",56,null,"Jilemnice 20.10.10",null,"lehsedy","RYŠAVÁ","Kateřina",57,null,"Jilemnice 17.05.18"]
["odbíjení",null,null,"MÁČKOVÁ","Denisa",2043,null,"Jilemnice 07.03.11",null,"odbíjení","OUTOLNÁ","Kateřina",1598,null,"Jilemnice 03.05.10"]
[null,null,null,"MÁČKOVÁ","Pavla",2043,null,"Jilemnice 07.03.11",null,null,"PAVLOUSKOVÁ","Lenka",1598,null,"Jilemnice 03.05.10"]
["plavání 25 m",null,null,"RYPLOVÁ","Adéla",15.6,null,"Jilemnice 18.12.08",null,"plavání 25 m","ŠÍROVÁ","Lucie",16.2,null,"Jilemnice 18.12.08"]
["šplh",null,null,"URBANOVÁ","Nikola",4.42,null,"Jilemnice 27.02.15",null,"šplh","NOSKOVÁ","Gabriela",4.13,null,"Jilemnice 24.02.12"]
["švihadlo",null,null,"JOHANOVÁ","Adéla",171,null,"Jilemnice 03.03.14",null,"švihadlo","JOHANOVÁ","Adéla",170,null,"Jilemnice 28.05.15"]
["z místa",null,null,"JEČNÁ","Klára",225,null,"Jilemnice 29.05.17",null,"z místa","HOLCOVÁ","Kristina",223,null,"Jilemnice 12.01.09"]