{"text_format":"1","workbook":"xlsx","n_sheets":27,"sheets":["HOME","TVOJE","TVOJE2","FOTO","CH15","ROČ","VÝK","60","300","1000","DÁLKA","VÝŠKA","MÍČEK","KOULE","OŠTĚP","ČLUNEK","LEHSED","ODBÍJENÍ","PLAVÁNÍ","SHYBY","ŠPLH","ŠVIHADLO","Z MÍSTA","REPRE","rekordy","press","week"],"not_rendered":{"charts":0,"images":0,"macros":1,"external_links":0,"defined_names":5,"comments":0,"pivot_tables":0},"unopened":[],"bounds":{"document_bytes":16777216,"sheet_cells":100000,"rows_first":2000,"rows_last":500,"rows_between":2000,"halvings":0,"cell_chars":16384,"cell_head_chars":4096},"cells_cut":0,"cells_raw":0,"read":"whole","date_system":"1900"}

{"sheet":"HOME","index":0,"n_rows":25,"n_cols":2,"rows_kept":25,"cut":false,"hidden":false,"merged":[[0,0,0,3],[8,1,8,3]]}
["CHLAPCI"]
[]
[]
[]
[]
[]
[]
[]
[null,"DISCIPLÍNY"]
[]
[]
[]
[]
[]
[]
[]
[]
[]
[]
[]
[]
[]
[]
[]
[null," "]

{"sheet":"TVOJE","index":1,"n_rows":34,"n_cols":20,"rows_kept":34,"cut":false,"hidden":false,"merged":[]}
[null,"6.A",null,null,"6.B",null,null,null,null,null,null,null,null,"8.A",null,null,"8.B",null,null,"9.A"]
[]
[]
[]
[]
[]
[]
[]
[]
[]
[]
[]
[]
[]
[]
[]
[]
[]
[]
[]
[]
[]
[]
[]
[]
[]
[]
[]
[]
[]
[]
[]
[]
[null,null,null,{"$f":"'Z MÍSTA'!E110","v":209},null,{"$f":"'Z MÍSTA'!G110","v":"Jilemnice  07.06.22"},{"$f":"'Z MÍSTA'!H110","v":794.19999999999993},null,{"$f":"'Z MÍSTA'!J110","v":0},{"$f":"'Z MÍSTA'!K110","v":0},{"$f":"'Z MÍSTA'!L110","v":0}]

{"sheet":"TVOJE2","index":2,"n_rows":34,"n_cols":11,"rows_kept":34,"cut":false,"hidden":false,"merged":[]}
[null,null,null,null,null,null,null,null,","]
[]
[null,null,null,"výkon",null,"místo","body",null,"20  - 21","19  - 20","18  - 19"]
[null,null,"60 m"]
[]
[null,null,"300 m"]
[]
[null,null,"1000 m"]
[]
[null,null,"dálka"]
[]
[null,null,"výška"]
[]
[null,null,"míček"]
[]
[null,null,"koule"]
[]
[null,null,"oštěp"]
[]
[null,null,"člunek"]
[]
[null,null,"lehsed"]
[]
[null,null,"odbíjení"]
[]
[null,null,"plavání"]
[]
[null,null,"shyby"]
[]
[null,null,"šplh"]
[]
[null,null,"švihadlo"]
[]
[" ",null,"z místa"]

{"sheet":"FOTO","index":3,"n_rows":20,"n_cols":6,"rows_kept":20,"cut":false,"hidden":false,"merged":[[1,1,1,2]]}
[]
[null,"PRO  ZOBRAZENÍ  FOTOGRAFIÍ  JE  TŘEBA  PŘÍSTUP  K  INTERNETU"]
[]
[]
[null,null,null,null,"DALŠÍ  SPORTOVNÍ  AKCE"]
[]
[null,2020,"VYHLÁŠENÍ  SE  NEUSKUTEČNILO",null,"10.12.2019  OF  FLORBAL  STARŠÍ ŽÁCI","13.11.2019  OF  PLAVÁNÍ    JILEMNICE"]
[null,null,null,null,"19.12.2019  OF  FLORBAL ML.ŽÁCI  JIL.","25.9.2019   JILEMNICKÉ  ŠTAFETY"]
[null,null,null,null,"24. 9.2019  OF  ČTYŘBOJ   TURNOV"]
[]
[null,2019,"VYHLÁŠENÍ  SPORTOVCE  ŠKOLY     13. ROČNÍK",null,"6. 12. 2018  OF  FLORBAL  6.-7. ROČ","14.11.2018  OF  PLAVÁNÍ  JILEMNICE"]
[null,null,null,null,"26. 9.2018  OF  ČTYŘBOJ  TURNOV"]
[null,2018,"VYHLÁŠENÍ  SPORTOVCE  ŠKOLY     12. ROČNÍK"]
[]
[null,2017,"VYHLÁŠENÍ  SPORTOVCE  ŠKOLY     11. ROČNÍK"]
[]
[null,2016,"VYHLÁŠENÍ  SPORTOVCE  ŠKOLY     10. ROČNÍK",null,"11. 5. 2016  POHÁR  ROZHLASU  TURNOV"]
[]
[]
[null,null,"průběžně budu přídávat další"]

{"sheet":"CH15","index":4,"n_rows":115,"n_cols":24,"rows_kept":115,"cut":false,"hidden":false,"merged":[]}
[" ",null,"T O P     1 5",null,null,null,null,null,null,null,null,null,null,null,null,null,null,null,"stav  k ",null,{"$f":"TODAY()","v":"2022-06-27"}]
[]
[null,null,null,null,null,"60  m  ","300m","1000m","dálka","výška","míček","koule","člunek","lehsed","odbíjení ","plavání","šplh","švihadlo","z místa"," REPRE","       CELKEM"]
[]
["1.",{"$f":"B35","v":"EXNER"},"Tomáš","6.A",null,796.02727134065935,577.70790537414246,467.3692037886596,717.28800000000001,616.92000000000007,200,532.22222222222217,697.01102745374283,525,120,402.859403261708,0,400,877.8,0,6930.2050334411351]
["2.",{"$f":"B36","v":"JANATA"},"Denis","6.A",null,739.81533963709683,572.21713015221246,504.95647922681849,601.69200000000001,571.16000000000008,300,413.88888888888886,601.42852542295373,437.5,144,0,0,406.25,566.19999999999993,0,5859.1083633279695]
["3.",{"$f":"B37","v":"JINDŘIŠEK"},"Alex Jiří","6.A",null,755.94293373319545,567.50400866973109,486.65665380584085,570.57000000000005,513.96,312.5,591.66666666666663,0,462.5,56,0,0,0,380,0,4697.3002628754348]
["4.",{"$f":"B38","v":"MARŠÁLEK"},"Ondřej","6.A",null,735.44426118118122,460.35759731076485,517.99252775136688,530.55600000000004,571.16000000000008,281.25,515,673.25743485766759,450,64,0,0,218.75,642.19999999999993,0,5659.9678211009796]
["5.",{"$f":"B39","v":"MLATEČEK"},"Patrik","6.A",null,665.5779901598579,416.18905417413794,491.40767411069015,499.43399999999997,502.5200000000001,331.25,471.11111111111109,532.11079179836884,375,64,0,0,218.75,494,0,5061.3506213541659]
["6.",{"$f":"B40","v":"SCHOLZ"},"Matyáš","6.A",null,707.61072363288713,537.46650742662894,440.84272912947722,575.01599999999996,565.44000000000005,325,554.44444444444446,0,412.5,144,0,225.87953246822397,293.75,722,0,5503.9499371016618]
["7.",{"$f":"B41","v":"TOMÁŠ"},"Jakub","6.A",null,722.69099698039224,642.14664186671405,685.77158491494845,622.43999999999994,616.92000000000007,306.25,491.66666666666663,739.9729270213877,562.5,104,0,236.41494868369281,662.5,653.6,0,7046.8737661338027]
["8.",{"$f":"B42","v":"VÁCLAVÍK"},"Jan","6.A",null,727.48697324110685,643.99195357957456,648.22525390909357,576.49800000000005,599.7600000000001,312.5,456.66666666666663,734.36607910747875,425,88,0,229.99592097333334,631.25,691.6,0,6765.3408474772541]
["9.",{"$f":"B43","v":"VEČEŘA"},"David","6.A",null,627.42546852892565,407.94193983872151,552.47446195598923,499.43399999999997,513.96,287.5,466.66666666666663,597.41138571753925,437.5,56,0,0,231.25,566.19999999999993,0,5243.7639227078425]
["10.",{"$f":"B44","v":"VYBÍRAL"},"Radim","6.A",null,807.42437644692734,758.95657419260442,782.44942974613832,680.23799999999994,662.68000000000006,375,516.11111111111109,751.30082509555814,687.5,280,0,542.07828667265699,718.75,794.19999999999993,0,8356.6886032649963]
["11.",{"$f":"B45","v":"BERISHA"},"David","6.B",null,573.0345767503693,0,275.51163697367235,392.73,388.12000000000006,218.75,286.11111111111109,689.02232050708415,0,80,0,0,0,608,0,3511.279645342237]
["12.",{"$f":"B46","v":"EFENBERK"},"Šimon","6.B",null,746.16783800407325,526.74558703990067,515.11477931182981,530.55600000000004,565.44000000000005,262.5,533.88888888888891,684.61516951947772,500,80,459.4836600835207,228.99762870402867,525,653.6,0,6812.10955155172]
["13.",{"$f":"B47","v":"FEJKL"},"Antonín","6.B",null,768.7687942194093,744.16152189547142,716.33658685383728,666.9,616.92000000000007,500,520.55555555555554,803.29738074834859,612.5,280,401.93206786999644,306.9141832875269,825,779,125,8667.2860904301451]
["14.",{"$f":"B48","v":"GOTTSTEIN"},"Matouš","6.B",null,819.21001922727271,811.51645799891526,849.6285826129282,729.14400000000001,685.56000000000006,450,525,801.2730515653584,637.5,160,397.77059262957937,437.77365615760903,800,813.19999999999993,250,9167.5763601916624]
["15.",{"$f":"B49","v":"HÁK"},"Šimon","6.B",null,0,0,0,0,0,0,0,0,0,0,0,0,0,0,0,0]
[]
[]
[]
[]
[]
[]
[]
[]
[]
[]
[]
[]
[]
[]
[null,null,null,null,null,"60  m  ","300m","1000m","dálka","výška","míček","koule","člunek","lehsed","odbíjení ","plavání","šplh","švihadlo","z místa"," REPRE","   CELKEM"]
[null,{"$f":"'60'!B101","v":"EXNER"},{"$f":"'60'!C101","v":"Tomáš"},{"$f":"'60'!D101","v":"6.A"},null,{"$f":"'60'!H101","v":796.02727134065935},{"$f":"'300'!H101","v":577.70790537414246},{"$f":"'1000'!H101","v":467.3692037886596},{"$f":"DÁLKA!H101","v":717.28800000000001},{"$f":"VÝŠKA!H101","v":616.92000000000007},{"$f":"MÍČEK!H101","v":200},{"$f":"KOULE!H101","v":532.22222222222217},{"$f":"ČLUNEK!H101","v":697.01102745374283},{"$f":"LEHSED!H101","v":525},{"$f":"ODBÍJENÍ!H101","v":120},{"$f":"PLAVÁNÍ!H101","v":402.859403261708},{"$f":"ŠPLH!H101","v":0},{"$f":"ŠVIHADLO!H101","v":400},{"$f":"'Z MÍSTA'!H101","v":877.8},{"$f":"REPRE!E4","v":0},{"$f":"SUM(F35:T35)","v":6930.2050334411351},null,{"$f":"FREQUENCY(F35:S35,0)","v":1}]
[null,{"$f":"'60'!B102","v":"JANATA"},{"$f":"'60'!C102","v":"Denis"},{"$f":"'60'!D102","v":"6.A"},null,{"$f":"'60'!H102","v":739.81533963709683},{"$f":"'300'!H102","v":572.21713015221246},{"$f":"'1000'!H102","v":504.95647922681849},{"$f":"DÁLKA!H102","v":601.69200000000001},{"$f":"VÝŠKA!H102","v":571.16000000000008},{"$f":"MÍČEK!H102","v":300},{"$f":"KOULE!H102","v":413.88888888888886},{"$f":"ČLUNEK!H102","v":601.42852542295373},{"$f":"LEHSED!H102","v":437.5},{"$f":"ODBÍJENÍ!H102","v":144},{"$f":"PLAVÁNÍ!H102","v":0},{"$f":"ŠPLH!H102","v":0},{"$f":"ŠVIHADLO!H102","v":406.25},{"$f":"'Z MÍSTA'!H102","v":566.19999999999993},{"$f":"REPRE!E5","v":0},5859.1083633279695,null,2]
[null,{"$f":"'60'!B103","v":"JINDŘIŠEK"},{"$f":"'60'!C103","v":"Alex Jiří"},{"$f":"'60'!D103","v":"6.A"},null,{"$f":"'60'!H103","v":755.94293373319545},{"$f":"'300'!H103","v":567.50400866973109},{"$f":"'1000'!H103","v":486.65665380584085},{"$f":"DÁLKA!H103","v":570.57000000000005},{"$f":"VÝŠKA!H103","v":513.96},{"$f":"MÍČEK!H103","v":312.5},{"$f":"KOULE!H103","v":591.66666666666663},{"$f":"ČLUNEK!H103","v":0},{"$f":"LEHSED!H103","v":462.5},{"$f":"ODBÍJENÍ!H103","v":56},{"$f":"PLAVÁNÍ!H103","v":0},{"$f":"ŠPLH!H103","v":0},{"$f":"ŠVIHADLO!H103","v":0},{"$f":"'Z MÍSTA'!H103","v":380},{"$f":"REPRE!E6","v":0},4697.3002628754348,null,4]
[null,{"$f":"'60'!B104","v":"MARŠÁLEK"},{"$f":"'60'!C104","v":"Ondřej"},{"$f":"'60'!D104","v":"6.A"},null,{"$f":"'60'!H104","v":735.44426118118122},{"$f":"'300'!H104","v":460.35759731076485},{"$f":"'1000'!H104","v":517.99252775136688},{"$f":"DÁLKA!H104","v":530.55600000000004},{"$f":"VÝŠKA!H104","v":571.16000000000008},{"$f":"MÍČEK!H104","v":281.25},{"$f":"KOULE!H104","v":515},{"$f":"ČLUNEK!H104","v":673.25743485766759},{"$f":"LEHSED!H104","v":450},{"$f":"ODBÍJENÍ!H104","v":64},{"$f":"PLAVÁNÍ!H104","v":0},{"$f":"ŠPLH!H104","v":0},{"$f":"ŠVIHADLO!H104","v":218.75},{"$f":"'Z MÍSTA'!H104","v":642.19999999999993},{"$f":"REPRE!E7","v":0},5659.9678211009796,null,2]
[null,{"$f":"'60'!B105","v":"MLATEČEK"},{"$f":"'60'!C105","v":"Patrik"},{"$f":"'60'!D105","v":"6.A"},null,{"$f":"'60'!H105","v":665.5779901598579},{"$f":"'300'!H105","v":416.18905417413794},{"$f":"'1000'!H105","v":491.40767411069015},{"$f":"DÁLKA!H105","v":499.43399999999997},{"$f":"VÝŠKA!H105","v":502.5200000000001},{"$f":"MÍČEK!H105","v":331.25},{"$f":"KOULE!H105","v":471.11111111111109},{"$f":"ČLUNEK!H105","v":532.11079179836884},{"$f":"LEHSED!H105","v":375},{"$f":"ODBÍJENÍ!H105","v":64},{"$f":"PLAVÁNÍ!H105","v":0},{"$f":"ŠPLH!H105","v":0},{"$f":"ŠVIHADLO!H105","v":218.75},{"$f":"'Z MÍSTA'!H105","v":494},{"$f":"REPRE!E8","v":0},5061.3506213541659,null,2]
[null,{"$f":"'60'!B106","v":"SCHOLZ"},{"$f":"'60'!C106","v":"Matyáš"},{"$f":"'60'!D106","v":"6.A"},null,{"$f":"'60'!H106","v":707.61072363288713},{"$f":"'300'!H106","v":537.46650742662894},{"$f":"'1000'!H106","v":440.84272912947722},{"$f":"DÁLKA!H106","v":575.01599999999996},{"$f":"VÝŠKA!H106","v":565.44000000000005},{"$f":"MÍČEK!H106","v":325},{"$f":"KOULE!H106","v":554.44444444444446},{"$f":"ČLUNEK!H106","v":0},{"$f":"LEHSED!H106","v":412.5},{"$f":"ODBÍJENÍ!H106","v":144},{"$f":"PLAVÁNÍ!H106","v":0},{"$f":"ŠPLH!H106","v":225.87953246822397},{"$f":"ŠVIHADLO!H106","v":293.75},{"$f":"'Z MÍSTA'!H106","v":722},{"$f":"REPRE!E9","v":0},5503.9499371016618,null,2]
[null,{"$f":"'60'!B107","v":"TOMÁŠ"},{"$f":"'60'!C107","v":"Jakub"},{"$f":"'60'!D107","v":"6.A"},null,{"$f":"'60'!H107","v":722.69099698039224},{"$f":"'300'!H107","v":642.14664186671405},{"$f":"'1000'!H107","v":685.77158491494845},{"$f":"DÁLKA!H107","v":622.43999999999994},{"$f":"VÝŠKA!H107","v":616.92000000000007},{"$f":"MÍČEK!H107","v":306.25},{"$f":"KOULE!H107","v":491.66666666666663},{"$f":"ČLUNEK!H107","v":739.9729270213877},{"$f":"LEHSED!H107","v":562.5},{"$f":"ODBÍJENÍ!H107","v":104},{"$f":"PLAVÁNÍ!H107","v":0},{"$f":"ŠPLH!H107","v":236.41494868369281},{"$f":"ŠVIHADLO!H107","v":662.5},{"$f":"'Z MÍSTA'!H107","v":653.6},{"$f":"REPRE!E10","v":0},7046.8737661338027,null,1]
[null,{"$f":"'60'!B108","v":"VÁCLAVÍK"},{"$f":"'60'!C108","v":"Jan"},{"$f":"'60'!D108","v":"6.A"},null,{"$f":"'60'!H108","v":727.48697324110685},{"$f":"'300'!H108","v":643.99195357957456},{"$f":"'1000'!H108","v":648.22525390909357},{"$f":"DÁLKA!H108","v":576.49800000000005},{"$f":"VÝŠKA!H108","v":599.7600000000001},{"$f":"MÍČEK!H108","v":312.5},{"$f":"KOULE!H108","v":456.66666666666663},{"$f":"ČLUNEK!H108","v":734.36607910747875},{"$f":"LEHSED!H108","v":425},{"$f":"ODBÍJENÍ!H108","v":88},{"$f":"PLAVÁNÍ!H108","v":0},{"$f":"ŠPLH!H108","v":229.99592097333334},{"$f":"ŠVIHADLO!H108","v":631.25},{"$f":"'Z MÍSTA'!H108","v":691.6},{"$f":"REPRE!E11","v":0},6765.3408474772541,null,1]
[null,{"$f":"'60'!B109","v":"VEČEŘA"},{"$f":"'60'!C109","v":"David"},{"$f":"'60'!D109","v":"6.A"},null,{"$f":"'60'!H109","v":627.42546852892565},{"$f":"'300'!H109","v":407.94193983872151},{"$f":"'1000'!H109","v":552.47446195598923},{"$f":"DÁLKA!H109","v":499.43399999999997},{"$f":"VÝŠKA!H109","v":513.96},{"$f":"MÍČEK!H109","v":287.5},{"$f":"KOULE!H109","v":466.66666666666663},{"$f":"ČLUNEK!H109","v":597.41138571753925},{"$f":"LEHSED!H109","v":437.5},{"$f":"ODBÍJENÍ!H109","v":56},{"$f":"PLAVÁNÍ!H109","v":0},{"$f":"ŠPLH!H109","v":0},{"$f":"ŠVIHADLO!H109","v":231.25},{"$f":"'Z MÍSTA'!H109","v":566.19999999999993},{"$f":"REPRE!E12","v":0},5243.7639227078425,null,2]
[null,{"$f":"'60'!B110","v":"VYBÍRAL"},{"$f":"'60'!C110","v":"Radim"},{"$f":"'60'!D110","v":"6.A"},null,{"$f":"'60'!H110","v":807.42437644692734},{"$f":"'300'!H110","v":758.95657419260442},{"$f":"'1000'!H110","v":782.44942974613832},{"$f":"DÁLKA!H110","v":680.23799999999994},{"$f":"VÝŠKA!H110","v":662.68000000000006},{"$f":"MÍČEK!H110","v":375},{"$f":"KOULE!H110","v":516.11111111111109},{"$f":"ČLUNEK!H110","v":751.30082509555814},{"$f":"LEHSED!H110","v":687.5},{"$f":"ODBÍJENÍ!H110","v":280},{"$f":"PLAVÁNÍ!H110","v":0},{"$f":"ŠPLH!H110","v":542.07828667265699},{"$f":"ŠVIHADLO!H110","v":718.75},{"$f":"'Z MÍSTA'!H110","v":794.19999999999993},{"$f":"REPRE!E13","v":0},8356.6886032649963,null,1,{"$f":"SUM(W35:W44)","v":18}]
[null,{"$f":"'60'!B111","v":"BERISHA"},{"$f":"'60'!C111","v":"David"},{"$f":"'60'!D111","v":"6.B"},null,{"$f":"'60'!H111","v":573.0345767503693},{"$f":"'300'!H111","v":0},{"$f":"'1000'!H111","v":275.51163697367235},{"$f":"DÁLKA!H111","v":392.73},{"$f":"VÝŠKA!H111","v":388.12000000000006},{"$f":"MÍČEK!H111","v":218.75},{"$f":"KOULE!H111","v":286.11111111111109},{"$f":"ČLUNEK!H111","v":689.02232050708415},{"$f":"LEHSED!H111","v":0},{"$f":"ODBÍJENÍ!H111","v":80},{"$f":"PLAVÁNÍ!H111","v":0},{"$f":"ŠPLH!H111","v":0},{"$f":"ŠVIHADLO!H111","v":0},{"$f":"'Z MÍSTA'!H111","v":608},{"$f":"REPRE!E14","v":0},3511.279645342237,null,5]
[null,{"$f":"'60'!B112","v":"EFENBERK"},{"$f":"'60'!C112","v":"Šimon"},{"$f":"'60'!D112","v":"6.B"},null,{"$f":"'60'!H112","v":746.16783800407325},{"$f":"'300'!H112","v":526.74558703990067},{"$f":"'1000'!H112","v":515.11477931182981},{"$f":"DÁLKA!H112","v":530.55600000000004},{"$f":"VÝŠKA!H112","v":565.44000000000005},{"$f":"MÍČEK!H112","v":262.5},{"$f":"KOULE!H112","v":533.88888888888891},{"$f":"ČLUNEK!H112","v":684.61516951947772},{"$f":"LEHSED!H112","v":500},{"$f":"ODBÍJENÍ!H112","v":80},{"$f":"PLAVÁNÍ!H112","v":459.4836600835207},{"$f":"ŠPLH!H112","v":228.99762870402867},{"$f":"ŠVIHADLO!H112","v":525},{"$f":"'Z MÍSTA'!H112","v":653.6},{"$f":"REPRE!E15","v":0},6812.10955155172,null,0]
[null,{"$f":"'60'!B113","v":"FEJKL"},{"$f":"'60'!C113","v":"Antonín"},{"$f":"'60'!D113","v":"6.B"},null,{"$f":"'60'!H113","v":768.7687942194093},{"$f":"'300'!H113","v":744.16152189547142},{"$f":"'1000'!H113","v":716.33658685383728},{"$f":"DÁLKA!H113","v":666.9},{"$f":"VÝŠKA!H113","v":616.92000000000007},{"$f":"MÍČEK!H113","v":500},{"$f":"KOULE!H113","v":520.55555555555554},{"$f":"ČLUNEK!H113","v":803.29738074834859},{"$f":"LEHSED!H113","v":612.5},{"$f":"ODBÍJENÍ!H113","v":280},{"$f":"PLAVÁNÍ!H113","v":401.93206786999644},{"$f":"ŠPLH!H113","v":306.9141832875269},{"$f":"ŠVIHADLO!H113","v":825},{"$f":"'Z MÍSTA'!H113","v":779},{"$f":"REPRE!E16","v":125},8667.2860904301451,null,0]
[null,{"$f":"'60'!B114","v":"GOTTSTEIN"},{"$f":"'60'!C114","v":"Matouš"},{"$f":"'60'!D114","v":"6.B"},null,{"$f":"'60'!H114","v":819.21001922727271},{"$f":"'300'!H114","v":811.51645799891526},{"$f":"'1000'!H114","v":849.6285826129282},{"$f":"DÁLKA!H114","v":729.14400000000001},{"$f":"VÝŠKA!H114","v":685.56000000000006},{"$f":"MÍČEK!H114","v":450},{"$f":"KOULE!H114","v":525},{"$f":"ČLUNEK!H114","v":801.2730515653584},{"$f":"LEHSED!H114","v":637.5},{"$f":"ODBÍJENÍ!H114","v":160},{"$f":"PLAVÁNÍ!H114","v":397.77059262957937},{"$f":"ŠPLH!H114","v":437.77365615760903},{"$f":"ŠVIHADLO!H114","v":800},{"$f":"'Z MÍSTA'!H114","v":813.19999999999993},{"$f":"REPRE!E17","v":250},9167.5763601916624,null,0]
[null,{"$f":"'60'!B115","v":"HÁK"},{"$f":"'60'!C115","v":"Šimon"},{"$f":"'60'!D115","v":"6.B"},null,{"$f":"'60'!H115","v":0},{"$f":"'300'!H115","v":0},{"$f":"'1000'!H115","v":0},{"$f":"DÁLKA!H115","v":0},{"$f":"VÝŠKA!H115","v":0},{"$f":"MÍČEK!H115","v":0},{"$f":"KOULE!H115","v":0},{"$f":"ČLUNEK!H115","v":0},{"$f":"LEHSED!H115","v":0},{"$f":"ODBÍJENÍ!H115","v":0},{"$f":"PLAVÁNÍ!H115","v":0},{"$f":"ŠPLH!H115","v":0},{"$f":"ŠVIHADLO!H115","v":0},{"$f":"'Z MÍSTA'!H115","v":0},{"$f":"REPRE!E18","v":0},0,null,14]
[null,{"$f":"'60'!B116","v":"POVAŽANEC"},{"$f":"'60'!C116","v":"Lukáš"},{"$f":"'60'!D116","v":"6.B"},null,{"$f":"'60'!H116","v":728.69783853465344},{"$f":"'300'!H116","v":529.72500907356925},{"$f":"'1000'!H116","v":522.20330725964629},{"$f":"DÁLKA!H116","v":586.87199999999996},{"$f":"VÝŠKA!H116","v":582.60000000000014},{"$f":"MÍČEK!H116","v":412.5},{"$f":"KOULE!H116","v":561.11111111111109},{"$f":"ČLUNEK!H116","v":668.06334459064328},{"$f":"LEHSED!H116","v":375},{"$f":"ODBÍJENÍ!H116","v":160},{"$f":"PLAVÁNÍ!H116","v":0},{"$f":"ŠPLH!H116","v":0},{"$f":"ŠVIHADLO!H116","v":368.75},{"$f":"'Z MÍSTA'!H116","v":615.6},{"$f":"REPRE!E19","v":0},6111.1226105696242,null,2]
[null,{"$f":"'60'!B117","v":"VANCL"},{"$f":"'60'!C117","v":"Jakub"},{"$f":"'60'!D117","v":"6.B"},null,{"$f":"'60'!H117","v":674.00254005410295},{"$f":"'300'!H117","v":471.4432042333284},{"$f":"'1000'!H117","v":553.40202564929859},{"$f":"DÁLKA!H117","v":454.97399999999999},{"$f":"VÝŠKA!H117","v":502.5200000000001},{"$f":"MÍČEK!H117","v":256.25},{"$f":"KOULE!H117","v":470},{"$f":"ČLUNEK!H117","v":551.14118183006553},{"$f":"LEHSED!H117","v":462.5},{"$f":"ODBÍJENÍ!H117","v":120},{"$f":"PLAVÁNÍ!H117","v":0},{"$f":"ŠPLH!H117","v":0},{"$f":"ŠVIHADLO!H117","v":112.5},{"$f":"'Z MÍSTA'!H117","v":551},{"$f":"REPRE!E20","v":0},5179.7329517667958,null,2]
[null,{"$f":"'60'!B118","v":"VANCL"},{"$f":"'60'!C118","v":"Miroslav"},{"$f":"'60'!D118","v":"6.B"},null,{"$f":"'60'!H118","v":663.63258134513273},{"$f":"'300'!H118","v":273.27194214951419},{"$f":"'1000'!H118","v":383.05388808932219},{"$f":"DÁLKA!H118","v":549.822},{"$f":"VÝŠKA!H118","v":571.16000000000008},{"$f":"MÍČEK!H118","v":262.5},{"$f":"KOULE!H118","v":443.33333333333331},{"$f":"ČLUNEK!H118","v":603.03986398763539},{"$f":"LEHSED!H118","v":337.5},{"$f":"ODBÍJENÍ!H118","v":40},{"$f":"PLAVÁNÍ!H118","v":0},{"$f":"ŠPLH!H118","v":0},{"$f":"ŠVIHADLO!H118","v":425},{"$f":"'Z MÍSTA'!H118","v":722},{"$f":"REPRE!E21","v":0},5274.3136089049376,null,2]
[null,{"$f":"'60'!B119","v":"VOTOČEK"},{"$f":"'60'!C119","v":"Michal"},{"$f":"'60'!D119","v":"6.B"},null,{"$f":"'60'!H119","v":690.0489952875696},{"$f":"'300'!H119","v":489.98278707882389},{"$f":"'1000'!H119","v":521.61568575104002},{"$f":"DÁLKA!H119","v":480.16800000000001},{"$f":"VÝŠKA!H119","v":565.44000000000005},{"$f":"MÍČEK!H119","v":375},{"$f":"KOULE!H119","v":483.33333333333331},{"$f":"ČLUNEK!H119","v":588.62901747967499},{"$f":"LEHSED!H119","v":462.5},{"$f":"ODBÍJENÍ!H119","v":64},{"$f":"PLAVÁNÍ!H119","v":0},{"$f":"ŠPLH!H119","v":0},{"$f":"ŠVIHADLO!H119","v":312.5},{"$f":"'Z MÍSTA'!H119","v":611.79999999999995},{"$f":"REPRE!E22","v":0},5645.0178189304424,null,2,{"$f":"SUM(W45:W53)-14","v":13}]
[null,{"$f":"'60'!B120","v":"BOUKAL"},{"$f":"'60'!C120","v":"Jakub"},{"$f":"'60'!D120","v":"7.A"},null,{"$f":"'60'!H120","v":0},{"$f":"'300'!H120","v":0},{"$f":"'1000'!H120","v":0},{"$f":"DÁLKA!H120","v":0},{"$f":"VÝŠKA!H120","v":0},{"$f":"MÍČEK!H120","v":0},{"$f":"KOULE!H120","v":540},{"$f":"ČLUNEK!H120","v":466.6982180009046},{"$f":"LEHSED!H120","v":0},{"$f":"ODBÍJENÍ!H120","v":0},{"$f":"PLAVÁNÍ!H120","v":0},{"$f":"ŠPLH!H120","v":0},{"$f":"ŠVIHADLO!H120","v":306.25},{"$f":"'Z MÍSTA'!H120","v":554.79999999999995},{"$f":"REPRE!E23","v":0},1867.7482180009044,null,10]
[null,{"$f":"'60'!B121","v":"DEMČUK"},{"$f":"'60'!C121","v":"Ilja"},{"$f":"'60'!D121","v":"7.A"},null,{"$f":"'60'!H121","v":756.60540053830221},{"$f":"'300'!H121","v":698.00020580749629},{"$f":"'1000'!H121","v":685.33193804781047},{"$f":"DÁLKA!H121","v":655.04399999999998},{"$f":"VÝŠKA!H121","v":668.4},{"$f":"MÍČEK!H121","v":387.5},{"$f":"KOULE!H121","v":527.22222222222217},{"$f":"ČLUNEK!H121","v":739.0358447408712},{"$f":"LEHSED!H121","v":475},{"$f":"ODBÍJENÍ!H121","v":48},{"$f":"PLAVÁNÍ!H121","v":0},{"$f":"ŠPLH!H121","v":0},{"$f":"ŠVIHADLO!H121","v":300},{"$f":"'Z MÍSTA'!H121","v":691.6},{"$f":"REPRE!E24","v":0},6631.7396113567029,null,2]
[null,{"$f":"'60'!B122","v":"FAISTAUER"},{"$f":"'60'!C122","v":"Kryštof"},{"$f":"'60'!D122","v":"7.A"},null,{"$f":"'60'!H122","v":812.090907671541},{"$f":"'300'!H122","v":705.18703438822217},{"$f":"'1000'!H122","v":704.12414177675555},{"$f":"DÁLKA!H122","v":674.31},{"$f":"VÝŠKA!H122","v":725.6},{"$f":"MÍČEK!H122","v":562.5},{"$f":"KOULE!H122","v":506.11111111111109},{"$f":"ČLUNEK!H122","v":803.29738074834859},{"$f":"LEHSED!H122","v":575},{"$f":"ODBÍJENÍ!H122","v":80},{"$f":"PLAVÁNÍ!H122","v":0},{"$f":"ŠPLH!H122","v":454.44959722054062},{"$f":"ŠVIHADLO!H122","v":525},{"$f":"'Z MÍSTA'!H122","v":809.4},{"$f":"REPRE!E25","v":200},8137.0701729165185,null,1]
[null,{"$f":"'60'!B123","v":"FRK"},{"$f":"'60'!C123","v":"Matyáš"},{"$f":"'60'!D123","v":"7.A"},null,{"$f":"'60'!H123","v":622.40328716857607},{"$f":"'300'!H123","v":409.74768030820985},{"$f":"'1000'!H123","v":403.2782066952156},{"$f":"DÁLKA!H123","v":543.89400000000001},{"$f":"VÝŠKA!H123","v":0},{"$f":"MÍČEK!H123","v":325},{"$f":"KOULE!H123","v":479.44444444444446},{"$f":"ČLUNEK!H123","v":626.70287569316349},{"$f":"LEHSED!H123","v":437.5},{"$f":"ODBÍJENÍ!H123","v":72},{"$f":"PLAVÁNÍ!H123","v":0},{"$f":"ŠPLH!H123","v":0},{"$f":"ŠVIHADLO!H123","v":0},{"$f":"'Z MÍSTA'!H123","v":646},{"$f":"REPRE!E26","v":0},4565.9704943096094,null,4]
[null,{"$f":"'60'!B124","v":"HUBÁLOVSKÝ"},{"$f":"'60'!C124","v":"Marek"},{"$f":"'60'!D124","v":"7.A"},null,{"$f":"'60'!H124","v":686.8716023247232},{"$f":"'300'!H124","v":703.28578714935952},{"$f":"'1000'!H124","v":623.95605029394972},{"$f":"DÁLKA!H124","v":594.28200000000004},{"$f":"VÝŠKA!H124","v":639.80000000000007},{"$f":"MÍČEK!H124","v":425},{"$f":"KOULE!H124","v":451.11111111111109},{"$f":"ČLUNEK!H124","v":728.79635225190339},{"$f":"LEHSED!H124","v":562.5},{"$f":"ODBÍJENÍ!H124","v":152},{"$f":"PLAVÁNÍ!H124","v":0},{"$f":"ŠPLH!H124","v":225.87953246822397},{"$f":"ŠVIHADLO!H124","v":418.75},{"$f":"'Z MÍSTA'!H124","v":725.8},{"$f":"REPRE!E27","v":0},6938.0324355992716,null,1]
[null,{"$f":"'60'!B125","v":"MAŘAS"},{"$f":"'60'!C125","v":"Dominik"},{"$f":"'60'!D125","v":"7.A"},null,{"$f":"'60'!H125","v":0},{"$f":"'300'!H125","v":358.78501960937149},{"$f":"'1000'!H125","v":404.66269458086157},{"$f":"DÁLKA!H125","v":499.43399999999997},{"$f":"VÝŠKA!H125","v":611.20000000000005},{"$f":"MÍČEK!H125","v":350},{"$f":"KOULE!H125","v":455.55555555555554},{"$f":"ČLUNEK!H125","v":535.13444948909807},{"$f":"LEHSED!H125","v":0},{"$f":"ODBÍJENÍ!H125","v":48},{"$f":"PLAVÁNÍ!H125","v":0},{"$f":"ŠPLH!H125","v":0},{"$f":"ŠVIHADLO!H125","v":0},{"$f":"'Z MÍSTA'!H125","v":771.4},{"$f":"REPRE!E28","v":0},4034.171719234887,null,5]
[null,{"$f":"'60'!B126","v":"MAŤÁTKO"},{"$f":"'60'!C126","v":"Jakub"},{"$f":"'60'!D126","v":"7.A"},null,{"$f":"'60'!H126","v":0},{"$f":"'300'!H126","v":296.61681961231182},{"$f":"'1000'!H126","v":0},{"$f":"DÁLKA!H126","v":0},{"$f":"VÝŠKA!H126","v":611.20000000000005},{"$f":"MÍČEK!H126","v":312.5},{"$f":"KOULE!H126","v":0},{"$f":"ČLUNEK!H126","v":511.15952690361974},{"$f":"LEHSED!H126","v":0},{"$f":"ODBÍJENÍ!H126","v":0},{"$f":"PLAVÁNÍ!H126","v":0},{"$f":"ŠPLH!H126","v":0},{"$f":"ŠVIHADLO!H126","v":0},{"$f":"'Z MÍSTA'!H126","v":532},{"$f":"REPRE!E29","v":0},2263.4763465159317,null,9]
[null,{"$f":"'60'!B127","v":"MERY"},{"$f":"'60'!C127","v":"Luboš"},{"$f":"'60'!D127","v":"7.A"},null,{"$f":"'60'!H127","v":681.65339755027424},{"$f":"'300'!H127","v":496.88073669694438},{"$f":"'1000'!H127","v":595.92127985832326},{"$f":"DÁLKA!H127","v":588.35400000000004},{"$f":"VÝŠKA!H127","v":0},{"$f":"MÍČEK!H127","v":262.5},{"$f":"KOULE!H127","v":438.88888888888886},{"$f":"ČLUNEK!H127","v":677.60878282772387},{"$f":"LEHSED!H127","v":450},{"$f":"ODBÍJENÍ!H127","v":48},{"$f":"PLAVÁNÍ!H127","v":0},{"$f":"ŠPLH!H127","v":0},{"$f":"ŠVIHADLO!H127","v":218.75},{"$f":"'Z MÍSTA'!H127","v":608},{"$f":"REPRE!E30","v":0},5066.5570858221545,null,3]
[null,{"$f":"'60'!B128","v":"NOVOTNÝ"},{"$f":"'60'!C128","v":"Matěj"},{"$f":"'60'!D128","v":"7.A"},null,{"$f":"'60'!H128","v":679.59272943533699},{"$f":"'300'!H128","v":464.86413405073347},{"$f":"'1000'!H128","v":440.31194222575442},{"$f":"DÁLKA!H128","v":542.41200000000003},{"$f":"VÝŠKA!H128","v":0},{"$f":"MÍČEK!H128","v":318.75},{"$f":"KOULE!H128","v":493.33333333333331},{"$f":"ČLUNEK!H128","v":643.36504921314895},{"$f":"LEHSED!H128","v":412.5},{"$f":"ODBÍJENÍ!H128","v":88},{"$f":"PLAVÁNÍ!H128","v":0},{"$f":"ŠPLH!H128","v":0},{"$f":"ŠVIHADLO!H128","v":431.25},{"$f":"'Z MÍSTA'!H128","v":585.19999999999993},{"$f":"REPRE!E31","v":0},5099.5791882583071,null,3]
[null,{"$f":"'60'!B129","v":"ŘEHOŘEK"},{"$f":"'60'!C129","v":"Vojtěch"},{"$f":"'60'!D129","v":"7.A"},null,{"$f":"'60'!H129","v":709.31238439117942},{"$f":"'300'!H129","v":529.205314506592},{"$f":"'1000'!H129","v":574.13063389548938},{"$f":"DÁLKA!H129","v":631.33199999999999},{"$f":"VÝŠKA!H129","v":611.20000000000005},{"$f":"MÍČEK!H129","v":560},{"$f":"KOULE!H129","v":527.77777777777771},{"$f":"ČLUNEK!H129","v":679.35523936763025},{"$f":"LEHSED!H129","v":412.5},{"$f":"ODBÍJENÍ!H129","v":88},{"$f":"PLAVÁNÍ!H129","v":0},{"$f":"ŠPLH!H129","v":0},{"$f":"ŠVIHADLO!H129","v":593.75},{"$f":"'Z MÍSTA'!H129","v":676.4},{"$f":"REPRE!E32","v":200},6792.9633499386682,null,2]
[null,{"$f":"'60'!B130","v":"ŠÍR"},{"$f":"'60'!C130","v":"Matyáš"},{"$f":"'60'!D130","v":"7.A"},null,{"$f":"'60'!H130","v":687.92681785582261},{"$f":"'300'!H130","v":0},{"$f":"'1000'!H130","v":613.88794398423647},{"$f":"DÁLKA!H130","v":545.37599999999998},{"$f":"VÝŠKA!H130","v":542.56000000000006},{"$f":"MÍČEK!H130","v":312.5},{"$f":"KOULE!H130","v":373.33333333333331},{"$f":"ČLUNEK!H130","v":577.55822561868047},{"$f":"LEHSED!H130","v":437.5},{"$f":"ODBÍJENÍ!H130","v":80},{"$f":"PLAVÁNÍ!H130","v":0},{"$f":"ŠPLH!H130","v":0},{"$f":"ŠVIHADLO!H130","v":412.5},{"$f":"'Z MÍSTA'!H130","v":535.79999999999995},{"$f":"REPRE!E33","v":0},5118.9423207920727,null,3]
[null,{"$f":"'60'!B131","v":"TORÁČ"},{"$f":"'60'!C131","v":"Tomáš"},{"$f":"'60'!D131","v":"7.A"},null,{"$f":"'60'!H131","v":0},{"$f":"'300'!H131","v":119.90466052396727},{"$f":"'1000'!H131","v":334.23479082554792},{"$f":"DÁLKA!H131","v":383.83800000000002},{"$f":"VÝŠKA!H131","v":496.80000000000007},{"$f":"MÍČEK!H131","v":218.75},{"$f":"KOULE!H131","v":418.88888888888886},{"$f":"ČLUNEK!H131","v":342.70749858927854},{"$f":"LEHSED!H131","v":375},{"$f":"ODBÍJENÍ!H131","v":48},{"$f":"PLAVÁNÍ!H131","v":0},{"$f":"ŠPLH!H131","v":0},{"$f":"ŠVIHADLO!H131","v":175},{"$f":"'Z MÍSTA'!H131","v":342},{"$f":"REPRE!E34","v":0},3255.1238388276824,null,3]
[null,{"$f":"'60'!B132","v":"ULLMAN"},{"$f":"'60'!C132","v":"Šimon"},{"$f":"'60'!D132","v":"7.A"},null,{"$f":"'60'!H132","v":854.45443546539377},{"$f":"'300'!H132","v":801.59772501836233},{"$f":"'1000'!H132","v":681.21048828552148},{"$f":"DÁLKA!H132","v":626.88599999999997},{"$f":"VÝŠKA!H132","v":668.4},{"$f":"MÍČEK!H132","v":0},{"$f":"KOULE!H132","v":460.55555555555554},{"$f":"ČLUNEK!H132","v":801.2730515653584},{"$f":"LEHSED!H132","v":575},{"$f":"ODBÍJENÍ!H132","v":72},{"$f":"PLAVÁNÍ!H132","v":0},{"$f":"ŠPLH!H132","v":483.1202422290865},{"$f":"ŠVIHADLO!H132","v":306.25},{"$f":"'Z MÍSTA'!H132","v":874},{"$f":"REPRE!E35","v":0},7204.7474981192781,null,2]
[null,{"$f":"'60'!B133","v":"VÁCLAVÍK"},{"$f":"'60'!C133","v":"Ondřej"},{"$f":"'60'!D133","v":"7.A"},null,{"$f":"'60'!H133","v":793.05122201312906},{"$f":"'300'!H133","v":396.2861287739097},{"$f":"'1000'!H133","v":697.03512204786318},{"$f":"DÁLKA!H133","v":695.05799999999999},{"$f":"VÝŠKA!H133","v":599.7600000000001},{"$f":"MÍČEK!H133","v":525},{"$f":"KOULE!H133","v":0},{"$f":"ČLUNEK!H133","v":810.42346895015305},{"$f":"LEHSED!H133","v":525},{"$f":"ODBÍJENÍ!H133","v":128},{"$f":"PLAVÁNÍ!H133","v":0},{"$f":"ŠPLH!H133","v":454.44959722054062},{"$f":"ŠVIHADLO!H133","v":518.75},{"$f":"'Z MÍSTA'!H133","v":767.59999999999991},{"$f":"REPRE!E36","v":25},{"$f":"SUM(F67:T67)","v":6935.4135390055962},null,{"$f":"FREQUENCY(F67:S67,0)","v":2},{"$f":"SUM(W54:W67)","v":50}]
[null,{"$f":"'60'!B134","v":"AUERSWALD"},{"$f":"'60'!C134","v":"Daniel"},{"$f":"'60'!D134","v":"7.B"},null,{"$f":"'60'!H134","v":759.9384151092612},{"$f":"'300'!H134","v":670.24815200233229},{"$f":"'1000'!H134","v":622.32291047793683},{"$f":"DÁLKA!H134","v":674.31},{"$f":"VÝŠKA!H134","v":599.7600000000001},{"$f":"MÍČEK!H134","v":362.5},{"$f":"KOULE!H134","v":0},{"$f":"ČLUNEK!H134","v":0},{"$f":"LEHSED!H134","v":500},{"$f":"ODBÍJENÍ!H134","v":120},{"$f":"PLAVÁNÍ!H134","v":0},{"$f":"ŠPLH!H134","v":362.25159339137161},{"$f":"ŠVIHADLO!H134","v":531.25},{"$f":"'Z MÍSTA'!H134","v":794.19999999999993},{"$f":"REPRE!E37","v":25},6021.7810709809019,null,3]
[null,{"$f":"'60'!B135","v":"BODLÁK"},{"$f":"'60'!C135","v":"Vladimír"},{"$f":"'60'!D135","v":"7.B"},null,{"$f":"'60'!H135","v":0},{"$f":"'300'!H135","v":0},{"$f":"'1000'!H135","v":0},{"$f":"DÁLKA!H135","v":0},{"$f":"VÝŠKA!H135","v":0},{"$f":"MÍČEK!H135","v":0},{"$f":"KOULE!H135","v":0},{"$f":"ČLUNEK!H135","v":0},{"$f":"LEHSED!H135","v":0},{"$f":"ODBÍJENÍ!H135","v":0},{"$f":"PLAVÁNÍ!H135","v":0},{"$f":"ŠPLH!H135","v":0},{"$f":"ŠVIHADLO!H135","v":0},{"$f":"'Z MÍSTA'!H135","v":0},{"$f":"REPRE!E38","v":0},0,null,14]
[null,{"$f":"'60'!B136","v":"BUDÍN"},{"$f":"'60'!C136","v":"Martin"},{"$f":"'60'!D136","v":"7.B"},null,{"$f":"'60'!H136","v":755.94293373319545},{"$f":"'300'!H136","v":664.77586758267807},{"$f":"'1000'!H136","v":771.35783539909801},{"$f":"DÁLKA!H136","v":604.65599999999995},{"$f":"VÝŠKA!H136","v":611.20000000000005},{"$f":"MÍČEK!H136","v":462.5},{"$f":"KOULE!H136","v":459.44444444444446},{"$f":"ČLUNEK!H136","v":770.53288217928082},{"$f":"LEHSED!H136","v":500},{"$f":"ODBÍJENÍ!H136","v":72},{"$f":"PLAVÁNÍ!H136","v":0},{"$f":"ŠPLH!H136","v":360.17289247563423},{"$f":"ŠVIHADLO!H136","v":825},{"$f":"'Z MÍSTA'!H136","v":760},{"$f":"REPRE!E39","v":0},7617.5828558143312,null,1]
[null,{"$f":"'60'!B137","v":"DVOŘÁK"},{"$f":"'60'!C137","v":"Dominik"},{"$f":"'60'!D137","v":"7.B"},null,{"$f":"'60'!H137","v":676.02245875113124},{"$f":"'300'!H137","v":573.65542977491782},{"$f":"'1000'!H137","v":0},{"$f":"DÁLKA!H137","v":542.41200000000003},{"$f":"VÝŠKA!H137","v":611.20000000000005},{"$f":"MÍČEK!H137","v":387.5},{"$f":"KOULE!H137","v":513.33333333333337},{"$f":"ČLUNEK!H137","v":678.48158582502776},{"$f":"LEHSED!H137","v":525},{"$f":"ODBÍJENÍ!H137","v":72},{"$f":"PLAVÁNÍ!H137","v":0},{"$f":"ŠPLH!H137","v":326.83243237451325},{"$f":"ŠVIHADLO!H137","v":443.75},{"$f":"'Z MÍSTA'!H137","v":676.4},{"$f":"REPRE!E40","v":0},6026.5872400589233,null,2]
[null,{"$f":"'60'!B138","v":"FIŠERA"},{"$f":"'60'!C138","v":"Vojtěch"},{"$f":"'60'!D138","v":"7.B"},null,{"$f":"'60'!H138","v":720.32111027343751},{"$f":"'300'!H138","v":0},{"$f":"'1000'!H138","v":617.16300794397955},{"$f":"DÁLKA!H138","v":558.71399999999994},{"$f":"VÝŠKA!H138","v":571.16000000000008},{"$f":"MÍČEK!H138","v":237.5},{"$f":"KOULE!H138","v":472.77777777777777},{"$f":"ČLUNEK!H138","v":693.45153679365978},{"$f":"LEHSED!H138","v":550},{"$f":"ODBÍJENÍ!H138","v":72},{"$f":"PLAVÁNÍ!H138","v":0},{"$f":"ŠPLH!H138","v":225.87953246822397},{"$f":"ŠVIHADLO!H138","v":250},{"$f":"'Z MÍSTA'!H138","v":634.6},{"$f":"REPRE!E41","v":0},5603.5669652570787,null,2]
[null,{"$f":"'60'!B139","v":"JINDŘIŠEK"},{"$f":"'60'!C139","v":"Vít"},{"$f":"'60'!D139","v":"7.B"},null,{"$f":"'60'!H139","v":867.00099140776706},{"$f":"'300'!H139","v":924.27203840771881},{"$f":"'1000'!H139","v":857.26432183008762},{"$f":"DÁLKA!H139","v":745.44600000000003},{"$f":"VÝŠKA!H139","v":759.92000000000019},{"$f":"MÍČEK!H139","v":661.25},{"$f":"KOULE!H139","v":606.11111111111109},{"$f":"ČLUNEK!H139","v":841.71649201232185},{"$f":"LEHSED!H139","v":625},{"$f":"ODBÍJENÍ!H139","v":344},{"$f":"PLAVÁNÍ!H139","v":0},{"$f":"ŠPLH!H139","v":547.1091217041004},{"$f":"ŠVIHADLO!H139","v":712.5},{"$f":"'Z MÍSTA'!H139","v":870.19999999999993},{"$f":"REPRE!E42","v":250},9611.7900764731094,null,1]
[null,{"$f":"'60'!B140","v":"JIROUŠ"},{"$f":"'60'!C140","v":"Matouš"},{"$f":"'60'!D140","v":"7.B"},null,{"$f":"'60'!H140","v":763.98410148691096},{"$f":"'300'!H140","v":667.23959004337871},{"$f":"'1000'!H140","v":0},{"$f":"DÁLKA!H140","v":675.79200000000003},{"$f":"VÝŠKA!H140","v":599.7600000000001},{"$f":"MÍČEK!H140","v":368.75},{"$f":"KOULE!H140","v":494.44444444444446},{"$f":"ČLUNEK!H140","v":705.9736758201509},{"$f":"LEHSED!H140","v":562.5},{"$f":"ODBÍJENÍ!H140","v":112},{"$f":"PLAVÁNÍ!H140","v":0},{"$f":"ŠPLH!H140","v":316.77381349530651},{"$f":"ŠVIHADLO!H140","v":643.75},{"$f":"'Z MÍSTA'!H140","v":763.8},{"$f":"REPRE!E43","v":75},6749.767625290192,null,2]
[null,{"$f":"'60'!B141","v":"KERLE"},{"$f":"'60'!C141","v":"Marek"},{"$f":"'60'!D141","v":"7.B"},null,{"$f":"'60'!H141","v":816.02807343891413},{"$f":"'300'!H141","v":809.42574514552257},{"$f":"'1000'!H141","v":718.23239807324398},{"$f":"DÁLKA!H141","v":752.85599999999999},{"$f":"VÝŠKA!H141","v":771.36000000000013},{"$f":"MÍČEK!H141","v":575},{"$f":"KOULE!H141","v":569.44444444444446},{"$f":"ČLUNEK!H141","v":823.83065585156999},{"$f":"LEHSED!H141","v":700},{"$f":"ODBÍJENÍ!H141","v":344},{"$f":"PLAVÁNÍ!H141","v":0},{"$f":"ŠPLH!H141","v":611.9556029412953},{"$f":"ŠVIHADLO!H141","v":650},{"$f":"'Z MÍSTA'!H141","v":763.8},{"$f":"REPRE!E44","v":175},9080.9329198949908,null,1]
[null,{"$f":"'60'!B142","v":"LUKEŠ"},{"$f":"'60'!C142","v":"Jakub"},{"$f":"'60'!D142","v":"7.B"},null,{"$f":"'60'!H142","v":824.8485875372279},{"$f":"'300'!H142","v":836.25802158003853},{"$f":"'1000'!H142","v":802.89545176915465},{"$f":"DÁLKA!H142","v":738.03599999999994},{"$f":"VÝŠKA!H142","v":817.12000000000012},{"$f":"MÍČEK!H142","v":300},{"$f":"KOULE!H142","v":441.66666666666663},{"$f":"ČLUNEK!H142","v":769.56047592760183},{"$f":"LEHSED!H142","v":500},{"$f":"ODBÍJENÍ!H142","v":152},{"$f":"PLAVÁNÍ!H142","v":0},{"$f":"ŠPLH!H142","v":446.84088487841058},{"$f":"ŠVIHADLO!H142","v":531.25},{"$f":"'Z MÍSTA'!H142","v":915.8},{"$f":"REPRE!E45","v":125},8201.2760883591,null,1]
[null,{"$f":"'60'!B143","v":"OTT"},{"$f":"'60'!C143","v":"Matyáš"},{"$f":"'60'!D143","v":"7.B"},null,{"$f":"'60'!H143","v":828.11141187571923},{"$f":"'300'!H143","v":795.68546445676679},{"$f":"'1000'!H143","v":833.74055541683822},{"$f":"DÁLKA!H143","v":692.09399999999994},{"$f":"VÝŠKA!H143","v":697},{"$f":"MÍČEK!H143","v":437.5},{"$f":"KOULE!H143","v":506.66666666666663},{"$f":"ČLUNEK!H143","v":790.23018122181224},{"$f":"LEHSED!H143","v":500},{"$f":"ODBÍJENÍ!H143","v":192},{"$f":"PLAVÁNÍ!H143","v":570.33025257363511},{"$f":"ŠPLH!H143","v":357.12073479653333},{"$f":"ŠVIHADLO!H143","v":781.25},{"$f":"'Z MÍSTA'!H143","v":725.8},{"$f":"REPRE!E46","v":175},8882.5292670079725,null,0]
[null,{"$f":"'60'!B144","v":"POKORNÝ"},{"$f":"'60'!C144","v":"Matyáš"},{"$f":"'60'!D144","v":"7.B"},null,{"$f":"'60'!H144","v":837.24104536130528},{"$f":"'300'!H144","v":909.22179559537085},{"$f":"'1000'!H144","v":873.85027455273746},{"$f":"DÁLKA!H144","v":770.64},{"$f":"VÝŠKA!H144","v":754.2},{"$f":"MÍČEK!H144","v":562.5},{"$f":"KOULE!H144","v":472.77777777777777},{"$f":"ČLUNEK!H144","v":896.85893194820846},{"$f":"LEHSED!H144","v":912.5},{"$f":"ODBÍJENÍ!H144","v":192},{"$f":"PLAVÁNÍ!H144","v":0},{"$f":"ŠPLH!H144","v":459.0421768869972},{"$f":"ŠVIHADLO!H144","v":806.25},{"$f":"'Z MÍSTA'!H144","v":843.59999999999991},{"$f":"REPRE!E47","v":250},9540.6820021223957,null,1]
[null,{"$f":"'60'!B145","v":"POLÁČEK"},{"$f":"'60'!C145","v":"Matyáš"},{"$f":"'60'!D145","v":"7.B"},null,{"$f":"'60'!H145","v":679.07990620564158},{"$f":"'300'!H145","v":499.77024627011417},{"$f":"'1000'!H145","v":0},{"$f":"DÁLKA!H145","v":554.26800000000003},{"$f":"VÝŠKA!H145","v":542.56000000000006},{"$f":"MÍČEK!H145","v":462.5},{"$f":"KOULE!H145","v":461.11111111111109},{"$f":"ČLUNEK!H145","v":0},{"$f":"LEHSED!H145","v":487.5},{"$f":"ODBÍJENÍ!H145","v":88},{"$f":"PLAVÁNÍ!H145","v":0},{"$f":"ŠPLH!H145","v":0},{"$f":"ŠVIHADLO!H145","v":368.75},{"$f":"'Z MÍSTA'!H145","v":627},{"$f":"REPRE!E48","v":25},4795.5392635868666,null,4]
[null,{"$f":"'60'!B146","v":"SOUKUP"},{"$f":"'60'!C146","v":"Patrik"},{"$f":"'60'!D146","v":"7.B"},null,{"$f":"'60'!H146","v":0},{"$f":"'300'!H146","v":0},{"$f":"'1000'!H146","v":0},{"$f":"DÁLKA!H146","v":0},{"$f":"VÝŠKA!H146","v":0},{"$f":"MÍČEK!H146","v":0},{"$f":"KOULE!H146","v":0},{"$f":"ČLUNEK!H146","v":0},{"$f":"LEHSED!H146","v":0},{"$f":"ODBÍJENÍ!H146","v":0},{"$f":"PLAVÁNÍ!H146","v":0},{"$f":"ŠPLH!H146","v":0},{"$f":"ŠVIHADLO!H146","v":0},{"$f":"'Z MÍSTA'!H146","v":0},{"$f":"REPRE!E49","v":0},0,null,14]
[null,{"$f":"'60'!B147","v":"VALENTA"},{"$f":"'60'!C147","v":"Jakub"},{"$f":"'60'!D147","v":"7.B"},null,{"$f":"'60'!H147","v":742.97549839918952},{"$f":"'300'!H147","v":787.60288039787679},{"$f":"'1000'!H147","v":787.42601997795407},{"$f":"DÁLKA!H147","v":0},{"$f":"VÝŠKA!H147","v":725.6},{"$f":"MÍČEK!H147","v":350},{"$f":"KOULE!H147","v":466.66666666666663},{"$f":"ČLUNEK!H147","v":820.71635504954691},{"$f":"LEHSED!H147","v":750},{"$f":"ODBÍJENÍ!H147","v":192},{"$f":"PLAVÁNÍ!H147","v":0},{"$f":"ŠPLH!H147","v":496.38055868893889},{"$f":"ŠVIHADLO!H147","v":556.25},{"$f":"'Z MÍSTA'!H147","v":737.19999999999993},{"$f":"REPRE!E50","v":250},7662.8179791801731,null,2]
[null,{"$f":"'60'!B148","v":"VRBATA"},{"$f":"'60'!C148","v":"Dominik"},{"$f":"'60'!D148","v":"7.B"},null,{"$f":"'60'!H148","v":751.34375453798771},{"$f":"'300'!H148","v":634.67185712584262},{"$f":"'1000'!H148","v":693.22081080202724},{"$f":"DÁLKA!H148","v":666.9},{"$f":"VÝŠKA!H148","v":599.7600000000001},{"$f":"MÍČEK!H148","v":462.5},{"$f":"KOULE!H148","v":522.77777777777771},{"$f":"ČLUNEK!H148","v":713.21105608965195},{"$f":"LEHSED!H148","v":525},{"$f":"ODBÍJENÍ!H148","v":128},{"$f":"PLAVÁNÍ!H148","v":580.40495762044407},{"$f":"ŠPLH!H148","v":617.27764022622023},{"$f":"ŠVIHADLO!H148","v":662.5},{"$f":"'Z MÍSTA'!H148","v":729.59999999999991},{"$f":"REPRE!E51","v":125},8412.167854179952,null,0,{"$f":"SUM(W68:W82)-28","v":20}]
[null,{"$f":"'60'!B149","v":"FEJKL"},{"$f":"'60'!C149","v":"Jan"},{"$f":"'60'!D149","v":"8.A"},null,{"$f":"'60'!H149","v":897.34446580808071},{"$f":"'300'!H149","v":887.32550316149741},{"$f":"'1000'!H149","v":802.81998281439303},{"$f":"DÁLKA!H149","v":798.798},{"$f":"VÝŠKA!H149","v":811.4},{"$f":"MÍČEK!H149","v":762.5},{"$f":"KOULE!H149","v":587.77777777777771},{"$f":"ČLUNEK!H149","v":885.50784887100394},{"$f":"LEHSED!H149","v":637.5},{"$f":"ODBÍJENÍ!H149","v":416},{"$f":"PLAVÁNÍ!H149","v":0},{"$f":"ŠPLH!H149","v":632.47048883593777},{"$f":"ŠVIHADLO!H149","v":631.25},{"$f":"'Z MÍSTA'!H149","v":881.59999999999991},{"$f":"REPRE!E52","v":125},9757.2940672686909,null,1]
[null,{"$f":"'60'!B150","v":"KOTYK"},{"$f":"'60'!C150","v":"Tadeáš"},{"$f":"'60'!D150","v":"8.A"},null,{"$f":"'60'!H150","v":693.26195608208957},{"$f":"'300'!H150","v":463.20924999121826},{"$f":"'1000'!H150","v":346.58578208439383},{"$f":"DÁLKA!H150","v":536.48400000000004},{"$f":"VÝŠKA!H150","v":525.40000000000009},{"$f":"MÍČEK!H150","v":325},{"$f":"KOULE!H150","v":554.44444444444446},{"$f":"ČLUNEK!H150","v":692.56391190921556},{"$f":"LEHSED!H150","v":412.5},{"$f":"ODBÍJENÍ!H150","v":256},{"$f":"PLAVÁNÍ!H150","v":0},{"$f":"ŠPLH!H150","v":0},{"$f":"ŠVIHADLO!H150","v":456.25},{"$f":"'Z MÍSTA'!H150","v":687.8},{"$f":"REPRE!E53","v":0},5949.4993445113614,null,2]
[null,{"$f":"'60'!B151","v":"KRAUSE"},{"$f":"'60'!C151","v":"Tadeáš"},{"$f":"'60'!D151","v":"8.A"},null,{"$f":"'60'!H151","v":828.11141187571923},{"$f":"'300'!H151","v":848.79637951461837},{"$f":"'1000'!H151","v":822.06202877173905},{"$f":"DÁLKA!H151","v":788.42399999999998},{"$f":"VÝŠKA!H151","v":799.96},{"$f":"MÍČEK!H151","v":468.75},{"$f":"KOULE!H151","v":573.33333333333337},{"$f":"ČLUNEK!H151","v":874.323480596134},{"$f":"LEHSED!H151","v":637.5},{"$f":"ODBÍJENÍ!H151","v":256},{"$f":"PLAVÁNÍ!H151","v":0},{"$f":"ŠPLH!H151","v":519.37197045935568},{"$f":"ŠVIHADLO!H151","v":1068.75},{"$f":"'Z MÍSTA'!H151","v":839.8},{"$f":"REPRE!E54","v":125},9450.1826045508988,null,1]
[null,{"$f":"'60'!B152","v":"LEŠÁK"},{"$f":"'60'!C152","v":"Martin"},{"$f":"'60'!D152","v":"8.A"},null,{"$f":"'60'!H152","v":712.17034385356453},{"$f":"'300'!H152","v":619.27324696750145},{"$f":"'1000'!H152","v":578.21913478435124},{"$f":"DÁLKA!H152","v":660.97199999999998},{"$f":"VÝŠKA!H152","v":656.96},{"$f":"MÍČEK!H152","v":375},{"$f":"KOULE!H152","v":550.55555555555554},{"$f":"ČLUNEK!H152","v":692.56391190921556},{"$f":"LEHSED!H152","v":362.5},{"$f":"ODBÍJENÍ!H152","v":248},{"$f":"PLAVÁNÍ!H152","v":0},{"$f":"ŠPLH!H152","v":0},{"$f":"ŠVIHADLO!H152","v":350},{"$f":"'Z MÍSTA'!H152","v":646},{"$f":"REPRE!E55","v":0},6452.2141930701882,null,2]
[null,{"$f":"'60'!B153","v":"NECHANICKÝ"},{"$f":"'60'!C153","v":"David"},{"$f":"'60'!D153","v":"8.A"},null,{"$f":"'60'!H153","v":900.31535731305451},{"$f":"'300'!H153","v":833.83143502634607},{"$f":"'1000'!H153","v":721.41457611440671},{"$f":"DÁLKA!H153","v":794.35199999999998},{"$f":"VÝŠKA!H153","v":685.56000000000006},{"$f":"MÍČEK!H153","v":537.5},{"$f":"KOULE!H153","v":627.77777777777771},{"$f":"ČLUNEK!H153","v":882.13528896690059},{"$f":"LEHSED!H153","v":475},{"$f":"ODBÍJENÍ!H153","v":416},{"$f":"PLAVÁNÍ!H153","v":0},{"$f":"ŠPLH!H153","v":446.84088487841058},{"$f":"ŠVIHADLO!H153","v":668.75},{"$f":"'Z MÍSTA'!H153","v":950},{"$f":"REPRE!E56","v":175},9114.4773200768959,null,1]
[null,{"$f":"'60'!B154","v":"ŘEHOŘEK"},{"$f":"'60'!C154","v":"Jan"},{"$f":"'60'!D154","v":"8.A"},null,{"$f":"'60'!H154","v":830.57831053117786},{"$f":"'300'!H154","v":738.23627060210538},{"$f":"'1000'!H154","v":670.71361045793958},{"$f":"DÁLKA!H154","v":721.73400000000004},{"$f":"VÝŠKA!H154","v":777.08},{"$f":"MÍČEK!H154","v":487.5},{"$f":"KOULE!H154","v":494.44444444444446},{"$f":"ČLUNEK!H154","v":832.19648428322876},{"$f":"LEHSED!H154","v":500},{"$f":"ODBÍJENÍ!H154","v":746},{"$f":"PLAVÁNÍ!H154","v":0},{"$f":"ŠPLH!H154","v":326.32841547449596},{"$f":"ŠVIHADLO!H154","v":837.5},{"$f":"'Z MÍSTA'!H154","v":798},{"$f":"REPRE!E57","v":125},8885.3115357933912,null,1]
[null,{"$f":"'60'!B155","v":"SOUKUP"},{"$f":"'60'!C155","v":"Ondřej"},{"$f":"'60'!D155","v":"8.A"},null,{"$f":"'60'!H155","v":759.26904045738058},{"$f":"'300'!H155","v":0},{"$f":"'1000'!H155","v":0},{"$f":"DÁLKA!H155","v":572.05200000000002},{"$f":"VÝŠKA!H155","v":571.16000000000008},{"$f":"MÍČEK!H155","v":0},{"$f":"KOULE!H155","v":597.22222222222217},{"$f":"ČLUNEK!H155","v":715.02993808795873},{"$f":"LEHSED!H155","v":587.5},{"$f":"ODBÍJENÍ!H155","v":717.2},{"$f":"PLAVÁNÍ!H155","v":0},{"$f":"ŠPLH!H155","v":225.87953246822397},{"$f":"ŠVIHADLO!H155","v":950},{"$f":"'Z MÍSTA'!H155","v":646},{"$f":"REPRE!E58","v":75},6416.3127332357853,null,4]
[null,{"$f":"'60'!B156","v":"SPANILÝ"},{"$f":"'60'!C156","v":"David"},{"$f":"'60'!D156","v":"8.A"},null,{"$f":"'60'!H156","v":850.9463383847982},{"$f":"'300'!H156","v":863.64999196086478},{"$f":"'1000'!H156","v":784.31723483064513},{"$f":"DÁLKA!H156","v":791.38800000000003},{"$f":"VÝŠKA!H156","v":685.56000000000006},{"$f":"MÍČEK!H156","v":737.5},{"$f":"KOULE!H156","v":605.55555555555554},{"$f":"ČLUNEK!H156","v":843.84797111685339},{"$f":"LEHSED!H156","v":550},{"$f":"ODBÍJENÍ!H156","v":746},{"$f":"PLAVÁNÍ!H156","v":0},{"$f":"ŠPLH!H156","v":671.97939237504806},{"$f":"ŠVIHADLO!H156","v":900},{"$f":"'Z MÍSTA'!H156","v":881.59999999999991},{"$f":"REPRE!E59","v":125},10037.344484223766,null,1,{"$f":"SUM(W83:W90)","v":13}]
[null,{"$f":"'60'!B157","v":"ČADAN"},{"$f":"'60'!C157","v":"Benjamín"},{"$f":"'60'!D157","v":"8.B"},null,{"$f":"'60'!H157","v":712.17034385356453},{"$f":"'300'!H157","v":0},{"$f":"'1000'!H157","v":0},{"$f":"DÁLKA!H157","v":622.43999999999994},{"$f":"VÝŠKA!H157","v":639.80000000000007},{"$f":"MÍČEK!H157","v":0},{"$f":"KOULE!H157","v":522.22222222222217},{"$f":"ČLUNEK!H157","v":0},{"$f":"LEHSED!H157","v":0},{"$f":"ODBÍJENÍ!H157","v":72},{"$f":"PLAVÁNÍ!H157","v":0},{"$f":"ŠPLH!H157","v":0},{"$f":"ŠVIHADLO!H157","v":0},{"$f":"'Z MÍSTA'!H157","v":634.6},{"$f":"REPRE!E60","v":0},3203.2325660757865,null,8]
[null,{"$f":"'60'!B158","v":"ČERNÝ"},{"$f":"'60'!C158","v":"Michal"},{"$f":"'60'!D158","v":"8.B"},null,{"$f":"'60'!H158","v":757.26924033160617},{"$f":"'300'!H158","v":604.98943015790542},{"$f":"'1000'!H158","v":574.90123449408031},{"$f":"DÁLKA!H158","v":617.99400000000003},{"$f":"VÝŠKA!H158","v":599.7600000000001},{"$f":"MÍČEK!H158","v":556.25},{"$f":"KOULE!H158","v":635.55555555555554},{"$f":"ČLUNEK!H158","v":769.56047592760183},{"$f":"LEHSED!H158","v":537.5},{"$f":"ODBÍJENÍ!H158","v":240},{"$f":"PLAVÁNÍ!H158","v":0},{"$f":"ŠPLH!H158","v":0},{"$f":"ŠVIHADLO!H158","v":293.75},{"$f":"'Z MÍSTA'!H158","v":615.6},{"$f":"REPRE!E61","v":0},6803.1299364667502,null,2]
[null,{"$f":"'60'!B159","v":"DOLEJŠÍ"},{"$f":"'60'!C159","v":"David"},{"$f":"'60'!D159","v":"8.B"},null,{"$f":"'60'!H159","v":814.44787462753959},{"$f":"'300'!H159","v":738.84611920983025},{"$f":"'1000'!H159","v":715.37747883823533},{"$f":"DÁLKA!H159","v":706.91399999999999},{"$f":"VÝŠKA!H159","v":656.96},{"$f":"MÍČEK!H159","v":268.75},{"$f":"KOULE!H159","v":552.22222222222217},{"$f":"ČLUNEK!H159","v":776.39186583012884},{"$f":"LEHSED!H159","v":500},{"$f":"ODBÍJENÍ!H159","v":168},{"$f":"PLAVÁNÍ!H159","v":0},{"$f":"ŠPLH!H159","v":256.20497747374731},{"$f":"ŠVIHADLO!H159","v":475},{"$f":"'Z MÍSTA'!H159","v":741},{"$f":"REPRE!E62","v":50},7420.1145382017039,null,1]
[null,{"$f":"'60'!B160","v":"NOVÁK"},{"$f":"'60'!C160","v":"Matěj"},{"$f":"'60'!D160","v":"8.B"},null,{"$f":"'60'!H160","v":712.17034385356453},{"$f":"'300'!H160","v":0},{"$f":"'1000'!H160","v":0},{"$f":"DÁLKA!H160","v":650.59799999999996},{"$f":"VÝŠKA!H160","v":525.40000000000009},{"$f":"MÍČEK!H160","v":412.5},{"$f":"KOULE!H160","v":451.11111111111109},{"$f":"ČLUNEK!H160","v":757.0233328827934},{"$f":"LEHSED!H160","v":437.5},{"$f":"ODBÍJENÍ!H160","v":208},{"$f":"PLAVÁNÍ!H160","v":0},{"$f":"ŠPLH!H160","v":296.67368014648815},{"$f":"ŠVIHADLO!H160","v":756.25},{"$f":"'Z MÍSTA'!H160","v":691.6},{"$f":"REPRE!E63","v":25},5923.8264679939584,null,3]
[null,{"$f":"'60'!B161","v":"POVAŽANEC"},{"$f":"'60'!C161","v":"Martin"},{"$f":"'60'!D161","v":"8.B"},null,{"$f":"'60'!H161","v":848.33706144378698},{"$f":"'300'!H161","v":762.77403794668794},{"$f":"'1000'!H161","v":687.28720170296049},{"$f":"DÁLKA!H161","v":822.51},{"$f":"VÝŠKA!H161","v":822.84000000000015},{"$f":"MÍČEK!H161","v":625},{"$f":"KOULE!H161","v":775.55555555555554},{"$f":"ČLUNEK!H161","v":759.89955304102307},{"$f":"LEHSED!H161","v":425},{"$f":"ODBÍJENÍ!H161","v":272},{"$f":"PLAVÁNÍ!H161","v":0},{"$f":"ŠPLH!H161","v":487.70056075637922},{"$f":"ŠVIHADLO!H161","v":437.5},{"$f":"'Z MÍSTA'!H161","v":870.19999999999993},{"$f":"REPRE!E64","v":50},8646.6039704463947,null,1]
[null,{"$f":"'60'!B162","v":"RICHTER"},{"$f":"'60'!C162","v":"Jakub"},{"$f":"'60'!D162","v":"8.B"},null,{"$f":"'60'!H162","v":746.81021092762478},{"$f":"'300'!H162","v":627.15205994231951},{"$f":"'1000'!H162","v":608.86706680231555},{"$f":"DÁLKA!H162","v":588.35400000000004},{"$f":"VÝŠKA!H162","v":542.56000000000006},{"$f":"MÍČEK!H162","v":362.5},{"$f":"KOULE!H162","v":511.11111111111109},{"$f":"ČLUNEK!H162","v":699.69016436911477},{"$f":"LEHSED!H162","v":450},{"$f":"ODBÍJENÍ!H162","v":168},{"$f":"PLAVÁNÍ!H162","v":0},{"$f":"ŠPLH!H162","v":324.09236992228784},{"$f":"ŠVIHADLO!H162","v":437.5},{"$f":"'Z MÍSTA'!H162","v":722},{"$f":"REPRE!E65","v":0},6788.6369830747726,null,1]
[null,{"$f":"'60'!B163","v":"ROZUMEK"},{"$f":"'60'!C163","v":"Adam"},{"$f":"'60'!D163","v":"8.B"},null,{"$f":"'60'!H163","v":771.53476368644067},{"$f":"'300'!H163","v":483.31856474581059},{"$f":"'1000'!H163","v":597.48050482223005},{"$f":"DÁLKA!H163","v":577.98},{"$f":"VÝŠKA!H163","v":571.16000000000008},{"$f":"MÍČEK!H163","v":562.5},{"$f":"KOULE!H163","v":688.88888888888891},{"$f":"ČLUNEK!H163","v":741.85024704422233},{"$f":"LEHSED!H163","v":537.5},{"$f":"ODBÍJENÍ!H163","v":312},{"$f":"PLAVÁNÍ!H163","v":0},{"$f":"ŠPLH!H163","v":0},{"$f":"ŠVIHADLO!H163","v":693.75},{"$f":"'Z MÍSTA'!H163","v":684},{"$f":"REPRE!E66","v":0},7221.9629691875925,null,2]
[null,{"$f":"'60'!B164","v":"VALENTA"},{"$f":"'60'!C164","v":"František"},{"$f":"'60'!D164","v":"8.B"},null,{"$f":"'60'!H164","v":797.52512876651986},{"$f":"'300'!H164","v":647.02713059210248},{"$f":"'1000'!H164","v":619.84435702799601},{"$f":"DÁLKA!H164","v":607.62},{"$f":"VÝŠKA!H164","v":628.36000000000013},{"$f":"MÍČEK!H164","v":350},{"$f":"KOULE!H164","v":594.44444444444446},{"$f":"ČLUNEK!H164","v":803.29738074834859},{"$f":"LEHSED!H164","v":525},{"$f":"ODBÍJENÍ!H164","v":272},{"$f":"PLAVÁNÍ!H164","v":0},{"$f":"ŠPLH!H164","v":0},{"$f":"ŠVIHADLO!H164","v":450},{"$f":"'Z MÍSTA'!H164","v":672.6},{"$f":"REPRE!E67","v":0},6967.7184415794118,null,2]
[null,{"$f":"'60'!B165","v":"ZAPLATÍLEK"},{"$f":"'60'!C165","v":"Josef"},{"$f":"'60'!D165","v":"8.B"},null,{"$f":"'60'!H165","v":758.60105599169253},{"$f":"'300'!H165","v":732.98064355872771},{"$f":"'1000'!H165","v":706.5680967891318},{"$f":"DÁLKA!H165","v":643.18799999999999},{"$f":"VÝŠKA!H165","v":725.6},{"$f":"MÍČEK!H165","v":525},{"$f":"KOULE!H165","v":490.55555555555554},{"$f":"ČLUNEK!H165","v":832.19648428322876},{"$f":"LEHSED!H165","v":575},{"$f":"ODBÍJENÍ!H165","v":312},{"$f":"PLAVÁNÍ!H165","v":0},{"$f":"ŠPLH!H165","v":225.87953246822397},{"$f":"ŠVIHADLO!H165","v":625},{"$f":"'Z MÍSTA'!H165","v":763.8},{"$f":"REPRE!E68","v":0},{"$f":"SUM(F99:T99)","v":7916.3693686465604},null,{"$f":"FREQUENCY(F99:S99,0)","v":1},{"$f":"SUM(W91:W99)-8-3","v":10}]
[null,{"$f":"'60'!B166","v":"ERBEN"},{"$f":"'60'!C166","v":"Viktor"},{"$f":"'60'!D166","v":"9.A"},null,{"$f":"'60'!H166","v":744.24854509644672},{"$f":"'300'!H166","v":606.22740690990815},{"$f":"'1000'!H166","v":591.45564339868815},{"$f":"DÁLKA!H166","v":659.49},{"$f":"VÝŠKA!H166","v":668.4},{"$f":"MÍČEK!H166","v":312.5},{"$f":"KOULE!H166","v":0},{"$f":"ČLUNEK!H166","v":736.23086929174792},{"$f":"LEHSED!H166","v":350},{"$f":"ODBÍJENÍ!H166","v":440},{"$f":"PLAVÁNÍ!H166","v":0},{"$f":"ŠPLH!H166","v":371.311035224421},{"$f":"ŠVIHADLO!H166","v":412.5},{"$f":"'Z MÍSTA'!H166","v":763.8},{"$f":"REPRE!E69","v":0},6656.1634999212129,null,2]
[null,{"$f":"'60'!B167","v":"FRANC"},{"$f":"'60'!C167","v":"Daniel"},{"$f":"'60'!D167","v":"9.A"},null,{"$f":"'60'!H167","v":709.31238439117942},{"$f":"'300'!H167","v":540.79034020995425},{"$f":"'1000'!H167","v":448.08397868173296},{"$f":"DÁLKA!H167","v":577.98},{"$f":"VÝŠKA!H167","v":571.16000000000008},{"$f":"MÍČEK!H167","v":412.5},{"$f":"KOULE!H167","v":652.77777777777771},{"$f":"ČLUNEK!H167","v":775.41242771206157},{"$f":"LEHSED!H167","v":400},{"$f":"ODBÍJENÍ!H167","v":408},{"$f":"PLAVÁNÍ!H167","v":0},{"$f":"ŠPLH!H167","v":0},{"$f":"ŠVIHADLO!H167","v":543.75},{"$f":"'Z MÍSTA'!H167","v":646},{"$f":"REPRE!E70","v":0},6685.7669087727054,null,2]
[null,{"$f":"'60'!B168","v":"JINDŘIŠEK"},{"$f":"'60'!C168","v":"Matyáš"},{"$f":"'60'!D168","v":"9.A"},null,{"$f":"'60'!H168","v":799.78432808839784},{"$f":"'300'!H168","v":755.79616316923693},{"$f":"'1000'!H168","v":775.3832169781673},{"$f":"DÁLKA!H168","v":797.31600000000003},{"$f":"VÝŠKA!H168","v":714.16000000000008},{"$f":"MÍČEK!H168","v":650},{"$f":"KOULE!H168","v":707.77777777777771},{"$f":"ČLUNEK!H168","v":878.77758062222222},{"$f":"LEHSED!H168","v":650},{"$f":"ODBÍJENÍ!H168","v":480},{"$f":"PLAVÁNÍ!H168","v":0},{"$f":"ŠPLH!H168","v":755.22838773777789},{"$f":"ŠVIHADLO!H168","v":537.5},{"$f":"'Z MÍSTA'!H168","v":881.59999999999991},{"$f":"REPRE!E71","v":50},9433.3234543735798,null,1]
[null,{"$f":"'60'!B169","v":"KOLAČNÝ"},{"$f":"'60'!C169","v":"Štěpán"},{"$f":"'60'!D169","v":"9.A"},null,{"$f":"'60'!H169","v":716.21805714839957},{"$f":"'300'!H169","v":513.91021924258848},{"$f":"'1000'!H169","v":531.80618796130932},{"$f":"DÁLKA!H169","v":663.93600000000004},{"$f":"VÝŠKA!H169","v":571.16000000000008},{"$f":"MÍČEK!H169","v":412.5},{"$f":"KOULE!H169","v":643.33333333333337},{"$f":"ČLUNEK!H169","v":779.33730608151529},{"$f":"LEHSED!H169","v":412.5},{"$f":"ODBÍJENÍ!H169","v":496},{"$f":"PLAVÁNÍ!H169","v":0},{"$f":"ŠPLH!H169","v":0},{"$f":"ŠVIHADLO!H169","v":0},{"$f":"'Z MÍSTA'!H169","v":661.19999999999993},{"$f":"REPRE!E72","v":0},6401.9011037671462,null,3]
[null,{"$f":"'60'!B170","v":"KRISTAN"},{"$f":"'60'!C170","v":"Jáchym"},{"$f":"'60'!D170","v":"9.A"},null,{"$f":"'60'!H170","v":586.23162379939208},{"$f":"'300'!H170","v":333.6491762896602},{"$f":"'1000'!H170","v":436.51020199891326},{"$f":"DÁLKA!H170","v":523.14599999999996},{"$f":"VÝŠKA!H170","v":0},{"$f":"MÍČEK!H170","v":250},{"$f":"KOULE!H170","v":437.77777777777777},{"$f":"ČLUNEK!H170","v":497.87911491834257},{"$f":"LEHSED!H170","v":287.5},{"$f":"ODBÍJENÍ!H170","v":64},{"$f":"PLAVÁNÍ!H170","v":0},{"$f":"ŠPLH!H170","v":0},{"$f":"ŠVIHADLO!H170","v":0},{"$f":"'Z MÍSTA'!H170","v":456},{"$f":"REPRE!E73","v":0},3872.6938947840858,null,4]
[null,{"$f":"'60'!B171","v":"NGUYEN"},{"$f":"'60'!C171","v":"David"},{"$f":"'60'!D171","v":"9.A"},null,{"$f":"'60'!H171","v":794.53598346491231},{"$f":"'300'!H171","v":688.32987345746096},{"$f":"'1000'!H171","v":606.19425065557857},{"$f":"DÁLKA!H171","v":786.94200000000001},{"$f":"VÝŠKA!H171","v":697},{"$f":"MÍČEK!H171","v":593.75},{"$f":"KOULE!H171","v":635.55555555555554},{"$f":"ČLUNEK!H171","v":898.00342895520123},{"$f":"LEHSED!H171","v":375},{"$f":"ODBÍJENÍ!H171","v":480},{"$f":"PLAVÁNÍ!H171","v":0},{"$f":"ŠPLH!H171","v":693.88804886202888},{"$f":"ŠVIHADLO!H171","v":612.5},{"$f":"'Z MÍSTA'!H171","v":877.8},{"$f":"REPRE!E74","v":0},8739.4991409507365,null,1]
[null,{"$f":"'60'!B172","v":"NOVOTNÝ"},{"$f":"'60'!C172","v":"Jan"},{"$f":"'60'!D172","v":"9.A"},null,{"$f":"'60'!H172","v":819.21001922727271},{"$f":"'300'!H172","v":664.07424102639879},{"$f":"'1000'!H172","v":663.55962897170491},{"$f":"DÁLKA!H172","v":689.13},{"$f":"VÝŠKA!H172","v":714.16000000000008},{"$f":"MÍČEK!H172","v":387.5},{"$f":"KOULE!H172","v":669.44444444444446},{"$f":"ČLUNEK!H172","v":860.02398287264646},{"$f":"LEHSED!H172","v":550},{"$f":"ODBÍJENÍ!H172","v":72},{"$f":"PLAVÁNÍ!H172","v":0},{"$f":"ŠPLH!H172","v":464.43644362142112},{"$f":"ŠVIHADLO!H172","v":512.5},{"$f":"'Z MÍSTA'!H172","v":828.4},{"$f":"REPRE!E75","v":0},7894.4387601638882,null,1]
[null,{"$f":"'60'!B173","v":"RÁB"},{"$f":"'60'!C173","v":"Adam"},{"$f":"'60'!D173","v":"9.A"},null,{"$f":"'60'!H173","v":702.563807507109},{"$f":"'300'!H173","v":493.06022036207503},{"$f":"'1000'!H173","v":436.73200307425174},{"$f":"DÁLKA!H173","v":577.98},{"$f":"VÝŠKA!H173","v":571.16000000000008},{"$f":"MÍČEK!H173","v":431.25},{"$f":"KOULE!H173","v":721.11111111111109},{"$f":"ČLUNEK!H173","v":705.9736758201509},{"$f":"LEHSED!H173","v":375},{"$f":"ODBÍJENÍ!H173","v":168},{"$f":"PLAVÁNÍ!H173","v":0},{"$f":"ŠPLH!H173","v":0},{"$f":"ŠVIHADLO!H173","v":0},{"$f":"'Z MÍSTA'!H173","v":649.79999999999995},{"$f":"REPRE!E76","v":0},5832.6308178746976,null,3]
[null,{"$f":"'60'!B174","v":"REPASKÝ"},{"$f":"'60'!C174","v":"Jakub"},{"$f":"'60'!D174","v":"9.A"},null,{"$f":"'60'!H174","v":850.9463383847982},{"$f":"'300'!H174","v":727.57868670437961},{"$f":"'1000'!H174","v":694.62862023857804},{"$f":"DÁLKA!H174","v":736.55399999999997},{"$f":"VÝŠKA!H174","v":771.36000000000013},{"$f":"MÍČEK!H174","v":737.5},{"$f":"KOULE!H174","v":778.88888888888891},{"$f":"ČLUNEK!H174","v":855.67713621721612},{"$f":"LEHSED!H174","v":625},{"$f":"ODBÍJENÍ!H174","v":657.2},{"$f":"PLAVÁNÍ!H174","v":0},{"$f":"ŠPLH!H174","v":657.68981949716249},{"$f":"ŠVIHADLO!H174","v":818.75},{"$f":"'Z MÍSTA'!H174","v":904.4},{"$f":"REPRE!E77","v":50},9866.1734899310231,null,1]
[null,{"$f":"'60'!B175","v":"SKÁLA"},{"$f":"'60'!C175","v":"Jan"},{"$f":"'60'!D175","v":"9.A"},null,{"$f":"'60'!H175","v":843.17369790834323},{"$f":"'300'!H175","v":719.09080524087256},{"$f":"'1000'!H175","v":733.39176307255627},{"$f":"DÁLKA!H175","v":776.56799999999998},{"$f":"VÝŠKA!H175","v":697},{"$f":"MÍČEK!H175","v":487.5},{"$f":"KOULE!H175","v":652.22222222222217},{"$f":"ČLUNEK!H175","v":867.69057560689407},{"$f":"LEHSED!H175","v":612.5},{"$f":"ODBÍJENÍ!H175","v":240},{"$f":"PLAVÁNÍ!H175","v":0},{"$f":"ŠPLH!H175","v":558.57275074138477},{"$f":"ŠVIHADLO!H175","v":656.25},{"$f":"'Z MÍSTA'!H175","v":900.59999999999991},{"$f":"REPRE!E78","v":75},8819.5598147922738,null,1]
[null,{"$f":"'60'!B176","v":"ŠPULÁK"},{"$f":"'60'!C176","v":"Jakub"},{"$f":"'60'!D176","v":"9.A"},null,{"$f":"'60'!H176","v":757.93445738589196},{"$f":"'300'!H176","v":617.36402433031185},{"$f":"'1000'!H176","v":608.73719176125394},{"$f":"DÁLKA!H176","v":699.50400000000002},{"$f":"VÝŠKA!H176","v":668.4},{"$f":"MÍČEK!H176","v":618.75},{"$f":"KOULE!H176","v":671.11111111111109},{"$f":"ČLUNEK!H176","v":823.83065585156999},{"$f":"LEHSED!H176","v":0},{"$f":"ODBÍJENÍ!H176","v":528},{"$f":"PLAVÁNÍ!H176","v":665.52284131876706},{"$f":"ŠPLH!H176","v":0},{"$f":"ŠVIHADLO!H176","v":481.25},{"$f":"'Z MÍSTA'!H176","v":817},{"$f":"REPRE!E79","v":50},8007.4042817589052,null,2]
[null,{"$f":"'60'!B177","v":"VALENTA"},{"$f":"'60'!C177","v":"Tomáš"},{"$f":"'60'!D177","v":"9.A"},null,{"$f":"'60'!H177","v":906.3254366794381},{"$f":"'300'!H177","v":860.09087376198568},{"$f":"'1000'!H177","v":749.60196380629918},{"$f":"DÁLKA!H177","v":909.94799999999998},{"$f":"VÝŠKA!H177","v":868.6},{"$f":"MÍČEK!H177","v":800},{"$f":"KOULE!H177","v":781.66666666666663},{"$f":"ČLUNEK!H177","v":953.85362209560003},{"$f":"LEHSED!H177","v":700},{"$f":"ODBÍJENÍ!H177","v":657.2},{"$f":"PLAVÁNÍ!H177","v":0},{"$f":"ŠPLH!H177","v":657.68981949716249},{"$f":"ŠVIHADLO!H177","v":806.25},{"$f":"'Z MÍSTA'!H177","v":995.59999999999991},{"$f":"REPRE!E80","v":125},10771.826382507152,null,1]
[null,{"$f":"'60'!B178","v":"VANCL"},{"$f":"'60'!C178","v":"Jiří"},{"$f":"'60'!D178","v":"9.A"},null,{"$f":"'60'!H178","v":800.540726681416},{"$f":"'300'!H178","v":601.75570611363707},{"$f":"'1000'!H178","v":594.41146914912076},{"$f":"DÁLKA!H178","v":741},{"$f":"VÝŠKA!H178","v":628.36000000000013},{"$f":"MÍČEK!H178","v":362.5},{"$f":"KOULE!H178","v":663.88888888888891},{"$f":"ČLUNEK!H178","v":808.38089672712101},{"$f":"LEHSED!H178","v":525},{"$f":"ODBÍJENÍ!H178","v":528},{"$f":"PLAVÁNÍ!H178","v":0},{"$f":"ŠPLH!H178","v":0},{"$f":"ŠVIHADLO!H178","v":593.75},{"$f":"'Z MÍSTA'!H178","v":824.59999999999991},{"$f":"REPRE!E81","v":50},7722.1876875601829,null,2]
[null,{"$f":"'60'!B179","v":"VAŠÍČEK"},{"$f":"'60'!C179","v":"David"},{"$f":"'60'!D179","v":"9.A"},null,{"$f":"'60'!H179","v":812.090907671541},{"$f":"'300'!H179","v":743.95608157365746},{"$f":"'1000'!H179","v":807.90808942584499},{"$f":"DÁLKA!H179","v":693.57600000000002},{"$f":"VÝŠKA!H179","v":0},{"$f":"MÍČEK!H179","v":450},{"$f":"KOULE!H179","v":0},{"$f":"ČLUNEK!H179","v":868.79207967184243},{"$f":"LEHSED!H179","v":0},{"$f":"ODBÍJENÍ!H179","v":176},{"$f":"PLAVÁNÍ!H179","v":0},{"$f":"ŠPLH!H179","v":429.72685918308582},{"$f":"ŠVIHADLO!H179","v":687.5},{"$f":"'Z MÍSTA'!H179","v":836},{"$f":"REPRE!E82","v":0},6505.5500175259722,null,4]
[null,{"$f":"'60'!B180","v":"ZOUHAR"},{"$f":"'60'!C180","v":"Ondřej"},{"$f":"'60'!D180","v":"9.A"},null,{"$f":"'60'!H180","v":901.31068137055831},{"$f":"'300'!H180","v":748.4944523993704},{"$f":"'1000'!H180","v":626.60541405020581},{"$f":"DÁLKA!H180","v":0},{"$f":"VÝŠKA!H180","v":771.36000000000013},{"$f":"MÍČEK!H180","v":500},{"$f":"KOULE!H180","v":611.11111111111109},{"$f":"ČLUNEK!H180","v":879.89517582397218},{"$f":"LEHSED!H180","v":450},{"$f":"ODBÍJENÍ!H180","v":496},{"$f":"PLAVÁNÍ!H180","v":0},{"$f":"ŠPLH!H180","v":497.18840637190743},{"$f":"ŠVIHADLO!H180","v":637.5},{"$f":"'Z MÍSTA'!H180","v":801.8},{"$f":"REPRE!E83","v":50},7971.2652411271247,null,2]
[null,{"$f":"'60'!B181","v":"ZUZÁNEK"},{"$f":"'60'!C181","v":"Filip"},{"$f":"'60'!D181","v":"9.A"},null,{"$f":"'60'!H181","v":811.30878305617966},{"$f":"'300'!H181","v":610.27422335649794},{"$f":"'1000'!H181","v":620.04640234629881},{"$f":"DÁLKA!H181","v":752.85599999999999},{"$f":"VÝŠKA!H181","v":656.96},{"$f":"MÍČEK!H181","v":325},{"$f":"KOULE!H181","v":596.11111111111109},{"$f":"ČLUNEK!H181","v":879.89517582397218},{"$f":"LEHSED!H181","v":625},{"$f":"ODBÍJENÍ!H181","v":368},{"$f":"PLAVÁNÍ!H181","v":0},{"$f":"ŠPLH!H181","v":446.22139605326726},{"$f":"ŠVIHADLO!H181","v":0},{"$f":"'Z MÍSTA'!H181","v":805.59999999999991},{"$f":"REPRE!E84","v":0},7497.2730917473273,null,2,{"$f":"SUM(W100:W115)","v":32}]

{"sheet":"ROČ","index":5,"n_rows":201,"n_cols":23,"rows_kept":201,"cut":false,"hidden":false,"merged":[]}
[null,null,"CELKOVÉ   VÝSLEDKY  ",null,null,null,null,null,null,null,null,null,null,null,null,null,null,null,null,null,null,null,{"$f":"TODAY()","v":"2022-06-27"}]
[]
[null,"6. ročník",null,null,null,"   60  m  ","   300m","  1000m","   dálka","   výška","   míček","   koule","   oštěp","  člunek","  lehsed","odbíjení ","  plavání","    shyby","    šplh","švihadlo","z místa"," REPRE","          CELKEM"]
[]
["1.",{"$f":"B121","v":"EXNER"},{"$f":"C121","v":"Tomáš"},"6.A",0,796.02727134065935,577.70790537414246,467.3692037886596,717.28800000000001,616.92000000000007,200,532.22222222222217,0,697.01102745374283,525,120,402.859403261708,150,0,400,877.8,0,7080.2050334411351]
["2.",{"$f":"B122","v":"JANATA"},"Denis","6.A",0,739.81533963709683,572.21713015221246,504.95647922681849,601.69200000000001,571.16000000000008,300,413.88888888888886,0,601.42852542295373,437.5,144,0,0,0,406.25,566.19999999999993,0,5859.1083633279695]
["3.",{"$f":"B123","v":"JINDŘIŠEK"},"Alex Jiří","6.A",0,755.94293373319545,567.50400866973109,486.65665380584085,570.57000000000005,513.96,312.5,591.66666666666663,0,0,462.5,56,0,0,0,0,380,0,4697.3002628754348]
["4.",{"$f":"B124","v":"MARŠÁLEK"},"Ondřej","6.A",0,735.44426118118122,460.35759731076485,517.99252775136688,530.55600000000004,571.16000000000008,281.25,515,0,673.25743485766759,450,64,0,0,0,218.75,642.19999999999993,0,5659.9678211009796]
["5.",{"$f":"B125","v":"MLATEČEK"},"Patrik","6.A",0,665.5779901598579,416.18905417413794,491.40767411069015,499.43399999999997,502.5200000000001,331.25,471.11111111111109,0,532.11079179836884,375,64,0,0,0,218.75,494,0,5061.3506213541659]
["6.",{"$f":"B126","v":"SCHOLZ"},"Matyáš","6.A",0,707.61072363288713,537.46650742662894,440.84272912947722,575.01599999999996,565.44000000000005,325,554.44444444444446,0,0,412.5,144,0,0,225.87953246822397,293.75,722,0,5503.9499371016618]
["7.",{"$f":"B127","v":"TOMÁŠ"},"Jakub","6.A",0,722.69099698039224,642.14664186671405,685.77158491494845,622.43999999999994,616.92000000000007,306.25,491.66666666666663,0,739.9729270213877,562.5,104,0,300,236.41494868369281,662.5,653.6,0,7346.8737661338027]
["8.",{"$f":"B128","v":"VÁCLAVÍK"},"Jan","6.A",0,727.48697324110685,643.99195357957456,648.22525390909357,576.49800000000005,599.7600000000001,312.5,456.66666666666663,0,734.36607910747875,425,88,0,525,229.99592097333334,631.25,691.6,0,7290.3408474772541]
["9.",{"$f":"B129","v":"VEČEŘA"},"David","6.A",0,627.42546852892565,407.94193983872151,552.47446195598923,499.43399999999997,513.96,287.5,466.66666666666663,0,597.41138571753925,437.5,56,0,0,0,231.25,566.19999999999993,0,5243.7639227078425]
["10.",{"$f":"B130","v":"VYBÍRAL"},"Radim","6.A",0,807.42437644692734,758.95657419260442,782.44942974613832,680.23799999999994,662.68000000000006,375,516.11111111111109,0,751.30082509555814,687.5,280,0,525,542.07828667265699,718.75,794.19999999999993,0,8881.6886032649963]
["11.",{"$f":"B131","v":"BERISHA"},"David","6.B",0,573.0345767503693,0,275.51163697367235,392.73,388.12000000000006,218.75,286.11111111111109,0,689.02232050708415,0,80,0,0,0,0,608,0,3511.279645342237]
["12.",{"$f":"B132","v":"EFENBERK"},"Šimon","6.B",0,746.16783800407325,526.74558703990067,515.11477931182981,530.55600000000004,565.44000000000005,262.5,533.88888888888891,0,684.61516951947772,500,80,459.4836600835207,0,228.99762870402867,525,653.6,0,6812.10955155172]
["13.",{"$f":"B133","v":"FEJKL"},"Antonín","6.B",0,768.7687942194093,744.16152189547142,716.33658685383728,666.9,616.92000000000007,500,520.55555555555554,0,803.29738074834859,612.5,280,401.93206786999644,0,306.9141832875269,825,779,125,8667.2860904301451]
["14.",{"$f":"B134","v":"GOTTSTEIN"},"Matouš","6.B",0,819.21001922727271,811.51645799891526,849.6285826129282,729.14400000000001,685.56000000000006,450,525,0,801.2730515653584,637.5,160,397.77059262957937,150,437.77365615760903,800,813.19999999999993,250,9317.5763601916624]
["15.",{"$f":"B135","v":"HÁK"},"Šimon","6.B",0,0,0,0,0,0,0,0,0,0,0,0,0,0,0,0,0,0,0]
["16.",{"$f":"B136","v":"POVAŽANEC"},"Lukáš","6.B",0,728.69783853465344,529.72500907356925,522.20330725964629,586.87199999999996,582.60000000000014,412.5,561.11111111111109,0,668.06334459064328,375,160,0,0,0,368.75,615.6,0,6111.1226105696242]
["17.",{"$f":"B137","v":"VANCL"},"Jakub","6.B",0,674.00254005410295,471.4432042333284,553.40202564929859,454.97399999999999,502.5200000000001,256.25,470,0,551.14118183006553,462.5,120,0,75,0,112.5,551,0,5254.7329517667958]
["18.",{"$f":"B138","v":"VANCL"},"Miroslav","6.B",0,663.63258134513273,273.27194214951419,383.05388808932219,549.822,571.16000000000008,262.5,443.33333333333331,0,603.03986398763539,337.5,40,0,0,0,425,722,0,5274.3136089049376]
["19.",{"$f":"B139","v":"VOTOČEK"},"Michal","6.B",0,690.0489952875696,489.98278707882389,521.61568575104002,480.16800000000001,565.44000000000005,375,483.33333333333331,0,588.62901747967499,462.5,64,0,0,0,312.5,611.79999999999995,0,5645.0178189304424]
[]
[null,null,"CELKOVÉ   VÝSLEDKY  ",null,null,null,null,null,null,null,null,null,null,null,null,null,null,null,null,null,null,null,{"$f":"TODAY()","v":"2022-06-27"}]
[]
[null,"7. ročník",null,null,null,"   60  m  ","   300m","  1000m","   dálka","   výška","   míček","   koule","   oštěp","  člunek","  lehsed","odbíjení ","  plavání","    shyby","    šplh","švihadlo","z místa"," REPRE","          CELKEM"]
[]
["1.",{"$f":"B140","v":"BOUKAL"},{"$f":"C140","v":"Jakub"},"7.A",0,0,0,0,0,0,0,540,0,466.6982180009046,0,0,0,0,0,306.25,554.79999999999995,0,1867.7482180009044]
["2.",{"$f":"B141","v":"DEMČUK"},"Ilja","7.A",0,756.60540053830221,698.00020580749629,685.33193804781047,655.04399999999998,668.4,387.5,527.22222222222217,0,739.0358447408712,475,48,0,75,0,300,691.6,0,6706.7396113567029]
["3.",{"$f":"B142","v":"FAISTAUER"},"Kryštof","7.A",0,812.090907671541,705.18703438822217,704.12414177675555,674.31,725.6,562.5,506.11111111111109,0,803.29738074834859,575,80,0,0,454.44959722054062,525,809.4,200,8137.0701729165185]
["4.",{"$f":"B143","v":"FRK"},"Matyáš","7.A",0,622.40328716857607,409.74768030820985,403.2782066952156,543.89400000000001,0,325,479.44444444444446,0,626.70287569316349,437.5,72,0,0,0,0,646,0,4565.9704943096094]
["5.",{"$f":"B144","v":"HUBÁLOVSKÝ"},"Marek","7.A",0,686.8716023247232,703.28578714935952,623.95605029394972,594.28200000000004,639.80000000000007,425,451.11111111111109,0,728.79635225190339,562.5,152,0,0,225.87953246822397,418.75,725.8,0,6938.0324355992716]
["6.",{"$f":"B145","v":"MAŘAS"},"Dominik","7.A",0,0,358.78501960937149,404.66269458086157,499.43399999999997,611.20000000000005,350,455.55555555555554,0,535.13444948909807,0,48,0,75,0,0,771.4,0,4109.171719234887]
["7.",{"$f":"B146","v":"MAŤÁTKO"},"Jakub","7.A",0,0,296.61681961231182,0,0,611.20000000000005,312.5,0,0,511.15952690361974,0,0,0,0,0,0,532,0,2263.4763465159317]
["8.",{"$f":"B147","v":"MERY"},"Luboš","7.A",0,681.65339755027424,496.88073669694438,595.92127985832326,588.35400000000004,0,262.5,438.88888888888886,0,677.60878282772387,450,48,0,0,0,218.75,608,0,5066.5570858221545]
["9.",{"$f":"B148","v":"NOVOTNÝ"},"Matěj","7.A",0,679.59272943533699,464.86413405073347,440.31194222575442,542.41200000000003,0,318.75,493.33333333333331,0,643.36504921314895,412.5,88,0,0,0,431.25,585.19999999999993,0,5099.5791882583071]
["10.",{"$f":"B149","v":"ŘEHOŘEK"},"Vojtěch","7.A",0,709.31238439117942,529.205314506592,574.13063389548938,631.33199999999999,611.20000000000005,560,527.77777777777771,0,679.35523936763025,412.5,88,0,0,0,593.75,676.4,200,6792.9633499386682]
["11.",{"$f":"B150","v":"ŠÍR"},"Matyáš","7.A",0,687.92681785582261,0,613.88794398423647,545.37599999999998,542.56000000000006,312.5,373.33333333333331,0,577.55822561868047,437.5,80,0,0,0,412.5,535.79999999999995,0,5118.9423207920727]
["12.",{"$f":"B151","v":"TORÁČ"},"Tomáš","7.A",0,0,119.90466052396727,334.23479082554792,383.83800000000002,496.80000000000007,218.75,418.88888888888886,0,342.70749858927854,375,48,0,0,0,175,342,0,3255.1238388276824]
["13.",{"$f":"B152","v":"ULLMAN"},"Šimon","7.A",0,854.45443546539377,801.59772501836233,681.21048828552148,626.88599999999997,668.4,0,460.55555555555554,0,801.2730515653584,575,72,0,600,483.1202422290865,306.25,874,0,7804.7474981192781]
["14.",{"$f":"B153","v":"VÁCLAVÍK"},"Ondřej","7.A",0,793.05122201312906,396.2861287739097,697.03512204786318,695.05799999999999,599.7600000000001,525,0,0,810.42346895015305,525,128,0,825,454.44959722054062,518.75,767.59999999999991,25,7760.4135390055962]
["15.",{"$f":"B154","v":"AUERSWALD"},"Daniel","7.B",0,759.9384151092612,670.24815200233229,622.32291047793683,674.31,599.7600000000001,362.5,0,0,0,500,120,0,225,362.25159339137161,531.25,794.19999999999993,25,6246.7810709809019]
["16.",{"$f":"B155","v":"BODLÁK"},"Vladimír","7.B",0,0,0,0,0,0,0,0,0,0,0,0,0,0,0,0,0,0,0]
["17.",{"$f":"B156","v":"BUDÍN"},"Martin","7.B",0,755.94293373319545,664.77586758267807,771.35783539909801,604.65599999999995,611.20000000000005,462.5,459.44444444444446,0,770.53288217928082,500,72,0,375,360.17289247563423,825,760,0,7992.5828558143312]
["18.",{"$f":"B157","v":"DVOŘÁK"},"Dominik","7.B",0,676.02245875113124,573.65542977491782,0,542.41200000000003,611.20000000000005,387.5,513.33333333333337,0,678.48158582502776,525,72,0,0,326.83243237451325,443.75,676.4,0,6026.5872400589233]
["19.",{"$f":"B158","v":"FIŠERA"},"Vojtěch","7.B",0,720.32111027343751,0,617.16300794397955,558.71399999999994,571.16000000000008,237.5,472.77777777777777,0,693.45153679365978,550,72,0,0,225.87953246822397,250,634.6,0,5603.5669652570787]
["20.",{"$f":"B159","v":"JINDŘIŠEK"},"Vít","7.B",0,867.00099140776706,924.27203840771881,857.26432183008762,745.44600000000003,759.92000000000019,661.25,606.11111111111109,0,841.71649201232185,625,344,0,1125,547.1091217041004,712.5,870.19999999999993,250,10736.790076473109]
["21.",{"$f":"B160","v":"JIROUŠ"},"Matouš","7.B",0,763.98410148691096,667.23959004337871,0,675.79200000000003,599.7600000000001,368.75,494.44444444444446,0,705.9736758201509,562.5,112,0,150,316.77381349530651,643.75,763.8,75,6899.767625290192]
["22.",{"$f":"B161","v":"KERLE"},"Marek","7.B",0,816.02807343891413,809.42574514552257,718.23239807324398,752.85599999999999,771.36000000000013,575,569.44444444444446,0,823.83065585156999,700,344,0,900,611.9556029412953,650,763.8,175,9980.9329198949908]
["23.",{"$f":"B162","v":"LUKEŠ"},"Jakub","7.B",0,824.8485875372279,836.25802158003853,802.89545176915465,738.03599999999994,817.12000000000012,300,441.66666666666663,0,769.56047592760183,500,152,0,525,446.84088487841058,531.25,915.8,125,8726.2760883591]
["24.",{"$f":"B163","v":"OTT"},"Matyáš","7.B",0,828.11141187571923,795.68546445676679,833.74055541683822,692.09399999999994,697,437.5,506.66666666666663,0,790.23018122181224,500,192,570.33025257363511,675,357.12073479653333,781.25,725.8,175,9557.5292670079725]
["25.",{"$f":"B164","v":"POKORNÝ"},"Matyáš","7.B",0,837.24104536130528,909.22179559537085,873.85027455273746,770.64,754.2,562.5,472.77777777777777,0,896.85893194820846,912.5,192,0,1050,459.0421768869972,806.25,843.59999999999991,250,10590.682002122396]
["26.",{"$f":"B165","v":"POLÁČEK"},"Matyáš","7.B",0,679.07990620564158,499.77024627011417,0,554.26800000000003,542.56000000000006,462.5,461.11111111111109,0,0,487.5,88,0,0,0,368.75,627,25,4795.5392635868666]
["27.",{"$f":"B166","v":"SOUKUP"},"Patrik","7.B",0,0,0,0,0,0,0,0,0,0,0,0,0,0,0,0,0,0,0]
["28.",{"$f":"B167","v":"VALENTA"},"Jakub","7.B",0,742.97549839918952,787.60288039787679,787.42601997795407,0,725.6,350,466.66666666666663,0,820.71635504954691,750,192,0,0,496.38055868893889,556.25,737.19999999999993,250,7662.8179791801731]
["29.",{"$f":"B168","v":"VRBATA"},"Dominik","7.B",0,751.34375453798771,634.67185712584262,693.22081080202724,666.9,599.7600000000001,462.5,522.77777777777771,0,713.21105608965195,525,128,580.40495762044407,675,617.27764022622023,662.5,729.59999999999991,125,9087.167854179952]
[]
[]
[]
[" ",null,"CELKOVÉ   VÝSLEDKY  ",null,null,null,null,null,null,null,null,null,null,null,null,null,null,null,null,null,null,null,{"$f":"W25","v":"2022-06-27"}]
[]
[null,"8. ročník",null,null,null,"   60  m  ","   300m","  1000m","   dálka","   výška","   míček","   koule","   oštěp","  člunek","  lehsed","odbíjení ","  plavání","    shyby","    šplh","švihadlo","z místa"," REPRE","          CELKEM"]
[]
["1.",{"$f":"B169","v":"FEJKL"},{"$f":"C169","v":"Jan"},"8.A",0,897.34446580808071,887.32550316149741,802.81998281439303,798.798,811.4,762.5,587.77777777777771,0,885.50784887100394,637.5,416,0,0,632.47048883593777,631.25,881.59999999999991,125,9757.2940672686909]
["2.",{"$f":"B170","v":"KOTYK"},"Tadeáš","8.A",0,693.26195608208957,463.20924999121826,346.58578208439383,536.48400000000004,525.40000000000009,325,554.44444444444446,0,692.56391190921556,412.5,256,0,0,0,456.25,687.8,0,5949.4993445113614]
["3.",{"$f":"B171","v":"KRAUSE"},"Tadeáš","8.A",0,828.11141187571923,848.79637951461837,822.06202877173905,788.42399999999998,799.96,468.75,573.33333333333337,0,874.323480596134,637.5,256,0,0,519.37197045935568,1068.75,839.8,125,9450.1826045508988]
["4.",{"$f":"B172","v":"LEŠÁK"},"Martin","8.A",0,712.17034385356453,619.27324696750145,578.21913478435124,660.97199999999998,656.96,375,550.55555555555554,0,692.56391190921556,362.5,248,0,0,0,350,646,0,6452.2141930701882]
["5.",{"$f":"B173","v":"NECHANICKÝ"},"David","8.A",0,900.31535731305451,833.83143502634607,721.41457611440671,794.35199999999998,685.56000000000006,537.5,627.77777777777771,0,882.13528896690059,475,416,0,300,446.84088487841058,668.75,950,175,9414.4773200768959]
["6.",{"$f":"B174","v":"ŘEHOŘEK"},"Jan","8.A",0,830.57831053117786,738.23627060210538,670.71361045793958,721.73400000000004,777.08,487.5,494.44444444444446,0,832.19648428322876,500,746,0,0,326.32841547449596,837.5,798,125,8885.3115357933912]
["7.",{"$f":"B175","v":"SOUKUP"},"Ondřej","8.A",0,759.26904045738058,0,0,572.05200000000002,571.16000000000008,0,597.22222222222217,0,715.02993808795873,587.5,717.2,0,0,225.87953246822397,950,646,75,6416.3127332357853]
["8.",{"$f":"B176","v":"SPANILÝ"},"David","8.A",0,850.9463383847982,863.64999196086478,784.31723483064513,791.38800000000003,685.56000000000006,737.5,605.55555555555554,0,843.84797111685339,550,746,0,300,671.97939237504806,900,881.59999999999991,125,10337.344484223766]
["9.",{"$f":"B177","v":"ČADAN"},"Benjamín","8.B",0,712.17034385356453,0,0,622.43999999999994,639.80000000000007,0,522.22222222222217,0,0,0,72,0,0,0,0,634.6,0,3203.2325660757865]
["10.",{"$f":"B178","v":"ČERNÝ"},"Michal","8.B",0,757.26924033160617,604.98943015790542,574.90123449408031,617.99400000000003,599.7600000000001,556.25,635.55555555555554,0,769.56047592760183,537.5,240,0,0,0,293.75,615.6,0,6803.1299364667502]
["11.",{"$f":"B179","v":"DOLEJŠÍ"},"David","8.B",0,814.44787462753959,738.84611920983025,715.37747883823533,706.91399999999999,656.96,268.75,552.22222222222217,0,776.39186583012884,500,168,0,150,256.20497747374731,475,741,50,7570.1145382017039]
["12.",{"$f":"B180","v":"NOVÁK"},"Matěj","8.B",0,712.17034385356453,0,0,650.59799999999996,525.40000000000009,412.5,451.11111111111109,0,757.0233328827934,437.5,208,0,450,296.67368014648815,756.25,691.6,25,6373.8264679939584]
["13.",{"$f":"B181","v":"POVAŽANEC"},"Martin","8.B",0,848.33706144378698,762.77403794668794,687.28720170296049,822.51,822.84000000000015,625,775.55555555555554,0,759.89955304102307,425,272,0,75,487.70056075637922,437.5,870.19999999999993,50,8721.6039704463947]
["14.",{"$f":"B182","v":"RICHTER"},"Jakub","8.B",0,746.81021092762478,627.15205994231951,608.86706680231555,588.35400000000004,542.56000000000006,362.5,511.11111111111109,0,699.69016436911477,450,168,0,0,324.09236992228784,437.5,722,0,6788.6369830747726]
["15.",{"$f":"B183","v":"ROZUMEK"},"Adam","8.B",0,771.53476368644067,483.31856474581059,597.48050482223005,577.98,571.16000000000008,562.5,688.88888888888891,0,741.85024704422233,537.5,312,0,0,0,693.75,684,0,7221.9629691875925]
["16.",{"$f":"B184","v":"VALENTA"},"František","8.B",0,797.52512876651986,647.02713059210248,619.84435702799601,607.62,628.36000000000013,350,594.44444444444446,0,803.29738074834859,525,272,0,150,0,450,672.6,0,7117.7184415794118]
["17.",{"$f":"B185","v":"ZAPLATÍLEK"},"Josef","8.B",0,758.60105599169253,732.98064355872771,706.5680967891318,643.18799999999999,725.6,525,490.55555555555554,0,832.19648428322876,575,312,0,75,225.87953246822397,625,763.8,0,7991.3693686465604]
[]
[]
[null,null,"CELKOVÉ   VÝSLEDKY  "]
[]
[null,"9. ročník",null,null,null,"   60  m  ","   300m","  1000m","   dálka","   výška","   míček","   koule","   oštěp","  člunek","  lehsed","odbíjení ","  plavání","    shyby","    šplh","švihadlo","z místa"," REPRE","          CELKEM"]
[]
["1.",{"$f":"B186","v":"ERBEN"},{"$f":"C186","v":"Viktor"},"9.A",0,744.24854509644672,606.22740690990815,591.45564339868815,659.49,668.4,312.5,0,0,736.23086929174792,350,440,0,225,371.311035224421,412.5,763.8,0,6881.1634999212129]
["2.",{"$f":"B187","v":"FRANC"},"Daniel","9.A",0,709.31238439117942,540.79034020995425,448.08397868173296,577.98,571.16000000000008,412.5,652.77777777777771,0,775.41242771206157,400,408,0,0,0,543.75,646,0,6685.7669087727054]
["3.",{"$f":"B188","v":"JINDŘIŠEK"},"Matyáš","9.A",0,799.78432808839784,755.79616316923693,775.3832169781673,797.31600000000003,714.16000000000008,650,707.77777777777771,0,878.77758062222222,650,480,0,750,755.22838773777789,537.5,881.59999999999991,50,10183.32345437358]
["4.",{"$f":"B189","v":"KOLAČNÝ"},"Štěpán","9.A",0,716.21805714839957,513.91021924258848,531.80618796130932,663.93600000000004,571.16000000000008,412.5,643.33333333333337,0,779.33730608151529,412.5,496,0,75,0,0,661.19999999999993,0,6476.9011037671462]
["5.",{"$f":"B190","v":"KRISTAN"},"Jáchym","9.A",0,586.23162379939208,333.6491762896602,436.51020199891326,523.14599999999996,0,250,437.77777777777777,0,497.87911491834257,287.5,64,0,0,0,0,456,0,3872.6938947840858]
["6.",{"$f":"B191","v":"NGUYEN"},"David","9.A",0,794.53598346491231,688.32987345746096,606.19425065557857,786.94200000000001,697,593.75,635.55555555555554,0,898.00342895520123,375,480,0,150,693.88804886202888,612.5,877.8,0,8889.4991409507365]
["7.",{"$f":"B192","v":"NOVOTNÝ"},"Jan","9.A",0,819.21001922727271,664.07424102639879,663.55962897170491,689.13,714.16000000000008,387.5,669.44444444444446,0,860.02398287264646,550,72,0,375,464.43644362142112,512.5,828.4,0,8269.4387601638882]
["8.",{"$f":"B193","v":"RÁB"},"Adam","9.A",0,702.563807507109,493.06022036207503,436.73200307425174,577.98,571.16000000000008,431.25,721.11111111111109,0,705.9736758201509,375,168,0,0,0,0,649.79999999999995,0,5832.6308178746976]
["9.",{"$f":"B194","v":"REPASKÝ"},"Jakub","9.A",0,850.9463383847982,727.57868670437961,694.62862023857804,736.55399999999997,771.36000000000013,737.5,778.88888888888891,0,855.67713621721612,625,657.2,0,450,657.68981949716249,818.75,904.4,50,10316.173489931021]
["10.",{"$f":"B195","v":"SKÁLA"},"Jan","9.A",0,843.17369790834323,719.09080524087256,733.39176307255627,776.56799999999998,697,487.5,652.22222222222217,0,867.69057560689407,612.5,240,0,900,558.57275074138477,656.25,900.59999999999991,75,9719.5598147922738]
["11.",{"$f":"B196","v":"ŠPULÁK"},"Jakub","9.A",0,757.93445738589196,617.36402433031185,608.73719176125394,699.50400000000002,668.4,618.75,671.11111111111109,0,823.83065585156999,0,528,665.52284131876706,0,0,481.25,817,50,8007.4042817589052]
["12.",{"$f":"B197","v":"VALENTA"},"Tomáš","9.A",0,906.3254366794381,860.09087376198568,749.60196380629918,909.94799999999998,868.6,800,781.66666666666663,0,953.85362209560003,700,657.2,0,600,657.68981949716249,806.25,995.59999999999991,125,11371.826382507152]
["13.",{"$f":"B198","v":"VANCL"},"Jiří","9.A",0,800.540726681416,601.75570611363707,594.41146914912076,741,628.36000000000013,362.5,663.88888888888891,0,808.38089672712101,525,528,0,75,0,593.75,824.59999999999991,50,7797.1876875601829]
["14.",{"$f":"B199","v":"VAŠÍČEK"},"David","9.A",0,812.090907671541,743.95608157365746,807.90808942584499,693.57600000000002,0,450,0,0,868.79207967184243,0,176,0,450,429.72685918308582,687.5,836,0,6955.5500175259722]
["15.",{"$f":"B200","v":"ZOUHAR"},"Ondřej","9.A",0,901.31068137055831,748.4944523993704,626.60541405020581,0,771.36000000000013,500,611.11111111111109,0,879.89517582397218,450,496,0,75,497.18840637190743,637.5,801.8,50,8046.2652411271247]
["16.",{"$f":"B201","v":"ZUZÁNEK"},"Filip","9.A",0,811.30878305617966,610.27422335649794,620.04640234629881,752.85599999999999,656.96,325,596.11111111111109,0,879.89517582397218,625,368,0,1050,446.22139605326726,0,805.59999999999991,0,8547.2730917473273]
[]
[]
[]
[]
[]
[]
[]
[]
[]
[]
[]
[]
[]
[]
[]
[]
[null,null,null,null,null,"60  m  ","300m","1000m","dálka","výška","míček","koule","oštěp","člunek","lehsed","odbíjení ","plavání","shyby","šplh","švihadlo","z místa"," REPRE","   CELKEM"]
[null,"EXNER","Tomáš","6.A",null,{"$f":"'60'!H101","v":796.02727134065935},{"$f":"'300'!H101","v":577.70790537414246},{"$f":"'1000'!H101","v":467.3692037886596},{"$f":"DÁLKA!H101","v":717.28800000000001},{"$f":"VÝŠKA!H101","v":616.92000000000007},{"$f":"MÍČEK!H101","v":200},{"$f":"KOULE!H101","v":532.22222222222217},{"$f":"OŠTĚP!H101","v":0},{"$f":"ČLUNEK!H101","v":697.01102745374283},{"$f":"LEHSED!H101","v":525},{"$f":"ODBÍJENÍ!H101","v":120},{"$f":"PLAVÁNÍ!H101","v":402.859403261708},{"$f":"SHYBY!H101","v":150},{"$f":"ŠPLH!H101","v":0},{"$f":"ŠVIHADLO!H101","v":400},{"$f":"'Z MÍSTA'!H101","v":877.8},{"$f":"REPRE!E4","v":0},{"$f":"SUM(F121:V121)","v":7080.2050334411351}]
[null,"JANATA","Denis","6.A",null,{"$f":"'60'!H102","v":739.81533963709683},{"$f":"'300'!H102","v":572.21713015221246},{"$f":"'1000'!H102","v":504.95647922681849},{"$f":"DÁLKA!H102","v":601.69200000000001},{"$f":"VÝŠKA!H102","v":571.16000000000008},{"$f":"MÍČEK!H102","v":300},{"$f":"KOULE!H102","v":413.88888888888886},{"$f":"OŠTĚP!H102","v":0},{"$f":"ČLUNEK!H102","v":601.42852542295373},{"$f":"LEHSED!H102","v":437.5},{"$f":"ODBÍJENÍ!H102","v":144},{"$f":"PLAVÁNÍ!H102","v":0},{"$f":"SHYBY!H102","v":0},{"$f":"ŠPLH!H102","v":0},{"$f":"ŠVIHADLO!H102","v":406.25},{"$f":"'Z MÍSTA'!H102","v":566.19999999999993},{"$f":"REPRE!E5","v":0},5859.1083633279695]
[null,"JINDŘIŠEK","Alex Jiří","6.A",null,{"$f":"'60'!H103","v":755.94293373319545},{"$f":"'300'!H103","v":567.50400866973109},{"$f":"'1000'!H103","v":486.65665380584085},{"$f":"DÁLKA!H103","v":570.57000000000005},{"$f":"VÝŠKA!H103","v":513.96},{"$f":"MÍČEK!H103","v":312.5},{"$f":"KOULE!H103","v":591.66666666666663},{"$f":"OŠTĚP!H103","v":0},{"$f":"ČLUNEK!H103","v":0},{"$f":"LEHSED!H103","v":462.5},{"$f":"ODBÍJENÍ!H103","v":56},{"$f":"PLAVÁNÍ!H103","v":0},{"$f":"SHYBY!H103","v":0},{"$f":"ŠPLH!H103","v":0},{"$f":"ŠVIHADLO!H103","v":0},{"$f":"'Z MÍSTA'!H103","v":380},{"$f":"REPRE!E6","v":0},4697.3002628754348]
[null,"MARŠÁLEK","Ondřej","6.A",null,{"$f":"'60'!H104","v":735.44426118118122},{"$f":"'300'!H104","v":460.35759731076485},{"$f":"'1000'!H104","v":517.99252775136688},{"$f":"DÁLKA!H104","v":530.55600000000004},{"$f":"VÝŠKA!H104","v":571.16000000000008},{"$f":"MÍČEK!H104","v":281.25},{"$f":"KOULE!H104","v":515},{"$f":"OŠTĚP!H104","v":0},{"$f":"ČLUNEK!H104","v":673.25743485766759},{"$f":"LEHSED!H104","v":450},{"$f":"ODBÍJENÍ!H104","v":64},{"$f":"PLAVÁNÍ!H104","v":0},{"$f":"SHYBY!H104","v":0},{"$f":"ŠPLH!H104","v":0},{"$f":"ŠVIHADLO!H104","v":218.75},{"$f":"'Z MÍSTA'!H104","v":642.19999999999993},{"$f":"REPRE!E7","v":0},5659.9678211009796]
[null,"MLATEČEK","Patrik","6.A",null,{"$f":"'60'!H105","v":665.5779901598579},{"$f":"'300'!H105","v":416.18905417413794},{"$f":"'1000'!H105","v":491.40767411069015},{"$f":"DÁLKA!H105","v":499.43399999999997},{"$f":"VÝŠKA!H105","v":502.5200000000001},{"$f":"MÍČEK!H105","v":331.25},{"$f":"KOULE!H105","v":471.11111111111109},{"$f":"OŠTĚP!H105","v":0},{"$f":"ČLUNEK!H105","v":532.11079179836884},{"$f":"LEHSED!H105","v":375},{"$f":"ODBÍJENÍ!H105","v":64},{"$f":"PLAVÁNÍ!H105","v":0},{"$f":"SHYBY!H105","v":0},{"$f":"ŠPLH!H105","v":0},{"$f":"ŠVIHADLO!H105","v":218.75},{"$f":"'Z MÍSTA'!H105","v":494},{"$f":"REPRE!E8","v":0},5061.3506213541659]
[null,"SCHOLZ","Matyáš","6.A",null,{"$f":"'60'!H106","v":707.61072363288713},{"$f":"'300'!H106","v":537.46650742662894},{"$f":"'1000'!H106","v":440.84272912947722},{"$f":"DÁLKA!H106","v":575.01599999999996},{"$f":"VÝŠKA!H106","v":565.44000000000005},{"$f":"MÍČEK!H106","v":325},{"$f":"KOULE!H106","v":554.44444444444446},{"$f":"OŠTĚP!H106","v":0},{"$f":"ČLUNEK!H106","v":0},{"$f":"LEHSED!H106","v":412.5},{"$f":"ODBÍJENÍ!H106","v":144},{"$f":"PLAVÁNÍ!H106","v":0},{"$f":"SHYBY!H106","v":0},{"$f":"ŠPLH!H106","v":225.87953246822397},{"$f":"ŠVIHADLO!H106","v":293.75},{"$f":"'Z MÍSTA'!H106","v":722},{"$f":"REPRE!E9","v":0},5503.9499371016618]
[null,"TOMÁŠ","Jakub","6.A",null,{"$f":"'60'!H107","v":722.69099698039224},{"$f":"'300'!H107","v":642.14664186671405},{"$f":"'1000'!H107","v":685.77158491494845},{"$f":"DÁLKA!H107","v":622.43999999999994},{"$f":"VÝŠKA!H107","v":616.92000000000007},{"$f":"MÍČEK!H107","v":306.25},{"$f":"KOULE!H107","v":491.66666666666663},{"$f":"OŠTĚP!H107","v":0},{"$f":"ČLUNEK!H107","v":739.9729270213877},{"$f":"LEHSED!H107","v":562.5},{"$f":"ODBÍJENÍ!H107","v":104},{"$f":"PLAVÁNÍ!H107","v":0},{"$f":"SHYBY!H107","v":300},{"$f":"ŠPLH!H107","v":236.41494868369281},{"$f":"ŠVIHADLO!H107","v":662.5},{"$f":"'Z MÍSTA'!H107","v":653.6},{"$f":"REPRE!E10","v":0},7346.8737661338027]
[null,"VÁCLAVÍK","Jan","6.A",null,{"$f":"'60'!H108","v":727.48697324110685},{"$f":"'300'!H108","v":643.99195357957456},{"$f":"'1000'!H108","v":648.22525390909357},{"$f":"DÁLKA!H108","v":576.49800000000005},{"$f":"VÝŠKA!H108","v":599.7600000000001},{"$f":"MÍČEK!H108","v":312.5},{"$f":"KOULE!H108","v":456.66666666666663},{"$f":"OŠTĚP!H108","v":0},{"$f":"ČLUNEK!H108","v":734.36607910747875},{"$f":"LEHSED!H108","v":425},{"$f":"ODBÍJENÍ!H108","v":88},{"$f":"PLAVÁNÍ!H108","v":0},{"$f":"SHYBY!H108","v":525},{"$f":"ŠPLH!H108","v":229.99592097333334},{"$f":"ŠVIHADLO!H108","v":631.25},{"$f":"'Z MÍSTA'!H108","v":691.6},{"$f":"REPRE!E11","v":0},7290.3408474772541]
[null,"VEČEŘA","David","6.A",null,{"$f":"'60'!H109","v":627.42546852892565},{"$f":"'300'!H109","v":407.94193983872151},{"$f":"'1000'!H109","v":552.47446195598923},{"$f":"DÁLKA!H109","v":499.43399999999997},{"$f":"VÝŠKA!H109","v":513.96},{"$f":"MÍČEK!H109","v":287.5},{"$f":"KOULE!H109","v":466.66666666666663},{"$f":"OŠTĚP!H109","v":0},{"$f":"ČLUNEK!H109","v":597.41138571753925},{"$f":"LEHSED!H109","v":437.5},{"$f":"ODBÍJENÍ!H109","v":56},{"$f":"PLAVÁNÍ!H109","v":0},{"$f":"SHYBY!H109","v":0},{"$f":"ŠPLH!H109","v":0},{"$f":"ŠVIHADLO!H109","v":231.25},{"$f":"'Z MÍSTA'!H109","v":566.19999999999993},{"$f":"REPRE!E12","v":0},5243.7639227078425]
[null,"VYBÍRAL","Radim","6.A",null,{"$f":"'60'!H110","v":807.42437644692734},{"$f":"'300'!H110","v":758.95657419260442},{"$f":"'1000'!H110","v":782.44942974613832},{"$f":"DÁLKA!H110","v":680.23799999999994},{"$f":"VÝŠKA!H110","v":662.68000000000006},{"$f":"MÍČEK!H110","v":375},{"$f":"KOULE!H110","v":516.11111111111109},{"$f":"OŠTĚP!H110","v":0},{"$f":"ČLUNEK!H110","v":751.30082509555814},{"$f":"LEHSED!H110","v":687.5},{"$f":"ODBÍJENÍ!H110","v":280},{"$f":"PLAVÁNÍ!H110","v":0},{"$f":"SHYBY!H110","v":525},{"$f":"ŠPLH!H110","v":542.07828667265699},{"$f":"ŠVIHADLO!H110","v":718.75},{"$f":"'Z MÍSTA'!H110","v":794.19999999999993},{"$f":"REPRE!E13","v":0},8881.6886032649963]
[null,"BERISHA","David","6.B",null,{"$f":"'60'!H111","v":573.0345767503693},{"$f":"'300'!H111","v":0},{"$f":"'1000'!H111","v":275.51163697367235},{"$f":"DÁLKA!H111","v":392.73},{"$f":"VÝŠKA!H111","v":388.12000000000006},{"$f":"MÍČEK!H111","v":218.75},{"$f":"KOULE!H111","v":286.11111111111109},{"$f":"OŠTĚP!H111","v":0},{"$f":"ČLUNEK!H111","v":689.02232050708415},{"$f":"LEHSED!H111","v":0},{"$f":"ODBÍJENÍ!H111","v":80},{"$f":"PLAVÁNÍ!H111","v":0},{"$f":"SHYBY!H111","v":0},{"$f":"ŠPLH!H111","v":0},{"$f":"ŠVIHADLO!H111","v":0},{"$f":"'Z MÍSTA'!H111","v":608},{"$f":"REPRE!E14","v":0},3511.279645342237]
[null,"EFENBERK","Šimon","6.B",null,{"$f":"'60'!H112","v":746.16783800407325},{"$f":"'300'!H112","v":526.74558703990067},{"$f":"'1000'!H112","v":515.11477931182981},{"$f":"DÁLKA!H112","v":530.55600000000004},{"$f":"VÝŠKA!H112","v":565.44000000000005},{"$f":"MÍČEK!H112","v":262.5},{"$f":"KOULE!H112","v":533.88888888888891},{"$f":"OŠTĚP!H112","v":0},{"$f":"ČLUNEK!H112","v":684.61516951947772},{"$f":"LEHSED!H112","v":500},{"$f":"ODBÍJENÍ!H112","v":80},{"$f":"PLAVÁNÍ!H112","v":459.4836600835207},{"$f":"SHYBY!H112","v":0},{"$f":"ŠPLH!H112","v":228.99762870402867},{"$f":"ŠVIHADLO!H112","v":525},{"$f":"'Z MÍSTA'!H112","v":653.6},{"$f":"REPRE!E15","v":0},6812.10955155172]
[null,"FEJKL","Antonín","6.B",null,{"$f":"'60'!H113","v":768.7687942194093},{"$f":"'300'!H113","v":744.16152189547142},{"$f":"'1000'!H113","v":716.33658685383728},{"$f":"DÁLKA!H113","v":666.9},{"$f":"VÝŠKA!H113","v":616.92000000000007},{"$f":"MÍČEK!H113","v":500},{"$f":"KOULE!H113","v":520.55555555555554},{"$f":"OŠTĚP!H113","v":0},{"$f":"ČLUNEK!H113","v":803.29738074834859},{"$f":"LEHSED!H113","v":612.5},{"$f":"ODBÍJENÍ!H113","v":280},{"$f":"PLAVÁNÍ!H113","v":401.93206786999644},{"$f":"SHYBY!H113","v":0},{"$f":"ŠPLH!H113","v":306.9141832875269},{"$f":"ŠVIHADLO!H113","v":825},{"$f":"'Z MÍSTA'!H113","v":779},{"$f":"REPRE!E16","v":125},8667.2860904301451]
[null,"GOTTSTEIN","Matouš","6.B",null,{"$f":"'60'!H114","v":819.21001922727271},{"$f":"'300'!H114","v":811.51645799891526},{"$f":"'1000'!H114","v":849.6285826129282},{"$f":"DÁLKA!H114","v":729.14400000000001},{"$f":"VÝŠKA!H114","v":685.56000000000006},{"$f":"MÍČEK!H114","v":450},{"$f":"KOULE!H114","v":525},{"$f":"OŠTĚP!H114","v":0},{"$f":"ČLUNEK!H114","v":801.2730515653584},{"$f":"LEHSED!H114","v":637.5},{"$f":"ODBÍJENÍ!H114","v":160},{"$f":"PLAVÁNÍ!H114","v":397.77059262957937},{"$f":"SHYBY!H114","v":150},{"$f":"ŠPLH!H114","v":437.77365615760903},{"$f":"ŠVIHADLO!H114","v":800},{"$f":"'Z MÍSTA'!H114","v":813.19999999999993},{"$f":"REPRE!E17","v":250},9317.5763601916624]
[null,"HÁK","Šimon","6.B",null,{"$f":"'60'!H115","v":0},{"$f":"'300'!H115","v":0},{"$f":"'1000'!H115","v":0},{"$f":"DÁLKA!H115","v":0},{"$f":"VÝŠKA!H115","v":0},{"$f":"MÍČEK!H115","v":0},{"$f":"KOULE!H115","v":0},{"$f":"OŠTĚP!H115","v":0},{"$f":"ČLUNEK!H115","v":0},{"$f":"LEHSED!H115","v":0},{"$f":"ODBÍJENÍ!H115","v":0},{"$f":"PLAVÁNÍ!H115","v":0},{"$f":"SHYBY!H115","v":0},{"$f":"ŠPLH!H115","v":0},{"$f":"ŠVIHADLO!H115","v":0},{"$f":"'Z MÍSTA'!H115","v":0},{"$f":"REPRE!E18","v":0},0]
[null,"POVAŽANEC","Lukáš","6.B",null,{"$f":"'60'!H116","v":728.69783853465344},{"$f":"'300'!H116","v":529.72500907356925},{"$f":"'1000'!H116","v":522.20330725964629},{"$f":"DÁLKA!H116","v":586.87199999999996},{"$f":"VÝŠKA!H116","v":582.60000000000014},{"$f":"MÍČEK!H116","v":412.5},{"$f":"KOULE!H116","v":561.11111111111109},{"$f":"OŠTĚP!H116","v":0},{"$f":"ČLUNEK!H116","v":668.06334459064328},{"$f":"LEHSED!H116","v":375},{"$f":"ODBÍJENÍ!H116","v":160},{"$f":"PLAVÁNÍ!H116","v":0},{"$f":"SHYBY!H116","v":0},{"$f":"ŠPLH!H116","v":0},{"$f":"ŠVIHADLO!H116","v":368.75},{"$f":"'Z MÍSTA'!H116","v":615.6},{"$f":"REPRE!E19","v":0},6111.1226105696242]
[null,"VANCL","Jakub","6.B",null,{"$f":"'60'!H117","v":674.00254005410295},{"$f":"'300'!H117","v":471.4432042333284},{"$f":"'1000'!H117","v":553.40202564929859},{"$f":"DÁLKA!H117","v":454.97399999999999},{"$f":"VÝŠKA!H117","v":502.5200000000001},{"$f":"MÍČEK!H117","v":256.25},{"$f":"KOULE!H117","v":470},{"$f":"OŠTĚP!H117","v":0},{"$f":"ČLUNEK!H117","v":551.14118183006553},{"$f":"LEHSED!H117","v":462.5},{"$f":"ODBÍJENÍ!H117","v":120},{"$f":"PLAVÁNÍ!H117","v":0},{"$f":"SHYBY!H117","v":75},{"$f":"ŠPLH!H117","v":0},{"$f":"ŠVIHADLO!H117","v":112.5},{"$f":"'Z MÍSTA'!H117","v":551},{"$f":"REPRE!E20","v":0},5254.7329517667958]
[null,"VANCL","Miroslav","6.B",null,{"$f":"'60'!H118","v":663.63258134513273},{"$f":"'300'!H118","v":273.27194214951419},{"$f":"'1000'!H118","v":383.05388808932219},{"$f":"DÁLKA!H118","v":549.822},{"$f":"VÝŠKA!H118","v":571.16000000000008},{"$f":"MÍČEK!H118","v":262.5},{"$f":"KOULE!H118","v":443.33333333333331},{"$f":"OŠTĚP!H118","v":0},{"$f":"ČLUNEK!H118","v":603.03986398763539},{"$f":"LEHSED!H118","v":337.5},{"$f":"ODBÍJENÍ!H118","v":40},{"$f":"PLAVÁNÍ!H118","v":0},{"$f":"SHYBY!H118","v":0},{"$f":"ŠPLH!H118","v":0},{"$f":"ŠVIHADLO!H118","v":425},{"$f":"'Z MÍSTA'!H118","v":722},{"$f":"REPRE!E21","v":0},5274.3136089049376]
[null,"VOTOČEK","Michal","6.B",null,{"$f":"'60'!H119","v":690.0489952875696},{"$f":"'300'!H119","v":489.98278707882389},{"$f":"'1000'!H119","v":521.61568575104002},{"$f":"DÁLKA!H119","v":480.16800000000001},{"$f":"VÝŠKA!H119","v":565.44000000000005},{"$f":"MÍČEK!H119","v":375},{"$f":"KOULE!H119","v":483.33333333333331},{"$f":"OŠTĚP!H119","v":0},{"$f":"ČLUNEK!H119","v":588.62901747967499},{"$f":"LEHSED!H119","v":462.5},{"$f":"ODBÍJENÍ!H119","v":64},{"$f":"PLAVÁNÍ!H119","v":0},{"$f":"SHYBY!H119","v":0},{"$f":"ŠPLH!H119","v":0},{"$f":"ŠVIHADLO!H119","v":312.5},{"$f":"'Z MÍSTA'!H119","v":611.79999999999995},{"$f":"REPRE!E22","v":0},5645.0178189304424]
[null,"BOUKAL","Jakub","7.A",null,{"$f":"'60'!H120","v":0},{"$f":"'300'!H120","v":0},{"$f":"'1000'!H120","v":0},{"$f":"DÁLKA!H120","v":0},{"$f":"VÝŠKA!H120","v":0},{"$f":"MÍČEK!H120","v":0},{"$f":"KOULE!H120","v":540},{"$f":"OŠTĚP!H120","v":0},{"$f":"ČLUNEK!H120","v":466.6982180009046},{"$f":"LEHSED!H120","v":0},{"$f":"ODBÍJENÍ!H120","v":0},{"$f":"PLAVÁNÍ!H120","v":0},{"$f":"SHYBY!H120","v":0},{"$f":"ŠPLH!H120","v":0},{"$f":"ŠVIHADLO!H120","v":306.25},{"$f":"'Z MÍSTA'!H120","v":554.79999999999995},{"$f":"REPRE!E23","v":0},1867.7482180009044]
[null,"DEMČUK","Ilja","7.A",null,{"$f":"'60'!H121","v":756.60540053830221},{"$f":"'300'!H121","v":698.00020580749629},{"$f":"'1000'!H121","v":685.33193804781047},{"$f":"DÁLKA!H121","v":655.04399999999998},{"$f":"VÝŠKA!H121","v":668.4},{"$f":"MÍČEK!H121","v":387.5},{"$f":"KOULE!H121","v":527.22222222222217},{"$f":"OŠTĚP!H121","v":0},{"$f":"ČLUNEK!H121","v":739.0358447408712},{"$f":"LEHSED!H121","v":475},{"$f":"ODBÍJENÍ!H121","v":48},{"$f":"PLAVÁNÍ!H121","v":0},{"$f":"SHYBY!H121","v":75},{"$f":"ŠPLH!H121","v":0},{"$f":"ŠVIHADLO!H121","v":300},{"$f":"'Z MÍSTA'!H121","v":691.6},{"$f":"REPRE!E24","v":0},6706.7396113567029]
[null,"FAISTAUER","Kryštof","7.A",null,{"$f":"'60'!H122","v":812.090907671541},{"$f":"'300'!H122","v":705.18703438822217},{"$f":"'1000'!H122","v":704.12414177675555},{"$f":"DÁLKA!H122","v":674.31},{"$f":"VÝŠKA!H122","v":725.6},{"$f":"MÍČEK!H122","v":562.5},{"$f":"KOULE!H122","v":506.11111111111109},{"$f":"OŠTĚP!H122","v":0},{"$f":"ČLUNEK!H122","v":803.29738074834859},{"$f":"LEHSED!H122","v":575},{"$f":"ODBÍJENÍ!H122","v":80},{"$f":"PLAVÁNÍ!H122","v":0},{"$f":"SHYBY!H122","v":0},{"$f":"ŠPLH!H122","v":454.44959722054062},{"$f":"ŠVIHADLO!H122","v":525},{"$f":"'Z MÍSTA'!H122","v":809.4},{"$f":"REPRE!E25","v":200},8137.0701729165185]
[null,"FRK","Matyáš","7.A",null,{"$f":"'60'!H123","v":622.40328716857607},{"$f":"'300'!H123","v":409.74768030820985},{"$f":"'1000'!H123","v":403.2782066952156},{"$f":"DÁLKA!H123","v":543.89400000000001},{"$f":"VÝŠKA!H123","v":0},{"$f":"MÍČEK!H123","v":325},{"$f":"KOULE!H123","v":479.44444444444446},{"$f":"OŠTĚP!H123","v":0},{"$f":"ČLUNEK!H123","v":626.70287569316349},{"$f":"LEHSED!H123","v":437.5},{"$f":"ODBÍJENÍ!H123","v":72},{"$f":"PLAVÁNÍ!H123","v":0},{"$f":"SHYBY!H123","v":0},{"$f":"ŠPLH!H123","v":0},{"$f":"ŠVIHADLO!H123","v":0},{"$f":"'Z MÍSTA'!H123","v":646},{"$f":"REPRE!E26","v":0},4565.9704943096094]
[null,"HUBÁLOVSKÝ","Marek","7.A",null,{"$f":"'60'!H124","v":686.8716023247232},{"$f":"'300'!H124","v":703.28578714935952},{"$f":"'1000'!H124","v":623.95605029394972},{"$f":"DÁLKA!H124","v":594.28200000000004},{"$f":"VÝŠKA!H124","v":639.80000000000007},{"$f":"MÍČEK!H124","v":425},{"$f":"KOULE!H124","v":451.11111111111109},{"$f":"OŠTĚP!H124","v":0},{"$f":"ČLUNEK!H124","v":728.79635225190339},{"$f":"LEHSED!H124","v":562.5},{"$f":"ODBÍJENÍ!H124","v":152},{"$f":"PLAVÁNÍ!H124","v":0},{"$f":"SHYBY!H124","v":0},{"$f":"ŠPLH!H124","v":225.87953246822397},{"$f":"ŠVIHADLO!H124","v":418.75},{"$f":"'Z MÍSTA'!H124","v":725.8},{"$f":"REPRE!E27","v":0},6938.0324355992716]
[null,"MAŘAS","Dominik","7.A",null,{"$f":"'60'!H125","v":0},{"$f":"'300'!H125","v":358.78501960937149},{"$f":"'1000'!H125","v":404.66269458086157},{"$f":"DÁLKA!H125","v":499.43399999999997},{"$f":"VÝŠKA!H125","v":611.20000000000005},{"$f":"MÍČEK!H125","v":350},{"$f":"KOULE!H125","v":455.55555555555554},{"$f":"OŠTĚP!H125","v":0},{"$f":"ČLUNEK!H125","v":535.13444948909807},{"$f":"LEHSED!H125","v":0},{"$f":"ODBÍJENÍ!H125","v":48},{"$f":"PLAVÁNÍ!H125","v":0},{"$f":"SHYBY!H125","v":75},{"$f":"ŠPLH!H125","v":0},{"$f":"ŠVIHADLO!H125","v":0},{"$f":"'Z MÍSTA'!H125","v":771.4},{"$f":"REPRE!E28","v":0},4109.171719234887]
[null,"MAŤÁTKO","Jakub","7.A",null,{"$f":"'60'!H126","v":0},{"$f":"'300'!H126","v":296.61681961231182},{"$f":"'1000'!H126","v":0},{"$f":"DÁLKA!H126","v":0},{"$f":"VÝŠKA!H126","v":611.20000000000005},{"$f":"MÍČEK!H126","v":312.5},{"$f":"KOULE!H126","v":0},{"$f":"OŠTĚP!H126","v":0},{"$f":"ČLUNEK!H126","v":511.15952690361974},{"$f":"LEHSED!H126","v":0},{"$f":"ODBÍJENÍ!H126","v":0},{"$f":"PLAVÁNÍ!H126","v":0},{"$f":"SHYBY!H126","v":0},{"$f":"ŠPLH!H126","v":0},{"$f":"ŠVIHADLO!H126","v":0},{"$f":"'Z MÍSTA'!H126","v":532},{"$f":"REPRE!E29","v":0},2263.4763465159317]
[null,"MERY","Luboš","7.A",null,{"$f":"'60'!H127","v":681.65339755027424},{"$f":"'300'!H127","v":496.88073669694438},{"$f":"'1000'!H127","v":595.92127985832326},{"$f":"DÁLKA!H127","v":588.35400000000004},{"$f":"VÝŠKA!H127","v":0},{"$f":"MÍČEK!H127","v":262.5},{"$f":"KOULE!H127","v":438.88888888888886},{"$f":"OŠTĚP!H127","v":0},{"$f":"ČLUNEK!H127","v":677.60878282772387},{"$f":"LEHSED!H127","v":450},{"$f":"ODBÍJENÍ!H127","v":48},{"$f":"PLAVÁNÍ!H127","v":0},{"$f":"SHYBY!H127","v":0},{"$f":"ŠPLH!H127","v":0},{"$f":"ŠVIHADLO!H127","v":218.75},{"$f":"'Z MÍSTA'!H127","v":608},{"$f":"REPRE!E30","v":0},5066.5570858221545]
[null,"NOVOTNÝ","Matěj","7.A",null,{"$f":"'60'!H128","v":679.59272943533699},{"$f":"'300'!H128","v":464.86413405073347},{"$f":"'1000'!H128","v":440.31194222575442},{"$f":"DÁLKA!H128","v":542.41200000000003},{"$f":"VÝŠKA!H128","v":0},{"$f":"MÍČEK!H128","v":318.75},{"$f":"KOULE!H128","v":493.33333333333331},{"$f":"OŠTĚP!H128","v":0},{"$f":"ČLUNEK!H128","v":643.36504921314895},{"$f":"LEHSED!H128","v":412.5},{"$f":"ODBÍJENÍ!H128","v":88},{"$f":"PLAVÁNÍ!H128","v":0},{"$f":"SHYBY!H128","v":0},{"$f":"ŠPLH!H128","v":0},{"$f":"ŠVIHADLO!H128","v":431.25},{"$f":"'Z MÍSTA'!H128","v":585.19999999999993},{"$f":"REPRE!E31","v":0},5099.5791882583071]
[null,"ŘEHOŘEK","Vojtěch","7.A",null,{"$f":"'60'!H129","v":709.31238439117942},{"$f":"'300'!H129","v":529.205314506592},{"$f":"'1000'!H129","v":574.13063389548938},{"$f":"DÁLKA!H129","v":631.33199999999999},{"$f":"VÝŠKA!H129","v":611.20000000000005},{"$f":"MÍČEK!H129","v":560},{"$f":"KOULE!H129","v":527.77777777777771},{"$f":"OŠTĚP!H129","v":0},{"$f":"ČLUNEK!H129","v":679.35523936763025},{"$f":"LEHSED!H129","v":412.5},{"$f":"ODBÍJENÍ!H129","v":88},{"$f":"PLAVÁNÍ!H129","v":0},{"$f":"SHYBY!H129","v":0},{"$f":"ŠPLH!H129","v":0},{"$f":"ŠVIHADLO!H129","v":593.75},{"$f":"'Z MÍSTA'!H129","v":676.4},{"$f":"REPRE!E32","v":200},6792.9633499386682]
[null,"ŠÍR","Matyáš","7.A",null,{"$f":"'60'!H130","v":687.92681785582261},{"$f":"'300'!H130","v":0},{"$f":"'1000'!H130","v":613.88794398423647},{"$f":"DÁLKA!H130","v":545.37599999999998},{"$f":"VÝŠKA!H130","v":542.56000000000006},{"$f":"MÍČEK!H130","v":312.5},{"$f":"KOULE!H130","v":373.33333333333331},{"$f":"OŠTĚP!H130","v":0},{"$f":"ČLUNEK!H130","v":577.55822561868047},{"$f":"LEHSED!H130","v":437.5},{"$f":"ODBÍJENÍ!H130","v":80},{"$f":"PLAVÁNÍ!H130","v":0},{"$f":"SHYBY!H130","v":0},{"$f":"ŠPLH!H130","v":0},{"$f":"ŠVIHADLO!H130","v":412.5},{"$f":"'Z MÍSTA'!H130","v":535.79999999999995},{"$f":"REPRE!E33","v":0},5118.9423207920727]
[null,"TORÁČ","Tomáš","7.A",null,{"$f":"'60'!H131","v":0},{"$f":"'300'!H131","v":119.90466052396727},{"$f":"'1000'!H131","v":334.23479082554792},{"$f":"DÁLKA!H131","v":383.83800000000002},{"$f":"VÝŠKA!H131","v":496.80000000000007},{"$f":"MÍČEK!H131","v":218.75},{"$f":"KOULE!H131","v":418.88888888888886},{"$f":"OŠTĚP!H131","v":0},{"$f":"ČLUNEK!H131","v":342.70749858927854},{"$f":"LEHSED!H131","v":375},{"$f":"ODBÍJENÍ!H131","v":48},{"$f":"PLAVÁNÍ!H131","v":0},{"$f":"SHYBY!H131","v":0},{"$f":"ŠPLH!H131","v":0},{"$f":"ŠVIHADLO!H131","v":175},{"$f":"'Z MÍSTA'!H131","v":342},{"$f":"REPRE!E34","v":0},3255.1238388276824]
[null,"ULLMAN","Šimon","7.A",null,{"$f":"'60'!H132","v":854.45443546539377},{"$f":"'300'!H132","v":801.59772501836233},{"$f":"'1000'!H132","v":681.21048828552148},{"$f":"DÁLKA!H132","v":626.88599999999997},{"$f":"VÝŠKA!H132","v":668.4},{"$f":"MÍČEK!H132","v":0},{"$f":"KOULE!H132","v":460.55555555555554},{"$f":"OŠTĚP!H132","v":0},{"$f":"ČLUNEK!H132","v":801.2730515653584},{"$f":"LEHSED!H132","v":575},{"$f":"ODBÍJENÍ!H132","v":72},{"$f":"PLAVÁNÍ!H132","v":0},{"$f":"SHYBY!H132","v":600},{"$f":"ŠPLH!H132","v":483.1202422290865},{"$f":"ŠVIHADLO!H132","v":306.25},{"$f":"'Z MÍSTA'!H132","v":874},{"$f":"REPRE!E35","v":0},7804.7474981192781]
[null,"VÁCLAVÍK","Ondřej","7.A",null,{"$f":"'60'!H133","v":793.05122201312906},{"$f":"'300'!H133","v":396.2861287739097},{"$f":"'1000'!H133","v":697.03512204786318},{"$f":"DÁLKA!H133","v":695.05799999999999},{"$f":"VÝŠKA!H133","v":599.7600000000001},{"$f":"MÍČEK!H133","v":525},{"$f":"KOULE!H133","v":0},{"$f":"OŠTĚP!H133","v":0},{"$f":"ČLUNEK!H133","v":810.42346895015305},{"$f":"LEHSED!H133","v":525},{"$f":"ODBÍJENÍ!H133","v":128},{"$f":"PLAVÁNÍ!H133","v":0},{"$f":"SHYBY!H133","v":825},{"$f":"ŠPLH!H133","v":454.44959722054062},{"$f":"ŠVIHADLO!H133","v":518.75},{"$f":"'Z MÍSTA'!H133","v":767.59999999999991},{"$f":"REPRE!E36","v":25},{"$f":"SUM(F153:V153)","v":7760.4135390055962}]
[null,"AUERSWALD","Daniel","7.B",null,{"$f":"'60'!H134","v":759.9384151092612},{"$f":"'300'!H134","v":670.24815200233229},{"$f":"'1000'!H134","v":622.32291047793683},{"$f":"DÁLKA!H134","v":674.31},{"$f":"VÝŠKA!H134","v":599.7600000000001},{"$f":"MÍČEK!H134","v":362.5},{"$f":"KOULE!H134","v":0},{"$f":"OŠTĚP!H134","v":0},{"$f":"ČLUNEK!H134","v":0},{"$f":"LEHSED!H134","v":500},{"$f":"ODBÍJENÍ!H134","v":120},{"$f":"PLAVÁNÍ!H134","v":0},{"$f":"SHYBY!H134","v":225},{"$f":"ŠPLH!H134","v":362.25159339137161},{"$f":"ŠVIHADLO!H134","v":531.25},{"$f":"'Z MÍSTA'!H134","v":794.19999999999993},{"$f":"REPRE!E37","v":25},6246.7810709809019]
[null,"BODLÁK","Vladimír","7.B",null,{"$f":"'60'!H135","v":0},{"$f":"'300'!H135","v":0},{"$f":"'1000'!H135","v":0},{"$f":"DÁLKA!H135","v":0},{"$f":"VÝŠKA!H135","v":0},{"$f":"MÍČEK!H135","v":0},{"$f":"KOULE!H135","v":0},{"$f":"OŠTĚP!H135","v":0},{"$f":"ČLUNEK!H135","v":0},{"$f":"LEHSED!H135","v":0},{"$f":"ODBÍJENÍ!H135","v":0},{"$f":"PLAVÁNÍ!H135","v":0},{"$f":"SHYBY!H135","v":0},{"$f":"ŠPLH!H135","v":0},{"$f":"ŠVIHADLO!H135","v":0},{"$f":"'Z MÍSTA'!H135","v":0},{"$f":"REPRE!E38","v":0},0]
[null,"BUDÍN","Martin","7.B",null,{"$f":"'60'!H136","v":755.94293373319545},{"$f":"'300'!H136","v":664.77586758267807},{"$f":"'1000'!H136","v":771.35783539909801},{"$f":"DÁLKA!H136","v":604.65599999999995},{"$f":"VÝŠKA!H136","v":611.20000000000005},{"$f":"MÍČEK!H136","v":462.5},{"$f":"KOULE!H136","v":459.44444444444446},{"$f":"OŠTĚP!H136","v":0},{"$f":"ČLUNEK!H136","v":770.53288217928082},{"$f":"LEHSED!H136","v":500},{"$f":"ODBÍJENÍ!H136","v":72},{"$f":"PLAVÁNÍ!H136","v":0},{"$f":"SHYBY!H136","v":375},{"$f":"ŠPLH!H136","v":360.17289247563423},{"$f":"ŠVIHADLO!H136","v":825},{"$f":"'Z MÍSTA'!H136","v":760},{"$f":"REPRE!E39","v":0},7992.5828558143312]
[null,"DVOŘÁK","Dominik","7.B",null,{"$f":"'60'!H137","v":676.02245875113124},{"$f":"'300'!H137","v":573.65542977491782},{"$f":"'1000'!H137","v":0},{"$f":"DÁLKA!H137","v":542.41200000000003},{"$f":"VÝŠKA!H137","v":611.20000000000005},{"$f":"MÍČEK!H137","v":387.5},{"$f":"KOULE!H137","v":513.33333333333337},{"$f":"OŠTĚP!H137","v":0},{"$f":"ČLUNEK!H137","v":678.48158582502776},{"$f":"LEHSED!H137","v":525},{"$f":"ODBÍJENÍ!H137","v":72},{"$f":"PLAVÁNÍ!H137","v":0},{"$f":"SHYBY!H137","v":0},{"$f":"ŠPLH!H137","v":326.83243237451325},{"$f":"ŠVIHADLO!H137","v":443.75},{"$f":"'Z MÍSTA'!H137","v":676.4},{"$f":"REPRE!E40","v":0},6026.5872400589233]
[null,"FIŠERA","Vojtěch","7.B",null,{"$f":"'60'!H138","v":720.32111027343751},{"$f":"'300'!H138","v":0},{"$f":"'1000'!H138","v":617.16300794397955},{"$f":"DÁLKA!H138","v":558.71399999999994},{"$f":"VÝŠKA!H138","v":571.16000000000008},{"$f":"MÍČEK!H138","v":237.5},{"$f":"KOULE!H138","v":472.77777777777777},{"$f":"OŠTĚP!H138","v":0},{"$f":"ČLUNEK!H138","v":693.45153679365978},{"$f":"LEHSED!H138","v":550},{"$f":"ODBÍJENÍ!H138","v":72},{"$f":"PLAVÁNÍ!H138","v":0},{"$f":"SHYBY!H138","v":0},{"$f":"ŠPLH!H138","v":225.87953246822397},{"$f":"ŠVIHADLO!H138","v":250},{"$f":"'Z MÍSTA'!H138","v":634.6},{"$f":"REPRE!E41","v":0},5603.5669652570787]
[null,"JINDŘIŠEK","Vít","7.B",null,{"$f":"'60'!H139","v":867.00099140776706},{"$f":"'300'!H139","v":924.27203840771881},{"$f":"'1000'!H139","v":857.26432183008762},{"$f":"DÁLKA!H139","v":745.44600000000003},{"$f":"VÝŠKA!H139","v":759.92000000000019},{"$f":"MÍČEK!H139","v":661.25},{"$f":"KOULE!H139","v":606.11111111111109},{"$f":"OŠTĚP!H139","v":0},{"$f":"ČLUNEK!H139","v":841.71649201232185},{"$f":"LEHSED!H139","v":625},{"$f":"ODBÍJENÍ!H139","v":344},{"$f":"PLAVÁNÍ!H139","v":0},{"$f":"SHYBY!H139","v":1125},{"$f":"ŠPLH!H139","v":547.1091217041004},{"$f":"ŠVIHADLO!H139","v":712.5},{"$f":"'Z MÍSTA'!H139","v":870.19999999999993},{"$f":"REPRE!E42","v":250},10736.790076473109]
[null,"JIROUŠ","Matouš","7.B",null,{"$f":"'60'!H140","v":763.98410148691096},{"$f":"'300'!H140","v":667.23959004337871},{"$f":"'1000'!H140","v":0},{"$f":"DÁLKA!H140","v":675.79200000000003},{"$f":"VÝŠKA!H140","v":599.7600000000001},{"$f":"MÍČEK!H140","v":368.75},{"$f":"KOULE!H140","v":494.44444444444446},{"$f":"OŠTĚP!H140","v":0},{"$f":"ČLUNEK!H140","v":705.9736758201509},{"$f":"LEHSED!H140","v":562.5},{"$f":"ODBÍJENÍ!H140","v":112},{"$f":"PLAVÁNÍ!H140","v":0},{"$f":"SHYBY!H140","v":150},{"$f":"ŠPLH!H140","v":316.77381349530651},{"$f":"ŠVIHADLO!H140","v":643.75},{"$f":"'Z MÍSTA'!H140","v":763.8},{"$f":"REPRE!E43","v":75},6899.767625290192]
[null,"KERLE","Marek","7.B",null,{"$f":"'60'!H141","v":816.02807343891413},{"$f":"'300'!H141","v":809.42574514552257},{"$f":"'1000'!H141","v":718.23239807324398},{"$f":"DÁLKA!H141","v":752.85599999999999},{"$f":"VÝŠKA!H141","v":771.36000000000013},{"$f":"MÍČEK!H141","v":575},{"$f":"KOULE!H141","v":569.44444444444446},{"$f":"OŠTĚP!H141","v":0},{"$f":"ČLUNEK!H141","v":823.83065585156999},{"$f":"LEHSED!H141","v":700},{"$f":"ODBÍJENÍ!H141","v":344},{"$f":"PLAVÁNÍ!H141","v":0},{"$f":"SHYBY!H141","v":900},{"$f":"ŠPLH!H141","v":611.9556029412953},{"$f":"ŠVIHADLO!H141","v":650},{"$f":"'Z MÍSTA'!H141","v":763.8},{"$f":"REPRE!E44","v":175},9980.9329198949908]
[null,"LUKEŠ","Jakub","7.B",null,{"$f":"'60'!H142","v":824.8485875372279},{"$f":"'300'!H142","v":836.25802158003853},{"$f":"'1000'!H142","v":802.89545176915465},{"$f":"DÁLKA!H142","v":738.03599999999994},{"$f":"VÝŠKA!H142","v":817.12000000000012},{"$f":"MÍČEK!H142","v":300},{"$f":"KOULE!H142","v":441.66666666666663},{"$f":"OŠTĚP!H142","v":0},{"$f":"ČLUNEK!H142","v":769.56047592760183},{"$f":"LEHSED!H142","v":500},{"$f":"ODBÍJENÍ!H142","v":152},{"$f":"PLAVÁNÍ!H142","v":0},{"$f":"SHYBY!H142","v":525},{"$f":"ŠPLH!H142","v":446.84088487841058},{"$f":"ŠVIHADLO!H142","v":531.25},{"$f":"'Z MÍSTA'!H142","v":915.8},{"$f":"REPRE!E45","v":125},8726.2760883591]
[null,"OTT","Matyáš","7.B",null,{"$f":"'60'!H143","v":828.11141187571923},{"$f":"'300'!H143","v":795.68546445676679},{"$f":"'1000'!H143","v":833.74055541683822},{"$f":"DÁLKA!H143","v":692.09399999999994},{"$f":"VÝŠKA!H143","v":697},{"$f":"MÍČEK!H143","v":437.5},{"$f":"KOULE!H143","v":506.66666666666663},{"$f":"OŠTĚP!H143","v":0},{"$f":"ČLUNEK!H143","v":790.23018122181224},{"$f":"LEHSED!H143","v":500},{"$f":"ODBÍJENÍ!H143","v":192},{"$f":"PLAVÁNÍ!H143","v":570.33025257363511},{"$f":"SHYBY!H143","v":675},{"$f":"ŠPLH!H143","v":357.12073479653333},{"$f":"ŠVIHADLO!H143","v":781.25},{"$f":"'Z MÍSTA'!H143","v":725.8},{"$f":"REPRE!E46","v":175},9557.5292670079725]
[null,"POKORNÝ","Matyáš","7.B",null,{"$f":"'60'!H144","v":837.24104536130528},{"$f":"'300'!H144","v":909.22179559537085},{"$f":"'1000'!H144","v":873.85027455273746},{"$f":"DÁLKA!H144","v":770.64},{"$f":"VÝŠKA!H144","v":754.2},{"$f":"MÍČEK!H144","v":562.5},{"$f":"KOULE!H144","v":472.77777777777777},{"$f":"OŠTĚP!H144","v":0},{"$f":"ČLUNEK!H144","v":896.85893194820846},{"$f":"LEHSED!H144","v":912.5},{"$f":"ODBÍJENÍ!H144","v":192},{"$f":"PLAVÁNÍ!H144","v":0},{"$f":"SHYBY!H144","v":1050},{"$f":"ŠPLH!H144","v":459.0421768869972},{"$f":"ŠVIHADLO!H144","v":806.25},{"$f":"'Z MÍSTA'!H144","v":843.59999999999991},{"$f":"REPRE!E47","v":250},10590.682002122396]
[null,"POLÁČEK","Matyáš","7.B",null,{"$f":"'60'!H145","v":679.07990620564158},{"$f":"'300'!H145","v":499.77024627011417},{"$f":"'1000'!H145","v":0},{"$f":"DÁLKA!H145","v":554.26800000000003},{"$f":"VÝŠKA!H145","v":542.56000000000006},{"$f":"MÍČEK!H145","v":462.5},{"$f":"KOULE!H145","v":461.11111111111109},{"$f":"OŠTĚP!H145","v":0},{"$f":"ČLUNEK!H145","v":0},{"$f":"LEHSED!H145","v":487.5},{"$f":"ODBÍJENÍ!H145","v":88},{"$f":"PLAVÁNÍ!H145","v":0},{"$f":"SHYBY!H145","v":0},{"$f":"ŠPLH!H145","v":0},{"$f":"ŠVIHADLO!H145","v":368.75},{"$f":"'Z MÍSTA'!H145","v":627},{"$f":"REPRE!E48","v":25},4795.5392635868666]
[null,"SOUKUP","Patrik","7.B",null,{"$f":"'60'!H146","v":0},{"$f":"'300'!H146","v":0},{"$f":"'1000'!H146","v":0},{"$f":"DÁLKA!H146","v":0},{"$f":"VÝŠKA!H146","v":0},{"$f":"MÍČEK!H146","v":0},{"$f":"KOULE!H146","v":0},{"$f":"OŠTĚP!H146","v":0},{"$f":"ČLUNEK!H146","v":0},{"$f":"LEHSED!H146","v":0},{"$f":"ODBÍJENÍ!H146","v":0},{"$f":"PLAVÁNÍ!H146","v":0},{"$f":"SHYBY!H146","v":0},{"$f":"ŠPLH!H146","v":0},{"$f":"ŠVIHADLO!H146","v":0},{"$f":"'Z MÍSTA'!H146","v":0},{"$f":"REPRE!E49","v":0},0]
[null,"VALENTA","Jakub","7.B",null,{"$f":"'60'!H147","v":742.97549839918952},{"$f":"'300'!H147","v":787.60288039787679},{"$f":"'1000'!H147","v":787.42601997795407},{"$f":"DÁLKA!H147","v":0},{"$f":"VÝŠKA!H147","v":725.6},{"$f":"MÍČEK!H147","v":350},{"$f":"KOULE!H147","v":466.66666666666663},{"$f":"OŠTĚP!H147","v":0},{"$f":"ČLUNEK!H147","v":820.71635504954691},{"$f":"LEHSED!H147","v":750},{"$f":"ODBÍJENÍ!H147","v":192},{"$f":"PLAVÁNÍ!H147","v":0},{"$f":"SHYBY!H147","v":0},{"$f":"ŠPLH!H147","v":496.38055868893889},{"$f":"ŠVIHADLO!H147","v":556.25},{"$f":"'Z MÍSTA'!H147","v":737.19999999999993},{"$f":"REPRE!E50","v":250},7662.8179791801731]
[null,"VRBATA","Dominik","7.B",null,{"$f":"'60'!H148","v":751.34375453798771},{"$f":"'300'!H148","v":634.67185712584262},{"$f":"'1000'!H148","v":693.22081080202724},{"$f":"DÁLKA!H148","v":666.9},{"$f":"VÝŠKA!H148","v":599.7600000000001},{"$f":"MÍČEK!H148","v":462.5},{"$f":"KOULE!H148","v":522.77777777777771},{"$f":"OŠTĚP!H148","v":0},{"$f":"ČLUNEK!H148","v":713.21105608965195},{"$f":"LEHSED!H148","v":525},{"$f":"ODBÍJENÍ!H148","v":128},{"$f":"PLAVÁNÍ!H148","v":580.40495762044407},{"$f":"SHYBY!H148","v":675},{"$f":"ŠPLH!H148","v":617.27764022622023},{"$f":"ŠVIHADLO!H148","v":662.5},{"$f":"'Z MÍSTA'!H148","v":729.59999999999991},{"$f":"REPRE!E51","v":125},9087.167854179952]
[null,"FEJKL","Jan","8.A",null,{"$f":"'60'!H149","v":897.34446580808071},{"$f":"'300'!H149","v":887.32550316149741},{"$f":"'1000'!H149","v":802.81998281439303},{"$f":"DÁLKA!H149","v":798.798},{"$f":"VÝŠKA!H149","v":811.4},{"$f":"MÍČEK!H149","v":762.5},{"$f":"KOULE!H149","v":587.77777777777771},{"$f":"OŠTĚP!H149","v":0},{"$f":"ČLUNEK!H149","v":885.50784887100394},{"$f":"LEHSED!H149","v":637.5},{"$f":"ODBÍJENÍ!H149","v":416},{"$f":"PLAVÁNÍ!H149","v":0},{"$f":"SHYBY!H149","v":0},{"$f":"ŠPLH!H149","v":632.47048883593777},{"$f":"ŠVIHADLO!H149","v":631.25},{"$f":"'Z MÍSTA'!H149","v":881.59999999999991},{"$f":"REPRE!E52","v":125},9757.2940672686909]
[null,"KOTYK","Tadeáš","8.A",null,{"$f":"'60'!H150","v":693.26195608208957},{"$f":"'300'!H150","v":463.20924999121826},{"$f":"'1000'!H150","v":346.58578208439383},{"$f":"DÁLKA!H150","v":536.48400000000004},{"$f":"VÝŠKA!H150","v":525.40000000000009},{"$f":"MÍČEK!H150","v":325},{"$f":"KOULE!H150","v":554.44444444444446},{"$f":"OŠTĚP!H150","v":0},{"$f":"ČLUNEK!H150","v":692.56391190921556},{"$f":"LEHSED!H150","v":412.5},{"$f":"ODBÍJENÍ!H150","v":256},{"$f":"PLAVÁNÍ!H150","v":0},{"$f":"SHYBY!H150","v":0},{"$f":"ŠPLH!H150","v":0},{"$f":"ŠVIHADLO!H150","v":456.25},{"$f":"'Z MÍSTA'!H150","v":687.8},{"$f":"REPRE!E53","v":0},5949.4993445113614]
[null,"KRAUSE","Tadeáš","8.A",null,{"$f":"'60'!H151","v":828.11141187571923},{"$f":"'300'!H151","v":848.79637951461837},{"$f":"'1000'!H151","v":822.06202877173905},{"$f":"DÁLKA!H151","v":788.42399999999998},{"$f":"VÝŠKA!H151","v":799.96},{"$f":"MÍČEK!H151","v":468.75},{"$f":"KOULE!H151","v":573.33333333333337},{"$f":"OŠTĚP!H151","v":0},{"$f":"ČLUNEK!H151","v":874.323480596134},{"$f":"LEHSED!H151","v":637.5},{"$f":"ODBÍJENÍ!H151","v":256},{"$f":"PLAVÁNÍ!H151","v":0},{"$f":"SHYBY!H151","v":0},{"$f":"ŠPLH!H151","v":519.37197045935568},{"$f":"ŠVIHADLO!H151","v":1068.75},{"$f":"'Z MÍSTA'!H151","v":839.8},{"$f":"REPRE!E54","v":125},9450.1826045508988]
[null,"LEŠÁK","Martin","8.A",null,{"$f":"'60'!H152","v":712.17034385356453},{"$f":"'300'!H152","v":619.27324696750145},{"$f":"'1000'!H152","v":578.21913478435124},{"$f":"DÁLKA!H152","v":660.97199999999998},{"$f":"VÝŠKA!H152","v":656.96},{"$f":"MÍČEK!H152","v":375},{"$f":"KOULE!H152","v":550.55555555555554},{"$f":"OŠTĚP!H152","v":0},{"$f":"ČLUNEK!H152","v":692.56391190921556},{"$f":"LEHSED!H152","v":362.5},{"$f":"ODBÍJENÍ!H152","v":248},{"$f":"PLAVÁNÍ!H152","v":0},{"$f":"SHYBY!H152","v":0},{"$f":"ŠPLH!H152","v":0},{"$f":"ŠVIHADLO!H152","v":350},{"$f":"'Z MÍSTA'!H152","v":646},{"$f":"REPRE!E55","v":0},6452.2141930701882]
[null,"NECHANICKÝ","David","8.A",null,{"$f":"'60'!H153","v":900.31535731305451},{"$f":"'300'!H153","v":833.83143502634607},{"$f":"'1000'!H153","v":721.41457611440671},{"$f":"DÁLKA!H153","v":794.35199999999998},{"$f":"VÝŠKA!H153","v":685.56000000000006},{"$f":"MÍČEK!H153","v":537.5},{"$f":"KOULE!H153","v":627.77777777777771},{"$f":"OŠTĚP!H153","v":0},{"$f":"ČLUNEK!H153","v":882.13528896690059},{"$f":"LEHSED!H153","v":475},{"$f":"ODBÍJENÍ!H153","v":416},{"$f":"PLAVÁNÍ!H153","v":0},{"$f":"SHYBY!H153","v":300},{"$f":"ŠPLH!H153","v":446.84088487841058},{"$f":"ŠVIHADLO!H153","v":668.75},{"$f":"'Z MÍSTA'!H153","v":950},{"$f":"REPRE!E56","v":175},9414.4773200768959]
[null,"ŘEHOŘEK","Jan","8.A",null,{"$f":"'60'!H154","v":830.57831053117786},{"$f":"'300'!H154","v":738.23627060210538},{"$f":"'1000'!H154","v":670.71361045793958},{"$f":"DÁLKA!H154","v":721.73400000000004},{"$f":"VÝŠKA!H154","v":777.08},{"$f":"MÍČEK!H154","v":487.5},{"$f":"KOULE!H154","v":494.44444444444446},{"$f":"OŠTĚP!H154","v":0},{"$f":"ČLUNEK!H154","v":832.19648428322876},{"$f":"LEHSED!H154","v":500},{"$f":"ODBÍJENÍ!H154","v":746},{"$f":"PLAVÁNÍ!H154","v":0},{"$f":"SHYBY!H154","v":0},{"$f":"ŠPLH!H154","v":326.32841547449596},{"$f":"ŠVIHADLO!H154","v":837.5},{"$f":"'Z MÍSTA'!H154","v":798},{"$f":"REPRE!E57","v":125},8885.3115357933912]
[null,"SOUKUP","Ondřej","8.A",null,{"$f":"'60'!H155","v":759.26904045738058},{"$f":"'300'!H155","v":0},{"$f":"'1000'!H155","v":0},{"$f":"DÁLKA!H155","v":572.05200000000002},{"$f":"VÝŠKA!H155","v":571.16000000000008},{"$f":"MÍČEK!H155","v":0},{"$f":"KOULE!H155","v":597.22222222222217},{"$f":"OŠTĚP!H155","v":0},{"$f":"ČLUNEK!H155","v":715.02993808795873},{"$f":"LEHSED!H155","v":587.5},{"$f":"ODBÍJENÍ!H155","v":717.2},{"$f":"PLAVÁNÍ!H155","v":0},{"$f":"SHYBY!H155","v":0},{"$f":"ŠPLH!H155","v":225.87953246822397},{"$f":"ŠVIHADLO!H155","v":950},{"$f":"'Z MÍSTA'!H155","v":646},{"$f":"REPRE!E58","v":75},6416.3127332357853]
[null,"SPANILÝ","David","8.A",null,{"$f":"'60'!H156","v":850.9463383847982},{"$f":"'300'!H156","v":863.64999196086478},{"$f":"'1000'!H156","v":784.31723483064513},{"$f":"DÁLKA!H156","v":791.38800000000003},{"$f":"VÝŠKA!H156","v":685.56000000000006},{"$f":"MÍČEK!H156","v":737.5},{"$f":"KOULE!H156","v":605.55555555555554},{"$f":"OŠTĚP!H156","v":0},{"$f":"ČLUNEK!H156","v":843.84797111685339},{"$f":"LEHSED!H156","v":550},{"$f":"ODBÍJENÍ!H156","v":746},{"$f":"PLAVÁNÍ!H156","v":0},{"$f":"SHYBY!H156","v":300},{"$f":"ŠPLH!H156","v":671.97939237504806},{"$f":"ŠVIHADLO!H156","v":900},{"$f":"'Z MÍSTA'!H156","v":881.59999999999991},{"$f":"REPRE!E59","v":125},10337.344484223766]
[null,"ČADAN","Benjamín","8.B",null,{"$f":"'60'!H157","v":712.17034385356453},{"$f":"'300'!H157","v":0},{"$f":"'1000'!H157","v":0},{"$f":"DÁLKA!H157","v":622.43999999999994},{"$f":"VÝŠKA!H157","v":639.80000000000007},{"$f":"MÍČEK!H157","v":0},{"$f":"KOULE!H157","v":522.22222222222217},{"$f":"OŠTĚP!H157","v":0},{"$f":"ČLUNEK!H157","v":0},{"$f":"LEHSED!H157","v":0},{"$f":"ODBÍJENÍ!H157","v":72},{"$f":"PLAVÁNÍ!H157","v":0},{"$f":"SHYBY!H157","v":0},{"$f":"ŠPLH!H157","v":0},{"$f":"ŠVIHADLO!H157","v":0},{"$f":"'Z MÍSTA'!H157","v":634.6},{"$f":"REPRE!E60","v":0},3203.2325660757865]
[null,"ČERNÝ","Michal","8.B",null,{"$f":"'60'!H158","v":757.26924033160617},{"$f":"'300'!H158","v":604.98943015790542},{"$f":"'1000'!H158","v":574.90123449408031},{"$f":"DÁLKA!H158","v":617.99400000000003},{"$f":"VÝŠKA!H158","v":599.7600000000001},{"$f":"MÍČEK!H158","v":556.25},{"$f":"KOULE!H158","v":635.55555555555554},{"$f":"OŠTĚP!H158","v":0},{"$f":"ČLUNEK!H158","v":769.56047592760183},{"$f":"LEHSED!H158","v":537.5},{"$f":"ODBÍJENÍ!H158","v":240},{"$f":"PLAVÁNÍ!H158","v":0},{"$f":"SHYBY!H158","v":0},{"$f":"ŠPLH!H158","v":0},{"$f":"ŠVIHADLO!H158","v":293.75},{"$f":"'Z MÍSTA'!H158","v":615.6},{"$f":"REPRE!E61","v":0},6803.1299364667502]
[null,"DOLEJŠÍ","David","8.B",null,{"$f":"'60'!H159","v":814.44787462753959},{"$f":"'300'!H159","v":738.84611920983025},{"$f":"'1000'!H159","v":715.37747883823533},{"$f":"DÁLKA!H159","v":706.91399999999999},{"$f":"VÝŠKA!H159","v":656.96},{"$f":"MÍČEK!H159","v":268.75},{"$f":"KOULE!H159","v":552.22222222222217},{"$f":"OŠTĚP!H159","v":0},{"$f":"ČLUNEK!H159","v":776.39186583012884},{"$f":"LEHSED!H159","v":500},{"$f":"ODBÍJENÍ!H159","v":168},{"$f":"PLAVÁNÍ!H159","v":0},{"$f":"SHYBY!H159","v":150},{"$f":"ŠPLH!H159","v":256.20497747374731},{"$f":"ŠVIHADLO!H159","v":475},{"$f":"'Z MÍSTA'!H159","v":741},{"$f":"REPRE!E62","v":50},7570.1145382017039]
[null,"NOVÁK","Matěj","8.B",null,{"$f":"'60'!H160","v":712.17034385356453},{"$f":"'300'!H160","v":0},{"$f":"'1000'!H160","v":0},{"$f":"DÁLKA!H160","v":650.59799999999996},{"$f":"VÝŠKA!H160","v":525.40000000000009},{"$f":"MÍČEK!H160","v":412.5},{"$f":"KOULE!H160","v":451.11111111111109},{"$f":"OŠTĚP!H160","v":0},{"$f":"ČLUNEK!H160","v":757.0233328827934},{"$f":"LEHSED!H160","v":437.5},{"$f":"ODBÍJENÍ!H160","v":208},{"$f":"PLAVÁNÍ!H160","v":0},{"$f":"SHYBY!H160","v":450},{"$f":"ŠPLH!H160","v":296.67368014648815},{"$f":"ŠVIHADLO!H160","v":756.25},{"$f":"'Z MÍSTA'!H160","v":691.6},{"$f":"REPRE!E63","v":25},6373.8264679939584]
[null,"POVAŽANEC","Martin","8.B",null,{"$f":"'60'!H161","v":848.33706144378698},{"$f":"'300'!H161","v":762.77403794668794},{"$f":"'1000'!H161","v":687.28720170296049},{"$f":"DÁLKA!H161","v":822.51},{"$f":"VÝŠKA!H161","v":822.84000000000015},{"$f":"MÍČEK!H161","v":625},{"$f":"KOULE!H161","v":775.55555555555554},{"$f":"OŠTĚP!H161","v":0},{"$f":"ČLUNEK!H161","v":759.89955304102307},{"$f":"LEHSED!H161","v":425},{"$f":"ODBÍJENÍ!H161","v":272},{"$f":"PLAVÁNÍ!H161","v":0},{"$f":"SHYBY!H161","v":75},{"$f":"ŠPLH!H161","v":487.70056075637922},{"$f":"ŠVIHADLO!H161","v":437.5},{"$f":"'Z MÍSTA'!H161","v":870.19999999999993},{"$f":"REPRE!E64","v":50},8721.6039704463947]
[null,"RICHTER","Jakub","8.B",null,{"$f":"'60'!H162","v":746.81021092762478},{"$f":"'300'!H162","v":627.15205994231951},{"$f":"'1000'!H162","v":608.86706680231555},{"$f":"DÁLKA!H162","v":588.35400000000004},{"$f":"VÝŠKA!H162","v":542.56000000000006},{"$f":"MÍČEK!H162","v":362.5},{"$f":"KOULE!H162","v":511.11111111111109},{"$f":"OŠTĚP!H162","v":0},{"$f":"ČLUNEK!H162","v":699.69016436911477},{"$f":"LEHSED!H162","v":450},{"$f":"ODBÍJENÍ!H162","v":168},{"$f":"PLAVÁNÍ!H162","v":0},{"$f":"SHYBY!H162","v":0},{"$f":"ŠPLH!H162","v":324.09236992228784},{"$f":"ŠVIHADLO!H162","v":437.5},{"$f":"'Z MÍSTA'!H162","v":722},{"$f":"REPRE!E65","v":0},6788.6369830747726]
[null,"ROZUMEK","Adam","8.B",null,{"$f":"'60'!H163","v":771.53476368644067},{"$f":"'300'!H163","v":483.31856474581059},{"$f":"'1000'!H163","v":597.48050482223005},{"$f":"DÁLKA!H163","v":577.98},{"$f":"VÝŠKA!H163","v":571.16000000000008},{"$f":"MÍČEK!H163","v":562.5},{"$f":"KOULE!H163","v":688.88888888888891},{"$f":"OŠTĚP!H163","v":0},{"$f":"ČLUNEK!H163","v":741.85024704422233},{"$f":"LEHSED!H163","v":537.5},{"$f":"ODBÍJENÍ!H163","v":312},{"$f":"PLAVÁNÍ!H163","v":0},{"$f":"SHYBY!H163","v":0},{"$f":"ŠPLH!H163","v":0},{"$f":"ŠVIHADLO!H163","v":693.75},{"$f":"'Z MÍSTA'!H163","v":684},{"$f":"REPRE!E66","v":0},7221.9629691875925]
[null,"VALENTA","František","8.B",null,{"$f":"'60'!H164","v":797.52512876651986},{"$f":"'300'!H164","v":647.02713059210248},{"$f":"'1000'!H164","v":619.84435702799601},{"$f":"DÁLKA!H164","v":607.62},{"$f":"VÝŠKA!H164","v":628.36000000000013},{"$f":"MÍČEK!H164","v":350},{"$f":"KOULE!H164","v":594.44444444444446},{"$f":"OŠTĚP!H164","v":0},{"$f":"ČLUNEK!H164","v":803.29738074834859},{"$f":"LEHSED!H164","v":525},{"$f":"ODBÍJENÍ!H164","v":272},{"$f":"PLAVÁNÍ!H164","v":0},{"$f":"SHYBY!H164","v":150},{"$f":"ŠPLH!H164","v":0},{"$f":"ŠVIHADLO!H164","v":450},{"$f":"'Z MÍSTA'!H164","v":672.6},{"$f":"REPRE!E67","v":0},7117.7184415794118]
[null,"ZAPLATÍLEK","Josef","8.B",null,{"$f":"'60'!H165","v":758.60105599169253},{"$f":"'300'!H165","v":732.98064355872771},{"$f":"'1000'!H165","v":706.5680967891318},{"$f":"DÁLKA!H165","v":643.18799999999999},{"$f":"VÝŠKA!H165","v":725.6},{"$f":"MÍČEK!H165","v":525},{"$f":"KOULE!H165","v":490.55555555555554},{"$f":"OŠTĚP!H165","v":0},{"$f":"ČLUNEK!H165","v":832.19648428322876},{"$f":"LEHSED!H165","v":575},{"$f":"ODBÍJENÍ!H165","v":312},{"$f":"PLAVÁNÍ!H165","v":0},{"$f":"SHYBY!H165","v":75},{"$f":"ŠPLH!H165","v":225.87953246822397},{"$f":"ŠVIHADLO!H165","v":625},{"$f":"'Z MÍSTA'!H165","v":763.8},{"$f":"REPRE!E68","v":0},{"$f":"SUM(F185:V185)","v":7991.3693686465604}]
[null,"ERBEN","Viktor","9.A",null,{"$f":"'60'!H166","v":744.24854509644672},{"$f":"'300'!H166","v":606.22740690990815},{"$f":"'1000'!H166","v":591.45564339868815},{"$f":"DÁLKA!H166","v":659.49},{"$f":"VÝŠKA!H166","v":668.4},{"$f":"MÍČEK!H166","v":312.5},{"$f":"KOULE!H166","v":0},{"$f":"OŠTĚP!H166","v":0},{"$f":"ČLUNEK!H166","v":736.23086929174792},{"$f":"LEHSED!H166","v":350},{"$f":"ODBÍJENÍ!H166","v":440},{"$f":"PLAVÁNÍ!H166","v":0},{"$f":"SHYBY!H166","v":225},{"$f":"ŠPLH!H166","v":371.311035224421},{"$f":"ŠVIHADLO!H166","v":412.5},{"$f":"'Z MÍSTA'!H166","v":763.8},{"$f":"REPRE!E69","v":0},6881.1634999212129]
[null,"FRANC","Daniel","9.A",null,{"$f":"'60'!H167","v":709.31238439117942},{"$f":"'300'!H167","v":540.79034020995425},{"$f":"'1000'!H167","v":448.08397868173296},{"$f":"DÁLKA!H167","v":577.98},{"$f":"VÝŠKA!H167","v":571.16000000000008},{"$f":"MÍČEK!H167","v":412.5},{"$f":"KOULE!H167","v":652.77777777777771},{"$f":"OŠTĚP!H167","v":0},{"$f":"ČLUNEK!H167","v":775.41242771206157},{"$f":"LEHSED!H167","v":400},{"$f":"ODBÍJENÍ!H167","v":408},{"$f":"PLAVÁNÍ!H167","v":0},{"$f":"SHYBY!H167","v":0},{"$f":"ŠPLH!H167","v":0},{"$f":"ŠVIHADLO!H167","v":543.75},{"$f":"'Z MÍSTA'!H167","v":646},{"$f":"REPRE!E70","v":0},6685.7669087727054]
[null,"JINDŘIŠEK","Matyáš","9.A",null,{"$f":"'60'!H168","v":799.78432808839784},{"$f":"'300'!H168","v":755.79616316923693},{"$f":"'1000'!H168","v":775.3832169781673},{"$f":"DÁLKA!H168","v":797.31600000000003},{"$f":"VÝŠKA!H168","v":714.16000000000008},{"$f":"MÍČEK!H168","v":650},{"$f":"KOULE!H168","v":707.77777777777771},{"$f":"OŠTĚP!H168","v":0},{"$f":"ČLUNEK!H168","v":878.77758062222222},{"$f":"LEHSED!H168","v":650},{"$f":"ODBÍJENÍ!H168","v":480},{"$f":"PLAVÁNÍ!H168","v":0},{"$f":"SHYBY!H168","v":750},{"$f":"ŠPLH!H168","v":755.22838773777789},{"$f":"ŠVIHADLO!H168","v":537.5},{"$f":"'Z MÍSTA'!H168","v":881.59999999999991},{"$f":"REPRE!E71","v":50},10183.32345437358]
[null,"KOLAČNÝ","Štěpán","9.A",null,{"$f":"'60'!H169","v":716.21805714839957},{"$f":"'300'!H169","v":513.91021924258848},{"$f":"'1000'!H169","v":531.80618796130932},{"$f":"DÁLKA!H169","v":663.93600000000004},{"$f":"VÝŠKA!H169","v":571.16000000000008},{"$f":"MÍČEK!H169","v":412.5},{"$f":"KOULE!H169","v":643.33333333333337},{"$f":"OŠTĚP!H169","v":0},{"$f":"ČLUNEK!H169","v":779.33730608151529},{"$f":"LEHSED!H169","v":412.5},{"$f":"ODBÍJENÍ!H169","v":496},{"$f":"PLAVÁNÍ!H169","v":0},{"$f":"SHYBY!H169","v":75},{"$f":"ŠPLH!H169","v":0},{"$f":"ŠVIHADLO!H169","v":0},{"$f":"'Z MÍSTA'!H169","v":661.19999999999993},{"$f":"REPRE!E72","v":0},6476.9011037671462]
[null,"KRISTAN","Jáchym","9.A",null,{"$f":"'60'!H170","v":586.23162379939208},{"$f":"'300'!H170","v":333.6491762896602},{"$f":"'1000'!H170","v":436.51020199891326},{"$f":"DÁLKA!H170","v":523.14599999999996},{"$f":"VÝŠKA!H170","v":0},{"$f":"MÍČEK!H170","v":250},{"$f":"KOULE!H170","v":437.77777777777777},{"$f":"OŠTĚP!H170","v":0},{"$f":"ČLUNEK!H170","v":497.87911491834257},{"$f":"LEHSED!H170","v":287.5},{"$f":"ODBÍJENÍ!H170","v":64},{"$f":"PLAVÁNÍ!H170","v":0},{"$f":"SHYBY!H170","v":0},{"$f":"ŠPLH!H170","v":0},{"$f":"ŠVIHADLO!H170","v":0},{"$f":"'Z MÍSTA'!H170","v":456},{"$f":"REPRE!E73","v":0},3872.6938947840858]
[null,"NGUYEN","David","9.A",null,{"$f":"'60'!H171","v":794.53598346491231},{"$f":"'300'!H171","v":688.32987345746096},{"$f":"'1000'!H171","v":606.19425065557857},{"$f":"DÁLKA!H171","v":786.94200000000001},{"$f":"VÝŠKA!H171","v":697},{"$f":"MÍČEK!H171","v":593.75},{"$f":"KOULE!H171","v":635.55555555555554},{"$f":"OŠTĚP!H171","v":0},{"$f":"ČLUNEK!H171","v":898.00342895520123},{"$f":"LEHSED!H171","v":375},{"$f":"ODBÍJENÍ!H171","v":480},{"$f":"PLAVÁNÍ!H171","v":0},{"$f":"SHYBY!H171","v":150},{"$f":"ŠPLH!H171","v":693.88804886202888},{"$f":"ŠVIHADLO!H171","v":612.5},{"$f":"'Z MÍSTA'!H171","v":877.8},{"$f":"REPRE!E74","v":0},8889.4991409507365]
[null,"NOVOTNÝ","Jan","9.A",null,{"$f":"'60'!H172","v":819.21001922727271},{"$f":"'300'!H172","v":664.07424102639879},{"$f":"'1000'!H172","v":663.55962897170491},{"$f":"DÁLKA!H172","v":689.13},{"$f":"VÝŠKA!H172","v":714.16000000000008},{"$f":"MÍČEK!H172","v":387.5},{"$f":"KOULE!H172","v":669.44444444444446},{"$f":"OŠTĚP!H172","v":0},{"$f":"ČLUNEK!H172","v":860.02398287264646},{"$f":"LEHSED!H172","v":550},{"$f":"ODBÍJENÍ!H172","v":72},{"$f":"PLAVÁNÍ!H172","v":0},{"$f":"SHYBY!H172","v":375},{"$f":"ŠPLH!H172","v":464.43644362142112},{"$f":"ŠVIHADLO!H172","v":512.5},{"$f":"'Z MÍSTA'!H172","v":828.4},{"$f":"REPRE!E75","v":0},8269.4387601638882]
[null,"RÁB","Adam","9.A",null,{"$f":"'60'!H173","v":702.563807507109},{"$f":"'300'!H173","v":493.06022036207503},{"$f":"'1000'!H173","v":436.73200307425174},{"$f":"DÁLKA!H173","v":577.98},{"$f":"VÝŠKA!H173","v":571.16000000000008},{"$f":"MÍČEK!H173","v":431.25},{"$f":"KOULE!H173","v":721.11111111111109},{"$f":"OŠTĚP!H173","v":0},{"$f":"ČLUNEK!H173","v":705.9736758201509},{"$f":"LEHSED!H173","v":375},{"$f":"ODBÍJENÍ!H173","v":168},{"$f":"PLAVÁNÍ!H173","v":0},{"$f":"SHYBY!H173","v":0},{"$f":"ŠPLH!H173","v":0},{"$f":"ŠVIHADLO!H173","v":0},{"$f":"'Z MÍSTA'!H173","v":649.79999999999995},{"$f":"REPRE!E76","v":0},5832.6308178746976]
[null,"REPASKÝ","Jakub","9.A",null,{"$f":"'60'!H174","v":850.9463383847982},{"$f":"'300'!H174","v":727.57868670437961},{"$f":"'1000'!H174","v":694.62862023857804},{"$f":"DÁLKA!H174","v":736.55399999999997},{"$f":"VÝŠKA!H174","v":771.36000000000013},{"$f":"MÍČEK!H174","v":737.5},{"$f":"KOULE!H174","v":778.88888888888891},{"$f":"OŠTĚP!H174","v":0},{"$f":"ČLUNEK!H174","v":855.67713621721612},{"$f":"LEHSED!H174","v":625},{"$f":"ODBÍJENÍ!H174","v":657.2},{"$f":"PLAVÁNÍ!H174","v":0},{"$f":"SHYBY!H174","v":450},{"$f":"ŠPLH!H174","v":657.68981949716249},{"$f":"ŠVIHADLO!H174","v":818.75},{"$f":"'Z MÍSTA'!H174","v":904.4},{"$f":"REPRE!E77","v":50},10316.173489931021]
[null,"SKÁLA","Jan","9.A",null,{"$f":"'60'!H175","v":843.17369790834323},{"$f":"'300'!H175","v":719.09080524087256},{"$f":"'1000'!H175","v":733.39176307255627},{"$f":"DÁLKA!H175","v":776.56799999999998},{"$f":"VÝŠKA!H175","v":697},{"$f":"MÍČEK!H175","v":487.5},{"$f":"KOULE!H175","v":652.22222222222217},{"$f":"OŠTĚP!H175","v":0},{"$f":"ČLUNEK!H175","v":867.69057560689407},{"$f":"LEHSED!H175","v":612.5},{"$f":"ODBÍJENÍ!H175","v":240},{"$f":"PLAVÁNÍ!H175","v":0},{"$f":"SHYBY!H175","v":900},{"$f":"ŠPLH!H175","v":558.57275074138477},{"$f":"ŠVIHADLO!H175","v":656.25},{"$f":"'Z MÍSTA'!H175","v":900.59999999999991},{"$f":"REPRE!E78","v":75},9719.5598147922738]
[null,"ŠPULÁK","Jakub","9.A",null,{"$f":"'60'!H176","v":757.93445738589196},{"$f":"'300'!H176","v":617.36402433031185},{"$f":"'1000'!H176","v":608.73719176125394},{"$f":"DÁLKA!H176","v":699.50400000000002},{"$f":"VÝŠKA!H176","v":668.4},{"$f":"MÍČEK!H176","v":618.75},{"$f":"KOULE!H176","v":671.11111111111109},{"$f":"OŠTĚP!H176","v":0},{"$f":"ČLUNEK!H176","v":823.83065585156999},{"$f":"LEHSED!H176","v":0},{"$f":"ODBÍJENÍ!H176","v":528},{"$f":"PLAVÁNÍ!H176","v":665.52284131876706},{"$f":"SHYBY!H176","v":0},{"$f":"ŠPLH!H176","v":0},{"$f":"ŠVIHADLO!H176","v":481.25},{"$f":"'Z MÍSTA'!H176","v":817},{"$f":"REPRE!E79","v":50},8007.4042817589052]
[null,"VALENTA","Tomáš","9.A",null,{"$f":"'60'!H177","v":906.3254366794381},{"$f":"'300'!H177","v":860.09087376198568},{"$f":"'1000'!H177","v":749.60196380629918},{"$f":"DÁLKA!H177","v":909.94799999999998},{"$f":"VÝŠKA!H177","v":868.6},{"$f":"MÍČEK!H177","v":800},{"$f":"KOULE!H177","v":781.66666666666663},{"$f":"OŠTĚP!H177","v":0},{"$f":"ČLUNEK!H177","v":953.85362209560003},{"$f":"LEHSED!H177","v":700},{"$f":"ODBÍJENÍ!H177","v":657.2},{"$f":"PLAVÁNÍ!H177","v":0},{"$f":"SHYBY!H177","v":600},{"$f":"ŠPLH!H177","v":657.68981949716249},{"$f":"ŠVIHADLO!H177","v":806.25},{"$f":"'Z MÍSTA'!H177","v":995.59999999999991},{"$f":"REPRE!E80","v":125},11371.826382507152]
[null,"VANCL","Jiří","9.A",null,{"$f":"'60'!H178","v":800.540726681416},{"$f":"'300'!H178","v":601.75570611363707},{"$f":"'1000'!H178","v":594.41146914912076},{"$f":"DÁLKA!H178","v":741},{"$f":"VÝŠKA!H178","v":628.36000000000013},{"$f":"MÍČEK!H178","v":362.5},{"$f":"KOULE!H178","v":663.88888888888891},{"$f":"OŠTĚP!H178","v":0},{"$f":"ČLUNEK!H178","v":808.38089672712101},{"$f":"LEHSED!H178","v":525},{"$f":"ODBÍJENÍ!H178","v":528},{"$f":"PLAVÁNÍ!H178","v":0},{"$f":"SHYBY!H178","v":75},{"$f":"ŠPLH!H178","v":0},{"$f":"ŠVIHADLO!H178","v":593.75},{"$f":"'Z MÍSTA'!H178","v":824.59999999999991},{"$f":"REPRE!E81","v":50},7797.1876875601829]
[null,"VAŠÍČEK","David","9.A",null,{"$f":"'60'!H179","v":812.090907671541},{"$f":"'300'!H179","v":743.95608157365746},{"$f":"'1000'!H179","v":807.90808942584499},{"$f":"DÁLKA!H179","v":693.57600000000002},{"$f":"VÝŠKA!H179","v":0},{"$f":"MÍČEK!H179","v":450},{"$f":"KOULE!H179","v":0},{"$f":"OŠTĚP!H179","v":0},{"$f":"ČLUNEK!H179","v":868.79207967184243},{"$f":"LEHSED!H179","v":0},{"$f":"ODBÍJENÍ!H179","v":176},{"$f":"PLAVÁNÍ!H179","v":0},{"$f":"SHYBY!H179","v":450},{"$f":"ŠPLH!H179","v":429.72685918308582},{"$f":"ŠVIHADLO!H179","v":687.5},{"$f":"'Z MÍSTA'!H179","v":836},{"$f":"REPRE!E82","v":0},6955.5500175259722]
[null,"ZOUHAR","Ondřej","9.A",null,{"$f":"'60'!H180","v":901.31068137055831},{"$f":"'300'!H180","v":748.4944523993704},{"$f":"'1000'!H180","v":626.60541405020581},{"$f":"DÁLKA!H180","v":0},{"$f":"VÝŠKA!H180","v":771.36000000000013},{"$f":"MÍČEK!H180","v":500},{"$f":"KOULE!H180","v":611.11111111111109},{"$f":"OŠTĚP!H180","v":0},{"$f":"ČLUNEK!H180","v":879.89517582397218},{"$f":"LEHSED!H180","v":450},{"$f":"ODBÍJENÍ!H180","v":496},{"$f":"PLAVÁNÍ!H180","v":0},{"$f":"SHYBY!H180","v":75},{"$f":"ŠPLH!H180","v":497.18840637190743},{"$f":"ŠVIHADLO!H180","v":637.5},{"$f":"'Z MÍSTA'!H180","v":801.8},{"$f":"REPRE!E83","v":50},8046.2652411271247]
[null,"ZUZÁNEK","Filip","9.A",null,{"$f":"'60'!H181","v":811.30878305617966},{"$f":"'300'!H181","v":610.27422335649794},{"$f":"'1000'!H181","v":620.04640234629881},{"$f":"DÁLKA!H181","v":752.85599999999999},{"$f":"VÝŠKA!H181","v":656.96},{"$f":"MÍČEK!H181","v":325},{"$f":"KOULE!H181","v":596.11111111111109},{"$f":"OŠTĚP!H181","v":0},{"$f":"ČLUNEK!H181","v":879.89517582397218},{"$f":"LEHSED!H181","v":625},{"$f":"ODBÍJENÍ!H181","v":368},{"$f":"PLAVÁNÍ!H181","v":0},{"$f":"SHYBY!H181","v":1050},{"$f":"ŠPLH!H181","v":446.22139605326726},{"$f":"ŠVIHADLO!H181","v":0},{"$f":"'Z MÍSTA'!H181","v":805.59999999999991},{"$f":"REPRE!E84","v":0},8547.2730917473273]

{"sheet":"VÝK","index":6,"n_rows":105,"n_cols":22,"rows_kept":105,"cut":false,"hidden":false,"merged":[]}
[null,"SPORTOVEC  ŠKOLY  2020 - 2021",null,null,null,null,null,null,null,null,"CHLAPCI  6. ROČNÍK"]
[]
[null,null,"60  m  ","300m","1000m","dálka","výška","míček","koule","oštěp","člunek","lehsed","odbíjení ","plavání","shyby","šplh","švihadlo","z místa"," REPRE","  BODY"]
[{"$f":"'60'!B101","v":"EXNER"},{"$f":"'60'!C101","v":"Tomáš"},{"$f":"'60'!E101","v":9.1},{"$f":"'300'!E101","v":"00:01:00.640"},{"$f":"'1000'!E101","v":"00:06:05.110"},{"$f":"DÁLKA!E101","v":409},{"$f":"VÝŠKA!E101","v":111},{"$f":"MÍČEK!E101","v":16},{"$f":"KOULE!E101","v":6.58},{"$f":"OŠTĚP!E101","v":0},{"$f":"ČLUNEK!E101","v":11.83},{"$f":"LEHSED!E101","v":42},{"$f":"ODBÍJENÍ!E101","v":15},{"$f":"PLAVÁNÍ!E101","v":33},{"$f":"SHYBY!E101","v":2},{"$f":"ŠPLH!E101","v":0},{"$f":"ŠVIHADLO!E101","v":64},{"$f":"'Z MÍSTA'!E101","v":231},{"$f":"REPRE!E4","v":0},{"$f":"ROČ!W5","v":7080.2050334411351}]
[{"$f":"'60'!B102","v":"JANATA"},{"$f":"'60'!C102","v":"Denis"},{"$f":"'60'!E102","v":9.92},{"$f":"'300'!E102","v":"00:01:01.020"},{"$f":"'1000'!E102","v":"00:05:37.770"},{"$f":"DÁLKA!E102","v":331},{"$f":"VÝŠKA!E102","v":103},{"$f":"MÍČEK!E102","v":24},{"$f":"KOULE!E102","v":4.45},{"$f":"OŠTĚP!E102","v":0},{"$f":"ČLUNEK!E102","v":12.96},{"$f":"LEHSED!E102","v":35},{"$f":"ODBÍJENÍ!E102","v":18},{"$f":"PLAVÁNÍ!E102","v":0},{"$f":"SHYBY!E102","v":0},{"$f":"ŠPLH!E102","v":0},{"$f":"ŠVIHADLO!E102","v":65},{"$f":"'Z MÍSTA'!E102","v":149},{"$f":"REPRE!E5","v":0},{"$f":"ROČ!W6","v":5859.1083633279695},null,{"$f":"FREQUENCY(C5:R5,0)","v":4}]
[{"$f":"'60'!B103","v":"JINDŘIŠEK"},{"$f":"'60'!C103","v":"Alex Jiří"},{"$f":"'60'!E103","v":9.67},{"$f":"'300'!E103","v":"00:01:01.350"},{"$f":"'1000'!E103","v":"00:05:50.550"},{"$f":"DÁLKA!E103","v":310},{"$f":"VÝŠKA!E103","v":93},{"$f":"MÍČEK!E103","v":25},{"$f":"KOULE!E103","v":7.65},{"$f":"OŠTĚP!E103","v":0},{"$f":"ČLUNEK!E103","v":0},{"$f":"LEHSED!E103","v":37},{"$f":"ODBÍJENÍ!E103","v":7},{"$f":"PLAVÁNÍ!E103","v":0},{"$f":"SHYBY!E103","v":0},{"$f":"ŠPLH!E103","v":0},{"$f":"ŠVIHADLO!E103","v":0},{"$f":"'Z MÍSTA'!E103","v":100},{"$f":"REPRE!E6","v":0},{"$f":"ROČ!W7","v":4697.3002628754348},null,{"$f":"FREQUENCY(C6:R6,0)","v":6}]
[{"$f":"'60'!B104","v":"MARŠÁLEK"},{"$f":"'60'!C104","v":"Ondřej"},{"$f":"'60'!E104","v":9.99},{"$f":"'300'!E104","v":"00:01:09.950"},{"$f":"'1000'!E104","v":"00:05:29.220"},{"$f":"DÁLKA!E104","v":283},{"$f":"VÝŠKA!E104","v":103},{"$f":"MÍČEK!E104","v":22.5},{"$f":"KOULE!E104","v":6.27},{"$f":"OŠTĚP!E104","v":0},{"$f":"ČLUNEK!E104","v":12.1},{"$f":"LEHSED!E104","v":36},{"$f":"ODBÍJENÍ!E104","v":8},{"$f":"PLAVÁNÍ!E104","v":0},{"$f":"SHYBY!E104","v":0},{"$f":"ŠPLH!E104","v":0},{"$f":"ŠVIHADLO!E104","v":35},{"$f":"'Z MÍSTA'!E104","v":169},{"$f":"REPRE!E7","v":0},{"$f":"ROČ!W8","v":5659.9678211009796},null,4]
[{"$f":"'60'!B105","v":"MLATEČEK"},{"$f":"'60'!C105","v":"Patrik"},{"$f":"'60'!E105","v":11.26},{"$f":"'300'!E105","v":"00:01:14.240"},{"$f":"'1000'!E105","v":"00:05:47.140"},{"$f":"DÁLKA!E105","v":262},{"$f":"VÝŠKA!E105","v":91},{"$f":"MÍČEK!E105","v":26.5},{"$f":"KOULE!E105","v":5.48},{"$f":"OŠTĚP!E105","v":0},{"$f":"ČLUNEK!E105","v":13.85},{"$f":"LEHSED!E105","v":30},{"$f":"ODBÍJENÍ!E105","v":8},{"$f":"PLAVÁNÍ!E105","v":0},{"$f":"SHYBY!E105","v":0},{"$f":"ŠPLH!E105","v":0},{"$f":"ŠVIHADLO!E105","v":35},{"$f":"'Z MÍSTA'!E105","v":130},{"$f":"REPRE!E8","v":0},{"$f":"ROČ!W9","v":5061.3506213541659},null,4]
[{"$f":"'60'!B106","v":"SCHOLZ"},{"$f":"'60'!C106","v":"Matyáš"},{"$f":"'60'!E106","v":10.46},{"$f":"'300'!E106","v":"00:01:03.540"},{"$f":"'1000'!E106","v":"00:06:27.230"},{"$f":"DÁLKA!E106","v":313},{"$f":"VÝŠKA!E106","v":102},{"$f":"MÍČEK!E106","v":26},{"$f":"KOULE!E106","v":6.98},{"$f":"OŠTĚP!E106","v":0},{"$f":"ČLUNEK!E106","v":0},{"$f":"LEHSED!E106","v":33},{"$f":"ODBÍJENÍ!E106","v":18},{"$f":"PLAVÁNÍ!E106","v":0},{"$f":"SHYBY!E106","v":0},{"$f":"ŠPLH!E106","v":25},{"$f":"ŠVIHADLO!E106","v":47},{"$f":"'Z MÍSTA'!E106","v":190},{"$f":"REPRE!E9","v":0},{"$f":"ROČ!W10","v":5503.9499371016618},null,4]
[{"$f":"'60'!B107","v":"TOMÁŠ"},{"$f":"'60'!C107","v":"Jakub"},{"$f":"'60'!E107","v":10.199999999999999},{"$f":"'300'!E107","v":"00:00:56.510"},{"$f":"'1000'!E107","v":"00:04:08.320"},{"$f":"DÁLKA!E107","v":345},{"$f":"VÝŠKA!E107","v":111},{"$f":"MÍČEK!E107","v":24.5},{"$f":"KOULE!E107","v":5.85},{"$f":"OŠTĚP!E107","v":0},{"$f":"ČLUNEK!E107","v":11.36},{"$f":"LEHSED!E107","v":45},{"$f":"ODBÍJENÍ!E107","v":13},{"$f":"PLAVÁNÍ!E107","v":0},{"$f":"SHYBY!E107","v":4},{"$f":"ŠPLH!E107","v":16.97},{"$f":"ŠVIHADLO!E107","v":106},{"$f":"'Z MÍSTA'!E107","v":172},{"$f":"REPRE!E10","v":0},{"$f":"ROČ!W11","v":7346.8737661338027},null,2]
[{"$f":"'60'!B108","v":"VÁCLAVÍK"},{"$f":"'60'!C108","v":"Jan"},{"$f":"'60'!E108","v":10.119999999999999},{"$f":"'300'!E108","v":"00:00:56.400"},{"$f":"'1000'!E108","v":"00:04:22.770"},{"$f":"DÁLKA!E108","v":314},{"$f":"VÝŠKA!E108","v":108},{"$f":"MÍČEK!E108","v":25},{"$f":"KOULE!E108","v":5.22},{"$f":"OŠTĚP!E108","v":0},{"$f":"ČLUNEK!E108","v":11.42},{"$f":"LEHSED!E108","v":34},{"$f":"ODBÍJENÍ!E108","v":11},{"$f":"PLAVÁNÍ!E108","v":0},{"$f":"SHYBY!E108","v":7},{"$f":"ŠPLH!E108","v":19.04},{"$f":"ŠVIHADLO!E108","v":101},{"$f":"'Z MÍSTA'!E108","v":182},{"$f":"REPRE!E11","v":0},{"$f":"ROČ!W12","v":7290.3408474772541},null,2]
[{"$f":"'60'!B109","v":"VEČEŘA"},{"$f":"'60'!C109","v":"David"},{"$f":"'60'!E109","v":12.1},{"$f":"'300'!E109","v":"00:01:15.100"},{"$f":"'1000'!E109","v":"00:05:08.560"},{"$f":"DÁLKA!E109","v":262},{"$f":"VÝŠKA!E109","v":93},{"$f":"MÍČEK!E109","v":23},{"$f":"KOULE!E109","v":5.4},{"$f":"OŠTĚP!E109","v":0},{"$f":"ČLUNEK!E109","v":13.01},{"$f":"LEHSED!E109","v":35},{"$f":"ODBÍJENÍ!E109","v":7},{"$f":"PLAVÁNÍ!E109","v":0},{"$f":"SHYBY!E109","v":0},{"$f":"ŠPLH!E109","v":0},{"$f":"ŠVIHADLO!E109","v":37},{"$f":"'Z MÍSTA'!E109","v":149},{"$f":"REPRE!E12","v":0},{"$f":"ROČ!W13","v":5243.7639227078425},null,4]
[{"$f":"'60'!B110","v":"VYBÍRAL"},{"$f":"'60'!C110","v":"Radim"},{"$f":"'60'!E110","v":8.9499999999999993},{"$f":"'300'!E110","v":"00:00:50.300"},{"$f":"'1000'!E110","v":"00:03:37.520"},{"$f":"DÁLKA!E110","v":384},{"$f":"VÝŠKA!E110","v":119},{"$f":"MÍČEK!E110","v":30},{"$f":"KOULE!E110","v":6.29},{"$f":"OŠTĚP!E110","v":0},{"$f":"ČLUNEK!E110","v":11.24},{"$f":"LEHSED!E110","v":55},{"$f":"ODBÍJENÍ!E110","v":35},{"$f":"PLAVÁNÍ!E110","v":0},{"$f":"SHYBY!E110","v":7},{"$f":"ŠPLH!E110","v":4.83},{"$f":"ŠVIHADLO!E110","v":115},{"$f":"'Z MÍSTA'!E110","v":209},{"$f":"REPRE!E13","v":0},{"$f":"ROČ!W14","v":8881.6886032649963},null,2]
[{"$f":"'60'!B111","v":"BERISHA"},{"$f":"'60'!C111","v":"David"},{"$f":"'60'!E111","v":13.54},{"$f":"'300'!E111","v":"00:00:00"},{"$f":"'1000'!E111","v":"00:10:22.160"},{"$f":"DÁLKA!E111","v":190},{"$f":"VÝŠKA!E111","v":71},{"$f":"MÍČEK!E111","v":17.5},{"$f":"KOULE!E111","v":2.15},{"$f":"OŠTĚP!E111","v":0},{"$f":"ČLUNEK!E111","v":11.92},{"$f":"LEHSED!E111","v":0},{"$f":"ODBÍJENÍ!E111","v":10},{"$f":"PLAVÁNÍ!E111","v":0},{"$f":"SHYBY!E111","v":0},{"$f":"ŠPLH!E111","v":0},{"$f":"ŠVIHADLO!E111","v":0},{"$f":"'Z MÍSTA'!E111","v":160},{"$f":"REPRE!E14","v":0},{"$f":"ROČ!W15","v":3511.279645342237},null,{"$f":"FREQUENCY(C14:R14,0)","v":7}]
[{"$f":"'60'!B112","v":"EFENBERK"},{"$f":"'60'!C112","v":"Šimon"},{"$f":"'60'!E112","v":9.82},{"$f":"'300'!E112","v":"00:01:04.360"},{"$f":"'1000'!E112","v":"00:05:31.070"},{"$f":"DÁLKA!E112","v":283},{"$f":"VÝŠKA!E112","v":102},{"$f":"MÍČEK!E112","v":21},{"$f":"KOULE!E112","v":6.61},{"$f":"OŠTĚP!E112","v":0},{"$f":"ČLUNEK!E112","v":11.97},{"$f":"LEHSED!E112","v":40},{"$f":"ODBÍJENÍ!E112","v":10},{"$f":"PLAVÁNÍ!E112","v":28.3},{"$f":"SHYBY!E112","v":0},{"$f":"ŠPLH!E112","v":19.510000000000002},{"$f":"ŠVIHADLO!E112","v":84},{"$f":"'Z MÍSTA'!E112","v":172},{"$f":"REPRE!E15","v":0},{"$f":"ROČ!W16","v":6812.10955155172},null,{"$f":"FREQUENCY(C15:R15,0)","v":2}]
[{"$f":"'60'!B113","v":"FEJKL"},{"$f":"'60'!C113","v":"Antonín"},{"$f":"'60'!E113","v":9.48},{"$f":"'300'!E113","v":"00:00:51.010"},{"$f":"'1000'!E113","v":"00:03:57.680"},{"$f":"DÁLKA!E113","v":375},{"$f":"VÝŠKA!E113","v":111},{"$f":"MÍČEK!E113","v":40},{"$f":"KOULE!E113","v":6.37},{"$f":"OŠTĚP!E113","v":0},{"$f":"ČLUNEK!E113","v":10.71},{"$f":"LEHSED!E113","v":49},{"$f":"ODBÍJENÍ!E113","v":35},{"$f":"PLAVÁNÍ!E113","v":33.090000000000003},{"$f":"SHYBY!E113","v":0},{"$f":"ŠPLH!E113","v":9.92},{"$f":"ŠVIHADLO!E113","v":132},{"$f":"'Z MÍSTA'!E113","v":205},{"$f":"REPRE!E16","v":125},{"$f":"ROČ!W17","v":8667.2860904301451},null,{"$f":"FREQUENCY(C16:R16,0)","v":2}]
[{"$f":"'60'!B114","v":"GOTTSTEIN"},{"$f":"'60'!C114","v":"Matouš"},{"$f":"'60'!E114","v":8.8000000000000007},{"$f":"'300'!E114","v":"00:00:47.930"},{"$f":"'1000'!E114","v":"00:03:20.260"},{"$f":"DÁLKA!E114","v":417},{"$f":"VÝŠKA!E114","v":123},{"$f":"MÍČEK!E114","v":36},{"$f":"KOULE!E114","v":6.45},{"$f":"OŠTĚP!E114","v":0},{"$f":"ČLUNEK!E114","v":10.73},{"$f":"LEHSED!E114","v":51},{"$f":"ODBÍJENÍ!E114","v":20},{"$f":"PLAVÁNÍ!E114","v":33.5},{"$f":"SHYBY!E114","v":2},{"$f":"ŠPLH!E114","v":6.19},{"$f":"ŠVIHADLO!E114","v":128},{"$f":"'Z MÍSTA'!E114","v":214},{"$f":"REPRE!E17","v":250},{"$f":"ROČ!W18","v":9317.5763601916624},null,1]
[{"$f":"'60'!B115","v":"HÁK"},{"$f":"'60'!C115","v":"Šimon"},{"$f":"'60'!E115","v":0},{"$f":"'300'!E115","v":"00:00:00"},{"$f":"'1000'!E115","v":"00:00:00"},{"$f":"DÁLKA!E115","v":0},{"$f":"VÝŠKA!E115","v":0},{"$f":"MÍČEK!E115","v":0},{"$f":"KOULE!E115","v":0},{"$f":"OŠTĚP!E115","v":0},{"$f":"ČLUNEK!E115","v":0},{"$f":"LEHSED!E115","v":0},{"$f":"ODBÍJENÍ!E115","v":0},{"$f":"PLAVÁNÍ!E115","v":0},{"$f":"SHYBY!E115","v":0},{"$f":"ŠPLH!E115","v":0},{"$f":"ŠVIHADLO!E115","v":0},{"$f":"'Z MÍSTA'!E115","v":0},{"$f":"REPRE!E18","v":0},{"$f":"ROČ!W19","v":0},null,16]
[{"$f":"'60'!B116","v":"POVAŽANEC"},{"$f":"'60'!C116","v":"Lukáš"},{"$f":"'60'!E116","v":10.1},{"$f":"'300'!E116","v":"00:01:04.130"},{"$f":"'1000'!E116","v":"00:05:26.550"},{"$f":"DÁLKA!E116","v":321},{"$f":"VÝŠKA!E116","v":105},{"$f":"MÍČEK!E116","v":33},{"$f":"KOULE!E116","v":7.1},{"$f":"OŠTĚP!E116","v":0},{"$f":"ČLUNEK!E116","v":12.16},{"$f":"LEHSED!E116","v":30},{"$f":"ODBÍJENÍ!E116","v":20},{"$f":"PLAVÁNÍ!E116","v":0},{"$f":"SHYBY!E116","v":0},{"$f":"ŠPLH!E116","v":0},{"$f":"ŠVIHADLO!E116","v":59},{"$f":"'Z MÍSTA'!E116","v":162},{"$f":"REPRE!E19","v":0},{"$f":"ROČ!W20","v":6111.1226105696242},null,4]
[{"$f":"'60'!B117","v":"VANCL"},{"$f":"'60'!C117","v":"Jakub"},{"$f":"'60'!E117","v":11.09},{"$f":"'300'!E117","v":"00:01:08.950"},{"$f":"'1000'!E117","v":"00:05:08.040"},{"$f":"DÁLKA!E117","v":232},{"$f":"VÝŠKA!E117","v":91},{"$f":"MÍČEK!E117","v":20.5},{"$f":"KOULE!E117","v":5.46},{"$f":"OŠTĚP!E117","v":0},{"$f":"ČLUNEK!E117","v":13.6},{"$f":"LEHSED!E117","v":37},{"$f":"ODBÍJENÍ!E117","v":15},{"$f":"PLAVÁNÍ!E117","v":0},{"$f":"SHYBY!E117","v":1},{"$f":"ŠPLH!E117","v":0},{"$f":"ŠVIHADLO!E117","v":18},{"$f":"'Z MÍSTA'!E117","v":145},{"$f":"REPRE!E20","v":0},{"$f":"ROČ!W21","v":5254.7329517667958},null,3]
[{"$f":"'60'!B118","v":"VANCL"},{"$f":"'60'!C118","v":"Miroslav"},{"$f":"'60'!E118","v":11.3},{"$f":"'300'!E118","v":"00:01:32.620"},{"$f":"'1000'!E118","v":"00:07:26.110"},{"$f":"DÁLKA!E118","v":296},{"$f":"VÝŠKA!E118","v":103},{"$f":"MÍČEK!E118","v":21},{"$f":"KOULE!E118","v":4.9800000000000004},{"$f":"OŠTĚP!E118","v":0},{"$f":"ČLUNEK!E118","v":12.94},{"$f":"LEHSED!E118","v":27},{"$f":"ODBÍJENÍ!E118","v":5},{"$f":"PLAVÁNÍ!E118","v":0},{"$f":"SHYBY!E118","v":0},{"$f":"ŠPLH!E118","v":0},{"$f":"ŠVIHADLO!E118","v":68},{"$f":"'Z MÍSTA'!E118","v":190},{"$f":"REPRE!E21","v":0},{"$f":"ROČ!W22","v":5274.3136089049376},null,4]
[{"$f":"'60'!B119","v":"VOTOČEK"},{"$f":"'60'!C119","v":"Michal"},{"$f":"'60'!E119","v":10.78},{"$f":"'300'!E119","v":"00:01:07.340"},{"$f":"'1000'!E119","v":"00:05:26.920"},{"$f":"DÁLKA!E119","v":249},{"$f":"VÝŠKA!E119","v":102},{"$f":"MÍČEK!E119","v":30},{"$f":"KOULE!E119","v":5.7},{"$f":"OŠTĚP!E119","v":0},{"$f":"ČLUNEK!E119","v":13.12},{"$f":"LEHSED!E119","v":37},{"$f":"ODBÍJENÍ!E119","v":8},{"$f":"PLAVÁNÍ!E119","v":0},{"$f":"SHYBY!E119","v":0},{"$f":"ŠPLH!E119","v":0},{"$f":"ŠVIHADLO!E119","v":50},{"$f":"'Z MÍSTA'!E119","v":161},{"$f":"REPRE!E22","v":0},{"$f":"ROČ!W23","v":5645.0178189304424},null,4]
[]
[]
[]
[]
["SPORTOVEC  ŠKOLY  2020 - 2021",null,null,null,null,null,null,null,null,"CHLAPCI  7. ROČNÍK"]
[]
[null,null,"60  m  ","300m","1000m","dálka","výška","míček","koule","oštěp","člunek","lehsed","odbíjení ","plavání","shyby","šplh","švihadlo","z místa"," REPRE"," BODY"]
[{"$f":"'60'!B120","v":"BOUKAL"},{"$f":"'60'!C120","v":"Jakub"},{"$f":"'60'!E120","v":0},{"$f":"'300'!E126","v":"00:01:29.020"},{"$f":"'1000'!E120","v":"00:00:00"},{"$f":"DÁLKA!E120","v":0},{"$f":"VÝŠKA!E120","v":0},{"$f":"MÍČEK!E120","v":0},{"$f":"KOULE!E120","v":6.72},{"$f":"OŠTĚP!E120","v":0},{"$f":"ČLUNEK!E120","v":14.74},{"$f":"LEHSED!E120","v":0},{"$f":"ODBÍJENÍ!E120","v":0},{"$f":"PLAVÁNÍ!E120","v":0},{"$f":"SHYBY!E120","v":0},{"$f":"ŠPLH!E120","v":0},{"$f":"ŠVIHADLO!E120","v":49},{"$f":"'Z MÍSTA'!E120","v":146},{"$f":"REPRE!E23","v":0},{"$f":"ROČ!W140","v":1867.7482180009044}]
[{"$f":"'60'!B121","v":"DEMČUK"},{"$f":"'60'!C121","v":"Ilja"},{"$f":"'60'!E121","v":9.66},{"$f":"'300'!E127","v":"00:01:06.760"},{"$f":"'1000'!E121","v":"00:04:08.480"},{"$f":"DÁLKA!E121","v":367},{"$f":"VÝŠKA!E121","v":120},{"$f":"MÍČEK!E121","v":31},{"$f":"KOULE!E121","v":6.49},{"$f":"OŠTĚP!E121","v":0},{"$f":"ČLUNEK!E121","v":11.37},{"$f":"LEHSED!E121","v":38},{"$f":"ODBÍJENÍ!E121","v":6},{"$f":"PLAVÁNÍ!E121","v":0},{"$f":"SHYBY!E121","v":1},{"$f":"ŠPLH!E121","v":0},{"$f":"ŠVIHADLO!E121","v":48},{"$f":"'Z MÍSTA'!E121","v":182},{"$f":"REPRE!E24","v":0},{"$f":"ROČ!W141","v":6706.7396113567029}]
[{"$f":"'60'!B122","v":"FAISTAUER"},{"$f":"'60'!C122","v":"Kryštof"},{"$f":"'60'!E122","v":8.89},{"$f":"'300'!E128","v":"00:01:09.540"},{"$f":"'1000'!E122","v":"00:04:01.820"},{"$f":"DÁLKA!E122","v":380},{"$f":"VÝŠKA!E122","v":130},{"$f":"MÍČEK!E122","v":45},{"$f":"KOULE!E122","v":6.11},{"$f":"OŠTĚP!E122","v":0},{"$f":"ČLUNEK!E122","v":10.71},{"$f":"LEHSED!E122","v":46},{"$f":"ODBÍJENÍ!E122","v":10},{"$f":"PLAVÁNÍ!E122","v":0},{"$f":"SHYBY!E122","v":0},{"$f":"ŠPLH!E122","v":5.92},{"$f":"ŠVIHADLO!E122","v":84},{"$f":"'Z MÍSTA'!E122","v":213},{"$f":"REPRE!E25","v":200},{"$f":"ROČ!W142","v":8137.0701729165185}]
[{"$f":"'60'!B123","v":"FRK"},{"$f":"'60'!C123","v":"Matyáš"},{"$f":"'60'!E123","v":12.22},{"$f":"'300'!E129","v":"00:01:04.170"},{"$f":"'1000'!E123","v":"00:07:03.570"},{"$f":"DÁLKA!E123","v":292},{"$f":"VÝŠKA!E123","v":0},{"$f":"MÍČEK!E123","v":26},{"$f":"KOULE!E123","v":5.63},{"$f":"OŠTĚP!E123","v":0},{"$f":"ČLUNEK!E123","v":12.65},{"$f":"LEHSED!E123","v":35},{"$f":"ODBÍJENÍ!E123","v":9},{"$f":"PLAVÁNÍ!E123","v":0},{"$f":"SHYBY!E123","v":0},{"$f":"ŠPLH!E123","v":0},{"$f":"ŠVIHADLO!E123","v":0},{"$f":"'Z MÍSTA'!E123","v":170},{"$f":"REPRE!E26","v":0},{"$f":"ROČ!W143","v":4565.9704943096094}]
[{"$f":"'60'!B124","v":"HUBÁLOVSKÝ"},{"$f":"'60'!C124","v":"Marek"},{"$f":"'60'!E124","v":10.84},{"$f":"'300'!E130","v":"00:00:00"},{"$f":"'1000'!E124","v":"00:04:33.040"},{"$f":"DÁLKA!E124","v":326},{"$f":"VÝŠKA!E124","v":115},{"$f":"MÍČEK!E124","v":34},{"$f":"KOULE!E124","v":5.12},{"$f":"OŠTĚP!E124","v":0},{"$f":"ČLUNEK!E124","v":11.48},{"$f":"LEHSED!E124","v":45},{"$f":"ODBÍJENÍ!E124","v":19},{"$f":"PLAVÁNÍ!E124","v":0},{"$f":"SHYBY!E124","v":0},{"$f":"ŠPLH!E124","v":25},{"$f":"ŠVIHADLO!E124","v":67},{"$f":"'Z MÍSTA'!E124","v":191},{"$f":"REPRE!E27","v":0},{"$f":"ROČ!W144","v":6938.0324355992716}]
[{"$f":"'60'!B125","v":"MAŘAS"},{"$f":"'60'!C125","v":"Dominik"},{"$f":"'60'!E125","v":0},{"$f":"'300'!E131","v":"00:02:06.130"},{"$f":"'1000'!E125","v":"00:07:02.110"},{"$f":"DÁLKA!E125","v":262},{"$f":"VÝŠKA!E125","v":110},{"$f":"MÍČEK!E125","v":28},{"$f":"KOULE!E125","v":5.2},{"$f":"OŠTĚP!E125","v":0},{"$f":"ČLUNEK!E125","v":13.81},{"$f":"LEHSED!E125","v":0},{"$f":"ODBÍJENÍ!E125","v":6},{"$f":"PLAVÁNÍ!E125","v":0},{"$f":"SHYBY!E125","v":1},{"$f":"ŠPLH!E125","v":0},{"$f":"ŠVIHADLO!E125","v":0},{"$f":"'Z MÍSTA'!E125","v":203},{"$f":"REPRE!E28","v":0},{"$f":"ROČ!W145","v":4109.171719234887}]
[{"$f":"'60'!B126","v":"MAŤÁTKO"},{"$f":"'60'!C126","v":"Jakub"},{"$f":"'60'!E126","v":0},{"$f":"'300'!E132","v":"00:00:48.360"},{"$f":"'1000'!E126","v":"00:00:00"},{"$f":"DÁLKA!E126","v":0},{"$f":"VÝŠKA!E126","v":110},{"$f":"MÍČEK!E126","v":25},{"$f":"KOULE!E126","v":0},{"$f":"OŠTĚP!E126","v":0},{"$f":"ČLUNEK!E126","v":14.13},{"$f":"LEHSED!E126","v":0},{"$f":"ODBÍJENÍ!E126","v":0},{"$f":"PLAVÁNÍ!E126","v":0},{"$f":"SHYBY!E126","v":0},{"$f":"ŠPLH!E126","v":0},{"$f":"ŠVIHADLO!E126","v":0},{"$f":"'Z MÍSTA'!E126","v":140},{"$f":"REPRE!E29","v":0},{"$f":"ROČ!W146","v":2263.4763465159317}]
[{"$f":"'60'!B127","v":"MERY"},{"$f":"'60'!C127","v":"Luboš"},{"$f":"'60'!E127","v":10.94},{"$f":"'300'!E133","v":"00:01:16.350"},{"$f":"'1000'!E127","v":"00:04:45.950"},{"$f":"DÁLKA!E127","v":322},{"$f":"VÝŠKA!E127","v":0},{"$f":"MÍČEK!E127","v":21},{"$f":"KOULE!E127","v":4.9000000000000004},{"$f":"OŠTĚP!E127","v":0},{"$f":"ČLUNEK!E127","v":12.05},{"$f":"LEHSED!E127","v":36},{"$f":"ODBÍJENÍ!E127","v":6},{"$f":"PLAVÁNÍ!E127","v":0},{"$f":"SHYBY!E127","v":0},{"$f":"ŠPLH!E127","v":0},{"$f":"ŠVIHADLO!E127","v":35},{"$f":"'Z MÍSTA'!E127","v":160},{"$f":"REPRE!E30","v":0},{"$f":"ROČ!W147","v":5066.5570858221545}]
[{"$f":"'60'!B128","v":"NOVOTNÝ"},{"$f":"'60'!C128","v":"Matěj"},{"$f":"'60'!E128","v":10.98},{"$f":"'300'!E134","v":"00:00:54.880"},{"$f":"'1000'!E128","v":"00:06:27.700"},{"$f":"DÁLKA!E128","v":291},{"$f":"VÝŠKA!E128","v":0},{"$f":"MÍČEK!E128","v":25.5},{"$f":"KOULE!E128","v":5.88},{"$f":"OŠTĚP!E128","v":0},{"$f":"ČLUNEK!E128","v":12.45},{"$f":"LEHSED!E128","v":33},{"$f":"ODBÍJENÍ!E128","v":11},{"$f":"PLAVÁNÍ!E128","v":0},{"$f":"SHYBY!E128","v":0},{"$f":"ŠPLH!E128","v":0},{"$f":"ŠVIHADLO!E128","v":69},{"$f":"'Z MÍSTA'!E128","v":154},{"$f":"REPRE!E31","v":0},{"$f":"ROČ!W148","v":5099.5791882583071}]
[{"$f":"'60'!B129","v":"ŘEHOŘEK"},{"$f":"'60'!C129","v":"Vojtěch"},{"$f":"'60'!E129","v":10.43},{"$f":"'300'!E135","v":"00:00:00"},{"$f":"'1000'!E129","v":"00:04:56.860"},{"$f":"DÁLKA!E129","v":351},{"$f":"VÝŠKA!E129","v":110},{"$f":"MÍČEK!E129","v":44.8},{"$f":"KOULE!E129","v":6.5},{"$f":"OŠTĚP!E129","v":0},{"$f":"ČLUNEK!E129","v":12.03},{"$f":"LEHSED!E129","v":33},{"$f":"ODBÍJENÍ!E129","v":11},{"$f":"PLAVÁNÍ!E129","v":0},{"$f":"SHYBY!E129","v":0},{"$f":"ŠPLH!E129","v":0},{"$f":"ŠVIHADLO!E129","v":95},{"$f":"'Z MÍSTA'!E129","v":178},{"$f":"REPRE!E32","v":200},{"$f":"ROČ!W149","v":6792.9633499386682}]
[{"$f":"'60'!B130","v":"ŠÍR"},{"$f":"'60'!C130","v":"Matyáš"},{"$f":"'60'!E130","v":10.82},{"$f":"'300'!E136","v":"00:00:55.190"},{"$f":"'1000'!E130","v":"00:04:37.540"},{"$f":"DÁLKA!E130","v":293},{"$f":"VÝŠKA!E130","v":98},{"$f":"MÍČEK!E130","v":25},{"$f":"KOULE!E130","v":3.72},{"$f":"OŠTĚP!E130","v":0},{"$f":"ČLUNEK!E130","v":13.26},{"$f":"LEHSED!E130","v":35},{"$f":"ODBÍJENÍ!E130","v":10},{"$f":"PLAVÁNÍ!E130","v":0},{"$f":"SHYBY!E130","v":0},{"$f":"ŠPLH!E130","v":0},{"$f":"ŠVIHADLO!E130","v":66},{"$f":"'Z MÍSTA'!E130","v":141},{"$f":"REPRE!E33","v":0},{"$f":"ROČ!W150","v":5118.9423207920727}]
[{"$f":"'60'!B131","v":"TORÁČ"},{"$f":"'60'!C131","v":"Tomáš"},{"$f":"'60'!E131","v":0},{"$f":"'300'!E137","v":"00:01:00.920"},{"$f":"'1000'!E131","v":"00:08:31.860"},{"$f":"DÁLKA!E131","v":184},{"$f":"VÝŠKA!E131","v":90},{"$f":"MÍČEK!E131","v":17.5},{"$f":"KOULE!E131","v":4.54},{"$f":"OŠTĚP!E131","v":0},{"$f":"ČLUNEK!E131","v":16.54},{"$f":"LEHSED!E131","v":30},{"$f":"ODBÍJENÍ!E131","v":6},{"$f":"PLAVÁNÍ!E131","v":0},{"$f":"SHYBY!E131","v":0},{"$f":"ŠPLH!E131","v":0},{"$f":"ŠVIHADLO!E131","v":28},{"$f":"'Z MÍSTA'!E131","v":90},{"$f":"REPRE!E34","v":0},{"$f":"ROČ!W151","v":3255.1238388276824}]
[{"$f":"'60'!B132","v":"ULLMAN"},{"$f":"'60'!C132","v":"Šimon"},{"$f":"'60'!E132","v":8.3800000000000008},{"$f":"'300'!E138","v":"00:00:00"},{"$f":"'1000'!E132","v":"00:04:09.990"},{"$f":"DÁLKA!E132","v":348},{"$f":"VÝŠKA!E132","v":120},{"$f":"MÍČEK!E132","v":0},{"$f":"KOULE!E132","v":5.29},{"$f":"OŠTĚP!E132","v":0},{"$f":"ČLUNEK!E132","v":10.73},{"$f":"LEHSED!E132","v":46},{"$f":"ODBÍJENÍ!E132","v":9},{"$f":"PLAVÁNÍ!E132","v":0},{"$f":"SHYBY!E132","v":8},{"$f":"ŠPLH!E132","v":5.51},{"$f":"ŠVIHADLO!E132","v":49},{"$f":"'Z MÍSTA'!E132","v":230},{"$f":"REPRE!E35","v":0},{"$f":"ROČ!W152","v":7804.7474981192781}]
[{"$f":"'60'!B133","v":"VÁCLAVÍK"},{"$f":"'60'!C133","v":"Ondřej"},{"$f":"'60'!E133","v":9.14},{"$f":"'300'!E139","v":"00:00:43.530"},{"$f":"'1000'!E133","v":"00:04:04.290"},{"$f":"DÁLKA!E133","v":394},{"$f":"VÝŠKA!E133","v":108},{"$f":"MÍČEK!E133","v":42},{"$f":"KOULE!E133","v":0},{"$f":"OŠTĚP!E133","v":0},{"$f":"ČLUNEK!E133","v":10.64},{"$f":"LEHSED!E133","v":42},{"$f":"ODBÍJENÍ!E133","v":16},{"$f":"PLAVÁNÍ!E133","v":0},{"$f":"SHYBY!E133","v":11},{"$f":"ŠPLH!E133","v":5.92},{"$f":"ŠVIHADLO!E133","v":83},{"$f":"'Z MÍSTA'!E133","v":202},{"$f":"REPRE!E36","v":25},{"$f":"ROČ!W153","v":7760.4135390055962}]
[{"$f":"'60'!B134","v":"AUERSWALD"},{"$f":"'60'!C134","v":"Daniel"},{"$f":"'60'!E134","v":9.61},{"$f":"'300'!E140","v":"00:00:55.050"},{"$f":"'1000'!E134","v":"00:04:33.760"},{"$f":"DÁLKA!E134","v":380},{"$f":"VÝŠKA!E134","v":108},{"$f":"MÍČEK!E134","v":29},{"$f":"KOULE!E134","v":0},{"$f":"OŠTĚP!E134","v":0},{"$f":"ČLUNEK!E134","v":0},{"$f":"LEHSED!E134","v":40},{"$f":"ODBÍJENÍ!E134","v":15},{"$f":"PLAVÁNÍ!E134","v":0},{"$f":"SHYBY!E134","v":3},{"$f":"ŠPLH!E134","v":7.85},{"$f":"ŠVIHADLO!E134","v":85},{"$f":"'Z MÍSTA'!E134","v":209},{"$f":"REPRE!E37","v":25},{"$f":"ROČ!W154","v":6246.7810709809019}]
[{"$f":"'60'!B135","v":"BODLÁK"},{"$f":"'60'!C135","v":"Vladimír"},{"$f":"'60'!E135","v":0},{"$f":"'300'!E141","v":"00:00:48.020"},{"$f":"'1000'!E135","v":"00:00:00"},{"$f":"DÁLKA!E135","v":0},{"$f":"VÝŠKA!E135","v":0},{"$f":"MÍČEK!E135","v":0},{"$f":"KOULE!E135","v":0},{"$f":"OŠTĚP!E135","v":0},{"$f":"ČLUNEK!E135","v":0},{"$f":"LEHSED!E135","v":0},{"$f":"ODBÍJENÍ!E135","v":0},{"$f":"PLAVÁNÍ!E135","v":0},{"$f":"SHYBY!E135","v":0},{"$f":"ŠPLH!E135","v":0},{"$f":"ŠVIHADLO!E135","v":0},{"$f":"'Z MÍSTA'!E135","v":0},{"$f":"REPRE!E38","v":0},{"$f":"ROČ!W155","v":0}]
[{"$f":"'60'!B136","v":"BUDÍN"},{"$f":"'60'!C136","v":"Martin"},{"$f":"'60'!E136","v":9.67},{"$f":"'300'!E142","v":"00:00:46.890"},{"$f":"'1000'!E136","v":"00:03:40.660"},{"$f":"DÁLKA!E136","v":333},{"$f":"VÝŠKA!E136","v":110},{"$f":"MÍČEK!E136","v":37},{"$f":"KOULE!E136","v":5.27},{"$f":"OŠTĚP!E136","v":0},{"$f":"ČLUNEK!E136","v":11.04},{"$f":"LEHSED!E136","v":40},{"$f":"ODBÍJENÍ!E136","v":9},{"$f":"PLAVÁNÍ!E136","v":0},{"$f":"SHYBY!E136","v":5},{"$f":"ŠPLH!E136","v":7.91},{"$f":"ŠVIHADLO!E136","v":132},{"$f":"'Z MÍSTA'!E136","v":200},{"$f":"REPRE!E39","v":0},{"$f":"ROČ!W156","v":7992.5828558143312}]
[{"$f":"'60'!B137","v":"DVOŘÁK"},{"$f":"'60'!C137","v":"Dominik"},{"$f":"'60'!E137","v":11.05},{"$f":"'300'!E143","v":"00:00:48.620"},{"$f":"'1000'!E137","v":"00:00:00"},{"$f":"DÁLKA!E137","v":291},{"$f":"VÝŠKA!E137","v":110},{"$f":"MÍČEK!E137","v":31},{"$f":"KOULE!E137","v":6.24},{"$f":"OŠTĚP!E137","v":0},{"$f":"ČLUNEK!E137","v":12.04},{"$f":"LEHSED!E137","v":42},{"$f":"ODBÍJENÍ!E137","v":9},{"$f":"PLAVÁNÍ!E137","v":0},{"$f":"SHYBY!E137","v":0},{"$f":"ŠPLH!E137","v":9.0399999999999991},{"$f":"ŠVIHADLO!E137","v":71},{"$f":"'Z MÍSTA'!E137","v":178},{"$f":"REPRE!E40","v":0},{"$f":"ROČ!W157","v":6026.5872400589233}]
[{"$f":"'60'!B138","v":"FIŠERA"},{"$f":"'60'!C138","v":"Vojtěch"},{"$f":"'60'!E138","v":10.24},{"$f":"'300'!E144","v":"00:00:44.070"},{"$f":"'1000'!E138","v":"00:04:36.060"},{"$f":"DÁLKA!E138","v":302},{"$f":"VÝŠKA!E138","v":103},{"$f":"MÍČEK!E138","v":19},{"$f":"KOULE!E138","v":5.51},{"$f":"OŠTĚP!E138","v":0},{"$f":"ČLUNEK!E138","v":11.87},{"$f":"LEHSED!E138","v":44},{"$f":"ODBÍJENÍ!E138","v":9},{"$f":"PLAVÁNÍ!E138","v":0},{"$f":"SHYBY!E138","v":0},{"$f":"ŠPLH!E138","v":25},{"$f":"ŠVIHADLO!E138","v":40},{"$f":"'Z MÍSTA'!E138","v":167},{"$f":"REPRE!E41","v":0},{"$f":"ROČ!W158","v":5603.5669652570787}]
[{"$f":"'60'!B139","v":"JINDŘIŠEK"},{"$f":"'60'!C139","v":"Vít"},{"$f":"'60'!E139","v":8.24},{"$f":"'300'!E145","v":"00:01:06.520"},{"$f":"'1000'!E139","v":"00:03:18.470"},{"$f":"DÁLKA!E139","v":428},{"$f":"VÝŠKA!E139","v":136},{"$f":"MÍČEK!E139","v":52.9},{"$f":"KOULE!E139","v":7.91},{"$f":"OŠTĚP!E139","v":0},{"$f":"ČLUNEK!E139","v":10.34},{"$f":"LEHSED!E139","v":50},{"$f":"ODBÍJENÍ!E139","v":43},{"$f":"PLAVÁNÍ!E139","v":0},{"$f":"SHYBY!E139","v":15},{"$f":"ŠPLH!E139","v":4.78},{"$f":"ŠVIHADLO!E139","v":114},{"$f":"'Z MÍSTA'!E139","v":229},{"$f":"REPRE!E42","v":250},{"$f":"ROČ!W159","v":10736.790076473109}]
[{"$f":"'60'!B140","v":"JIROUŠ"},{"$f":"'60'!C140","v":"Matouš"},{"$f":"'60'!E140","v":9.5500000000000007},{"$f":"'300'!E146","v":"00:00:00"},{"$f":"'1000'!E140","v":"00:00:00"},{"$f":"DÁLKA!E140","v":381},{"$f":"VÝŠKA!E140","v":108},{"$f":"MÍČEK!E140","v":29.5},{"$f":"KOULE!E140","v":5.9},{"$f":"OŠTĚP!E140","v":0},{"$f":"ČLUNEK!E140","v":11.73},{"$f":"LEHSED!E140","v":45},{"$f":"ODBÍJENÍ!E140","v":14},{"$f":"PLAVÁNÍ!E140","v":0},{"$f":"SHYBY!E140","v":2},{"$f":"ŠPLH!E140","v":9.4600000000000009},{"$f":"ŠVIHADLO!E140","v":103},{"$f":"'Z MÍSTA'!E140","v":201},{"$f":"REPRE!E43","v":75},{"$f":"ROČ!W160","v":6899.767625290192}]
[{"$f":"'60'!B141","v":"KERLE"},{"$f":"'60'!C141","v":"Marek"},{"$f":"'60'!E141","v":8.84},{"$f":"'300'!E147","v":"00:00:48.980"},{"$f":"'1000'!E141","v":"00:03:57.050"},{"$f":"DÁLKA!E141","v":433},{"$f":"VÝŠKA!E141","v":138},{"$f":"MÍČEK!E141","v":46},{"$f":"KOULE!E141","v":7.25},{"$f":"OŠTĚP!E141","v":0},{"$f":"ČLUNEK!E141","v":10.51},{"$f":"LEHSED!E141","v":56},{"$f":"ODBÍJENÍ!E141","v":43},{"$f":"PLAVÁNÍ!E141","v":0},{"$f":"SHYBY!E141","v":12},{"$f":"ŠPLH!E141","v":4.22},{"$f":"ŠVIHADLO!E141","v":104},{"$f":"'Z MÍSTA'!E141","v":201},{"$f":"REPRE!E44","v":175},{"$f":"ROČ!W161","v":9980.9329198949908}]
[{"$f":"'60'!B142","v":"LUKEŠ"},{"$f":"'60'!C142","v":"Jakub"},{"$f":"'60'!E142","v":8.73},{"$f":"'300'!E148","v":"00:00:56.960"},{"$f":"'1000'!E142","v":"00:03:31.960"},{"$f":"DÁLKA!E142","v":423},{"$f":"VÝŠKA!E142","v":146},{"$f":"MÍČEK!E142","v":24},{"$f":"KOULE!E142","v":4.95},{"$f":"OŠTĚP!E142","v":0},{"$f":"ČLUNEK!E142","v":11.05},{"$f":"LEHSED!E142","v":40},{"$f":"ODBÍJENÍ!E142","v":19},{"$f":"PLAVÁNÍ!E142","v":0},{"$f":"SHYBY!E142","v":7},{"$f":"ŠPLH!E142","v":6.04},{"$f":"ŠVIHADLO!E142","v":85},{"$f":"'Z MÍSTA'!E142","v":241},{"$f":"REPRE!E45","v":125},{"$f":"ROČ!W162","v":8726.2760883591}]
[{"$f":"'60'!B143","v":"OTT"},{"$f":"'60'!C143","v":"Matyáš"},{"$f":"'60'!E143","v":8.69},{"$f":"'300'!E149","v":"00:00:44.880"},{"$f":"'1000'!E143","v":"00:03:24.090"},{"$f":"DÁLKA!E143","v":392},{"$f":"VÝŠKA!E143","v":125},{"$f":"MÍČEK!E143","v":35},{"$f":"KOULE!E143","v":6.12},{"$f":"OŠTĚP!E143","v":0},{"$f":"ČLUNEK!E143","v":10.84},{"$f":"LEHSED!E143","v":40},{"$f":"ODBÍJENÍ!E143","v":24},{"$f":"PLAVÁNÍ!E143","v":22.13},{"$f":"SHYBY!E143","v":9},{"$f":"ŠPLH!E143","v":8},{"$f":"ŠVIHADLO!E143","v":125},{"$f":"'Z MÍSTA'!E143","v":191},{"$f":"REPRE!E46","v":175},{"$f":"ROČ!W163","v":9557.5292670079725}]
[{"$f":"'60'!B144","v":"POKORNÝ"},{"$f":"'60'!C144","v":"Matyáš"},{"$f":"'60'!E144","v":8.58},{"$f":"'300'!E150","v":"00:01:09.690"},{"$f":"'1000'!E144","v":"00:03:14.690"},{"$f":"DÁLKA!E144","v":445},{"$f":"VÝŠKA!E144","v":135},{"$f":"MÍČEK!E144","v":45},{"$f":"KOULE!E144","v":5.51},{"$f":"OŠTĚP!E144","v":0},{"$f":"ČLUNEK!E144","v":9.84},{"$f":"LEHSED!E144","v":73},{"$f":"ODBÍJENÍ!E144","v":24},{"$f":"PLAVÁNÍ!E144","v":0},{"$f":"SHYBY!E144","v":14},{"$f":"ŠPLH!E144","v":5.85},{"$f":"ŠVIHADLO!E144","v":129},{"$f":"'Z MÍSTA'!E144","v":222},{"$f":"REPRE!E47","v":250},{"$f":"ROČ!W164","v":10590.682002122396}]
[{"$f":"'60'!B145","v":"POLÁČEK"},{"$f":"'60'!C145","v":"Matyáš"},{"$f":"'60'!E145","v":10.99},{"$f":"'300'!E151","v":"00:00:46.380"},{"$f":"'1000'!E145","v":"00:00:00"},{"$f":"DÁLKA!E145","v":299},{"$f":"VÝŠKA!E145","v":98},{"$f":"MÍČEK!E145","v":37},{"$f":"KOULE!E145","v":5.3},{"$f":"OŠTĚP!E145","v":0},{"$f":"ČLUNEK!E145","v":0},{"$f":"LEHSED!E145","v":39},{"$f":"ODBÍJENÍ!E145","v":11},{"$f":"PLAVÁNÍ!E145","v":0},{"$f":"SHYBY!E145","v":0},{"$f":"ŠPLH!E145","v":0},{"$f":"ŠVIHADLO!E145","v":59},{"$f":"'Z MÍSTA'!E145","v":165},{"$f":"REPRE!E48","v":25},{"$f":"ROČ!W165","v":4795.5392635868666}]
[{"$f":"'60'!B146","v":"SOUKUP"},{"$f":"'60'!C146","v":"Patrik"},{"$f":"'60'!E146","v":0},{"$f":"'300'!E152","v":"00:00:57.910"},{"$f":"'1000'!E146","v":"00:00:00"},{"$f":"DÁLKA!E146","v":0},{"$f":"VÝŠKA!E146","v":0},{"$f":"MÍČEK!E146","v":0},{"$f":"KOULE!E146","v":0},{"$f":"OŠTĚP!E146","v":0},{"$f":"ČLUNEK!E146","v":0},{"$f":"LEHSED!E146","v":0},{"$f":"ODBÍJENÍ!E146","v":0},{"$f":"PLAVÁNÍ!E146","v":0},{"$f":"SHYBY!E146","v":0},{"$f":"ŠPLH!E146","v":0},{"$f":"ŠVIHADLO!E146","v":0},{"$f":"'Z MÍSTA'!E146","v":0},{"$f":"REPRE!E49","v":0},{"$f":"ROČ!W166","v":0}]
[{"$f":"'60'!B147","v":"VALENTA"},{"$f":"'60'!C147","v":"Jakub"},{"$f":"'60'!E147","v":9.8699999999999992},{"$f":"'300'!E153","v":"00:00:46.990"},{"$f":"'1000'!E147","v":"00:03:36.140"},{"$f":"DÁLKA!E147","v":0},{"$f":"VÝŠKA!E147","v":130},{"$f":"MÍČEK!E147","v":28},{"$f":"KOULE!E147","v":5.4},{"$f":"OŠTĚP!E147","v":0},{"$f":"ČLUNEK!E147","v":10.54},{"$f":"LEHSED!E147","v":60},{"$f":"ODBÍJENÍ!E147","v":24},{"$f":"PLAVÁNÍ!E147","v":0},{"$f":"SHYBY!E147","v":0},{"$f":"ŠPLH!E147","v":5.34},{"$f":"ŠVIHADLO!E147","v":89},{"$f":"'Z MÍSTA'!E147","v":194},{"$f":"REPRE!E50","v":250},{"$f":"ROČ!W167","v":7662.8179791801731}]
[{"$f":"'60'!B148","v":"VRBATA"},{"$f":"'60'!C148","v":"Dominik"},{"$f":"'60'!E148","v":9.74},{"$f":"'300'!E154","v":"00:00:51.300"},{"$f":"'1000'!E148","v":"00:04:05.640"},{"$f":"DÁLKA!E148","v":375},{"$f":"VÝŠKA!E148","v":108},{"$f":"MÍČEK!E148","v":37},{"$f":"KOULE!E148","v":6.41},{"$f":"OŠTĚP!E148","v":0},{"$f":"ČLUNEK!E148","v":11.65},{"$f":"LEHSED!E148","v":42},{"$f":"ODBÍJENÍ!E148","v":16},{"$f":"PLAVÁNÍ!E148","v":21.7},{"$f":"SHYBY!E148","v":9},{"$f":"ŠPLH!E148","v":4.18},{"$f":"ŠVIHADLO!E148","v":106},{"$f":"'Z MÍSTA'!E148","v":192},{"$f":"REPRE!E51","v":125},{"$f":"ROČ!W168","v":9087.167854179952}]
[]
[]
["SPORTOVEC  ŠKOLY  2020 - 2021",null,null,null,null,null,null,null,null,"CHLAPCI  8. ROČNÍK"]
[]
[null,null,"60  m  ","300m","1000m","dálka","výška","míček","koule","oštěp","člunek","lehsed","odbíjení ","plavání","shyby","šplh","švihadlo","z místa"," REPRE","  BODY"]
[{"$f":"'60'!B149","v":"FEJKL"},{"$f":"'60'!C149","v":"Jan"},{"$f":"'60'!E149","v":7.92},{"$f":"'300'!E158","v":"00:00:58.820"},{"$f":"'1000'!E149","v":"00:03:31.980"},{"$f":"DÁLKA!E149","v":464},{"$f":"VÝŠKA!E149","v":145},{"$f":"MÍČEK!E149","v":61},{"$f":"KOULE!E149","v":7.58},{"$f":"OŠTĚP!E149","v":0},{"$f":"ČLUNEK!E149","v":9.94},{"$f":"LEHSED!E149","v":51},{"$f":"ODBÍJENÍ!E149","v":52},{"$f":"PLAVÁNÍ!E149","v":0},{"$f":"SHYBY!E149","v":0},{"$f":"ŠPLH!E149","v":4.07},{"$f":"ŠVIHADLO!E149","v":101},{"$f":"'Z MÍSTA'!E149","v":232},{"$f":"REPRE!E52","v":125},{"$f":"ROČ!W169","v":9757.2940672686909}]
[{"$f":"'60'!B150","v":"KOTYK"},{"$f":"'60'!C150","v":"Tadeáš"},{"$f":"'60'!E150","v":10.72},{"$f":"'300'!E159","v":"00:00:51.270"},{"$f":"'1000'!E150","v":"00:08:13.460"},{"$f":"DÁLKA!E150","v":287},{"$f":"VÝŠKA!E150","v":95},{"$f":"MÍČEK!E150","v":26},{"$f":"KOULE!E150","v":6.98},{"$f":"OŠTĚP!E150","v":0},{"$f":"ČLUNEK!E150","v":11.88},{"$f":"LEHSED!E150","v":33},{"$f":"ODBÍJENÍ!E150","v":32},{"$f":"PLAVÁNÍ!E150","v":0},{"$f":"SHYBY!E150","v":0},{"$f":"ŠPLH!E150","v":0},{"$f":"ŠVIHADLO!E150","v":73},{"$f":"'Z MÍSTA'!E150","v":181},{"$f":"REPRE!E53","v":0},{"$f":"ROČ!W170","v":5949.4993445113614}]
[{"$f":"'60'!B151","v":"KRAUSE"},{"$f":"'60'!C151","v":"Tadeáš"},{"$f":"'60'!E151","v":8.69},{"$f":"'300'!E160","v":"00:00:00"},{"$f":"'1000'!E151","v":"00:03:27"},{"$f":"DÁLKA!E151","v":457},{"$f":"VÝŠKA!E151","v":143},{"$f":"MÍČEK!E151","v":37.5},{"$f":"KOULE!E151","v":7.32},{"$f":"OŠTĚP!E151","v":0},{"$f":"ČLUNEK!E151","v":10.039999999999999},{"$f":"LEHSED!E151","v":51},{"$f":"ODBÍJENÍ!E151","v":32},{"$f":"PLAVÁNÍ!E151","v":0},{"$f":"SHYBY!E151","v":0},{"$f":"ŠPLH!E151","v":5.07},{"$f":"ŠVIHADLO!E151","v":171},{"$f":"'Z MÍSTA'!E151","v":221},{"$f":"REPRE!E54","v":125},{"$f":"ROČ!W171","v":9450.1826045508988}]
[{"$f":"'60'!B152","v":"LEŠÁK"},{"$f":"'60'!C152","v":"Martin"},{"$f":"'60'!E152","v":10.38},{"$f":"'300'!E161","v":"00:00:50.120"},{"$f":"'1000'!E152","v":"00:04:54.750"},{"$f":"DÁLKA!E152","v":371},{"$f":"VÝŠKA!E152","v":118},{"$f":"MÍČEK!E152","v":30},{"$f":"KOULE!E152","v":6.91},{"$f":"OŠTĚP!E152","v":0},{"$f":"ČLUNEK!E152","v":11.88},{"$f":"LEHSED!E152","v":29},{"$f":"ODBÍJENÍ!E152","v":31},{"$f":"PLAVÁNÍ!E152","v":0},{"$f":"SHYBY!E152","v":0},{"$f":"ŠPLH!E152","v":0},{"$f":"ŠVIHADLO!E152","v":56},{"$f":"'Z MÍSTA'!E152","v":170},{"$f":"REPRE!E55","v":0},{"$f":"ROČ!W172","v":6452.2141930701882}]
[{"$f":"'60'!B153","v":"NECHANICKÝ"},{"$f":"'60'!C153","v":"David"},{"$f":"'60'!E153","v":7.89},{"$f":"'300'!E162","v":"00:00:57.420"},{"$f":"'1000'!E153","v":"00:03:56"},{"$f":"DÁLKA!E153","v":461},{"$f":"VÝŠKA!E153","v":123},{"$f":"MÍČEK!E153","v":43},{"$f":"KOULE!E153","v":8.3000000000000007},{"$f":"OŠTĚP!E153","v":0},{"$f":"ČLUNEK!E153","v":9.9700000000000006},{"$f":"LEHSED!E153","v":38},{"$f":"ODBÍJENÍ!E153","v":52},{"$f":"PLAVÁNÍ!E153","v":0},{"$f":"SHYBY!E153","v":4},{"$f":"ŠPLH!E153","v":6.04},{"$f":"ŠVIHADLO!E153","v":107},{"$f":"'Z MÍSTA'!E153","v":250},{"$f":"REPRE!E56","v":175},{"$f":"ROČ!W173","v":9414.4773200768959}]
[{"$f":"'60'!B154","v":"ŘEHOŘEK"},{"$f":"'60'!C154","v":"Jan"},{"$f":"'60'!E154","v":8.66},{"$f":"'300'!E163","v":"00:01:07.910"},{"$f":"'1000'!E154","v":"00:04:13.920"},{"$f":"DÁLKA!E154","v":412},{"$f":"VÝŠKA!E154","v":139},{"$f":"MÍČEK!E154","v":39},{"$f":"KOULE!E154","v":5.9},{"$f":"OŠTĚP!E154","v":0},{"$f":"ČLUNEK!E154","v":10.43},{"$f":"LEHSED!E154","v":40},{"$f":"ODBÍJENÍ!E154","v":345},{"$f":"PLAVÁNÍ!E154","v":0},{"$f":"SHYBY!E154","v":0},{"$f":"ŠPLH!E154","v":9.06},{"$f":"ŠVIHADLO!E154","v":134},{"$f":"'Z MÍSTA'!E154","v":210},{"$f":"REPRE!E57","v":125},{"$f":"ROČ!W174","v":8885.3115357933912}]
[{"$f":"'60'!B155","v":"SOUKUP"},{"$f":"'60'!C155","v":"Ondřej"},{"$f":"'60'!E155","v":9.6199999999999992},{"$f":"'300'!E164","v":"00:00:56.220"},{"$f":"'1000'!E155","v":"00:00:00"},{"$f":"DÁLKA!E155","v":311},{"$f":"VÝŠKA!E155","v":103},{"$f":"MÍČEK!E155","v":0},{"$f":"KOULE!E155","v":7.75},{"$f":"OŠTĚP!E155","v":0},{"$f":"ČLUNEK!E155","v":11.63},{"$f":"LEHSED!E155","v":47},{"$f":"ODBÍJENÍ!E155","v":273},{"$f":"PLAVÁNÍ!E155","v":0},{"$f":"SHYBY!E155","v":0},{"$f":"ŠPLH!E155","v":25},{"$f":"ŠVIHADLO!E155","v":152},{"$f":"'Z MÍSTA'!E155","v":170},{"$f":"REPRE!E58","v":75},{"$f":"ROČ!W175","v":6416.3127332357853}]
[{"$f":"'60'!B156","v":"SPANILÝ"},{"$f":"'60'!C156","v":"David"},{"$f":"'60'!E156","v":8.42},{"$f":"'300'!E165","v":"00:00:51.560"},{"$f":"'1000'!E156","v":"00:03:37"},{"$f":"DÁLKA!E156","v":459},{"$f":"VÝŠKA!E156","v":123},{"$f":"MÍČEK!E156","v":59},{"$f":"KOULE!E156","v":7.9},{"$f":"OŠTĚP!E156","v":0},{"$f":"ČLUNEK!E156","v":10.32},{"$f":"LEHSED!E156","v":44},{"$f":"ODBÍJENÍ!E156","v":345},{"$f":"PLAVÁNÍ!E156","v":0},{"$f":"SHYBY!E156","v":4},{"$f":"ŠPLH!E156","v":3.81},{"$f":"ŠVIHADLO!E156","v":144},{"$f":"'Z MÍSTA'!E156","v":232},{"$f":"REPRE!E59","v":125},{"$f":"ROČ!W176","v":10337.344484223766}]
[{"$f":"'60'!B157","v":"ČADAN"},{"$f":"'60'!C157","v":"Benjamín"},{"$f":"'60'!E157","v":10.38},{"$f":"'300'!E166","v":"00:00:58.740"},{"$f":"'1000'!E157","v":"00:00:00"},{"$f":"DÁLKA!E157","v":345},{"$f":"VÝŠKA!E157","v":115},{"$f":"MÍČEK!E157","v":0},{"$f":"KOULE!E157","v":6.4},{"$f":"OŠTĚP!E157","v":0},{"$f":"ČLUNEK!E157","v":0},{"$f":"LEHSED!E157","v":0},{"$f":"ODBÍJENÍ!E157","v":9},{"$f":"PLAVÁNÍ!E157","v":0},{"$f":"SHYBY!E157","v":0},{"$f":"ŠPLH!E157","v":0},{"$f":"ŠVIHADLO!E157","v":0},{"$f":"'Z MÍSTA'!E157","v":167},{"$f":"REPRE!E60","v":0},{"$f":"ROČ!W177","v":3203.2325660757865}]
[{"$f":"'60'!B158","v":"ČERNÝ"},{"$f":"'60'!C158","v":"Michal"},{"$f":"'60'!E158","v":9.65},{"$f":"'300'!E167","v":"00:01:03.290"},{"$f":"'1000'!E158","v":"00:04:56.460"},{"$f":"DÁLKA!E158","v":342},{"$f":"VÝŠKA!E158","v":108},{"$f":"MÍČEK!E158","v":44.5},{"$f":"KOULE!E158","v":8.44},{"$f":"OŠTĚP!E158","v":0},{"$f":"ČLUNEK!E158","v":11.05},{"$f":"LEHSED!E158","v":43},{"$f":"ODBÍJENÍ!E158","v":30},{"$f":"PLAVÁNÍ!E158","v":0},{"$f":"SHYBY!E158","v":0},{"$f":"ŠPLH!E158","v":0},{"$f":"ŠVIHADLO!E158","v":47},{"$f":"'Z MÍSTA'!E158","v":162},{"$f":"REPRE!E61","v":0},{"$f":"ROČ!W178","v":6803.1299364667502}]
[{"$f":"'60'!B159","v":"DOLEJŠÍ"},{"$f":"'60'!C159","v":"David"},{"$f":"'60'!E159","v":8.86},{"$f":"'300'!E168","v":"00:00:50.450"},{"$f":"'1000'!E159","v":"00:03:58"},{"$f":"DÁLKA!E159","v":402},{"$f":"VÝŠKA!E159","v":118},{"$f":"MÍČEK!E159","v":21.5},{"$f":"KOULE!E159","v":6.94},{"$f":"OŠTĚP!E159","v":0},{"$f":"ČLUNEK!E159","v":10.98},{"$f":"LEHSED!E159","v":40},{"$f":"ODBÍJENÍ!E159","v":21},{"$f":"PLAVÁNÍ!E159","v":0},{"$f":"SHYBY!E159","v":2},{"$f":"ŠPLH!E159","v":13.69},{"$f":"ŠVIHADLO!E159","v":76},{"$f":"'Z MÍSTA'!E159","v":195},{"$f":"REPRE!E62","v":50},{"$f":"ROČ!W179","v":7570.1145382017039}]
[{"$f":"'60'!B160","v":"NOVÁK"},{"$f":"'60'!C160","v":"Matěj"},{"$f":"'60'!E160","v":10.38},{"$f":"'300'!E169","v":"00:01:05.370"},{"$f":"'1000'!E160","v":"00:00:00"},{"$f":"DÁLKA!E160","v":364},{"$f":"VÝŠKA!E160","v":95},{"$f":"MÍČEK!E160","v":33},{"$f":"KOULE!E160","v":5.12},{"$f":"OŠTĚP!E160","v":0},{"$f":"ČLUNEK!E160","v":11.18},{"$f":"LEHSED!E160","v":35},{"$f":"ODBÍJENÍ!E160","v":26},{"$f":"PLAVÁNÍ!E160","v":0},{"$f":"SHYBY!E160","v":6},{"$f":"ŠPLH!E160","v":10.46},{"$f":"ŠVIHADLO!E160","v":121},{"$f":"'Z MÍSTA'!E160","v":182},{"$f":"REPRE!E63","v":25},{"$f":"ROČ!W180","v":6373.8264679939584}]
[{"$f":"'60'!B161","v":"POVAŽANEC"},{"$f":"'60'!C161","v":"Martin"},{"$f":"'60'!E161","v":8.4499999999999993},{"$f":"'300'!E170","v":"00:01:23.850"},{"$f":"'1000'!E161","v":"00:04:07.770"},{"$f":"DÁLKA!E161","v":480},{"$f":"VÝŠKA!E161","v":147},{"$f":"MÍČEK!E161","v":50},{"$f":"KOULE!E161","v":10.96},{"$f":"OŠTĚP!E161","v":0},{"$f":"ČLUNEK!E161","v":11.15},{"$f":"LEHSED!E161","v":34},{"$f":"ODBÍJENÍ!E161","v":34},{"$f":"PLAVÁNÍ!E161","v":0},{"$f":"SHYBY!E161","v":1},{"$f":"ŠPLH!E161","v":5.45},{"$f":"ŠVIHADLO!E161","v":70},{"$f":"'Z MÍSTA'!E161","v":229},{"$f":"REPRE!E64","v":50},{"$f":"ROČ!W181","v":8721.6039704463947}]
[{"$f":"'60'!B162","v":"RICHTER"},{"$f":"'60'!C162","v":"Jakub"},{"$f":"'60'!E162","v":9.81},{"$f":"'300'!E171","v":"00:00:53.880"},{"$f":"'1000'!E162","v":"00:04:39.840"},{"$f":"DÁLKA!E162","v":322},{"$f":"VÝŠKA!E162","v":98},{"$f":"MÍČEK!E162","v":29},{"$f":"KOULE!E162","v":6.2},{"$f":"OŠTĚP!E162","v":0},{"$f":"ČLUNEK!E162","v":11.8},{"$f":"LEHSED!E162","v":36},{"$f":"ODBÍJENÍ!E162","v":21},{"$f":"PLAVÁNÍ!E162","v":0},{"$f":"SHYBY!E162","v":0},{"$f":"ŠPLH!E162","v":9.15},{"$f":"ŠVIHADLO!E162","v":70},{"$f":"'Z MÍSTA'!E162","v":190},{"$f":"REPRE!E65","v":0},{"$f":"ROČ!W182","v":6788.6369830747726}]
[{"$f":"'60'!B163","v":"ROZUMEK"},{"$f":"'60'!C163","v":"Adam"},{"$f":"'60'!E163","v":9.44},{"$f":"'300'!E172","v":"00:00:55.230"},{"$f":"'1000'!E163","v":"00:04:45.200"},{"$f":"DÁLKA!E163","v":315},{"$f":"VÝŠKA!E163","v":103},{"$f":"MÍČEK!E163","v":45},{"$f":"KOULE!E163","v":9.4},{"$f":"OŠTĚP!E163","v":0},{"$f":"ČLUNEK!E163","v":11.34},{"$f":"LEHSED!E163","v":43},{"$f":"ODBÍJENÍ!E163","v":39},{"$f":"PLAVÁNÍ!E163","v":0},{"$f":"SHYBY!E163","v":0},{"$f":"ŠPLH!E163","v":0},{"$f":"ŠVIHADLO!E163","v":111},{"$f":"'Z MÍSTA'!E163","v":180},{"$f":"REPRE!E66","v":0},{"$f":"ROČ!W183","v":7221.9629691875925}]
[{"$f":"'60'!B164","v":"VALENTA"},{"$f":"'60'!C164","v":"František"},{"$f":"'60'!E164","v":9.08},{"$f":"'300'!E173","v":"00:01:07.080"},{"$f":"'1000'!E164","v":"00:04:34.860"},{"$f":"DÁLKA!E164","v":335},{"$f":"VÝŠKA!E164","v":113},{"$f":"MÍČEK!E164","v":28},{"$f":"KOULE!E164","v":7.7},{"$f":"OŠTĚP!E164","v":0},{"$f":"ČLUNEK!E164","v":10.71},{"$f":"LEHSED!E164","v":42},{"$f":"ODBÍJENÍ!E164","v":34},{"$f":"PLAVÁNÍ!E164","v":0},{"$f":"SHYBY!E164","v":2},{"$f":"ŠPLH!E164","v":0},{"$f":"ŠVIHADLO!E164","v":72},{"$f":"'Z MÍSTA'!E164","v":177},{"$f":"REPRE!E67","v":0},{"$f":"ROČ!W184","v":7117.7184415794118}]
[{"$f":"'60'!B165","v":"ZAPLATÍLEK"},{"$f":"'60'!C165","v":"Josef"},{"$f":"'60'!E165","v":9.6300000000000008},{"$f":"'300'!E174","v":"00:00:51.830"},{"$f":"'1000'!E165","v":"00:04:00.980"},{"$f":"DÁLKA!E165","v":359},{"$f":"VÝŠKA!E165","v":130},{"$f":"MÍČEK!E165","v":42},{"$f":"KOULE!E165","v":5.83},{"$f":"OŠTĚP!E165","v":0},{"$f":"ČLUNEK!E165","v":10.43},{"$f":"LEHSED!E165","v":46},{"$f":"ODBÍJENÍ!E165","v":39},{"$f":"PLAVÁNÍ!E165","v":0},{"$f":"SHYBY!E165","v":1},{"$f":"ŠPLH!E165","v":25},{"$f":"ŠVIHADLO!E165","v":100},{"$f":"'Z MÍSTA'!E165","v":201},{"$f":"REPRE!E68","v":0},{"$f":"ROČ!W185","v":7991.3693686465604}]
[]
[]
[]
[]
[]
[]
["SPORTOVEC  ŠKOLY  2020 - 2021",null,null,null,null,null,null,null,null,"CHLAPCI  9. ROČNÍK"]
[]
[null,null,"60  m  ","300m","1000m","dálka","výška","míček","koule","oštěp","člunek","lehsed","odbíjení ","plavání","shyby","šplh","švihadlo","z místa"," REPRE","  BODY"]
[{"$f":"'60'!B166","v":"ERBEN"},{"$f":"'60'!C166","v":"Viktor"},{"$f":"'60'!E166","v":9.85},{"$f":"'300'!E166","v":"00:00:58.740"},{"$f":"'1000'!E166","v":"00:04:48.120"},{"$f":"DÁLKA!E166","v":370},{"$f":"VÝŠKA!E166","v":120},{"$f":"MÍČEK!E166","v":25},{"$f":"KOULE!E166","v":0},{"$f":"OŠTĚP!E166","v":0},{"$f":"ČLUNEK!E166","v":11.4},{"$f":"LEHSED!E166","v":28},{"$f":"ODBÍJENÍ!E166","v":55},{"$f":"PLAVÁNÍ!E166","v":0},{"$f":"SHYBY!E166","v":3},{"$f":"ŠPLH!E166","v":7.6},{"$f":"ŠVIHADLO!E166","v":66},{"$f":"'Z MÍSTA'!E166","v":201},{"$f":"REPRE!E69","v":0},{"$f":"ROČ!W186","v":6881.1634999212129}]
[{"$f":"'60'!B167","v":"FRANC"},{"$f":"'60'!C167","v":"Daniel"},{"$f":"'60'!E167","v":10.43},{"$f":"'300'!E167","v":"00:01:03.290"},{"$f":"'1000'!E167","v":"00:06:20.930"},{"$f":"DÁLKA!E167","v":315},{"$f":"VÝŠKA!E167","v":103},{"$f":"MÍČEK!E167","v":33},{"$f":"KOULE!E167","v":8.75},{"$f":"OŠTĚP!E167","v":0},{"$f":"ČLUNEK!E167","v":10.99},{"$f":"LEHSED!E167","v":32},{"$f":"ODBÍJENÍ!E167","v":51},{"$f":"PLAVÁNÍ!E167","v":0},{"$f":"SHYBY!E167","v":0},{"$f":"ŠPLH!E167","v":0},{"$f":"ŠVIHADLO!E167","v":87},{"$f":"'Z MÍSTA'!E167","v":170},{"$f":"REPRE!E70","v":0},{"$f":"ROČ!W187","v":6685.7669087727054}]
[{"$f":"'60'!B168","v":"JINDŘIŠEK"},{"$f":"'60'!C168","v":"Matyáš"},{"$f":"'60'!E168","v":9.0500000000000007},{"$f":"'300'!E168","v":"00:00:50.450"},{"$f":"'1000'!E168","v":"00:03:39.510"},{"$f":"DÁLKA!E168","v":463},{"$f":"VÝŠKA!E168","v":128},{"$f":"MÍČEK!E168","v":52},{"$f":"KOULE!E168","v":9.74},{"$f":"OŠTĚP!E168","v":0},{"$f":"ČLUNEK!E168","v":10},{"$f":"LEHSED!E168","v":52},{"$f":"ODBÍJENÍ!E168","v":60},{"$f":"PLAVÁNÍ!E168","v":0},{"$f":"SHYBY!E168","v":10},{"$f":"ŠPLH!E168","v":3.36},{"$f":"ŠVIHADLO!E168","v":86},{"$f":"'Z MÍSTA'!E168","v":232},{"$f":"REPRE!E71","v":50},{"$f":"ROČ!W188","v":10183.32345437358}]
[{"$f":"'60'!B169","v":"KOLAČNÝ"},{"$f":"'60'!C169","v":"Štěpán"},{"$f":"'60'!E169","v":10.31},{"$f":"'300'!E169","v":"00:01:05.370"},{"$f":"'1000'!E169","v":"00:05:20.620"},{"$f":"DÁLKA!E169","v":373},{"$f":"VÝŠKA!E169","v":103},{"$f":"MÍČEK!E169","v":33},{"$f":"KOULE!E169","v":8.58},{"$f":"OŠTĚP!E169","v":0},{"$f":"ČLUNEK!E169","v":10.95},{"$f":"LEHSED!E169","v":33},{"$f":"ODBÍJENÍ!E169","v":62},{"$f":"PLAVÁNÍ!E169","v":0},{"$f":"SHYBY!E169","v":1},{"$f":"ŠPLH!E169","v":0},{"$f":"ŠVIHADLO!E169","v":0},{"$f":"'Z MÍSTA'!E169","v":174},{"$f":"REPRE!E72","v":0},{"$f":"ROČ!W189","v":6476.9011037671462}]
[{"$f":"'60'!B170","v":"KRISTAN"},{"$f":"'60'!C170","v":"Jáchym"},{"$f":"'60'!E170","v":13.16},{"$f":"'300'!E170","v":"00:01:23.850"},{"$f":"'1000'!E170","v":"00:06:31.100"},{"$f":"DÁLKA!E170","v":278},{"$f":"VÝŠKA!E170","v":0},{"$f":"MÍČEK!E170","v":20},{"$f":"KOULE!E170","v":4.88},{"$f":"OŠTĚP!E170","v":0},{"$f":"ČLUNEK!E170","v":14.31},{"$f":"LEHSED!E170","v":23},{"$f":"ODBÍJENÍ!E170","v":8},{"$f":"PLAVÁNÍ!E170","v":0},{"$f":"SHYBY!E170","v":0},{"$f":"ŠPLH!E170","v":0},{"$f":"ŠVIHADLO!E170","v":0},{"$f":"'Z MÍSTA'!E170","v":120},{"$f":"REPRE!E73","v":0},{"$f":"ROČ!W190","v":3872.6938947840858}]
[{"$f":"'60'!B171","v":"NGUYEN"},{"$f":"'60'!C171","v":"David"},{"$f":"'60'!E171","v":9.1199999999999992},{"$f":"'300'!E171","v":"00:00:53.880"},{"$f":"'1000'!E171","v":"00:04:41.080"},{"$f":"DÁLKA!E171","v":456},{"$f":"VÝŠKA!E171","v":125},{"$f":"MÍČEK!E171","v":47.5},{"$f":"KOULE!E171","v":8.44},{"$f":"OŠTĚP!E171","v":0},{"$f":"ČLUNEK!E171","v":9.83},{"$f":"LEHSED!E171","v":30},{"$f":"ODBÍJENÍ!E171","v":60},{"$f":"PLAVÁNÍ!E171","v":0},{"$f":"SHYBY!E171","v":2},{"$f":"ŠPLH!E171","v":3.68},{"$f":"ŠVIHADLO!E171","v":98},{"$f":"'Z MÍSTA'!E171","v":231},{"$f":"REPRE!E74","v":0},{"$f":"ROČ!W191","v":8889.4991409507365}]
[{"$f":"'60'!B172","v":"NOVOTNÝ"},{"$f":"'60'!C172","v":"Jan"},{"$f":"'60'!E172","v":8.8000000000000007},{"$f":"'300'!E172","v":"00:00:55.230"},{"$f":"'1000'!E172","v":"00:04:16.670"},{"$f":"DÁLKA!E172","v":390},{"$f":"VÝŠKA!E172","v":128},{"$f":"MÍČEK!E172","v":31},{"$f":"KOULE!E172","v":9.0500000000000007},{"$f":"OŠTĚP!E172","v":0},{"$f":"ČLUNEK!E172","v":10.17},{"$f":"LEHSED!E172","v":44},{"$f":"ODBÍJENÍ!E172","v":9},{"$f":"PLAVÁNÍ!E172","v":0},{"$f":"SHYBY!E172","v":5},{"$f":"ŠPLH!E172","v":5.77},{"$f":"ŠVIHADLO!E172","v":82},{"$f":"'Z MÍSTA'!E172","v":218},{"$f":"REPRE!E75","v":0},{"$f":"ROČ!W192","v":8269.4387601638882}]
[{"$f":"'60'!B173","v":"RÁB"},{"$f":"'60'!C173","v":"Adam"},{"$f":"'60'!E173","v":10.55},{"$f":"'300'!E173","v":"00:01:07.080"},{"$f":"'1000'!E173","v":"00:06:30.900"},{"$f":"DÁLKA!E173","v":315},{"$f":"VÝŠKA!E173","v":103},{"$f":"MÍČEK!E173","v":34.5},{"$f":"KOULE!E173","v":9.98},{"$f":"OŠTĚP!E173","v":0},{"$f":"ČLUNEK!E173","v":11.73},{"$f":"LEHSED!E173","v":30},{"$f":"ODBÍJENÍ!E173","v":21},{"$f":"PLAVÁNÍ!E173","v":0},{"$f":"SHYBY!E173","v":0},{"$f":"ŠPLH!E173","v":0},{"$f":"ŠVIHADLO!E173","v":0},{"$f":"'Z MÍSTA'!E173","v":171},{"$f":"REPRE!E76","v":0},{"$f":"ROČ!W193","v":5832.6308178746976}]
[{"$f":"'60'!B174","v":"REPASKÝ"},{"$f":"'60'!C174","v":"Jakub"},{"$f":"'60'!E174","v":8.42},{"$f":"'300'!E174","v":"00:00:51.830"},{"$f":"'1000'!E174","v":"00:04:05.140"},{"$f":"DÁLKA!E174","v":422},{"$f":"VÝŠKA!E174","v":138},{"$f":"MÍČEK!E174","v":59},{"$f":"KOULE!E174","v":11.02},{"$f":"OŠTĚP!E174","v":0},{"$f":"ČLUNEK!E174","v":10.210000000000001},{"$f":"LEHSED!E174","v":50},{"$f":"ODBÍJENÍ!E174","v":123},{"$f":"PLAVÁNÍ!E174","v":0},{"$f":"SHYBY!E174","v":6},{"$f":"ŠPLH!E174","v":3.9},{"$f":"ŠVIHADLO!E174","v":131},{"$f":"'Z MÍSTA'!E174","v":238},{"$f":"REPRE!E77","v":50},{"$f":"ROČ!W194","v":10316.173489931021}]
[{"$f":"'60'!B175","v":"SKÁLA"},{"$f":"'60'!C175","v":"Jan"},{"$f":"'60'!E175","v":8.51},{"$f":"'300'!E175","v":"00:00:52.260"},{"$f":"'1000'!E175","v":"00:03:52.130"},{"$f":"DÁLKA!E175","v":449},{"$f":"VÝŠKA!E175","v":125},{"$f":"MÍČEK!E175","v":39},{"$f":"KOULE!E175","v":8.74},{"$f":"OŠTĚP!E175","v":0},{"$f":"ČLUNEK!E175","v":10.1},{"$f":"LEHSED!E175","v":49},{"$f":"ODBÍJENÍ!E175","v":30},{"$f":"PLAVÁNÍ!E175","v":0},{"$f":"SHYBY!E175","v":12},{"$f":"ŠPLH!E175","v":4.67},{"$f":"ŠVIHADLO!E175","v":105},{"$f":"'Z MÍSTA'!E175","v":237},{"$f":"REPRE!E78","v":75},{"$f":"ROČ!W195","v":9719.5598147922738}]
[{"$f":"'60'!B176","v":"ŠPULÁK"},{"$f":"'60'!C176","v":"Jakub"},{"$f":"'60'!E176","v":9.64},{"$f":"'300'!E176","v":"00:00:58.030"},{"$f":"'1000'!E176","v":"00:04:39.900"},{"$f":"DÁLKA!E176","v":397},{"$f":"VÝŠKA!E176","v":120},{"$f":"MÍČEK!E176","v":49.5},{"$f":"KOULE!E176","v":9.08},{"$f":"OŠTĚP!E176","v":0},{"$f":"ČLUNEK!E176","v":10.51},{"$f":"LEHSED!E176","v":0},{"$f":"ODBÍJENÍ!E176","v":66},{"$f":"PLAVÁNÍ!E176","v":18.64},{"$f":"SHYBY!E176","v":0},{"$f":"ŠPLH!E176","v":0},{"$f":"ŠVIHADLO!E176","v":77},{"$f":"'Z MÍSTA'!E176","v":215},{"$f":"REPRE!E79","v":50},{"$f":"ROČ!W196","v":8007.4042817589052}]
[{"$f":"'60'!B177","v":"VALENTA"},{"$f":"'60'!C177","v":"Tomáš"},{"$f":"'60'!E177","v":7.83},{"$f":"'300'!E177","v":"00:00:45.930"},{"$f":"'1000'!E177","v":"00:03:47.090"},{"$f":"DÁLKA!E177","v":539},{"$f":"VÝŠKA!E177","v":155},{"$f":"MÍČEK!E177","v":64},{"$f":"KOULE!E177","v":11.07},{"$f":"OŠTĚP!E177","v":0},{"$f":"ČLUNEK!E177","v":9.36},{"$f":"LEHSED!E177","v":56},{"$f":"ODBÍJENÍ!E177","v":123},{"$f":"PLAVÁNÍ!E177","v":0},{"$f":"SHYBY!E177","v":8},{"$f":"ŠPLH!E177","v":3.9},{"$f":"ŠVIHADLO!E177","v":129},{"$f":"'Z MÍSTA'!E177","v":262},{"$f":"REPRE!E80","v":125},{"$f":"ROČ!W197","v":11371.826382507152}]
[{"$f":"'60'!B178","v":"VANCL"},{"$f":"'60'!C178","v":"Jiří"},{"$f":"'60'!E178","v":9.0399999999999991},{"$f":"'300'!E178","v":"00:00:59.030"},{"$f":"'1000'!E178","v":"00:04:46.680"},{"$f":"DÁLKA!E178","v":425},{"$f":"VÝŠKA!E178","v":113},{"$f":"MÍČEK!E178","v":29},{"$f":"KOULE!E178","v":8.9499999999999993},{"$f":"OŠTĚP!E178","v":0},{"$f":"ČLUNEK!E178","v":10.66},{"$f":"LEHSED!E178","v":42},{"$f":"ODBÍJENÍ!E178","v":66},{"$f":"PLAVÁNÍ!E178","v":0},{"$f":"SHYBY!E178","v":1},{"$f":"ŠPLH!E178","v":0},{"$f":"ŠVIHADLO!E178","v":95},{"$f":"'Z MÍSTA'!E178","v":217},{"$f":"REPRE!E81","v":50},{"$f":"ROČ!W198","v":7797.1876875601829}]
[{"$f":"'60'!B179","v":"VAŠÍČEK"},{"$f":"'60'!C179","v":"David"},{"$f":"'60'!E179","v":8.89},{"$f":"'300'!E179","v":"00:00:51.020"},{"$f":"'1000'!E179","v":"00:03:30.640"},{"$f":"DÁLKA!E179","v":393},{"$f":"VÝŠKA!E179","v":0},{"$f":"MÍČEK!E179","v":36},{"$f":"KOULE!E179","v":0},{"$f":"OŠTĚP!E179","v":0},{"$f":"ČLUNEK!E179","v":10.09},{"$f":"LEHSED!E179","v":0},{"$f":"ODBÍJENÍ!E179","v":22},{"$f":"PLAVÁNÍ!E179","v":0},{"$f":"SHYBY!E179","v":6},{"$f":"ŠPLH!E179","v":6.33},{"$f":"ŠVIHADLO!E179","v":110},{"$f":"'Z MÍSTA'!E179","v":220},{"$f":"REPRE!E82","v":0},{"$f":"ROČ!W199","v":6955.5500175259722}]
[{"$f":"'60'!B180","v":"ZOUHAR"},{"$f":"'60'!C180","v":"Ondřej"},{"$f":"'60'!E180","v":7.88},{"$f":"'300'!E180","v":"00:00:50.800"},{"$f":"'1000'!E180","v":"00:04:31.880"},{"$f":"DÁLKA!E180","v":0},{"$f":"VÝŠKA!E180","v":138},{"$f":"MÍČEK!E180","v":40},{"$f":"KOULE!E180","v":8},{"$f":"OŠTĚP!E180","v":0},{"$f":"ČLUNEK!E180","v":9.99},{"$f":"LEHSED!E180","v":36},{"$f":"ODBÍJENÍ!E180","v":62},{"$f":"PLAVÁNÍ!E180","v":0},{"$f":"SHYBY!E180","v":1},{"$f":"ŠPLH!E180","v":5.33},{"$f":"ŠVIHADLO!E180","v":102},{"$f":"'Z MÍSTA'!E180","v":211},{"$f":"REPRE!E83","v":50},{"$f":"ROČ!W200","v":8046.2652411271247}]
[{"$f":"'60'!B181","v":"ZUZÁNEK"},{"$f":"'60'!C181","v":"Filip"},{"$f":"'60'!E181","v":8.9},{"$f":"'300'!E181","v":"00:00:58.480"},{"$f":"'1000'!E181","v":"00:04:34.770"},{"$f":"DÁLKA!E181","v":433},{"$f":"VÝŠKA!E181","v":118},{"$f":"MÍČEK!E181","v":26},{"$f":"KOULE!E181","v":7.73},{"$f":"OŠTĚP!E181","v":0},{"$f":"ČLUNEK!E181","v":9.99},{"$f":"LEHSED!E181","v":50},{"$f":"ODBÍJENÍ!E181","v":46},{"$f":"PLAVÁNÍ!E181","v":0},{"$f":"SHYBY!E181","v":14},{"$f":"ŠPLH!E181","v":6.05},{"$f":"ŠVIHADLO!E181","v":0},{"$f":"'Z MÍSTA'!E181","v":212},{"$f":"REPRE!E84","v":0},{"$f":"ROČ!W201","v":8547.2730917473273}]

{"sheet":"60","index":7,"n_rows":181,"n_cols":12,"rows_kept":181,"cut":false,"hidden":false,"merged":[]}
[null,null,"VÝKONY  2021 - 2022",null,null,null,"60 M"]
[null,"stav  k ",{"$f":"TODAY()","v":"2022-06-27"}]
[null,null,null,null,null,null,null,"body",null,"20 - 21","19  - 20","18  - 19"]
["1.",{"$f":"B101","v":"EXNER"},{"$f":"C101","v":"Tomáš"},"6.A",9.1,null,"Jilemnice  02.05.22",{"$f":"H101","v":796.02727134065935},null,0,0,0]
["2.",{"$f":"B102","v":"JANATA"},"Denis","6.A",9.92,null,"Jilemnice  02.05.22",739.81533963709683,null,0,0,0]
["3.",{"$f":"B103","v":"JINDŘIŠEK"},"Alex Jiří","6.A",9.67,null,"Jilemnice  02.05.22",755.94293373319545,null,0,0,0]
["4.",{"$f":"B104","v":"MARŠÁLEK"},"Ondřej","6.A",9.99,null,"Jilemnice  02.05.22",735.44426118118122,null,0,0,0]
["5.",{"$f":"B105","v":"MLATEČEK"},"Patrik","6.A",11.26,null,"Jilemnice  02.05.22",665.5779901598579,null,0,0,0]
["6.",{"$f":"B106","v":"SCHOLZ"},"Matyáš","6.A",10.46,null,"Jilemnice  02.05.22",707.61072363288713,null,0,0,0]
["7.",{"$f":"B107","v":"TOMÁŠ"},"Jakub","6.A",10.199999999999999,null,"Jilemnice  02.05.22",722.69099698039224,null,0,0,0]
["8.",{"$f":"B108","v":"VÁCLAVÍK"},"Jan","6.A",10.119999999999999,null,"Jilemnice  02.05.22",727.48697324110685,null,0,0,0]
["9.",{"$f":"B109","v":"VEČEŘA"},"David","6.A",12.1,null,"Jilemnice  02.05.22",627.42546852892565,null,0,0,0]
["10.",{"$f":"B110","v":"VYBÍRAL"},"Radim","6.A",8.9499999999999993,null,"Jilemnice  02.05.22",807.42437644692734,null,0,0,0]
["11.",{"$f":"B111","v":"BERISHA"},"David","6.B",13.54,null,"Jilemnice  13.09.21",573.0345767503693,null,0,0,0]
["12.",{"$f":"B112","v":"EFENBERK"},"Šimon","6.B",9.82,null,"Jilemnice  02.05.22",746.16783800407325,null,0,0,0]
["13.",{"$f":"B113","v":"FEJKL"},"Antonín","6.B",9.48,null,"Jilemnice  02.05.22",768.7687942194093,null,0,0,0]
["14.",{"$f":"B114","v":"GOTTSTEIN"},"Matouš","6.B",8.8000000000000007,null,"Jilemnice  02.05.22",819.21001922727271,null,0,0,0]
["15.",{"$f":"B115","v":"HÁK"},"Šimon","6.B",0,null,0,0,null,0,0,0]
["16.",{"$f":"B116","v":"POVAŽANEC"},"Lukáš","6.B",10.1,null,"Jilemnice  14.06.22",728.69783853465344,null,0,0,0]
["17.",{"$f":"B117","v":"VANCL"},"Jakub","6.B",11.09,null,"Jilemnice  02.05.22",674.00254005410295,null,0,0,0]
["18.",{"$f":"B118","v":"VANCL"},"Miroslav","6.B",11.3,null,"Jilemnice  02.05.22",663.63258134513273,null,0,0,0]
["19.",{"$f":"B119","v":"VOTOČEK"},"Michal","6.B",10.78,null,"Jilemnice  14.06.22",690.0489952875696,null,0,0,0]
["20.",{"$f":"B120","v":"BOUKAL"},"Jakub","7.A",0,null,0,0,null,12.56,0,0]
["21.",{"$f":"B121","v":"DEMČUK"},"Ilja","7.A",9.66,null,"Jilemnice  02.05.22",756.60540053830221,null,10.85,0,0]
["22.",{"$f":"B122","v":"FAISTAUER"},"Kryštof","7.A",8.89,null,"Turnov   31.05.22",812.090907671541,null,9.5,0,0]
["23.",{"$f":"B123","v":"FRK"},"Matyáš","7.A",12.22,null,"Jilemnice  13.09.21",622.40328716857607,null,12.72,0,0]
["24.",{"$f":"B124","v":"HUBÁLOVSKÝ"},"Marek","7.A",10.84,null,"Jilemnice  13.09.21",686.8716023247232,null,11.43,0,0]
["25.",{"$f":"B125","v":"MAŘAS"},"Dominik","7.A",0,null,0,0,null,11.64,0,0]
["26.",{"$f":"B126","v":"MAŤÁTKO"},"Jakub","7.A",0,null,0,0,null,13.19,0,0]
["27.",{"$f":"B127","v":"MERY"},"Luboš","7.A",10.94,null,"Jilemnice  02.05.22",681.65339755027424,null,11.43,0,0]
["28.",{"$f":"B128","v":"NOVOTNÝ"},"Matěj","7.A",10.98,null,"Jilemnice  02.05.22",679.59272943533699,null,10.96,0,0]
["29.",{"$f":"B129","v":"ŘEHOŘEK"},"Vojtěch","7.A",10.43,null,"Jilemnice  02.05.22",709.31238439117942,null,11.92,0,0]
["30.",{"$f":"B130","v":"ŠÍR"},"Matyáš","7.A",10.82,null,"Jilemnice  02.05.22",687.92681785582261,null,11.48,0,0]
["31.",{"$f":"B131","v":"TORÁČ"},"Tomáš","7.A",0,null,0,0,null,22.77,0,0]
["32.",{"$f":"B132","v":"ULLMAN"},"Šimon","7.A",8.3800000000000008,null,"Jilemnice  02.05.22",854.45443546539377,null,9.18,0,0]
["33.",{"$f":"B133","v":"VÁCLAVÍK"},"Ondřej","7.A",9.14,null,"Jilemnice  02.05.22",793.05122201312906,null,10.94,0,0]
["34.",{"$f":"B134","v":"AUERSWALD"},"Daniel","7.B",9.61,null,"Jilemnice  13.09.21",759.9384151092612,null,9.89,0,0]
["35.",{"$f":"B135","v":"BODLÁK"},"Vladimír","7.B",0,null,0,0,null,8.39,0,0]
["36.",{"$f":"B136","v":"BUDÍN"},"Martin","7.B",9.67,null,"Jilemnice  02.05.22",755.94293373319545,null,10.46,0,0]
["37.",{"$f":"B137","v":"DVOŘÁK"},"Dominik","7.B",11.05,null,"Jilemnice  02.05.22",676.02245875113124,null,11.56,0,0]
["38.",{"$f":"B138","v":"FIŠERA"},"Vojtěch","7.B",10.24,null,"Jilemnice  02.05.22",720.32111027343751,null,10.44,0,0]
["39.",{"$f":"B139","v":"JINDŘIŠEK"},"Vít","7.B",8.24,null,"Jilemnice  02.05.22",867.00099140776706,null,8.77,0,0]
["40.",{"$f":"B140","v":"JIROUŠ"},"Matouš","7.B",9.5500000000000007,null,"Jilemnice  13.09.21",763.98410148691096,null,10.08,0,0]
["41.",{"$f":"B141","v":"KERLE"},"Marek","7.B",8.84,null,"Jilemnice  02.05.22",816.02807343891413,null,10.64,0,0]
["42.",{"$f":"B142","v":"LUKEŠ"},"Jakub","7.B",8.73,null,"Turnov   10.05.22",824.8485875372279,null,10.26,0,0]
["43.",{"$f":"B143","v":"OTT"},"Matyáš","7.B",8.69,null,"Turnov   31.05.22",828.11141187571923,null,11,0,0]
["44.",{"$f":"B144","v":"POKORNÝ"},"Matyáš","7.B",8.58,null,"Jilemnice  02.05.22",837.24104536130528,null,8.94,0,0]
["45.",{"$f":"B145","v":"POLÁČEK"},"Matyáš","7.B",10.99,null,"Jilemnice  13.09.21",679.07990620564158,null,11.49,0,0]
["46.",{"$f":"B146","v":"SOUKUP"},"Patrik","7.B",0,null,0,0,null,10.09,0,0]
["47.",{"$f":"B147","v":"VALENTA"},"Jakub","7.B",9.8699999999999992,null,"Jilemnice  02.05.22",742.97549839918952,null,10.24,0,0]
["48.",{"$f":"B148","v":"VRBATA"},"Dominik","7.B",9.74,null,"Jilemnice  02.05.22",751.34375453798771,null,10.25,0,0]
["49.",{"$f":"B149","v":"FEJKL"},"Jan","8.A",7.92,null,"Jilemnice  02.05.22",897.34446580808071,null,9.14,9.4499999999999993,0]
["50.",{"$f":"B150","v":"KOTYK"},"Tadeáš","8.A",10.72,null,"Jilemnice  02.05.22",693.26195608208957,null,10.7,10.7,0]
["51.",{"$f":"B151","v":"KRAUSE"},"Tadeáš","8.A",8.69,null,"Jilemnice  02.05.22",828.11141187571923,null,10.130000000000001,10.34,0]
["52.",{"$f":"B152","v":"LEŠÁK"},"Martin","8.A",10.38,null,"Jilemnice  02.05.22",712.17034385356453,null,10.87,10.54,0]
["53.",{"$f":"B153","v":"NECHANICKÝ"},"David","8.A",7.89,null,"Jilemnice  02.05.22",900.31535731305451,null,9.65,9.42,0]
["54.",{"$f":"B154","v":"ŘEHOŘEK"},"Jan","8.A",8.66,null,"Jilemnice  02.05.22",830.57831053117786,null,9.5500000000000007,9.74,0]
["55.",{"$f":"B155","v":"SOUKUP"},"Ondřej","8.A",9.6199999999999992,null,"Jilemnice  02.05.22",759.26904045738058,null,10,10.91,0]
["56.",{"$f":"B156","v":"SPANILÝ"},"David","8.A",8.42,null,"Jilemnice  02.05.22",850.9463383847982,null,9.8000000000000007,10.220000000000001,0]
["57.",{"$f":"B157","v":"ČADAN"},"Benjamín","8.B",10.38,null,"Jilemnice  08.09.21",712.17034385356453,null,0,0,0]
["58.",{"$f":"B158","v":"ČERNÝ"},"Michal","8.B",9.65,null,"Jilemnice  02.05.22",757.26924033160617,null,10.36,11.28,0]
["59.",{"$f":"B159","v":"DOLEJŠÍ"},"David","8.B",8.86,null,"Jilemnice  02.05.22",814.44787462753959,null,11.1,10.8,0]
["60.",{"$f":"B160","v":"NOVÁK"},"Matěj","8.B",10.38,null,"Jilemnice  08.09.21",712.17034385356453,null,10.47,10.54,0]
["61.",{"$f":"B161","v":"POVAŽANEC"},"Martin","8.B",8.4499999999999993,null,"Jilemnice  02.05.22",848.33706144378698,null,9.86,11.89,0]
["62.",{"$f":"B162","v":"RICHTER"},"Jakub","8.B",9.81,null,"Jilemnice  02.05.22",746.81021092762478,null,0,11.66,0]
["63.",{"$f":"B163","v":"ROZUMEK"},"Adam","8.B",9.44,null,"Jilemnice  02.05.22",771.53476368644067,null,0,0,0]
["64.",{"$f":"B164","v":"VALENTA"},"František","8.B",9.08,null,"Jilemnice  02.05.22",797.52512876651986,null,10.92,11.6,0]
["65.",{"$f":"B165","v":"ZAPLATÍLEK"},"Josef","8.B",9.6300000000000008,null,"Jilemnice  08.09.21",758.60105599169253,null,10.02,10.039999999999999,0]
["66.",{"$f":"B166","v":"ERBEN"},"Viktor","9.A",9.85,null,"Jilemnice  08.09.21",744.24854509644672,null,10.43,11.62,12.32]
["67.",{"$f":"B167","v":"FRANC"},"Daniel","9.A",10.43,null,"Jilemnice  08.09.21",709.31238439117942,null,11.1,10.48,10.38]
["68.",{"$f":"B168","v":"JINDŘIŠEK"},"Matyáš","9.A",9.0500000000000007,null,"Jilemnice  08.09.21",799.78432808839784,null,0,9.8800000000000008,10.38]
["69.",{"$f":"B169","v":"KOLAČNÝ"},"Štěpán","9.A",10.31,null,"Jilemnice  08.09.21",716.21805714839957,null,10.74,10.34,10.42]
["70.",{"$f":"B170","v":"KRISTAN"},"Jáchym","9.A",13.16,null,"Jilemnice  02.05.22",586.23162379939208,null,14.56,13.78,14.93]
["71.",{"$f":"B171","v":"NGUYEN"},"David","9.A",9.1199999999999992,null,"Jilemnice  08.09.21",794.53598346491231,null,0,10.58,0]
["72.",{"$f":"B172","v":"NOVOTNÝ"},"Jan","9.A",8.8000000000000007,null,"Jilemnice  02.05.22",819.21001922727271,null,9.43,9.93,11.65]
["73.",{"$f":"B173","v":"RÁB"},"Adam","9.A",10.55,null,"Jilemnice  02.05.22",702.563807507109,null,12.15,12.58,12.82]
["74.",{"$f":"B174","v":"REPASKÝ"},"Jakub","9.A",8.42,null,"Jilemnice  02.05.22",850.9463383847982,null,8.75,9.5299999999999994,0]
["75.",{"$f":"B175","v":"SKÁLA"},"Jan","9.A",8.51,null,"Jilemnice  08.09.21",843.17369790834323,null,8.75,0,10.56]
["76.",{"$f":"B176","v":"ŠPULÁK"},"Jakub","9.A",9.64,null,"Jilemnice  02.05.22",757.93445738589196,null,9.8000000000000007,10.24,11.9]
["77.",{"$f":"B177","v":"VALENTA"},"Tomáš","9.A",7.83,null,"Jilemnice  08.09.21",906.3254366794381,null,8.18,8.7899999999999991,9.09]
["78.",{"$f":"B178","v":"VANCL"},"Jiří","9.A",9.0399999999999991,null,"Jilemnice  02.05.22",800.540726681416,null,9.64,10.74,10.86]
["79.",{"$f":"B179","v":"VAŠÍČEK"},"David","9.A",8.89,null,"Jilemnice  08.09.21",812.090907671541,null,0,9.89,10.4]
["80.",{"$f":"B180","v":"ZOUHAR"},"Ondřej","9.A",7.88,null,"Jilemnice  02.05.22",901.31068137055831,null,8.8000000000000007,9.3000000000000007,9.8000000000000007]
["81.",{"$f":"B181","v":"ZUZÁNEK"},"Filip","9.A",8.9,null,"Jilemnice  02.05.22",811.30878305617966,null,10.039999999999999,10.02,10.58]
[]
[]
[]
[]
[]
[]
[]
[]
[]
[]
[]
[]
[" "]
[]
[]
[null,"PŘÍJMENÍ","JMÉNO","TŘÍDA","VÝKON",null,"MÍSTO",null,null,"20 - 21","19  - 20","18  - 19"]
[null,"EXNER","Tomáš","6.A",9.1,null,"Jilemnice  02.05.22",{"$f":"IF(E101=0,0,(1000000000 - 313216 / E101 + 34538300 / E101*2 - 1698600000 / E101*3 + 32198000000 / E101*4)/20000000+66)","v":796.02727134065935}]
[null,"JANATA","Denis","6.A",9.92,null,"Jilemnice  02.05.22",739.81533963709683]
[null,"JINDŘIŠEK","Alex Jiří","6.A",9.67,null,"Jilemnice  02.05.22",755.94293373319545]
[null,"MARŠÁLEK","Ondřej","6.A",9.99,null,"Jilemnice  02.05.22",735.44426118118122]
[null,"MLATEČEK","Patrik","6.A",11.26,null,"Jilemnice  02.05.22",665.5779901598579]
[null,"SCHOLZ","Matyáš","6.A",10.46,null,"Jilemnice  02.05.22",707.61072363288713]
[null,"TOMÁŠ","Jakub","6.A",10.199999999999999,null,"Jilemnice  02.05.22",722.69099698039224]
[null,"VÁCLAVÍK","Jan","6.A",10.119999999999999,null,"Jilemnice  02.05.22",727.48697324110685]
[null,"VEČEŘA","David","6.A",12.1,null,"Jilemnice  02.05.22",627.42546852892565]
[null,"VYBÍRAL","Radim","6.A",8.9499999999999993,null,"Jilemnice  02.05.22",807.42437644692734]
[null,"BERISHA","David","6.B",13.54,null,"Jilemnice  13.09.21",573.0345767503693]
[null,"EFENBERK","Šimon","6.B",9.82,null,"Jilemnice  02.05.22",746.16783800407325]
[null,"FEJKL","Antonín","6.B",9.48,null,"Jilemnice  02.05.22",768.7687942194093]
[null,"GOTTSTEIN","Matouš","6.B",8.8000000000000007,null,"Jilemnice  02.05.22",819.21001922727271]
[null,"HÁK","Šimon","6.B",null,null,null,0]
[null,"POVAŽANEC","Lukáš","6.B",10.1,null,"Jilemnice  14.06.22",728.69783853465344]
[null,"VANCL","Jakub","6.B",11.09,null,"Jilemnice  02.05.22",674.00254005410295]
[null,"VANCL","Miroslav","6.B",11.3,null,"Jilemnice  02.05.22",663.63258134513273]
[null,"VOTOČEK","Michal","6.B",10.78,null,"Jilemnice  14.06.22",690.0489952875696]
[null,"BOUKAL","Jakub","7.A",null,null,null,0,null,12.56]
[null,"DEMČUK","Ilja","7.A",9.66,null,"Jilemnice  02.05.22",756.60540053830221,null,10.85]
[null,"FAISTAUER","Kryštof","7.A",8.89,null,"Turnov   31.05.22",812.090907671541,null,9.5]
[null,"FRK","Matyáš","7.A",12.22,null,"Jilemnice  13.09.21",622.40328716857607,null,12.72]
[null,"HUBÁLOVSKÝ","Marek","7.A",10.84,null,"Jilemnice  13.09.21",686.8716023247232,null,11.43]
[null,"MAŘAS","Dominik","7.A",null,null,null,0,null,11.64]
[null,"MAŤÁTKO","Jakub","7.A",null,null,null,0,null,13.19]
[null,"MERY","Luboš","7.A",10.94,null,"Jilemnice  02.05.22",681.65339755027424,null,11.43]
[null,"NOVOTNÝ","Matěj","7.A",10.98,null,"Jilemnice  02.05.22",679.59272943533699,null,10.96]
[null,"ŘEHOŘEK","Vojtěch","7.A",10.43,null,"Jilemnice  02.05.22",709.31238439117942,null,11.92]
[null,"ŠÍR","Matyáš","7.A",10.82,null,"Jilemnice  02.05.22",687.92681785582261,null,11.48]
[null,"TORÁČ","Tomáš","7.A",null,null,null,0,null,22.77]
[null,"ULLMAN","Šimon","7.A",8.3800000000000008,null,"Jilemnice  02.05.22",854.45443546539377,null,9.18]
[null,"VÁCLAVÍK","Ondřej","7.A",9.14,null,"Jilemnice  02.05.22",{"$f":"IF(E133=0,0,(1000000000 - 313216 / E133 + 34538300 / E133*2 - 1698600000 / E133*3 + 32198000000 / E133*4)/20000000+66)","v":793.05122201312906},null,10.94]
[null,"AUERSWALD","Daniel","7.B",9.61,null,"Jilemnice  13.09.21",759.9384151092612,null,9.89]
[null,"BODLÁK","Vladimír","7.B",null,null,null,0,null,8.39]
[null,"BUDÍN","Martin","7.B",9.67,null,"Jilemnice  02.05.22",755.94293373319545,null,10.46]
[null,"DVOŘÁK","Dominik","7.B",11.05,null,"Jilemnice  02.05.22",676.02245875113124,null,11.56]
[null,"FIŠERA","Vojtěch","7.B",10.24,null,"Jilemnice  02.05.22",720.32111027343751,null,10.44]
[null,"JINDŘIŠEK","Vít","7.B",8.24,null,"Jilemnice  02.05.22",867.00099140776706,null,8.77]
[null,"JIROUŠ","Matouš","7.B",9.5500000000000007,null,"Jilemnice  13.09.21",763.98410148691096,null,10.08]
[null,"KERLE","Marek","7.B",8.84,null,"Jilemnice  02.05.22",816.02807343891413,null,10.64]
[null,"LUKEŠ","Jakub","7.B",8.73,null,"Turnov   10.05.22",824.8485875372279,null,10.26]
[null,"OTT","Matyáš","7.B",8.69,null,"Turnov   31.05.22",828.11141187571923,null,11]
[null,"POKORNÝ","Matyáš","7.B",8.58,null,"Jilemnice  02.05.22",837.24104536130528,null,8.94]
[null,"POLÁČEK","Matyáš","7.B",10.99,null,"Jilemnice  13.09.21",679.07990620564158,null,11.49]
[null,"SOUKUP","Patrik","7.B",null,null,null,0,null,10.09]
[null,"VALENTA","Jakub","7.B",9.8699999999999992,null,"Jilemnice  02.05.22",742.97549839918952,null,10.24]
[null,"VRBATA","Dominik","7.B",9.74,null,"Jilemnice  02.05.22",751.34375453798771,null,10.25]
[null,"FEJKL","Jan","8.A",7.92,null,"Jilemnice  02.05.22",897.34446580808071,null,9.14,9.4499999999999993]
[null,"KOTYK","Tadeáš","8.A",10.72,null,"Jilemnice  02.05.22",693.26195608208957,null,10.7,10.7]
[null,"KRAUSE","Tadeáš","8.A",8.69,null,"Jilemnice  02.05.22",828.11141187571923,null,10.130000000000001,10.34]
[null,"LEŠÁK","Martin","8.A",10.38,null,"Jilemnice  02.05.22",712.17034385356453,null,10.87,10.54]
[null,"NECHANICKÝ","David","8.A",7.89,null,"Jilemnice  02.05.22",900.31535731305451,null,9.65,9.42]
[null,"ŘEHOŘEK","Jan","8.A",8.66,null,"Jilemnice  02.05.22",830.57831053117786,null,9.5500000000000007,9.74]
[null,"SOUKUP","Ondřej","8.A",9.6199999999999992,null,"Jilemnice  02.05.22",759.26904045738058,null,10,10.91]
[null,"SPANILÝ","David","8.A",8.42,null,"Jilemnice  02.05.22",850.9463383847982,null,9.8000000000000007,10.220000000000001]
[null,"ČADAN","Benjamín","8.B",10.38,null,"Jilemnice  08.09.21",712.17034385356453]
[null,"ČERNÝ","Michal","8.B",9.65,null,"Jilemnice  02.05.22",757.26924033160617,null,10.36,11.28]
[null,"DOLEJŠÍ","David","8.B",8.86,null,"Jilemnice  02.05.22",814.44787462753959,null,11.1,10.8]
[null,"NOVÁK","Matěj","8.B",10.38,null,"Jilemnice  08.09.21",712.17034385356453,null,10.47,10.54]
[null,"POVAŽANEC","Martin","8.B",8.4499999999999993,null,"Jilemnice  02.05.22",848.33706144378698,null,9.86,11.89]
[null,"RICHTER","Jakub","8.B",9.81,null,"Jilemnice  02.05.22",746.81021092762478,null,null,11.66]
[null,"ROZUMEK","Adam","8.B",9.44,null,"Jilemnice  02.05.22",771.53476368644067]
[null,"VALENTA","František","8.B",9.08,null,"Jilemnice  02.05.22",797.52512876651986,null,10.92,11.6]
[null,"ZAPLATÍLEK","Josef","8.B",9.6300000000000008,null,"Jilemnice  08.09.21",{"$f":"IF(E165=0,0,(1000000000 - 313216 / E165 + 34538300 / E165*2 - 1698600000 / E165*3 + 32198000000 / E165*4)/20000000+66)","v":758.60105599169253},null,10.02,10.039999999999999]
[null,"ERBEN","Viktor","9.A",9.85,null,"Jilemnice  08.09.21",744.24854509644672,null,10.43,11.62,12.32]
[null,"FRANC","Daniel","9.A",10.43,null,"Jilemnice  08.09.21",709.31238439117942,null,11.1,10.48,10.38]
[null,"JINDŘIŠEK","Matyáš","9.A",9.0500000000000007,null,"Jilemnice  08.09.21",799.78432808839784,null,null,9.8800000000000008,10.38]
[null,"KOLAČNÝ","Štěpán","9.A",10.31,null,"Jilemnice  08.09.21",716.21805714839957,null,10.74,10.34,10.42]
[null,"KRISTAN","Jáchym","9.A",13.16,null,"Jilemnice  02.05.22",586.23162379939208,null,14.56,13.78,14.93]
[null,"NGUYEN","David","9.A",9.1199999999999992,null,"Jilemnice  08.09.21",794.53598346491231,null,null,10.58]
[null,"NOVOTNÝ","Jan","9.A",8.8000000000000007,null,"Jilemnice  02.05.22",819.21001922727271,null,9.43,9.93,11.65]
[null,"RÁB","Adam","9.A",10.55,null,"Jilemnice  02.05.22",702.563807507109,null,12.15,12.58,12.82]
[null,"REPASKÝ","Jakub","9.A",8.42,null,"Jilemnice  02.05.22",850.9463383847982,null,8.75,9.5299999999999994]
[null,"SKÁLA","Jan","9.A",8.51,null,"Jilemnice  08.09.21",843.17369790834323,null,8.75,null,10.56]
[null,"ŠPULÁK","Jakub","9.A",9.64,null,"Jilemnice  02.05.22",757.93445738589196,null,9.8000000000000007,10.24,11.9]
[null,"VALENTA","Tomáš","9.A",7.83,null,"Jilemnice  08.09.21",906.3254366794381,null,8.18,8.7899999999999991,9.09]
[null,"VANCL","Jiří","9.A",9.0399999999999991,null,"Jilemnice  02.05.22",800.540726681416,null,9.64,10.74,10.86]
[null,"VAŠÍČEK","David","9.A",8.89,null,"Jilemnice  08.09.21",812.090907671541,null,null,9.89,10.4]
[null,"ZOUHAR","Ondřej","9.A",7.88,null,"Jilemnice  02.05.22",901.31068137055831,null,8.8000000000000007,9.3000000000000007,9.8000000000000007]
[null,"ZUZÁNEK","Filip","9.A",8.9,null,"Jilemnice  02.05.22",811.30878305617966,null,10.039999999999999,10.02,10.58]

{"sheet":"300","index":8,"n_rows":1048519,"n_cols":12,"rows_kept":4500,"cut":true,"hidden":false,"merged":[],"bounds":{"rows_first":2000,"rows_last":500,"rows_between":2000,"halvings":0}}
[null,null,"VÝKONY  2021 - 2022",null,null,null,"300 M","CHLAPCI  6. -  9.  ROČ."]
[null,"stav  k ",{"$f":"TODAY()","v":"2022-06-27"},null,null,null,null,null,null,"20 - 21","19  - 20","18 - 19"]
[]
["1.",{"$f":"B101","v":"EXNER"},{"$f":"C101","v":"Tomáš"},"6.A","00:01:00.640"," ","Jilemnice  03.06.22",577.70790537414246," ","00:00:00","00:00:00","00:00:00"]
["2.",{"$f":"B102","v":"JANATA"},"Denis","6.A","00:01:01.020"," ",{"$f":"G102","v":"Jilemnice  03.06.22"},572.21713015221246," ",{"$f":"J102","v":"00:00:00"},"00:00:00","00:00:00"]
["3.",{"$f":"B103","v":"JINDŘIŠEK"},"Alex Jiří","6.A","00:01:01.350"," ",{"$f":"G103","v":"Jilemnice  03.06.22"},567.50400866973109," ",{"$f":"J103","v":"00:00:00"},"00:00:00","00:00:00"]
["4.",{"$f":"B104","v":"MARŠÁLEK"},"Ondřej","6.A","00:01:09.950"," ",{"$f":"G104","v":"Jilemnice  03.06.22"},460.35759731076485," ",{"$f":"J104","v":"00:00:00"},"00:00:00","00:00:00"]
["5.",{"$f":"B105","v":"MLATEČEK"},"Patrik","6.A","00:01:14.240"," ",{"$f":"G105","v":"Jilemnice  03.06.22"},416.18905417413794," ",{"$f":"J105","v":"00:00:00"},"00:00:00","00:00:00"]
["6.",{"$f":"B106","v":"SCHOLZ"},"Matyáš","6.A","00:01:03.540"," ",{"$f":"G106","v":"Jilemnice  03.06.22"},537.46650742662894," ",{"$f":"J106","v":"00:00:00"},"00:00:00","00:00:00"]
["7.",{"$f":"B107","v":"TOMÁŠ"},"Jakub","6.A","00:00:56.510"," ",{"$f":"G107","v":"Jilemnice  14.06.22"},642.14664186671405," ",{"$f":"J107","v":"00:00:00"},"00:00:00","00:00:00"]
["8.",{"$f":"B108","v":"VÁCLAVÍK"},"Jan","6.A","00:00:56.400"," ",{"$f":"G108","v":"Jilemnice  03.06.22"},643.99195357957456," ",{"$f":"J108","v":"00:00:00"},"00:00:00","00:00:00"]
["9.",{"$f":"B109","v":"VEČEŘA"},"David","6.A","00:01:15.100"," ",{"$f":"G109","v":"Jilemnice  03.06.22"},407.94193983872151," ",{"$f":"J109","v":"00:00:00"},"00:00:00","00:00:00"]
["10.",{"$f":"B110","v":"VYBÍRAL"},"Radim","6.A","00:00:50.300"," ",{"$f":"G110","v":"Jilemnice  03.06.22"},758.95657419260442," ",{"$f":"J110","v":"00:00:00"},"00:00:00","00:00:00"]
["11.",{"$f":"B111","v":"BERISHA"},"David","6.B","00:00:00"," ",{"$f":"G111","v":0},0," ",{"$f":"J111","v":"00:00:00"},"00:00:00","00:00:00"]
["12.",{"$f":"B112","v":"EFENBERK"},"Šimon","6.B","00:01:04.360"," ",{"$f":"G112","v":"Jilemnice  03.06.22"},526.74558703990067," ",{"$f":"J112","v":"00:00:00"},"00:00:00","00:00:00"]
["13.",{"$f":"B113","v":"FEJKL"},"Antonín","6.B","00:00:51.010"," ",{"$f":"G113","v":"Jilemnice  03.06.22"},744.16152189547142," ",{"$f":"J113","v":"00:00:00"},"00:00:00","00:00:00"]
["14.",{"$f":"B114","v":"GOTTSTEIN"},"Matouš","6.B","00:00:47.930"," ",{"$f":"G114","v":"Jilemnice  03.06.22"},811.51645799891526," ",{"$f":"J114","v":"00:00:00"},"00:00:00","00:00:00"]
["15.",{"$f":"B115","v":"HÁK"},"Šimon","6.B","00:00:00"," ",{"$f":"G115","v":0},0," ",{"$f":"J115","v":"00:00:00"},"00:00:00","00:00:00"]
["16.",{"$f":"B116","v":"POVAŽANEC"},"Lukáš","6.B","00:01:04.130"," ",{"$f":"G116","v":"Jilemnice  03.06.22"},529.72500907356925," ",{"$f":"J116","v":"00:00:00"},"00:00:00","00:00:00"]
["17.",{"$f":"B117","v":"VANCL"},"Jakub","6.B","00:01:08.950"," ",{"$f":"G117","v":"Jilemnice  03.06.22"},471.4432042333284," ",{"$f":"J117","v":"00:00:00"},"00:00:00","00:00:00"]
["18.",{"$f":"B118","v":"VANCL"},"Miroslav","6.B","00:01:32.620"," ",{"$f":"G118","v":"Jilemnice  03.06.22"},273.27194214951419," ",{"$f":"J118","v":"00:00:00"},"00:00:00","00:00:00"]
["19.",{"$f":"B119","v":"VOTOČEK"},"Michal","6.B","00:01:07.340"," ",{"$f":"G119","v":"Jilemnice  03.06.22"},489.98278707882389," ",{"$f":"J119","v":"00:00:00"},"00:00:00","00:00:00"]
["20.",{"$f":"B120","v":"BOUKAL"},"Jakub","7.A","00:00:00"," ",{"$f":"G120","v":0},0," ",{"$f":"J120","v":"00:01:20.860"},"00:00:00","00:00:00"]
["21.",{"$f":"B121","v":"DEMČUK"},"Ilja","7.A","00:00:53.360"," ",{"$f":"G121","v":"Jilemnice  03.06.22"},698.00020580749629," ",{"$f":"J121","v":"00:01:00.280"},"00:00:00","00:00:00"]
["22.",{"$f":"B122","v":"FAISTAUER"},"Kryštof","7.A","00:00:52.980"," ",{"$f":"G122","v":"Jilemnice  03.06.22"},705.18703438822217," ",{"$f":"J122","v":"00:00:54.880"},"00:00:00","00:00:00"]
["23.",{"$f":"B123","v":"FRK"},"Matyáš","7.A","00:01:14.910"," ",{"$f":"G123","v":"Jilemnice  03.06.22"},409.74768030820985," ",{"$f":"J123","v":"00:01:21.540"},"00:00:00","00:00:00"]
["24.",{"$f":"B124","v":"HUBÁLOVSKÝ"},"Marek","7.A","00:00:53.080"," ",{"$f":"G124","v":"Jilemnice  03.06.22"},703.28578714935952," ",{"$f":"J124","v":"00:01:11.580"},"00:00:00","00:00:00"]
["25.",{"$f":"B125","v":"MAŘAS"},"Dominik","7.A","00:01:20.670"," ",{"$f":"G125","v":"Jilemnice  27.05.22"},358.78501960937149," ",{"$f":"J125","v":"00:01:18.210"},"00:00:00","00:00:00"]
["26.",{"$f":"B126","v":"MAŤÁTKO"},"Jakub","7.A","00:01:29.020"," ",{"$f":"G126","v":"Jilemnice  27.05.22"},296.61681961231182," ",{"$f":"J126","v":"00:01:24.110"},"00:00:00","00:00:00"]
["27.",{"$f":"B127","v":"MERY"},"Luboš","7.A","00:01:06.760"," ",{"$f":"G127","v":"Jilemnice  03.06.22"},496.88073669694438," ",{"$f":"J127","v":"00:01:15.180"},"00:00:00","00:00:00"]
["28.",{"$f":"B128","v":"NOVOTNÝ"},"Matěj","7.A","00:01:09.540"," ",{"$f":"G128","v":"Jilemnice  03.06.22"},464.86413405073347," ",{"$f":"J128","v":"00:00:00"},"00:00:00","00:00:00"]
["29.",{"$f":"B129","v":"ŘEHOŘEK"},"Vojtěch","7.A","00:01:04.170"," ",{"$f":"G129","v":"Jilemnice  03.06.22"},529.205314506592," ",{"$f":"J129","v":"00:01:11.820"},"00:00:00","00:00:00"]
["30.",{"$f":"B130","v":"ŠÍR"},"Matyáš","7.A","00:00:00"," ",{"$f":"G130","v":0},0," ",{"$f":"J130","v":"00:01:09.460"},"00:00:00","00:00:00"]
["31.",{"$f":"B131","v":"TORÁČ"},"Tomáš","7.A","00:02:06.130"," ",{"$f":"G131","v":"Jilemnice  27.05.22"},119.90466052396727," ",{"$f":"J131","v":"00:02:09.100"},"00:00:00","00:00:00"]
["32.",{"$f":"B132","v":"ULLMAN"},"Šimon","7.A","00:00:48.360"," ",{"$f":"G132","v":"Jilemnice  03.06.22"},801.59772501836233," ",{"$f":"J132","v":"00:00:53.770"},"00:00:00","00:00:00"]
["33.",{"$f":"B133","v":"VÁCLAVÍK"},"Ondřej","7.A","00:01:16.350"," ",{"$f":"G133","v":"Jilemnice  03.06.22"},396.2861287739097," ",{"$f":"J133","v":"00:00:58.550"},"00:00:00","00:00:00"]
["34.",{"$f":"B134","v":"AUERSWALD"},"Daniel","7.B","00:00:54.880"," ",{"$f":"G134","v":"Jilemnice  03.06.22"},670.24815200233229," ",{"$f":"J134","v":"00:00:59.520"},"00:00:00","00:00:00"]
["35.",{"$f":"B135","v":"BODLÁK"},"Vladimír","7.B","00:00:00"," ",{"$f":"G135","v":0},0," ",{"$f":"J135","v":"00:00:45.090"},"00:00:00","00:00:00"]
["36.",{"$f":"B136","v":"BUDÍN"},"Martin","7.B","00:00:55.190"," ",{"$f":"G136","v":"Jilemnice  17.06.22"},664.77586758267807," ",{"$f":"J136","v":"00:00:58.300"},"00:00:00","00:00:00"]
["37.",{"$f":"B137","v":"DVOŘÁK"},"Dominik","7.B","00:01:00.920"," ",{"$f":"G137","v":"Jilemnice  03.06.22"},573.65542977491782," ",{"$f":"J137","v":"00:00:00"},"00:00:00","00:00:00"]
["38.",{"$f":"B138","v":"FIŠERA"},"Vojtěch","7.B","00:00:00"," ",{"$f":"G138","v":0},0," ",{"$f":"J138","v":"00:00:57.070"},"00:00:00","00:00:00"]
["39.",{"$f":"B139","v":"JINDŘIŠEK"},"Vít","7.B","00:00:43.530"," ",{"$f":"G139","v":"Jilemnice  17.06.22"},924.27203840771881," ",{"$f":"J139","v":"00:00:00"},"00:00:00","00:00:00"]
["40.",{"$f":"B140","v":"JIROUŠ"},"Matouš","7.B","00:00:55.050"," ",{"$f":"G140","v":"Jilemnice  03.06.22"},667.23959004337871," ",{"$f":"J140","v":"00:00:00"},"00:00:00","00:00:00"]
["41.",{"$f":"B141","v":"KERLE"},"Marek","7.B","00:00:48.020"," ",{"$f":"G141","v":"Jilemnice  03.06.22"},809.42574514552257," ",{"$f":"J141","v":"00:00:54.010"},"00:00:00","00:00:00"]
["42.",{"$f":"B142","v":"LUKEŠ"},"Jakub","7.B","00:00:46.890"," ",{"$f":"G142","v":"Jilemnice  03.06.22"},836.25802158003853," ",{"$f":"J142","v":"00:00:54.300"},"00:00:00","00:00:00"]
["43.",{"$f":"B143","v":"OTT"},"Matyáš","7.B","00:00:48.620"," ",{"$f":"G143","v":"Jilemnice  03.06.22"},795.68546445676679," ",{"$f":"J143","v":"00:01:08.290"},"00:00:00","00:00:00"]
["44.",{"$f":"B144","v":"POKORNÝ"},"Matyáš","7.B","00:00:44.070"," ",{"$f":"G144","v":"Jilemnice  17.06.22"},909.22179559537085," ",{"$f":"J144","v":"00:00:48.010"},"00:00:00","00:00:00"]
["45.",{"$f":"B145","v":"POLÁČEK"},"Matyáš","7.B","00:01:06.520"," ",{"$f":"G145","v":"Jilemnice  03.06.22"},499.77024627011417," ",{"$f":"J145","v":"00:01:13.650"},"00:00:00","00:00:00"]
["46.",{"$f":"B146","v":"SOUKUP"},"Patrik","7.B","00:00:00"," ",{"$f":"G146","v":0},0," ",{"$f":"J146","v":"00:00:53.980"},"00:00:00","00:00:00"]
["47.",{"$f":"B147","v":"VALENTA"},"Jakub","7.B","00:00:48.980"," ",{"$f":"G147","v":"Jilemnice  03.06.22"},787.60288039787679," ",{"$f":"J147","v":"00:00:00"},"00:00:00","00:00:00"]
["48.",{"$f":"B148","v":"VRBATA"},"Dominik","7.B","00:00:56.960"," ",{"$f":"G148","v":"Jilemnice  17.06.22"},634.67185712584262," ",{"$f":"J148","v":"00:00:57.790"},"00:00:00","00:00:00"]
["49.",{"$f":"B149","v":"FEJKL"},"Jan","8.A","00:00:44.880"," ",{"$f":"G149","v":"Jilemnice  08.06.22"},887.32550316149741," ",{"$f":"J149","v":"00:00:00"},"00:00:54.980","00:00:00"]
["50.",{"$f":"B150","v":"KOTYK"},"Tadeáš","8.A","00:01:09.690"," ",{"$f":"G150","v":"Jilemnice  08.06.22"},463.20924999121826," ",{"$f":"J150","v":"00:00:00"},"00:01:18.780","00:00:00"]
["51.",{"$f":"B151","v":"KRAUSE"},"Tadeáš","8.A","00:00:46.380"," ",{"$f":"G151","v":"Jilemnice  08.06.22"},848.79637951461837," ",{"$f":"J151","v":"00:00:00"},"00:00:59.500","00:00:00"]
["52.",{"$f":"B152","v":"LEŠÁK"},"Martin","8.A","00:00:57.910"," ",{"$f":"G152","v":"Jilemnice  08.06.22"},619.27324696750145," ",{"$f":"J152","v":"00:00:00"},"00:01:15.530","00:00:00"]
["53.",{"$f":"B153","v":"NECHANICKÝ"},"David","8.A","00:00:46.990"," ",{"$f":"G153","v":"Jilemnice  08.06.22"},833.83143502634607," ",{"$f":"J153","v":"00:00:00"},"00:00:57.540","00:00:00"]
["54.",{"$f":"B154","v":"ŘEHOŘEK"},"Jan","8.A","00:00:51.300"," ",{"$f":"G154","v":"Jilemnice  08.06.22"},738.23627060210538," ",{"$f":"J154","v":"00:00:00"},"00:00:58.500","00:00:00"]
["55.",{"$f":"B155","v":"SOUKUP"},"Ondřej","8.A","00:00:00"," ",{"$f":"G155","v":0},0," ",{"$f":"J155","v":"00:00:00"},"00:01:04.170","00:00:00"]
["56.",{"$f":"B156","v":"SPANILÝ"},"David","8.A","00:00:45.790"," ",{"$f":"G156","v":"Jilemnice  08.06.22"},863.64999196086478," ",{"$f":"J156","v":"00:00:00"},"00:01:00.950","00:00:00"]
["57.",{"$f":"B157","v":"ČADAN"},"Benjamín","8.B","00:00:00"," ",{"$f":"G157","v":0},0," ",{"$f":"J157","v":"00:00:00"},"00:01:14.370","00:00:00"]
["58.",{"$f":"B158","v":"ČERNÝ"},"Michal","8.B","00:00:58.820"," ",{"$f":"G158","v":"Jilemnice  08.06.22"},604.98943015790542," ",{"$f":"J158","v":"00:00:00"},"00:01:13.500","00:00:00"]
["59.",{"$f":"B159","v":"DOLEJŠÍ"},"David","8.B","00:00:51.270"," ",{"$f":"G159","v":"Jilemnice  08.06.22"},738.84611920983025," ",{"$f":"J159","v":"00:00:00"},"00:01:09.160","00:00:00"]
["60.",{"$f":"B160","v":"NOVÁK"},"Matěj","8.B","00:00:00"," ",{"$f":"G160","v":0},0," ",{"$f":"J160","v":"00:00:00"},"00:01:01.550","00:00:00"]
["61.",{"$f":"B161","v":"POVAŽANEC"},"Martin","8.B","00:00:50.120"," ",{"$f":"G161","v":"Jilemnice  08.06.22"},762.77403794668794," ",{"$f":"J161","v":"00:00:00"},"00:01:22.800","00:00:00"]
["62.",{"$f":"B162","v":"RICHTER"},"Jakub","8.B","00:00:57.420"," ",{"$f":"G162","v":"Jilemnice  08.06.22"},627.15205994231951," ",{"$f":"J162","v":"00:00:00"},"00:01:11.020","00:00:00"]
["63.",{"$f":"B163","v":"ROZUMEK"},"Adam","8.B","00:01:07.910"," ",{"$f":"G163","v":"Jilemnice  08.06.22"},483.31856474581059," ",{"$f":"J163","v":"00:00:00"},"00:01:27.170","00:00:00"]
["64.",{"$f":"B164","v":"VALENTA"},"František","8.B","00:00:56.220"," ",{"$f":"G164","v":"Jilemnice  08.06.22"},647.02713059210248," ",{"$f":"J164","v":"00:00:00"},"00:01:08.610","00:00:00"]
["65.",{"$f":"B165","v":"ZAPLATÍLEK"},"Josef","8.B","00:00:51.560"," ",{"$f":"G165","v":"Jilemnice  08.06.22"},732.98064355872771," ",{"$f":"J165","v":"00:00:00"},"00:01:00.340","00:00:00"]
["66.",{"$f":"B166","v":"ERBEN"},"Viktor","9.A","00:00:58.740"," ",{"$f":"G166","v":"Jilemnice  29.09.21"},606.22740690990815," ",{"$f":"J166","v":"00:01:04.810"},"00:01:15.110","00:01:13.140"]
["67.",{"$f":"B167","v":"FRANC"},"Daniel","9.A","00:01:03.290"," ",{"$f":"G167","v":"Jilemnice  15-06.22"},540.79034020995425," ",{"$f":"J167","v":"00:00:00"},"00:01:18.570","00:01:14.240"]
["68.",{"$f":"B168","v":"JINDŘIŠEK"},"Matyáš","9.A","00:00:50.450"," ",{"$f":"G168","v":"Jilemnice  15-06.22"},755.79616316923693," ",{"$f":"J168","v":"00:00:51.030"},"00:00:54.740","00:01:04.050"]
["69.",{"$f":"B169","v":"KOLAČNÝ"},"Štěpán","9.A","00:01:05.370"," ",{"$f":"G169","v":"Jilemnice  29.09.21"},513.91021924258848," ",{"$f":"J169","v":"00:01:10.470"},"00:01:07.170","00:01:08.590"]
["70.",{"$f":"B170","v":"KRISTAN"},"Jáchym","9.A","00:01:23.850"," ",{"$f":"G170","v":"Jilemnice  29.09.21"},333.6491762896602," ",{"$f":"J170","v":"00:01:34.910"},"00:01:28.170","00:01:30.820"]
["71.",{"$f":"B171","v":"NGUYEN"},"David","9.A","00:00:53.880"," ",{"$f":"G171","v":"Jilemnice  15-06.22"},688.32987345746096," ",{"$f":"J171","v":"00:00:00"},"00:00:57.940","00:00:00"]
["72.",{"$f":"B172","v":"NOVOTNÝ"},"Jan","9.A","00:00:55.230"," ",{"$f":"G172","v":"Jilemnice  15-06.22"},664.07424102639879," ",{"$f":"J172","v":"00:00:48.030"},"00:00:54.410","00:01:06.640"]
["73.",{"$f":"B173","v":"RÁB"},"Adam","9.A","00:01:07.080"," ",{"$f":"G173","v":"Jilemnice  29.09.21"},493.06022036207503," ",{"$f":"J173","v":"00:01:12.190"},"00:01:21.770","00:01:26.790"]
["74.",{"$f":"B174","v":"REPASKÝ"},"Jakub","9.A","00:00:51.830"," ",{"$f":"G174","v":"Jilemnice  29.09.21"},727.57868670437961," ",{"$f":"J174","v":"00:00:49.990"},"00:00:00","00:00:00"]
["75.",{"$f":"B175","v":"SKÁLA"},"Jan","9.A","00:00:52.260"," ",{"$f":"G175","v":"Jilemnice  29.09.21"},719.09080524087256," ",{"$f":"J175","v":"00:00:51.050"},"00:00:59.340","00:01:09.240"]
["76.",{"$f":"B176","v":"ŠPULÁK"},"Jakub","9.A","00:00:58.030"," ",{"$f":"G176","v":"Jilemnice  29.09.21"},617.36402433031185," ",{"$f":"J176","v":"00:00:55.640"},"00:01:06.120","00:01:16.460"]
["77.",{"$f":"B177","v":"VALENTA"},"Tomáš","9.A","00:00:45.930"," ",{"$f":"G177","v":"Jilemnice  29.09.21"},860.09087376198568," ",{"$f":"J177","v":"00:00:44.370"},"00:00:49.500","00:00:56.410"]
["78.",{"$f":"B178","v":"VANCL"},"Jiří","9.A","00:00:59.030"," ",{"$f":"G178","v":"Jilemnice  29.09.21"},601.75570611363707," ",{"$f":"J178","v":"00:00:58.090"},"00:01:08.360","00:01:16.720"]
["79.",{"$f":"B179","v":"VAŠÍČEK"},"David","9.A","00:00:51.020"," ",{"$f":"G179","v":"Jilemnice  29.09.21"},743.95608157365746," ",{"$f":"J179","v":"00:00:00"},"00:01:00.980","00:00:57.580"]
["80.",{"$f":"B180","v":"ZOUHAR"},"Ondřej","9.A","00:00:50.800"," ",{"$f":"G180","v":"Jilemnice  29.09.21"},748.4944523993704," ",{"$f":"J180","v":"00:00:49.010"},"00:00:58.200","00:00:58.890"]
["81.",{"$f":"B181","v":"ZUZÁNEK"},"Filip","9.A","00:00:58.480"," ",{"$f":"G181","v":"Jilemnice  29.09.21"},610.27422335649794," ",{"$f":"J181","v":"00:00:57.690"},"00:01:02.210","00:01:07.280"]
[]
[]
[]
[]
[]
[]
[]
[]
[]
[]
[]
[]
[]
[]
[]
[]
[null,"EXNER","Tomáš","6.A","00:01:00.640",null,"Jilemnice  03.06.22",{"$f":"IF(E101=0,0,(1000000000-313216/E101+34538300/E101*2-1698600000/E101*3+32198000000/E101*4)/200000000000-304)","v":577.70790537414246}]
[null,"JANATA","Denis","6.A","00:01:01.020",null,"Jilemnice  03.06.22",572.21713015221246]
[null,"JINDŘIŠEK","Alex Jiří","6.A","00:01:01.350",null,"Jilemnice  03.06.22",567.50400866973109]
[null,"MARŠÁLEK","Ondřej","6.A","00:01:09.950",null,"Jilemnice  03.06.22",460.35759731076485]
[null,"MLATEČEK","Patrik","6.A","00:01:14.240",null,"Jilemnice  03.06.22",416.18905417413794]
[null,"SCHOLZ","Matyáš","6.A","00:01:03.540",null,"Jilemnice  03.06.22",537.46650742662894]
[null,"TOMÁŠ","Jakub","6.A","00:00:56.510",null,"Jilemnice  14.06.22",642.14664186671405]
[null,"VÁCLAVÍK","Jan","6.A","00:00:56.400",null,"Jilemnice  03.06.22",643.99195357957456]
[null,"VEČEŘA","David","6.A","00:01:15.100",null,"Jilemnice  03.06.22",407.94193983872151]
[null,"VYBÍRAL","Radim","6.A","00:00:50.300",null,"Jilemnice  03.06.22",758.95657419260442]
[null,"BERISHA","David","6.B",null,null,null,0]
[null,"EFENBERK","Šimon","6.B","00:01:04.360",null,"Jilemnice  03.06.22",526.74558703990067]
[null,"FEJKL","Antonín","6.B","00:00:51.010",null,"Jilemnice  03.06.22",744.16152189547142]
[null,"GOTTSTEIN","Matouš","6.B","00:00:47.930",null,"Jilemnice  03.06.22",811.51645799891526]
[null,"HÁK","Šimon","6.B",null,null,null,0]
[null,"POVAŽANEC","Lukáš","6.B","00:01:04.130",null,"Jilemnice  03.06.22",529.72500907356925]
[null,"VANCL","Jakub","6.B","00:01:08.950",null,"Jilemnice  03.06.22",471.4432042333284]
[null,"VANCL","Miroslav","6.B","00:01:32.620",null,"Jilemnice  03.06.22",273.27194214951419]
[null,"VOTOČEK","Michal","6.B","00:01:07.340",null,"Jilemnice  03.06.22",489.98278707882389]
[null,"BOUKAL","Jakub","7.A",null,null,null,0,null,"00:01:20.860"]
[null,"DEMČUK","Ilja","7.A","00:00:53.360",null,"Jilemnice  03.06.22",698.00020580749629,null,"00:01:00.280"]
[null,"FAISTAUER","Kryštof","7.A","00:00:52.980",null,"Jilemnice  03.06.22",705.18703438822217,null,"00:00:54.880"]
[null,"FRK","Matyáš","7.A","00:01:14.910",null,"Jilemnice  03.06.22",409.74768030820985,null,"00:01:21.540"]
[null,"HUBÁLOVSKÝ","Marek","7.A","00:00:53.080",null,"Jilemnice  03.06.22",703.28578714935952,null,"00:01:11.580"]
[null,"MAŘAS","Dominik","7.A","00:01:20.670",null,"Jilemnice  27.05.22",358.78501960937149,null,"00:01:18.210"]
[null,"MAŤÁTKO","Jakub","7.A","00:01:29.020",null,"Jilemnice  27.05.22",296.61681961231182,null,"00:01:24.110"]
[null,"MERY","Luboš","7.A","00:01:06.760",null,"Jilemnice  03.06.22",496.88073669694438,null,"00:01:15.180"]
[null,"NOVOTNÝ","Matěj","7.A","00:01:09.540",null,"Jilemnice  03.06.22",464.86413405073347]
[null,"ŘEHOŘEK","Vojtěch","7.A","00:01:04.170",null,"Jilemnice  03.06.22",529.205314506592,null,"00:01:11.820"]
[null,"ŠÍR","Matyáš","7.A",null,null,null,0,null,"00:01:09.460"]
[null,"TORÁČ","Tomáš","7.A","00:02:06.130",null,"Jilemnice  27.05.22",119.90466052396727,null,"00:02:09.100"]
[null,"ULLMAN","Šimon","7.A","00:00:48.360",null,"Jilemnice  03.06.22",801.59772501836233,null,"00:00:53.770"]
[null,"VÁCLAVÍK","Ondřej","7.A","00:01:16.350",null,"Jilemnice  03.06.22",{"$f":"IF(E133=0,0,(1000000000-313216/E133+34538300/E133*2-1698600000/E133*3+32198000000/E133*4)/200000000000-304)","v":396.2861287739097},null,"00:00:58.550"]
[null,"AUERSWALD","Daniel","7.B","00:00:54.880",null,"Jilemnice  03.06.22",670.24815200233229,null,"00:00:59.520"]
[null,"BODLÁK","Vladimír","7.B",null,null,null,0,null,"00:00:45.090"]
[null,"BUDÍN","Martin","7.B","00:00:55.190",null,"Jilemnice  17.06.22",664.77586758267807,null,"00:00:58.300"]
[null,"DVOŘÁK","Dominik","7.B","00:01:00.920",null,"Jilemnice  03.06.22",573.65542977491782]
[null,"FIŠERA","Vojtěch","7.B",null,null,null,0,null,"00:00:57.070"]
[null,"JINDŘIŠEK","Vít","7.B","00:00:43.530",null,"Jilemnice  17.06.22",924.27203840771881]
[null,"JIROUŠ","Matouš","7.B","00:00:55.050",null,"Jilemnice  03.06.22",667.23959004337871]
[null,"KERLE","Marek","7.B","00:00:48.020",null,"Jilemnice  03.06.22",809.42574514552257,null,"00:00:54.010"]
[null,"LUKEŠ","Jakub","7.B","00:00:46.890",null,"Jilemnice  03.06.22",836.25802158003853,null,"00:00:54.300"]
[null,"OTT","Matyáš","7.B","00:00:48.620",null,"Jilemnice  03.06.22",795.68546445676679,null,"00:01:08.290"]
[null,"POKORNÝ","Matyáš","7.B","00:00:44.070",null,"Jilemnice  17.06.22",909.22179559537085,null,"00:00:48.010"]
[null,"POLÁČEK","Matyáš","7.B","00:01:06.520",null,"Jilemnice  03.06.22",499.77024627011417,null,"00:01:13.650"]
[null,"SOUKUP","Patrik","7.B",null,null,null,0,null,"00:00:53.980"]
[null,"VALENTA","Jakub","7.B","00:00:48.980",null,"Jilemnice  03.06.22",787.60288039787679]
[null,"VRBATA","Dominik","7.B","00:00:56.960",null,"Jilemnice  17.06.22",634.67185712584262,null,"00:00:57.790"]
[null,"FEJKL","Jan","8.A","00:00:44.880",null,"Jilemnice  08.06.22",887.32550316149741,null,null,"00:00:54.980"]
[null,"KOTYK","Tadeáš","8.A","00:01:09.690",null,"Jilemnice  08.06.22",463.20924999121826,null,null,"00:01:18.780"]
[null,"KRAUSE","Tadeáš","8.A","00:00:46.380",null,"Jilemnice  08.06.22",848.79637951461837,null,null,"00:00:59.500"]
[null,"LEŠÁK","Martin","8.A","00:00:57.910",null,"Jilemnice  08.06.22",619.27324696750145,null,null,"00:01:15.530"]
[null,"NECHANICKÝ","David","8.A","00:00:46.990",null,"Jilemnice  08.06.22",833.83143502634607,null,null,"00:00:57.540"]
[null,"ŘEHOŘEK","Jan","8.A","00:00:51.300",null,"Jilemnice  08.06.22",738.23627060210538,null,null,"00:00:58.500"]
[null,"SOUKUP","Ondřej","8.A",null,null,null,0,null,null,"00:01:04.170"]
[null,"SPANILÝ","David","8.A","00:00:45.790",null,"Jilemnice  08.06.22",863.64999196086478,null,null,"00:01:00.950"]
[null,"ČADAN","Benjamín","8.B",null,null,null,0,null,null,"00:01:14.370"]
[null,"ČERNÝ","Michal","8.B","00:00:58.820",null,"Jilemnice  08.06.22",604.98943015790542,null,null,"00:01:13.500"]
[null,"DOLEJŠÍ","David","8.B","00:00:51.270",null,"Jilemnice  08.06.22",738.84611920983025,null,null,"00:01:09.160"]
[null,"NOVÁK","Matěj","8.B",null,null,null,0,null,null,"00:01:01.550"]
[null,"POVAŽANEC","Martin","8.B","00:00:50.120",null,"Jilemnice  08.06.22",762.77403794668794,null,null,"00:01:22.800"]
[null,"RICHTER","Jakub","8.B","00:00:57.420",null,"Jilemnice  08.06.22",627.15205994231951,null,null,"00:01:11.020"]
[null,"ROZUMEK","Adam","8.B","00:01:07.910",null,"Jilemnice  08.06.22",483.31856474581059,null,null,"00:01:27.170"]
[null,"VALENTA","František","8.B","00:00:56.220",null,"Jilemnice  08.06.22",647.02713059210248,null,null,"00:01:08.610"]
[null,"ZAPLATÍLEK","Josef","8.B","00:00:51.560",null,"Jilemnice  08.06.22",{"$f":"IF(E165=0,0,(1000000000-313216/E165+34538300/E165*2-1698600000/E165*3+32198000000/E165*4)/200000000000-304)","v":732.98064355872771},null,null,"00:01:00.340"]
[null,"ERBEN","Viktor","9.A","00:00:58.740",null,"Jilemnice  29.09.21",606.22740690990815,null,"00:01:04.810","00:01:15.110","00:01:13.140"]
[null,"FRANC","Daniel","9.A","00:01:03.290",null,"Jilemnice  15-06.22",540.79034020995425,null,null,"00:01:18.570","00:01:14.240"]
[null,"JINDŘIŠEK","Matyáš","9.A","00:00:50.450",null,"Jilemnice  15-06.22",755.79616316923693,null,"00:00:51.030","00:00:54.740","00:01:04.050"]
[null,"KOLAČNÝ","Štěpán","9.A","00:01:05.370",null,"Jilemnice  29.09.21",513.91021924258848,null,"00:01:10.470","00:01:07.170","00:01:08.590"]
[null,"KRISTAN","Jáchym","9.A","00:01:23.850",null,"Jilemnice  29.09.21",333.6491762896602,null,"00:01:34.910","00:01:28.170","00:01:30.820"]
[null,"NGUYEN","David","9.A","00:00:53.880",null,"Jilemnice  15-06.22",688.32987345746096,null,null,"00:00:57.940"]
[null,"NOVOTNÝ","Jan","9.A","00:00:55.230",null,"Jilemnice  15-06.22",664.07424102639879,null,"00:00:48.030","00:00:54.410","00:01:06.640"]
[null,"RÁB","Adam","9.A","00:01:07.080",null,"Jilemnice  29.09.21",493.06022036207503,null,"00:01:12.190","00:01:21.770","00:01:26.790"]
[null,"REPASKÝ","Jakub","9.A","00:00:51.830",null,"Jilemnice  29.09.21",727.57868670437961,null,"00:00:49.990"]
[null,"SKÁLA","Jan","9.A","00:00:52.260",null,"Jilemnice  29.09.21",719.09080524087256,null,"00:00:51.050","00:00:59.340","00:01:09.240"]
[null,"ŠPULÁK","Jakub","9.A","00:00:58.030",null,"Jilemnice  29.09.21",617.36402433031185,null,"00:00:55.640","00:01:06.120","00:01:16.460"]
[null,"VALENTA","Tomáš","9.A","00:00:45.930",null,"Jilemnice  29.09.21",860.09087376198568,null,"00:00:44.370","00:00:49.500","00:00:56.410"]
[null,"VANCL","Jiří","9.A","00:00:59.030",null,"Jilemnice  29.09.21",601.75570611363707,null,"00:00:58.090","00:01:08.360","00:01:16.720"]
[null,"VAŠÍČEK","David","9.A","00:00:51.020",null,"Jilemnice  29.09.21",743.95608157365746,null,null,"00:01:00.980","00:00:57.580"]
[null,"ZOUHAR","Ondřej","9.A","00:00:50.800",null,"Jilemnice  29.09.21",748.4944523993704,null,"00:00:49.010","00:00:58.200","00:00:58.890"]
[null,"ZUZÁNEK","Filip","9.A","00:00:58.480",null,"Jilemnice  29.09.21",610.27422335649794,null,"00:00:57.690","00:01:02.210","00:01:07.280"]
[]
[]
[]
[]
[]
[]
[]
[]
[]
[]
[]
[]
[]
[]
[]
[]
[]
[]
[]
[]
[]
[]
[]
[]
[]
[]
[]
[]
[]
[]
[]
[]
[]
[]
[]
[]
[]
[]
[]
[]
[]
[]
[]
[]
[]
[]
[]
[]
[]
[]
[]
[]
[]
[]
[]
[]
[]
[]
[]
[]
[]
[]
[]
[]
[]
[]
[]
[]
[]
[]
[]
[]
[]
[]
[]
[]
[]
[]
[]
[]
[]
[]
[]
[]
[]
[]
[]
[]
[]
[]
[]
[]
[]
[]
[]
[]
[]
[]
[]
[]
[]
[]
[]
[]
[]
[]
[]
[]
[]
[]
[]
[]
[]
[]
[]
[]
[]
[]
[]
[]
[]
[]
[]
[]
[]
[]
[]
[]
[]
[]
[]
[]
[]
[]
[]
[]
[]
[]
[]
[]
[]
[]
[]
[]
[]
[]
[]
[]
[]
[]
[]
[]
[]
[]
[]
[]
[]
[]
[]
[]
[]
[]
[]
[]
[]
[]
[]
[]
[]
[]
[]
[]
[]
[]
[]
[]
[]
[]
[]
[]
[]
[]
[]
[]
[]
[]
[]
[]
[]
[]
[]
[]
[]
[]
[]
[]
[]
[]
[]
[]
[]
[]
[]
[]
[]
[]
[]
[]
[]
[]
[]
[]
[]
[]
[]
[]
[]
[]
[]
[]
[]
[]
[]
[]
[]
[]
[]
[]
[]
[]
[]
[]
[]
[]
[]
[]
[]
[]
[]
[]
[]
[]
[]
[]
[]
[]
[]
[]
[]
[]
[]
[]
[]
[]
[]
[]
[]
[]
[]
[]
[]
[]
[]
[]
[]
[]
[]
[]
[]
[]
[]
[]
[]
[]
[]
[]
[]
[]
[]
[]
[]
[]
[]
[]
[]
[]
[]
[]
[]
[]
[]
[]
[]
[]
[]
[]
[]
[]
[]
[]
[]
[]
[]
[]
[]
[]
[]
[]
[]
[]
[]
[]
[]
[]
[]
[]
[]
[]
[]
[]
[]
[]
[]
[]
[]
[]
[]
[]
[]
[]
[]
[]
[]
[]
[]
[]
[]
[]
[]
[]
[]
[]
[]
[]
[]
[]
[]
[]
[]
[]
[]
[]
[]
[]
[]
[]
[]
[]
[]
[]
[]
[]
[]
[]
[]
[]
[]
[]
[]
[]
[]
[]
[]
[]
[]
[]
[]
[]
[]
[]
[]
[]
[]
[]
[]
[]
[]
[]
[]
[]
[]
[]
[]
[]
[]
[]
[]
[]
[]
[]
[]
[]
[]
[]
[]
[]
[]
[]
[]
[]
[]
[]
[]
[]
[]
[]
[]
[]
[]
[]
[]
[]
[]
[]
[]
[]
[]
[]
[]
[]
[]
[]
[]
[]
[]
[]
[]
[]
[]
[]
[]
[]
[]
[]
[]
[]
[]
[]
[]
[]
[]
[]
[]
[]
[]
[]
[]
[]
[]
[]
[]
[]
[]
[]
[]
[]
[]
[]
[]
[]
[]
[]
[]
[]
[]
[]
[]
[]
[]
[]
[]
[]
[]
[]
[]
[]
[]
[]
[]
[]
[]
[]
[]
[]
[]
[]
[]
[]
[]
[]
[]
[]
[]
[]
[]
[]
[]
[]
[]
[]
[]
[]
[]
[]
[]
[]
[]
[]
[]
[]
[]
[]
[]
[]
[]
[]
[]
[]
[]
[]
[]
[]
[]
[]
[]
[]
[]
[]
[]
[]
[]
[]
[]
[]
[]
[]
[]
[]
[]
[]
[]
[]
[]
[]
[]
[]
[]
[]
[]
[]
[]
[]
[]
[]
[]
[]
[]
[]
[]
[]
[]
[]
[]
[]
[]
[]
[]
[]
[]
[]
[]
[]
[]
[]
[]
[]
[]
[]
[]
[]
[]
[]
[]
[]
[]
[]
[]
[]
[]
[]
[]
[]
[]
[]
[]
[]
[]
[]
[]
[]
[]
[]
[]
[]
[]
[]
[]
[]
[]
[]
[]
[]
[]
[]
[]
[]
[]
[]
[]
[]
[]
[]
[]
[]
[]
[]
[]
[]
[]
[]
[]
[]
[]
[]
[]
[]
[]
[]
[]
[]
[]
[]
[]
[]
[]
[]
[]
[]
[]
[]
[]
[]
[]
[]
[]
[]
[]
[]
[]
[]
[]
[]
[]
[]
[]
[]
[]
[]
[]
[]
[]
[]
[]
[]
[]
[]
[]
[]
[]
[]
[]
[]
[]
[]
[]
[]
[]
[]
[]
[]
[]
[]
[]
[]
[]
[]
[]
[]
[]
[]
[]
[]
[]
[]
[]
[]
[]
[]
[]
[]
[]
[]
[]
[]
[]
[]
[]
[]
[]
[]
[]
[]
[]
[]
[]
[]
[]
[]
[]
[]
[]
[]
[]
[]
[]
[]
[]
[]
[]
[]
[]
[]
[]
[]
[]
[]
[]
[]
[]
[]
[]
[]
[]
[]
[]
[]
[]
[]
[]
[]
[]
[]
[]
[]
[]
[]
[]
[]
[]
[]
[]
[]
[]
[]
[]
[]
[]
[]
[]
[]
[]
[]
[]
[]
[]
[]
[]
[]
[]
[]
[]
[]
[]
[]
[]
[]
[]
[]
[]
[]
[]
[]
[]
[]
[]
[]
[]
[]
[]
[]
[]
[]
[]
[]
[]
[]
[]
[]
[]
[]
[]
[]
[]
[]
[]
[]
[]
[]
[]
[]
[]
[]
[]
[]
[]
[]
[]
[]
[]
[]
[]
[]
[]
[]
[]
[]
[]
[]
[]
[]
[]
[]
[]
[]
[]
[]
[]
[]
[]
[]
[]
[]
[]
[]
[]
[]
[]
[]
[]
[]
[]
[]
[]
[]
[]
[]
[]
[]
[]
[]
[]
[]
[]
[]
[]
[]
[]
[]
[]
[]
[]
[]
[]
[]
[]
[]
[]
[]
[]
[]
[]
[]
[]
[]
[]
[]
[]
[]
[]
[]
[]
[]
[]
[]
[]
[]
[]
[]
[]
[]
[]
[]
[]
[]
[]
[]
[]
[]
[]
[]
[]
[]
[]
[]
[]
[]
[]
[]
[]
[]
[]
[]
[]
[]
[]
[]
[]
[]
[]
[]
[]
[]
[]
[]
[]
[]
[]
[]
[]
[]
[]
[]
[]
[]
[]
[]
[]
[]
[]
[]
[]
[]
[]
[]
[]
[]
[]
[]
[]
[]
[]
[]
[]
[]
[]
[]
[]
[]
[]
[]
[]
[]
[]
[]
[]
[]
[]
[]
[]
[]
[]
[]
[]
[]
[]
[]
[]
[]
[]
[]
[]
[]
[]
[]
[]
[]
[]
[]
[]
[]
[]
[]
[]
[]
[]
[]
[]
[]
[]
[]
[]
[]
[]
[]
[]
[]
[]
[]
[]
[]
[]
[]
[]
[]
[]
[]
[]
[]
[]
[]
[]
[]
[]
[]
[]
[]
[]
[]
[]
[]
[]
[]
[]
[]
[]
[]
[]
[]
[]
[]
[]
[]
[]
[]
[]
[]
[]
[]
[]
[]
[]
[]
[]
[]
[]
[]
[]
[]
[]
[]
[]
[]
[]
[]
[]
[]
[]
[]
[]
[]
[]
[]
[]
[]
[]
[]
[]
[]
[]
[]
[]
[]
[]
[]
[]
[]
[]
[]
[]
[]
[]
[]
[]
[]
[]
[]
[]
[]
[]
[]
[]
[]
[]
[]
[]
[]
[]
[]
[]
[]
[]
[]
[]
[]
[]
[]
[]
[]
[]
[]
[]
[]
[]
[]
[]
[]
[]
[]
[]
[]
[]
[]
[]
[]
[]
[]
[]
[]
[]
[]
[]
[]
[]
[]
[]
[]
[]
[]
[]
[]
[]
[]
[]
[]
[]
[]
[]
[]
[]
[]
[]
[]
[]
[]
[]
[]
[]
[]
[]
[]
[]
[]
[]
[]
[]
[]
[]
[]
[]
[]
[]
[]
[]
[]
[]
[]
[]
[]
[]
[]
[]
[]
[]
[]
[]
[]
[]
[]
[]
[]
[]
[]
[]
[]
[]
[]
[]
[]
[]
[]
[]
[]
[]
[]
[]
[]
[]
[]
[]
[]
[]
[]
[]
[]
[]
[]
[]
[]
[]
[]
[]
[]
[]
[]
[]
[]
[]
[]
[]
[]
[]
[]
[]
[]
[]
[]
[]
[]
[]
[]
[]
[]
[]
[]
[]
[]
[]
[]
[]
[]
[]
[]
[]
[]
[]
[]
[]
[]
[]
[]
[]
[]
[]
[]
[]
[]
[]
[]
[]
[]
[]
[]
[]
[]
[]
[]
[]
[]
[]
[]
[]
[]
[]
[]
[]
[]
[]
[]
[]
[]
[]
[]
[]
[]
[]
[]
[]
[]
[]
[]
[]
[]
[]
[]
[]
[]
[]
[]
[]
[]
[]
[]
[]
[]
[]
[]
[]
[]
[]
[]
[]
[]
[]
[]
[]
[]
[]
[]
[]
[]
[]
[]
[]
[]
[]
[]
[]
[]
[]
[]
[]
[]
[]
[]
[]
[]
[]
[]
[]
[]
[]
[]
[]
[]
[]
[]
[]
[]
[]
[]
[]
[]
[]
[]
[]
[]
[]
[]
[]
[]
[]
[]
[]
[]
[]
[]
[]
[]
[]
[]
[]
[]
[]
[]
[]
[]
[]
[]
[]
[]
[]
[]
[]
[]
[]
[]
[]
[]
[]
[]
[]
[]
[]
[]
[]
[]
[]
[]
[]
[]
[]
[]
[]
[]
[]
[]
[]
[]
[]
[]
[]
[]
[]
[]
[]
[]
[]
[]
[]
[]
[]
[]
[]
[]
[]
[]
[]
[]
[]
[]
[]
[]
[]
[]
[]
[]
[]
[]
[]
[]
[]
[]
[]
[]
[]
[]
[]
[]
[]
[]
[]
[]
[]
[]
[]
[]
[]
[]
[]
[]
[]
[]
[]
[]
[]
[]
[]
[]
[]
[]
[]
[]
[]
[]
[]
[]
[]
[]
[]
[]
[]
[]
[]
[]
[]
[]
[]
[]
[]
[]
[]
[]
[]
[]
[]
[]
[]
[]
[]
[]
[]
[]
[]
[]
[]
[]
[]
[]
[]
[]
[]
[]
[]
[]
[]
[]
[]
[]
[]
[]
[]
[]
[]
[]
[]
[]
[]
[]
[]
[]
[]
[]
[]
[]
[]
[]
[]
[]
[]
[]
[]
[]
[]
[]
[]
[]
[]
[]
[]
[]
[]
[]
[]
[]
[]
[]
[]
[]
[]
[]
[]
[]
[]
[]
[]
[]
[]
[]
[]
[]
[]
[]
[]
[]
[]
[]
[]
[]
[]
[]
[]
[]
[]
[]
[]
[]
[]
[]
[]
[]
[]
[]
[]
[]
[]
[]
[]
[]
[]
[]
[]
[]
[]
[]
[]
[]
[]
[]
[]
[]
[]
[]
[]
[]
[]
[]
[]
[]
[]
[]
[]
[]
[]
[]
[]
[]
[]
[]
[]
[]
[]
[]
[]
[]
[]
[]
[]
[]
[]
[]
[]
[]
[]
[]
[]
[]
[]
[]
[]
[]
[]
[]
[]
[]
[]
[]
[]
[]
[]
[]
[]
[]
[]
[]
[]
[]
[]
[]
[]
[]
[]
[]
[]
[]
[]
[]
[]
[]
[]
[]
[]
[]
[]
[]
[]
[]
[]
[]
[]
[]
[]
[]
[]
[]
[]
[]
[]
[]
[]
[]
[]
[]
[]
[]
[]
[]
[]
[]
[]
[]
[]
[]
[]
[]
[]
[]
[]
[]
[]
[]
[]
[]
[]
[]
[]
[]
[]
[]
[]
[]
[]
[]
[]
[]
[]
[]
[]
[]
[]
[]
[]
[]
[]
[]
[]
[]
[]
[]
[]
[]
[]
[]
[]
[]
[]
[]
[]
[]
[]
[]
[]
[]
[]
[]
[]
[]
[]
[]
[]
[]
[]
[]
[]
[]
[]
[]
[]
[]
[]
[]
[]
[]
[]
[]
[]
[]
[]
[]
[]
[]
[]
[]
[]
[]
[]
[]
[]
[]
[]
[]
[]
[]
[]
[]
[]
[]
[]
[]
[]
[]
[]
[]
[]
[]
[]
[]
[]
[]
[]
[]
[]
[]
[]
[]
[]
[]
[]
[]
[]
[]
[]
[]
[]
[]
[]
[]
[]
[]
[]
[]
[]
[]
[]
[]
[]
[]
[]
[]
[]
[]
[]
[]
[]
[]
[]
[]
[]
[]
[]
[]
[]
[]
[]
[]
[]
[]
[]
[]
[]
[]
[]
[]
[]
[]
[]
[]
[]
[]
[]
[]
[]
[]
[]
[]
[]
[]
[]
[]
[]
[]
[]
[]
[]
[]
[]
[]
[]
[]
[]
[]
[]
[]
[]
[]
[]
[]
[]
[]
[]
[]
[]
[]
[]
[]
[]
[]
[]
[]
[]
[]
[]
[]
[]
[]
[]
[]
[]
[]
[]
[]
[]
[]
[]
[]
[]
[]
[]
[]
[]
[]
[]
[]
[]
[]
[]
[]
[]
[]
[]
[]
[]
[]
[]
[]
[]
[]
[]
[]
[]
[]
[]
[]
[]
[]
[]
[]
[]
[]
[]
[]
[]
[]
[]
[]
[]
[]
[]
[]
[]
[]
[]
[]
[]
[]
[]
[]
[]
[]
[]
[]
[]
[]
[]
[]
[]
[]
[]
[]
[]
[]
[]
[]
[]
[]
[]
[]
[]
[]
[]
[]
[]
[]
[]
[]
[]
[]
[]
[]
[]
[]
[]
[]
[]
[]
[]
[]
[]
[]
[]
[]
[]
[]
[]
[]
[]
[]
[]
[]
[]
[]
[]
[]
[]
[]
[]
[]
[]
[]
[]
[]
[]
[]
[]
[]
[]
[]
[]
[]
[]
[]
[]
[]
[]
[]
[]
[]
[]
[]
[]
[]
[]
[]
[]
[]
[]
[]
[]
[]
[]
[]
[]
[]
[]
[]
[]
[]
[]
[]
[]
[]
[]
[]
[]
[]
[]
[]
[]
[]
[]
[]
[]
[]
[]
[]
[]
[]
[]
[]
[]
[]
[]
[]
[]
[]
[]
[]
[]
[]
[]
[]
[]
[]
[]
[]
[]
[]
[]
[]
[]
[]
[]
[]
[]
[]
[]
[]
[]
[]
[]
[]
[]
[]
[]
[]
[]
[]
[]
[]
[]
[]
[]
[]
[]
[]
[]
[]
[]
[]
[]
[]
[]
[]
[]
[]
[]
[]
[]
[]
[]
[]
[]
[]
[]
[]
[]
[]
[]
[]
[]
[]
[]
[]
[]
[]
[]
[]
[]
[]
[]
[]
[]
[]
[]
[]
[]
[]
[]
[]
[]
[]
[]
[]
[]
[]
[]
[]
[]
[]
[]
[]
[]
[]
[]
[]
[]
[]
[]
[]
[]
[]
[]
[]
[]
[]
[]
[]
[]
[]
[]
[]
[]
[]
[]
[]
[]
[]
[]
[]
[]
[]
[]
[]
[]
[]
[]
[]
[]
[]
[]
[]
[]
[]
[]
[]
[]
[]
[]
[]
[]
[]
[]
[]
[]
[]
[]
[]
[]
[]
[]
[]
[]
[]
[]
[]
[]
[]
[]
[]
[]
[]
[]
[]
[]
[]
[]
[]
[]
[]
[]
[]
[]
[]
[]
[]
[]
[]
[]
[]
[]
[]
[]
[]
[]
[]
[]
[]
[]
[]
[]
[]
[]
[]
[]
[]
[]
[]
[]
[]
[]
[]
[]
[]
[]
[]
[]
[]
[]
[]
[]
[]
[]
[]
[]
[]
[]
[]
[]
[]
[]
[]
[]
[]
[]
[]
[]
[]
[]
[]
[]
[]
[]
[]
[]
[]
[]
[]
[]
[]
[]
[]
[]
[]
[]
[]
[]
[]
[]
[]
[]
[]
[]
[]
[]
[]
[]
[]
[]
[]
[]
[]
[]
[]
[]
[]
[]
[]
[]
[]
[]
[]
[]
[]
[]
[]
[]
[]
[]
[]
[]
[]
[]
[]
[]
[]
[]
[]
[]
[]
[]
[]
[]
[]
[]
[]
[]
[]
[]
[]
[]
[]
[]
[]
[]
[]
[]
[]
[]
[]
[]
[]
[]
[]
[]
[]
[]
[]
[]
[]
[]
[]
[]
[]
[]
[]
[]
[]
[]
[]
[]
[]
[]
[]
[]
[]
[]
[]
[]
[]
[]
[]
[]
[]
[]
[]
[]
[]
[]
[]
[]
[]
[]
[]
[]
[]
[]
[]
[]
[]
[]
[]
[]
[]
[]
[]
[]
[]
[]
[]
[]
[]
[]
[]
[]
[]
[]
[]
[]
[]
[]
[]
[]
[]
[]
[]
[]
[]
[]
[]
[]
[]
[]
[]
[]
[]
[]
[]
[]
[]
[]
[]
[]
[]
[]
[]
[]
[]
[]
[]
[]
[]
[]
[]
[]
[]
[]
[]
[]
[]
[]
[]
[]
[]
[]
[]
[]
[]
[]
[]
[]
[]
[]
[]
[]
[]
[]
[]
[]
[]
[]
[]
[]
[]
[]
[]
[]
[]
[]
[]
[]
[]
[]
[]
[]
[]
[]
[]
[]
[]
[]
[]
[]
[]
[]
[]
[]
[]
[]
[]
[]
[]
[]
[]
[]
[]
[]
[]
[]
[]
[]
[]
[]
[]
[]
[]
[]
[]
[]
[]
[]
[]
[]
[]
[]
[]
[]
[]
[]
[]
[]
[]
[]
[]
[]
[]
[]
[]
[]
[]
[]
[]
[]
[]
[]
[]
[]
[]
[]
[]
[]
[]
[]
[]
[]
[]
[]
[]
[]
[]
[]
[]
[]
[]
[]
[]
[]
[]
[]
[]
[]
[]
[]
[]
[]
[]
[]
[]
[]
[]
[]
[]
[]
[]
[]
[]
[]
[]
[]
[]
[]
[]
[]
[]
[]
[]
[]
[]
[]
[]
[]
[]
[]
[]
[]
[]
[]
[]
[]
[]
[]
[]
[]
[]
[]
[]
[]
[]
[]
[]
[]
[]
[]
[]
[]
[]
[]
[]
[]
[]
[]
[]
[]
[]
[]
[]
[]
[]
[]
[]
[]
[]
[]
[]
[]
[]
[]
[]
[]
[]
[]
[]
[]
[]
[]
[]
[]
[]
[]
[]
[]
[]
[]
[]
[]
[]
[]
[]
[]
[]
[]
[]
[]
[]
[]
[]
[]
[]
[]
[]
[]
[]
[]
[]
[]
[]
[]
[]
[]
[]
[]
[]
[]
[]
[]
[]
[]
[]
[]
[]
[]
[]
[]
[]
[]
[]
[]
[]
[]
[]
[]
[]
[]
[]
[]
[]
[]
[]
[]
[]
[]
[]
[]
[]
[]
[]
[]
[]
[]
[]
[]
[]
[]
[]
[]
[]
[]
[]
[]
[]
[]
[]
[]
[]
[]
[]
[]
[]
[]
[]
[]
[]
[]
[]
[]
[]
[]
[]
[]
[]
[]
[]
[]
[]
[]
[]
[]
[]
[]
[]
[]
[]
[]
[]
[]
[]
[]
[]
[]
[]
[]
[]
[]
[]
[]
[]
[]
[]
[]
[]
[]
[]
[]
[]
[]
[]
[]
[]
[]
[]
[]
[]
[]
[]
[]
[]
[]
[]
[]
[]
[]
[]
[]
[]
[]
[]
[]
[]
[]
[]
[]
[]
[]
[]
[]
[]
[]
[]
[]
[]
[]
[]
[]
[]
[]
[]
[]
[]
[]
[]
[]
[]
[]
[]
[]
[]
[]
[]
[]
[]
[]
[]
[]
[]
[]
[]
[]
[]
[]
[]
[]
[]
[]
[]
[]
[]
[]
[]
[]
[]
[]
[]
[]
[]
[]
[]
[]
[]
[]
[]
[]
[]
[]
[]
[]
[]
[]
[]
[]
[]
[]
[]
[]
[]
[]
[]
[]
[]
[]
[]
[]
[]
[]
[]
[]
[]
[]
[]
[]
[]
[]
[]
[]
[]
[]
[]
[]
[]
[]
[]
[]
[]
[]
[]
[]
[]
[]
[]
[]
[]
[]
[]
[]
[]
[]
[]
[]
[]
[]
[]
[]
[]
[]
[]
[]
[]
[]
[]
[]
[]
[]
[]
[]
[]
[]
[]
[]
[]
[]
[]
[]
[]
[]
[]
[]
[]
[]
[]
[]
[]
[]
[]
[]
[]
[]
[]
[]
[]
[]
[]
[]
[]
[]
[]
[]
[]
[]
[]
[]
[]
[]
[]
[]
[]
[]
[]
[]
[]
[]
[]
[]
[]
[]
[]
[]
[]
[]
[]
[]
[]
[]
[]
[]
[]
[]
[]
[]
[]
[]
[]
[]
[]
[]
[]
[]
[]
[]
[]
[]
[]
[]
[]
[]
[]
[]
[]
[]
[]
[]
[]
[]
[]
[]
[]
[]
[]
[]
[]
[]
[]
[]
[]
[]
[]
[]
[]
[]
[]
[]
[]
[]
[]
[]
[]
[]
[]
[]
[]
[]
[]
[]
[]
[]
[]
[]
[]
[]
[]
[]
[]
[]
[]
[]
[]
[]
[]
[]
[]
[]
[]
[]
[]
[]
[]
[]
[]
[]
[]
[]
[]
[]
[]
[]
[]
[]
[]
[]
[]
[]
[]
[]
[]
[]
[]
[]
[]
[]
[]
[]
[]
[]
[]
[]
[]
[]
[]
[]
[]
[]
[]
[]
[]
[]
[]
[]
[]
[]
[]
[]
[]
[]
[]
[]
[]
[]
[]
[]
[]
[]
[]
[]
[]
[]
[]
[]
[]
[]
[]
[]
[]
[]
[]
[]
[]
[]
[]
[]
[]
[]
[]
[]
[]
[]
[]
[]
[]
[]
[]
[]
[]
[]
[]
[]
[]
[]
[]
[]
[]
[]
[]
[]
[]
[]
[]
[]
[]
[]
[]
[]
[]
[]
[]
[]
[]
[]
[]
[]
[]
[]
[]
[]
[]
[]
[]
[]
[]
[]
[]
[]
[]
[]
[]
[]
[]
[]
[]
[]
[]
[]
[]
[]
[]
[]
[]
[]
[]
[]
[]
[]
[]
[]
[]
[]
[]
[]
[]
[]
[]
[]
[]
[]
[]
[]
[]
[]
[]
[]
[]
[]
[]
[]
[]
[]
[]
[]
[]
[]
[]
[]
[]
[]
[]
[]
[]
[]
[]
[]
[]
[]
[]
[]
[]
[]
[]
[]
[]
[]
[]
[]
[]
[]
[]
[]
[]
[]
[]
[]
[]
[]
[]
[]
[]
[]
[]
[]
[]
[]
[]
[]
[]
[]
[]
[]
[]
[]
[]
[]
[]
[]
[]
[]
[]
[]
[]
[]
[]
[]
[]
[]
[]
[]
[]
[]
[]
[]
[]
[]
[]
[]
[]
[]
[]
[]
[]
[]
[]
[]
[]
[]
[]
[]
[]
[]
[]
[]
[]
[]
[]
[]
[]
[]
[]
[]
[]
[]
[]
[]
[]
[]
[]
[]
[]
[]
[]
[]
[]
[]
[]
[]
[]
[]
[]
[]
[]
[]
[]
[]
[]
[]
[]
[]
[]
[]
[]
[]
[]
[]
[]
[]
[]
[]
[]
[]
[]
[]
[]
[]
[]
[]
[]
[]
[]
[]
[]
[]
[]
[]
[]
[]
[]
[]
[]
[]
[]
[]
[]
[]
[]
[]
[]
[]
[]
[]
[]
[]
[]
[]
[]
[]
[]
[]
[]
[]
[]
[]
[]
[]
[]
[]
[]
[]
[]
[]
[]
[]
[]
[]
[]
[]
[]
[]
[]
[]
[]
[]
[]
[]
[]
[]
[]
[]
[]
[]
[]
[]
[]
[]
[]
[]
[]
[]
[]
[]
[]
[]
[]
[]
[]
[]
[]
[]
[]
[]
[]
[]
[]
[]
[]
[]
[]
[]
[]
[]
[]
[]
[]
[]
[]
[]
[]
[]
[]
[]
[]
[]
[]
[]
[]
[]
[]
[]
[]
[]
[]
[]
[]
[]
[]
[]
[]
[]
[]
[]
[]
[]
[]
[]
[]
[]
[]
[]
[]
[]
[]
[]
[]
[]
[]
[]
[]
[]
[]
[]
[]
[]
[]
[]
[]
[]
[]
[]
[]
[]
[]
[]
[]
[]
[]
[]
[]
[]
[]
[]
[]
[]
[]
[]
[]
[]
[]
[]
[]
[]
[]
[]
[]
[]
[]
[]
[]
[]
[]
[]
[]
[]
[]
[]
[]
[]
[]
[]
[]
[]
[]
[]
[]
[]
[]
[]
[]
[]
[]
[]
[]
[]
[]
[]
[]
[]
[]
[]
[]
[]
[]
[]
[]
[]
[]
[]
[]
[]
[]
[]
[]
[]
[]
[]
[]
[]
[]
[]
[]
[]
[]
[]
[]
[]
[]
[]
[]
[]
[]
[]
[]
[]
[]
[]
[]
[]
[]
[]
[]
[]
[]
[]
[]
[]
[]
[]
[]
[]
[]
[]
[]
[]
[]
[]
[]
[]
[]
[]
[]
[]
[]
[]
[]
[]
[]
[]
[]
[]
[]
[]
[]
[]
[]
[]
[]
[]
[]
[]
[]
[]
[]
[]
[]
[]
[]
[]
[]
[]
[]
[]
[]
[]
[]
[]
[]
[]
[]
[]
[]
[]
[]
[]
[]
[]
[]
[]
[]
[]
[]
[]
[]
[]
[]
[]
[]
[]
[]
[]
[]
[]
[]
[]
[]
[]
[]
[]
[]
[]
[]
[]
[]
[]
[]
[]
[]
[]
[]
[]
[]
[]
[]
[]
[]
[]
[]
[]
[]
[]
[]
[]
[]
[]
[]
[]
[]
[]
[]
[]
[]
[]
[]
[]
[]
[]
[]
[]
[]
[]
[]
[]
[]
[]
[]
[]
[]
[]
[]
[]
[]
[]
[]
[]
[]
[]
[]
[]
[]
[]
[]
[]
[]
[]
[]
[]
[]
[]
[]
[]
[]
[]
[]
[]
[]
[]
[]
[]
[]
[]
[]
[]
[]
[]
[]
[]
[]
[]
[]
[]
[]
[]
[]
[]
[]
[]
[]
[]
[]
[]
[]
[]
[]
[]
[]
[]
[]
[]
[]
[]
[]
[]
[]
[]
[]
[]
[]
[]
[]
[]
[]
[]
[]
[]
[]
[]
[]
[]
[]
[]
[]
[]
[]
[]
[]
[]
[]
[]
[]
[]
[]
[]
[]
[]
[]
[]
[]
[]
[]
[]
[]
[]
[]
[]
[]
[]
[]
[]
[]
[]
[]
[]
[]
[]
[]
[]
[]
[]
[]
[]
[]
[]
[]
[]
[]
[]
[]
[]
[]
[]
[]
[]
[]
[]
[]
[]
[]
[]
[]
[]
[]
[]
[]
[]
[]
[]
[]
[]
[]
[]
[]
[]
[]
[]
[]
[]
[]
[]
[]
[]
[]
[]
[]
[]
[]
[]
[]
[]
[]
[]
[]
[]
[]
[]
[]
[]
[]
[]
[]
[]
[]
[]
[]
[]
[]
[]
[]
[]
[]
[]
[]
[]
[]
[]
[]
[]
[]
[]
[]
[]
[]
[]
[]
[]
[]
[]
[]
[]
[]
[]
[]
[]
[]
[]
[]
[]
[]
[]
[]
[]
[]
[]
[]
[]
[]
[]
[]
[]
[]
[]
[]
[]
[]
[]
[]
[]
[]
[]
[]
[]
[]
[]
[]
[]
[]
[]
[]
[]
[]
[]
[]
[]
[]
[]
[]
[]
[]
[]
[]
[]
[]
[]
[]
[]
[]
[]
[]
[]
[]
[]
[]
[]
[]
[]
[]
[]
[]
[]
[]
[]
[]
[]
[]
[]
[]
[]
[]
[]
[]
[]
[]
[]
[]
[]
[]
[]
[]
[]
[]
[]
[]
[]
[]
[]
[]
[]
[]
[]
[]
[]
[]
[]
[]
[]
[]
[]
[]
[]
[]
[]
[]
[]
[]
[]
[]
[]
[]
[]
[]
[]
[]
[]
[]
[]
[]
[]
[]
[]
[]
[]
[]
[]
[]
[]
[]
[]
[]
[]
[]
[]
[]
[]
[]
[]
[]
[]
[]
[]
[]
[]
[]
[]
[]
[]
[]
[]
[]
[]
[]
[null,null,null,null,null,null,"Jilemnice  06.10.14"]

{"sheet":"1000","index":9,"n_rows":181,"n_cols":12,"rows_kept":181,"cut":false,"hidden":false,"merged":[]}
[null,null,"VÝKONY  2021 - 2022",null,null,null,"1000 M","CHLAPCI  6. -  9.  ROČ."]
[null,"stav  k ",{"$f":"TODAY()","v":"2022-06-27"},null,null,null,null,null,null,"20 - 21","19  - 20","18  - 19"]
[]
["1.",{"$f":"B101","v":"EXNER"},{"$f":"C101","v":"Tomáš"},"6.A","00:06:05.110",null,"Jilemnice  06.06.22",467.3692037886596,null,"00:00:00","00:00:00","00:00:00"]
["2.",{"$f":"B102","v":"JANATA"},"Denis","6.A","00:05:37.770",null,"Jilemnice  06.06.22",504.95647922681849,null,"00:00:00","00:00:00","00:00:00"]
["3.",{"$f":"B103","v":"JINDŘIŠEK"},"Alex Jiří","6.A","00:05:50.550",null,"Jilemnice  06.06.22",486.65665380584085,null,"00:00:00","00:00:00","00:00:00"]
["4.",{"$f":"B104","v":"MARŠÁLEK"},"Ondřej","6.A","00:05:29.220",null,"Jilemnice  14.06.22",517.99252775136688,null,"00:00:00","00:00:00","00:00:00"]
["5.",{"$f":"B105","v":"MLATEČEK"},"Patrik","6.A","00:05:47.140",null,"Jilemnice  14.06.22",491.40767411069015,null,"00:00:00","00:00:00","00:00:00"]
["6.",{"$f":"B106","v":"SCHOLZ"},"Matyáš","6.A","00:06:27.230",null,"Jilemnice  06.06.22",440.84272912947722,null,"00:00:00","00:00:00","00:00:00"]
["7.",{"$f":"B107","v":"TOMÁŠ"},"Jakub","6.A","00:04:08.320",null,"Jilemnice  06.06.22",685.77158491494845,null,"00:00:00","00:00:00","00:00:00"]
["8.",{"$f":"B108","v":"VÁCLAVÍK"},"Jan","6.A","00:04:22.770",null,"Jilemnice  06.06.22",648.22525390909357,null,"00:00:00","00:00:00","00:00:00"]
["9.",{"$f":"B109","v":"VEČEŘA"},"David","6.A","00:05:08.560",null,"Jilemnice  14.06.22",552.47446195598923,null,"00:00:00","00:00:00","00:00:00"]
["10.",{"$f":"B110","v":"VYBÍRAL"},"Radim","6.A","00:03:37.520",null,"Jilemnice  06.06.22",782.44942974613832,null,"00:00:00","00:00:00","00:00:00"]
["11.",{"$f":"B111","v":"BERISHA"},"David","6.B","00:10:22.160",null,"Jilemnice  06.06.22",275.51163697367235,null,"00:00:00","00:00:00","00:00:00"]
["12.",{"$f":"B112","v":"EFENBERK"},"Šimon","6.B","00:05:31.070",null,"Jilemnice  14.06.22",515.11477931182981,null,"00:00:00","00:00:00","00:00:00"]
["13.",{"$f":"B113","v":"FEJKL"},"Antonín","6.B","00:03:57.680",null,"Jilemnice  06.06.22",716.33658685383728,null,"00:00:00","00:00:00","00:00:00"]
["14.",{"$f":"B114","v":"GOTTSTEIN"},"Matouš","6.B","00:03:20.260",null,"Turnov   31.05.22",849.6285826129282,null,"00:00:00","00:00:00","00:00:00"]
["15.",{"$f":"B115","v":"HÁK"},"Šimon","6.B","00:00:00",null,0,0,null,"00:00:00","00:00:00","00:00:00"]
["16.",{"$f":"B116","v":"POVAŽANEC"},"Lukáš","6.B","00:05:26.550",null,"Jilemnice  06.06.22",522.20330725964629,null,"00:00:00","00:00:00","00:00:00"]
["17.",{"$f":"B117","v":"VANCL"},"Jakub","6.B","00:05:08.040",null,"Jilemnice  14.06.22",553.40202564929859,null,"00:00:00","00:00:00","00:00:00"]
["18.",{"$f":"B118","v":"VANCL"},"Miroslav","6.B","00:07:26.110",null,"Jilemnice  06.06.22",383.05388808932219,null,"00:00:00","00:00:00","00:00:00"]
["19.",{"$f":"B119","v":"VOTOČEK"},"Michal","6.B","00:05:26.920",null,"Jilemnice  06.06.22",521.61568575104002,null,"00:00:00","00:00:00","00:00:00"]
["20.",{"$f":"B120","v":"BOUKAL"},"Jakub","7.A","00:00:00",null,0,0,null,"00:00:00","00:00:00","00:00:00"]
["21.",{"$f":"B121","v":"DEMČUK"},"Ilja","7.A","00:04:08.480",null,"Jilemnice  10.06.22",685.33193804781047,null,"00:00:00","00:00:00","00:00:00"]
["22.",{"$f":"B122","v":"FAISTAUER"},"Kryštof","7.A","00:04:01.820",null,"Jilemnice  10.06.22",704.12414177675555,null,"00:00:00","00:00:00","00:00:00"]
["23.",{"$f":"B123","v":"FRK"},"Matyáš","7.A","00:07:03.570",null,"Jilemnice  10.06.22",403.2782066952156,null,"00:00:00","00:00:00","00:00:00"]
["24.",{"$f":"B124","v":"HUBÁLOVSKÝ"},"Marek","7.A","00:04:33.040",null,"Jilemnice  10.06.22",623.95605029394972,null,"00:00:00","00:00:00","00:00:00"]
["25.",{"$f":"B125","v":"MAŘAS"},"Dominik","7.A","00:07:02.110",null,"Jilemnice  10.06.22",404.66269458086157,null,"00:00:00","00:00:00","00:00:00"]
["26.",{"$f":"B126","v":"MAŤÁTKO"},"Jakub","7.A","00:00:00",null,0,0,null,"00:00:00","00:00:00","00:00:00"]
["27.",{"$f":"B127","v":"MERY"},"Luboš","7.A","00:04:45.950",null,"Jilemnice  10.06.22",595.92127985832326,null,"00:00:00","00:00:00","00:00:00"]
["28.",{"$f":"B128","v":"NOVOTNÝ"},"Matěj","7.A","00:06:27.700",null,"Jilemnice  10.06.22",440.31194222575442,null,"00:00:00","00:00:00","00:00:00"]
["29.",{"$f":"B129","v":"ŘEHOŘEK"},"Vojtěch","7.A","00:04:56.860",null,"Jilemnice  10.06.22",574.13063389548938,null,"00:00:00","00:00:00","00:00:00"]
["30.",{"$f":"B130","v":"ŠÍR"},"Matyáš","7.A","00:04:37.540",null,"Jilemnice  10.06.22",613.88794398423647,null,"00:00:00","00:00:00","00:00:00"]
["31.",{"$f":"B131","v":"TORÁČ"},"Tomáš","7.A","00:08:31.860",null,"Jilemnice  10.06.22",334.23479082554792,null,"00:00:00","00:00:00","00:00:00"]
["32.",{"$f":"B132","v":"ULLMAN"},"Šimon","7.A","00:04:09.990",null,"Jilemnice  10.06.22",681.21048828552148,null,"00:00:00","00:00:00","00:00:00"]
["33.",{"$f":"B133","v":"VÁCLAVÍK"},"Ondřej","7.A","00:04:04.290",null,"Jilemnice  10.06.22",697.03512204786318,null,"00:00:00","00:00:00","00:00:00"]
["34.",{"$f":"B134","v":"AUERSWALD"},"Daniel","7.B","00:04:33.760",null,"Jilemnice  10.06.22",622.32291047793683,null,"00:00:00","00:00:00","00:00:00"]
["35.",{"$f":"B135","v":"BODLÁK"},"Vladimír","7.B","00:00:00",null,0,0,null,"00:00:00","00:00:00","00:00:00"]
["36.",{"$f":"B136","v":"BUDÍN"},"Martin","7.B","00:03:40.660",null,"Jilemnice  10.06.22",771.35783539909801,null,"00:00:00","00:00:00","00:00:00"]
["37.",{"$f":"B137","v":"DVOŘÁK"},"Dominik","7.B","00:00:00",null,0,0,null,"00:00:00","00:00:00","00:00:00"]
["38.",{"$f":"B138","v":"FIŠERA"},"Vojtěch","7.B","00:04:36.060",null,"Jilemnice  10.06.22",617.16300794397955,null,"00:00:00","00:00:00","00:00:00"]
["39.",{"$f":"B139","v":"JINDŘIŠEK"},"Vít","7.B","00:03:18.470",null,"Jilemnice  10.06.22",857.26432183008762,null,"00:00:00","00:00:00","00:00:00"]
["40.",{"$f":"B140","v":"JIROUŠ"},"Matouš","7.B","00:00:00",null,0,0,null,"00:00:00","00:00:00","00:00:00"]
["41.",{"$f":"B141","v":"KERLE"},"Marek","7.B","00:03:57.050",null,"Jilemnice  10.06.22",718.23239807324398,null,"00:00:00","00:00:00","00:00:00"]
["42.",{"$f":"B142","v":"LUKEŠ"},"Jakub","7.B","00:03:31.960",null,"Jilemnice  10.06.22",802.89545176915465,null,"00:00:00","00:00:00","00:00:00"]
["43.",{"$f":"B143","v":"OTT"},"Matyáš","7.B","00:03:24.090",null,"Turnov   31.05.22",833.74055541683822,null,"00:00:00","00:00:00","00:00:00"]
["44.",{"$f":"B144","v":"POKORNÝ"},"Matyáš","7.B","00:03:14.690",null,"Turnov   10.05.22",873.85027455273746,null,"00:00:00","00:00:00","00:00:00"]
["45.",{"$f":"B145","v":"POLÁČEK"},"Matyáš","7.B","00:00:00",null,0,0,null,"00:00:00","00:00:00","00:00:00"]
["46.",{"$f":"B146","v":"SOUKUP"},"Patrik","7.B","00:00:00",null,0,0,null,"00:00:00","00:00:00","00:00:00"]
["47.",{"$f":"B147","v":"VALENTA"},"Jakub","7.B","00:03:36.140",null,"Jilemnice  10.06.22",787.42601997795407,null,"00:00:00","00:00:00","00:00:00"]
["48.",{"$f":"B148","v":"VRBATA"},"Dominik","7.B","00:04:05.640",null,"Jilemnice  10.06.22",693.22081080202724,null,"00:00:00","00:00:00","00:00:00"]
["49.",{"$f":"B149","v":"FEJKL"},"Jan","8.A","00:03:31.980",null,"Jilemnice  15-06.22",802.81998281439303,null,"00:00:00","00:00:00","00:00:00"]
["50.",{"$f":"B150","v":"KOTYK"},"Tadeáš","8.A","00:08:13.460",null,"Jilemnice  15-06.22",346.58578208439383,null,"00:00:00","00:00:00","00:00:00"]
["51.",{"$f":"B151","v":"KRAUSE"},"Tadeáš","8.A","00:03:27",null,"Turnov   08.04.22",822.06202877173905,null,"00:00:00","00:00:00","00:00:00"]
["52.",{"$f":"B152","v":"LEŠÁK"},"Martin","8.A","00:04:54.750",null,"Jilemnice  15-06.22",578.21913478435124,null,"00:00:00","00:00:00","00:00:00"]
["53.",{"$f":"B153","v":"NECHANICKÝ"},"David","8.A","00:03:56",null,"Turnov   08.04.22",721.41457611440671,null,"00:00:00","00:00:00","00:00:00"]
["54.",{"$f":"B154","v":"ŘEHOŘEK"},"Jan","8.A","00:04:13.920",null,"Jilemnice  15-06.22",670.71361045793958,null,"00:00:00","00:00:00","00:00:00"]
["55.",{"$f":"B155","v":"SOUKUP"},"Ondřej","8.A","00:00:00",null,0,0,null,"00:00:00","00:00:00","00:00:00"]
["56.",{"$f":"B156","v":"SPANILÝ"},"David","8.A","00:03:37",null,"Turnov   08.04.22",784.31723483064513,null,"00:00:00","00:00:00","00:00:00"]
["57.",{"$f":"B157","v":"ČADAN"},"Benjamín","8.B","00:00:00",null," ",0,null,"00:00:00","00:00:00","00:00:00"]
["58.",{"$f":"B158","v":"ČERNÝ"},"Michal","8.B","00:04:56.460",null,"Jilemnice  15-06.22",574.90123449408031,null,"00:00:00","00:00:00","00:00:00"]
["59.",{"$f":"B159","v":"DOLEJŠÍ"},"David","8.B","00:03:58",null,"Turnov   08.04.22",715.37747883823533,null,"00:00:00","00:00:00","00:00:00"]
["60.",{"$f":"B160","v":"NOVÁK"},"Matěj","8.B","00:00:00",null,0,0,null,"00:00:00","00:00:00","00:00:00"]
["61.",{"$f":"B161","v":"POVAŽANEC"},"Martin","8.B","00:04:07.770",null,"Jilemnice  15-06.22",687.28720170296049,null,"00:00:00","00:00:00","00:00:00"]
["62.",{"$f":"B162","v":"RICHTER"},"Jakub","8.B","00:04:39.840",null,"Jilemnice  15-06.22",608.86706680231555,null,"00:00:00","00:00:00","00:00:00"]
["63.",{"$f":"B163","v":"ROZUMEK"},"Adam","8.B","00:04:45.200",null,"Jilemnice  15-06.22",597.48050482223005,null,"00:00:00","00:00:00","00:00:00"]
["64.",{"$f":"B164","v":"VALENTA"},"František","8.B","00:04:34.860",null,"Jilemnice  15-06.22",619.84435702799601,null,"00:00:00","00:00:00","00:00:00"]
["65.",{"$f":"B165","v":"ZAPLATÍLEK"},"Josef","8.B","00:04:00.980",null,"Jilemnice  15-06.22",706.5680967891318,null,"00:00:00","00:00:00","00:00:00"]
["66.",{"$f":"B166","v":"ERBEN"},"Viktor","9.A","00:04:48.120",null,"Jilemnice  06.06.22",591.45564339868815,null,"00:00:00","00:00:00","00:05:36.210"]
["67.",{"$f":"B167","v":"FRANC"},"Daniel","9.A","00:06:20.930",null,"Jilemnice  06.06.22",448.08397868173296,null,"00:00:00","00:00:00","00:06:39.340"]
["68.",{"$f":"B168","v":"JINDŘIŠEK"},"Matyáš","9.A","00:03:39.510",null,"Jilemnice  06.06.22",775.3832169781673,null,"00:00:00","00:00:00","00:04:05.550"]
["69.",{"$f":"B169","v":"KOLAČNÝ"},"Štěpán","9.A","00:05:20.620",null,"Jilemnice  06.06.22",531.80618796130932,null,"00:00:00","00:00:00","00:04:52.390"]
["70.",{"$f":"B170","v":"KRISTAN"},"Jáchym","9.A","00:06:31.100",null,"Jilemnice  06.06.22",436.51020199891326,null,"00:00:00","00:00:00","00:07:05.290"]
["71.",{"$f":"B171","v":"NGUYEN"},"David","9.A","00:04:41.080",null,"Jilemnice  06.06.22",606.19425065557857,null,"00:00:00","00:00:00","00:00:00"]
["72.",{"$f":"B172","v":"NOVOTNÝ"},"Jan","9.A","00:04:16.670",null,"Jilemnice  06.06.22",663.55962897170491,null,"00:00:00","00:00:00","00:00:00"]
["73.",{"$f":"B173","v":"RÁB"},"Adam","9.A","00:06:30.900",null,"Jilemnice  06.06.22",436.73200307425174,null,"00:00:00","00:00:00","00:07:00.400"]
["74.",{"$f":"B174","v":"REPASKÝ"},"Jakub","9.A","00:04:05.140",null,"Jilemnice  15-06.22",694.62862023857804,null,"00:00:00","00:00:00","00:00:00"]
["75.",{"$f":"B175","v":"SKÁLA"},"Jan","9.A","00:03:52.130",null,"Jilemnice  06.06.22",733.39176307255627,null,"00:00:00","00:00:00","00:04:35.630"]
["76.",{"$f":"B176","v":"ŠPULÁK"},"Jakub","9.A","00:04:39.900",null,"Jilemnice  06.06.22",608.73719176125394,null,"00:00:00","00:00:00","00:06:33.510"]
["77.","VALENTA","Tomáš","9.A","00:03:47.090",null,"Jilemnice  15-06.22",749.60196380629918,null,"00:00:00","00:00:00","00:04:14.700"]
["78.",{"$f":"B178","v":"VANCL"},"Jiří","9.A","00:04:46.680",null,"Jilemnice  15-06.22",594.41146914912076,null,"00:00:00","00:00:00","00:06:33.070"]
["79.",{"$f":"B179","v":"VAŠÍČEK"},"David","9.A","00:03:30.640",null,"Jilemnice  06.06.22",807.90808942584499,null,"00:00:00","00:00:00","00:04:03.340"]
["80.",{"$f":"B180","v":"ZOUHAR"},"Ondřej","9.A","00:04:31.880",null,"Jilemnice  15-06.22",626.60541405020581,null,"00:00:00","00:00:00","00:04:44.700"]
["81.",{"$f":"B181","v":"ZUZÁNEK"},"Filip","9.A","00:04:34.770",null,"Jilemnice  06.06.22",620.04640234629881,null,"00:00:00","00:00:00","00:04:52.720"]
[]
[]
[]
[]
[]
[]
[]
[]
[]
[]
[]
[]
[]
[]
[]
[]
[null,"EXNER","Tomáš","6.A","00:06:05.110",null,"Jilemnice  06.06.22",{"$f":"IF(E101=0,0,(100 - 313216 / E101 + 3453830 / E101*2 - 169860000 / E101*3 + 321980000/ E101*4)/400000000+3)","v":467.3692037886596}]
[null,"JANATA","Denis","6.A","00:05:37.770",null,"Jilemnice  06.06.22",504.95647922681849]
[null,"JINDŘIŠEK","Alex Jiří","6.A","00:05:50.550",null,"Jilemnice  06.06.22",486.65665380584085]
[null,"MARŠÁLEK","Ondřej","6.A","00:05:29.220",null,"Jilemnice  14.06.22",517.99252775136688]
[null,"MLATEČEK","Patrik","6.A","00:05:47.140",null,"Jilemnice  14.06.22",491.40767411069015]
[null,"SCHOLZ","Matyáš","6.A","00:06:27.230",null,"Jilemnice  06.06.22",440.84272912947722]
[null,"TOMÁŠ","Jakub","6.A","00:04:08.320",null,"Jilemnice  06.06.22",685.77158491494845]
[null,"VÁCLAVÍK","Jan","6.A","00:04:22.770",null,"Jilemnice  06.06.22",648.22525390909357]
[null,"VEČEŘA","David","6.A","00:05:08.560",null,"Jilemnice  14.06.22",552.47446195598923]
[null,"VYBÍRAL","Radim","6.A","00:03:37.520",null,"Jilemnice  06.06.22",782.44942974613832]
[null,"BERISHA","David","6.B","00:10:22.160",null,"Jilemnice  06.06.22",275.51163697367235]
[null,"EFENBERK","Šimon","6.B","00:05:31.070",null,"Jilemnice  14.06.22",515.11477931182981]
[null,"FEJKL","Antonín","6.B","00:03:57.680",null,"Jilemnice  06.06.22",716.33658685383728]
[null,"GOTTSTEIN","Matouš","6.B","00:03:20.260",null,"Turnov   31.05.22",849.6285826129282]
[null,"HÁK","Šimon","6.B",null,null,null,0]
[null,"POVAŽANEC","Lukáš","6.B","00:05:26.550",null,"Jilemnice  06.06.22",522.20330725964629]
[null,"VANCL","Jakub","6.B","00:05:08.040",null,"Jilemnice  14.06.22",553.40202564929859]
[null,"VANCL","Miroslav","6.B","00:07:26.110",null,"Jilemnice  06.06.22",383.05388808932219]
[null,"VOTOČEK","Michal","6.B","00:05:26.920",null,"Jilemnice  06.06.22",521.61568575104002]
[null,"BOUKAL","Jakub","7.A",null,null,null,0]
[null,"DEMČUK","Ilja","7.A","00:04:08.480",null,"Jilemnice  10.06.22",685.33193804781047]
[null,"FAISTAUER","Kryštof","7.A","00:04:01.820",null,"Jilemnice  10.06.22",704.12414177675555]
[null,"FRK","Matyáš","7.A","00:07:03.570",null,"Jilemnice  10.06.22",403.2782066952156]
[null,"HUBÁLOVSKÝ","Marek","7.A","00:04:33.040",null,"Jilemnice  10.06.22",623.95605029394972]
[null,"MAŘAS","Dominik","7.A","00:07:02.110",null,"Jilemnice  10.06.22",404.66269458086157]
[null,"MAŤÁTKO","Jakub","7.A",null,null,null,0]
[null,"MERY","Luboš","7.A","00:04:45.950",null,"Jilemnice  10.06.22",595.92127985832326]
[null,"NOVOTNÝ","Matěj","7.A","00:06:27.700",null,"Jilemnice  10.06.22",440.31194222575442]
[null,"ŘEHOŘEK","Vojtěch","7.A","00:04:56.860",null,"Jilemnice  10.06.22",574.13063389548938]
[null,"ŠÍR","Matyáš","7.A","00:04:37.540",null,"Jilemnice  10.06.22",613.88794398423647]
[null,"TORÁČ","Tomáš","7.A","00:08:31.860",null,"Jilemnice  10.06.22",334.23479082554792]
[null,"ULLMAN","Šimon","7.A","00:04:09.990",null,"Jilemnice  10.06.22",681.21048828552148]
[null,"VÁCLAVÍK","Ondřej","7.A","00:04:04.290",null,"Jilemnice  10.06.22",{"$f":"IF(E133=0,0,(100 - 313216 / E133 + 3453830 / E133*2 - 169860000 / E133*3 + 321980000/ E133*4)/400000000+3)","v":697.03512204786318}]
[null,"AUERSWALD","Daniel","7.B","00:04:33.760",null,"Jilemnice  10.06.22",622.32291047793683]
[null,"BODLÁK","Vladimír","7.B",null,null,null,0]
[null,"BUDÍN","Martin","7.B","00:03:40.660",null,"Jilemnice  10.06.22",771.35783539909801]
[null,"DVOŘÁK","Dominik","7.B",null,null,null,0]
[null,"FIŠERA","Vojtěch","7.B","00:04:36.060",null,"Jilemnice  10.06.22",617.16300794397955]
[null,"JINDŘIŠEK","Vít","7.B","00:03:18.470",null,"Jilemnice  10.06.22",857.26432183008762]
[null,"JIROUŠ","Matouš","7.B",null,null,null,0]
[null,"KERLE","Marek","7.B","00:03:57.050",null,"Jilemnice  10.06.22",718.23239807324398]
[null,"LUKEŠ","Jakub","7.B","00:03:31.960",null,"Jilemnice  10.06.22",802.89545176915465]
[null,"OTT","Matyáš","7.B","00:03:24.090",null,"Turnov   31.05.22",833.74055541683822]
[null,"POKORNÝ","Matyáš","7.B","00:03:14.690",null,"Turnov   10.05.22",873.85027455273746]
[null,"POLÁČEK","Matyáš","7.B",null,null,null,0]
[null,"SOUKUP","Patrik","7.B",null,null,null,0]
[null,"VALENTA","Jakub","7.B","00:03:36.140",null,"Jilemnice  10.06.22",787.42601997795407]
[null,"VRBATA","Dominik","7.B","00:04:05.640",null,"Jilemnice  10.06.22",693.22081080202724]
[null,"FEJKL","Jan","8.A","00:03:31.980",null,"Jilemnice  15-06.22",802.81998281439303]
[null,"KOTYK","Tadeáš","8.A","00:08:13.460",null,"Jilemnice  15-06.22",346.58578208439383]
[null,"KRAUSE","Tadeáš","8.A","00:03:27",null,"Turnov   08.04.22",822.06202877173905]
[null,"LEŠÁK","Martin","8.A","00:04:54.750",null,"Jilemnice  15-06.22",578.21913478435124]
[null,"NECHANICKÝ","David","8.A","00:03:56",null,"Turnov   08.04.22",721.41457611440671]
[null,"ŘEHOŘEK","Jan","8.A","00:04:13.920",null,"Jilemnice  15-06.22",670.71361045793958]
[null,"SOUKUP","Ondřej","8.A",null,null,null,0]
[null,"SPANILÝ","David","8.A","00:03:37",null,"Turnov   08.04.22",784.31723483064513]
[null,"ČADAN","Benjamín","8.B",null,null," ",0]
[null,"ČERNÝ","Michal","8.B","00:04:56.460",null,"Jilemnice  15-06.22",574.90123449408031]
[null,"DOLEJŠÍ","David","8.B","00:03:58",null,"Turnov   08.04.22",715.37747883823533]
[null,"NOVÁK","Matěj","8.B",null,null,null,0]
[null,"POVAŽANEC","Martin","8.B","00:04:07.770",null,"Jilemnice  15-06.22",687.28720170296049]
[null,"RICHTER","Jakub","8.B","00:04:39.840",null,"Jilemnice  15-06.22",608.86706680231555]
[null,"ROZUMEK","Adam","8.B","00:04:45.200",null,"Jilemnice  15-06.22",597.48050482223005]
[null,"VALENTA","František","8.B","00:04:34.860",null,"Jilemnice  15-06.22",619.84435702799601]
[null,"ZAPLATÍLEK","Josef","8.B","00:04:00.980",null,"Jilemnice  15-06.22",{"$f":"IF(E165=0,0,(100 - 313216 / E165 + 3453830 / E165*2 - 169860000 / E165*3 + 321980000/ E165*4)/400000000+3)","v":706.5680967891318}]
[null,"ERBEN","Viktor","9.A","00:04:48.120",null,"Jilemnice  06.06.22",591.45564339868815,null,null,null,"00:05:36.210"]
[null,"FRANC","Daniel","9.A","00:06:20.930",null,"Jilemnice  06.06.22",448.08397868173296,null,null,null,"00:06:39.340"]
[null,"JINDŘIŠEK","Matyáš","9.A","00:03:39.510",null,"Jilemnice  06.06.22",775.3832169781673,null,null,null,"00:04:05.550"]
[null,"KOLAČNÝ","Štěpán","9.A","00:05:20.620",null,"Jilemnice  06.06.22",531.80618796130932,null,null,null,"00:04:52.390"]
[null,"KRISTAN","Jáchym","9.A","00:06:31.100",null,"Jilemnice  06.06.22",436.51020199891326,null,null,null,"00:07:05.290"]
[null,"NGUYEN","David","9.A","00:04:41.080",null,"Jilemnice  06.06.22",606.19425065557857]
[null,"NOVOTNÝ","Jan","9.A","00:04:16.670",null,"Jilemnice  06.06.22",663.55962897170491]
[null,"RÁB","Adam","9.A","00:06:30.900",null,"Jilemnice  06.06.22",436.73200307425174,null,null,null,"00:07:00.400"]
[null,"REPASKÝ","Jakub","9.A","00:04:05.140",null,"Jilemnice  15-06.22",694.62862023857804]
[null,"SKÁLA","Jan","9.A","00:03:52.130",null,"Jilemnice  06.06.22",733.39176307255627,null,null,null,"00:04:35.630"]
[null,"ŠPULÁK","Jakub","9.A","00:04:39.900",null,"Jilemnice  06.06.22",608.73719176125394,null,null,null,"00:06:33.510"]
[null,"VALENTA","Tomáš","9.A","00:03:47.090",null,"Jilemnice  15-06.22",749.60196380629918,null,null,null,"00:04:14.700"]
[null,"VANCL","Jiří","9.A","00:04:46.680",null,"Jilemnice  15-06.22",594.41146914912076,null,null,null,"00:06:33.070"]
[null,"VAŠÍČEK","David","9.A","00:03:30.640",null,"Jilemnice  06.06.22",807.90808942584499,null,null,null,"00:04:03.340"]
[null,"ZOUHAR","Ondřej","9.A","00:04:31.880",null,"Jilemnice  15-06.22",626.60541405020581,null,null,null,"00:04:44.700"]
[null,"ZUZÁNEK","Filip","9.A","00:04:34.770",null,"Jilemnice  06.06.22",620.04640234629881,null,null,null,"00:04:52.720"]

{"sheet":"DÁLKA","index":10,"n_rows":181,"n_cols":12,"rows_kept":181,"cut":false,"hidden":false,"merged":[]}
[null,null,"VÝKONY  2021 - 2022",null,null,null,"DÁLKA","CHLAPCI  6. -  9.  ROČ."]
[null,"stav  k ",{"$f":"TODAY()","v":"2022-06-27"},null,null,null,null,null,null,"20  - 21","19  - 20","18  - 19"]
[]
["1.",{"$f":"B101","v":"EXNER"},{"$f":"C101","v":"Tomáš"},"6.A",409,null,"Jilemnice  29.04.22",717.28800000000001,null,0,0,0]
["2.",{"$f":"B102","v":"JANATA"},"Denis","6.A",331,null,"Jilemnice  17.09.21",601.69200000000001,null,0,0,0]
["3.",{"$f":"B103","v":"JINDŘIŠEK"},"Alex Jiří","6.A",310,null,"Jilemnice  29.04.22",570.57000000000005,null,0,0,0]
["4.",{"$f":"B104","v":"MARŠÁLEK"},"Ondřej","6.A",283,null,"Jilemnice  29.04.22",530.55600000000004,null,0,0,0]
["5.",{"$f":"B105","v":"MLATEČEK"},"Patrik","6.A",262,null,"Jilemnice  17.09.21",499.43399999999997,null,0,0,0]
["6.",{"$f":"B106","v":"SCHOLZ"},"Matyáš","6.A",313,null,"Jilemnice  17.09.21",575.01599999999996,null,0,0,0]
["7.",{"$f":"B107","v":"TOMÁŠ"},"Jakub","6.A",345,null,"Jilemnice  29.04.22",622.43999999999994,null,0,0,0]
["8.",{"$f":"B108","v":"VÁCLAVÍK"},"Jan","6.A",314,null,"Jilemnice  17.09.21",576.49800000000005,null,0,0,0]
["9.",{"$f":"B109","v":"VEČEŘA"},"David","6.A",262,null,"Jilemnice  17.09.21",499.43399999999997,null,0,0,0]
["10.",{"$f":"B110","v":"VYBÍRAL"},"Radim","6.A",384,null,"Jilemnice  17.09.21",680.23799999999994,null,0,0,0]
["11.",{"$f":"B111","v":"BERISHA"},"David","6.B",190,null,"Jilemnice  17.09.21",392.73,null,0,0,0]
["12.",{"$f":"B112","v":"EFENBERK"},"Šimon","6.B",283,null,"Jilemnice  29.04.22",530.55600000000004,null,0,0,0]
["13.",{"$f":"B113","v":"FEJKL"},"Antonín","6.B",375,null,"Jilemnice  29.04.22",666.9,null,0,0,0]
["14.",{"$f":"B114","v":"GOTTSTEIN"},"Matouš","6.B",417,null,"Jilemnice  29.04.22",729.14400000000001,null,0,0,0]
["15.",{"$f":"B115","v":"HÁK"},"Šimon","6.B",0,null,0,0,null,0,0,0]
["16.",{"$f":"B116","v":"POVAŽANEC"},"Lukáš","6.B",321,null,"Jilemnice  17.09.21",586.87199999999996,null,0,0,0]
["17.",{"$f":"B117","v":"VANCL"},"Jakub","6.B",232,null,"Jilemnice  17.09.21",454.97399999999999,null,0,0,0]
["18.",{"$f":"B118","v":"VANCL"},"Miroslav","6.B",296,null,"Jilemnice  29.04.22",549.822,null,0,0,0]
["19.",{"$f":"B119","v":"VOTOČEK"},"Michal","6.B",249,null,"Jilemnice  17.09.21",480.16800000000001,null,0,0,0]
["20.",{"$f":"B120","v":"BOUKAL"},"Jakub","7.A",0,null,0,0,null,245,0,0]
["21.",{"$f":"B121","v":"DEMČUK"},"Ilja","7.A",367,null,"Jilemnice  29.04.22",655.04399999999998,null,311,0,0]
["22.",{"$f":"B122","v":"FAISTAUER"},"Kryštof","7.A",380,null,"Jilemnice  27.09.21",674.31,null,366,0,0]
["23.",{"$f":"B123","v":"FRK"},"Matyáš","7.A",292,null,"Jilemnice  27.09.21",543.89400000000001,null,282,0,0]
["24.",{"$f":"B124","v":"HUBÁLOVSKÝ"},"Marek","7.A",326,null,"Jilemnice  27.09.21",594.28200000000004,null,383,0,0]
["25.",{"$f":"B125","v":"MAŘAS"},"Dominik","7.A",262,null,"Jilemnice  24.09.21",499.43399999999997,null,293,0,0]
["26.",{"$f":"B126","v":"MAŤÁTKO"},"Jakub","7.A",0,null,0,0,null,0,0,0]
["27.",{"$f":"B127","v":"MERY"},"Luboš","7.A",322,null,"Jilemnice  27.09.21",588.35400000000004,null,0,0,0]
["28.",{"$f":"B128","v":"NOVOTNÝ"},"Matěj","7.A",291,null,"Jilemnice  27.09.21",542.41200000000003,null,281,0,0]
["29.",{"$f":"B129","v":"ŘEHOŘEK"},"Vojtěch","7.A",351,null,"Jilemnice  27.09.21",631.33199999999999,null,296,0,0]
["30.",{"$f":"B130","v":"ŠÍR"},"Matyáš","7.A",293,null,"Jilemnice  27.09.21",545.37599999999998,null,283,0,0]
["31.",{"$f":"B131","v":"TORÁČ"},"Tomáš","7.A",184,null,"Jilemnice  24.09.21",383.83800000000002,null,0,0,0]
["32.",{"$f":"B132","v":"ULLMAN"},"Šimon","7.A",348,null,"Jilemnice  27.09.21",626.88599999999997,null,353,0,0]
["33.",{"$f":"B133","v":"VÁCLAVÍK"},"Ondřej","7.A",394,null,"Jilemnice  27.09.21",695.05799999999999,null,309,0,0]
["34.",{"$f":"B134","v":"AUERSWALD"},"Daniel","7.B",380,null,"Jilemnice  27.09.21",674.31,null,348,0,0]
["35.",{"$f":"B135","v":"BODLÁK"},"Vladimír","7.B",0,null,0,0,null,0,0,0]
["36.",{"$f":"B136","v":"BUDÍN"},"Martin","7.B",333,null,"Jilemnice  27.09.21",604.65599999999995,null,327,0,0]
["37.",{"$f":"B137","v":"DVOŘÁK"},"Dominik","7.B",291,null,"Jilemnice  27.09.21",542.41200000000003,null,247,0,0]
["38.",{"$f":"B138","v":"FIŠERA"},"Vojtěch","7.B",302,null,"Jilemnice  27.09.21",558.71399999999994,null,323,0,0]
["39.",{"$f":"B139","v":"JINDŘIŠEK"},"Vít","7.B",428,null,"Jilemnice  29.04.22",745.44600000000003,null,381,0,0]
["40.",{"$f":"B140","v":"JIROUŠ"},"Matouš","7.B",381,null,"Jilemnice  27.09.21",675.79200000000003,null,356,0,0]
["41.",{"$f":"B141","v":"KERLE"},"Marek","7.B",433,null,"Turnov   31.05.22",752.85599999999999,null,321,0,0]
["42.",{"$f":"B142","v":"LUKEŠ"},"Jakub","7.B",423,null,"Turnov   08.04.22",738.03599999999994,null,304,0,0]
["43.",{"$f":"B143","v":"OTT"},"Matyáš","7.B",392,null,"Jilemnice  29.04.22",692.09399999999994,null,307,0,0]
["44.",{"$f":"B144","v":"POKORNÝ"},"Matyáš","7.B",445,null,"Jilemnice  29.04.22",770.64,null,0,0,0]
["45.",{"$f":"B145","v":"POLÁČEK"},"Matyáš","7.B",299,null,"Jilemnice  27.09.21",554.26800000000003,null,282,0,0]
["46.",{"$f":"B146","v":"SOUKUP"},"Patrik","7.B",0,null,0,0,null,332,0,0]
["47.",{"$f":"B147","v":"VALENTA"},"Jakub","7.B",0,null,0,0,null,0,0,0]
["48.",{"$f":"B148","v":"VRBATA"},"Dominik","7.B",375,null,"Jilemnice  27.09.21",666.9,null,339,0,0]
["49.",{"$f":"B149","v":"FEJKL"},"Jan","8.A",464,null,"Jilemnice  04.05.22",798.798,null,465,389,0]
["50.",{"$f":"B150","v":"KOTYK"},"Tadeáš","8.A",287,null,"Jilemnice  13.09.21",536.48400000000004,null,296,305,0]
["51.",{"$f":"B151","v":"KRAUSE"},"Tadeáš","8.A",457,null,"Jilemnice  04.05.22",788.42399999999998,null,357,324,0]
["52.",{"$f":"B152","v":"LEŠÁK"},"Martin","8.A",371,null,"Jilemnice  04.05.22",660.97199999999998,null,0,307,0]
["53.",{"$f":"B153","v":"NECHANICKÝ"},"David","8.A",461,null,"Jilemnice  04.05.22",794.35199999999998,null,371,356,0]
["54.",{"$f":"B154","v":"ŘEHOŘEK"},"Jan","8.A",412,null,"Jilemnice  04.05.22",721.73400000000004,null,362,333,0]
["55.",{"$f":"B155","v":"SOUKUP"},"Ondřej","8.A",311,null,"Jilemnice  13.09.21",572.05200000000002,null,314,341,0]
["56.",{"$f":"B156","v":"SPANILÝ"},"David","8.A",459,null,"Jilemnice  04.05.22",791.38800000000003,null,0,336,0]
["57.",{"$f":"B157","v":"ČADAN"},"Benjamín","8.B",345,null,"Jilemnice  13.09.21",622.43999999999994,null,332,292,0]
["58.",{"$f":"B158","v":"ČERNÝ"},"Michal","8.B",342,null,"Jilemnice  04.05.22",617.99400000000003,null,282,294,0]
["59.",{"$f":"B159","v":"DOLEJŠÍ"},"David","8.B",402,null,"Jilemnice  04.05.22",706.91399999999999,null,303,287,0]
["60.",{"$f":"B160","v":"NOVÁK"},"Matěj","8.B",364,null,"Jilemnice  13.09.21",650.59799999999996,null,322,306,0]
["61.",{"$f":"B161","v":"POVAŽANEC"},"Martin","8.B",480,null,"Jilemnice  04.05.22",822.51,null,371,310,0]
["62.",{"$f":"B162","v":"RICHTER"},"Jakub","8.B",322,null,"Jilemnice  04.05.22",588.35400000000004,null,0,266,0]
["63.",{"$f":"B163","v":"ROZUMEK"},"Adam","8.B",315,null,"Jilemnice  13.09.21",577.98,null,273,238,0]
["64.",{"$f":"B164","v":"VALENTA"},"František","8.B",335,null,"Jilemnice  04.05.22",607.62,null,273,271,0]
["65.",{"$f":"B165","v":"ZAPLATÍLEK"},"Josef","8.B",359,null,"Jilemnice  13.09.21",643.18799999999999,null,0,333,0]
["66.",{"$f":"B166","v":"ERBEN"},"Viktor","9.A",370,null,"Jilemnice  13.09.21",659.49,null,0,0,225]
["67.",{"$f":"B167","v":"FRANC"},"Daniel","9.A",315,null,"Jilemnice  13.09.21",577.98,null,306,0,245]
["68.",{"$f":"B168","v":"JINDŘIŠEK"},"Matyáš","9.A",463,null,"Jilemnice  04.05.22",797.31600000000003,null,0,339,250]
["69.",{"$f":"B169","v":"KOLAČNÝ"},"Štěpán","9.A",373,null,"Jilemnice  13.09.21",663.93600000000004,null,307,308,230]
["70.",{"$f":"B170","v":"KRISTAN"},"Jáchym","9.A",278,null,"Jilemnice  13.09.21",523.14599999999996,null,0,0,175]
["71.",{"$f":"B171","v":"NGUYEN"},"David","9.A",456,null,"Jilemnice  04.05.22",786.94200000000001,null,381,350,0]
["72.",{"$f":"B172","v":"NOVOTNÝ"},"Jan","9.A",390,null,"Jilemnice  13.09.21",689.13,null,372,390,0]
["73.",{"$f":"B173","v":"RÁB"},"Adam","9.A",315,null,"Jilemnice  13.09.21",577.98,null,284,283,206]
["74.",{"$f":"B174","v":"REPASKÝ"},"Jakub","9.A",422,null,"Jilemnice  04.05.22",736.55399999999997,null,0,0,315]
["75.",{"$f":"B175","v":"SKÁLA"},"Jan","9.A",449,null,"Jilemnice  04.05.22",776.56799999999998,null,408,321,200]
["76.",{"$f":"B176","v":"ŠPULÁK"},"Jakub","9.A",397,null,"Jilemnice  04.05.22",699.50400000000002,null,348,322,215]
["77.",{"$f":"B177","v":"VALENTA"},"Tomáš","9.A",539,null,"Jilemnice  04.05.22",909.94799999999998,null,485,445,345]
["78.",{"$f":"B178","v":"VANCL"},"Jiří","9.A",425,null,"Jilemnice  13.09.21",741,null,0,297,182]
["79.",{"$f":"B179","v":"VAŠÍČEK"},"David","9.A",393,null,"Jilemnice  04.05.22",693.57600000000002,null,349,0,270]
["80.",{"$f":"B180","v":"ZOUHAR"},"Ondřej","9.A",0,null,0,0,null,373,373,305]
["81.",{"$f":"B181","v":"ZUZÁNEK"},"Filip","9.A",433,null,"Jilemnice  13.09.21",752.85599999999999,null,0,324,271]
[]
[]
[]
[]
[]
[]
[]
[]
[]
[]
[]
[]
[]
[]
[]
[]
[null,"EXNER","Tomáš","6.A",409,null,"Jilemnice  29.04.22",{"$f":"IF(E101=0,0,(E101+75)*1.482)","v":717.28800000000001}]
[null,"JANATA","Denis","6.A",331,null,"Jilemnice  17.09.21",601.69200000000001]
[null,"JINDŘIŠEK","Alex Jiří","6.A",310,null,"Jilemnice  29.04.22",570.57000000000005]
[null,"MARŠÁLEK","Ondřej","6.A",283,null,"Jilemnice  29.04.22",530.55600000000004]
[null,"MLATEČEK","Patrik","6.A",262,null,"Jilemnice  17.09.21",499.43399999999997]
[null,"SCHOLZ","Matyáš","6.A",313,null,"Jilemnice  17.09.21",575.01599999999996]
[null,"TOMÁŠ","Jakub","6.A",345,null,"Jilemnice  29.04.22",622.43999999999994]
[null,"VÁCLAVÍK","Jan","6.A",314,null,"Jilemnice  17.09.21",576.49800000000005]
[null,"VEČEŘA","David","6.A",262,null,"Jilemnice  17.09.21",499.43399999999997]
[null,"VYBÍRAL","Radim","6.A",384,null,"Jilemnice  17.09.21",680.23799999999994]
[null,"BERISHA","David","6.B",190,null,"Jilemnice  17.09.21",392.73]
[null,"EFENBERK","Šimon","6.B",283,null,"Jilemnice  29.04.22",530.55600000000004]
[null,"FEJKL","Antonín","6.B",375,null,"Jilemnice  29.04.22",666.9]
[null,"GOTTSTEIN","Matouš","6.B",417,null,"Jilemnice  29.04.22",729.14400000000001]
[null,"HÁK","Šimon","6.B",null,null,null,0]
[null,"POVAŽANEC","Lukáš","6.B",321,null,"Jilemnice  17.09.21",586.87199999999996]
[null,"VANCL","Jakub","6.B",232,null,"Jilemnice  17.09.21",454.97399999999999]
[null,"VANCL","Miroslav","6.B",296,null,"Jilemnice  29.04.22",549.822]
[null,"VOTOČEK","Michal","6.B",249,null,"Jilemnice  17.09.21",480.16800000000001]
[null,"BOUKAL","Jakub","7.A",null,null,null,0,null,245]
[null,"DEMČUK","Ilja","7.A",367,null,"Jilemnice  29.04.22",655.04399999999998,null,311]
[null,"FAISTAUER","Kryštof","7.A",380,null,"Jilemnice  27.09.21",674.31,null,366]
[null,"FRK","Matyáš","7.A",292,null,"Jilemnice  27.09.21",543.89400000000001,null,282]
[null,"HUBÁLOVSKÝ","Marek","7.A",326,null,"Jilemnice  27.09.21",594.28200000000004,null,383]
[null,"MAŘAS","Dominik","7.A",262,null,"Jilemnice  24.09.21",499.43399999999997,null,293]
[null,"MAŤÁTKO","Jakub","7.A",null,null,null,0]
[null,"MERY","Luboš","7.A",322,null,"Jilemnice  27.09.21",588.35400000000004]
[null,"NOVOTNÝ","Matěj","7.A",291,null,"Jilemnice  27.09.21",542.41200000000003,null,281]
[null,"ŘEHOŘEK","Vojtěch","7.A",351,null,"Jilemnice  27.09.21",631.33199999999999,null,296]
[null,"ŠÍR","Matyáš","7.A",293,null,"Jilemnice  27.09.21",545.37599999999998,null,283]
[null,"TORÁČ","Tomáš","7.A",184,null,"Jilemnice  24.09.21",383.83800000000002]
[null,"ULLMAN","Šimon","7.A",348,null,"Jilemnice  27.09.21",626.88599999999997,null,353]
[null,"VÁCLAVÍK","Ondřej","7.A",394,null,"Jilemnice  27.09.21",{"$f":"IF(E133=0,0,(E133+75)*1.482)","v":695.05799999999999},null,309]
[null,"AUERSWALD","Daniel","7.B",380,null,"Jilemnice  27.09.21",674.31,null,348]
[null,"BODLÁK","Vladimír","7.B",null,null,null,0]
[null,"BUDÍN","Martin","7.B",333,null,"Jilemnice  27.09.21",604.65599999999995,null,327]
[null,"DVOŘÁK","Dominik","7.B",291,null,"Jilemnice  27.09.21",542.41200000000003,null,247]
[null,"FIŠERA","Vojtěch","7.B",302,null,"Jilemnice  27.09.21",558.71399999999994,null,323]
[null,"JINDŘIŠEK","Vít","7.B",428,null,"Jilemnice  29.04.22",745.44600000000003,null,381]
[null,"JIROUŠ","Matouš","7.B",381,null,"Jilemnice  27.09.21",675.79200000000003,null,356]
[null,"KERLE","Marek","7.B",433,null,"Turnov   31.05.22",752.85599999999999,null,321]
[null,"LUKEŠ","Jakub","7.B",423,null,"Turnov   08.04.22",738.03599999999994,null,304]
[null,"OTT","Matyáš","7.B",392,null,"Jilemnice  29.04.22",692.09399999999994,null,307]
[null,"POKORNÝ","Matyáš","7.B",445,null,"Jilemnice  29.04.22",770.64]
[null,"POLÁČEK","Matyáš","7.B",299,null,"Jilemnice  27.09.21",554.26800000000003,null,282]
[null,"SOUKUP","Patrik","7.B",null,null,null,0,null,332]
[null,"VALENTA","Jakub","7.B",null,null,null,0]
[null,"VRBATA","Dominik","7.B",375,null,"Jilemnice  27.09.21",666.9,null,339]
[null,"FEJKL","Jan","8.A",464,null,"Jilemnice  04.05.22",798.798,null,465,389]
[null,"KOTYK","Tadeáš","8.A",287,null,"Jilemnice  13.09.21",536.48400000000004,null,296,305]
[null,"KRAUSE","Tadeáš","8.A",457,null,"Jilemnice  04.05.22",788.42399999999998,null,357,324]
[null,"LEŠÁK","Martin","8.A",371,null,"Jilemnice  04.05.22",660.97199999999998,null,null,307]
[null,"NECHANICKÝ","David","8.A",461,null,"Jilemnice  04.05.22",794.35199999999998,null,371,356]
[null,"ŘEHOŘEK","Jan","8.A",412,null,"Jilemnice  04.05.22",721.73400000000004,null,362,333]
[null,"SOUKUP","Ondřej","8.A",311,null,"Jilemnice  13.09.21",572.05200000000002,null,314,341]
[null,"SPANILÝ","David","8.A",459,null,"Jilemnice  04.05.22",791.38800000000003,null,null,336]
[null,"ČADAN","Benjamín","8.B",345,null,"Jilemnice  13.09.21",622.43999999999994,null,332,292]
[null,"ČERNÝ","Michal","8.B",342,null,"Jilemnice  04.05.22",617.99400000000003,null,282,294]
[null,"DOLEJŠÍ","David","8.B",402,null,"Jilemnice  04.05.22",706.91399999999999,null,303,287]
[null,"NOVÁK","Matěj","8.B",364,null,"Jilemnice  13.09.21",650.59799999999996,null,322,306]
[null,"POVAŽANEC","Martin","8.B",480,null,"Jilemnice  04.05.22",822.51,null,371,310]
[null,"RICHTER","Jakub","8.B",322,null,"Jilemnice  04.05.22",588.35400000000004,null,null,266]
[null,"ROZUMEK","Adam","8.B",315,null,"Jilemnice  13.09.21",577.98,null,273,238]
[null,"VALENTA","František","8.B",335,null,"Jilemnice  04.05.22",607.62,null,273,271]
[null,"ZAPLATÍLEK","Josef","8.B",359,null,"Jilemnice  13.09.21",{"$f":"IF(E165=0,0,(E165+75)*1.482)","v":643.18799999999999},null,null,333]
[null,"ERBEN","Viktor","9.A",370,null,"Jilemnice  13.09.21",659.49,null,null,null,225]
[null,"FRANC","Daniel","9.A",315,null,"Jilemnice  13.09.21",577.98,null,306,null,245]
[null,"JINDŘIŠEK","Matyáš","9.A",463,null,"Jilemnice  04.05.22",797.31600000000003,null,null,339,250]
[null,"KOLAČNÝ","Štěpán","9.A",373,null,"Jilemnice  13.09.21",663.93600000000004,null,307,308,230]
[null,"KRISTAN","Jáchym","9.A",278,null,"Jilemnice  13.09.21",523.14599999999996,null,null,null,175]
[null,"NGUYEN","David","9.A",456,null,"Jilemnice  04.05.22",786.94200000000001,null,381,350]
[null,"NOVOTNÝ","Jan","9.A",390,null,"Jilemnice  13.09.21",689.13,null,372,390]
[null,"RÁB","Adam","9.A",315,null,"Jilemnice  13.09.21",577.98,null,284,283,206]
[null,"REPASKÝ","Jakub","9.A",422,null,"Jilemnice  04.05.22",736.55399999999997,null,null,null,315]
[null,"SKÁLA","Jan","9.A",449,null,"Jilemnice  04.05.22",776.56799999999998,null,408,321,200]
[null,"ŠPULÁK","Jakub","9.A",397,null,"Jilemnice  04.05.22",699.50400000000002,null,348,322,215]
[null,"VALENTA","Tomáš","9.A",539,null,"Jilemnice  04.05.22",909.94799999999998,null,485,445,345]
[null,"VANCL","Jiří","9.A",425,null,"Jilemnice  13.09.21",741,null,null,297,182]
[null,"VAŠÍČEK","David","9.A",393,null,"Jilemnice  04.05.22",693.57600000000002,null,349,null,270]
[null,"ZOUHAR","Ondřej","9.A",null,null,null,0,null,373,373,305]
[null,"ZUZÁNEK","Filip","9.A",433,null,"Jilemnice  13.09.21",752.85599999999999,null,null,324,271]

{"sheet":"VÝŠKA","index":11,"n_rows":181,"n_cols":12,"rows_kept":181,"cut":false,"hidden":false,"merged":[]}
[null,null,"VÝKONY  2021 - 2022",null,null,null,"VÝŠKA","CHLAPCI  6. -  9.  ROČ."]
[null,"stav  k ",{"$f":"TODAY()","v":"2022-06-27"},null,null,null,null,null,null,"20  - 21","19  - 20","18  - 19"]
[]
["1.",{"$f":"B101","v":"EXNER"},{"$f":"C101","v":"Tomáš"},"6.A",111,null,"Jilemnice  27.09.21",616.92000000000007,null,0,0,0]
["2.",{"$f":"B102","v":"JANATA"},"Denis","6.A",103,null,"Jilemnice  06.05.22",571.16000000000008,null,0,0,0]
["3.",{"$f":"B103","v":"JINDŘIŠEK"},"Alex Jiří","6.A",93,null,"Jilemnice  06.05.22",513.96,null,0,0,0]
["4.",{"$f":"B104","v":"MARŠÁLEK"},"Ondřej","6.A",103,null,"Jilemnice  06.05.22",571.16000000000008,null,0,0,0]
["5.",{"$f":"B105","v":"MLATEČEK"},"Patrik","6.A",91,null,"Jilemnice  24.05.22",502.5200000000001,null,0,0,0]
["6.",{"$f":"B106","v":"SCHOLZ"},"Matyáš","6.A",102,null,"Jilemnice  24.05.22",565.44000000000005,null,0,0,0]
["7.",{"$f":"B107","v":"TOMÁŠ"},"Jakub","6.A",111,null,"Jilemnice  24.05.22",616.92000000000007,null,0,0,0]
["8.",{"$f":"B108","v":"VÁCLAVÍK"},"Jan","6.A",108,null,"Jilemnice  06.05.22",599.7600000000001,null,0,0,0]
["9.",{"$f":"B109","v":"VEČEŘA"},"David","6.A",93,null,"Jilemnice  06.05.22",513.96,null,0,0,0]
["10.",{"$f":"B110","v":"VYBÍRAL"},"Radim","6.A",119,null,"Jilemnice  24.05.22",662.68000000000006,null,0,0,0]
["11.",{"$f":"B111","v":"BERISHA"},"David","6.B",71,null,"Jilemnice  27.09.21",388.12000000000006,null,0,0,0]
["12.",{"$f":"B112","v":"EFENBERK"},"Šimon","6.B",102,null,"Jilemnice  24.05.22",565.44000000000005,null,0,0,0]
["13.",{"$f":"B113","v":"FEJKL"},"Antonín","6.B",111,null,"Jilemnice  27.09.21",616.92000000000007,null,0,0,0]
["14.",{"$f":"B114","v":"GOTTSTEIN"},"Matouš","6.B",123,null,"Jilemnice  06.05.22",685.56000000000006,null,0,0,0]
["15.",{"$f":"B115","v":"HÁK"},"Šimon","6.B",0,null,0,0,null,0,0,0]
["16.",{"$f":"B116","v":"POVAŽANEC"},"Lukáš","6.B",105,null,"Jilemnice  17.05.22",582.60000000000014,null,0,0,0]
["17.",{"$f":"B117","v":"VANCL"},"Jakub","6.B",91,null,"Jilemnice  24.05.22",502.5200000000001,null,0,0,0]
["18.",{"$f":"B118","v":"VANCL"},"Miroslav","6.B",103,null,"Jilemnice  06.05.22",571.16000000000008,null,0,0,0]
["19.",{"$f":"B119","v":"VOTOČEK"},"Michal","6.B",102,null,"Jilemnice  24.05.22",565.44000000000005,null,0,0,0]
["20.",{"$f":"B120","v":"BOUKAL"},"Jakub","7.A",0,null,0,0,null,0,0,0]
["21.",{"$f":"B121","v":"DEMČUK"},"Ilja","7.A",120,null,"Jilemnice  30.05.22",668.4,null,80,0,0]
["22.",{"$f":"B122","v":"FAISTAUER"},"Kryštof","7.A",130,null,"Jilemnice  26.05.22",725.6,null,80,0,0]
["23.",{"$f":"B123","v":"FRK"},"Matyáš","7.A",0,null,0,0,null,75,0,0]
["24.",{"$f":"B124","v":"HUBÁLOVSKÝ"},"Marek","7.A",115,null,"Jilemnice  26.05.22",639.80000000000007,null,80,0,0]
["25.",{"$f":"B125","v":"MAŘAS"},"Dominik","7.A",110,null,"Jilemnice  03.06.22",611.20000000000005,null,0,0,0]
["26.",{"$f":"B126","v":"MAŤÁTKO"},"Jakub","7.A",110,null,"Jilemnice  03.06.22",611.20000000000005,null,0,0,0]
["27.",{"$f":"B127","v":"MERY"},"Luboš","7.A",0,null,0,0,null,70,0,0]
["28.",{"$f":"B128","v":"NOVOTNÝ"},"Matěj","7.A",0,null,0,0,null,80,0,0]
["29.",{"$f":"B129","v":"ŘEHOŘEK"},"Vojtěch","7.A",110,null,"Jilemnice  26.05.22",611.20000000000005,null,0,0,0]
["30.",{"$f":"B130","v":"ŠÍR"},"Matyáš","7.A",98,null,"Jilemnice  06.05.22",542.56000000000006,null,70,0,0]
["31.",{"$f":"B131","v":"TORÁČ"},"Tomáš","7.A",90,null,"Jilemnice  03.06.22",496.80000000000007,null,0,0,0]
["32.",{"$f":"B132","v":"ULLMAN"},"Šimon","7.A",120,null,"Jilemnice  26.05.22",668.4,null,80,0,0]
["33.",{"$f":"B133","v":"VÁCLAVÍK"},"Ondřej","7.A",108,null,"Jilemnice  06.05.22",599.7600000000001,null,80,0,0]
["34.",{"$f":"B134","v":"AUERSWALD"},"Daniel","7.B",108,null,"Jilemnice  06.05.22",599.7600000000001,null,0,0,0]
["35.",{"$f":"B135","v":"BODLÁK"},"Vladimír","7.B",0,null,0,0,null,0,0,0]
["36.",{"$f":"B136","v":"BUDÍN"},"Martin","7.B",110,null,"Jilemnice  26.05.22",611.20000000000005,null,80,0,0]
["37.",{"$f":"B137","v":"DVOŘÁK"},"Dominik","7.B",110,null,"Jilemnice  26.05.22",611.20000000000005,null,75,0,0]
["38.",{"$f":"B138","v":"FIŠERA"},"Vojtěch","7.B",103,null,"Jilemnice  06.05.22",571.16000000000008,null,0,0,0]
["39.",{"$f":"B139","v":"JINDŘIŠEK"},"Vít","7.B",136,null,"Jilemnice  26.05.22",759.92000000000019,null,80,0,0]
["40.",{"$f":"B140","v":"JIROUŠ"},"Matouš","7.B",108,null,"Jilemnice  06.05.22",599.7600000000001,null,80,0,0]
["41.",{"$f":"B141","v":"KERLE"},"Marek","7.B",138,null,"Turnov   31.05.22",771.36000000000013,null,80,0,0]
["42.",{"$f":"B142","v":"LUKEŠ"},"Jakub","7.B",146,null,"Turnov   31.05.22",817.12000000000012,null,75,0,0]
["43.",{"$f":"B143","v":"OTT"},"Matyáš","7.B",125,null,"Jilemnice  26.05.22",697,null,80,0,0]
["44.",{"$f":"B144","v":"POKORNÝ"},"Matyáš","7.B",135,null,"Jilemnice  17.05.22",754.2,null,80,0,0]
["45.",{"$f":"B145","v":"POLÁČEK"},"Matyáš","7.B",98,null,"Jilemnice  06.05.22",542.56000000000006,null,75,0,0]
["46.",{"$f":"B146","v":"SOUKUP"},"Patrik","7.B",0,null,0,0,null,80,0,0]
["47.",{"$f":"B147","v":"VALENTA"},"Jakub","7.B",130,null,"Turnov   08.04.22",725.6,null,0,0,0]
["48.",{"$f":"B148","v":"VRBATA"},"Dominik","7.B",108,null,"Jilemnice  06.05.22",599.7600000000001,null,80,0,0]
["49.",{"$f":"B149","v":"FEJKL"},"Jan","8.A",145,null,"Jilemnice  17.05.22",811.4,null,115,115,0]
["50.",{"$f":"B150","v":"KOTYK"},"Tadeáš","8.A",95,null,"Jilemnice  27.09.21",525.40000000000009,null,92,0,0]
["51.",{"$f":"B151","v":"KRAUSE"},"Tadeáš","8.A",143,null,"Turnov   08.04.22",799.96,null,0,0,0]
["52.",{"$f":"B152","v":"LEŠÁK"},"Martin","8.A",118,null,"Jilemnice  09.05.22",656.96,null,82,0,0]
["53.",{"$f":"B153","v":"NECHANICKÝ"},"David","8.A",123,null,"Jilemnice  09.05.22",685.56000000000006,null,110,0,0]
["54.",{"$f":"B154","v":"ŘEHOŘEK"},"Jan","8.A",139,null,"Turnov   08.04.22",777.08,null,115,105,0]
["55.",{"$f":"B155","v":"SOUKUP"},"Ondřej","8.A",103,null,"Jilemnice  09.05.22",571.16000000000008,null,101,0,0]
["56.",{"$f":"B156","v":"SPANILÝ"},"David","8.A",123,null,"Jilemnice  09.05.22",685.56000000000006,null,0,0,0]
["57.",{"$f":"B157","v":"ČADAN"},"Benjamín","8.B",115,null,"Jilemnice  27.09.21",639.80000000000007,null,0,0,0]
["58.",{"$f":"B158","v":"ČERNÝ"},"Michal","8.B",108,null,"Jilemnice  09.05.22",599.7600000000001,null,92,0,0]
["59.",{"$f":"B159","v":"DOLEJŠÍ"},"David","8.B",118,null,"Jilemnice  09.05.22",656.96,null,92,0,0]
["60.",{"$f":"B160","v":"NOVÁK"},"Matěj","8.B",95,null,"Jilemnice  27.09.21",525.40000000000009,null,101,0,0]
["61.",{"$f":"B161","v":"POVAŽANEC"},"Martin","8.B",147,null,"Jilemnice  17.05.22",822.84000000000015,null,110,0,0]
["62.",{"$f":"B162","v":"RICHTER"},"Jakub","8.B",98,null,"Jilemnice  09.05.22",542.56000000000006,null,0,0,0]
["63.",{"$f":"B163","v":"ROZUMEK"},"Adam","8.B",103,null,"Jilemnice  09.05.22",571.16000000000008,null,0,0,0]
["64.",{"$f":"B164","v":"VALENTA"},"František","8.B",113,null,"Jilemnice  09.05.22",628.36000000000013,null,0,0,0]
["65.",{"$f":"B165","v":"ZAPLATÍLEK"},"Josef","8.B",130,null,"Jilemnice  17.05.22",725.6,null,0,0,0]
["66.",{"$f":"B166","v":"ERBEN"},"Viktor","9.A",120,null,"Jilemnice  15-06.22",668.4,null,0,0,90]
["67.",{"$f":"B167","v":"FRANC"},"Daniel","9.A",103,null,"Jilemnice  09.05.22",571.16000000000008,null,0,0,90]
["68.",{"$f":"B168","v":"JINDŘIŠEK"},"Matyáš","9.A",128,null,"Jilemnice  09.05.22",714.16000000000008,null,0,0,0]
["69.",{"$f":"B169","v":"KOLAČNÝ"},"Štěpán","9.A",103,null,"Jilemnice  09.05.22",571.16000000000008,null,0,0,105]
["70.",{"$f":"B170","v":"KRISTAN"},"Jáchym","9.A",0,null,0,0,null,0,0,0]
["71.",{"$f":"B171","v":"NGUYEN"},"David","9.A",125,null,"Jilemnice  27.09.21",697,null,0,0,0]
["72.",{"$f":"B172","v":"NOVOTNÝ"},"Jan","9.A",128,null,"Jilemnice  09.05.22",714.16000000000008,null,0,0,100]
["73.",{"$f":"B173","v":"RÁB"},"Adam","9.A",103,null,"Jilemnice  09.05.22",571.16000000000008,null,0,0,90]
["74.",{"$f":"B174","v":"REPASKÝ"},"Jakub","9.A",138,null,"Jilemnice  09.05.22",771.36000000000013,null,0,0,110]
["75.",{"$f":"B175","v":"SKÁLA"},"Jan","9.A",125,null,"Jilemnice  27.09.21",697,null,0,0,90]
["76.",{"$f":"B176","v":"ŠPULÁK"},"Jakub","9.A",120,null,"Jilemnice  27.09.21",668.4,null,0,0,90]
["77.",{"$f":"B177","v":"VALENTA"},"Tomáš","9.A",155,null,"Turnov   08.04.22",868.6,null,0,0,130]
["78.",{"$f":"B178","v":"VANCL"},"Jiří","9.A",113,null,"Jilemnice  09.05.22",628.36000000000013,null,0,0,90]
["79.",{"$f":"B179","v":"VAŠÍČEK"},"David","9.A",0,null,0,0,null,0,0,110]
["80.",{"$f":"B180","v":"ZOUHAR"},"Ondřej","9.A",138,null,"Jilemnice  09.05.22",771.36000000000013,null,0,0,110]
["81.",{"$f":"B181","v":"ZUZÁNEK"},"Filip","9.A",118,null,"Jilemnice  09.05.22",656.96,null,0,0,105]
[]
[]
[]
[]
[]
[]
[]
[]
[]
[]
[]
[]
[]
[]
[]
[]
[null,"EXNER","Tomáš","6.A",111,null,"Jilemnice  27.09.21",{"$f":"IF(E101=0,0,(IF(E101>0,E101*4.4*1.3-18)))","v":616.92000000000007}]
[null,"JANATA","Denis","6.A",103,null,"Jilemnice  06.05.22",571.16000000000008]
[null,"JINDŘIŠEK","Alex Jiří","6.A",93,null,"Jilemnice  06.05.22",513.96]
[null,"MARŠÁLEK","Ondřej","6.A",103,null,"Jilemnice  06.05.22",571.16000000000008]
[null,"MLATEČEK","Patrik","6.A",91,null,"Jilemnice  24.05.22",502.5200000000001]
[null,"SCHOLZ","Matyáš","6.A",102,null,"Jilemnice  24.05.22",565.44000000000005]
[null,"TOMÁŠ","Jakub","6.A",111,null,"Jilemnice  24.05.22",616.92000000000007]
[null,"VÁCLAVÍK","Jan","6.A",108,null,"Jilemnice  06.05.22",599.7600000000001]
[null,"VEČEŘA","David","6.A",93,null,"Jilemnice  06.05.22",513.96]
[null,"VYBÍRAL","Radim","6.A",119,null,"Jilemnice  24.05.22",662.68000000000006]
[null,"BERISHA","David","6.B",71,null,"Jilemnice  27.09.21",388.12000000000006]
[null,"EFENBERK","Šimon","6.B",102,null,"Jilemnice  24.05.22",565.44000000000005]
[null,"FEJKL","Antonín","6.B",111,null,"Jilemnice  27.09.21",616.92000000000007]
[null,"GOTTSTEIN","Matouš","6.B",123,null,"Jilemnice  06.05.22",685.56000000000006]
[null,"HÁK","Šimon","6.B",null,null,null,0]
[null,"POVAŽANEC","Lukáš","6.B",105,null,"Jilemnice  17.05.22",582.60000000000014]
[null,"VANCL","Jakub","6.B",91,null,"Jilemnice  24.05.22",502.5200000000001]
[null,"VANCL","Miroslav","6.B",103,null,"Jilemnice  06.05.22",571.16000000000008]
[null,"VOTOČEK","Michal","6.B",102,null,"Jilemnice  24.05.22",565.44000000000005]
[null,"BOUKAL","Jakub","7.A",null,null,null,0]
[null,"DEMČUK","Ilja","7.A",120,null,"Jilemnice  30.05.22",668.4,null,80]
[null,"FAISTAUER","Kryštof","7.A",130,null,"Jilemnice  26.05.22",725.6,null,80]
[null,"FRK","Matyáš","7.A",null,null,null,0,null,75]
[null,"HUBÁLOVSKÝ","Marek","7.A",115,null,"Jilemnice  26.05.22",639.80000000000007,null,80]
[null,"MAŘAS","Dominik","7.A",110,null,"Jilemnice  03.06.22",611.20000000000005]
[null,"MAŤÁTKO","Jakub","7.A",110,null,"Jilemnice  03.06.22",611.20000000000005]
[null,"MERY","Luboš","7.A",null,null,null,0,null,70]
[null,"NOVOTNÝ","Matěj","7.A",null,null,null,0,null,80]
[null,"ŘEHOŘEK","Vojtěch","7.A",110,null,"Jilemnice  26.05.22",611.20000000000005]
[null,"ŠÍR","Matyáš","7.A",98,null,"Jilemnice  06.05.22",542.56000000000006,null,70]
[null,"TORÁČ","Tomáš","7.A",90,null,"Jilemnice  03.06.22",496.80000000000007]
[null,"ULLMAN","Šimon","7.A",120,null,"Jilemnice  26.05.22",668.4,null,80]
[null,"VÁCLAVÍK","Ondřej","7.A",108,null,"Jilemnice  06.05.22",{"$f":"IF(E133=0,0,(IF(E133>0,E133*4.4*1.3-18)))","v":599.7600000000001},null,80]
[null,"AUERSWALD","Daniel","7.B",108,null,"Jilemnice  06.05.22",599.7600000000001]
[null,"BODLÁK","Vladimír","7.B",null,null,null,0]
[null,"BUDÍN","Martin","7.B",110,null,"Jilemnice  26.05.22",611.20000000000005,null,80]
[null,"DVOŘÁK","Dominik","7.B",110,null,"Jilemnice  26.05.22",611.20000000000005,null,75]
[null,"FIŠERA","Vojtěch","7.B",103,null,"Jilemnice  06.05.22",571.16000000000008]
[null,"JINDŘIŠEK","Vít","7.B",136,null,"Jilemnice  26.05.22",759.92000000000019,null,80]
[null,"JIROUŠ","Matouš","7.B",108,null,"Jilemnice  06.05.22",599.7600000000001,null,80]
[null,"KERLE","Marek","7.B",138,null,"Turnov   31.05.22",771.36000000000013,null,80]
[null,"LUKEŠ","Jakub","7.B",146,null,"Turnov   31.05.22",817.12000000000012,null,75]
[null,"OTT","Matyáš","7.B",125,null,"Jilemnice  26.05.22",697,null,80]
[null,"POKORNÝ","Matyáš","7.B",135,null,"Jilemnice  17.05.22",754.2,null,80]
[null,"POLÁČEK","Matyáš","7.B",98,null,"Jilemnice  06.05.22",542.56000000000006,null,75]
[null,"SOUKUP","Patrik","7.B",null,null,null,0,null,80]
[null,"VALENTA","Jakub","7.B",130,null,"Turnov   08.04.22",725.6]
[null,"VRBATA","Dominik","7.B",108,null,"Jilemnice  06.05.22",599.7600000000001,null,80]
[null,"FEJKL","Jan","8.A",145,null,"Jilemnice  17.05.22",811.4,null,115,115]
[null,"KOTYK","Tadeáš","8.A",95,null,"Jilemnice  27.09.21",525.40000000000009,null,92]
[null,"KRAUSE","Tadeáš","8.A",143,null,"Turnov   08.04.22",799.96]
[null,"LEŠÁK","Martin","8.A",118,null,"Jilemnice  09.05.22",656.96,null,82]
[null,"NECHANICKÝ","David","8.A",123,null,"Jilemnice  09.05.22",685.56000000000006,null,110]
[null,"ŘEHOŘEK","Jan","8.A",139,null,"Turnov   08.04.22",777.08,null,115,105]
[null,"SOUKUP","Ondřej","8.A",103,null,"Jilemnice  09.05.22",571.16000000000008,null,101]
[null,"SPANILÝ","David","8.A",123,null,"Jilemnice  09.05.22",685.56000000000006]
[null,"ČADAN","Benjamín","8.B",115,null,"Jilemnice  27.09.21",639.80000000000007]
[null,"ČERNÝ","Michal","8.B",108,null,"Jilemnice  09.05.22",599.7600000000001,null,92]
[null,"DOLEJŠÍ","David","8.B",118,null,"Jilemnice  09.05.22",656.96,null,92]
[null,"NOVÁK","Matěj","8.B",95,null,"Jilemnice  27.09.21",525.40000000000009,null,101]
[null,"POVAŽANEC","Martin","8.B",147,null,"Jilemnice  17.05.22",822.84000000000015,null,110]
[null,"RICHTER","Jakub","8.B",98,null,"Jilemnice  09.05.22",542.56000000000006]
[null,"ROZUMEK","Adam","8.B",103,null,"Jilemnice  09.05.22",571.16000000000008]
[null,"VALENTA","František","8.B",113,null,"Jilemnice  09.05.22",628.36000000000013]
[null,"ZAPLATÍLEK","Josef","8.B",130,null,"Jilemnice  17.05.22",{"$f":"IF(E165=0,0,(IF(E165>0,E165*4.4*1.3-18)))","v":725.6}]
[null,"ERBEN","Viktor","9.A",120,null,"Jilemnice  15-06.22",668.4,null,null,null,90]
[null,"FRANC","Daniel","9.A",103,null,"Jilemnice  09.05.22",571.16000000000008,null,null,null,90]
[null,"JINDŘIŠEK","Matyáš","9.A",128,null,"Jilemnice  09.05.22",714.16000000000008]
[null,"KOLAČNÝ","Štěpán","9.A",103,null,"Jilemnice  09.05.22",571.16000000000008,null,null,null,105]
[null,"KRISTAN","Jáchym","9.A",null,null,null,0]
[null,"NGUYEN","David","9.A",125,null,"Jilemnice  27.09.21",697]
[null,"NOVOTNÝ","Jan","9.A",128,null,"Jilemnice  09.05.22",714.16000000000008,null,null,null,100]
[null,"RÁB","Adam","9.A",103,null,"Jilemnice  09.05.22",571.16000000000008,null,null,null,90]
[null,"REPASKÝ","Jakub","9.A",138,null,"Jilemnice  09.05.22",771.36000000000013,null,null,null,110]
[null,"SKÁLA","Jan","9.A",125,null,"Jilemnice  27.09.21",697,null,null,null,90]
[null,"ŠPULÁK","Jakub","9.A",120,null,"Jilemnice  27.09.21",668.4,null,null,null,90]
[null,"VALENTA","Tomáš","9.A",155,null,"Turnov   08.04.22",868.6,null,null,null,130]
[null,"VANCL","Jiří","9.A",113,null,"Jilemnice  09.05.22",628.36000000000013,null,null,null,90]
[null,"VAŠÍČEK","David","9.A",null,null,null,0,null,null,null,110]
[null,"ZOUHAR","Ondřej","9.A",138,null,"Jilemnice  09.05.22",771.36000000000013,null,null,null,110]
[null,"ZUZÁNEK","Filip","9.A",118,null,"Jilemnice  09.05.22",656.96,null,null,null,105]

{"sheet":"MÍČEK","index":12,"n_rows":181,"n_cols":12,"rows_kept":181,"cut":false,"hidden":false,"merged":[]}
[null,null,"VÝKONY  2021 - 2022",null,null,null,"MÍČEK","CHLAPCI  6. -  9.  ROČ."]
[null,"stav  k ",{"$f":"TODAY()","v":"2022-06-27"},null,null,null,null,null,null,"20  -  21","19  - 20","18  - 19"]
[]
["1.",{"$f":"B101","v":"EXNER"},{"$f":"C101","v":"Tomáš"},"6.A",16,null,"Jilemnice  17.05.22",200,null,0,0,0]
["2.",{"$f":"B102","v":"JANATA"},"Denis","6.A",24,null,"Jilemnice  17.05.22",300,null,0,0,0]
["3.",{"$f":"B103","v":"JINDŘIŠEK"},"Alex Jiří","6.A",25,null,"Jilemnice  17.05.22",312.5,null,0,0,0]
["4.",{"$f":"B104","v":"MARŠÁLEK"},"Ondřej","6.A",22.5,null,"Jilemnice  17.05.22",281.25,null,0,0,0]
["5.",{"$f":"B105","v":"MLATEČEK"},"Patrik","6.A",26.5,null,"Jilemnice  09.05.22",331.25,null,0,0,0]
["6.",{"$f":"B106","v":"SCHOLZ"},"Matyáš","6.A",26,null,"Jilemnice  17.05.22",325,null,0,0,0]
["7.",{"$f":"B107","v":"TOMÁŠ"},"Jakub","6.A",24.5,null,"Jilemnice  09.05.22",306.25,null,0,0,0]
["8.",{"$f":"B108","v":"VÁCLAVÍK"},"Jan","6.A",25,null,"Jilemnice  09.05.22",312.5,null,0,0,0]
["9.",{"$f":"B109","v":"VEČEŘA"},"David","6.A",23,null,"Jilemnice  09.05.22",287.5,null,0,0,0]
["10.",{"$f":"B110","v":"VYBÍRAL"},"Radim","6.A",30,null,"Jilemnice  09.05.22",375,null,0,0,0]
["11.",{"$f":"B111","v":"BERISHA"},"David","6.B",17.5,null,"Jilemnice  17.05.22",218.75,null,0,0,0]
["12.",{"$f":"B112","v":"EFENBERK"},"Šimon","6.B",21,null,"Jilemnice  09.05.22",262.5,null,0,0,0]
["13.",{"$f":"B113","v":"FEJKL"},"Antonín","6.B",40,null,"Jilemnice  09.05.22",500,null,0,0,0]
["14.",{"$f":"B114","v":"GOTTSTEIN"},"Matouš","6.B",36,null,"Jilemnice  17.05.22",450,null,0,0,0]
["15.",{"$f":"B115","v":"HÁK"},"Šimon","6.B",0,null,0,0,null,0,0,0]
["16.",{"$f":"B116","v":"POVAŽANEC"},"Lukáš","6.B",33,null,"Jilemnice  09.05.22",412.5,null,0,0,0]
["17.",{"$f":"B117","v":"VANCL"},"Jakub","6.B",20.5,null,"Jilemnice  17.05.22",256.25,null,0,0,0]
["18.",{"$f":"B118","v":"VANCL"},"Miroslav","6.B",21,null,"Jilemnice  24.09.21",262.5,null,0,0,0]
["19.",{"$f":"B119","v":"VOTOČEK"},"Michal","6.B",30,null,"Jilemnice  17.05.22",375,null,0,0,0]
["20.",{"$f":"B120","v":"BOUKAL"},"Jakub","7.A",0,null,0,0,null,0,0,0]
["21.",{"$f":"B121","v":"DEMČUK"},"Ilja","7.A",31,null,"Jilemnice  09.05.22",387.5,null,20,0,0]
["22.",{"$f":"B122","v":"FAISTAUER"},"Kryštof","7.A",45,null,"Jilemnice  09.05.22",562.5,null,34.5,0,0]
["23.",{"$f":"B123","v":"FRK"},"Matyáš","7.A",26,null,"Jilemnice  20.09.21",325,null,0,0,0]
["24.",{"$f":"B124","v":"HUBÁLOVSKÝ"},"Marek","7.A",34,null,"Jilemnice  09.05.22",425,null,26,0,0]
["25.",{"$f":"B125","v":"MAŘAS"},"Dominik","7.A",28,null,"Jilemnice  20.09.21",350,null,0,0,0]
["26.",{"$f":"B126","v":"MAŤÁTKO"},"Jakub","7.A",25,null,"Jilemnice  25.03.22",312.5,null,0,0,0]
["27.",{"$f":"B127","v":"MERY"},"Luboš","7.A",21,null,"Jilemnice  09.05.22",262.5,null,0,0,0]
["28.",{"$f":"B128","v":"NOVOTNÝ"},"Matěj","7.A",25.5,null,"Jilemnice  20.09.21",318.75,null,29,0,0]
["29.",{"$f":"B129","v":"ŘEHOŘEK"},"Vojtěch","7.A",44.8,null,"Turnov   31.05.22",560,null,40,0,0]
["30.",{"$f":"B130","v":"ŠÍR"},"Matyáš","7.A",25,null,"Jilemnice  09.05.22",312.5,null,20,0,0]
["31.",{"$f":"B131","v":"TORÁČ"},"Tomáš","7.A",17.5,null,"Jilemnice  25.03.22",218.75,null,0,0,0]
["32.",{"$f":"B132","v":"ULLMAN"},"Šimon","7.A",0,null,0,0,null,24.5,0,0]
["33.",{"$f":"B133","v":"VÁCLAVÍK"},"Ondřej","7.A",42,null,"Jilemnice  09.05.22",525,null,36,0,0]
["34.",{"$f":"B134","v":"AUERSWALD"},"Daniel","7.B",29,null,"Jilemnice  09.05.22",362.5,null,25,0,0]
["35.",{"$f":"B135","v":"BODLÁK"},"Vladimír","7.B",0,null,0,0,null,0,0,0]
["36.",{"$f":"B136","v":"BUDÍN"},"Martin","7.B",37,null,"Jilemnice  09.05.22",462.5,null,31,0,0]
["37.",{"$f":"B137","v":"DVOŘÁK"},"Dominik","7.B",31,null,"Jilemnice  09.05.22",387.5,null,0,0,0]
["38.",{"$f":"B138","v":"FIŠERA"},"Vojtěch","7.B",19,null,"Jilemnice  20.09.21",237.5,null,19,0,0]
["39.",{"$f":"B139","v":"JINDŘIŠEK"},"Vít","7.B",52.9,null,"Turnov   08.04.22",661.25,null,42,0,0]
["40.",{"$f":"B140","v":"JIROUŠ"},"Matouš","7.B",29.5,null,"Jilemnice  09.05.22",368.75,null,28,0,0]
["41.",{"$f":"B141","v":"KERLE"},"Marek","7.B",46,null,"Jilemnice  09.05.22",575,null,0,0,0]
["42.",{"$f":"B142","v":"LUKEŠ"},"Jakub","7.B",24,null,"Jilemnice  09.05.22",300,null,21,0,0]
["43.",{"$f":"B143","v":"OTT"},"Matyáš","7.B",35,null,"Jilemnice  20.09.21",437.5,null,29,0,0]
["44.",{"$f":"B144","v":"POKORNÝ"},"Matyáš","7.B",45,null,"Jilemnice  09.05.22",562.5,null,43,0,0]
["45.",{"$f":"B145","v":"POLÁČEK"},"Matyáš","7.B",37,null,"Jilemnice  09.05.22",462.5,null,34,0,0]
["46.",{"$f":"B146","v":"SOUKUP"},"Patrik","7.B",0,null,0,0,null,30,0,0]
["47.",{"$f":"B147","v":"VALENTA"},"Jakub","7.B",28,null,"Jilemnice  09.05.22",350,null,26,0,0]
["48.",{"$f":"B148","v":"VRBATA"},"Dominik","7.B",37,null,"Jilemnice  20.09.21",462.5,null,34.5,0,0]
["49.",{"$f":"B149","v":"FEJKL"},"Jan","8.A",61,null,"Jilemnice  09.05.22",762.5,null,49,39.5,0]
["50.",{"$f":"B150","v":"KOTYK"},"Tadeáš","8.A",26,null,"Jilemnice  09.05.22",325,null,20,16.5,0]
["51.",{"$f":"B151","v":"KRAUSE"},"Tadeáš","8.A",37.5,null,"Jilemnice  20.09.21",468.75,null,29.5,25,0]
["52.",{"$f":"B152","v":"LEŠÁK"},"Martin","8.A",30,null,"Jilemnice  20.09.21",375,null,25.5,22,0]
["53.",{"$f":"B153","v":"NECHANICKÝ"},"David","8.A",43,null,"Jilemnice  09.05.22",537.5,null,31,29,0]
["54.",{"$f":"B154","v":"ŘEHOŘEK"},"Jan","8.A",39,null,"Jilemnice  20.09.21",487.5,null,42,41,0]
["55.",{"$f":"B155","v":"SOUKUP"},"Ondřej","8.A",0,null,0,0,null,0,0,0]
["56.",{"$f":"B156","v":"SPANILÝ"},"David","8.A",59,null,"Jilemnice  09.05.22",737.5,null,47,44,0]
["57.",{"$f":"B157","v":"ČADAN"},"Benjamín","8.B",0,null,0,0,null,26,0,0]
["58.",{"$f":"B158","v":"ČERNÝ"},"Michal","8.B",44.5,null,"Jilemnice  20.09.21",556.25,null,39.5,31,0]
["59.",{"$f":"B159","v":"DOLEJŠÍ"},"David","8.B",21.5,null,"Jilemnice  20.09.21",268.75,null,21,20,0]
["60.",{"$f":"B160","v":"NOVÁK"},"Matěj","8.B",33,null,"Jilemnice  20.09.21",412.5,null,30.5,28,0]
["61.",{"$f":"B161","v":"POVAŽANEC"},"Martin","8.B",50,null,"Jilemnice  09.05.22",625,null,40.5,34,0]
["62.",{"$f":"B162","v":"RICHTER"},"Jakub","8.B",29,null,"Jilemnice  09.05.22",362.5,null,23,19.5,0]
["63.",{"$f":"B163","v":"ROZUMEK"},"Adam","8.B",45,null,"Jilemnice  09.05.22",562.5,null,38,30.5,0]
["64.",{"$f":"B164","v":"VALENTA"},"František","8.B",28,null,"Jilemnice  09.05.22",350,null,20,20,0]
["65.",{"$f":"B165","v":"ZAPLATÍLEK"},"Josef","8.B",42,null,"Jilemnice  09.05.22",525,null,36,34.5,0]
["66.",{"$f":"B166","v":"ERBEN"},"Viktor","9.A",25,null,{"$f":"G166","v":"Jilemnice  30.05.22"},312.5,null,21,0,14]
["67.",{"$f":"B167","v":"FRANC"},"Daniel","9.A",33,null,"Jilemnice  30.05.22",412.5,null,26,0,26]
["68.","JINDŘIŠEK","Matyáš","9.A",52,null,"Jilemnice  20.09.21",650,null,0,36.5,38]
["69.",{"$f":"B169","v":"KOLAČNÝ"},"Štěpán","9.A",33,null,"Jilemnice  30.05.22",412.5,null,25,0,27]
["70.",{"$f":"B170","v":"KRISTAN"},"Jáchym","9.A",20,null,"Jilemnice  30.05.22",250,null,15,0,15.5]
["71.",{"$f":"B171","v":"NGUYEN"},"David","9.A",47.5,null,"Jilemnice  30.05.22",593.75,null,36.5,0,0]
["72.",{"$f":"B172","v":"NOVOTNÝ"},"Jan","9.A",{"$f":"E172","v":31},null,"Jilemnice  30.05.22",387.5,null,27,23,20]
["73.","RÁB","Adam","9.A",34.5,null,"Jilemnice  30.05.22",431.25,null,25.5,0,26]
["74.",{"$f":"B174","v":"REPASKÝ"},"Jakub","9.A",59,null,"Jilemnice  20.09.21",737.5,null,50.5,0,43]
["75.",{"$f":"B175","v":"SKÁLA"},"Jan","9.A",39,null,"Jilemnice  20.09.21",487.5,null,30,0,24]
["76.",{"$f":"B176","v":"ŠPULÁK"},"Jakub","9.A",49.5,null,"Jilemnice  20.09.21",618.75,null,45,0,32.5]
["77.",{"$f":"B177","v":"VALENTA"},"Tomáš","9.A",64,null,"Jilemnice  30.05.22",800,null,53,41,50]
["78.",{"$f":"B178","v":"VANCL"},"Jiří","9.A",29,null,"Jilemnice  20.09.21",362.5,null,31,0,27]
["79.",{"$f":"B179","v":"VAŠÍČEK"},"David","9.A",36,null,"Jilemnice  30.05.22",450,null,32.5,0,25]
["80.",{"$f":"B180","v":"ZOUHAR"},"Ondřej","9.A",40,null,"Jilemnice  20.09.21",500,null,35,0,28]
["81.",{"$f":"B181","v":"ZUZÁNEK"},"Filip","9.A",26,null,"Jilemnice  30.05.22",325,null,24.5,0,25]
[]
[]
[]
[]
[]
[]
[]
[]
[]
[]
[]
[]
[]
[]
[]
[]
[null,"EXNER","Tomáš","6.A",16,null,"Jilemnice  17.05.22",{"$f":"IF(E101=0,0,E101*10*1.25)","v":200}]
[null,"JANATA","Denis","6.A",24,null,"Jilemnice  17.05.22",300]
[null,"JINDŘIŠEK","Alex Jiří","6.A",25,null,"Jilemnice  17.05.22",312.5]
[null,"MARŠÁLEK","Ondřej","6.A",22.5,null,"Jilemnice  17.05.22",281.25]
[null,"MLATEČEK","Patrik","6.A",26.5,null,"Jilemnice  09.05.22",331.25]
[null,"SCHOLZ","Matyáš","6.A",26,null,"Jilemnice  17.05.22",325]
[null,"TOMÁŠ","Jakub","6.A",24.5,null,"Jilemnice  09.05.22",306.25]
[null,"VÁCLAVÍK","Jan","6.A",25,null,"Jilemnice  09.05.22",312.5]
[null,"VEČEŘA","David","6.A",23,null,"Jilemnice  09.05.22",287.5]
[null,"VYBÍRAL","Radim","6.A",30,null,"Jilemnice  09.05.22",375]
[null,"BERISHA","David","6.B",17.5,null,"Jilemnice  17.05.22",218.75]
[null,"EFENBERK","Šimon","6.B",21,null,"Jilemnice  09.05.22",262.5]
[null,"FEJKL","Antonín","6.B",40,null,"Jilemnice  09.05.22",500]
[null,"GOTTSTEIN","Matouš","6.B",36,null,"Jilemnice  17.05.22",450]
[null,"HÁK","Šimon","6.B",null,null,null,0]
[null,"POVAŽANEC","Lukáš","6.B",33,null,"Jilemnice  09.05.22",412.5]
[null,"VANCL","Jakub","6.B",20.5,null,"Jilemnice  17.05.22",256.25]
[null,"VANCL","Miroslav","6.B",21,null,"Jilemnice  24.09.21",262.5]
[null,"VOTOČEK","Michal","6.B",30,null,"Jilemnice  17.05.22",375]
[null,"BOUKAL","Jakub","7.A",null,null,null,0]
[null,"DEMČUK","Ilja","7.A",31,null,"Jilemnice  09.05.22",387.5,null,20]
[null,"FAISTAUER","Kryštof","7.A",45,null,"Jilemnice  09.05.22",562.5,null,34.5]
[null,"FRK","Matyáš","7.A",26,null,"Jilemnice  20.09.21",325]
[null,"HUBÁLOVSKÝ","Marek","7.A",34,null,"Jilemnice  09.05.22",425,null,26]
[null,"MAŘAS","Dominik","7.A",28,null,"Jilemnice  20.09.21",350]
[null,"MAŤÁTKO","Jakub","7.A",25,null,"Jilemnice  25.03.22",312.5]
[null,"MERY","Luboš","7.A",21,null,"Jilemnice  09.05.22",262.5]
[null,"NOVOTNÝ","Matěj","7.A",25.5,null,"Jilemnice  20.09.21",318.75,null,29]
[null,"ŘEHOŘEK","Vojtěch","7.A",44.8,null,"Turnov   31.05.22",560,null,40]
[null,"ŠÍR","Matyáš","7.A",25,null,"Jilemnice  09.05.22",312.5,null,20]
[null,"TORÁČ","Tomáš","7.A",17.5,null,"Jilemnice  25.03.22",218.75]
[null,"ULLMAN","Šimon","7.A",null,null,null,0,null,24.5]
[null,"VÁCLAVÍK","Ondřej","7.A",42,null,"Jilemnice  09.05.22",{"$f":"IF(E133=0,0,E133*10*1.25)","v":525},null,36]
[null,"AUERSWALD","Daniel","7.B",29,null,"Jilemnice  09.05.22",362.5,null,25]
[null,"BODLÁK","Vladimír","7.B",null,null,null,0]
[null,"BUDÍN","Martin","7.B",37,null,"Jilemnice  09.05.22",462.5,null,31]
[null,"DVOŘÁK","Dominik","7.B",31,null,"Jilemnice  09.05.22",387.5]
[null,"FIŠERA","Vojtěch","7.B",19,null,"Jilemnice  20.09.21",237.5,null,19]
[null,"JINDŘIŠEK","Vít","7.B",52.9,null,"Turnov   08.04.22",661.25,null,42]
[null,"JIROUŠ","Matouš","7.B",29.5,null,"Jilemnice  09.05.22",368.75,null,28]
[null,"KERLE","Marek","7.B",46,null,"Jilemnice  09.05.22",575]
[null,"LUKEŠ","Jakub","7.B",24,null,"Jilemnice  09.05.22",300,null,21]
[null,"OTT","Matyáš","7.B",35,null,"Jilemnice  20.09.21",437.5,null,29]
[null,"POKORNÝ","Matyáš","7.B",45,null,"Jilemnice  09.05.22",562.5,null,43]
[null,"POLÁČEK","Matyáš","7.B",37,null,"Jilemnice  09.05.22",462.5,null,34]
[null,"SOUKUP","Patrik","7.B",null,null,null,0,null,30]
[null,"VALENTA","Jakub","7.B",28,null,"Jilemnice  09.05.22",350,null,26]
[null,"VRBATA","Dominik","7.B",37,null,"Jilemnice  20.09.21",462.5,null,34.5]
[null,"FEJKL","Jan","8.A",61,null,"Jilemnice  09.05.22",762.5,null,49,39.5]
[null,"KOTYK","Tadeáš","8.A",26,null,"Jilemnice  09.05.22",325,null,20,16.5]
[null,"KRAUSE","Tadeáš","8.A",37.5,null,"Jilemnice  20.09.21",468.75,null,29.5,25]
[null,"LEŠÁK","Martin","8.A",30,null,"Jilemnice  20.09.21",375,null,25.5,22]
[null,"NECHANICKÝ","David","8.A",43,null,"Jilemnice  09.05.22",537.5,null,31,29]
[null,"ŘEHOŘEK","Jan","8.A",39,null,"Jilemnice  20.09.21",487.5,null,42,41]
[null,"SOUKUP","Ondřej","8.A",null,null,null,0]
[null,"SPANILÝ","David","8.A",59,null,"Jilemnice  09.05.22",737.5,null,47,44]
[null,"ČADAN","Benjamín","8.B",null,null,null,0,null,26]
[null,"ČERNÝ","Michal","8.B",44.5,null,"Jilemnice  20.09.21",556.25,null,39.5,31]
[null,"DOLEJŠÍ","David","8.B",21.5,null,"Jilemnice  20.09.21",268.75,null,21,20]
[null,"NOVÁK","Matěj","8.B",33,null,"Jilemnice  20.09.21",412.5,null,30.5,28]
[null,"POVAŽANEC","Martin","8.B",50,null,"Jilemnice  09.05.22",625,null,40.5,34]
[null,"RICHTER","Jakub","8.B",29,null,"Jilemnice  09.05.22",362.5,null,23,19.5]
[null,"ROZUMEK","Adam","8.B",45,null,"Jilemnice  09.05.22",562.5,null,38,30.5]
[null,"VALENTA","František","8.B",28,null,"Jilemnice  09.05.22",350,null,20,20]
[null,"ZAPLATÍLEK","Josef","8.B",42,null,"Jilemnice  09.05.22",{"$f":"IF(E165=0,0,E165*10*1.25)","v":525},null,36,34.5]
[null,"ERBEN","Viktor","9.A",25,null,"Jilemnice  30.05.22",312.5,null,21,null,14]
[null,"FRANC","Daniel","9.A",33,null,"Jilemnice  30.05.22",412.5,null,26,null,26]
[null,"JINDŘIŠEK","Matyáš","9.A",52,null,"Jilemnice  20.09.21",650,null,null,36.5,38]
[null,"KOLAČNÝ","Štěpán","9.A",33,null,"Jilemnice  30.05.22",412.5,null,25,null,27]
[null,"KRISTAN","Jáchym","9.A",20,null,"Jilemnice  30.05.22",250,null,15,null,15.5]
[null,"NGUYEN","David","9.A",47.5,null,"Jilemnice  30.05.22",593.75,null,36.5]
[null,"NOVOTNÝ","Jan","9.A",31,null,"Jilemnice  30.05.22",387.5,null,27,23,20]
[null,"RÁB","Adam","9.A",34.5,null,"Jilemnice  30.05.22",431.25,null,25.5,null,26]
[null,"REPASKÝ","Jakub","9.A",59,null,"Jilemnice  20.09.21",737.5,null,50.5,null,43]
[null,"SKÁLA","Jan","9.A",39,null,"Jilemnice  20.09.21",487.5,null,30,null,24]
[null,"ŠPULÁK","Jakub","9.A",49.5,null,"Jilemnice  20.09.21",618.75,null,45,null,32.5]
[null,"VALENTA","Tomáš","9.A",64,null,"Jilemnice  30.05.22",800,null,53,41,50]
[null,"VANCL","Jiří","9.A",29,null,"Jilemnice  20.09.21",362.5,null,31,null,27]
[null,"VAŠÍČEK","David","9.A",36,null,"Jilemnice  30.05.22",450,null,32.5,null,25]
[null,"ZOUHAR","Ondřej","9.A",40,null,"Jilemnice  20.09.21",500,null,35,null,28]
[null,"ZUZÁNEK","Filip","9.A",26,null,"Jilemnice  30.05.22",325,null,24.5,null,25]

{"sheet":"KOULE","index":13,"n_rows":181,"n_cols":12,"rows_kept":181,"cut":false,"hidden":false,"merged":[]}
[null,null,"VÝKONY  2021 - 2022",null,null,null,"KOULE","CHLAPCI  6. -  9.  ROČ."]
[null,"stav  k ",{"$f":"TODAY()","v":"2022-06-27"},null,null,null,null,null,null,"20  - 21","19  - 20","18  - 19"]
[]
["1.",{"$f":"B101","v":"EXNER"},{"$f":"C101","v":"Tomáš"},"6.A",6.58,null,"Jilemnice  22.10.21",532.22222222222217,null,0,0,0]
["2.",{"$f":"B102","v":"JANATA"},"Denis","6.A",4.45,null,"Jilemnice  22.10.21",413.88888888888886,null,0,0,0]
["3.",{"$f":"B103","v":"JINDŘIŠEK"},"Alex Jiří","6.A",7.65,null,"Jilemnice  17.05.22",591.66666666666663,null,0,0,0]
["4.",{"$f":"B104","v":"MARŠÁLEK"},"Ondřej","6.A",6.27,null,"Jilemnice  17.05.22",515,null,0,0,0]
["5.",{"$f":"B105","v":"MLATEČEK"},"Patrik","6.A",5.48,null,"Jilemnice  17.05.22",471.11111111111109,null,0,0,0]
["6.",{"$f":"B106","v":"SCHOLZ"},"Matyáš","6.A",6.98,null,"Jilemnice  17.05.22",554.44444444444446,null,0,0,0]
["7.",{"$f":"B107","v":"TOMÁŠ"},"Jakub","6.A",5.85,null,"Jilemnice  17.05.22",491.66666666666663,null,0,0,0]
["8.",{"$f":"B108","v":"VÁCLAVÍK"},"Jan","6.A",5.22,null,"Jilemnice  17.05.22",456.66666666666663,null,0,0,0]
["9.",{"$f":"B109","v":"VEČEŘA"},"David","6.A",5.4,null,"Jilemnice  17.05.22",466.66666666666663,null,0,0,0]
["10.",{"$f":"B110","v":"VYBÍRAL"},"Radim","6.A",6.29,null,"Jilemnice  22.10.21",516.11111111111109,null,0,0,0]
["11.",{"$f":"B111","v":"BERISHA"},"David","6.B",2.15,null,"Jilemnice  22.10.21",286.11111111111109,null,0,0,0]
["12.",{"$f":"B112","v":"EFENBERK"},"Šimon","6.B",6.61,null,"Jilemnice  17.05.22",533.88888888888891,null,0,0,0]
["13.",{"$f":"B113","v":"FEJKL"},"Antonín","6.B",6.37,null,"Jilemnice  17.05.22",520.55555555555554,null,0,0,0]
["14.",{"$f":"B114","v":"GOTTSTEIN"},"Matouš","6.B",6.45,null,"Jilemnice  17.05.22",525,null,0,0,0]
["15.",{"$f":"B115","v":"HÁK"},"Šimon","6.B",0,null,0,0,null,0,0,0]
["16.",{"$f":"B116","v":"POVAŽANEC"},"Lukáš","6.B",7.1,null,"Jilemnice  17.05.22",561.11111111111109,null,0,0,0]
["17.",{"$f":"B117","v":"VANCL"},"Jakub","6.B",5.46,null,"Jilemnice  17.05.22",470,null,0,0,0]
["18.",{"$f":"B118","v":"VANCL"},"Miroslav","6.B",4.9800000000000004,null,"Jilemnice  22.10.21",443.33333333333331,null,0,0,0]
["19.",{"$f":"B119","v":"VOTOČEK"},"Michal","6.B",5.7,null,"Jilemnice  17.05.22",483.33333333333331,null,0,0,0]
["20.",{"$f":"B120","v":"BOUKAL"},"Jakub","7.A",6.72,null,"Jilemnice  27.09.21",540,null,0,0,0]
["21.",{"$f":"B121","v":"DEMČUK"},"Ilja","7.A",6.49,null,"Jilemnice  22.10.21",527.22222222222217,null,0,0,0]
["22.",{"$f":"B122","v":"FAISTAUER"},"Kryštof","7.A",6.11,null,"Jilemnice  22.10.21",506.11111111111109,null,0,0,0]
["23.",{"$f":"B123","v":"FRK"},"Matyáš","7.A",5.63,null,"Jilemnice  22.10.21",479.44444444444446,null,0,0,0]
["24.",{"$f":"B124","v":"HUBÁLOVSKÝ"},"Marek","7.A",5.12,null,"Jilemnice  22.10.21",451.11111111111109,null,0,0,0]
["25.",{"$f":"B125","v":"MAŘAS"},"Dominik","7.A",5.2,null,"Jilemnice  27.09.21",455.55555555555554,null,0,0,0]
["26.",{"$f":"B126","v":"MAŤÁTKO"},"Jakub","7.A",0,null,0,0,null,0,0,0]
["27.",{"$f":"B127","v":"MERY"},"Luboš","7.A",4.9000000000000004,null,"Jilemnice  22.10.21",438.88888888888886,null,0,0,0]
["28.",{"$f":"B128","v":"NOVOTNÝ"},"Matěj","7.A",5.88,null,"Jilemnice  22.10.21",493.33333333333331,null,0,0,0]
["29.",{"$f":"B129","v":"ŘEHOŘEK"},"Vojtěch","7.A",6.5,null,"Jilemnice  22.10.21",527.77777777777771,null,0,0,0]
["30.",{"$f":"B130","v":"ŠÍR"},"Matyáš","7.A",3.72,null,"Jilemnice  22.10.21",373.33333333333331,null,0,0,0]
["31.",{"$f":"B131","v":"TORÁČ"},"Tomáš","7.A",4.54,null,"Jilemnice  27.09.21",418.88888888888886,null,0,0,0]
["32.",{"$f":"B132","v":"ULLMAN"},"Šimon","7.A",5.29,null,"Jilemnice  22.10.21",460.55555555555554,null,0,0,0]
["33.",{"$f":"B133","v":"VÁCLAVÍK"},"Ondřej","7.A",0,null,0,0,null,0,0,0]
["34.",{"$f":"B134","v":"AUERSWALD"},"Daniel","7.B",0,null,0,0,null,0,0,0]
["35.",{"$f":"B135","v":"BODLÁK"},"Vladimír","7.B",0,null,0,0,null,0,0,0]
["36.",{"$f":"B136","v":"BUDÍN"},"Martin","7.B",5.27,null,"Jilemnice  22.10.21",459.44444444444446,null,0,0,0]
["37.",{"$f":"B137","v":"DVOŘÁK"},"Dominik","7.B",6.24,null,"Jilemnice  22.10.21",513.33333333333337,null,0,0,0]
["38.",{"$f":"B138","v":"FIŠERA"},"Vojtěch","7.B",5.51,null,"Jilemnice  22.10.21",472.77777777777777,null,0,0,0]
["39.",{"$f":"B139","v":"JINDŘIŠEK"},"Vít","7.B",7.91,null,"Jilemnice  22.10.21",606.11111111111109,null,0,0,0]
["40.",{"$f":"B140","v":"JIROUŠ"},"Matouš","7.B",5.9,null,"Jilemnice  22.10.21",494.44444444444446,null,0,0,0]
["41.",{"$f":"B141","v":"KERLE"},"Marek","7.B",7.25,null,"Jilemnice  22.10.21",569.44444444444446,null,0,0,0]
["42.",{"$f":"B142","v":"LUKEŠ"},"Jakub","7.B",4.95,null,"Jilemnice  22.10.21",441.66666666666663,null,0,0,0]
["43.",{"$f":"B143","v":"OTT"},"Matyáš","7.B",6.12,null,"Jilemnice  22.10.21",506.66666666666663,null,0,0,0]
["44.",{"$f":"B144","v":"POKORNÝ"},"Matyáš","7.B",5.51,null,"Jilemnice  22.10.21",472.77777777777777,null,0,0,0]
["45.",{"$f":"B145","v":"POLÁČEK"},"Matyáš","7.B",5.3,null,"Jilemnice  22.10.21",461.11111111111109,null,0,0,0]
["46.",{"$f":"B146","v":"SOUKUP"},"Patrik","7.B",0,null,0,0,null,0,0,0]
["47.",{"$f":"B147","v":"VALENTA"},"Jakub","7.B",5.4,null,"Jilemnice  22.10.21",466.66666666666663,null,0,0,0]
["48.",{"$f":"B148","v":"VRBATA"},"Dominik","7.B",6.41,null,"Jilemnice  22.10.21",522.77777777777771,null,0,0,0]
["49.",{"$f":"B149","v":"FEJKL"},"Jan","8.A",7.58,null,"Jilemnice  20.10.21",587.77777777777771,null,0,0,0]
["50.",{"$f":"B150","v":"KOTYK"},"Tadeáš","8.A",6.98,null,"Jilemnice  20.10.21",554.44444444444446,null,0,0,0]
["51.",{"$f":"B151","v":"KRAUSE"},"Tadeáš","8.A",7.32,null,"Jilemnice  20.10.21",573.33333333333337,null,0,0,0]
["52.",{"$f":"B152","v":"LEŠÁK"},"Martin","8.A",6.91,null,"Jilemnice  11.05.22",550.55555555555554,null,0,0,0]
["53.",{"$f":"B153","v":"NECHANICKÝ"},"David","8.A",8.3000000000000007,null,"Jilemnice  11.05.22",627.77777777777771,null,0,0,0]
["54.",{"$f":"B154","v":"ŘEHOŘEK"},"Jan","8.A",5.9,null,"Jilemnice  11.05.22",494.44444444444446,null,0,0,0]
["55.",{"$f":"B155","v":"SOUKUP"},"Ondřej","8.A",7.75,null,"Jilemnice  11.05.22",597.22222222222217,null,0,0,0]
["56.",{"$f":"B156","v":"SPANILÝ"},"David","8.A",7.9,null,"Jilemnice  11.05.22",605.55555555555554,null,0,0,0]
["57.",{"$f":"B157","v":"ČADAN"},"Benjamín","8.B",6.4,null,"Jilemnice  20.10.21",522.22222222222217,null,0,0,0]
["58.",{"$f":"B158","v":"ČERNÝ"},"Michal","8.B",8.44,null,"Jilemnice  20.10.21",635.55555555555554,null,0,0,0]
["59.",{"$f":"B159","v":"DOLEJŠÍ"},"David","8.B",6.94,null,"Jilemnice  20.10.21",552.22222222222217,null,0,0,0]
["60.",{"$f":"B160","v":"NOVÁK"},"Matěj","8.B",5.12,null,"Jilemnice  20.10.21",451.11111111111109,null,0,0,0]
["61.",{"$f":"B161","v":"POVAŽANEC"},"Martin","8.B",10.96,null,"Jilemnice  11.05.22",775.55555555555554,null,0,0,0]
["62.",{"$f":"B162","v":"RICHTER"},"Jakub","8.B",6.2,null,"Jilemnice  11.05.22",511.11111111111109,null,0,0,0]
["63.",{"$f":"B163","v":"ROZUMEK"},"Adam","8.B",9.4,null,"Jilemnice  20.10.21",688.88888888888891,null,0,0,0]
["64.",{"$f":"B164","v":"VALENTA"},"František","8.B",7.7,null,"Jilemnice  11.05.22",594.44444444444446,null,0,0,0]
["65.",{"$f":"B165","v":"ZAPLATÍLEK"},"Josef","8.B",5.83,null,"Jilemnice  20.10.21",490.55555555555554,null,0,0,0]
["66.",{"$f":"B166","v":"ERBEN"},"Viktor","9.A",0,null,0,0,null,0,5.6,4.28]
["67.",{"$f":"B167","v":"FRANC"},"Daniel","9.A",8.75,null,"Jilemnice  11.05.22",652.77777777777771,null,0,4.99,4.88]
["68.",{"$f":"B168","v":"JINDŘIŠEK"},"Matyáš","9.A",9.74,null,"Jilemnice  11.05.22",707.77777777777771,null,0,7,6.28]
["69.",{"$f":"B169","v":"KOLAČNÝ"},"Štěpán","9.A",8.58,null,"Jilemnice  20.10.21",643.33333333333337,null,0,5.67,4.1100000000000003]
["70.",{"$f":"B170","v":"KRISTAN"},"Jáchym","9.A",4.88,null,"Jilemnice  11.05.22",437.77777777777777,null,0,3.57,3.45]
["71.",{"$f":"B171","v":"NGUYEN"},"David","9.A",8.44,null,"Jilemnice  11.05.22",635.55555555555554,null,0,0,0]
["72.",{"$f":"B172","v":"NOVOTNÝ"},"Jan","9.A",9.0500000000000007,null,"Jilemnice  11.05.22",669.44444444444446,null,0,6.25,5.5]
["73.",{"$f":"B173","v":"RÁB"},"Adam","9.A",9.98,null,"Jilemnice  11.05.22",721.11111111111109,null,0,5.82,5.62]
["74.",{"$f":"B174","v":"REPASKÝ"},"Jakub","9.A",11.02,null,"Jilemnice  11.05.22",778.88888888888891,null,0,7.76,7.93]
["75.",{"$f":"B175","v":"SKÁLA"},"Jan","9.A",8.74,null,"Turnov   08.04.22",652.22222222222217,null,0,7.6,6.43]
["76.",{"$f":"B176","v":"ŠPULÁK"},"Jakub","9.A",9.08,null,"Jilemnice  20.10.21",671.11111111111109,null,0,0,7.3]
["77.",{"$f":"B177","v":"VALENTA"},"Tomáš","9.A",11.07,null,"Jilemnice  20.10.21",781.66666666666663,null,0,8.02,9.07]
["78.",{"$f":"B178","v":"VANCL"},"Jiří","9.A",8.9499999999999993,null,"Jilemnice  11.05.22",663.88888888888891,null,0,5.95,5.53]
["79.",{"$f":"B179","v":"VAŠÍČEK"},"David","9.A",0,null,0,0,null,0,4.6100000000000003,4.5999999999999996]
["80.",{"$f":"B180","v":"ZOUHAR"},"Ondřej","9.A",8,null,"Jilemnice  11.05.22",611.11111111111109,null,0,5.17,4.4400000000000004]
["81.",{"$f":"B181","v":"ZUZÁNEK"},"Filip","9.A",7.73,null,"Jilemnice  11.05.22",596.11111111111109,null,0,6.13,5.45]
[]
[]
[]
[]
[]
[]
[]
[]
[]
[]
[]
[]
[]
[]
[]
[]
[null,"EXNER","Tomáš","6.A",6.58,null,"Jilemnice  22.10.21",{"$f":"IF(E101=0,0,(25*E101+75)/0.45)","v":532.22222222222217}]
[null,"JANATA","Denis","6.A",4.45,null,"Jilemnice  22.10.21",413.88888888888886]
[null,"JINDŘIŠEK","Alex Jiří","6.A",7.65,null,"Jilemnice  17.05.22",591.66666666666663]
[null,"MARŠÁLEK","Ondřej","6.A",6.27,null,"Jilemnice  17.05.22",515]
[null,"MLATEČEK","Patrik","6.A",5.48,null,"Jilemnice  17.05.22",471.11111111111109]
[null,"SCHOLZ","Matyáš","6.A",6.98,null,"Jilemnice  17.05.22",554.44444444444446]
[null,"TOMÁŠ","Jakub","6.A",5.85,null,"Jilemnice  17.05.22",491.66666666666663]
[null,"VÁCLAVÍK","Jan","6.A",5.22,null,"Jilemnice  17.05.22",456.66666666666663]
[null,"VEČEŘA","David","6.A",5.4,null,"Jilemnice  17.05.22",466.66666666666663]
[null,"VYBÍRAL","Radim","6.A",6.29,null,"Jilemnice  22.10.21",516.11111111111109]
[null,"BERISHA","David","6.B",2.15,null,"Jilemnice  22.10.21",286.11111111111109]
[null,"EFENBERK","Šimon","6.B",6.61,null,"Jilemnice  17.05.22",533.88888888888891]
[null,"FEJKL","Antonín","6.B",6.37,null,"Jilemnice  17.05.22",520.55555555555554]
[null,"GOTTSTEIN","Matouš","6.B",6.45,null,"Jilemnice  17.05.22",525]
[null,"HÁK","Šimon","6.B",null,null,null,0]
[null,"POVAŽANEC","Lukáš","6.B",7.1,null,"Jilemnice  17.05.22",561.11111111111109]
[null,"VANCL","Jakub","6.B",5.46,null,"Jilemnice  17.05.22",470]
[null,"VANCL","Miroslav","6.B",4.9800000000000004,null,"Jilemnice  22.10.21",443.33333333333331]
[null,"VOTOČEK","Michal","6.B",5.7,null,"Jilemnice  17.05.22",483.33333333333331]
[null,"BOUKAL","Jakub","7.A",6.72,null,"Jilemnice  27.09.21",540]
[null,"DEMČUK","Ilja","7.A",6.49,null,"Jilemnice  22.10.21",527.22222222222217]
[null,"FAISTAUER","Kryštof","7.A",6.11,null,"Jilemnice  22.10.21",506.11111111111109]
[null,"FRK","Matyáš","7.A",5.63,null,"Jilemnice  22.10.21",479.44444444444446]
[null,"HUBÁLOVSKÝ","Marek","7.A",5.12,null,"Jilemnice  22.10.21",451.11111111111109]
[null,"MAŘAS","Dominik","7.A",5.2,null,"Jilemnice  27.09.21",455.55555555555554]
[null,"MAŤÁTKO","Jakub","7.A",null,null,null,0]
[null,"MERY","Luboš","7.A",4.9000000000000004,null,"Jilemnice  22.10.21",438.88888888888886]
[null,"NOVOTNÝ","Matěj","7.A",5.88,null,"Jilemnice  22.10.21",493.33333333333331]
[null,"ŘEHOŘEK","Vojtěch","7.A",6.5,null,"Jilemnice  22.10.21",527.77777777777771]
[null,"ŠÍR","Matyáš","7.A",3.72,null,"Jilemnice  22.10.21",373.33333333333331]
[null,"TORÁČ","Tomáš","7.A",4.54,null,"Jilemnice  27.09.21",418.88888888888886]
[null,"ULLMAN","Šimon","7.A",5.29,null,"Jilemnice  22.10.21",460.55555555555554]
[null,"VÁCLAVÍK","Ondřej","7.A",null,null,null,{"$f":"IF(E133=0,0,(25*E133+75)/0.45)","v":0}]
[null,"AUERSWALD","Daniel","7.B",null,null,null,0]
[null,"BODLÁK","Vladimír","7.B",null,null,null,0]
[null,"BUDÍN","Martin","7.B",5.27,null,"Jilemnice  22.10.21",459.44444444444446]
[null,"DVOŘÁK","Dominik","7.B",6.24,null,"Jilemnice  22.10.21",513.33333333333337]
[null,"FIŠERA","Vojtěch","7.B",5.51,null,"Jilemnice  22.10.21",472.77777777777777]
[null,"JINDŘIŠEK","Vít","7.B",7.91,null,"Jilemnice  22.10.21",606.11111111111109]
[null,"JIROUŠ","Matouš","7.B",5.9,null,"Jilemnice  22.10.21",494.44444444444446]
[null,"KERLE","Marek","7.B",7.25,null,"Jilemnice  22.10.21",569.44444444444446]
[null,"LUKEŠ","Jakub","7.B",4.95,null,"Jilemnice  22.10.21",441.66666666666663]
[null,"OTT","Matyáš","7.B",6.12,null,"Jilemnice  22.10.21",506.66666666666663]
[null,"POKORNÝ","Matyáš","7.B",5.51,null,"Jilemnice  22.10.21",472.77777777777777]
[null,"POLÁČEK","Matyáš","7.B",5.3,null,"Jilemnice  22.10.21",461.11111111111109]
[null,"SOUKUP","Patrik","7.B",null,null,null,0]
[null,"VALENTA","Jakub","7.B",5.4,null,"Jilemnice  22.10.21",466.66666666666663]
[null,"VRBATA","Dominik","7.B",6.41,null,"Jilemnice  22.10.21",522.77777777777771]
[null,"FEJKL","Jan","8.A",7.58,null,"Jilemnice  20.10.21",587.77777777777771]
[null,"KOTYK","Tadeáš","8.A",6.98,null,"Jilemnice  20.10.21",554.44444444444446]
[null,"KRAUSE","Tadeáš","8.A",7.32,null,"Jilemnice  20.10.21",573.33333333333337]
[null,"LEŠÁK","Martin","8.A",6.91,null,"Jilemnice  11.05.22",550.55555555555554]
[null,"NECHANICKÝ","David","8.A",8.3000000000000007,null,"Jilemnice  11.05.22",627.77777777777771]
[null,"ŘEHOŘEK","Jan","8.A",5.9,null,"Jilemnice  11.05.22",494.44444444444446]
[null,"SOUKUP","Ondřej","8.A",7.75,null,"Jilemnice  11.05.22",597.22222222222217]
[null,"SPANILÝ","David","8.A",7.9,null,"Jilemnice  11.05.22",605.55555555555554]
[null,"ČADAN","Benjamín","8.B",6.4,null,"Jilemnice  20.10.21",522.22222222222217]
[null,"ČERNÝ","Michal","8.B",8.44,null,"Jilemnice  20.10.21",635.55555555555554]
[null,"DOLEJŠÍ","David","8.B",6.94,null,"Jilemnice  20.10.21",552.22222222222217]
[null,"NOVÁK","Matěj","8.B",5.12,null,"Jilemnice  20.10.21",451.11111111111109]
[null,"POVAŽANEC","Martin","8.B",10.96,null,"Jilemnice  11.05.22",775.55555555555554]
[null,"RICHTER","Jakub","8.B",6.2,null,"Jilemnice  11.05.22",511.11111111111109]
[null,"ROZUMEK","Adam","8.B",9.4,null,"Jilemnice  20.10.21",688.88888888888891]
[null,"VALENTA","František","8.B",7.7,null,"Jilemnice  11.05.22",594.44444444444446]
[null,"ZAPLATÍLEK","Josef","8.B",5.83,null,"Jilemnice  20.10.21",{"$f":"IF(E165=0,0,(25*E165+75)/0.45)","v":490.55555555555554}]
[null,"ERBEN","Viktor","9.A",null,null,null,0,null,null,5.6,4.28]
[null,"FRANC","Daniel","9.A",8.75,null,"Jilemnice  11.05.22",652.77777777777771,null,null,4.99,4.88]
[null,"JINDŘIŠEK","Matyáš","9.A",9.74,null,"Jilemnice  11.05.22",707.77777777777771,null,null,7,6.28]
[null,"KOLAČNÝ","Štěpán","9.A",8.58,null,"Jilemnice  20.10.21",643.33333333333337,null,null,5.67,4.1100000000000003]
[null,"KRISTAN","Jáchym","9.A",4.88,null,"Jilemnice  11.05.22",437.77777777777777,null,null,3.57,3.45]
[null,"NGUYEN","David","9.A",8.44,null,"Jilemnice  11.05.22",635.55555555555554]
[null,"NOVOTNÝ","Jan","9.A",9.0500000000000007,null,"Jilemnice  11.05.22",669.44444444444446,null,null,6.25,5.5]
[null,"RÁB","Adam","9.A",9.98,null,"Jilemnice  11.05.22",721.11111111111109,null,null,5.82,5.62]
[null,"REPASKÝ","Jakub","9.A",11.02,null,"Jilemnice  11.05.22",778.88888888888891,null,null,7.76,7.93]
[null,"SKÁLA","Jan","9.A",8.74,null,"Turnov   08.04.22",652.22222222222217,null,null,7.6,6.43]
[null,"ŠPULÁK","Jakub","9.A",9.08,null,"Jilemnice  20.10.21",671.11111111111109,null,null,null,7.3]
[null,"VALENTA","Tomáš","9.A",11.07,null,"Jilemnice  20.10.21",781.66666666666663,null,null,8.02,9.07]
[null,"VANCL","Jiří","9.A",8.9499999999999993,null,"Jilemnice  11.05.22",663.88888888888891,null,null,5.95,5.53]
[null,"VAŠÍČEK","David","9.A",null,null,null,0,null,null,4.6100000000000003,4.5999999999999996]
[null,"ZOUHAR","Ondřej","9.A",8,null,"Jilemnice  11.05.22",611.11111111111109,null,null,5.17,4.4400000000000004]
[null,"ZUZÁNEK","Filip","9.A",7.73,null,"Jilemnice  11.05.22",596.11111111111109,null,null,6.13,5.45]

{"sheet":"OŠTĚP","index":14,"n_rows":181,"n_cols":12,"rows_kept":181,"cut":false,"hidden":false,"merged":[]}
[null,null,"VÝKONY  2021 - 2022",null,null,null,"OŠTĚP","CHLAPCI  6. -  9.  ROČ."]
[null,"stav  k ",{"$f":"TODAY()","v":"2022-06-27"},null,null,null,null,null,null,"20  - 21","19  - 20","18  - 19"]
[]
["1.",{"$f":"B101","v":"EXNER"},{"$f":"C101","v":"Tomáš"},"6.A",0,null,0,0,null,0,0,0]
["2.",{"$f":"B102","v":"JANATA"},"Denis","6.A",0,null,0,0,null,0,0,0]
["3.",{"$f":"B103","v":"JINDŘIŠEK"},"Alex Jiří","6.A",0,null,0,0,null,0,0,0]
["4.",{"$f":"B104","v":"MARŠÁLEK"},"Ondřej","6.A",0,null,0,0,null,0,0,0]
["5.",{"$f":"B105","v":"MLATEČEK"},"Patrik","6.A",0,null,0,0,null,0,0,0]
["6.",{"$f":"B106","v":"SCHOLZ"},"Matyáš","6.A",0,null,0,0,null,0,0,0]
["7.",{"$f":"B107","v":"TOMÁŠ"},"Jakub","6.A",0,null,0,0,null,0,0,0]
["8.",{"$f":"B108","v":"VÁCLAVÍK"},"Jan","6.A",0,null,0,0,null,0,0,0]
["9.",{"$f":"B109","v":"VEČEŘA"},"David","6.A",0,null,0,0,null,0,0,0]
["10.",{"$f":"B110","v":"VYBÍRAL"},"Radim","6.A",0,null,0,0,null,0,0,0]
["11.",{"$f":"B111","v":"BERISHA"},"David","6.B",0,null,0,0,null,0,0,0]
["12.",{"$f":"B112","v":"EFENBERK"},"Šimon","6.B",0,null,0,0,null,0,0,0]
["13.",{"$f":"B113","v":"FEJKL"},"Antonín","6.B",0,null,0,0,null,0,0,0]
["14.",{"$f":"B114","v":"GOTTSTEIN"},"Matouš","6.B",0,null,0,0,null,0,0,0]
["15.",{"$f":"B115","v":"HÁK"},"Šimon","6.B",0,null,0,0,null,0,0,0]
["16.",{"$f":"B116","v":"POVAŽANEC"},"Lukáš","6.B",0,null,0,0,null,0,0,0]
["17.",{"$f":"B117","v":"VANCL"},"Jakub","6.B",0,null,0,0,null,0,0,0]
["18.",{"$f":"B118","v":"VANCL"},"Miroslav","6.B",0,null,0,0,null,0,0,0]
["19.",{"$f":"B119","v":"VOTOČEK"},"Michal","6.B",0,null,0,0,null,0,0,0]
["20.",{"$f":"B120","v":"BOUKAL"},"Jakub","7.A",0,null,0,0,null,0,0,0]
["21.",{"$f":"B121","v":"DEMČUK"},"Ilja","7.A",0,null,0,0,null,0,0,0]
["22.",{"$f":"B122","v":"FAISTAUER"},"Kryštof","7.A",0,null,0,0,null,0,0,0]
["23.",{"$f":"B123","v":"FRK"},"Matyáš","7.A",0,null,0,0,null,0,0,0]
["24.",{"$f":"B124","v":"HUBÁLOVSKÝ"},"Marek","7.A",0,null,0,0,null,0,0,0]
["25.",{"$f":"B125","v":"MAŘAS"},"Dominik","7.A",0,null,0,0,null,0,0,0]
["26.",{"$f":"B126","v":"MAŤÁTKO"},"Jakub","7.A",0,null,0,0,null,0,0,0]
["27.",{"$f":"B127","v":"MERY"},"Luboš","7.A",0,null,0,0,null,0,0,0]
["28.",{"$f":"B128","v":"NOVOTNÝ"},"Matěj","7.A",0,null,0,0,null,0,0,0]
["29.",{"$f":"B129","v":"ŘEHOŘEK"},"Vojtěch","7.A",0,null,0,0,null,0,0,0]
["30.",{"$f":"B130","v":"ŠÍR"},"Matyáš","7.A",0,null,0,0,null,0,0,0]
["31.",{"$f":"B131","v":"TORÁČ"},"Tomáš","7.A",0,null,0,0,null,0,0,0]
["32.",{"$f":"B132","v":"ULLMAN"},"Šimon","7.A",0,null,0,0,null,0,0,0]
["33.",{"$f":"B133","v":"VÁCLAVÍK"},"Ondřej","7.A",0,null,0,0,null,0,0,0]
["34.",{"$f":"B134","v":"AUERSWALD"},"Daniel","7.B",0,null,0,0,null,0,0,0]
["35.",{"$f":"B135","v":"BODLÁK"},"Vladimír","7.B",0,null,0,0,null,0,0,0]
["36.",{"$f":"B136","v":"BUDÍN"},"Martin","7.B",0,null,0,0,null,0,0,0]
["37.",{"$f":"B137","v":"DVOŘÁK"},"Dominik","7.B",0,null,0,0,null,0,0,0]
["38.",{"$f":"B138","v":"FIŠERA"},"Vojtěch","7.B",0,null,0,0,null,0,0,0]
["39.",{"$f":"B139","v":"JINDŘIŠEK"},"Vít","7.B",0,null,0,0,null,0,0,0]
["40.",{"$f":"B140","v":"JIROUŠ"},"Matouš","7.B",0,null,0,0,null,0,0,0]
["41.",{"$f":"B141","v":"KERLE"},"Marek","7.B",0,null,0,0,null,0,0,0]
["42.",{"$f":"B142","v":"LUKEŠ"},"Jakub","7.B",0,null,0,0,null,0,0,0]
["43.",{"$f":"B143","v":"OTT"},"Matyáš","7.B",0,null,0,0,null,0,0,0]
["44.",{"$f":"B144","v":"POKORNÝ"},"Matyáš","7.B",0,null,0,0,null,0,0,0]
["45.",{"$f":"B145","v":"POLÁČEK"},"Matyáš","7.B",0,null,0,0,null,0,0,0]
["46.",{"$f":"B146","v":"SOUKUP"},"Patrik","7.B",0,null,0,0,null,0,0,0]
["47.",{"$f":"B147","v":"VALENTA"},"Jakub","7.B",0,null,0,0,null,0,0,0]
["48.",{"$f":"B148","v":"VRBATA"},"Dominik","7.B",0,null,0,0,null,0,0,0]
["49.",{"$f":"B149","v":"FEJKL"},"Jan","8.A",0,null,0,0,null,0,0,0]
["50.",{"$f":"B150","v":"KOTYK"},"Tadeáš","8.A",0,null,0,0,null,0,0,0]
["51.",{"$f":"B151","v":"KRAUSE"},"Tadeáš","8.A",0,null,0,0,null,0,0,0]
["52.",{"$f":"B152","v":"LEŠÁK"},"Martin","8.A",0,null,0,0,null,0,0,0]
["53.",{"$f":"B153","v":"NECHANICKÝ"},"David","8.A",0,null,0,0,null,0,0,0]
["54.",{"$f":"B154","v":"ŘEHOŘEK"},"Jan","8.A",0,null,0,0,null,0,0,0]
["55.",{"$f":"B155","v":"SOUKUP"},"Ondřej","8.A",0,null,0,0,null,0,0,0]
["56.",{"$f":"B156","v":"SPANILÝ"},"David","8.A",0,null,0,0,null,0,0,0]
["57.",{"$f":"B157","v":"ČADAN"},"Benjamín","8.B",0,null,0,0,null,0,0,0]
["58.",{"$f":"B158","v":"ČERNÝ"},"Michal","8.B",0,null,0,0,null,0,0,0]
["59.",{"$f":"B159","v":"DOLEJŠÍ"},"David","8.B",0,null,0,0,null,0,0,0]
["60.",{"$f":"B160","v":"NOVÁK"},"Matěj","8.B",0,null,0,0,null,0,0,0]
["61.",{"$f":"B161","v":"POVAŽANEC"},"Martin","8.B",0,null,0,0,null,0,0,0]
["62.",{"$f":"B162","v":"RICHTER"},"Jakub","8.B",0,null,0,0,null,0,0,0]
["63.",{"$f":"B163","v":"ROZUMEK"},"Adam","8.B",0,null,0,0,null,0,0,0]
["64.",{"$f":"B164","v":"VALENTA"},"František","8.B",0,null,0,0,null,0,0,0]
["65.",{"$f":"B165","v":"ZAPLATÍLEK"},"Josef","8.B",0,null,0,0,null,0,0,0]
["66.",{"$f":"B166","v":"ERBEN"},"Viktor","9.A",0,null,0,0,null,0,0,0]
["67.",{"$f":"B167","v":"FRANC"},"Daniel","9.A",0,null,0,0,null,0,0,0]
["68.",{"$f":"B168","v":"JINDŘIŠEK"},"Matyáš","9.A",0,null,0,0,null,0,0,0]
["69.",{"$f":"B169","v":"KOLAČNÝ"},"Štěpán","9.A",0,null,0,0,null,0,0,0]
["70.",{"$f":"B170","v":"KRISTAN"},"Jáchym","9.A",0,null,0,0,null,0,0,0]
["71.",{"$f":"B171","v":"NGUYEN"},"David","9.A",0,null,0,0,null,0,0,0]
["72.",{"$f":"B172","v":"NOVOTNÝ"},"Jan","9.A",0,null,0,0,null,0,0,0]
["73.",{"$f":"B173","v":"RÁB"},"Adam","9.A",0,null,0,0,null,0,0,0]
["74.",{"$f":"B174","v":"REPASKÝ"},"Jakub","9.A",0,null,0,0,null,0,0,0]
["75.",{"$f":"B175","v":"SKÁLA"},"Jan","9.A",0,null,0,0,null,0,0,0]
["76.",{"$f":"B176","v":"ŠPULÁK"},"Jakub","9.A",0,null,0,0,null,0,0,0]
["77.",{"$f":"B177","v":"VALENTA"},"Tomáš","9.A",0,null,0,0,null,0,0,0]
["78.",{"$f":"B178","v":"VANCL"},"Jiří","9.A",0,null,0,0,null,0,0,0]
["79.",{"$f":"B179","v":"VAŠÍČEK"},"David","9.A",0,null,0,0,null,0,0,0]
["80.",{"$f":"B180","v":"ZOUHAR"},"Ondřej","9.A",0,null,0,0,null,0,0,0]
["81.",{"$f":"B181","v":"ZUZÁNEK"},"Filip","9.A",0,null,0,0,null,0,0,0]
[]
[]
[]
[]
[]
[]
[]
[]
[]
[]
[]
[]
[]
[]
[]
[]
[null,"EXNER","Tomáš","6.A",null,null,null,{"$f":"IF(E101=0,0,E101*10*1.25)*2","v":0}]
[null,"JANATA","Denis","6.A",null,null,null,0]
[null,"JINDŘIŠEK","Alex Jiří","6.A",null,null,null,0]
[null,"MARŠÁLEK","Ondřej","6.A",null,null,null,0]
[null,"MLATEČEK","Patrik","6.A",null,null,null,0]
[null,"SCHOLZ","Matyáš","6.A",null,null,null,0]
[null,"TOMÁŠ","Jakub","6.A",null,null,null,0]
[null,"VÁCLAVÍK","Jan","6.A",null,null,null,0]
[null,"VEČEŘA","David","6.A",null,null,null,0]
[null,"VYBÍRAL","Radim","6.A",null,null,null,0]
[null,"BERISHA","David","6.B",null,null,null,0]
[null,"EFENBERK","Šimon","6.B",null,null,null,0]
[null,"FEJKL","Antonín","6.B",null,null,null,0]
[null,"GOTTSTEIN","Matouš","6.B",null,null,null,0]
[null,"HÁK","Šimon","6.B",null,null,null,0]
[null,"POVAŽANEC","Lukáš","6.B",null,null,null,0]
[null,"VANCL","Jakub","6.B",null,null,null,0]
[null,"VANCL","Miroslav","6.B",null,null,null,0]
[null,"VOTOČEK","Michal","6.B",null,null,null,0]
[null,"BOUKAL","Jakub","7.A",null,null,null,0]
[null,"DEMČUK","Ilja","7.A",null,null,null,0]
[null,"FAISTAUER","Kryštof","7.A",null,null,null,0]
[null,"FRK","Matyáš","7.A",null,null,null,0]
[null,"HUBÁLOVSKÝ","Marek","7.A",null,null,null,0]
[null,"MAŘAS","Dominik","7.A",null,null,null,0]
[null,"MAŤÁTKO","Jakub","7.A",null,null,null,0]
[null,"MERY","Luboš","7.A",null,null,null,0]
[null,"NOVOTNÝ","Matěj","7.A",null,null,null,0]
[null,"ŘEHOŘEK","Vojtěch","7.A",null,null,null,0]
[null,"ŠÍR","Matyáš","7.A",null,null,null,0]
[null,"TORÁČ","Tomáš","7.A",null,null,null,0]
[null,"ULLMAN","Šimon","7.A",null,null,null,0]
[null,"VÁCLAVÍK","Ondřej","7.A",null,null,null,{"$f":"IF(E133=0,0,E133*10*1.25)*2","v":0}]
[null,"AUERSWALD","Daniel","7.B",null,null,null,0]
[null,"BODLÁK","Vladimír","7.B",null,null,null,0]
[null,"BUDÍN","Martin","7.B",null,null,null,0]
[null,"DVOŘÁK","Dominik","7.B",null,null,null,0]
[null,"FIŠERA","Vojtěch","7.B",null,null,null,0]
[null,"JINDŘIŠEK","Vít","7.B",null,null,null,0]
[null,"JIROUŠ","Matouš","7.B",null,null,null,0]
[null,"KERLE","Marek","7.B",null,null,null,0]
[null,"LUKEŠ","Jakub","7.B",null,null,null,0]
[null,"OTT","Matyáš","7.B",null,null,null,0]
[null,"POKORNÝ","Matyáš","7.B",null,null,null,0]
[null,"POLÁČEK","Matyáš","7.B",null,null,null,0]
[null,"SOUKUP","Patrik","7.B",null,null,null,0]
[null,"VALENTA","Jakub","7.B",null,null,null,0]
[null,"VRBATA","Dominik","7.B",null,null,null,0]
[null,"FEJKL","Jan","8.A",null,null,null,0]
[null,"KOTYK","Tadeáš","8.A",null,null,null,0]
[null,"KRAUSE","Tadeáš","8.A",null,null,null,0]
[null,"LEŠÁK","Martin","8.A",null,null,null,0]
[null,"NECHANICKÝ","David","8.A",null,null,null,0]
[null,"ŘEHOŘEK","Jan","8.A",null,null,null,0]
[null,"SOUKUP","Ondřej","8.A",null,null,null,0]
[null,"SPANILÝ","David","8.A",null,null,null,0]
[null,"ČADAN","Benjamín","8.B",null,null,null,0]
[null,"ČERNÝ","Michal","8.B",null,null,null,0]
[null,"DOLEJŠÍ","David","8.B",null,null,null,0]
[null,"NOVÁK","Matěj","8.B",null,null,null,0]
[null,"POVAŽANEC","Martin","8.B",null,null,null,0]
[null,"RICHTER","Jakub","8.B",null,null,null,0]
[null,"ROZUMEK","Adam","8.B",null,null,null,0]
[null,"VALENTA","František","8.B",null,null,null,0]
[null,"ZAPLATÍLEK","Josef","8.B",null,null,null,{"$f":"IF(E165=0,0,E165*10*1.25)*2","v":0}]
[null,"ERBEN","Viktor","9.A",null,null,null,0]
[null,"FRANC","Daniel","9.A",null,null,null,0]
[null,"JINDŘIŠEK","Matyáš","9.A",null,null,null,0]
[null,"KOLAČNÝ","Štěpán","9.A",null,null,null,0]
[null,"KRISTAN","Jáchym","9.A",null,null,null,0]
[null,"NGUYEN","David","9.A",null,null,null,0]
[null,"NOVOTNÝ","Jan","9.A",null,null,null,0]
[null,"RÁB","Adam","9.A",null,null,null,0]
[null,"REPASKÝ","Jakub","9.A",null,null,null,0]
[null,"SKÁLA","Jan","9.A",null,null,null,0]
[null,"ŠPULÁK","Jakub","9.A",null,null,null,0]
[null,"VALENTA","Tomáš","9.A",null,null,null,0]
[null,"VANCL","Jiří","9.A",null,null,null,0]
[null,"VAŠÍČEK","David","9.A",null,null,null,0]
[null,"ZOUHAR","Ondřej","9.A",null,null,null,0]
[null,"ZUZÁNEK","Filip","9.A",null,null,null,0]

{"sheet":"ČLUNEK","index":15,"n_rows":181,"n_cols":12,"rows_kept":181,"cut":false,"hidden":false,"merged":[]}
[null,null,"VÝKONY  2021 - 2022",null,null,null,"ČLUNEK","CHLAPCI  6. -  9.  ROČ."]
[null,"stav  k ",{"$f":"TODAY()","v":"2022-06-27"},null,null,null,null,null,null,"20  - 21","19  - 20","18  - 19"]
[]
["1.",{"$f":"B101","v":"EXNER"},{"$f":"C101","v":"Tomáš"},"6.A",11.83,null,"Jilemnice  28.02.22",697.01102745374283,null,0,0,0]
["2.",{"$f":"B102","v":"JANATA"},"Denis","6.A",12.96,null,"Jilemnice  28.02.22",601.42852542295373,null,0,0,0]
["3.",{"$f":"B103","v":"JINDŘIŠEK"},"Alex Jiří","6.A",0,null,0,0,null,0,0,0]
["4.",{"$f":"B104","v":"MARŠÁLEK"},"Ondřej","6.A",12.1,null,"Jilemnice  28.02.22",673.25743485766759,null,0,0,0]
["5.",{"$f":"B105","v":"MLATEČEK"},"Patrik","6.A",13.85,null,"Jilemnice  28.02.22",532.11079179836884,null,0,0,0]
["6.",{"$f":"B106","v":"SCHOLZ"},"Matyáš","6.A",0,null,0,0,null,0,0,0]
["7.",{"$f":"B107","v":"TOMÁŠ"},"Jakub","6.A",11.36,null,"Jilemnice  28.02.22",739.9729270213877,null,0,0,0]
["8.",{"$f":"B108","v":"VÁCLAVÍK"},"Jan","6.A",11.42,null,"Jilemnice  28.02.22",734.36607910747875,null,0,0,0]
["9.",{"$f":"B109","v":"VEČEŘA"},"David","6.A",13.01,null,"Jilemnice  28.02.22",597.41138571753925,null,0,0,0]
["10.",{"$f":"B110","v":"VYBÍRAL"},"Radim","6.A",11.24,null,"Jilemnice  28.02.22",751.30082509555814,null,0,0,0]
["11.",{"$f":"B111","v":"BERISHA"},"David","6.B",11.92,null,"Jilemnice  28.02.22",689.02232050708415,null,0,0,0]
["12.",{"$f":"B112","v":"EFENBERK"},"Šimon","6.B",11.97,null,"Jilemnice  28.02.22",684.61516951947772,null,0,0,0]
["13.",{"$f":"B113","v":"FEJKL"},"Antonín","6.B",10.71,null,"Jilemnice  28.02.22",803.29738074834859,null,0,0,0]
["14.",{"$f":"B114","v":"GOTTSTEIN"},"Matouš","6.B",10.73,null,"Jilemnice  28.02.22",801.2730515653584,null,0,0,0]
["15.",{"$f":"B115","v":"HÁK"},"Šimon","6.B",0,null,0,0,null,0,0,0]
["16.",{"$f":"B116","v":"POVAŽANEC"},"Lukáš","6.B",12.16,null,"Jilemnice  28.02.22",668.06334459064328,null,0,0,0]
["17.",{"$f":"B117","v":"VANCL"},"Jakub","6.B",13.6,null,"Jilemnice  28.02.22",551.14118183006553,null,0,0,0]
["18.",{"$f":"B118","v":"VANCL"},"Miroslav","6.B",12.94,null,"Jilemnice  28.02.22",603.03986398763539,null,0,0,0]
["19.",{"$f":"B119","v":"VOTOČEK"},"Michal","6.B",13.12,null,"Jilemnice  28.02.22",588.62901747967499,null,0,0,0]
["20.",{"$f":"B120","v":"BOUKAL"},"Jakub","7.A",14.74,null,"Jilemnice  07.03.22",466.6982180009046,null,0,0,0]
["21.",{"$f":"B121","v":"DEMČUK"},"Ilja","7.A",11.37,null,"Jilemnice  07.03.22",739.0358447408712,null,0,0,0]
["22.",{"$f":"B122","v":"FAISTAUER"},"Kryštof","7.A",10.71,null,"Jilemnice  07.03.22",803.29738074834859,null,0,0,0]
["23.",{"$f":"B123","v":"FRK"},"Matyáš","7.A",12.65,null,"Jilemnice  07.03.22",626.70287569316349,null,0,0,0]
["24.",{"$f":"B124","v":"HUBÁLOVSKÝ"},"Marek","7.A",11.48,null,"Jilemnice  07.03.22",728.79635225190339,null,0,0,0]
["25.",{"$f":"B125","v":"MAŘAS"},"Dominik","7.A",13.81,null,"Jilemnice  07.03.22",535.13444948909807,null,0,0,0]
["26.",{"$f":"B126","v":"MAŤÁTKO"},"Jakub","7.A",14.13,null,"Jilemnice  07.03.22",511.15952690361974,null,0,0,0]
["27.",{"$f":"B127","v":"MERY"},"Luboš","7.A",12.05,null,"Jilemnice  07.03.22",677.60878282772387,null,0,0,0]
["28.",{"$f":"B128","v":"NOVOTNÝ"},"Matěj","7.A",12.45,null,"Jilemnice  07.03.22",643.36504921314895,null,0,0,0]
["29.",{"$f":"B129","v":"ŘEHOŘEK"},"Vojtěch","7.A",12.03,null,"Jilemnice  07.03.22",679.35523936763025,null,0,0,0]
["30.",{"$f":"B130","v":"ŠÍR"},"Matyáš","7.A",13.26,null,"Jilemnice  07.03.22",577.55822561868047,null,0,0,0]
["31.",{"$f":"B131","v":"TORÁČ"},"Tomáš","7.A",16.54,null,"Jilemnice  07.03.22",342.70749858927854,null,0,0,0]
["32.",{"$f":"B132","v":"ULLMAN"},"Šimon","7.A",10.73,null,"Jilemnice  07.03.22",801.2730515653584,null,0,0,0]
["33.",{"$f":"B133","v":"VÁCLAVÍK"},"Ondřej","7.A",10.64,null,"Jilemnice  07.03.22",810.42346895015305,null,0,0,0]
["34.",{"$f":"B134","v":"AUERSWALD"},"Daniel","7.B",0,null,0,0,null,0,0,0]
["35.",{"$f":"B135","v":"BODLÁK"},"Vladimír","7.B",0,null,0,0,null,0,0,0]
["36.",{"$f":"B136","v":"BUDÍN"},"Martin","7.B",11.04,null,"Jilemnice  07.03.22",770.53288217928082,null,0,0,0]
["37.",{"$f":"B137","v":"DVOŘÁK"},"Dominik","7.B",12.04,null,"Jilemnice  07.03.22",678.48158582502776,null,0,0,0]
["38.",{"$f":"B138","v":"FIŠERA"},"Vojtěch","7.B",11.87,null,"Jilemnice  07.03.22",693.45153679365978,null,0,0,0]
["39.",{"$f":"B139","v":"JINDŘIŠEK"},"Vít","7.B",10.34,null,"Jilemnice  07.03.22",841.71649201232185,null,0,0,0]
["40.",{"$f":"B140","v":"JIROUŠ"},"Matouš","7.B",11.73,null,"Jilemnice  07.03.22",705.9736758201509,null,0,0,0]
["41.",{"$f":"B141","v":"KERLE"},"Marek","7.B",10.51,null,"Jilemnice  07.03.22",823.83065585156999,null,0,0,0]
["42.",{"$f":"B142","v":"LUKEŠ"},"Jakub","7.B",11.05,null,"Jilemnice  07.03.22",769.56047592760183,null,0,0,0]
["43.",{"$f":"B143","v":"OTT"},"Matyáš","7.B",10.84,null,"Jilemnice  07.03.22",790.23018122181224,null,0,0,0]
["44.",{"$f":"B144","v":"POKORNÝ"},"Matyáš","7.B",9.84,null,"Jilemnice  07.03.22",896.85893194820846,null,0,0,0]
["45.",{"$f":"B145","v":"POLÁČEK"},"Matyáš","7.B",0,null,0,0,null,0,0,0]
["46.",{"$f":"B146","v":"SOUKUP"},"Patrik","7.B",0,null,0,0,null,0,0,0]
["47.",{"$f":"B147","v":"VALENTA"},"Jakub","7.B",10.54,null,"Jilemnice  07.03.22",820.71635504954691,null,0,0,0]
["48.",{"$f":"B148","v":"VRBATA"},"Dominik","7.B",11.65,null,"Jilemnice  07.03.22",713.21105608965195,null,0,0,0]
["49.",{"$f":"B149","v":"FEJKL"},"Jan","8.A",9.94,null,"Jilemnice  08.12.21",885.50784887100394,null,0,0,0]
["50.",{"$f":"B150","v":"KOTYK"},"Tadeáš","8.A",11.88,null,"Jilemnice  08.12.21",692.56391190921556,null,0,0,0]
["51.",{"$f":"B151","v":"KRAUSE"},"Tadeáš","8.A",10.039999999999999,null,"Jilemnice  08.12.21",874.323480596134,null,0,0,0]
["52.",{"$f":"B152","v":"LEŠÁK"},"Martin","8.A",11.88,null,"Jilemnice  08.12.21",692.56391190921556,null,0,0,0]
["53.",{"$f":"B153","v":"NECHANICKÝ"},"David","8.A",9.9700000000000006,null,"Jilemnice  08.12.21",882.13528896690059,null,0,0,0]
["54.",{"$f":"B154","v":"ŘEHOŘEK"},"Jan","8.A",10.43,null,"Jilemnice  07.03.22",832.19648428322876,null,0,0,0]
["55.",{"$f":"B155","v":"SOUKUP"},"Ondřej","8.A",11.63,null,"Jilemnice  07.03.22",715.02993808795873,null,0,0,0]
["56.",{"$f":"B156","v":"SPANILÝ"},"David","8.A",10.32,null,"Jilemnice  07.03.22",843.84797111685339,null,0,0,0]
["57.",{"$f":"B157","v":"ČADAN"},"Benjamín","8.B",0,null,0,0,null,0,0,0]
["58.",{"$f":"B158","v":"ČERNÝ"},"Michal","8.B",11.05,null,"Jilemnice  08.12.21",769.56047592760183,null,0,0,0]
["59.",{"$f":"B159","v":"DOLEJŠÍ"},"David","8.B",10.98,null,"Jilemnice  07.03.22",776.39186583012884,null,0,0,0]
["60.",{"$f":"B160","v":"NOVÁK"},"Matěj","8.B",11.18,null,"Jilemnice  08.12.21",757.0233328827934,null,0,0,0]
["61.",{"$f":"B161","v":"POVAŽANEC"},"Martin","8.B",11.15,null,"Jilemnice  07.03.22",759.89955304102307,null,0,0,0]
["62.",{"$f":"B162","v":"RICHTER"},"Jakub","8.B",11.8,null,"Jilemnice  07.03.22",699.69016436911477,null,0,0,0]
["63.",{"$f":"B163","v":"ROZUMEK"},"Adam","8.B",11.34,null,"Jilemnice  07.03.22",741.85024704422233,null,0,0,0]
["64.",{"$f":"B164","v":"VALENTA"},"František","8.B",10.71,null,"Jilemnice  08.12.21",803.29738074834859,null,0,0,0]
["65.",{"$f":"B165","v":"ZAPLATÍLEK"},"Josef","8.B",10.43,null,"Jilemnice  08.12.21",832.19648428322876,null,0,0,0]
["66.",{"$f":"B166","v":"ERBEN"},"Viktor","9.A",11.4,null,"Jilemnice  08.12.21",736.23086929174792,null,0,0,13.48]
["67.",{"$f":"B167","v":"FRANC"},"Daniel","9.A",10.99,null,"Jilemnice  08.12.21",775.41242771206157,null,0,0,12.52]
["68.",{"$f":"B168","v":"JINDŘIŠEK"},"Matyáš","9.A",10,null,"Jilemnice  08.12.21",878.77758062222222,null,0,0,11.49]
["69.",{"$f":"B169","v":"KOLAČNÝ"},"Štěpán","9.A",10.95,null,"Jilemnice  08.12.21",779.33730608151529,null,0,0,11.53]
["70.",{"$f":"B170","v":"KRISTAN"},"Jáchym","9.A",14.31,null,"Jilemnice  08.12.21",497.87911491834257,null,0,0,14.91]
["71.",{"$f":"B171","v":"NGUYEN"},"David","9.A",9.83,null,"Jilemnice  08.12.21",898.00342895520123,null,0,0,0]
["72.",{"$f":"B172","v":"NOVOTNÝ"},"Jan","9.A",10.17,null,"Jilemnice  15-06.22",860.02398287264646,null,0,0,12.18]
["73.",{"$f":"B173","v":"RÁB"},"Adam","9.A",11.73,null,"Jilemnice  08.12.21",705.9736758201509,null,0,0,13.32]
["74.",{"$f":"B174","v":"REPASKÝ"},"Jakub","9.A",10.210000000000001,null,"Jilemnice  08.12.21",855.67713621721612,null,0,0,10.95]
["75.",{"$f":"B175","v":"SKÁLA"},"Jan","9.A",10.1,null,"Jilemnice  08.12.21",867.69057560689407,null,0,0,11.49]
["76.",{"$f":"B176","v":"ŠPULÁK"},"Jakub","9.A",10.51,null,"Jilemnice  08.12.21",823.83065585156999,null,0,0,0]
["77.",{"$f":"B177","v":"VALENTA"},"Tomáš","9.A",9.36,null,"Jilemnice  15-06.22",953.85362209560003,null,0,0,10.49]
["78.",{"$f":"B178","v":"VANCL"},"Jiří","9.A",10.66,null,"Jilemnice  15-06.22",808.38089672712101,null,0,0,12.48]
["79.",{"$f":"B179","v":"VAŠÍČEK"},"David","9.A",10.09,null,"Jilemnice  08.12.21",868.79207967184243,null,0,0,11.45]
["80.",{"$f":"B180","v":"ZOUHAR"},"Ondřej","9.A",9.99,null,"Jilemnice  08.12.21",879.89517582397218,null,0,0,10.96]
["81.",{"$f":"B181","v":"ZUZÁNEK"},"Filip","9.A",9.99,null,"Jilemnice  15-06.22",879.89517582397218,null,0,0,11.78]
[]
[]
[]
[]
[]
[]
[]
[]
[]
[]
[]
[]
[]
[]
[]
[]
[null,"EXNER","Tomáš","6.A",11.83,null,"Jilemnice  28.02.22",{"$f":"IF(E101=0,0,(((1000-313216/E101+34538300/E101*2-1698600000/E101*3+32198000000/E101*4)/13500000)-E101*E101+62))","v":697.01102745374283}]
[null,"JANATA","Denis","6.A",12.96,null,"Jilemnice  28.02.22",601.42852542295373]
[null,"JINDŘIŠEK","Alex Jiří","6.A",null,null,null,0]
[null,"MARŠÁLEK","Ondřej","6.A",12.1,null,"Jilemnice  28.02.22",673.25743485766759]
[null,"MLATEČEK","Patrik","6.A",13.85,null,"Jilemnice  28.02.22",532.11079179836884]
[null,"SCHOLZ","Matyáš","6.A",null,null,null,0]
[null,"TOMÁŠ","Jakub","6.A",11.36,null,"Jilemnice  28.02.22",739.9729270213877]
[null,"VÁCLAVÍK","Jan","6.A",11.42,null,"Jilemnice  28.02.22",734.36607910747875]
[null,"VEČEŘA","David","6.A",13.01,null,"Jilemnice  28.02.22",597.41138571753925]
[null,"VYBÍRAL","Radim","6.A",11.24,null,"Jilemnice  28.02.22",751.30082509555814]
[null,"BERISHA","David","6.B",11.92,null,"Jilemnice  28.02.22",689.02232050708415]
[null,"EFENBERK","Šimon","6.B",11.97,null,"Jilemnice  28.02.22",684.61516951947772]
[null,"FEJKL","Antonín","6.B",10.71,null,"Jilemnice  28.02.22",803.29738074834859]
[null,"GOTTSTEIN","Matouš","6.B",10.73,null,"Jilemnice  28.02.22",801.2730515653584]
[null,"HÁK","Šimon","6.B",null,null,null,0]
[null,"POVAŽANEC","Lukáš","6.B",12.16,null,"Jilemnice  28.02.22",668.06334459064328]
[null,"VANCL","Jakub","6.B",13.6,null,"Jilemnice  28.02.22",551.14118183006553]
[null,"VANCL","Miroslav","6.B",12.94,null,"Jilemnice  28.02.22",603.03986398763539]
[null,"VOTOČEK","Michal","6.B",13.12,null,"Jilemnice  28.02.22",588.62901747967499]
[null,"BOUKAL","Jakub","7.A",14.74,null,"Jilemnice  07.03.22",466.6982180009046]
[null,"DEMČUK","Ilja","7.A",11.37,null,"Jilemnice  07.03.22",739.0358447408712]
[null,"FAISTAUER","Kryštof","7.A",10.71,null,"Jilemnice  07.03.22",803.29738074834859]
[null,"FRK","Matyáš","7.A",12.65,null,"Jilemnice  07.03.22",626.70287569316349]
[null,"HUBÁLOVSKÝ","Marek","7.A",11.48,null,"Jilemnice  07.03.22",728.79635225190339]
[null,"MAŘAS","Dominik","7.A",13.81,null,"Jilemnice  07.03.22",535.13444948909807]
[null,"MAŤÁTKO","Jakub","7.A",14.13,null,"Jilemnice  07.03.22",511.15952690361974]
[null,"MERY","Luboš","7.A",12.05,null,"Jilemnice  07.03.22",677.60878282772387]
[null,"NOVOTNÝ","Matěj","7.A",12.45,null,"Jilemnice  07.03.22",643.36504921314895]
[null,"ŘEHOŘEK","Vojtěch","7.A",12.03,null,"Jilemnice  07.03.22",679.35523936763025]
[null,"ŠÍR","Matyáš","7.A",13.26,null,"Jilemnice  07.03.22",577.55822561868047]
[null,"TORÁČ","Tomáš","7.A",16.54,null,"Jilemnice  07.03.22",342.70749858927854]
[null,"ULLMAN","Šimon","7.A",10.73,null,"Jilemnice  07.03.22",801.2730515653584]
[null,"VÁCLAVÍK","Ondřej","7.A",10.64,null,"Jilemnice  07.03.22",{"$f":"IF(E133=0,0,(((1000-313216/E133+34538300/E133*2-1698600000/E133*3+32198000000/E133*4)/13500000)-E133*E133+62))","v":810.42346895015305}]
[null,"AUERSWALD","Daniel","7.B",null,null,null,0]
[null,"BODLÁK","Vladimír","7.B",null,null,null,0]
[null,"BUDÍN","Martin","7.B",11.04,null,"Jilemnice  07.03.22",770.53288217928082]
[null,"DVOŘÁK","Dominik","7.B",12.04,null,"Jilemnice  07.03.22",678.48158582502776]
[null,"FIŠERA","Vojtěch","7.B",11.87,null,"Jilemnice  07.03.22",693.45153679365978]
[null,"JINDŘIŠEK","Vít","7.B",10.34,null,"Jilemnice  07.03.22",841.71649201232185]
[null,"JIROUŠ","Matouš","7.B",11.73,null,"Jilemnice  07.03.22",705.9736758201509]
[null,"KERLE","Marek","7.B",10.51,null,"Jilemnice  07.03.22",823.83065585156999]
[null,"LUKEŠ","Jakub","7.B",11.05,null,"Jilemnice  07.03.22",769.56047592760183]
[null,"OTT","Matyáš","7.B",10.84,null,"Jilemnice  07.03.22",790.23018122181224]
[null,"POKORNÝ","Matyáš","7.B",9.84,null,"Jilemnice  07.03.22",896.85893194820846]
[null,"POLÁČEK","Matyáš","7.B",null,null,null,0]
[null,"SOUKUP","Patrik","7.B",null,null,null,0]
[null,"VALENTA","Jakub","7.B",10.54,null,"Jilemnice  07.03.22",820.71635504954691]
[null,"VRBATA","Dominik","7.B",11.65,null,"Jilemnice  07.03.22",713.21105608965195]
[null,"FEJKL","Jan","8.A",9.94,null,"Jilemnice  08.12.21",885.50784887100394]
[null,"KOTYK","Tadeáš","8.A",11.88,null,"Jilemnice  08.12.21",692.56391190921556]
[null,"KRAUSE","Tadeáš","8.A",10.039999999999999,null,"Jilemnice  08.12.21",874.323480596134]
[null,"LEŠÁK","Martin","8.A",11.88,null,"Jilemnice  08.12.21",692.56391190921556]
[null,"NECHANICKÝ","David","8.A",9.9700000000000006,null,"Jilemnice  08.12.21",882.13528896690059]
[null,"ŘEHOŘEK","Jan","8.A",10.43,null,"Jilemnice  07.03.22",832.19648428322876]
[null,"SOUKUP","Ondřej","8.A",11.63,null,"Jilemnice  07.03.22",715.02993808795873]
[null,"SPANILÝ","David","8.A",10.32,null,"Jilemnice  07.03.22",843.84797111685339]
[null,"ČADAN","Benjamín","8.B",null,null,null,0]
[null,"ČERNÝ","Michal","8.B",11.05,null,"Jilemnice  08.12.21",769.56047592760183]
[null,"DOLEJŠÍ","David","8.B",10.98,null,"Jilemnice  07.03.22",776.39186583012884]
[null,"NOVÁK","Matěj","8.B",11.18,null,"Jilemnice  08.12.21",757.0233328827934]
[null,"POVAŽANEC","Martin","8.B",11.15,null,"Jilemnice  07.03.22",759.89955304102307]
[null,"RICHTER","Jakub","8.B",11.8,null,"Jilemnice  07.03.22",699.69016436911477]
[null,"ROZUMEK","Adam","8.B",11.34,null,"Jilemnice  07.03.22",741.85024704422233]
[null,"VALENTA","František","8.B",10.71,null,"Jilemnice  08.12.21",803.29738074834859]
[null,"ZAPLATÍLEK","Josef","8.B",10.43,null,"Jilemnice  08.12.21",{"$f":"IF(E165=0,0,(((1000-313216/E165+34538300/E165*2-1698600000/E165*3+32198000000/E165*4)/13500000)-E165*E165+62))","v":832.19648428322876}]
[null,"ERBEN","Viktor","9.A",11.4,null,"Jilemnice  08.12.21",736.23086929174792,null,null,null,13.48]
[null,"FRANC","Daniel","9.A",10.99,null,"Jilemnice  08.12.21",775.41242771206157,null,null,null,12.52]
[null,"JINDŘIŠEK","Matyáš","9.A",10,null,"Jilemnice  08.12.21",878.77758062222222,null,null,null,11.49]
[null,"KOLAČNÝ","Štěpán","9.A",10.95,null,"Jilemnice  08.12.21",779.33730608151529,null,null,null,11.53]
[null,"KRISTAN","Jáchym","9.A",14.31,null,"Jilemnice  08.12.21",497.87911491834257,null,null,null,14.91]
[null,"NGUYEN","David","9.A",9.83,null,"Jilemnice  08.12.21",898.00342895520123]
[null,"NOVOTNÝ","Jan","9.A",10.17,null,"Jilemnice  15-06.22",860.02398287264646,null,null,null,12.18]
[null,"RÁB","Adam","9.A",11.73,null,"Jilemnice  08.12.21",705.9736758201509,null,null,null,13.32]
[null,"REPASKÝ","Jakub","9.A",10.210000000000001,null,"Jilemnice  08.12.21",855.67713621721612,null,null,null,10.95]
[null,"SKÁLA","Jan","9.A",10.1,null,"Jilemnice  08.12.21",867.69057560689407,null,null,null,11.49]
[null,"ŠPULÁK","Jakub","9.A",10.51,null,"Jilemnice  08.12.21",823.83065585156999]
[null,"VALENTA","Tomáš","9.A",9.36,null,"Jilemnice  15-06.22",953.85362209560003,null,null,null,10.49]
[null,"VANCL","Jiří","9.A",10.66,null,"Jilemnice  15-06.22",808.38089672712101,null,null,null,12.48]
[null,"VAŠÍČEK","David","9.A",10.09,null,"Jilemnice  08.12.21",868.79207967184243,null,null,null,11.45]
[null,"ZOUHAR","Ondřej","9.A",9.99,null,"Jilemnice  08.12.21",879.89517582397218,null,null,null,10.96]
[null,"ZUZÁNEK","Filip","9.A",9.99,null,"Jilemnice  15-06.22",879.89517582397218,null,null,null,11.78]

{"sheet":"LEHSED","index":16,"n_rows":181,"n_cols":12,"rows_kept":181,"cut":false,"hidden":false,"merged":[]}
[null,null,"VÝKONY  2021 - 2022",null,null,null,"LEHSED","CHLAPCI  6. -  9.  ROČ."]
[null,"stav  k ",{"$f":"TODAY()","v":"2022-06-27"},null,null,null,null,null,null,"20  - 21","19  - 20","18  - 19"]
[]
["1.",{"$f":"B101","v":"EXNER"},{"$f":"C101","v":"Tomáš"},"6.A",42,null,"Jilemnice  01.03.22",525,null,0,0,0]
["2.",{"$f":"B102","v":"JANATA"},"Denis","6.A",35,null,"Jilemnice  01.03.22",437.5,null,0,0,0]
["3.",{"$f":"B103","v":"JINDŘIŠEK"},"Alex Jiří","6.A",37,null,"Jilemnice  13.06.22",462.5,null,0,0,0]
["4.",{"$f":"B104","v":"MARŠÁLEK"},"Ondřej","6.A",36,null,"Jilemnice  01.03.22",450,null,0,0,0]
["5.",{"$f":"B105","v":"MLATEČEK"},"Patrik","6.A",30,null,"Jilemnice  01.03.22",375,null,0,0,0]
["6.",{"$f":"B106","v":"SCHOLZ"},"Matyáš","6.A",33,null,"Jilemnice  13.06.22",412.5,null,0,0,0]
["7.",{"$f":"B107","v":"TOMÁŠ"},"Jakub","6.A",45,null,"Jilemnice  01.03.22",562.5,null,0,0,0]
["8.",{"$f":"B108","v":"VÁCLAVÍK"},"Jan","6.A",34,null,"Jilemnice  01.03.22",425,null,0,0,0]
["9.",{"$f":"B109","v":"VEČEŘA"},"David","6.A",35,null,"Jilemnice  01.03.22",437.5,null,0,0,0]
["10.",{"$f":"B110","v":"VYBÍRAL"},"Radim","6.A",55,null,"Jilemnice  13.06.22",687.5,null,0,0,0]
["11.",{"$f":"B111","v":"BERISHA"},"David","6.B",0,null,0,0,null,0,0,0]
["12.",{"$f":"B112","v":"EFENBERK"},"Šimon","6.B",40,null,"Jilemnice  01.03.22",500,null,0,0,0]
["13.",{"$f":"B113","v":"FEJKL"},"Antonín","6.B",49,null,"Jilemnice  13.06.22",612.5,null,0,0,0]
["14.",{"$f":"B114","v":"GOTTSTEIN"},"Matouš","6.B",51,null,"Jilemnice  13.06.22",637.5,null,0,0,0]
["15.",{"$f":"B115","v":"HÁK"},"Šimon","6.B",0,null,0,0,null,0,0,0]
["16.",{"$f":"B116","v":"POVAŽANEC"},"Lukáš","6.B",30,null,"Jilemnice  01.03.22",375,null,0,0,0]
["17.",{"$f":"B117","v":"VANCL"},"Jakub","6.B",37,null,"Jilemnice  01.03.22",462.5,null,0,0,0]
["18.",{"$f":"B118","v":"VANCL"},"Miroslav","6.B",27,null,"Jilemnice  01.03.22",337.5,null,0,0,0]
["19.",{"$f":"B119","v":"VOTOČEK"},"Michal","6.B",37,null,"Jilemnice  01.03.22",462.5,null,0,0,0]
["20.",{"$f":"B120","v":"BOUKAL"},"Jakub","7.A",0,null,0,0,null,0,0,0]
["21.",{"$f":"B121","v":"DEMČUK"},"Ilja","7.A",38,null,"Jilemnice  11.04.22",475,null,25,0,0]
["22.",{"$f":"B122","v":"FAISTAUER"},"Kryštof","7.A",46,null,"Jilemnice  25.02.22",575,null,41,0,0]
["23.",{"$f":"B123","v":"FRK"},"Matyáš","7.A",35,null,"Jilemnice  25.02.22",437.5,null,0,0,0]
["24.",{"$f":"B124","v":"HUBÁLOVSKÝ"},"Marek","7.A",45,null,"Jilemnice  25.02.22",562.5,null,0,0,0]
["25.",{"$f":"B125","v":"MAŘAS"},"Dominik","7.A",0,null,"Jilemnice  25.02.22",0,null,0,0,0]
["26.",{"$f":"B126","v":"MAŤÁTKO"},"Jakub","7.A",0,null,0,0,null,0,0,0]
["27.",{"$f":"B127","v":"MERY"},"Luboš","7.A",36,null,"Jilemnice  28.02.22",450,null,26,0,0]
["28.",{"$f":"B128","v":"NOVOTNÝ"},"Matěj","7.A",33,null,"Jilemnice  25.02.22",412.5,null,0,0,0]
["29.",{"$f":"B129","v":"ŘEHOŘEK"},"Vojtěch","7.A",33,null,"Jilemnice  25.02.22",412.5,null,28,0,0]
["30.",{"$f":"B130","v":"ŠÍR"},"Matyáš","7.A",35,null,"Jilemnice  25.02.22",437.5,null,38,0,0]
["31.",{"$f":"B131","v":"TORÁČ"},"Tomáš","7.A",30,null,"Jilemnice  11.04.22",375,null,0,0,0]
["32.",{"$f":"B132","v":"ULLMAN"},"Šimon","7.A",46,null,"Jilemnice  11.04.22",575,null,0,0,0]
["33.",{"$f":"B133","v":"VÁCLAVÍK"},"Ondřej","7.A",42,null,"Jilemnice  25.02.22",525,null,0,0,0]
["34.",{"$f":"B134","v":"AUERSWALD"},"Daniel","7.B",40,null,"Jilemnice  25.02.22",500,null,0,0,0]
["35.",{"$f":"B135","v":"BODLÁK"},"Vladimír","7.B",0,null,0,0,null,53,0,0]
["36.",{"$f":"B136","v":"BUDÍN"},"Martin","7.B",40,null,"Jilemnice  25.02.22",500,null,30,0,0]
["37.",{"$f":"B137","v":"DVOŘÁK"},"Dominik","7.B",42,null,"Jilemnice  11.04.22",525,null,0,0,0]
["38.",{"$f":"B138","v":"FIŠERA"},"Vojtěch","7.B",44,null,"Jilemnice  25.02.22",550,null,26,0,0]
["39.",{"$f":"B139","v":"JINDŘIŠEK"},"Vít","7.B",50,null,"Jilemnice  13.06.22",625,null,40,0,0]
["40.",{"$f":"B140","v":"JIROUŠ"},"Matouš","7.B",45,null,"Jilemnice  25.02.22",562.5,null,25,0,0]
["41.",{"$f":"B141","v":"KERLE"},"Marek","7.B",56,null,"Jilemnice  11.04.22",700,null,48,0,0]
["42.",{"$f":"B142","v":"LUKEŠ"},"Jakub","7.B",40,null,"Jilemnice  25.02.22",500,null,30,0,0]
["43.",{"$f":"B143","v":"OTT"},"Matyáš","7.B",40,null,"Jilemnice  11.03.22",500,null,0,0,0]
["44.",{"$f":"B144","v":"POKORNÝ"},"Matyáš","7.B",73,null,"Jilemnice  11.03.22",912.5,null,0,0,0]
["45.",{"$f":"B145","v":"POLÁČEK"},"Matyáš","7.B",39,null,"Jilemnice  25.02.22",487.5,null,0,0,0]
["46.",{"$f":"B146","v":"SOUKUP"},"Patrik","7.B",0,null,0,0,null,27,0,0]
["47.",{"$f":"B147","v":"VALENTA"},"Jakub","7.B",60,null,"Jilemnice  11.04.22",750,null,49,0,0]
["48.",{"$f":"B148","v":"VRBATA"},"Dominik","7.B",42,null,"Jilemnice  25.02.22",525,null,0,0,0]
["49.",{"$f":"B149","v":"FEJKL"},"Jan","8.A",51,null,"Jilemnice  28.02.22",637.5,null,57,0,0]
["50.",{"$f":"B150","v":"KOTYK"},"Tadeáš","8.A",33,null,"Jilemnice  11.04.22",412.5,null,35,0,0]
["51.",{"$f":"B151","v":"KRAUSE"},"Tadeáš","8.A",51,null,"Jilemnice  28.02.22",637.5,null,54,0,0]
["52.",{"$f":"B152","v":"LEŠÁK"},"Martin","8.A",29,null,"Jilemnice  11.04.22",362.5,null,15,0,0]
["53.",{"$f":"B153","v":"NECHANICKÝ"},"David","8.A",38,null,"Jilemnice  28.02.22",475,null,0,0,0]
["54.",{"$f":"B154","v":"ŘEHOŘEK"},"Jan","8.A",40,null,"Jilemnice  28.02.22",500,null,26,0,0]
["55.",{"$f":"B155","v":"SOUKUP"},"Ondřej","8.A",47,null,"Jilemnice  28.02.22",587.5,null,47,0,0]
["56.",{"$f":"B156","v":"SPANILÝ"},"David","8.A",44,null,"Jilemnice  28.02.22",550,null,54,0,0]
["57.",{"$f":"B157","v":"ČADAN"},"Benjamín","8.B",0,null,0,0,null,0,0,0]
["58.",{"$f":"B158","v":"ČERNÝ"},"Michal","8.B",43,null,"Jilemnice  28.02.22",537.5,null,0,0,0]
["59.",{"$f":"B159","v":"DOLEJŠÍ"},"David","8.B",40,null,"Jilemnice  28.02.22",500,null,45,0,0]
["60.",{"$f":"B160","v":"NOVÁK"},"Matěj","8.B",35,null,"Jilemnice  28.02.22",437.5,null,0,0,0]
["61.",{"$f":"B161","v":"POVAŽANEC"},"Martin","8.B",34,null,"Jilemnice  28.02.22",425,null,0,0,0]
["62.",{"$f":"B162","v":"RICHTER"},"Jakub","8.B",36,null,"Jilemnice  28.02.22",450,null,20,0,0]
["63.",{"$f":"B163","v":"ROZUMEK"},"Adam","8.B",43,null,"Jilemnice  28.02.22",537.5,null,0,0,0]
["64.",{"$f":"B164","v":"VALENTA"},"František","8.B",42,null,"Jilemnice  28.02.22",525,null,0,0,0]
["65.",{"$f":"B165","v":"ZAPLATÍLEK"},"Josef","8.B",46,null,"Jilemnice  11.04.22",575,null,0,0,0]
["66.",{"$f":"B166","v":"ERBEN"},"Viktor","9.A",28,null,"Jilemnice  02.03.22",350,null,28,0,5]
["67.",{"$f":"B167","v":"FRANC"},"Daniel","9.A",32,null,"Jilemnice  02.03.22",400,null,0,0,25]
["68.",{"$f":"B168","v":"JINDŘIŠEK"},"Matyáš","9.A",52,null,"Jilemnice  02.03.22",650,null,41,0,40]
["69.",{"$f":"B169","v":"KOLAČNÝ"},"Štěpán","9.A",33,null,"Jilemnice  02.03.22",412.5,null,43,0,38]
["70.",{"$f":"B170","v":"KRISTAN"},"Jáchym","9.A",23,null,"Jilemnice  02.03.22",287.5,null,0,0,19]
["71.",{"$f":"B171","v":"NGUYEN"},"David","9.A",30,null,"Jilemnice  02.03.22",375,null,0,0,0]
["72.",{"$f":"B172","v":"NOVOTNÝ"},"Jan","9.A",44,null,"Jilemnice  02.03.22",550,null,0,0,43]
["73.",{"$f":"B173","v":"RÁB"},"Adam","9.A",30,null,"Jilemnice  02.03.22",375,null,0,0,26]
["74.",{"$f":"B174","v":"REPASKÝ"},"Jakub","9.A",50,null,"Jilemnice  02.03.22",625,null,49,0,41]
["75.",{"$f":"B175","v":"SKÁLA"},"Jan","9.A",49,null,"Jilemnice  02.03.22",612.5,null,0,0,39]
["76.",{"$f":"B176","v":"ŠPULÁK"},"Jakub","9.A",0,null,"",0,null,27,0,0]
["77.",{"$f":"B177","v":"VALENTA"},"Tomáš","9.A",56,null,"Jilemnice  02.03.22",700,null,49,0,46]
["78.",{"$f":"B178","v":"VANCL"},"Jiří","9.A",42,null,"Jilemnice  02.03.22",525,null,0,0,40]
["79.",{"$f":"B179","v":"VAŠÍČEK"},"David","9.A",0,null,0,0,null,0,0,37]
["80.",{"$f":"B180","v":"ZOUHAR"},"Ondřej","9.A",36,null,"Jilemnice  02.03.22",450,null,0,0,31]
["81.",{"$f":"B181","v":"ZUZÁNEK"},"Filip","9.A",50,null,"Jilemnice  02.03.22",625,null,0,0,40]
[]
[]
[]
[]
[]
[]
[]
[]
[]
[]
[]
[]
[]
[]
[]
[]
[null,"EXNER","Tomáš","6.A",42,null,"Jilemnice  01.03.22",{"$f":"IF(E101=0,0,E101*10*1.25)","v":525}]
[null,"JANATA","Denis","6.A",35,null,"Jilemnice  01.03.22",437.5]
[null,"JINDŘIŠEK","Alex Jiří","6.A",37,null,"Jilemnice  13.06.22",462.5]
[null,"MARŠÁLEK","Ondřej","6.A",36,null,"Jilemnice  01.03.22",450]
[null,"MLATEČEK","Patrik","6.A",30,null,"Jilemnice  01.03.22",375]
[null,"SCHOLZ","Matyáš","6.A",33,null,"Jilemnice  13.06.22",412.5]
[null,"TOMÁŠ","Jakub","6.A",45,null,"Jilemnice  01.03.22",562.5]
[null,"VÁCLAVÍK","Jan","6.A",34,null,"Jilemnice  01.03.22",425]
[null,"VEČEŘA","David","6.A",35,null,"Jilemnice  01.03.22",437.5]
[null,"VYBÍRAL","Radim","6.A",55,null,"Jilemnice  13.06.22",687.5]
[null,"BERISHA","David","6.B",null,null,null,0]
[null,"EFENBERK","Šimon","6.B",40,null,"Jilemnice  01.03.22",500]
[null,"FEJKL","Antonín","6.B",49,null,"Jilemnice  13.06.22",612.5]
[null,"GOTTSTEIN","Matouš","6.B",51,null,"Jilemnice  13.06.22",637.5]
[null,"HÁK","Šimon","6.B",null,null,null,0]
[null,"POVAŽANEC","Lukáš","6.B",30,null,"Jilemnice  01.03.22",375]
[null,"VANCL","Jakub","6.B",37,null,"Jilemnice  01.03.22",462.5]
[null,"VANCL","Miroslav","6.B",27,null,"Jilemnice  01.03.22",337.5]
[null,"VOTOČEK","Michal","6.B",37,null,"Jilemnice  01.03.22",462.5]
[null,"BOUKAL","Jakub","7.A",null,null,null,0]
[null,"DEMČUK","Ilja","7.A",38,null,"Jilemnice  11.04.22",475,null,25]
[null,"FAISTAUER","Kryštof","7.A",46,null,"Jilemnice  25.02.22",575,null,41]
[null,"FRK","Matyáš","7.A",35,null,"Jilemnice  25.02.22",437.5]
[null,"HUBÁLOVSKÝ","Marek","7.A",45,null,"Jilemnice  25.02.22",562.5]
[null,"MAŘAS","Dominik","7.A",null,null,"Jilemnice  25.02.22",0]
[null,"MAŤÁTKO","Jakub","7.A",null,null,null,0]
[null,"MERY","Luboš","7.A",36,null,"Jilemnice  28.02.22",450,null,26]
[null,"NOVOTNÝ","Matěj","7.A",33,null,"Jilemnice  25.02.22",412.5]
[null,"ŘEHOŘEK","Vojtěch","7.A",33,null,"Jilemnice  25.02.22",412.5,null,28]
[null,"ŠÍR","Matyáš","7.A",35,null,"Jilemnice  25.02.22",437.5,null,38]
[null,"TORÁČ","Tomáš","7.A",30,null,"Jilemnice  11.04.22",375]
[null,"ULLMAN","Šimon","7.A",46,null,"Jilemnice  11.04.22",575]
[null,"VÁCLAVÍK","Ondřej","7.A",42,null,"Jilemnice  25.02.22",{"$f":"IF(E133=0,0,E133*10*1.25)","v":525}]
[null,"AUERSWALD","Daniel","7.B",40,null,"Jilemnice  25.02.22",500]
[null,"BODLÁK","Vladimír","7.B",null,null,null,0,null,53]
[null,"BUDÍN","Martin","7.B",40,null,"Jilemnice  25.02.22",500,null,30]
[null,"DVOŘÁK","Dominik","7.B",42,null,"Jilemnice  11.04.22",525]
[null,"FIŠERA","Vojtěch","7.B",44,null,"Jilemnice  25.02.22",550,null,26]
[null,"JINDŘIŠEK","Vít","7.B",50,null,"Jilemnice  13.06.22",625,null,40]
[null,"JIROUŠ","Matouš","7.B",45,null,"Jilemnice  25.02.22",562.5,null,25]
[null,"KERLE","Marek","7.B",56,null,"Jilemnice  11.04.22",700,null,48]
[null,"LUKEŠ","Jakub","7.B",40,null,"Jilemnice  25.02.22",500,null,30]
[null,"OTT","Matyáš","7.B",40,null,"Jilemnice  11.03.22",500]
[null,"POKORNÝ","Matyáš","7.B",73,null,"Jilemnice  11.03.22",912.5]
[null,"POLÁČEK","Matyáš","7.B",39,null,"Jilemnice  25.02.22",487.5]
[null,"SOUKUP","Patrik","7.B",null,null,null,0,null,27]
[null,"VALENTA","Jakub","7.B",60,null,"Jilemnice  11.04.22",750,null,49]
[null,"VRBATA","Dominik","7.B",42,null,"Jilemnice  25.02.22",525]
[null,"FEJKL","Jan","8.A",51,null,"Jilemnice  28.02.22",637.5,null,57]
[null,"KOTYK","Tadeáš","8.A",33,null,"Jilemnice  11.04.22",412.5,null,35]
[null,"KRAUSE","Tadeáš","8.A",51,null,"Jilemnice  28.02.22",637.5,null,54]
[null,"LEŠÁK","Martin","8.A",29,null,"Jilemnice  11.04.22",362.5,null,15]
[null,"NECHANICKÝ","David","8.A",38,null,"Jilemnice  28.02.22",475]
[null,"ŘEHOŘEK","Jan","8.A",40,null,"Jilemnice  28.02.22",500,null,26]
[null,"SOUKUP","Ondřej","8.A",47,null,"Jilemnice  28.02.22",587.5,null,47]
[null,"SPANILÝ","David","8.A",44,null,"Jilemnice  28.02.22",550,null,54]
[null,"ČADAN","Benjamín","8.B",null,null,null,0]
[null,"ČERNÝ","Michal","8.B",43,null,"Jilemnice  28.02.22",537.5]
[null,"DOLEJŠÍ","David","8.B",40,null,"Jilemnice  28.02.22",500,null,45]
[null,"NOVÁK","Matěj","8.B",35,null,"Jilemnice  28.02.22",437.5]
[null,"POVAŽANEC","Martin","8.B",34,null,"Jilemnice  28.02.22",425]
[null,"RICHTER","Jakub","8.B",36,null,"Jilemnice  28.02.22",450,null,20]
[null,"ROZUMEK","Adam","8.B",43,null,"Jilemnice  28.02.22",537.5]
[null,"VALENTA","František","8.B",42,null,"Jilemnice  28.02.22",525]
[null,"ZAPLATÍLEK","Josef","8.B",46,null,"Jilemnice  11.04.22",{"$f":"IF(E165=0,0,E165*10*1.25)","v":575}]
[null,"ERBEN","Viktor","9.A",28,null,"Jilemnice  02.03.22",350,null,28,null,5]
[null,"FRANC","Daniel","9.A",32,null,"Jilemnice  02.03.22",400,null,null,null,25]
[null,"JINDŘIŠEK","Matyáš","9.A",52,null,"Jilemnice  02.03.22",650,null,41,null,40]
[null,"KOLAČNÝ","Štěpán","9.A",33,null,"Jilemnice  02.03.22",412.5,null,43,null,38]
[null,"KRISTAN","Jáchym","9.A",23,null,"Jilemnice  02.03.22",287.5,null,null,null,19]
[null,"NGUYEN","David","9.A",30,null,"Jilemnice  02.03.22",375]
[null,"NOVOTNÝ","Jan","9.A",44,null,"Jilemnice  02.03.22",550,null,null,null,43]
[null,"RÁB","Adam","9.A",30,null,"Jilemnice  02.03.22",375,null,null,null,26]
[null,"REPASKÝ","Jakub","9.A",50,null,"Jilemnice  02.03.22",625,null,49,null,41]
[null,"SKÁLA","Jan","9.A",49,null,"Jilemnice  02.03.22",612.5,null,null,null,39]
[null,"ŠPULÁK","Jakub","9.A",null,null," ",0,null,27]
[null,"VALENTA","Tomáš","9.A",56,null,"Jilemnice  02.03.22",700,null,49,null,46]
[null,"VANCL","Jiří","9.A",42,null,"Jilemnice  02.03.22",525,null,null,null,40]
[null,"VAŠÍČEK","David","9.A",null,null,null,0,null,null,null,37]
[null,"ZOUHAR","Ondřej","9.A",36,null,"Jilemnice  02.03.22",450,null,null,null,31]
[null,"ZUZÁNEK","Filip","9.A",50,null,"Jilemnice  02.03.22",625,null,null,null,40]

{"sheet":"ODBÍJENÍ","index":17,"n_rows":181,"n_cols":12,"rows_kept":181,"cut":false,"hidden":false,"merged":[]}
[null,null,"VÝKONY  2021 - 2022",null,null,null,"ODBÍJENÍ","CHLAPCI  6. -  9.  ROČ."]
[null,"stav  k ",{"$f":"TODAY()","v":"2022-06-27"},null,null,null,null,null,null,"20  - 21","19  - 20","18  - 19"]
[]
["1.",{"$f":"B101","v":"EXNER"},{"$f":"C101","v":"Tomáš"},"6.A",15,null,"Jilemnice  13.06.22",120,null,0,0,0]
["2.",{"$f":"B102","v":"JANATA"},"Denis","6.A",18,null,"Jilemnice  13.06.22",144,null,0,0,0]
["3.",{"$f":"B103","v":"JINDŘIŠEK"},"Alex Jiří","6.A",7,null,"Jilemnice  13.06.22",56,null,0,0,0]
["4.",{"$f":"B104","v":"MARŠÁLEK"},"Ondřej","6.A",8,null,"Jilemnice  04.03.22",64,null,0,0,0]
["5.",{"$f":"B105","v":"MLATEČEK"},"Patrik","6.A",8,null,"Jilemnice  04.03.22",64,null,0,0,0]
["6.",{"$f":"B106","v":"SCHOLZ"},"Matyáš","6.A",18,null,"Jilemnice  13.06.22",144,null,0,0,0]
["7.",{"$f":"B107","v":"TOMÁŠ"},"Jakub","6.A",13,null,"Jilemnice  04.03.22",104,null,0,0,0]
["8.",{"$f":"B108","v":"VÁCLAVÍK"},"Jan","6.A",11,null,"Jilemnice  13.12.21",88,null,0,0,0]
["9.",{"$f":"B109","v":"VEČEŘA"},"David","6.A",7,null,"Jilemnice  13.06.22",56,null,0,0,0]
["10.",{"$f":"B110","v":"VYBÍRAL"},"Radim","6.A",35,null,"Jilemnice  13.06.22",280,null,0,0,0]
["11.",{"$f":"B111","v":"BERISHA"},"David","6.B",10,null,"Jilemnice  04.03.22",80,null,0,0,0]
["12.",{"$f":"B112","v":"EFENBERK"},"Šimon","6.B",10,null,"Jilemnice  13.12.21",80,null,0,0,0]
["13.",{"$f":"B113","v":"FEJKL"},"Antonín","6.B",35,null,"Jilemnice  13.06.22",280,null,0,0,0]
["14.",{"$f":"B114","v":"GOTTSTEIN"},"Matouš","6.B",20,null,"Jilemnice  13.06.22",160,null,0,0,0]
["15.",{"$f":"B115","v":"HÁK"},"Šimon","6.B",0,null,0,0,null,0,0,0]
["16.",{"$f":"B116","v":"POVAŽANEC"},"Lukáš","6.B",20,null,"Jilemnice  13.06.22",160,null,0,0,0]
["17.",{"$f":"B117","v":"VANCL"},"Jakub","6.B",15,null,"Jilemnice  13.06.22",120,null,0,0,0]
["18.",{"$f":"B118","v":"VANCL"},"Miroslav","6.B",5,null,"Jilemnice  13.12.21",40,null,0,0,0]
["19.",{"$f":"B119","v":"VOTOČEK"},"Michal","6.B",8,null,"Jilemnice  13.06.22",64,null,0,0,0]
["20.",{"$f":"B120","v":"BOUKAL"},"Jakub","7.A",0,null,0,0,null,0,0,0]
["21.",{"$f":"B121","v":"DEMČUK"},"Ilja","7.A",6,null,"Jilemnice  26.11.21",48,null,15,0,0]
["22.",{"$f":"B122","v":"FAISTAUER"},"Kryštof","7.A",10,null,"Jilemnice  07.03.22",80,null,0,0,0]
["23.",{"$f":"B123","v":"FRK"},"Matyáš","7.A",9,null,"Jilemnice  07.03.22",72,null,0,0,0]
["24.",{"$f":"B124","v":"HUBÁLOVSKÝ"},"Marek","7.A",19,null,"Jilemnice  03.12.21",152,null,0,0,0]
["25.",{"$f":"B125","v":"MAŘAS"},"Dominik","7.A",6,null,"Jilemnice  13.06.22",48,null,0,0,0]
["26.",{"$f":"B126","v":"MAŤÁTKO"},"Jakub","7.A",0,null,0,0,null,0,0,0]
["27.",{"$f":"B127","v":"MERY"},"Luboš","7.A",6,null,"Jilemnice  26.11.21",48,null,0,0,0]
["28.",{"$f":"B128","v":"NOVOTNÝ"},"Matěj","7.A",11,null,"Jilemnice  03.12.21",88,null,0,0,0]
["29.",{"$f":"B129","v":"ŘEHOŘEK"},"Vojtěch","7.A",11,null,"Jilemnice  26.11.21",88,null,0,0,0]
["30.",{"$f":"B130","v":"ŠÍR"},"Matyáš","7.A",10,null,"Jilemnice  07.03.22",80,null,0,0,0]
["31.",{"$f":"B131","v":"TORÁČ"},"Tomáš","7.A",6,null,"Jilemnice  13.06.22",48,null,0,0,0]
["32.",{"$f":"B132","v":"ULLMAN"},"Šimon","7.A",9,null,"Jilemnice  07.03.22",72,null,0,0,0]
["33.",{"$f":"B133","v":"VÁCLAVÍK"},"Ondřej","7.A",16,null,"Jilemnice  03.12.21",128,null,0,0,0]
["34.",{"$f":"B134","v":"AUERSWALD"},"Daniel","7.B",15,null,"Jilemnice  26.11.21",120,null,0,0,0]
["35.",{"$f":"B135","v":"BODLÁK"},"Vladimír","7.B",0,null,0,0,null,0,0,0]
["36.",{"$f":"B136","v":"BUDÍN"},"Martin","7.B",9,null,"Jilemnice  26.11.21",72,null,0,0,0]
["37.",{"$f":"B137","v":"DVOŘÁK"},"Dominik","7.B",9,null,"Jilemnice  07.03.22",72,null,0,0,0]
["38.",{"$f":"B138","v":"FIŠERA"},"Vojtěch","7.B",9,null,"Jilemnice  07.03.22",72,null,0,0,0]
["39.",{"$f":"B139","v":"JINDŘIŠEK"},"Vít","7.B",43,null,"Jilemnice  07.03.22",344,null,28,0,0]
["40.",{"$f":"B140","v":"JIROUŠ"},"Matouš","7.B",14,null,"Jilemnice  26.11.21",112,null,0,0,0]
["41.",{"$f":"B141","v":"KERLE"},"Marek","7.B",43,null,"Jilemnice  07.03.22",344,null,0,0,0]
["42.",{"$f":"B142","v":"LUKEŠ"},"Jakub","7.B",19,null,"Jilemnice  03.12.21",152,null,0,0,0]
["43.",{"$f":"B143","v":"OTT"},"Matyáš","7.B",24,null,"Jilemnice  03.12.21",192,null,0,0,0]
["44.",{"$f":"B144","v":"POKORNÝ"},"Matyáš","7.B",24,null,"Jilemnice  07.03.22",192,null,0,0,0]
["45.",{"$f":"B145","v":"POLÁČEK"},"Matyáš","7.B",11,null,"Jilemnice  26.11.21",88,null,0,0,0]
["46.",{"$f":"B146","v":"SOUKUP"},"Patrik","7.B",0,null,0,0,null,0,0,0]
["47.",{"$f":"B147","v":"VALENTA"},"Jakub","7.B",24,null,"Jilemnice  07.03.22",192,null,0,0,0]
["48.",{"$f":"B148","v":"VRBATA"},"Dominik","7.B",16,null,"Jilemnice  03.12.21",128,null,0,0,0]
["49.",{"$f":"B149","v":"FEJKL"},"Jan","8.A",52,null,"Jilemnice  22.09.21",416,null,0,126,0]
["50.",{"$f":"B150","v":"KOTYK"},"Tadeáš","8.A",32,null,"Jilemnice  26.01.22",256,null,0,30,0]
["51.",{"$f":"B151","v":"KRAUSE"},"Tadeáš","8.A",32,null,"Jilemnice  26.01.22",256,null,0,57,0]
["52.",{"$f":"B152","v":"LEŠÁK"},"Martin","8.A",31,null,"Jilemnice  26.01.22",248,null,0,25,0]
["53.",{"$f":"B153","v":"NECHANICKÝ"},"David","8.A",52,null,"Jilemnice  22.09.21",416,null,0,37,0]
["54.",{"$f":"B154","v":"ŘEHOŘEK"},"Jan","8.A",345,null,"Jilemnice  16.03.22",746,null,0,57,0]
["55.",{"$f":"B155","v":"SOUKUP"},"Ondřej","8.A",273,null,"Jilemnice  26.01.22",717.2,null,0,126,0]
["56.",{"$f":"B156","v":"SPANILÝ"},"David","8.A",345,null,"Jilemnice  16.03.22",746,null,0,49,0]
["57.",{"$f":"B157","v":"ČADAN"},"Benjamín","8.B",{"$f":"E157","v":9},null,"Jilemnice  03.11.21",72,null,0,15,0]
["58.","ČERNÝ","Michal","8.B",30,null,"Jilemnice  03.11.21",240,null,0,25,0]
["59.",{"$f":"B159","v":"DOLEJŠÍ"},"David","8.B",21,null,"Jilemnice  03.11.21",168,null,0,12,0]
["60.",{"$f":"B160","v":"NOVÁK"},"Matěj","8.B",26,null,"Jilemnice  22.11.21",208,null,0,21,0]
["61.",{"$f":"B161","v":"POVAŽANEC"},"Martin","8.B",34,null,"Jilemnice  07.03.22",272,null,0,30,0]
["62.",{"$f":"B162","v":"RICHTER"},"Jakub","8.B",21,null,"Jilemnice  03.11.21",168,null,0,14,0]
["63.",{"$f":"B163","v":"ROZUMEK"},"Adam","8.B",39,null,"Jilemnice  10.01.22",312,null,0,17,0]
["64.",{"$f":"B164","v":"VALENTA"},"František","8.B",34,null,"Jilemnice  07.03.22",272,null,0,17,0]
["65.",{"$f":"B165","v":"ZAPLATÍLEK"},"Josef","8.B",39,null,"Jilemnice  10.01.22",312,null,0,14,0]
["66.",{"$f":"B166","v":"ERBEN"},"Viktor","9.A",55,null,"Jilemnice  16.03.22",440,null,0,27,3]
["67.",{"$f":"B167","v":"FRANC"},"Daniel","9.A",51,null,"Jilemnice  23.03.22",408,null,0,22,0]
["68.",{"$f":"B168","v":"JINDŘIŠEK"},"Matyáš","9.A",60,null,"Jilemnice  01.12.21",480,null,28,27,15]
["69.",{"$f":"B169","v":"KOLAČNÝ"},"Štěpán","9.A",62,null,"Jilemnice  16.03.22",496,null,0,27,0]
["70.",{"$f":"B170","v":"KRISTAN"},"Jáchym","9.A",8,null,"Jilemnice  10.01.22",64,null,0,10,3]
["71.",{"$f":"B171","v":"NGUYEN"},"David","9.A",60,null,"Jilemnice  01.12.21",{"$f":"H171","v":480},null,0,28,0]
["72.","NOVOTNÝ","Jan","9.A",9,null,"Jilemnice  22.09.21",72,null,0,9,0]
["73.",{"$f":"B173","v":"RÁB"},"Adam","9.A",21,null,{"$f":"G173","v":"Jilemnice  09.02.22"},168,null,0,18,14]
["74.","REPASKÝ","Jakub","9.A",123,null,"Jilemnice  24.11.21",657.2,null,0,69,72]
["75.",{"$f":"B175","v":"SKÁLA"},"Jan","9.A",30,null,"Jilemnice  16.03.22",240,null,0,20,15]
["76.",{"$f":"B176","v":"ŠPULÁK"},"Jakub","9.A",66,null,"Jilemnice  09.02.22",528,null,0,32,14]
["77.",{"$f":"B177","v":"VALENTA"},"Tomáš","9.A",123,null,"Jilemnice  24.11.21",657.2,null,0,69,72]
["78.",{"$f":"B178","v":"VANCL"},"Jiří","9.A",66,null,"Jilemnice  09.02.22",528,null,0,76,18]
["79.",{"$f":"B179","v":"VAŠÍČEK"},"David","9.A",22,null,"Jilemnice  10.01.22",176,null,0,32,15]
["80.",{"$f":"B180","v":"ZOUHAR"},"Ondřej","9.A",62,null,"Jilemnice  16.03.22",496,null,0,20,15]
["81.",{"$f":"B181","v":"ZUZÁNEK"},"Filip","9.A",46,null,"Jilemnice  10.01.22",368,null,0,76,18]
[]
[]
[]
[]
[]
[]
[]
[]
[]
[]
[]
[]
[]
[]
[]
[]
[null,"EXNER","Tomáš","6.A",15,null,"Jilemnice  13.06.22",{"$f":"IF(E101<=80,E101*8,IF(E101>80,608+0.4*E101,IF(AF101>200,750+0.2*E101)))","v":120}]
[null,"JANATA","Denis","6.A",18,null,"Jilemnice  13.06.22",144]
[null,"JINDŘIŠEK","Alex Jiří","6.A",7,null,"Jilemnice  13.06.22",56]
[null,"MARŠÁLEK","Ondřej","6.A",8,null,"Jilemnice  04.03.22",64]
[null,"MLATEČEK","Patrik","6.A",8,null,"Jilemnice  04.03.22",64]
[null,"SCHOLZ","Matyáš","6.A",18,null,"Jilemnice  13.06.22",144]
[null,"TOMÁŠ","Jakub","6.A",13,null,"Jilemnice  04.03.22",104]
[null,"VÁCLAVÍK","Jan","6.A",11,null,"Jilemnice  13.12.21",88]
[null,"VEČEŘA","David","6.A",7,null,"Jilemnice  13.06.22",56]
[null,"VYBÍRAL","Radim","6.A",35,null,"Jilemnice  13.06.22",280]
[null,"BERISHA","David","6.B",10,null,"Jilemnice  04.03.22",80]
[null,"EFENBERK","Šimon","6.B",10,null,"Jilemnice  13.12.21",80]
[null,"FEJKL","Antonín","6.B",35,null,"Jilemnice  13.06.22",280]
[null,"GOTTSTEIN","Matouš","6.B",20,null,"Jilemnice  13.06.22",160]
[null,"HÁK","Šimon","6.B",null,null,null,0]
[null,"POVAŽANEC","Lukáš","6.B",20,null,"Jilemnice  13.06.22",160]
[null,"VANCL","Jakub","6.B",15,null,"Jilemnice  13.06.22",120]
[null,"VANCL","Miroslav","6.B",5,null,"Jilemnice  13.12.21",40]
[null,"VOTOČEK","Michal","6.B",8,null,"Jilemnice  13.06.22",64]
[null,"BOUKAL","Jakub","7.A",null,null,null,0]
[null,"DEMČUK","Ilja","7.A",6,null,"Jilemnice  26.11.21",48,null,15]
[null,"FAISTAUER","Kryštof","7.A",10,null,"Jilemnice  07.03.22",80]
[null,"FRK","Matyáš","7.A",9,null,"Jilemnice  07.03.22",72]
[null,"HUBÁLOVSKÝ","Marek","7.A",19,null,"Jilemnice  03.12.21",152]
[null,"MAŘAS","Dominik","7.A",6,null,"Jilemnice  13.06.22",48]
[null,"MAŤÁTKO","Jakub","7.A",null,null,null,0]
[null,"MERY","Luboš","7.A",6,null,"Jilemnice  26.11.21",48]
[null,"NOVOTNÝ","Matěj","7.A",11,null,"Jilemnice  03.12.21",88]
[null,"ŘEHOŘEK","Vojtěch","7.A",11,null,"Jilemnice  26.11.21",88]
[null,"ŠÍR","Matyáš","7.A",10,null,"Jilemnice  07.03.22",80]
[null,"TORÁČ","Tomáš","7.A",6,null,"Jilemnice  13.06.22",48]
[null,"ULLMAN","Šimon","7.A",9,null,"Jilemnice  07.03.22",72]
[null,"VÁCLAVÍK","Ondřej","7.A",16,null,"Jilemnice  03.12.21",{"$f":"IF(E133<=80,E133*8,IF(E133>80,608+0.4*E133,IF(AF133>200,750+0.2*E133)))","v":128}]
[null,"AUERSWALD","Daniel","7.B",15,null,"Jilemnice  26.11.21",120]
[null,"BODLÁK","Vladimír","7.B",null,null,null,0]
[null,"BUDÍN","Martin","7.B",9,null,"Jilemnice  26.11.21",72]
[null,"DVOŘÁK","Dominik","7.B",9,null,"Jilemnice  07.03.22",72]
[null,"FIŠERA","Vojtěch","7.B",9,null,"Jilemnice  07.03.22",72]
[null,"JINDŘIŠEK","Vít","7.B",43,null,"Jilemnice  07.03.22",344,null,28]
[null,"JIROUŠ","Matouš","7.B",14,null,"Jilemnice  26.11.21",112]
[null,"KERLE","Marek","7.B",43,null,"Jilemnice  07.03.22",344]
[null,"LUKEŠ","Jakub","7.B",19,null,"Jilemnice  03.12.21",152]
[null,"OTT","Matyáš","7.B",24,null,"Jilemnice  03.12.21",192]
[null,"POKORNÝ","Matyáš","7.B",24,null,"Jilemnice  07.03.22",192]
[null,"POLÁČEK","Matyáš","7.B",11,null,"Jilemnice  26.11.21",88]
[null,"SOUKUP","Patrik","7.B",null,null,null,0]
[null,"VALENTA","Jakub","7.B",24,null,"Jilemnice  07.03.22",192]
[null,"VRBATA","Dominik","7.B",16,null,"Jilemnice  03.12.21",128]
[null,"FEJKL","Jan","8.A",52,null,"Jilemnice  22.09.21",416,null,null,126]
[null,"KOTYK","Tadeáš","8.A",32,null,"Jilemnice  26.01.22",256,null,null,30]
[null,"KRAUSE","Tadeáš","8.A",32,null,"Jilemnice  26.01.22",256,null,null,57]
[null,"LEŠÁK","Martin","8.A",31,null,"Jilemnice  26.01.22",248,null,null,25]
[null,"NECHANICKÝ","David","8.A",52,null,"Jilemnice  22.09.21",416,null,null,37]
[null,"ŘEHOŘEK","Jan","8.A",345,null,"Jilemnice  16.03.22",746,null,null,57]
[null,"SOUKUP","Ondřej","8.A",273,null,"Jilemnice  26.01.22",717.2,null,null,126]
[null,"SPANILÝ","David","8.A",345,null,"Jilemnice  16.03.22",746,null,null,49]
[null,"ČADAN","Benjamín","8.B",9,null,"Jilemnice  03.11.21",72,null,null,15]
[null,"ČERNÝ","Michal","8.B",30,null,"Jilemnice  03.11.21",240,null,null,25]
[null,"DOLEJŠÍ","David","8.B",21,null,"Jilemnice  03.11.21",168,null,null,12]
[null,"NOVÁK","Matěj","8.B",26,null,"Jilemnice  22.11.21",208,null,null,21]
[null,"POVAŽANEC","Martin","8.B",34,null,"Jilemnice  07.03.22",272,null,null,30]
[null,"RICHTER","Jakub","8.B",21,null,"Jilemnice  03.11.21",168,null,null,14]
[null,"ROZUMEK","Adam","8.B",39,null,"Jilemnice  10.01.22",312,null,null,17]
[null,"VALENTA","František","8.B",34,null,"Jilemnice  07.03.22",272,null,null,17]
[null,"ZAPLATÍLEK","Josef","8.B",39,null,"Jilemnice  10.01.22",{"$f":"IF(E165<=80,E165*8,IF(E165>80,608+0.4*E165,IF(AF165>200,750+0.2*E165)))","v":312},null,null,14]
[null,"ERBEN","Viktor","9.A",55,null,"Jilemnice  16.03.22",440,null,null,27,3]
[null,"FRANC","Daniel","9.A",51,null,"Jilemnice  23.03.22",408,null,null,22]
[null,"JINDŘIŠEK","Matyáš","9.A",60,null,"Jilemnice  01.12.21",480,null,28,27,15]
[null,"KOLAČNÝ","Štěpán","9.A",62,null,"Jilemnice  16.03.22",496,null,null,27]
[null,"KRISTAN","Jáchym","9.A",8,null,"Jilemnice  10.01.22",64,null,null,10,3]
[null,"NGUYEN","David","9.A",60,null,"Jilemnice  01.12.21",480,null,null,28]
[null,"NOVOTNÝ","Jan","9.A",9,null,"Jilemnice  22.09.21",72,null,null,9]
[null,"RÁB","Adam","9.A",21,null,"Jilemnice  09.02.22",168,null,null,18,14]
[null,"REPASKÝ","Jakub","9.A",123,null,"Jilemnice  24.11.21",657.2,null,null,69,72]
[null,"SKÁLA","Jan","9.A",30,null,"Jilemnice  16.03.22",240,null,null,20,15]
[null,"ŠPULÁK","Jakub","9.A",66,null,"Jilemnice  09.02.22",528,null,null,32,14]
[null,"VALENTA","Tomáš","9.A",123,null,"Jilemnice  24.11.21",657.2,null,null,69,72]
[null,"VANCL","Jiří","9.A",66,null,"Jilemnice  09.02.22",528,null,null,76,18]
[null,"VAŠÍČEK","David","9.A",22,null,"Jilemnice  10.01.22",176,null,null,32,15]
[null,"ZOUHAR","Ondřej","9.A",62,null,"Jilemnice  16.03.22",496,null,null,20,15]
[null,"ZUZÁNEK","Filip","9.A",46,null,"Jilemnice  10.01.22",368,null,null,76,18]

{"sheet":"PLAVÁNÍ","index":18,"n_rows":181,"n_cols":12,"rows_kept":181,"cut":false,"hidden":false,"merged":[]}
[null,null,"VÝKONY  2021 - 2022",null,null,null,"PLAVÁNÍ","CHLAPCI  6. -  9.  ROČ."]
[null,"stav  k ",{"$f":"TODAY()","v":"2022-06-27"},null,null,null,null,null,null,"20  - 21","19  - 20","18  - 19"]
[]
["1.",{"$f":"B101","v":"EXNER"},{"$f":"C101","v":"Tomáš"},"6.A",33,null,"Nová Paka  06.0322",402.859403261708,null,0,0,0]
["2.",{"$f":"B102","v":"JANATA"},"Denis","6.A",0,null,0,0,null,0,0,0]
["3.",{"$f":"B103","v":"JINDŘIŠEK"},"Alex Jiří","6.A",0,null,0,0,null,0,0,0]
["4.",{"$f":"B104","v":"MARŠÁLEK"},"Ondřej","6.A",0,null,0,0,null,0,0,0]
["5.",{"$f":"B105","v":"MLATEČEK"},"Patrik","6.A",0,null,0,0,null,0,0,0]
["6.",{"$f":"B106","v":"SCHOLZ"},"Matyáš","6.A",0,null,0,0,null,0,0,0]
["7.",{"$f":"B107","v":"TOMÁŠ"},"Jakub","6.A",0,null,0,0,null,0,0,0]
["8.",{"$f":"B108","v":"VÁCLAVÍK"},"Jan","6.A",0,null,0,0,null,0,0,0]
["9.",{"$f":"B109","v":"VEČEŘA"},"David","6.A",0,null,0,0,null,0,0,0]
["10.",{"$f":"B110","v":"VYBÍRAL"},"Radim","6.A",0,null,0,0,null,0,0,0]
["11.",{"$f":"B111","v":"BERISHA"},"David","6.B",0,null,0,0,null,0,0,0]
["12.",{"$f":"B112","v":"EFENBERK"},"Šimon","6.B",28.3,null,"Jilemnice  16.06.22",459.4836600835207,null,0,0,0]
["13.",{"$f":"B113","v":"FEJKL"},"Antonín","6.B",33.090000000000003,null,"Jilemnice  16.06.22",401.93206786999644,null,0,0,0]
["14.",{"$f":"B114","v":"GOTTSTEIN"},"Matouš","6.B",33.5,null,"Jilemnice  16.06.22",397.77059262957937,null,0,0,0]
["15.",{"$f":"B115","v":"HÁK"},"Šimon","6.B",0,null,0,0,null,0,0,0]
["16.",{"$f":"B116","v":"POVAŽANEC"},"Lukáš","6.B",0,null,0,0,null,0,0,0]
["17.",{"$f":"B117","v":"VANCL"},"Jakub","6.B",0,null,0,0,null,0,0,0]
["18.",{"$f":"B118","v":"VANCL"},"Miroslav","6.B",0,null,0,0,null,0,0,0]
["19.",{"$f":"B119","v":"VOTOČEK"},"Michal","6.B",0,null,0,0,null,0,0,0]
["20.",{"$f":"B120","v":"BOUKAL"},"Jakub","7.A",0,null,0,0,null,0,0,0]
["21.",{"$f":"B121","v":"DEMČUK"},"Ilja","7.A",0,null,0,0,null,0,0,0]
["22.",{"$f":"B122","v":"FAISTAUER"},"Kryštof","7.A",0,null,0,0,null,0,0,0]
["23.",{"$f":"B123","v":"FRK"},"Matyáš","7.A",0,null,0,0,null,0,0,0]
["24.",{"$f":"B124","v":"HUBÁLOVSKÝ"},"Marek","7.A",0,null,0,0,null,0,0,0]
["25.",{"$f":"B125","v":"MAŘAS"},"Dominik","7.A",0,null,0,0,null,0,0,0]
["26.",{"$f":"B126","v":"MAŤÁTKO"},"Jakub","7.A",0,null,0,0,null,0,0,0]
["27.",{"$f":"B127","v":"MERY"},"Luboš","7.A",0,null,0,0,null,0,0,0]
["28.",{"$f":"B128","v":"NOVOTNÝ"},"Matěj","7.A",0,null,0,0,null,0,0,0]
["29.",{"$f":"B129","v":"ŘEHOŘEK"},"Vojtěch","7.A",0,null,0,0,null,0,0,0]
["30.",{"$f":"B130","v":"ŠÍR"},"Matyáš","7.A",0,null,0,0,null,0,0,0]
["31.",{"$f":"B131","v":"TORÁČ"},"Tomáš","7.A",0,null,0,0,null,0,0,0]
["32.",{"$f":"B132","v":"ULLMAN"},"Šimon","7.A",0,null,0,0,null,0,0,0]
["33.",{"$f":"B133","v":"VÁCLAVÍK"},"Ondřej","7.A",0,null,0,0,null,0,0,0]
["34.",{"$f":"B134","v":"AUERSWALD"},"Daniel","7.B",0,null,0,0,null,0,0,0]
["35.",{"$f":"B135","v":"BODLÁK"},"Vladimír","7.B",0,null,0,0,null,0,0,0]
["36.",{"$f":"B136","v":"BUDÍN"},"Martin","7.B",0,null,0,0,null,0,0,0]
["37.",{"$f":"B137","v":"DVOŘÁK"},"Dominik","7.B",0,null,0,0,null,0,0,0]
["38.",{"$f":"B138","v":"FIŠERA"},"Vojtěch","7.B",0,null,0,0,null,0,0,0]
["39.",{"$f":"B139","v":"JINDŘIŠEK"},"Vít","7.B",0,null,0,0,null,0,0,0]
["40.",{"$f":"B140","v":"JIROUŠ"},"Matouš","7.B",0,null,0,0,null,0,0,0]
["41.",{"$f":"B141","v":"KERLE"},"Marek","7.B",0,null,0,0,null,0,0,0]
["42.",{"$f":"B142","v":"LUKEŠ"},"Jakub","7.B",0,null,0,0,null,0,0,0]
["43.",{"$f":"B143","v":"OTT"},"Matyáš","7.B",22.13,null,"Jilemnice  11.01.22",570.33025257363511,null,0,0,0]
["44.",{"$f":"B144","v":"POKORNÝ"},"Matyáš","7.B",0,null,0,0,null,0,0,0]
["45.",{"$f":"B145","v":"POLÁČEK"},"Matyáš","7.B",0,null,0,0,null,0,0,0]
["46.",{"$f":"B146","v":"SOUKUP"},"Patrik","7.B",0,null,0,0,null,0,0,0]
["47.",{"$f":"B147","v":"VALENTA"},"Jakub","7.B",0,null,0,0,null,0,0,0]
["48.",{"$f":"B148","v":"VRBATA"},"Dominik","7.B",21.7,null,"Jilemnice  11.01.22",580.40495762044407,null,0,0,0]
["49.",{"$f":"B149","v":"FEJKL"},"Jan","8.A",0,null,0,0,null,0,33.299999999999997,0]
["50.",{"$f":"B150","v":"KOTYK"},"Tadeáš","8.A",0,null,0,0,null,0,0,0]
["51.",{"$f":"B151","v":"KRAUSE"},"Tadeáš","8.A",0,null,0,0,null,0,30.25,0]
["52.",{"$f":"B152","v":"LEŠÁK"},"Martin","8.A",0,null,0,0,null,0,0,0]
["53.",{"$f":"B153","v":"NECHANICKÝ"},"David","8.A",0,null,0,0,null,0,0,0]
["54.",{"$f":"B154","v":"ŘEHOŘEK"},"Jan","8.A",0,null,0,0,null,0,0,0]
["55.",{"$f":"B155","v":"SOUKUP"},"Ondřej","8.A",0,null,0,0,null,0,0,0]
["56.",{"$f":"B156","v":"SPANILÝ"},"David","8.A",0,null,0,0,null,0,0,0]
["57.",{"$f":"B157","v":"ČADAN"},"Benjamín","8.B",0,null,0,0,null,0,0,0]
["58.",{"$f":"B158","v":"ČERNÝ"},"Michal","8.B",0,null,0,0,null,0,0,0]
["59.",{"$f":"B159","v":"DOLEJŠÍ"},"David","8.B",0,null,0,0,null,0,0,0]
["60.",{"$f":"B160","v":"NOVÁK"},"Matěj","8.B",0,null,0,0,null,0,0,0]
["61.",{"$f":"B161","v":"POVAŽANEC"},"Martin","8.B",0,null,0,0,null,0,0,0]
["62.",{"$f":"B162","v":"RICHTER"},"Jakub","8.B",0,null,0,0,null,0,0,0]
["63.",{"$f":"B163","v":"ROZUMEK"},"Adam","8.B",0,null,0,0,null,0,0,0]
["64.",{"$f":"B164","v":"VALENTA"},"František","8.B",0,null,0,0,null,0,0,0]
["65.",{"$f":"B165","v":"ZAPLATÍLEK"},"Josef","8.B",0,null,0,0,null,0,0,0]
["66.",{"$f":"B166","v":"ERBEN"},"Viktor","9.A",0,null,0,0,null,0,0,0]
["67.",{"$f":"B167","v":"FRANC"},"Daniel","9.A",0,null,0,0,null,0,38.15,0]
["68.",{"$f":"B168","v":"JINDŘIŠEK"},"Matyáš","9.A",0,null,0,0,null,0,0,33.200000000000003]
["69.",{"$f":"B169","v":"KOLAČNÝ"},"Štěpán","9.A",0,null,0,0,null,0,29.45,0]
["70.",{"$f":"B170","v":"KRISTAN"},"Jáchym","9.A",0,null,0,0,null,0,0,0]
["71.",{"$f":"B171","v":"NGUYEN"},"David","9.A",0,null,0,0,null,0,0,0]
["72.",{"$f":"B172","v":"NOVOTNÝ"},"Jan","9.A",0,null,0,0,null,0,33.299999999999997,37.799999999999997]
["73.",{"$f":"B173","v":"RÁB"},"Adam","9.A",0,null,0,0,null,0,0,0]
["74.",{"$f":"B174","v":"REPASKÝ"},"Jakub","9.A",0,null,0,0,null,0,0,0]
["75.",{"$f":"B175","v":"SKÁLA"},"Jan","9.A",0,null,0,0,null,0,27.75,0]
["76.",{"$f":"B176","v":"ŠPULÁK"},"Jakub","9.A",18.64,null,"Jilemnice  11.01.22",665.52284131876706,null,0,24.9,25.05]
["77.",{"$f":"B177","v":"VALENTA"},"Tomáš","9.A",0,null,0,0,null,0,0,0]
["78.",{"$f":"B178","v":"VANCL"},"Jiří","9.A",0,null,0,0,null,0,0,0]
["79.",{"$f":"B179","v":"VAŠÍČEK"},"David","9.A",0,null,0,0,null,0,0,0]
["80.",{"$f":"B180","v":"ZOUHAR"},"Ondřej","9.A",0,null,0,0,null,0,0,0]
["81.",{"$f":"B181","v":"ZUZÁNEK"},"Filip","9.A",0,null,0,0,null,0,0,0]
[]
[]
[]
[]
[]
[]
[]
[]
[]
[]
[]
[]
[]
[]
[]
[]
[null,"EXNER","Tomáš","6.A",33,null,"Nová Paka  06.0322",{"$f":"IF(E101=0,0,(1000000000 - 313216 / E101 + 34538300 / E101*2 - 1698600000 / E101*3 + 32198000000 / E101*4)/11000000-29)","v":402.859403261708}]
[null,"JANATA","Denis","6.A",null,null,null,0]
[null,"JINDŘIŠEK","Alex Jiří","6.A",null,null,null,0]
[null,"MARŠÁLEK","Ondřej","6.A",null,null,null,0]
[null,"MLATEČEK","Patrik","6.A",null,null,null,0]
[null,"SCHOLZ","Matyáš","6.A",null,null,null,0]
[null,"TOMÁŠ","Jakub","6.A",null,null,null,0]
[null,"VÁCLAVÍK","Jan","6.A",null,null,null,0]
[null,"VEČEŘA","David","6.A",null,null,null,0]
[null,"VYBÍRAL","Radim","6.A",null,null,null,0]
[null,"BERISHA","David","6.B",null,null,null,0]
[null,"EFENBERK","Šimon","6.B",28.3,null,"Jilemnice  16.06.22",459.4836600835207]
[null,"FEJKL","Antonín","6.B",33.090000000000003,null,"Jilemnice  16.06.22",401.93206786999644]
[null,"GOTTSTEIN","Matouš","6.B",33.5,null,"Jilemnice  16.06.22",397.77059262957937]
[null,"HÁK","Šimon","6.B",null,null,null,0]
[null,"POVAŽANEC","Lukáš","6.B",null,null,null,0]
[null,"VANCL","Jakub","6.B",null,null,null,0]
[null,"VANCL","Miroslav","6.B",null,null,null,0]
[null,"VOTOČEK","Michal","6.B",null,null,null,0]
[null,"BOUKAL","Jakub","7.A",null,null,null,0]
[null,"DEMČUK","Ilja","7.A",null,null,null,0]
[null,"FAISTAUER","Kryštof","7.A",null,null,null,0]
[null,"FRK","Matyáš","7.A",null,null,null,0]
[null,"HUBÁLOVSKÝ","Marek","7.A",null,null,null,0]
[null,"MAŘAS","Dominik","7.A",null,null,null,0]
[null,"MAŤÁTKO","Jakub","7.A",null,null,null,0]
[null,"MERY","Luboš","7.A",null,null,null,0]
[null,"NOVOTNÝ","Matěj","7.A",null,null,null,0]
[null,"ŘEHOŘEK","Vojtěch","7.A",null,null,null,0]
[null,"ŠÍR","Matyáš","7.A",null,null,null,0]
[null,"TORÁČ","Tomáš","7.A",null,null,null,0]
[null,"ULLMAN","Šimon","7.A",null,null,null,0]
[null,"VÁCLAVÍK","Ondřej","7.A",null,null,null,{"$f":"IF(E133=0,0,(1000000000 - 313216 / E133 + 34538300 / E133*2 - 1698600000 / E133*3 + 32198000000 / E133*4)/11000000-29)","v":0}]
[null,"AUERSWALD","Daniel","7.B",null,null,null,0]
[null,"BODLÁK","Vladimír","7.B",null,null,null,0]
[null,"BUDÍN","Martin","7.B",null,null,null,0]
[null,"DVOŘÁK","Dominik","7.B",null,null,null,0]
[null,"FIŠERA","Vojtěch","7.B",null,null,null,0]
[null,"JINDŘIŠEK","Vít","7.B",null,null,null,0]
[null,"JIROUŠ","Matouš","7.B",null,null,null,0]
[null,"KERLE","Marek","7.B",null,null,null,0]
[null,"LUKEŠ","Jakub","7.B",null,null,null,0]
[null,"OTT","Matyáš","7.B",22.13,null,"Jilemnice  11.01.22",570.33025257363511]
[null,"POKORNÝ","Matyáš","7.B",null,null,null,0]
[null,"POLÁČEK","Matyáš","7.B",null,null,null,0]
[null,"SOUKUP","Patrik","7.B",null,null,null,0]
[null,"VALENTA","Jakub","7.B",null,null,null,0]
[null,"VRBATA","Dominik","7.B",21.7,null,"Jilemnice  11.01.22",580.40495762044407]
[null,"FEJKL","Jan","8.A",null,null,null,0,null,null,33.299999999999997]
[null,"KOTYK","Tadeáš","8.A",null,null,null,0]
[null,"KRAUSE","Tadeáš","8.A",null,null,null,0,null,null,30.25]
[null,"LEŠÁK","Martin","8.A",null,null,null,0]
[null,"NECHANICKÝ","David","8.A",null,null,null,0]
[null,"ŘEHOŘEK","Jan","8.A",null,null,null,0]
[null,"SOUKUP","Ondřej","8.A",null,null,null,0]
[null,"SPANILÝ","David","8.A",null,null,null,0]
[null,"ČADAN","Benjamín","8.B",null,null,null,0]
[null,"ČERNÝ","Michal","8.B",null,null,null,0]
[null,"DOLEJŠÍ","David","8.B",null,null,null,0]
[null,"NOVÁK","Matěj","8.B",null,null,null,0]
[null,"POVAŽANEC","Martin","8.B",null,null,null,0]
[null,"RICHTER","Jakub","8.B",null,null,null,0]
[null,"ROZUMEK","Adam","8.B",null,null,null,0]
[null,"VALENTA","František","8.B",null,null,null,0]
[null,"ZAPLATÍLEK","Josef","8.B",null,null,null,{"$f":"IF(E165=0,0,(1000000000 - 313216 / E165 + 34538300 / E165*2 - 1698600000 / E165*3 + 32198000000 / E165*4)/11000000-29)","v":0}]
[null,"ERBEN","Viktor","9.A",null,null,null,0]
[null,"FRANC","Daniel","9.A",null,null,null,0,null,null,38.15]
[null,"JINDŘIŠEK","Matyáš","9.A",null,null,null,0,null,null,null,33.200000000000003]
[null,"KOLAČNÝ","Štěpán","9.A",null,null,null,0,null,null,29.45]
[null,"KRISTAN","Jáchym","9.A",null,null,null,0]
[null,"NGUYEN","David","9.A"]
[null,"NOVOTNÝ","Jan","9.A",null,null,null,{"$f":"IF(E172=0,0,(1000000000 - 313216 / E172 + 34538300 / E172*2 - 1698600000 / E172*3 + 32198000000 / E172*4)/11000000-29)","v":0},null,null,33.299999999999997,37.799999999999997]
[null,"RÁB","Adam","9.A",null,null,null,0]
[null,"REPASKÝ","Jakub","9.A",null,null,null,0]
[null,"SKÁLA","Jan","9.A",null,null,null,0,null,null,27.75]
[null,"ŠPULÁK","Jakub","9.A",18.64,null,"Jilemnice  11.01.22",665.52284131876706,null,null,24.9,25.05]
[null,"VALENTA","Tomáš","9.A",null,null,null,0]
[null,"VANCL","Jiří","9.A",null,null,null,0]
[null,"VAŠÍČEK","David","9.A",null,null,null,0]
[null,"ZOUHAR","Ondřej","9.A",null,null,null,0]
[null,"ZUZÁNEK","Filip","9.A",null,null,null,0]

{"sheet":"SHYBY","index":19,"n_rows":181,"n_cols":12,"rows_kept":181,"cut":false,"hidden":false,"merged":[]}
[null,null,"VÝKONY  2021 - 2022",null,null,null,"SHYBY","CHLAPCI  6. -  9.  ROČ."]
[null,"stav  k ",{"$f":"TODAY()","v":"2022-06-27"},null,null,null,null,null,null,"20  - 21","19  - 20","18  - 19"]
[]
["1.",{"$f":"B101","v":"EXNER"},{"$f":"C101","v":"Tomáš"},"6.A",2," ","Jilemnice  07.06.22",150," ",0,0,0]
["2.",{"$f":"B102","v":"JANATA"},"Denis","6.A",0," ",{"$f":"G102","v":0},0," ",{"$f":"J102","v":0},0,0]
["3.",{"$f":"B103","v":"JINDŘIŠEK"},"Alex Jiří","6.A",0," ",{"$f":"G103","v":0},0," ",{"$f":"J103","v":0},0,0]
["4.",{"$f":"B104","v":"MARŠÁLEK"},"Ondřej","6.A",0," ",{"$f":"G104","v":0},0," ",{"$f":"J104","v":0},0,0]
["5.",{"$f":"B105","v":"MLATEČEK"},"Patrik","6.A",0," ",{"$f":"G105","v":0},0," ",{"$f":"J105","v":0},0,0]
["6.",{"$f":"B106","v":"SCHOLZ"},"Matyáš","6.A",0," ",{"$f":"G106","v":0},0," ",{"$f":"J106","v":0},0,0]
["7.",{"$f":"B107","v":"TOMÁŠ"},"Jakub","6.A",4," ",{"$f":"G107","v":"Jilemnice  12.04.22"},300," ",{"$f":"J107","v":0},0,0]
["8.",{"$f":"B108","v":"VÁCLAVÍK"},"Jan","6.A",7," ",{"$f":"G108","v":"Jilemnice  07.06.22"},525," ",{"$f":"J108","v":0},0,0]
["9.",{"$f":"B109","v":"VEČEŘA"},"David","6.A",0," ",{"$f":"G109","v":0},0," ",{"$f":"J109","v":0},0,0]
["10.",{"$f":"B110","v":"VYBÍRAL"},"Radim","6.A",7," ",{"$f":"G110","v":"Jilemnice  12.04.22"},525," ",{"$f":"J110","v":0},0,0]
["11.",{"$f":"B111","v":"BERISHA"},"David","6.B",0," ",{"$f":"G111","v":0},0," ",{"$f":"J111","v":0},0,0]
["12.",{"$f":"B112","v":"EFENBERK"},"Šimon","6.B",0," ",{"$f":"G112","v":0},0," ",{"$f":"J112","v":0},0,0]
["13.",{"$f":"B113","v":"FEJKL"},"Antonín","6.B",0," ",{"$f":"G113","v":0},0," ",{"$f":"J113","v":0},0,0]
["14.",{"$f":"B114","v":"GOTTSTEIN"},"Matouš","6.B",2," ",{"$f":"G114","v":"Jilemnice  23.11.21"},150," ",{"$f":"J114","v":0},0,0]
["15.",{"$f":"B115","v":"HÁK"},"Šimon","6.B",0," ",{"$f":"G115","v":0},0," ",{"$f":"J115","v":0},0,0]
["16.",{"$f":"B116","v":"POVAŽANEC"},"Lukáš","6.B",0," ",{"$f":"G116","v":0},0," ",{"$f":"J116","v":0},0,0]
["17.",{"$f":"B117","v":"VANCL"},"Jakub","6.B",1," ",{"$f":"G117","v":"Jilemnice  03.06.22"},75," ",{"$f":"J117","v":0},0,0]
["18.",{"$f":"B118","v":"VANCL"},"Miroslav","6.B",0," ",{"$f":"G118","v":0},0," ",{"$f":"J118","v":0},0,0]
["19.",{"$f":"B119","v":"VOTOČEK"},"Michal","6.B",0," ",{"$f":"G119","v":0},0," ",{"$f":"J119","v":0},0,0]
["20.",{"$f":"B120","v":"BOUKAL"},"Jakub","7.A",0," ",{"$f":"G120","v":0},0," ",{"$f":"J120","v":0},0,0]
["21.",{"$f":"B121","v":"DEMČUK"},"Ilja","7.A",1," ",{"$f":"G121","v":"Jilemnice  19.11.21"},75," ",{"$f":"J121","v":0},0,0]
["22.",{"$f":"B122","v":"FAISTAUER"},"Kryštof","7.A",0," ",{"$f":"G122","v":0},0," ",{"$f":"J122","v":0},0,0]
["23.",{"$f":"B123","v":"FRK"},"Matyáš","7.A",0," ",{"$f":"G123","v":0},0," ",{"$f":"J123","v":0},0,0]
["24.",{"$f":"B124","v":"HUBÁLOVSKÝ"},"Marek","7.A",0," ",{"$f":"G124","v":0},0," ",{"$f":"J124","v":0},0,0]
["25.",{"$f":"B125","v":"MAŘAS"},"Dominik","7.A",1," ",{"$f":"G125","v":"Jilemnice  29.11.21"},75," ",{"$f":"J125","v":0},0,0]
["26.",{"$f":"B126","v":"MAŤÁTKO"},"Jakub","7.A",0," ",{"$f":"G126","v":0},0," ",{"$f":"J126","v":0},0,0]
["27.",{"$f":"B127","v":"MERY"},"Luboš","7.A",0," ",{"$f":"G127","v":0},0," ",{"$f":"J127","v":0},0,0]
["28.",{"$f":"B128","v":"NOVOTNÝ"},"Matěj","7.A",0," ",{"$f":"G128","v":0},0," ",{"$f":"J128","v":0},0,0]
["29.",{"$f":"B129","v":"ŘEHOŘEK"},"Vojtěch","7.A",0," ",{"$f":"G129","v":0},0," ",{"$f":"J129","v":0},0,0]
["30.",{"$f":"B130","v":"ŠÍR"},"Matyáš","7.A",0," ",{"$f":"G130","v":0},0," ",{"$f":"J130","v":0},0,0]
["31.",{"$f":"B131","v":"TORÁČ"},"Tomáš","7.A",0," ",{"$f":"G131","v":0},0," ",{"$f":"J131","v":0},0,0]
["32.",{"$f":"B132","v":"ULLMAN"},"Šimon","7.A",8," ",{"$f":"G132","v":"Jilemnice  11.04.22"},600," ",{"$f":"J132","v":0},0,0]
["33.",{"$f":"B133","v":"VÁCLAVÍK"},"Ondřej","7.A",11," ",{"$f":"G133","v":"Jilemnice  19.11.21"},825," ",{"$f":"J133","v":0},0,0]
["34.",{"$f":"B134","v":"AUERSWALD"},"Daniel","7.B",3," ",{"$f":"G134","v":"Jilemnice  19.11.21"},225," ",{"$f":"J134","v":0},0,0]
["35.",{"$f":"B135","v":"BODLÁK"},"Vladimír","7.B",0," ",{"$f":"G135","v":0},0," ",{"$f":"J135","v":0},0,0]
["36.",{"$f":"B136","v":"BUDÍN"},"Martin","7.B",5," ",{"$f":"G136","v":"Jilemnice  29.11.21"},375," ",{"$f":"J136","v":0},0,0]
["37.",{"$f":"B137","v":"DVOŘÁK"},"Dominik","7.B",0," ",{"$f":"G137","v":0},0," ",{"$f":"J137","v":0},0,0]
["38.",{"$f":"B138","v":"FIŠERA"},"Vojtěch","7.B",0," ",{"$f":"G138","v":0},0," ",{"$f":"J138","v":0},0,0]
["39.",{"$f":"B139","v":"JINDŘIŠEK"},"Vít","7.B",15," ",{"$f":"G139","v":"Jilemnice  13.06.22"},1125," ",{"$f":"J139","v":0},0,0]
["40.",{"$f":"B140","v":"JIROUŠ"},"Matouš","7.B",2," ",{"$f":"G140","v":"Jilemnice  19.11.21"},150," ",{"$f":"J140","v":0},0,0]
["41.",{"$f":"B141","v":"KERLE"},"Marek","7.B",12," ",{"$f":"G141","v":"Jilemnice  06.01.22"},900," ",{"$f":"J141","v":0},0,0]
["42.",{"$f":"B142","v":"LUKEŠ"},"Jakub","7.B",7," ",{"$f":"G142","v":"Jilemnice  19.11.21"},525," ",{"$f":"J142","v":0},0,0]
["43.",{"$f":"B143","v":"OTT"},"Matyáš","7.B",9," ",{"$f":"G143","v":"Jilemnice  13.06.22"},675," ",{"$f":"J143","v":0},0,0]
["44.",{"$f":"B144","v":"POKORNÝ"},"Matyáš","7.B",14," ",{"$f":"G144","v":"Jilemnice  06.01.22"},1050," ",{"$f":"J144","v":0},0,0]
["45.",{"$f":"B145","v":"POLÁČEK"},"Matyáš","7.B",0," ",{"$f":"G145","v":0},0," ",{"$f":"J145","v":0},0,0]
["46.",{"$f":"B146","v":"SOUKUP"},"Patrik","7.B",0," ",{"$f":"G146","v":0},0," ",{"$f":"J146","v":0},0,0]
["47.",{"$f":"B147","v":"VALENTA"},"Jakub","7.B",0," ",{"$f":"G147","v":0},0," ",{"$f":"J147","v":0},0,0]
["48.",{"$f":"B148","v":"VRBATA"},"Dominik","7.B",9," ",{"$f":"G148","v":"Jilemnice  06.01.22"},675," ",{"$f":"J148","v":0},0,0]
["49.",{"$f":"B149","v":"FEJKL"},"Jan","8.A",0," ",{"$f":"G149","v":0},0," ",{"$f":"J149","v":0},0,0]
["50.",{"$f":"B150","v":"KOTYK"},"Tadeáš","8.A",0," ",{"$f":"G150","v":0},0," ",{"$f":"J150","v":0},0,0]
["51.",{"$f":"B151","v":"KRAUSE"},"Tadeáš","8.A",0," ",{"$f":"G151","v":0},0," ",{"$f":"J151","v":0},0,0]
["52.",{"$f":"B152","v":"LEŠÁK"},"Martin","8.A",0," ",{"$f":"G152","v":0},0," ",{"$f":"J152","v":0},0,0]
["53.",{"$f":"B153","v":"NECHANICKÝ"},"David","8.A",4," ",{"$f":"G153","v":"Jilemnice  22.11.21"},300," ",{"$f":"J153","v":0},0,0]
["54.",{"$f":"B154","v":"ŘEHOŘEK"},"Jan","8.A",0," ",{"$f":"G154","v":0},0," ",{"$f":"J154","v":0},0,0]
["55.",{"$f":"B155","v":"SOUKUP"},"Ondřej","8.A",0," ",{"$f":"G155","v":0},0," ",{"$f":"J155","v":0},0,0]
["56.",{"$f":"B156","v":"SPANILÝ"},"David","8.A",4," ",{"$f":"G156","v":"Jilemnice  22.11.21"},300," ",{"$f":"J156","v":0},0,0]
["57.",{"$f":"B157","v":"ČADAN"},"Benjamín","8.B",0," ",{"$f":"G157","v":0},0," ",{"$f":"J157","v":0},0,0]
["58.",{"$f":"B158","v":"ČERNÝ"},"Michal","8.B",0," ",{"$f":"G158","v":0},0," ",{"$f":"J158","v":0},0,0]
["59.",{"$f":"B159","v":"DOLEJŠÍ"},"David","8.B",2," ",{"$f":"G159","v":"Jilemnice  22.11.21"},150," ",{"$f":"J159","v":0},0,0]
["60.",{"$f":"B160","v":"NOVÁK"},"Matěj","8.B",6," ",{"$f":"G160","v":"Jilemnice  22.11.21"},450," ",{"$f":"J160","v":0},0,0]
["61.",{"$f":"B161","v":"POVAŽANEC"},"Martin","8.B",1," ",{"$f":"G161","v":"Jilemnice  22.11.21"},75," ",{"$f":"J161","v":0},0,0]
["62.",{"$f":"B162","v":"RICHTER"},"Jakub","8.B",0," ",{"$f":"G162","v":0},0," ",{"$f":"J162","v":0},0,0]
["63.",{"$f":"B163","v":"ROZUMEK"},"Adam","8.B",0," ",{"$f":"G163","v":0},0," ",{"$f":"J163","v":0},0,0]
["64.",{"$f":"B164","v":"VALENTA"},"František","8.B",2," ",{"$f":"G164","v":"Jilemnice  22.11.21"},150," ",{"$f":"J164","v":0},0,0]
["65.",{"$f":"B165","v":"ZAPLATÍLEK"},"Josef","8.B",1," ",{"$f":"G165","v":"Jilemnice  22.11.21"},75," ",{"$f":"J165","v":0},0,0]
["66.",{"$f":"B166","v":"ERBEN"},"Viktor","9.A",3," ",{"$f":"G166","v":"Jilemnice  13.06.22"},225," ",{"$f":"J166","v":0},0,0]
["67.",{"$f":"B167","v":"FRANC"},"Daniel","9.A",0," ",{"$f":"G167","v":0},0," ",{"$f":"J167","v":0},0,0]
["68.",{"$f":"B168","v":"JINDŘIŠEK"},"Matyáš","9.A",10," ",{"$f":"G168","v":"Jilemnice  13.06.22"},750," ",{"$f":"J168","v":0},0,0]
["69.",{"$f":"B169","v":"KOLAČNÝ"},"Štěpán","9.A",1," ",{"$f":"G169","v":"Jilemnice  22.11.21"},75," ",{"$f":"J169","v":0},0,0]
["70.",{"$f":"B170","v":"KRISTAN"},"Jáchym","9.A",0," ",{"$f":"G170","v":0},0," ",{"$f":"J170","v":0},0,0]
["71.",{"$f":"B171","v":"NGUYEN"},"David","9.A",2," ",{"$f":"G171","v":"Jilemnice  22.11.21"},150," ",{"$f":"J171","v":0},0,0]
["72.",{"$f":"B172","v":"NOVOTNÝ"},"Jan","9.A",5," ",{"$f":"G172","v":"Jilemnice  13.06.22"},375," ",{"$f":"J172","v":0},0,0]
["73.",{"$f":"B173","v":"RÁB"},"Adam","9.A",0," ",{"$f":"G173","v":0},0," ",{"$f":"J173","v":0},0,0]
["74.",{"$f":"B174","v":"REPASKÝ"},"Jakub","9.A",6," ",{"$f":"G174","v":"Jilemnice  22.11.21"},450," ",{"$f":"J174","v":0},0,0]
["75.",{"$f":"B175","v":"SKÁLA"},"Jan","9.A",12," ",{"$f":"G175","v":"Jilemnice  10.01.22"},900," ",{"$f":"J175","v":0},0,0]
["76.",{"$f":"B176","v":"ŠPULÁK"},"Jakub","9.A",0," ",{"$f":"G176","v":0},0," ",{"$f":"J176","v":0},0,0]
["77.",{"$f":"B177","v":"VALENTA"},"Tomáš","9.A",8," ",{"$f":"G177","v":"Jilemnice  22.11.21"},600," ",{"$f":"J177","v":0},0,0]
["78.",{"$f":"B178","v":"VANCL"},"Jiří","9.A",1," ",{"$f":"G178","v":"Jilemnice  22.11.21"},75," ",{"$f":"J178","v":0},0,0]
["79.",{"$f":"B179","v":"VAŠÍČEK"},"David","9.A",6," ",{"$f":"G179","v":"Jilemnice  22.11.21"},450," ",{"$f":"J179","v":0},0,0]
["80.",{"$f":"B180","v":"ZOUHAR"},"Ondřej","9.A",1," ",{"$f":"G180","v":"Jilemnice  22.11.21"},75," ",{"$f":"J180","v":0},0,0]
["81.",{"$f":"B181","v":"ZUZÁNEK"},"Filip","9.A",14," ",{"$f":"G181","v":"Jilemnice  22.11.21"},1050," ",{"$f":"J181","v":0},0,0]
[]
[]
[]
[]
[]
[]
[]
[]
[]
[]
[]
[]
[]
[]
[]
[]
[null,"EXNER","Tomáš","6.A",2,null,"Jilemnice  07.06.22",{"$f":"IF(E101=0,0,E101*75)","v":150}]
[null,"JANATA","Denis","6.A",null,null,null,0]
[null,"JINDŘIŠEK","Alex Jiří","6.A",null,null,null,0]
[null,"MARŠÁLEK","Ondřej","6.A",null,null,null,0]
[null,"MLATEČEK","Patrik","6.A",null,null,null,0]
[null,"SCHOLZ","Matyáš","6.A",null,null,null,0]
[null,"TOMÁŠ","Jakub","6.A",4,null,"Jilemnice  12.04.22",300]
[null,"VÁCLAVÍK","Jan","6.A",7,null,"Jilemnice  07.06.22",525]
[null,"VEČEŘA","David","6.A",null,null,null,0]
[null,"VYBÍRAL","Radim","6.A",7,null,"Jilemnice  12.04.22",525]
[null,"BERISHA","David","6.B",null,null,null,0]
[null,"EFENBERK","Šimon","6.B",null,null,null,0]
[null,"FEJKL","Antonín","6.B",null,null,null,0]
[null,"GOTTSTEIN","Matouš","6.B",2,null,"Jilemnice  23.11.21",150]
[null,"HÁK","Šimon","6.B",null,null,null,0]
[null,"POVAŽANEC","Lukáš","6.B",null,null,null,0]
[null,"VANCL","Jakub","6.B",1,null,"Jilemnice  03.06.22",75]
[null,"VANCL","Miroslav","6.B",null,null,null,0]
[null,"VOTOČEK","Michal","6.B",null,null,null,0]
[null,"BOUKAL","Jakub","7.A",null,null,null,0]
[null,"DEMČUK","Ilja","7.A",1,null,"Jilemnice  19.11.21",75]
[null,"FAISTAUER","Kryštof","7.A",null,null,null,0]
[null,"FRK","Matyáš","7.A",null,null,null,0]
[null,"HUBÁLOVSKÝ","Marek","7.A",null,null,null,0]
[null,"MAŘAS","Dominik","7.A",1,null,"Jilemnice  29.11.21",75]
[null,"MAŤÁTKO","Jakub","7.A",null,null,null,0]
[null,"MERY","Luboš","7.A",null,null,null,0]
[null,"NOVOTNÝ","Matěj","7.A",null,null,null,0]
[null,"ŘEHOŘEK","Vojtěch","7.A",null,null,null,0]
[null,"ŠÍR","Matyáš","7.A",null,null,null,0]
[null,"TORÁČ","Tomáš","7.A",null,null,null,0]
[null,"ULLMAN","Šimon","7.A",8,null,"Jilemnice  11.04.22",600]
[null,"VÁCLAVÍK","Ondřej","7.A",11,null,"Jilemnice  19.11.21",{"$f":"IF(E133=0,0,E133*75)","v":825}]
[null,"AUERSWALD","Daniel","7.B",3,null,"Jilemnice  19.11.21",225]
[null,"BODLÁK","Vladimír","7.B",null,null,null,0]
[null,"BUDÍN","Martin","7.B",5,null,"Jilemnice  29.11.21",375]
[null,"DVOŘÁK","Dominik","7.B",null,null,null,0]
[null,"FIŠERA","Vojtěch","7.B",null,null,null,0]
[null,"JINDŘIŠEK","Vít","7.B",15,null,"Jilemnice  13.06.22",1125]
[null,"JIROUŠ","Matouš","7.B",2,null,"Jilemnice  19.11.21",150]
[null,"KERLE","Marek","7.B",12,null,"Jilemnice  06.01.22",900]
[null,"LUKEŠ","Jakub","7.B",7,null,"Jilemnice  19.11.21",525]
[null,"OTT","Matyáš","7.B",9,null,"Jilemnice  13.06.22",675]
[null,"POKORNÝ","Matyáš","7.B",14,null,"Jilemnice  06.01.22",1050]
[null,"POLÁČEK","Matyáš","7.B",null,null,null,0]
[null,"SOUKUP","Patrik","7.B",null,null,null,0]
[null,"VALENTA","Jakub","7.B",null,null,null,0]
[null,"VRBATA","Dominik","7.B",9,null,"Jilemnice  06.01.22",675]
[null,"FEJKL","Jan","8.A",null,null,null,0]
[null,"KOTYK","Tadeáš","8.A",null,null,null,0]
[null,"KRAUSE","Tadeáš","8.A",null,null,null,0]
[null,"LEŠÁK","Martin","8.A",null,null,null,0]
[null,"NECHANICKÝ","David","8.A",4,null,"Jilemnice  22.11.21",300]
[null,"ŘEHOŘEK","Jan","8.A",null,null,null,0]
[null,"SOUKUP","Ondřej","8.A",null,null,null,0]
[null,"SPANILÝ","David","8.A",4,null,"Jilemnice  22.11.21",300]
[null,"ČADAN","Benjamín","8.B",null,null,null,0]
[null,"ČERNÝ","Michal","8.B",null,null,null,0]
[null,"DOLEJŠÍ","David","8.B",2,null,"Jilemnice  22.11.21",150]
[null,"NOVÁK","Matěj","8.B",6,null,"Jilemnice  22.11.21",450]
[null,"POVAŽANEC","Martin","8.B",1,null,"Jilemnice  22.11.21",75]
[null,"RICHTER","Jakub","8.B",null,null,null,0]
[null,"ROZUMEK","Adam","8.B",null,null,null,0]
[null,"VALENTA","František","8.B",2,null,"Jilemnice  22.11.21",150]
[null,"ZAPLATÍLEK","Josef","8.B",1,null,"Jilemnice  22.11.21",{"$f":"IF(E165=0,0,E165*75)","v":75}]
[null,"ERBEN","Viktor","9.A",3,null,"Jilemnice  13.06.22",225]
[null,"FRANC","Daniel","9.A",null,null,null,0]
[null,"JINDŘIŠEK","Matyáš","9.A",10,null,"Jilemnice  13.06.22",750]
[null,"KOLAČNÝ","Štěpán","9.A",1,null,"Jilemnice  22.11.21",75]
[null,"KRISTAN","Jáchym","9.A",null,null,null,0]
[null,"NGUYEN","David","9.A",2,null,"Jilemnice  22.11.21",150]
[null,"NOVOTNÝ","Jan","9.A",5,null,"Jilemnice  13.06.22",375]
[null,"RÁB","Adam","9.A",null,null,null,0]
[null,"REPASKÝ","Jakub","9.A",6,null,"Jilemnice  22.11.21",450]
[null,"SKÁLA","Jan","9.A",12,null,"Jilemnice  10.01.22",900]
[null,"ŠPULÁK","Jakub","9.A",null,null,null,0]
[null,"VALENTA","Tomáš","9.A",8,null,"Jilemnice  22.11.21",600]
[null,"VANCL","Jiří","9.A",1,null,"Jilemnice  22.11.21",75]
[null,"VAŠÍČEK","David","9.A",6,null,"Jilemnice  22.11.21",450]
[null,"ZOUHAR","Ondřej","9.A",1,null,"Jilemnice  22.11.21",75]
[null,"ZUZÁNEK","Filip","9.A",14,null,"Jilemnice  22.11.21",1050]

{"sheet":"ŠPLH","index":20,"n_rows":181,"n_cols":12,"rows_kept":181,"cut":false,"hidden":false,"merged":[]}
[null,null,"VÝKONY  2021 - 2022",null,null,null,"ŠPLH","CHLAPCI  6. -  9.  ROČ."]
[null,"stav  k ",{"$f":"TODAY()","v":"2022-06-27"},null,null,null,null,null,null,"20  - 21","19  - 20","18  - 19"]
[null,null,null,null,"VÝKON",null,null,"BODY"]
["1.",{"$f":"B101","v":"EXNER"},{"$f":"C101","v":"Tomáš"},"6.A",0," ",0,0," ",0,0,0]
["2.",{"$f":"B102","v":"JANATA"},"Denis","6.A",0," ",{"$f":"G102","v":0},0," ",{"$f":"J102","v":0},0,0]
["3.",{"$f":"B103","v":"JINDŘIŠEK"},"Alex Jiří","6.A",0," ",{"$f":"G103","v":0},0," ",{"$f":"J103","v":0},0,0]
["4.",{"$f":"B104","v":"MARŠÁLEK"},"Ondřej","6.A",0," ",{"$f":"G104","v":0},0," ",{"$f":"J104","v":0},0,0]
["5.",{"$f":"B105","v":"MLATEČEK"},"Patrik","6.A",0," ",{"$f":"G105","v":0},0," ",{"$f":"J105","v":0},0,0]
["6.",{"$f":"B106","v":"SCHOLZ"},"Matyáš","6.A",25," ",{"$f":"G106","v":"Jilemnice  17.01.22"},225.87953246822397," ",{"$f":"J106","v":0},0,0]
["7.",{"$f":"B107","v":"TOMÁŠ"},"Jakub","6.A",16.97," ",{"$f":"G107","v":"Jilemnice  11.01.22"},236.41494868369281," ",{"$f":"J107","v":0},0,0]
["8.",{"$f":"B108","v":"VÁCLAVÍK"},"Jan","6.A",19.04," ",{"$f":"G108","v":"Jilemnice  11.01.22"},229.99592097333334," ",{"$f":"J108","v":0},0,0]
["9.",{"$f":"B109","v":"VEČEŘA"},"David","6.A",0," ",{"$f":"G109","v":0},0," ",{"$f":"J109","v":0},0,0]
["10.",{"$f":"B110","v":"VYBÍRAL"},"Radim","6.A",4.83," ",{"$f":"G110","v":"Jilemnice  12.04.22"},542.07828667265699," ",{"$f":"J110","v":0},0,0]
["11.",{"$f":"B111","v":"BERISHA"},"David","6.B",0," ",{"$f":"G111","v":0},0," ",{"$f":"J111","v":0},0,0]
["12.",{"$f":"B112","v":"EFENBERK"},"Šimon","6.B",19.510000000000002," ",{"$f":"G112","v":"Jilemnice  11.01.22"},228.99762870402867," ",{"$f":"J112","v":0},0,0]
["13.",{"$f":"B113","v":"FEJKL"},"Antonín","6.B",9.92," ",{"$f":"G113","v":"Jilemnice  11.01.22"},306.9141832875269," ",{"$f":"J113","v":0},0,0]
["14.",{"$f":"B114","v":"GOTTSTEIN"},"Matouš","6.B",6.19," ",{"$f":"G114","v":"Jilemnice  11.01.22"},437.77365615760903," ",{"$f":"J114","v":0},0,0]
["15.",{"$f":"B115","v":"HÁK"},"Šimon","6.B",0," ",{"$f":"G115","v":0},0," ",{"$f":"J115","v":0},0,0]
["16.",{"$f":"B116","v":"POVAŽANEC"},"Lukáš","6.B",0," ",{"$f":"G116","v":0},0," ",{"$f":"J116","v":0},0,0]
["17.",{"$f":"B117","v":"VANCL"},"Jakub","6.B",0," ",{"$f":"G117","v":0},0," ",{"$f":"J117","v":0},0,0]
["18.",{"$f":"B118","v":"VANCL"},"Miroslav","6.B",0," ",{"$f":"G118","v":0},0," ",{"$f":"J118","v":0},0,0]
["19.",{"$f":"B119","v":"VOTOČEK"},"Michal","6.B",0," ",{"$f":"G119","v":0},0," ",{"$f":"J119","v":0},0,0]
["20.",{"$f":"B120","v":"BOUKAL"},"Jakub","7.A",0," ",{"$f":"G120","v":0},0," ",{"$f":"J120","v":0},0,0]
["21.",{"$f":"B121","v":"DEMČUK"},"Ilja","7.A",0," ",{"$f":"G121","v":0},0," ",{"$f":"J121","v":0},0,0]
["22.",{"$f":"B122","v":"FAISTAUER"},"Kryštof","7.A",5.92," ",{"$f":"G122","v":"Jilemnice  28.02.22"},454.44959722054062," ",{"$f":"J122","v":0},0,0]
["23.",{"$f":"B123","v":"FRK"},"Matyáš","7.A",0," ",{"$f":"G123","v":0},0," ",{"$f":"J123","v":0},0,0]
["24.",{"$f":"B124","v":"HUBÁLOVSKÝ"},"Marek","7.A",25," ",{"$f":"G124","v":"Jilemnice  11.03.22"},225.87953246822397," ",{"$f":"J124","v":0},0,0]
["25.",{"$f":"B125","v":"MAŘAS"},"Dominik","7.A",0," ",{"$f":"G125","v":0},0," ",{"$f":"J125","v":0},0,0]
["26.",{"$f":"B126","v":"MAŤÁTKO"},"Jakub","7.A",0," ",{"$f":"G126","v":0},0," ",{"$f":"J126","v":0},0,0]
["27.",{"$f":"B127","v":"MERY"},"Luboš","7.A",0," ",{"$f":"G127","v":0},0," ",{"$f":"J127","v":0},0,0]
["28.",{"$f":"B128","v":"NOVOTNÝ"},"Matěj","7.A",0," ",{"$f":"G128","v":0},0," ",{"$f":"J128","v":0},0,0]
["29.",{"$f":"B129","v":"ŘEHOŘEK"},"Vojtěch","7.A",0," ",{"$f":"G129","v":0},0," ",{"$f":"J129","v":0},0,0]
["30.",{"$f":"B130","v":"ŠÍR"},"Matyáš","7.A",0," ",{"$f":"G130","v":0},0," ",{"$f":"J130","v":0},0,0]
["31.",{"$f":"B131","v":"TORÁČ"},"Tomáš","7.A",0," ",{"$f":"G131","v":0},0," ",{"$f":"J131","v":0},0,0]
["32.",{"$f":"B132","v":"ULLMAN"},"Šimon","7.A",5.51," ",{"$f":"G132","v":"Jilemnice  28.02.22"},483.1202422290865," ",{"$f":"J132","v":0},0,0]
["33.",{"$f":"B133","v":"VÁCLAVÍK"},"Ondřej","7.A",5.92," ",{"$f":"G133","v":"Jilemnice  28.02.22"},454.44959722054062," ",{"$f":"J133","v":0},0,0]
["34.",{"$f":"B134","v":"AUERSWALD"},"Daniel","7.B",7.85," ",{"$f":"G134","v":"Jilemnice  07.01.22"},362.25159339137161," ",{"$f":"J134","v":0},0,0]
["35.",{"$f":"B135","v":"BODLÁK"},"Vladimír","7.B",0," ",{"$f":"G135","v":0},0," ",{"$f":"J135","v":0},0,0]
["36.",{"$f":"B136","v":"BUDÍN"},"Martin","7.B",7.91," ",{"$f":"G136","v":"Jilemnice  28.02.22"},360.17289247563423," ",{"$f":"J136","v":0},0,0]
["37.",{"$f":"B137","v":"DVOŘÁK"},"Dominik","7.B",9.0399999999999991," ",{"$f":"G137","v":"Jilemnice  11.04.22"},326.83243237451325," ",{"$f":"J137","v":0},0,0]
["38.",{"$f":"B138","v":"FIŠERA"},"Vojtěch","7.B",25," ",{"$f":"G138","v":"Jilemnice  11.04.22"},225.87953246822397," ",{"$f":"J138","v":0},0,0]
["39.",{"$f":"B139","v":"JINDŘIŠEK"},"Vít","7.B",4.78," ",{"$f":"G139","v":"Jilemnice  28.02.22"},547.1091217041004," ",{"$f":"J139","v":0},0,0]
["40.",{"$f":"B140","v":"JIROUŠ"},"Matouš","7.B",9.4600000000000009," ",{"$f":"G140","v":"Jilemnice  28.02.22"},316.77381349530651," ",{"$f":"J140","v":0},0,0]
["41.",{"$f":"B141","v":"KERLE"},"Marek","7.B",4.22," ",{"$f":"G141","v":"Jilemnice  17.01.22"},611.9556029412953," ",{"$f":"J141","v":0},0,0]
["42.",{"$f":"B142","v":"LUKEŠ"},"Jakub","7.B",6.04," ",{"$f":"G142","v":"Jilemnice  17.01.22"},446.84088487841058," ",{"$f":"J142","v":0},0,0]
["43.",{"$f":"B143","v":"OTT"},"Matyáš","7.B",8," ",{"$f":"G143","v":"Jilemnice  11.03.22"},357.12073479653333," ",{"$f":"J143","v":0},0,0]
["44.",{"$f":"B144","v":"POKORNÝ"},"Matyáš","7.B",5.85," ",{"$f":"G144","v":"Jilemnice  28.02.22"},459.0421768869972," ",{"$f":"J144","v":0},0,0]
["45.",{"$f":"B145","v":"POLÁČEK"},"Matyáš","7.B",0," ",{"$f":"G145","v":0},0," ",{"$f":"J145","v":0},0,0]
["46.",{"$f":"B146","v":"SOUKUP"},"Patrik","7.B",0," ",{"$f":"G146","v":0},0," ",{"$f":"J146","v":0},0,0]
["47.",{"$f":"B147","v":"VALENTA"},"Jakub","7.B",5.34," ",{"$f":"G147","v":"Jilemnice  07.01.22"},496.38055868893889," ",{"$f":"J147","v":0},0,0]
["48.",{"$f":"B148","v":"VRBATA"},"Dominik","7.B",4.18," ",{"$f":"G148","v":"Jilemnice  17.01.22"},617.27764022622023," ",{"$f":"J148","v":0},0,0]
["49.",{"$f":"B149","v":"FEJKL"},"Jan","8.A",4.07," ",{"$f":"G149","v":"Jilemnice  28.02.22"},632.47048883593777," ",{"$f":"J149","v":0},5.94,0]
["50.",{"$f":"B150","v":"KOTYK"},"Tadeáš","8.A",0," ",{"$f":"G150","v":0},0," ",{"$f":"J150","v":0},0,0]
["51.",{"$f":"B151","v":"KRAUSE"},"Tadeáš","8.A",5.07," ",{"$f":"G151","v":"Jilemnice  28.02.22"},519.37197045935568," ",{"$f":"J151","v":0},10.78,0]
["52.",{"$f":"B152","v":"LEŠÁK"},"Martin","8.A",0," ",{"$f":"G152","v":0},0," ",{"$f":"J152","v":0},0,0]
["53.",{"$f":"B153","v":"NECHANICKÝ"},"David","8.A",6.04," ",{"$f":"G153","v":"Jilemnice  10.01.22"},446.84088487841058," ",{"$f":"J153","v":0},11.08,0]
["54.",{"$f":"B154","v":"ŘEHOŘEK"},"Jan","8.A",9.06," ",{"$f":"G154","v":"Jilemnice  28.02.22"},326.32841547449596," ",{"$f":"J154","v":0},0,0]
["55.",{"$f":"B155","v":"SOUKUP"},"Ondřej","8.A",25," ",{"$f":"G155","v":"Jilemnice  21.03.22"},225.87953246822397," ",{"$f":"J155","v":0},13.3,0]
["56.",{"$f":"B156","v":"SPANILÝ"},"David","8.A",3.81," ",{"$f":"G156","v":"Jilemnice  10.01.22"},671.97939237504806," ",{"$f":"J156","v":0},17.45,0]
["57.",{"$f":"B157","v":"ČADAN"},"Benjamín","8.B",0," ",{"$f":"G157","v":0},0," ",{"$f":"J157","v":0},7.88,0]
["58.",{"$f":"B158","v":"ČERNÝ"},"Michal","8.B",0," ",{"$f":"G158","v":0},0," ",{"$f":"J158","v":0},0,0]
["59.",{"$f":"B159","v":"DOLEJŠÍ"},"David","8.B",13.69," ",{"$f":"G159","v":"Jilemnice  28.02.22"},256.20497747374731," ",{"$f":"J159","v":0},0,0]
["60.",{"$f":"B160","v":"NOVÁK"},"Matěj","8.B",10.46," ",{"$f":"G160","v":"Jilemnice  28.02.22"},296.67368014648815," ",{"$f":"J160","v":0},12.86,0]
["61.",{"$f":"B161","v":"POVAŽANEC"},"Martin","8.B",5.45," ",{"$f":"G161","v":"Jilemnice  11.04.22"},487.70056075637922," ",{"$f":"J161","v":0},0,0]
["62.",{"$f":"B162","v":"RICHTER"},"Jakub","8.B",9.15," ",{"$f":"G162","v":"Jilemnice  28.02.22"},324.09236992228784," ",{"$f":"J162","v":0},0,0]
["63.",{"$f":"B163","v":"ROZUMEK"},"Adam","8.B",0," ",{"$f":"G163","v":0},0," ",{"$f":"J163","v":0},0,0]
["64.",{"$f":"B164","v":"VALENTA"},"František","8.B",0," ",{"$f":"G164","v":0},0," ",{"$f":"J164","v":0},0,0]
["65.",{"$f":"B165","v":"ZAPLATÍLEK"},"Josef","8.B",25," ",{"$f":"G165","v":"Jilemnice  21.03.22"},225.87953246822397," ",{"$f":"J165","v":0},0,0]
["66.",{"$f":"B166","v":"ERBEN"},"Viktor","9.A",7.6," ",{"$f":"G166","v":"Jilemnice  10.01.22"},371.311035224421," ",{"$f":"J166","v":0},11.68,0]
["67.",{"$f":"B167","v":"FRANC"},"Daniel","9.A",0," ",{"$f":"G167","v":0},0," ",{"$f":"J167","v":0},0,0]
["68.",{"$f":"B168","v":"JINDŘIŠEK"},"Matyáš","9.A",3.36," ",{"$f":"G168","v":"Jilemnice  13.06.22"},755.22838773777789," ",{"$f":"J168","v":0},6.23,8.42]
["69.",{"$f":"B169","v":"KOLAČNÝ"},"Štěpán","9.A",0," ",{"$f":"G169","v":0},0," ",{"$f":"J169","v":0},0,0]
["70.",{"$f":"B170","v":"KRISTAN"},"Jáchym","9.A",0," ",{"$f":"G170","v":0},0," ",{"$f":"J170","v":0},0,0]
["71.",{"$f":"B171","v":"NGUYEN"},"David","9.A",3.68," ",{"$f":"G171","v":"Jilemnice  13.06.22"},693.88804886202888," ",{"$f":"J171","v":0},6.26,0]
["72.",{"$f":"B172","v":"NOVOTNÝ"},"Jan","9.A",5.77," ",{"$f":"G172","v":"Jilemnice  13.06.22"},464.43644362142112," ",{"$f":"J172","v":0},5.52,8.92]
["73.",{"$f":"B173","v":"RÁB"},"Adam","9.A",0," ",{"$f":"G173","v":0},0," ",{"$f":"J173","v":0},0,0]
["74.",{"$f":"B174","v":"REPASKÝ"},"Jakub","9.A",3.9," ",{"$f":"G174","v":"Jilemnice  13.06.22"},657.68981949716249," ",{"$f":"J174","v":0},5.67,0]
["75.",{"$f":"B175","v":"SKÁLA"},"Jan","9.A",4.67," ",{"$f":"G175","v":"Jilemnice  10.01.22"},558.57275074138477," ",{"$f":"J175","v":0},11.84,11.5]
["76.",{"$f":"B176","v":"ŠPULÁK"},"Jakub","9.A",0," ",{"$f":"G176","v":0},0," ",{"$f":"J176","v":0},0,0]
["77.",{"$f":"B177","v":"VALENTA"},"Tomáš","9.A",3.9," ",{"$f":"G177","v":"Jilemnice  13.06.22"},657.68981949716249," ",{"$f":"J177","v":0},6.67,9.0399999999999991]
["78.",{"$f":"B178","v":"VANCL"},"Jiří","9.A",0," ",{"$f":"G178","v":0},0," ",{"$f":"J178","v":0},0,0]
["79.",{"$f":"B179","v":"VAŠÍČEK"},"David","9.A",6.33," ",{"$f":"G179","v":"Jilemnice  13.06.22"},429.72685918308582," ",{"$f":"J179","v":0},15.84,0]
["80.",{"$f":"B180","v":"ZOUHAR"},"Ondřej","9.A",5.33," ",{"$f":"G180","v":"Jilemnice  10.01.22"},497.18840637190743," ",{"$f":"J180","v":0},9.0299999999999994,0]
["81.",{"$f":"B181","v":"ZUZÁNEK"},"Filip","9.A",6.05," ",{"$f":"G181","v":"Jilemnice  10.01.22"},446.22139605326726," ",{"$f":"J181","v":0},7.94,16.73]
[]
[]
[]
[]
[]
[]
[]
[]
[]
[]
[]
[]
[]
[]
[]
[]
[null,"EXNER","Tomáš","6.A",null,null,null,{"$f":"IF(E101=0,0,IF(E101>0,((1000000000-313216/E101+34538300/E101*2-1698600/E101*3+32198000000/E101*4)/60000000+E101*3.9)*1.129))","v":0}]
[null,"JANATA","Denis","6.A",null,null,null,0]
[null,"JINDŘIŠEK","Alex Jiří","6.A",null,null,null,0]
[null,"MARŠÁLEK","Ondřej","6.A",null,null,null,0]
[null,"MLATEČEK","Patrik","6.A",null,null,null,0]
[null,"SCHOLZ","Matyáš","6.A",25,null,"Jilemnice  17.01.22",225.87953246822397]
[null,"TOMÁŠ","Jakub","6.A",16.97,null,"Jilemnice  11.01.22",236.41494868369281]
[null,"VÁCLAVÍK","Jan","6.A",19.04,null,"Jilemnice  11.01.22",229.99592097333334]
[null,"VEČEŘA","David","6.A",null,null,null,0]
[null,"VYBÍRAL","Radim","6.A",4.83,null,"Jilemnice  12.04.22",542.07828667265699]
[null,"BERISHA","David","6.B",null,null,null,0]
[null,"EFENBERK","Šimon","6.B",19.510000000000002,null,"Jilemnice  11.01.22",228.99762870402867]
[null,"FEJKL","Antonín","6.B",9.92,null,"Jilemnice  11.01.22",306.9141832875269]
[null,"GOTTSTEIN","Matouš","6.B",6.19,null,"Jilemnice  11.01.22",437.77365615760903]
[null,"HÁK","Šimon","6.B",null,null,null,0]
[null,"POVAŽANEC","Lukáš","6.B",null,null,null,0]
[null,"VANCL","Jakub","6.B",null,null,null,0]
[null,"VANCL","Miroslav","6.B",null,null,null,0]
[null,"VOTOČEK","Michal","6.B",null,null,null,0]
[null,"BOUKAL","Jakub","7.A",null,null,null,0]
[null,"DEMČUK","Ilja","7.A",null,null,null,0]
[null,"FAISTAUER","Kryštof","7.A",5.92,null,"Jilemnice  28.02.22",454.44959722054062]
[null,"FRK","Matyáš","7.A",null,null,null,0]
[null,"HUBÁLOVSKÝ","Marek","7.A",25,null,"Jilemnice  11.03.22",225.87953246822397]
[null,"MAŘAS","Dominik","7.A",null,null,null,0]
[null,"MAŤÁTKO","Jakub","7.A",null,null,null,0]
[null,"MERY","Luboš","7.A",null,null,null,0]
[null,"NOVOTNÝ","Matěj","7.A",null,null,null,0]
[null,"ŘEHOŘEK","Vojtěch","7.A",null,null,null,0]
[null,"ŠÍR","Matyáš","7.A",null,null,null,0]
[null,"TORÁČ","Tomáš","7.A",null,null,null,0]
[null,"ULLMAN","Šimon","7.A",5.51," ","Jilemnice  28.02.22",483.1202422290865]
[null,"VÁCLAVÍK","Ondřej","7.A",5.92,null,"Jilemnice  28.02.22",{"$f":"IF(E133=0,0,IF(E133>0,((1000000000-313216/E133+34538300/E133*2-1698600/E133*3+32198000000/E133*4)/60000000+E133*3.9)*1.129))","v":454.44959722054062}]
[null,"AUERSWALD","Daniel","7.B",7.85,null,"Jilemnice  07.01.22",362.25159339137161]
[null,"BODLÁK","Vladimír","7.B",null,null,null,0]
[null,"BUDÍN","Martin","7.B",7.91,null,"Jilemnice  28.02.22",360.17289247563423]
[null,"DVOŘÁK","Dominik","7.B",9.0399999999999991,null,"Jilemnice  11.04.22",326.83243237451325]
[null,"FIŠERA","Vojtěch","7.B",25,null,"Jilemnice  11.04.22",225.87953246822397]
[null,"JINDŘIŠEK","Vít","7.B",4.78,null,"Jilemnice  28.02.22",547.1091217041004]
[null,"JIROUŠ","Matouš","7.B",9.4600000000000009,null,"Jilemnice  28.02.22",316.77381349530651]
[null,"KERLE","Marek","7.B",4.22,null,"Jilemnice  17.01.22",611.9556029412953]
[null,"LUKEŠ","Jakub","7.B",6.04,null,"Jilemnice  17.01.22",446.84088487841058]
[null,"OTT","Matyáš","7.B",8,null,"Jilemnice  11.03.22",357.12073479653333]
[null,"POKORNÝ","Matyáš","7.B",5.85,null,"Jilemnice  28.02.22",459.0421768869972]
[null,"POLÁČEK","Matyáš","7.B",null,null,null,0]
[null,"SOUKUP","Patrik","7.B",null,null,null,0]
[null,"VALENTA","Jakub","7.B",5.34,null,"Jilemnice  07.01.22",496.38055868893889]
[null,"VRBATA","Dominik","7.B",4.18,null,"Jilemnice  17.01.22",617.27764022622023]
[null,"FEJKL","Jan","8.A",4.07,null,"Jilemnice  28.02.22",632.47048883593777,null,null,5.94]
[null,"KOTYK","Tadeáš","8.A",null,null,null,0]
[null,"KRAUSE","Tadeáš","8.A",5.07,null,"Jilemnice  28.02.22",519.37197045935568,null,null,10.78]
[null,"LEŠÁK","Martin","8.A",null,null,null,0]
[null,"NECHANICKÝ","David","8.A",6.04,null,"Jilemnice  10.01.22",446.84088487841058,null,null,11.08]
[null,"ŘEHOŘEK","Jan","8.A",9.06,null,"Jilemnice  28.02.22",326.32841547449596]
[null,"SOUKUP","Ondřej","8.A",25,null,"Jilemnice  21.03.22",225.87953246822397,null,null,13.3]
[null,"SPANILÝ","David","8.A",3.81,null,"Jilemnice  10.01.22",671.97939237504806,null,null,17.45]
[null,"ČADAN","Benjamín","8.B",null,null,null,0,null,null,7.88]
[null,"ČERNÝ","Michal","8.B",null,null,null,0]
[null,"DOLEJŠÍ","David","8.B",13.69,null,"Jilemnice  28.02.22",256.20497747374731]
[null,"NOVÁK","Matěj","8.B",10.46,null,"Jilemnice  28.02.22",296.67368014648815,null,null,12.86]
[null,"POVAŽANEC","Martin","8.B",5.45,null,"Jilemnice  11.04.22",487.70056075637922]
[null,"RICHTER","Jakub","8.B",9.15,null,"Jilemnice  28.02.22",324.09236992228784]
[null,"ROZUMEK","Adam","8.B",null,null,null,0]
[null,"VALENTA","František","8.B",null,null,null,0]
[null,"ZAPLATÍLEK","Josef","8.B",25,null,"Jilemnice  21.03.22",{"$f":"IF(E165=0,0,IF(E165>0,((1000000000-313216/E165+34538300/E165*2-1698600/E165*3+32198000000/E165*4)/60000000+E165*3.9)*1.129))","v":225.87953246822397}]
[null,"ERBEN","Viktor","9.A",7.6,null,"Jilemnice  10.01.22",371.311035224421,null,null,11.68]
[null,"FRANC","Daniel","9.A",null,null,null,0]
[null,"JINDŘIŠEK","Matyáš","9.A",3.36,null,"Jilemnice  13.06.22",755.22838773777789,null,null,6.23,8.42]
[null,"KOLAČNÝ","Štěpán","9.A",null,null,null,0]
[null,"KRISTAN","Jáchym","9.A",null,null,null,0]
[null,"NGUYEN","David","9.A",3.68,null,"Jilemnice  13.06.22",693.88804886202888,null,null,6.26]
[null,"NOVOTNÝ","Jan","9.A",5.77,null,"Jilemnice  13.06.22",464.43644362142112,null,null,5.52,8.92]
[null,"RÁB","Adam","9.A",null,null,null,0]
[null,"REPASKÝ","Jakub","9.A",3.9,null,"Jilemnice  13.06.22",657.68981949716249,null,null,5.67]
[null,"SKÁLA","Jan","9.A",4.67,null,"Jilemnice  10.01.22",558.57275074138477,null,null,11.84,11.5]
[null,"ŠPULÁK","Jakub","9.A",null,null,null,0]
[null,"VALENTA","Tomáš","9.A",3.9,null,"Jilemnice  13.06.22",657.68981949716249,null,null,6.67,9.0399999999999991]
[null,"VANCL","Jiří","9.A",null,null,null,0]
[null,"VAŠÍČEK","David","9.A",6.33,null,"Jilemnice  13.06.22",429.72685918308582,null,null,15.84]
[null,"ZOUHAR","Ondřej","9.A",5.33,null,"Jilemnice  10.01.22",497.18840637190743,null,null,9.0299999999999994]
[null,"ZUZÁNEK","Filip","9.A",6.05,null,"Jilemnice  10.01.22",446.22139605326726,null,null,7.94,16.73]

{"sheet":"ŠVIHADLO","index":21,"n_rows":181,"n_cols":12,"rows_kept":181,"cut":false,"hidden":false,"merged":[]}
[null,null,"VÝKONY  2021 - 2022",null,null,null,"ŠVIHADLO","CHLAPCI  6. -  9.  ROČ."]
[null,"stav  k ",{"$f":"TODAY()","v":"2022-06-27"},null,null,null,null,null,null,"20  - 21","19  - 20","18  - 19"]
[]
["1.",{"$f":"B101","v":"EXNER"},{"$f":"C101","v":"Tomáš"},"6.A",64,null,"Jilemnice  07.06.22",400,null,0,0,0]
["2.",{"$f":"B102","v":"JANATA"},"Denis","6.A",65,null,{"$f":"G102","v":"Jilemnice  21.03.22"},406.25,null,{"$f":"J102","v":0},0,0]
["3.",{"$f":"B103","v":"JINDŘIŠEK"},"Alex Jiří","6.A",0,null,{"$f":"G103","v":0},0,null,{"$f":"J103","v":0},0,0]
["4.",{"$f":"B104","v":"MARŠÁLEK"},"Ondřej","6.A",35,null,{"$f":"G104","v":"Jilemnice  21.03.22"},218.75,null,{"$f":"J104","v":0},0,0]
["5.",{"$f":"B105","v":"MLATEČEK"},"Patrik","6.A",35,null,{"$f":"G105","v":"Jilemnice  21.03.22"},218.75,null,{"$f":"J105","v":0},0,0]
["6.",{"$f":"B106","v":"SCHOLZ"},"Matyáš","6.A",47,null,{"$f":"G106","v":"Jilemnice  21.03.22"},293.75,null,{"$f":"J106","v":0},0,0]
["7.",{"$f":"B107","v":"TOMÁŠ"},"Jakub","6.A",106,null,{"$f":"G107","v":"Jilemnice  07.06.22"},662.5,null,{"$f":"J107","v":0},0,0]
["8.",{"$f":"B108","v":"VÁCLAVÍK"},"Jan","6.A",101,null,{"$f":"G108","v":"Jilemnice  07.06.22"},631.25,null,{"$f":"J108","v":0},0,0]
["9.",{"$f":"B109","v":"VEČEŘA"},"David","6.A",37,null,{"$f":"G109","v":"Jilemnice  07.12.21"},231.25,null,{"$f":"J109","v":0},0,0]
["10.",{"$f":"B110","v":"VYBÍRAL"},"Radim","6.A",115,null,{"$f":"G110","v":"Jilemnice  07.06.22"},718.75,null,{"$f":"J110","v":0},0,0]
["11.",{"$f":"B111","v":"BERISHA"},"David","6.B",0,null,{"$f":"G111","v":0},0,null,{"$f":"J111","v":0},0,0]
["12.",{"$f":"B112","v":"EFENBERK"},"Šimon","6.B",84,null,{"$f":"G112","v":"Jilemnice  07.06.22"},525,null,{"$f":"J112","v":0},0,0]
["13.",{"$f":"B113","v":"FEJKL"},"Antonín","6.B",132,null,{"$f":"G113","v":"Jilemnice  12.04.22"},825,null,{"$f":"J113","v":0},0,0]
["14.",{"$f":"B114","v":"GOTTSTEIN"},"Matouš","6.B",128,null,{"$f":"G114","v":"Jilemnice  12.04.22"},800,null,{"$f":"J114","v":0},0,0]
["15.",{"$f":"B115","v":"HÁK"},"Šimon","6.B",0,null,{"$f":"G115","v":0},0,null,{"$f":"J115","v":0},0,0]
["16.",{"$f":"B116","v":"POVAŽANEC"},"Lukáš","6.B",59,null,{"$f":"G116","v":"Jilemnice  12.04.22"},368.75,null,{"$f":"J116","v":0},0,0]
["17.",{"$f":"B117","v":"VANCL"},"Jakub","6.B",18,null,{"$f":"G117","v":"Jilemnice  07.12.21"},112.5,null,{"$f":"J117","v":0},0,0]
["18.",{"$f":"B118","v":"VANCL"},"Miroslav","6.B",68,null,{"$f":"G118","v":"Jilemnice  07.06.22"},425,null,{"$f":"J118","v":0},0,0]
["19.",{"$f":"B119","v":"VOTOČEK"},"Michal","6.B",50,null,{"$f":"G119","v":"Jilemnice  21.03.22"},312.5,null,{"$f":"J119","v":0},0,0]
["20.",{"$f":"B120","v":"BOUKAL"},"Jakub","7.A",49,null,{"$f":"G120","v":"Jilemnice  03.01.22"},306.25,null,{"$f":"J120","v":0},0,0]
["21.",{"$f":"B121","v":"DEMČUK"},"Ilja","7.A",48,null,{"$f":"G121","v":"Jilemnice  21.03.22"},300,null,{"$f":"J121","v":0},0,0]
["22.",{"$f":"B122","v":"FAISTAUER"},"Kryštof","7.A",84,null,{"$f":"G122","v":"Jilemnice  21.03.22"},525,null,{"$f":"J122","v":52},0,0]
["23.",{"$f":"B123","v":"FRK"},"Matyáš","7.A",0,null,{"$f":"G123","v":0},0,null,{"$f":"J123","v":0},0,0]
["24.",{"$f":"B124","v":"HUBÁLOVSKÝ"},"Marek","7.A",67,null,{"$f":"G124","v":"Jilemnice  21.03.22"},418.75,null,{"$f":"J124","v":0},0,0]
["25.",{"$f":"B125","v":"MAŘAS"},"Dominik","7.A",0,null,{"$f":"G125","v":0},0,null,{"$f":"J125","v":0},0,0]
["26.",{"$f":"B126","v":"MAŤÁTKO"},"Jakub","7.A",0,null,{"$f":"G126","v":0},0,null,{"$f":"J126","v":0},0,0]
["27.",{"$f":"B127","v":"MERY"},"Luboš","7.A",35,null,{"$f":"G127","v":"Jilemnice  11.04.22"},218.75,null,{"$f":"J127","v":17},0,0]
["28.",{"$f":"B128","v":"NOVOTNÝ"},"Matěj","7.A",69,null,{"$f":"G128","v":"Jilemnice  21.03.22"},431.25,null,{"$f":"J128","v":0},0,0]
["29.",{"$f":"B129","v":"ŘEHOŘEK"},"Vojtěch","7.A",95,null,{"$f":"G129","v":"Jilemnice  21.03.22"},593.75,null,{"$f":"J129","v":0},0,0]
["30.",{"$f":"B130","v":"ŠÍR"},"Matyáš","7.A",66,null,{"$f":"G130","v":"Jilemnice  21.03.22"},412.5,null,{"$f":"J130","v":38},0,0]
["31.",{"$f":"B131","v":"TORÁČ"},"Tomáš","7.A",28,null,{"$f":"G131","v":"Jilemnice  03.01.22"},175,null,{"$f":"J131","v":0},0,0]
["32.",{"$f":"B132","v":"ULLMAN"},"Šimon","7.A",49,null,{"$f":"G132","v":"Jilemnice  21.03.22"},306.25,null,{"$f":"J132","v":0},0,0]
["33.",{"$f":"B133","v":"VÁCLAVÍK"},"Ondřej","7.A",83,null,{"$f":"G133","v":"Jilemnice  21.03.22"},518.75,null,{"$f":"J133","v":0},0,0]
["34.",{"$f":"B134","v":"AUERSWALD"},"Daniel","7.B",85,null,{"$f":"G134","v":"Jilemnice  21.03.22"},531.25,null,{"$f":"J134","v":30},0,0]
["35.",{"$f":"B135","v":"BODLÁK"},"Vladimír","7.B",0,null,{"$f":"G135","v":0},0,null,{"$f":"J135","v":50},0,0]
["36.",{"$f":"B136","v":"BUDÍN"},"Martin","7.B",132,null,{"$f":"G136","v":"Jilemnice  11.04.22"},825,null,{"$f":"J136","v":80},0,0]
["37.",{"$f":"B137","v":"DVOŘÁK"},"Dominik","7.B",71,null,{"$f":"G137","v":"Jilemnice  21.03.22"},443.75,null,{"$f":"J137","v":0},0,0]
["38.",{"$f":"B138","v":"FIŠERA"},"Vojtěch","7.B",40,null,{"$f":"G138","v":"Jilemnice  21.03.22"},250,null,{"$f":"J138","v":91},0,0]
["39.",{"$f":"B139","v":"JINDŘIŠEK"},"Vít","7.B",114,null,{"$f":"G139","v":"Jilemnice  11.04.22"},712.5,null,{"$f":"J139","v":56},0,0]
["40.",{"$f":"B140","v":"JIROUŠ"},"Matouš","7.B",103,null,{"$f":"G140","v":"Jilemnice  21.03.22"},643.75,null,{"$f":"J140","v":40},0,0]
["41.",{"$f":"B141","v":"KERLE"},"Marek","7.B",104,null,{"$f":"G141","v":"Jilemnice  21.03.22"},650,null,{"$f":"J141","v":37},0,0]
["42.",{"$f":"B142","v":"LUKEŠ"},"Jakub","7.B",85,null,{"$f":"G142","v":"Jilemnice  21.03.22"},531.25,null,{"$f":"J142","v":65},0,0]
["43.",{"$f":"B143","v":"OTT"},"Matyáš","7.B",125,null,{"$f":"G143","v":"Jilemnice  11.04.22"},781.25,null,{"$f":"J143","v":0},0,0]
["44.",{"$f":"B144","v":"POKORNÝ"},"Matyáš","7.B",129,null,{"$f":"G144","v":"Jilemnice  21.03.22"},806.25,null,{"$f":"J144","v":0},0,0]
["45.",{"$f":"B145","v":"POLÁČEK"},"Matyáš","7.B",59,null,{"$f":"G145","v":"Jilemnice  11.04.22"},368.75,null,{"$f":"J145","v":0},0,0]
["46.",{"$f":"B146","v":"SOUKUP"},"Patrik","7.B",0,null,{"$f":"G146","v":0},0,null,{"$f":"J146","v":95},0,0]
["47.",{"$f":"B147","v":"VALENTA"},"Jakub","7.B",89,null,{"$f":"G147","v":"Jilemnice  21.03.22"},556.25,null,{"$f":"J147","v":76},0,0]
["48.",{"$f":"B148","v":"VRBATA"},"Dominik","7.B",106,null,{"$f":"G148","v":"Jilemnice  21.03.22"},662.5,null,{"$f":"J148","v":0},0,0]
["49.",{"$f":"B149","v":"FEJKL"},"Jan","8.A",101,null,{"$f":"G149","v":"Jilemnice  21.03.22"},631.25,null,{"$f":"J149","v":42},0,0]
["50.",{"$f":"B150","v":"KOTYK"},"Tadeáš","8.A",73,null,{"$f":"G150","v":"Jilemnice  21.03.22"},456.25,null,{"$f":"J150","v":20},0,0]
["51.",{"$f":"B151","v":"KRAUSE"},"Tadeáš","8.A",171,null,{"$f":"G151","v":"Jilemnice  21.03.22"},1068.75,null,{"$f":"J151","v":121},0,0]
["52.",{"$f":"B152","v":"LEŠÁK"},"Martin","8.A",56,null,{"$f":"G152","v":"Jilemnice  21.03.22"},350,null,{"$f":"J152","v":30},0,0]
["53.",{"$f":"B153","v":"NECHANICKÝ"},"David","8.A",107,null,{"$f":"G153","v":"Jilemnice  21.03.22"},668.75,null,{"$f":"J153","v":0},0,0]
["54.",{"$f":"B154","v":"ŘEHOŘEK"},"Jan","8.A",134,null,{"$f":"G154","v":"Jilemnice  21.03.22"},837.5,null,{"$f":"J154","v":115},0,0]
["55.",{"$f":"B155","v":"SOUKUP"},"Ondřej","8.A",152,null,{"$f":"G155","v":"Jilemnice  21.03.22"},950,null,{"$f":"J155","v":0},0,0]
["56.",{"$f":"B156","v":"SPANILÝ"},"David","8.A",144,null,{"$f":"G156","v":"Jilemnice  21.03.22"},900,null,{"$f":"J156","v":106},0,0]
["57.",{"$f":"B157","v":"ČADAN"},"Benjamín","8.B",0,null,{"$f":"G157","v":0},0,null,{"$f":"J157","v":0},0,0]
["58.",{"$f":"B158","v":"ČERNÝ"},"Michal","8.B",47,null,{"$f":"G158","v":"Jilemnice  21.03.22"},293.75,null,{"$f":"J158","v":0},0,0]
["59.",{"$f":"B159","v":"DOLEJŠÍ"},"David","8.B",76,null,{"$f":"G159","v":"Jilemnice  21.03.22"},475,null,{"$f":"J159","v":58},0,0]
["60.",{"$f":"B160","v":"NOVÁK"},"Matěj","8.B",121,null,{"$f":"G160","v":"Jilemnice  21.03.22"},756.25,null,{"$f":"J160","v":68},0,0]
["61.",{"$f":"B161","v":"POVAŽANEC"},"Martin","8.B",70,null,{"$f":"G161","v":"Jilemnice  11.04.22"},437.5,null,{"$f":"J161","v":0},0,0]
["62.",{"$f":"B162","v":"RICHTER"},"Jakub","8.B",70,null,{"$f":"G162","v":"Jilemnice  21.03.22"},437.5,null,{"$f":"J162","v":0},0,0]
["63.",{"$f":"B163","v":"ROZUMEK"},"Adam","8.B",111,null,{"$f":"G163","v":"Jilemnice  11.04.22"},693.75,null,{"$f":"J163","v":0},0,0]
["64.",{"$f":"B164","v":"VALENTA"},"František","8.B",72,null,{"$f":"G164","v":"Jilemnice  11.04.22"},450,null,{"$f":"J164","v":0},0,0]
["65.",{"$f":"B165","v":"ZAPLATÍLEK"},"Josef","8.B",100,null,{"$f":"G165","v":"Jilemnice  21.03.22"},625,null,{"$f":"J165","v":0},0,0]
["66.",{"$f":"B166","v":"ERBEN"},"Viktor","9.A",66,null,{"$f":"G166","v":"Jilemnice  13.06.22"},412.5,null,{"$f":"J166","v":0},68,45]
["67.",{"$f":"B167","v":"FRANC"},"Daniel","9.A",87,null,{"$f":"G167","v":"Jilemnice  13.06.22"},543.75,null,{"$f":"J167","v":0},68,28]
["68.",{"$f":"B168","v":"JINDŘIŠEK"},"Matyáš","9.A",86,null,{"$f":"G168","v":"Jilemnice  13.06.22"},537.5,null,{"$f":"J168","v":79},128,83]
["69.",{"$f":"B169","v":"KOLAČNÝ"},"Štěpán","9.A",0,null,{"$f":"G169","v":0},0,null,{"$f":"J169","v":0},82,68]
["70.",{"$f":"B170","v":"KRISTAN"},"Jáchym","9.A",0,null,{"$f":"G170","v":0},0,null,{"$f":"J170","v":0},43,26]
["71.",{"$f":"B171","v":"NGUYEN"},"David","9.A",98,null,{"$f":"G171","v":"Jilemnice  13.06.22"},612.5,null,{"$f":"J171","v":0},103,0]
["72.",{"$f":"B172","v":"NOVOTNÝ"},"Jan","9.A",82,null,{"$f":"G172","v":"Jilemnice  13.06.22"},512.5,null,{"$f":"J172","v":0},0,65]
["73.",{"$f":"B173","v":"RÁB"},"Adam","9.A",0,null,{"$f":"G173","v":0},0,null,{"$f":"J173","v":0},61,60]
["74.",{"$f":"B174","v":"REPASKÝ"},"Jakub","9.A",131,null,{"$f":"G174","v":"Jilemnice  13.06.22"},818.75,null,{"$f":"J174","v":146},145,95]
["75.",{"$f":"B175","v":"SKÁLA"},"Jan","9.A",105,null,{"$f":"G175","v":"Jilemnice  13.06.22"},656.25,null,{"$f":"J175","v":0},109,70]
["76.",{"$f":"B176","v":"ŠPULÁK"},"Jakub","9.A",77,null,{"$f":"G176","v":"Jilemnice  13.06.22"},481.25,null,{"$f":"J176","v":34},52,42]
["77.",{"$f":"B177","v":"VALENTA"},"Tomáš","9.A",129,null,{"$f":"G177","v":"Jilemnice  13.06.22"},806.25,null,{"$f":"J177","v":142},130,110]
["78.",{"$f":"B178","v":"VANCL"},"Jiří","9.A",95,null,{"$f":"G178","v":"Jilemnice  13.06.22"},593.75,null,{"$f":"J178","v":0},94,68]
["79.",{"$f":"B179","v":"VAŠÍČEK"},"David","9.A",110,null,{"$f":"G179","v":"Jilemnice  13.06.22"},687.5,null,{"$f":"J179","v":0},73,0]
["80.",{"$f":"B180","v":"ZOUHAR"},"Ondřej","9.A",102,null,{"$f":"G180","v":"Jilemnice  13.06.22"},637.5,null,{"$f":"J180","v":0},82,61]
["81.",{"$f":"B181","v":"ZUZÁNEK"},"Filip","9.A",0,null,{"$f":"G181","v":0},0,null,{"$f":"J181","v":0},118,70]
[]
[]
[]
[]
[]
[]
[]
[]
[]
[]
[]
[]
[]
[]
[]
[]
[null,"EXNER","Tomáš","6.A",64,null,"Jilemnice  07.06.22",{"$f":"IF(E101=0,0,E101*6.25)","v":400}]
[null,"JANATA","Denis","6.A",65,null,"Jilemnice  21.03.22",406.25]
[null,"JINDŘIŠEK","Alex Jiří","6.A",null,null,null,0]
[null,"MARŠÁLEK","Ondřej","6.A",35,null,"Jilemnice  21.03.22",218.75]
[null,"MLATEČEK","Patrik","6.A",35,null,"Jilemnice  21.03.22",218.75]
[null,"SCHOLZ","Matyáš","6.A",47,null,"Jilemnice  21.03.22",293.75]
[null,"TOMÁŠ","Jakub","6.A",106,null,"Jilemnice  07.06.22",662.5]
[null,"VÁCLAVÍK","Jan","6.A",101,null,"Jilemnice  07.06.22",631.25]
[null,"VEČEŘA","David","6.A",37,null,"Jilemnice  07.12.21",231.25]
[null,"VYBÍRAL","Radim","6.A",115,null,"Jilemnice  07.06.22",718.75]
[null,"BERISHA","David","6.B",null,null,null,0]
[null,"EFENBERK","Šimon","6.B",84,null,"Jilemnice  07.06.22",525]
[null,"FEJKL","Antonín","6.B",132,null,"Jilemnice  12.04.22",825]
[null,"GOTTSTEIN","Matouš","6.B",128,null,"Jilemnice  12.04.22",800]
[null,"HÁK","Šimon","6.B",null,null,null,0]
[null,"POVAŽANEC","Lukáš","6.B",59,null,"Jilemnice  12.04.22",368.75]
[null,"VANCL","Jakub","6.B",18,null,"Jilemnice  07.12.21",112.5]
[null,"VANCL","Miroslav","6.B",68,null,"Jilemnice  07.06.22",425]
[null,"VOTOČEK","Michal","6.B",50,null,"Jilemnice  21.03.22",312.5]
[null,"BOUKAL","Jakub","7.A",49,null,"Jilemnice  03.01.22",306.25]
[null,"DEMČUK","Ilja","7.A",48,null,"Jilemnice  21.03.22",300]
[null,"FAISTAUER","Kryštof","7.A",84,null,"Jilemnice  21.03.22",525,null,52]
[null,"FRK","Matyáš","7.A",null,null,null,0]
[null,"HUBÁLOVSKÝ","Marek","7.A",67,null,"Jilemnice  21.03.22",418.75]
[null,"MAŘAS","Dominik","7.A",null,null,null,0]
[null,"MAŤÁTKO","Jakub","7.A",null,null,null,0]
[null,"MERY","Luboš","7.A",35,null,"Jilemnice  11.04.22",218.75,null,17]
[null,"NOVOTNÝ","Matěj","7.A",69,null,"Jilemnice  21.03.22",431.25]
[null,"ŘEHOŘEK","Vojtěch","7.A",95,null,"Jilemnice  21.03.22",593.75]
[null,"ŠÍR","Matyáš","7.A",66,null,"Jilemnice  21.03.22",412.5,null,38]
[null,"TORÁČ","Tomáš","7.A",28,null,"Jilemnice  03.01.22",175]
[null,"ULLMAN","Šimon","7.A",49,null,"Jilemnice  21.03.22",306.25]
[null,"VÁCLAVÍK","Ondřej","7.A",83,null,"Jilemnice  21.03.22",{"$f":"IF(E133=0,0,E133*6.25)","v":518.75}]
[null,"AUERSWALD","Daniel","7.B",85,null,"Jilemnice  21.03.22",531.25,null,30]
[null,"BODLÁK","Vladimír","7.B",null,null,null,0,null,50]
[null,"BUDÍN","Martin","7.B",132,null,"Jilemnice  11.04.22",825,null,80]
[null,"DVOŘÁK","Dominik","7.B",71,null,"Jilemnice  21.03.22",443.75]
[null,"FIŠERA","Vojtěch","7.B",40,null,"Jilemnice  21.03.22",250,null,91]
[null,"JINDŘIŠEK","Vít","7.B",114,null,"Jilemnice  11.04.22",712.5,null,56]
[null,"JIROUŠ","Matouš","7.B",103,null,"Jilemnice  21.03.22",643.75,null,40]
[null,"KERLE","Marek","7.B",104,null,"Jilemnice  21.03.22",650,null,37]
[null,"LUKEŠ","Jakub","7.B",85,null,"Jilemnice  21.03.22",531.25,null,65]
[null,"OTT","Matyáš","7.B",125,null,"Jilemnice  11.04.22",781.25]
[null,"POKORNÝ","Matyáš","7.B",129,null,"Jilemnice  21.03.22",806.25]
[null,"POLÁČEK","Matyáš","7.B",59,null,"Jilemnice  11.04.22",368.75]
[null,"SOUKUP","Patrik","7.B",null,null,null,0,null,95]
[null,"VALENTA","Jakub","7.B",89,null,"Jilemnice  21.03.22",556.25,null,76]
[null,"VRBATA","Dominik","7.B",106,null,"Jilemnice  21.03.22",662.5]
[null,"FEJKL","Jan","8.A",101,null,"Jilemnice  21.03.22",631.25,null,42]
[null,"KOTYK","Tadeáš","8.A",73,null,"Jilemnice  21.03.22",456.25,null,20]
[null,"KRAUSE","Tadeáš","8.A",171,null,"Jilemnice  21.03.22",1068.75,null,121]
[null,"LEŠÁK","Martin","8.A",56,null,"Jilemnice  21.03.22",350,null,30]
[null,"NECHANICKÝ","David","8.A",107,null,"Jilemnice  21.03.22",668.75]
[null,"ŘEHOŘEK","Jan","8.A",134,null,"Jilemnice  21.03.22",837.5,null,115]
[null,"SOUKUP","Ondřej","8.A",152,null,"Jilemnice  21.03.22",950]
[null,"SPANILÝ","David","8.A",144,null,"Jilemnice  21.03.22",900,null,106]
[null,"ČADAN","Benjamín","8.B",null,null,null,0]
[null,"ČERNÝ","Michal","8.B",47,null,"Jilemnice  21.03.22",293.75]
[null,"DOLEJŠÍ","David","8.B",76,null,"Jilemnice  21.03.22",475,null,58]
[null,"NOVÁK","Matěj","8.B",121,null,"Jilemnice  21.03.22",756.25,null,68]
[null,"POVAŽANEC","Martin","8.B",70,null,"Jilemnice  11.04.22",437.5]
[null,"RICHTER","Jakub","8.B",70,null,"Jilemnice  21.03.22",437.5]
[null,"ROZUMEK","Adam","8.B",111,null,"Jilemnice  11.04.22",693.75]
[null,"VALENTA","František","8.B",72,null,"Jilemnice  11.04.22",450]
[null,"ZAPLATÍLEK","Josef","8.B",100,null,"Jilemnice  21.03.22",{"$f":"IF(E165=0,0,E165*6.25)","v":625}]
[null,"ERBEN","Viktor","9.A",66,null,"Jilemnice  13.06.22",412.5,null,null,68,45]
[null,"FRANC","Daniel","9.A",87,null,"Jilemnice  13.06.22",543.75,null,null,68,28]
[null,"JINDŘIŠEK","Matyáš","9.A",86,null,"Jilemnice  13.06.22",537.5,null,79,128,83]
[null,"KOLAČNÝ","Štěpán","9.A",null,null,null,0,null,null,82,68]
[null,"KRISTAN","Jáchym","9.A",null,null,null,0,null,null,43,26]
[null,"NGUYEN","David","9.A",98,null,"Jilemnice  13.06.22",612.5,null,null,103]
[null,"NOVOTNÝ","Jan","9.A",82,null,"Jilemnice  13.06.22",512.5,null,null,null,65]
[null,"RÁB","Adam","9.A",null,null,null,0,null,null,61,60]
[null,"REPASKÝ","Jakub","9.A",131,null,"Jilemnice  13.06.22",818.75,null,146,145,95]
[null,"SKÁLA","Jan","9.A",105,null,"Jilemnice  13.06.22",656.25,null,null,109,70]
[null,"ŠPULÁK","Jakub","9.A",77,null,"Jilemnice  13.06.22",481.25,null,34,52,42]
[null,"VALENTA","Tomáš","9.A",129,null,"Jilemnice  13.06.22",806.25,null,142,130,110]
[null,"VANCL","Jiří","9.A",95,null,"Jilemnice  13.06.22",593.75,null,null,94,68]
[null,"VAŠÍČEK","David","9.A",110,null,"Jilemnice  13.06.22",687.5,null,null,73]
[null,"ZOUHAR","Ondřej","9.A",102,null,"Jilemnice  13.06.22",637.5,null,null,82,61]
[null,"ZUZÁNEK","Filip","9.A",null,null,null,0,null,null,118,70]

{"sheet":"Z MÍSTA","index":22,"n_rows":181,"n_cols":12,"rows_kept":181,"cut":false,"hidden":false,"merged":[]}
[null,null,"VÝKONY  2021 - 2022",null,null,null,"Z MÍSTA","CHLAPCI  6. -  9.  ROČ."]
[null,"stav  k ",{"$f":"TODAY()","v":"2022-06-27"},null,null,null,null,null,null,"20  - 21","19  - 20","18  - 19"]
[]
["1.",{"$f":"B101","v":"EXNER"},{"$f":"C101","v":"Tomáš"},"6.A",231,null,"Jilemnice  07.06.22",877.8,null,0,0,0]
["2.",{"$f":"B102","v":"JANATA"},"Denis","6.A",149,null,{"$f":"G102","v":"Jilemnice  23.11.21"},566.19999999999993,null,{"$f":"J102","v":0},0,0]
["3.",{"$f":"B103","v":"JINDŘIŠEK"},"Alex Jiří","6.A",100,null,{"$f":"G103","v":"Jilemnice  07.06.22"},380,null,{"$f":"J103","v":0},0,0]
["4.",{"$f":"B104","v":"MARŠÁLEK"},"Ondřej","6.A",169,null,{"$f":"G104","v":"Jilemnice  07.06.22"},642.19999999999993,null,{"$f":"J104","v":0},0,0]
["5.",{"$f":"B105","v":"MLATEČEK"},"Patrik","6.A",130,null,{"$f":"G105","v":"Jilemnice  23.11.21"},494,null,{"$f":"J105","v":0},0,0]
["6.",{"$f":"B106","v":"SCHOLZ"},"Matyáš","6.A",190,null,{"$f":"G106","v":"Jilemnice  07.06.22"},722,null,{"$f":"J106","v":0},0,0]
["7.",{"$f":"B107","v":"TOMÁŠ"},"Jakub","6.A",172,null,{"$f":"G107","v":"Jilemnice  01.03.22"},653.6,null,{"$f":"J107","v":0},0,0]
["8.",{"$f":"B108","v":"VÁCLAVÍK"},"Jan","6.A",182,null,{"$f":"G108","v":"Jilemnice  07.06.22"},691.6,null,{"$f":"J108","v":0},0,0]
["9.",{"$f":"B109","v":"VEČEŘA"},"David","6.A",149,null,{"$f":"G109","v":"Jilemnice  01.03.22"},566.19999999999993,null,{"$f":"J109","v":0},0,0]
["10.",{"$f":"B110","v":"VYBÍRAL"},"Radim","6.A",209,null,{"$f":"G110","v":"Jilemnice  07.06.22"},794.19999999999993,null,{"$f":"J110","v":0},0,0]
["11.",{"$f":"B111","v":"BERISHA"},"David","6.B",160,null,{"$f":"G111","v":"Jilemnice  23.11.21"},608,null,{"$f":"J111","v":0},0,0]
["12.",{"$f":"B112","v":"EFENBERK"},"Šimon","6.B",172,null,{"$f":"G112","v":"Jilemnice  07.06.22"},653.6,null,{"$f":"J112","v":0},0,0]
["13.",{"$f":"B113","v":"FEJKL"},"Antonín","6.B",205,null,{"$f":"G113","v":"Jilemnice  07.06.22"},779,null,{"$f":"J113","v":0},0,0]
["14.",{"$f":"B114","v":"GOTTSTEIN"},"Matouš","6.B",214,null,{"$f":"G114","v":"Jilemnice  07.06.22"},813.19999999999993,null,{"$f":"J114","v":0},0,0]
["15.",{"$f":"B115","v":"HÁK"},"Šimon","6.B",0,null,{"$f":"G115","v":0},0,null,{"$f":"J115","v":0},0,0]
["16.",{"$f":"B116","v":"POVAŽANEC"},"Lukáš","6.B",162,null,{"$f":"G116","v":"Jilemnice  07.06.22"},615.6,null,{"$f":"J116","v":0},0,0]
["17.",{"$f":"B117","v":"VANCL"},"Jakub","6.B",145,null,{"$f":"G117","v":"Jilemnice  23.11.21"},551,null,{"$f":"J117","v":0},0,0]
["18.",{"$f":"B118","v":"VANCL"},"Miroslav","6.B",190,null,{"$f":"G118","v":"Jilemnice  01.03.22"},722,null,{"$f":"J118","v":0},0,0]
["19.",{"$f":"B119","v":"VOTOČEK"},"Michal","6.B",161,null,{"$f":"G119","v":"Jilemnice  07.06.22"},611.79999999999995,null,{"$f":"J119","v":0},0,0]
["20.",{"$f":"B120","v":"BOUKAL"},"Jakub","7.A",146,null,{"$f":"G120","v":"Jilemnice  07.03.22"},554.79999999999995,null,{"$f":"J120","v":0},0,0]
["21.",{"$f":"B121","v":"DEMČUK"},"Ilja","7.A",182,null,{"$f":"G121","v":"Jilemnice  31.03.22"},691.6,null,{"$f":"J121","v":150},0,0]
["22.",{"$f":"B122","v":"FAISTAUER"},"Kryštof","7.A",213,null,{"$f":"G122","v":"Jilemnice  19.11.21"},809.4,null,{"$f":"J122","v":165},0,0]
["23.",{"$f":"B123","v":"FRK"},"Matyáš","7.A",170,null,{"$f":"G123","v":"Jilemnice  19.11.21"},646,null,{"$f":"J123","v":0},0,0]
["24.",{"$f":"B124","v":"HUBÁLOVSKÝ"},"Marek","7.A",191,null,{"$f":"G124","v":"Jilemnice  31.03.22"},725.8,null,{"$f":"J124","v":0},0,0]
["25.",{"$f":"B125","v":"MAŘAS"},"Dominik","7.A",203,null,{"$f":"G125","v":"Jilemnice  07.03.22"},771.4,null,{"$f":"J125","v":0},0,0]
["26.",{"$f":"B126","v":"MAŤÁTKO"},"Jakub","7.A",140,null,{"$f":"G126","v":"Jilemnice  07.03.22"},532,null,{"$f":"J126","v":0},0,0]
["27.",{"$f":"B127","v":"MERY"},"Luboš","7.A",160,null,{"$f":"G127","v":"Jilemnice  19.11.21"},608,null,{"$f":"J127","v":130},0,0]
["28.",{"$f":"B128","v":"NOVOTNÝ"},"Matěj","7.A",154,null,{"$f":"G128","v":"Jilemnice  19.11.21"},585.19999999999993,null,{"$f":"J128","v":0},0,0]
["29.",{"$f":"B129","v":"ŘEHOŘEK"},"Vojtěch","7.A",178,null,{"$f":"G129","v":"Jilemnice  09.12.21"},676.4,null,{"$f":"J129","v":146},0,0]
["30.",{"$f":"B130","v":"ŠÍR"},"Matyáš","7.A",141,null,{"$f":"G130","v":"Jilemnice  19.11.21"},535.79999999999995,null,{"$f":"J130","v":158},0,0]
["31.",{"$f":"B131","v":"TORÁČ"},"Tomáš","7.A",90,null,{"$f":"G131","v":"Jilemnice  07.03.22"},342,null,{"$f":"J131","v":0},0,0]
["32.",{"$f":"B132","v":"ULLMAN"},"Šimon","7.A",230,null,{"$f":"G132","v":"Jilemnice  31.03.22"},874,null,{"$f":"J132","v":0},0,0]
["33.",{"$f":"B133","v":"VÁCLAVÍK"},"Ondřej","7.A",202,null,{"$f":"G133","v":"Jilemnice  19.11.21"},767.59999999999991,null,{"$f":"J133","v":0},0,0]
["34.",{"$f":"B134","v":"AUERSWALD"},"Daniel","7.B",209,null,{"$f":"G134","v":"Jilemnice  31.03.22"},794.19999999999993,null,{"$f":"J134","v":0},0,0]
["35.",{"$f":"B135","v":"BODLÁK"},"Vladimír","7.B",0,null,{"$f":"G135","v":0},0,null,{"$f":"J135","v":30},0,0]
["36.",{"$f":"B136","v":"BUDÍN"},"Martin","7.B",200,null,{"$f":"G136","v":"Jilemnice  24.02.22"},760,null,{"$f":"J136","v":150},0,0]
["37.",{"$f":"B137","v":"DVOŘÁK"},"Dominik","7.B",178,null,{"$f":"G137","v":"Jilemnice  31.03.22"},676.4,null,{"$f":"J137","v":0},0,0]
["38.",{"$f":"B138","v":"FIŠERA"},"Vojtěch","7.B",167,null,{"$f":"G138","v":"Jilemnice  09.12.21"},634.6,null,{"$f":"J138","v":130},0,0]
["39.",{"$f":"B139","v":"JINDŘIŠEK"},"Vít","7.B",229,null,{"$f":"G139","v":"Jilemnice  24.02.22"},870.19999999999993,null,{"$f":"J139","v":200},0,0]
["40.",{"$f":"B140","v":"JIROUŠ"},"Matouš","7.B",201,null,{"$f":"G140","v":"Jilemnice  09.12.21"},763.8,null,{"$f":"J140","v":200},0,0]
["41.",{"$f":"B141","v":"KERLE"},"Marek","7.B",201,null,{"$f":"G141","v":"Jilemnice  09.12.21"},763.8,null,{"$f":"J141","v":158},0,0]
["42.",{"$f":"B142","v":"LUKEŠ"},"Jakub","7.B",241,null,{"$f":"G142","v":"Jilemnice  09.12.21"},915.8,null,{"$f":"J142","v":190},0,0]
["43.",{"$f":"B143","v":"OTT"},"Matyáš","7.B",191,null,{"$f":"G143","v":"Jilemnice  19.11.21"},725.8,null,{"$f":"J143","v":0},0,0]
["44.",{"$f":"B144","v":"POKORNÝ"},"Matyáš","7.B",222,null,{"$f":"G144","v":"Jilemnice  31.03.22"},843.59999999999991,null,{"$f":"J144","v":0},0,0]
["45.",{"$f":"B145","v":"POLÁČEK"},"Matyáš","7.B",165,null,{"$f":"G145","v":"Jilemnice  31.03.22"},627,null,{"$f":"J145","v":0},0,0]
["46.",{"$f":"B146","v":"SOUKUP"},"Patrik","7.B",0,null,{"$f":"G146","v":0},0,null,{"$f":"J146","v":200},0,0]
["47.",{"$f":"B147","v":"VALENTA"},"Jakub","7.B",194,null,{"$f":"G147","v":"Jilemnice  09.12.21"},737.19999999999993,null,{"$f":"J147","v":0},0,0]
["48.",{"$f":"B148","v":"VRBATA"},"Dominik","7.B",192,null,{"$f":"G148","v":"Jilemnice  24.02.22"},729.59999999999991,null,{"$f":"J148","v":0},0,0]
["49.",{"$f":"B149","v":"FEJKL"},"Jan","8.A",232,null,{"$f":"G149","v":"Jilemnice  28.02.22"},881.59999999999991,null,{"$f":"J149","v":200},202,0]
["50.",{"$f":"B150","v":"KOTYK"},"Tadeáš","8.A",181,null,{"$f":"G150","v":"Jilemnice  13.06.22"},687.8,null,{"$f":"J150","v":60},180,0]
["51.",{"$f":"B151","v":"KRAUSE"},"Tadeáš","8.A",221,null,{"$f":"G151","v":"Jilemnice  28.02.22"},839.8,null,{"$f":"J151","v":201},185,0]
["52.",{"$f":"B152","v":"LEŠÁK"},"Martin","8.A",170,null,{"$f":"G152","v":"Jilemnice  13.06.22"},646,null,{"$f":"J152","v":0},148,0]
["53.",{"$f":"B153","v":"NECHANICKÝ"},"David","8.A",250,null,{"$f":"G153","v":"Jilemnice  13.06.22"},950,null,{"$f":"J153","v":0},195,0]
["54.",{"$f":"B154","v":"ŘEHOŘEK"},"Jan","8.A",210,null,{"$f":"G154","v":"Jilemnice  28.02.22"},798,null,{"$f":"J154","v":0},195,0]
["55.",{"$f":"B155","v":"SOUKUP"},"Ondřej","8.A",170,null,{"$f":"G155","v":"Jilemnice  28.02.22"},646,null,{"$f":"J155","v":0},172,0]
["56.",{"$f":"B156","v":"SPANILÝ"},"David","8.A",232,null,{"$f":"G156","v":"Jilemnice  22.11.21"},881.59999999999991,null,{"$f":"J156","v":198},197,0]
["57.",{"$f":"B157","v":"ČADAN"},"Benjamín","8.B",167,null,{"$f":"G157","v":"Jilemnice  13.06.22"},634.6,null,{"$f":"J157","v":0},0,0]
["58.",{"$f":"B158","v":"ČERNÝ"},"Michal","8.B",162,null,{"$f":"G158","v":"Jilemnice  22.11.21"},615.6,null,{"$f":"J158","v":0},147,0]
["59.",{"$f":"B159","v":"DOLEJŠÍ"},"David","8.B",195,null,{"$f":"G159","v":"Jilemnice  13.06.22"},741,null,{"$f":"J159","v":152},123,0]
["60.",{"$f":"B160","v":"NOVÁK"},"Matěj","8.B",182,null,{"$f":"G160","v":"Jilemnice  22.11.21"},691.6,null,{"$f":"J160","v":169},182,0]
["61.",{"$f":"B161","v":"POVAŽANEC"},"Martin","8.B",229,null,{"$f":"G161","v":"Jilemnice  13.06.22"},870.19999999999993,null,{"$f":"J161","v":0},142,0]
["62.",{"$f":"B162","v":"RICHTER"},"Jakub","8.B",190,null,{"$f":"G162","v":"Jilemnice  13.06.22"},722,null,{"$f":"J162","v":0},148,0]
["63.",{"$f":"B163","v":"ROZUMEK"},"Adam","8.B",180,null,{"$f":"G163","v":"Jilemnice  28.02.22"},684,null,{"$f":"J163","v":0},152,0]
["64.",{"$f":"B164","v":"VALENTA"},"František","8.B",177,null,{"$f":"G164","v":"Jilemnice  13.06.22"},672.6,null,{"$f":"J164","v":0},139,0]
["65.",{"$f":"B165","v":"ZAPLATÍLEK"},"Josef","8.B",201,null,{"$f":"G165","v":"Jilemnice  13.06.22"},763.8,null,{"$f":"J165","v":0},169,0]
["66.",{"$f":"B166","v":"ERBEN"},"Viktor","9.A",201,null,{"$f":"G166","v":"Jilemnice  13.06.22"},763.8,null,{"$f":"J166","v":190},179,164]
["67.",{"$f":"B167","v":"FRANC"},"Daniel","9.A",170,null,{"$f":"G167","v":"Jilemnice  22.11.21"},646,null,{"$f":"J167","v":0},174,138]
["68.",{"$f":"B168","v":"JINDŘIŠEK"},"Matyáš","9.A",232,null,{"$f":"G168","v":"Jilemnice  13.06.22"},881.59999999999991,null,{"$f":"J168","v":205},190,188]
["69.",{"$f":"B169","v":"KOLAČNÝ"},"Štěpán","9.A",174,null,{"$f":"G169","v":"Jilemnice  22.11.21"},661.19999999999993,null,{"$f":"J169","v":180},182,170]
["70.",{"$f":"B170","v":"KRISTAN"},"Jáchym","9.A",120,null,{"$f":"G170","v":"Jilemnice  22.11.21"},456,null,{"$f":"J170","v":0},120,125]
["71.",{"$f":"B171","v":"NGUYEN"},"David","9.A",231,null,{"$f":"G171","v":"Jilemnice  22.11.21"},877.8,null,{"$f":"J171","v":0},220,0]
["72.",{"$f":"B172","v":"NOVOTNÝ"},"Jan","9.A",218,null,{"$f":"G172","v":"Jilemnice  13.06.22"},828.4,null,{"$f":"J172","v":0},192,182]
["73.",{"$f":"B173","v":"RÁB"},"Adam","9.A",171,null,{"$f":"G173","v":"Jilemnice  22.11.21"},649.79999999999995,null,{"$f":"J173","v":0},162,137]
["74.",{"$f":"B174","v":"REPASKÝ"},"Jakub","9.A",238,null,{"$f":"G174","v":"Jilemnice  13.06.22"},904.4,null,{"$f":"J174","v":0},207,180]
["75.",{"$f":"B175","v":"SKÁLA"},"Jan","9.A",237,null,{"$f":"G175","v":"Jilemnice  13.06.22"},900.59999999999991,null,{"$f":"J175","v":0},220,187]
["76.",{"$f":"B176","v":"ŠPULÁK"},"Jakub","9.A",215,null,{"$f":"G176","v":"Jilemnice  13.06.22"},817,null,{"$f":"J176","v":0},196,183]
["77.",{"$f":"B177","v":"VALENTA"},"Tomáš","9.A",262,null,{"$f":"G177","v":"Jilemnice  13.06.22"},995.59999999999991,null,{"$f":"J177","v":232},224,220]
["78.",{"$f":"B178","v":"VANCL"},"Jiří","9.A",217,null,{"$f":"G178","v":"Jilemnice  22.11.21"},824.59999999999991,null,{"$f":"J178","v":0},182,178]
["79.",{"$f":"B179","v":"VAŠÍČEK"},"David","9.A",220,null,{"$f":"G179","v":"Jilemnice  22.11.21"},836,null,{"$f":"J179","v":0},192,171]
["80.",{"$f":"B180","v":"ZOUHAR"},"Ondřej","9.A",211,null,{"$f":"G180","v":"Jilemnice  22.11.21"},{"$f":"H180","v":801.8},null,{"$f":"J180","v":0},193,179]
["81.",{"$f":"B181","v":"ZUZÁNEK"},"Filip","9.A",212,null,{"$f":"G181","v":"Jilemnice  22.11.21"},805.59999999999991,null,{"$f":"J181","v":0},183,179]
[]
[]
[]
[]
[]
[]
[]
[]
[]
[]
[]
[]
[]
[]
[]
[]
[null,"EXNER","Tomáš","6.A",231,null,"Jilemnice  07.06.22",{"$f":"IF(E101=0,0,(E101*3.8))","v":877.8}]
[null,"JANATA","Denis","6.A",149,null,"Jilemnice  23.11.21",566.19999999999993]
[null,"JINDŘIŠEK","Alex Jiří","6.A",100,null,"Jilemnice  07.06.22",380]
[null,"MARŠÁLEK","Ondřej","6.A",169,null,"Jilemnice  07.06.22",642.19999999999993]
[null,"MLATEČEK","Patrik","6.A",130,null,"Jilemnice  23.11.21",494]
[null,"SCHOLZ","Matyáš","6.A",190,null,"Jilemnice  07.06.22",722]
[null,"TOMÁŠ","Jakub","6.A",172,null,"Jilemnice  01.03.22",653.6]
[null,"VÁCLAVÍK","Jan","6.A",182,null,"Jilemnice  07.06.22",691.6]
[null,"VEČEŘA","David","6.A",149,null,"Jilemnice  01.03.22",566.19999999999993]
[null,"VYBÍRAL","Radim","6.A",209,null,"Jilemnice  07.06.22",794.19999999999993]
[null,"BERISHA","David","6.B",160,null,"Jilemnice  23.11.21",608]
[null,"EFENBERK","Šimon","6.B",172,null,"Jilemnice  07.06.22",653.6]
[null,"FEJKL","Antonín","6.B",205,null,"Jilemnice  07.06.22",779]
[null,"GOTTSTEIN","Matouš","6.B",214,null,"Jilemnice  07.06.22",813.19999999999993]
[null,"HÁK","Šimon","6.B",null,null,null,0]
[null,"POVAŽANEC","Lukáš","6.B",162,null,"Jilemnice  07.06.22",615.6]
[null,"VANCL","Jakub","6.B",145,null,"Jilemnice  23.11.21",551]
[null,"VANCL","Miroslav","6.B",190,null,"Jilemnice  01.03.22",722]
[null,"VOTOČEK","Michal","6.B",161,null,"Jilemnice  07.06.22",611.79999999999995]
[null,"BOUKAL","Jakub","7.A",146,null,"Jilemnice  07.03.22",554.79999999999995]
[null,"DEMČUK","Ilja","7.A",182,null,"Jilemnice  31.03.22",691.6,null,150]
[null,"FAISTAUER","Kryštof","7.A",213,null,"Jilemnice  19.11.21",809.4,null,165]
[null,"FRK","Matyáš","7.A",170,null,"Jilemnice  19.11.21",646]
[null,"HUBÁLOVSKÝ","Marek","7.A",191," ","Jilemnice  31.03.22",725.8]
[null,"MAŘAS","Dominik","7.A",203,null,"Jilemnice  07.03.22",771.4]
[null,"MAŤÁTKO","Jakub","7.A",140,null,"Jilemnice  07.03.22",532]
[null,"MERY","Luboš","7.A",160,null,"Jilemnice  19.11.21",608,null,130]
[null,"NOVOTNÝ","Matěj","7.A",154,null,"Jilemnice  19.11.21",585.19999999999993]
[null,"ŘEHOŘEK","Vojtěch","7.A",178,null,"Jilemnice  09.12.21",676.4,null,146]
[null,"ŠÍR","Matyáš","7.A",141,null,"Jilemnice  19.11.21",535.79999999999995,null,158]
[null,"TORÁČ","Tomáš","7.A",90,null,"Jilemnice  07.03.22",342]
[null,"ULLMAN","Šimon","7.A",230,null,"Jilemnice  31.03.22",874]
[null,"VÁCLAVÍK","Ondřej","7.A",202,null,"Jilemnice  19.11.21",{"$f":"IF(E133=0,0,(E133*3.8))","v":767.59999999999991}]
[null,"AUERSWALD","Daniel","7.B",209,null,"Jilemnice  31.03.22",794.19999999999993]
[null,"BODLÁK","Vladimír","7.B",null,null,null,0,null,30]
[null,"BUDÍN","Martin","7.B",200,null,"Jilemnice  24.02.22",760,null,150]
[null,"DVOŘÁK","Dominik","7.B",178,null,"Jilemnice  31.03.22",676.4]
[null,"FIŠERA","Vojtěch","7.B",167,null,"Jilemnice  09.12.21",634.6,null,130]
[null,"JINDŘIŠEK","Vít","7.B",229,null,"Jilemnice  24.02.22",870.19999999999993,null,200]
[null,"JIROUŠ","Matouš","7.B",201," ","Jilemnice  09.12.21",763.8,null,200]
[null,"KERLE","Marek","7.B",201,null,"Jilemnice  09.12.21",763.8,null,158]
[null,"LUKEŠ","Jakub","7.B",241,null,"Jilemnice  09.12.21",915.8,null,190]
[null,"OTT","Matyáš","7.B",191,null,"Jilemnice  19.11.21",725.8]
[null,"POKORNÝ","Matyáš","7.B",222,null,"Jilemnice  31.03.22",843.59999999999991]
[null,"POLÁČEK","Matyáš","7.B",165,null,"Jilemnice  31.03.22",627]
[null,"SOUKUP","Patrik","7.B",null,null,null,0,null,200]
[null,"VALENTA","Jakub","7.B",194,null,"Jilemnice  09.12.21",737.19999999999993]
[null,"VRBATA","Dominik","7.B",192,null,"Jilemnice  24.02.22",729.59999999999991]
[null,"FEJKL","Jan","8.A",232,null,"Jilemnice  28.02.22",881.59999999999991,null,200,202]
[null,"KOTYK","Tadeáš","8.A",181,null,"Jilemnice  13.06.22",687.8,null,60,180]
[null,"KRAUSE","Tadeáš","8.A",221,null,"Jilemnice  28.02.22",839.8,null,201,185]
[null,"LEŠÁK","Martin","8.A",170,null,"Jilemnice  13.06.22",646,null,null,148]
[null,"NECHANICKÝ","David","8.A",250,null,"Jilemnice  13.06.22",950,null,null,195]
[null,"ŘEHOŘEK","Jan","8.A",210,null,"Jilemnice  28.02.22",798,null,null,195]
[null,"SOUKUP","Ondřej","8.A",170,null,"Jilemnice  28.02.22",646,null,null,172]
[null,"SPANILÝ","David","8.A",232,null,"Jilemnice  22.11.21",881.59999999999991,null,198,197]
[null,"ČADAN","Benjamín","8.B",167,null,"Jilemnice  13.06.22",634.6]
[null,"ČERNÝ","Michal","8.B",162,null,"Jilemnice  22.11.21",615.6,null,null,147]
[null,"DOLEJŠÍ","David","8.B",195,null,"Jilemnice  13.06.22",741,null,152,123]
[null,"NOVÁK","Matěj","8.B",182,null,"Jilemnice  22.11.21",691.6,null,169,182]
[null,"POVAŽANEC","Martin","8.B",229,null,"Jilemnice  13.06.22",870.19999999999993,null,null,142]
[null,"RICHTER","Jakub","8.B",190,null,"Jilemnice  13.06.22",722,null,null,148]
[null,"ROZUMEK","Adam","8.B",180," ","Jilemnice  28.02.22",684,null,null,152]
[null,"VALENTA","František","8.B",177,null,"Jilemnice  13.06.22",672.6,null,null,139]
[null,"ZAPLATÍLEK","Josef","8.B",201,null,"Jilemnice  13.06.22",{"$f":"IF(E165=0,0,(E165*3.8))","v":763.8},null,null,169]
[null,"ERBEN","Viktor","9.A",201,null,"Jilemnice  13.06.22",763.8,null,190,179,164]
[null,"FRANC","Daniel","9.A",170,null,"Jilemnice  22.11.21",646,null,null,174,138]
[null,"JINDŘIŠEK","Matyáš","9.A",232,null,"Jilemnice  13.06.22",881.59999999999991,null,205,190,188]
[null,"KOLAČNÝ","Štěpán","9.A",174,null,"Jilemnice  22.11.21",661.19999999999993,null,180,182,170]
[null,"KRISTAN","Jáchym","9.A",120,null,"Jilemnice  22.11.21",456,null,null,120,125]
[null,"NGUYEN","David","9.A",231,null,"Jilemnice  22.11.21",877.8,null,null,220]
[null,"NOVOTNÝ","Jan","9.A",218,null,"Jilemnice  13.06.22",828.4,null,null,192,182]
[null,"RÁB","Adam","9.A",171,null,"Jilemnice  22.11.21",649.79999999999995,null,null,162,137]
[null,"REPASKÝ","Jakub","9.A",238,null,"Jilemnice  13.06.22",904.4,null,null,207,180]
[null,"SKÁLA","Jan","9.A",237,null,"Jilemnice  13.06.22",900.59999999999991,null,null,220,187]
[null,"ŠPULÁK","Jakub","9.A",215,null,"Jilemnice  13.06.22",817,null,null,196,183]
[null,"VALENTA","Tomáš","9.A",262,null,"Jilemnice  13.06.22",995.59999999999991,null,232,224,220]
[null,"VANCL","Jiří","9.A",217,null,"Jilemnice  22.11.21",824.59999999999991,null,null,182,178]
[null,"VAŠÍČEK","David","9.A",220,null,"Jilemnice  22.11.21",836,null,null,192,171]
[null,"ZOUHAR","Ondřej","9.A",211,null,"Jilemnice  22.11.21",801.8,null,null,193,179]
[null,"ZUZÁNEK","Filip","9.A",212,null,"Jilemnice  22.11.21",805.59999999999991,null,null,183,179]

{"sheet":"REPRE","index":23,"n_rows":85,"n_cols":23,"rows_kept":85,"cut":false,"hidden":false,"merged":[]}
[]
[null,null,null,null,null,"OF","OF","OF ","OKRSEK",null,"OF","KF","okrsek","OF","OF","of BASK "," KF","OF","JIL ","OF ","KF","štaf","OVOV"]
[null,null,null,null,"CELKEM","4boj","přespole","PLAV","FLORB","   ŠTAF","FLORB","PLAV","kopaná","fotbal","and 1","8.-9.","bask","VOLEJ","laťka","PoRo","PR"]
[null,"EXNER","Tomáš","6.A",{"$f":"SUM(F4:W4)","v":0}]
[null,"JANATA","Denis","6.A",{"$f":"SUM(F5:W5)","v":0}]
[null,"JINDŘIŠEK","Alex Jiří","6.A",0]
[null,"MARŠÁLEK","Ondřej","6.A",0]
[null,"MLATEČEK","Patrik","6.A",0]
[null,"SCHOLZ","Matyáš","6.A",0]
[null,"TOMÁŠ","Jakub","6.A",0]
[null,"VÁCLAVÍK","Jan","6.A",0]
[null,"VEČEŘA","David","6.A",0]
[null,"VYBÍRAL","Radim","6.A",0]
[null,"BERISHA","David","6.B",0]
[null,"EFENBERK","Šimon","6.B",0]
[null,"FEJKL","Antonín","6.B",125,null,null,null,25,null,50,null,null,null,null,null,null,null,null,null,null,null,50]
[null,"GOTTSTEIN","Matouš","6.B",250,null,null,null,25,null,50,null,null,null,null,null,null,null,null,50,75,null,50]
[null,"HÁK","Šimon","6.B",0]
[null,"POVAŽANEC","Lukáš","6.B",0]
[null,"VANCL","Jakub","6.B",0]
[null,"VANCL","Miroslav","6.B",0]
[null,"VOTOČEK","Michal","6.B",0]
[null,"BOUKAL","Jakub","7.A",0]
[null,"DEMČUK","Ilja","7.A",0]
[null,"FAISTAUER","Kryštof","7.A",200,null,null,null,25,null,50,null,null,null,null,null,null,null,null,50,75]
[null,"FRK","Matyáš","7.A",0]
[null,"HUBÁLOVSKÝ","Marek","7.A",0]
[null,"MAŘAS","Dominik","7.A",0]
[null,"MAŤÁTKO","Jakub","7.A",0]
[null,"MERY","Luboš","7.A",0]
[null,"NOVOTNÝ","Matěj","7.A",0]
[null,"ŘEHOŘEK","Vojtěch","7.A",200,null,null,null,25,null,50,null,null,null,null,null,null,null,null,50,75]
[null,"ŠÍR","Matyáš","7.A",0]
[null,"TORÁČ","Tomáš","7.A",0]
[null,"ULLMAN","Šimon","7.A",0]
[null,"VÁCLAVÍK","Ondřej","7.A",25,null,null,null,25]
[null,"AUERSWALD","Daniel","7.B",25,null,null,null,25]
[null,"BODLÁK","Vladimír","7.B",0]
[null,"BUDÍN","Martin","7.B",0]
[null,"DVOŘÁK","Dominik","7.B",0]
[null,"FIŠERA","Vojtěch","7.B",0]
[null,"JINDŘIŠEK","Vít","7.B",250,null,null,null,25,null,50,null,null,null,null,null,null,null,null,50,75,null,50]
[null,"JIROUŠ","Matouš","7.B",75,null,null,null,25,null,50]
[null,"KERLE","Marek","7.B",175,null,null,null,null,null,50,null,null,null,null,null,null,null,null,50,75]
[null,"LUKEŠ","Jakub","7.B",125,null,null,null,null,null,null,null,null,null,null,null,null,null,null,50,75]
[null,"OTT","Matyáš","7.B",175,null,null,null,null,null,null,null,null,null,null,null,null,null,null,50,75,null,50]
[null,"POKORNÝ","Matyáš","7.B",250,null,null,null,25,null,50,null,null,null,null,null,null,null,null,50,75,null,50]
[null,"POLÁČEK","Matyáš","7.B",25,null,null,null,25]
[null,"SOUKUP","Patrik","7.B",0]
[null,"VALENTA","Jakub","7.B",250,null,null,null,25,null,50,null,null,null,null,null,null,null,null,50,75,null,50]
[null,"VRBATA","Dominik","7.B",125,null,null,null,25,null,50,null,null,null,null,null,null,null,null,50]
[null,"FEJKL","Jan","8.A",125,null,null,null,25,null,50,null,null,null,null,null,null,null,null,null,null,null,50]
[null,"KOTYK","Tadeáš","8.A",0]
[null,"KRAUSE","Tadeáš","8.A",125,null,null,null,25,null,null,null,null,null,null,null,null,null,null,50,null,null,50]
[null,"LEŠÁK","Martin","8.A",0]
[null,"NECHANICKÝ","David","8.A",175,null,null,null,25,null,50,null,null,null,null,null,null,null,null,50,null,null,50]
[null,"ŘEHOŘEK","Jan","8.A",125,null,null,null,25,null,50,null,null,null,null,null,null,null,null,50]
[null,"SOUKUP","Ondřej","8.A",75,null,null,null,25,null,50]
[null,"SPANILÝ","David","8.A",125,null,null,null,25,null,null,null,null,null,null,null,null,null,null,50,null,null,50]
[null,"ČADAN","Benjamín","8.B",0]
[null,"ČERNÝ","Michal","8.B",0]
[null,"DOLEJŠÍ","David","8.B",50,null,null,null,null,null,null,null,null,null,null,null,null,null,null,50]
[null,"NOVÁK","Matěj","8.B",25,null,null,null,25]
[null,"POVAŽANEC","Martin","8.B",50,null,null,null,null,null,null,null,null,null,null,null,null,null,null,50]
[null,"RICHTER","Jakub","8.B",0]
[null,"ROZUMEK","Adam","8.B",0]
[null,"VALENTA","František","8.B",0]
[null,"ZAPLATÍLEK","Josef","8.B",0]
[null,"ERBEN","Viktor","9.A",{"$f":"SUM(F69:W69)","v":0}]
[null,"FRANC","Daniel","9.A",0]
[null,"JINDŘIŠEK","Matyáš","9.A",50,null,null,null,null,null,50]
[null,"KOLAČNÝ","Štěpán","9.A",0]
[null,"KRISTAN","Jáchym","9.A",0]
[null,"NGUYEN","David","9.A",0]
[null,"NOVOTNÝ","Jan","9.A",0]
[null,"RÁB","Adam","9.A",0]
[null,"REPASKÝ","Jakub","9.A",50,null,null,null,null,null,50]
[null,"SKÁLA","Jan","9.A",75,null,null,null,25,null,null,null,null,null,null,null,null,null,null,50]
[null,"ŠPULÁK","Jakub","9.A",50,null,null,null,null,null,null,null,null,null,null,null,null,null,null,50]
[null,"VALENTA","Tomáš","9.A",125,null,null,null,25,null,50,null,null,null,null,null,null,null,null,50]
[null,"VANCL","Jiří","9.A",50,null,null,null,null,null,50]
[null,"VAŠÍČEK","David","9.A",0]
[null,"ZOUHAR","Ondřej","9.A",50,null,null,null,null,null,null,null,null,null,null,null,null,null,null,50]
[null,"ZUZÁNEK","Filip","9.A",0]
[null,null,null,null,null,null,null,null,{"$f":"SUM(I4:I84)/25","v":21}]

{"sheet":"rekordy","index":24,"n_rows":44,"n_cols":15,"rows_kept":44,"cut":false,"hidden":false,"merged":[]}
[null,null,null,null,null,"REKORDY SPORTOVCE ŠKOLY"]
[null,null,null,"6.  ročník",null,null,null,null,null,null,"7.  ročník"]
[null,null,null,null,null,null,null,{"$f":"TODAY()","v":"2022-06-27"},null,null,null,null,null,null,{"$f":"TODAY()","v":"2022-06-27"}]
["   60  m",null,null,"HRUBÝ","Jakub",8.3000000000000007,null,"Turnov   29.05.08",null,"   60  m","ŠIMŮNEK","Patrik",7.67,null,"Turnov   21.06.11"]
[" 300  m",null,null,"ČIBIK","Tomáš","00:00:48.870",null,"Jilemnice  04.06.12",null," 300  m","SVOBODA","David","00:00:42.580",null,"Jilemnice  17.06.09"]
["1000  m",null,null,"ŠMÍD","Tomáš","00:03:27.330",null,"Turnov  13.05.15",null,"1000  m","SVOBODA","David","00:03:12",null,"Jilemnice  18.05.09"]
["dálka",null,null,"HRUBÝ","Jakub",443,null,"Jilemnice  02.06.08",null,"dálka","HRUBÝ","Jakub",536,null,"Jilemnice  08.06.09"]
["výška",null,null,"HRUBÝ","Jakub",145,null,"Turnov   13.05.08",null,"výška","HRUBÝ","Jakub",160,null,"Turnov   16.06.09"]
["míček",null,null,"RYCHLOVSKÝ","David",56.69,null,"Turnov   13.6.17",null,"míček","KVARDA","Adam",58.5,null,"Turnov   10.05.07"]
[null,null,null,null,null,null,null,null,null,null,"CEJNAR","Daniel",58.5,null,"Jilemnice  18.05.16"]
["koule  3",null,null,"ŠMÍD","Tomáš",9.1,null,"Jilemnice  29.04.15",null,"koule  3","VANCL","Dominik",11.68,null,"Jilemnice  27.04.11"]
["oštěp",null,null,null,null,null,null,null,null,"oštěp","LUKEŠ","Martin",27,null,"Jilemnice  18.05.15"]
["člunk. běh",null,null,"ČIBIK","Tomáš",9.76,null,"Jilemnice  08.06.12",null,"člunk. běh","ŠIMŮNEK","Patrik",9.64,null,"Jilemnice  30.05.11"]
["lehsedy",null,null,"PACLÍK","Matěj",58,null,"Jilemnice  20.01.12",null,"lehsedy","TOYA","Thomas",63,null,"Jilemnice  08.04.13"]
["odbíjení",null,null,"RYPL","Martin",1020,null,"Jilemnice  10.05.10",null,"odbíjení","SVOBODA","David",470,null,"Jilemnice  19.06.09"]
[null,null,null,"SEDLÁČEK","Pavel",1020,null,"Jilemnice  10.05.10"]
["plavání 25 m",null,null,"GABRIEL","Lukáš",14.59,null,"Jilemnice  10.03.10",null,"plavání 25 m","GABRIEL","Lukáš",14.15,null,"Jilemnice  21.12.11"]
["shyby",null,null,"HRUBÝ","Daniel",8,null,"Jilemnice  22.03.17",null,"shyby","JEŽEK ","Jonáš",12,null,"Jilemnice  04.06.19"]
["šplh",null,null,"GRZEŠ","Vojtěch",4.38,null,"Jilemnice  18.04.13",null,"šplh","HRUBÝ","Jakub",3.31,null,"Jilemnice  26.11.08"]
["švihadlo",null,null,"KOLDA","Vojtěch",162,null,"Jilemnice  19.10.15",null,"švihadlo","KOLDA","Vojtěch",180,null,"Jilemnice  17.02.17"]
["z místa",null,null,"ŠMÍD","Tomáš",240,null,"Jilemnice  03.06.15",null,"z místa","HRUBÝ","Jakub",258,null,"Jilemnice  15.06.09"]
[null,null,null,"8.  ročník",null,null,null,null,null,null,"9.  ročník"]
[null,null,null,null,null,null,null,{"$f":"TODAY()","v":"2022-06-27"},null,null,null,null,null,null,{"$f":"TODAY()","v":"2022-06-27"}]
["   60  m",null,null,"JINDŘIŠEK","Jakub",7.5,null,"Turnov   15.05.13",null,"   60  m","PLECHÁČ","Michal",7.3,null,"Turnov   13.05.08"]
[" 300  m",null,null,"ŠIMŮNEK","Patrik","00:00:41.650",null,"Turnov   19.06.12",null," 300  m","SVOBODA","David","00:00:39.600",null,"Turnov   21.06.11"]
["1000  m",null,null,"MIKOLÁŠEK","Petr","00:03:16",null,"Turnov   10.05.12",null,"1000  m","GOTTSTEIN","Jonáš","00:02:59.200",null,"Jilemnice  3.4.17"]
["dálka",null,null,"SVOBODA","David",547,null,"Jilemnice  29.04.10",null,"dálka","SVOBODA","David",559,null,"Jilemnice  09.05.11"]
["výška",null,null,"FLÉGL","Adam",152,null,"Turnov    29.05.07",null,"výška","FLÉGL","Adam",174,null,"Turnov   05.06.08"]
[null,null,null,"ČIBIK","Tomáš",152,null,"Turnov    29.05.14"]
["míček",null,null,"CEJNAR","Daniel",77.45,null,"Turnov  13.6.17",null,"míček","FLÉGL","Adam",74.69,null,"Jilemnice  17.09.07"]
[]
["koule  3",null,null,"MACHEK","Dominik",12.71,null,"Jilemnice  27.05.10",null,"koule  3","MACHEK","Dominik",14.29,null,"Jilemnice  06.06.11"]
["oštěp",null,null,"LUKEŠ","Martin",33,null,"Jilemnice  25.05.16",null,"oštěp","CEJNAR","Daniel",45,null,"Jilemnice  24.05.18"]
["člunk. běh",null,null,"DOHNAL","Martin",9.17,null,"Jilemnice  15.06.09",null,"člunk. běh","ZUZÁNEK","Vladimír",8.9499999999999993,null,"Jilemnice  12.03.15"]
["lehsedy",null,null,"TOYA","Thomas",72,null,"Jilemnice  14.04.14",null,"lehsedy","TOYA","Thomas",72,null,"Jilemnice  15.03.15 "]
["odbíjení",null,null,"RYPL","Martin",1201,null,"Jilemnice  25.04.12",null,"odbíjení","CEJNAR","Daniel",1822,null,"Jilemnice  29.01.18"]
[null,null,null,"SEDLÁČEK","Pavel",1201,null,"Jilemnice  25.04.12",null,null,"HAASE  ","Samuel",1822,null,"Jilemnice  29.01.18"]
["plavání 25 m",null,null,"GABRIEL","Lukáš",13.7,null,"Jilemnice  21.12.11",null,"plavání 25 m","GABRIEL","Lukáš",13.29,null,"Jilemnice  19.15.12"]
["shyby",null,null,"SCHILLING","Tomáš",26,null,"Jilemnice  25.05.17",null,"shyby","SCHILLING","Tomáš",30,null,"Jilemnice  11.05.18"]
["šplh",null,null,"VALIŠKA","Jan",2.8,null,"Jilemnice  08.03.10",null,"šplh","HARTIG","Aleš",2.64,null,"Jilemnice  25.04.16"]
["švihadlo",null,null,"KUDRNÁČ","Jakub",195,null,"Jilemnice  29.01.18",null,"švihadlo","KOLDA","Vojtěch",210,null,"Jilemnice  06.05.19"]
["z místa",null,null,"SVOBODA","David",252,null,"Jilemnice  01.03.10",null,"z místa","HONCŮ","Tomáš",263,null,"Jilemnice  11.11.11"]
[null,null,null,"HRUBÝ","Patrik",252,null,"Jilemnice  10.05.19"]
[null,null,null,"VOHNOUT","Zdeněk",252,null,"Jilemnice  06.02.20"]

{"sheet":"press","index":25,"n_rows":27,"n_cols":6,"rows_kept":27,"cut":false,"hidden":false,"merged":[]}
["SPORTOVEC  ŠKOLY",null,null,"8.roč",null,"dálka"]
[]
[]
[null,null,null,"výkon"]
["1.","JINDŘIŠEK","Vít",403]
["2.","VÁCLAVÍK","Ondřej",394]
["3.","JIROUŠ","Matouš",381]
["4.","FAISTAUER","Kryštof",380]
["5.","AUERSWALD","Daniel",380]
["6.","VRBATA","Dominik",375]
["7.","ŘEHOŘEK","Vojtěch",351]
["8.","ULLMAN","Šimon",348]
["9.","LUKEŠ","Jakub",343]
["10.","OTT","Matyáš",342]
["11.","DEMČUK","Ilja",341]
["12.","BUDÍN","Martin",333]
["13.","HUBÁLOVSKÝ","Marek",326]
["14.","MERY","Luboš",322]
["15.","FIŠERA","Vojtěch",302]
["16.","POLÁČEK","Matyáš",299]
["17.","ŠÍR","Matyáš",293]
["18.","FRK","Matyáš",292]
["19.","NOVOTNÝ","Matěj",291]
["20.","DVOŘÁK","Dominik",291]
["21.","KERLE","Marek"]
["22.","POKORNÝ","Matyáš"]
["23.","VALENTA","Jakub"]

{"sheet":"week","index":26,"n_rows":18,"n_cols":10,"rows_kept":18,"cut":false,"hidden":false,"merged":[]}
[null,null,null,"VÝKONY  TÝDNE"]
[]
[null,"2021-11-19",null,"VÁCLAVÍK","ONDŘEJ","7.B",null,"shyby",null,11]
[]
[null,"2021-11-22",null,"ZUZÁNEK","FILIP","9.A",null,"shyby",null,14]
[]
[null,"2021-11-22",null,"VALENTA","TOMÁŠ","9.A",null,"skok z místa",null,"245  cm"]
[]
[null,"2021-11-23",null,"HORÁČKOVÁ ","VALÉRIE","6.B",null,"skok z místa",null,"181  cm"]
[]
[null,"2021-11-23",null,"EXNER","TOMÁŠ","6.A",null,"skok z místa",null,"212  cm"]
[]
[null,"2021-11-24",null,"REPASKÝ","JAKUB","9.A",null,"odbíjení",null,123]
[null,null,null,"VALENTA","TOMÁŠ","9.A",null,"odbíjení",null,123]
[]
[null,"2021-11-29",null,"JINDŘIŠEK","VÍT","7.B",null,"shyby",null,11]
[]
[null,"2021-12-09",null,"LUKEŠ","Jakub","7.B",null,"skok z místa",null,"241  cm"]