{"text_format":"1","workbook":"xlsx","n_sheets":23,"sheets":["HOME","TVOJE","TVOJE2","FOTO","D15","Droč","Dvýk","D60","D300","D800","Ddál","Dvýš","Dmíč","Dkou","Dčlu","Dls","Dodbíj","Dplav","Dšplh","Dšvih","Dz mís","Drepre","Drekordy"],"not_rendered":{"charts":0,"images":0,"macros":1,"external_links":0,"defined_names":2,"comments":0,"pivot_tables":0},"unopened":[],"bounds":{"document_bytes":16777216,"sheet_cells":100000,"rows_first":2000,"rows_last":500,"rows_between":2000,"halvings":0,"cell_chars":16384,"cell_head_chars":4096},"cells_cut":0,"cells_raw":0,"read":"whole","date_system":"1900"}

{"sheet":"HOME","index":0,"n_rows":9,"n_cols":2,"rows_kept":9,"cut":false,"hidden":false,"merged":[[8,1,8,3],[2,0,3,0],[0,0,0,6]]}
["DĚVČATA"]
[]
[]
[]
[]
[]
[]
[]
[null,"DISCIPLÍNY"]

{"sheet":"TVOJE","index":1,"n_rows":2,"n_cols":21,"rows_kept":2,"cut":false,"hidden":false,"merged":[]}
[]
[null,"6.A",null,null,"6.B",null,null,"7.A",null,null,"7.B",null,null,null,"8.A",null,null,"9.A",null,null,"9.B"]

{"sheet":"TVOJE2","index":2,"n_rows":30,"n_cols":11,"rows_kept":30,"cut":false,"hidden":false,"merged":[]}
[]
[]
[null,null,null,"výkon",null,"místo","body",null,"19  - 20","18  - 19","17 - 18"]
[null,null,"60 m"]
[]
[null,null,"300 m"]
[]
[null,null,"800 m"]
[]
[null,null,"dálka"]
[]
[null,null,"výška"]
[]
[null,null,"míček"]
[]
[null,null,"koule"]
[]
[null,null,"člunek"]
[]
[null,null,"lehsed"]
[]
[null,null,"odbíjení"]
[]
[null,null,"plavání"]
[]
[null,null,"šplh"]
[]
[null,null,"švihadlo"]
[]
[" ",null,"z místa"]

{"sheet":"FOTO","index":3,"n_rows":20,"n_cols":6,"rows_kept":20,"cut":false,"hidden":false,"merged":[[1,1,1,2]]}
[]
[null,"PRO  ZOBRAZENÍ  FOTOGRAFIÍ  JE  TŘEBA  PŘÍSTUP  K  INTERNETU"]
[]
[]
[null,null,null,null,"DALŠÍ  SPORTOVNÍ  AKCE"]
[]
[null,2020,"VYHLÁŠENÍ  SE  NEUSKUTEČNILO",null,"10.12.2019  OF  FLORBAL  STARŠÍ ŽÁCI","13.11.2019  OF  PLAVÁNÍ    JILEMNICE"]
[null,null,null,null,"19.12.2019  OF  FLORBAL ML.ŽÁCI  JIL.","25.9.2019   JILEMNICKÉ  ŠTAFETY"]
[null,null,null,null,"24. 9.2019  OF  ČTYŘBOJ   TURNOV"]
[]
[null,2019,"VYHLÁŠENÍ  SPORTOVCE  ŠKOLY     13. ROČNÍK",null,"6. 12. 2018  OF  FLORBAL  6.-7. ROČ","14.11.2018  OF  PLAVÁNÍ  JILEMNICE"]
[null,null,null,null,"26. 9.2018  OF  ČTYŘBOJ  TURNOV"]
[null,2018,"VYHLÁŠENÍ  SPORTOVCE  ŠKOLY     12. ROČNÍK"]
[]
[null,2017,"VYHLÁŠENÍ  SPORTOVCE  ŠKOLY     11. ROČNÍK"]
[]
[null,2016,"VYHLÁŠENÍ  SPORTOVCE  ŠKOLY     10. ROČNÍK",null,"11. 5. 2016  POHÁR  ROZHLASU  TURNOV"]
[]
[]
[null,null,"průběžně budu přídávat další"]

{"sheet":"D15","index":4,"n_rows":125,"n_cols":21,"rows_kept":125,"cut":false,"hidden":false,"merged":[]}
[" ",null,"T O P     1 5",null,null,null,null,null,null,null,null,null,null,null,null,null,null,null,"stav  k ",null,{"$f":"TODAY()","v":"2021-06-28"}]
[]
[null,null,null,null,null,"60  m  ","300m","800m","dálka","výška","míček","koule","člunek","lehsed","odbíjení ","plavání","šplh","švihadlo","z místa"," REPRE","       CELKEM"]
[]
["1.",{"$f":"B35","v":"ERBENOVÁ"},"Sára","6.A",null,645.31395527950497,0,0,570.39200000000005,0,321.5,325.33333333333331,0,541.93000000000006,0,0,0,174.5,454.22757318224751,0,3033.1968617950856]
["2.","HOFMANOVÁ ","Nicol","6.A",null,625.22731742197993,491.29911072507264,0,646.90800000000002,0,285.10000000000002,419.55555555555549,606.79776690367351,389.14,0,0,0,318.25,670.63172804532587,0,4452.9094786516071]
["3.","HOLEŠOVSKÁ","Aneta","6.A",null,683.11979661237478,0,279.53101451086951,622.56200000000001,0,414.32,0,0,0,0,0,0,0,0,0,1999.5328111232441]
["4.","HOLUBCOVÁ","Alena","6.A",null,0,687.08808051101755,0,634.73500000000001,0,530.80000000000007,574.22222222222217,680.42888189513451,0,0,0,0,0,694.15391879131289,0,3801.4281034196874]
["5.","KOHOUTOVÁ","Anna","6.A",null,556.5564307851572,420.75368230544586,0,525.178,0,239.6,272.88888888888886,539.83698467963779,0,0,0,0,0,0,0,2554.8139866591296]
["6.","KRAUSOVÁ","Anežka","6.A",null,635.71649167546843,619.11520564567854,0,0,0,0,0,638.09124869544166,528.04,0,0,0,0,694.15391879131289,0,3115.1168648079019]
["7.","KUŽELOVÁ","Apoléna","6.A",null,692.00216911019038,0,517.12152660114498,606.91100000000006,0,337.88,0,0,0,0,0,0,0,0,0,2153.9146957113353]
["8.","MORÁVKOVÁ","Lucie","6.A",null,645.31395527950497,0,446.68653053571416,513.005,0,383.38,0,0,625.27,0,0,0,493.25,0,0,3106.9054858152194]
["9.","SKLENÁROVÁ","Eliška","6.A",null,0,474.62790960773896,0,0,0,0,0,0,583.6,0,0,0,243.25,553.02077431539215,0,1854.4986839231312]
["10.","ŠTOLFOVÁ","Tereza","6.A",null,694.7781473200863,609.08737025104813,0,0,0,257.8,293.33333333333331,622.36964301058197,0,0,0,0,0,491.86307837582638,0,2969.2315722908761]
["11.","ŠUBÍKOVÁ","Klára","6.A",null,0,593.87737794081704,0,669.51499999999999,0,239.6,364.44444444444446,642.88981107314976,0,0,0,0,0,623.58734655335252,0,3133.9139800117637]
["12.","TULÁČKOVÁ","Natálie","6.A",null,648.98173596672461,0,458.70083324999996,577.34800000000007,0,326.96000000000004,0,0,666.94,0,0,0,262,0,0,2940.9305692167245]
["13.","VOJTÍŠKOVÁ","Ella","6.A",null,709.6954326770342,0,0,659.08100000000002,0,450.72,0,0,0,0,0,0,830.75,567.13408876298399,0,3217.3805214400181]
["14.","DRUGÁČOVÁ","Kristinka","6.B",null,0,628.8570230727272,0,664.298,0,{"$f":"K48","v":303.3},377.77777777777777,693.38759734963094,416.92,0,0,0,249.5,703.56279508970738,0,4037.6031932898431]
["15.",{"$f":"B49","v":"FAJSTAVROVÁ"},"Karolína","6.B",null,709.6954326770342,0,757.67455472120457,634.73500000000001,0,410.68,0,0,305.8,0,0,0,362,308.38999055712941,0,3488.9749779553681]
[]
[]
[]
[]
[]
[]
[]
[]
[]
[]
[]
[]
[]
[]
[null,null,null,null,null,"60  m  ","300m","800m","dálka","výška","míček","koule","člunek","lehsed","odbíjení ","plavání","šplh","švihadlo","z místa"," REPRE","   CELKEM"]
[null,{"$f":"'D60'!B101","v":"ERBENOVÁ"},{"$f":"'D60'!C101","v":"Sára"},{"$f":"'D60'!D101","v":"6.A"},null,{"$f":"'D60'!H101","v":645.31395527950497},{"$f":"'D300'!H101","v":0},{"$f":"'D800'!H101","v":0},{"$f":"Ddál!H101","v":570.39200000000005},{"$f":"Dvýš!H101","v":0},{"$f":"Dmíč!H101","v":321.5},{"$f":"Dkou!H101","v":325.33333333333331},{"$f":"Dčlu!H101","v":0},{"$f":"Dls!H101","v":541.93000000000006},{"$f":"Dodbíj!H101","v":0},{"$f":"Dplav!H101","v":0},{"$f":"Dšplh!H101","v":0},{"$f":"Dšvih!H101","v":174.5},{"$f":"'Dz mís'!H101","v":454.22757318224751},{"$f":"Drepre!E4","v":0},{"$f":"SUM(F35:T35)","v":3033.1968617950856}]
[null,{"$f":"'D60'!B102","v":"HOFMANOVÁ "},{"$f":"'D60'!C102","v":"Nicol"},{"$f":"'D60'!D102","v":"6.A"},null,{"$f":"'D60'!H102","v":625.22731742197993},{"$f":"'D300'!H102","v":491.29911072507264},{"$f":"'D800'!H102","v":0},{"$f":"Ddál!H102","v":646.90800000000002},{"$f":"Dvýš!H102","v":0},{"$f":"Dmíč!H102","v":285.10000000000002},{"$f":"Dkou!H102","v":419.55555555555549},{"$f":"Dčlu!H102","v":606.79776690367351},{"$f":"Dls!H102","v":389.14},{"$f":"Dodbíj!H102","v":0},{"$f":"Dplav!H102","v":0},{"$f":"Dšplh!H102","v":0},{"$f":"Dšvih!H102","v":318.25},{"$f":"'Dz mís'!H102","v":670.63172804532587},{"$f":"Drepre!E5","v":0},4452.9094786516071]
[null,{"$f":"'D60'!B103","v":"HOLEŠOVSKÁ"},{"$f":"'D60'!C103","v":"Aneta"},{"$f":"'D60'!D103","v":"6.A"},null,{"$f":"'D60'!H103","v":683.11979661237478},{"$f":"'D300'!H103","v":0},{"$f":"'D800'!H103","v":279.53101451086951},{"$f":"Ddál!H103","v":622.56200000000001},{"$f":"Dvýš!H103","v":0},{"$f":"Dmíč!H103","v":414.32},{"$f":"Dkou!H103","v":0},{"$f":"Dčlu!H103","v":0},{"$f":"Dls!H103","v":0},{"$f":"Dodbíj!H103","v":0},{"$f":"Dplav!H103","v":0},{"$f":"Dšplh!H103","v":0},{"$f":"Dšvih!H103","v":0},{"$f":"'Dz mís'!H103","v":0},{"$f":"Drepre!E6","v":0},1999.5328111232441]
[null,{"$f":"'D60'!B104","v":"HOLUBCOVÁ"},{"$f":"'D60'!C104","v":"Alena"},{"$f":"'D60'!D104","v":"6.A"},null,{"$f":"'D60'!H104","v":0},{"$f":"'D300'!H104","v":687.08808051101755},{"$f":"'D800'!H104","v":0},{"$f":"Ddál!H104","v":634.73500000000001},{"$f":"Dvýš!H104","v":0},{"$f":"Dmíč!H104","v":530.80000000000007},{"$f":"Dkou!H104","v":574.22222222222217},{"$f":"Dčlu!H104","v":680.42888189513451},{"$f":"Dls!H104","v":0},{"$f":"Dodbíj!H104","v":0},{"$f":"Dplav!H104","v":0},{"$f":"Dšplh!H104","v":0},{"$f":"Dšvih!H104","v":0},{"$f":"'Dz mís'!H104","v":694.15391879131289},{"$f":"Drepre!E7","v":0},3801.4281034196874]
[null,{"$f":"'D60'!B105","v":"KOHOUTOVÁ"},{"$f":"'D60'!C105","v":"Anna"},{"$f":"'D60'!D105","v":"6.A"},null,{"$f":"'D60'!H105","v":556.5564307851572},{"$f":"'D300'!H105","v":420.75368230544586},{"$f":"'D800'!H105","v":0},{"$f":"Ddál!H105","v":525.178},{"$f":"Dvýš!H105","v":0},{"$f":"Dmíč!H105","v":239.6},{"$f":"Dkou!H105","v":272.88888888888886},{"$f":"Dčlu!H105","v":539.83698467963779},{"$f":"Dls!H105","v":0},{"$f":"Dodbíj!H105","v":0},{"$f":"Dplav!H105","v":0},{"$f":"Dšplh!H105","v":0},{"$f":"Dšvih!H105","v":0},{"$f":"'Dz mís'!H105","v":0},{"$f":"Drepre!E8","v":0},2554.8139866591296]
[null,{"$f":"'D60'!B106","v":"KRAUSOVÁ"},{"$f":"'D60'!C106","v":"Anežka"},{"$f":"'D60'!D106","v":"6.A"},null,{"$f":"'D60'!H106","v":635.71649167546843},{"$f":"'D300'!H106","v":619.11520564567854},{"$f":"'D800'!H106","v":0},{"$f":"Ddál!H106","v":0},{"$f":"Dvýš!H106","v":0},{"$f":"Dmíč!H106","v":0},{"$f":"Dkou!H106","v":0},{"$f":"Dčlu!H106","v":638.09124869544166},{"$f":"Dls!H106","v":528.04},{"$f":"Dodbíj!H106","v":0},{"$f":"Dplav!H106","v":0},{"$f":"Dšplh!H106","v":0},{"$f":"Dšvih!H106","v":0},{"$f":"'Dz mís'!H106","v":694.15391879131289},{"$f":"Drepre!E9","v":0},3115.1168648079019]
[null,{"$f":"'D60'!B107","v":"KUŽELOVÁ"},{"$f":"'D60'!C107","v":"Apoléna"},{"$f":"'D60'!D107","v":"6.A"},null,{"$f":"'D60'!H107","v":692.00216911019038},{"$f":"'D300'!H107","v":0},{"$f":"'D800'!H107","v":517.12152660114498},{"$f":"Ddál!H107","v":606.91100000000006},{"$f":"Dvýš!H107","v":0},{"$f":"Dmíč!H107","v":337.88},{"$f":"Dkou!H107","v":0},{"$f":"Dčlu!H107","v":0},{"$f":"Dls!H107","v":0},{"$f":"Dodbíj!H107","v":0},{"$f":"Dplav!H107","v":0},{"$f":"Dšplh!H107","v":0},{"$f":"Dšvih!H107","v":0},{"$f":"'Dz mís'!H107","v":0},{"$f":"Drepre!E10","v":0},2153.9146957113353]
[null,{"$f":"'D60'!B108","v":"MORÁVKOVÁ"},{"$f":"'D60'!C108","v":"Lucie"},{"$f":"'D60'!D108","v":"6.A"},null,{"$f":"'D60'!H108","v":645.31395527950497},{"$f":"'D300'!H108","v":0},{"$f":"'D800'!H108","v":446.68653053571416},{"$f":"Ddál!H108","v":513.005},{"$f":"Dvýš!H108","v":0},{"$f":"Dmíč!H108","v":383.38},{"$f":"Dkou!H108","v":0},{"$f":"Dčlu!H108","v":0},{"$f":"Dls!H108","v":625.27},{"$f":"Dodbíj!H108","v":0},{"$f":"Dplav!H108","v":0},{"$f":"Dšplh!H108","v":0},{"$f":"Dšvih!H108","v":493.25},{"$f":"'Dz mís'!H108","v":0},{"$f":"Drepre!E11","v":0},3106.9054858152194]
[null,{"$f":"'D60'!B109","v":"SKLENÁROVÁ"},{"$f":"'D60'!C109","v":"Eliška"},{"$f":"'D60'!D109","v":"6.A"},null,{"$f":"'D60'!H109","v":0},{"$f":"'D300'!H109","v":474.62790960773896},{"$f":"'D800'!H109","v":0},{"$f":"Ddál!H109","v":0},{"$f":"Dvýš!H109","v":0},{"$f":"Dmíč!H109","v":0},{"$f":"Dkou!H109","v":0},{"$f":"Dčlu!H109","v":0},{"$f":"Dls!H109","v":583.6},{"$f":"Dodbíj!H109","v":0},{"$f":"Dplav!H109","v":0},{"$f":"Dšplh!H109","v":0},{"$f":"Dšvih!H109","v":243.25},{"$f":"'Dz mís'!H109","v":553.02077431539215},{"$f":"Drepre!E12","v":0},1854.4986839231312]
[null,{"$f":"'D60'!B110","v":"ŠTOLFOVÁ"},{"$f":"'D60'!C110","v":"Tereza"},{"$f":"'D60'!D110","v":"6.A"},null,{"$f":"'D60'!H110","v":694.7781473200863},{"$f":"'D300'!H110","v":609.08737025104813},{"$f":"'D800'!H110","v":0},{"$f":"Ddál!H110","v":0},{"$f":"Dvýš!H110","v":0},{"$f":"Dmíč!H110","v":257.8},{"$f":"Dkou!H110","v":293.33333333333331},{"$f":"Dčlu!H110","v":622.36964301058197},{"$f":"Dls!H110","v":0},{"$f":"Dodbíj!H110","v":0},{"$f":"Dplav!H110","v":0},{"$f":"Dšplh!H110","v":0},{"$f":"Dšvih!H110","v":0},{"$f":"'Dz mís'!H110","v":491.86307837582638},{"$f":"Drepre!E13","v":0},2969.2315722908761]
[null,{"$f":"'D60'!B111","v":"ŠUBÍKOVÁ"},{"$f":"'D60'!C111","v":"Klára"},{"$f":"'D60'!D111","v":"6.A"},null,{"$f":"'D60'!H111","v":0},{"$f":"'D300'!H111","v":593.87737794081704},{"$f":"'D800'!H111","v":0},{"$f":"Ddál!H111","v":669.51499999999999},{"$f":"Dvýš!H111","v":0},{"$f":"Dmíč!H111","v":239.6},{"$f":"Dkou!H111","v":364.44444444444446},{"$f":"Dčlu!H111","v":642.88981107314976},{"$f":"Dls!H111","v":0},{"$f":"Dodbíj!H111","v":0},{"$f":"Dplav!H111","v":0},{"$f":"Dšplh!H111","v":0},{"$f":"Dšvih!H111","v":0},{"$f":"'Dz mís'!H111","v":623.58734655335252},{"$f":"Drepre!E14","v":0},3133.9139800117637]
[null,{"$f":"'D60'!B112","v":"TULÁČKOVÁ"},{"$f":"'D60'!C112","v":"Natálie"},{"$f":"'D60'!D112","v":"6.A"},null,{"$f":"'D60'!H112","v":648.98173596672461},{"$f":"'D300'!H112","v":0},{"$f":"'D800'!H112","v":458.70083324999996},{"$f":"Ddál!H112","v":577.34800000000007},{"$f":"Dvýš!H112","v":0},{"$f":"Dmíč!H112","v":326.96000000000004},{"$f":"Dkou!H112","v":0},{"$f":"Dčlu!H112","v":0},{"$f":"Dls!H112","v":666.94},{"$f":"Dodbíj!H112","v":0},{"$f":"Dplav!H112","v":0},{"$f":"Dšplh!H112","v":0},{"$f":"Dšvih!H112","v":262},{"$f":"'Dz mís'!H112","v":0},{"$f":"Drepre!E15","v":0},2940.9305692167245]
[null,{"$f":"'D60'!B113","v":"VOJTÍŠKOVÁ"},{"$f":"'D60'!C113","v":"Ella"},{"$f":"'D60'!D113","v":"6.A"},null,{"$f":"'D60'!H113","v":709.6954326770342},{"$f":"'D300'!H113","v":0},{"$f":"'D800'!H113","v":0},{"$f":"Ddál!H113","v":659.08100000000002},{"$f":"Dvýš!H113","v":0},{"$f":"Dmíč!H113","v":450.72},{"$f":"Dkou!H113","v":0},{"$f":"Dčlu!H113","v":0},{"$f":"Dls!H113","v":0},{"$f":"Dodbíj!H113","v":0},{"$f":"Dplav!H113","v":0},{"$f":"Dšplh!H113","v":0},{"$f":"Dšvih!H113","v":830.75},{"$f":"'Dz mís'!H113","v":567.13408876298399},{"$f":"Drepre!E16","v":0},3217.3805214400181]
[null,{"$f":"'D60'!B114","v":"DRUGÁČOVÁ"},{"$f":"'D60'!C114","v":"Kristinka"},{"$f":"'D60'!D114","v":"6.B"},null,{"$f":"'D60'!H114","v":0},{"$f":"'D300'!H114","v":628.8570230727272},{"$f":"'D800'!H114","v":0},{"$f":"Ddál!H114","v":664.298},{"$f":"Dvýš!H114","v":0},{"$f":"Dmíč!H114","v":303.3},{"$f":"Dkou!H114","v":377.77777777777777},{"$f":"Dčlu!H114","v":693.38759734963094},{"$f":"Dls!H114","v":416.92},{"$f":"Dodbíj!H114","v":0},{"$f":"Dplav!H114","v":0},{"$f":"Dšplh!H114","v":0},{"$f":"Dšvih!H114","v":249.5},{"$f":"'Dz mís'!H114","v":703.56279508970738},{"$f":"Drepre!E17","v":0},4037.6031932898431]
[null,{"$f":"'D60'!B115","v":"FAJSTAVROVÁ"},{"$f":"'D60'!C115","v":"Karolína"},{"$f":"'D60'!D115","v":"6.B"},null,{"$f":"'D60'!H115","v":709.6954326770342},{"$f":"'D300'!H115","v":0},{"$f":"'D800'!H115","v":757.67455472120457},{"$f":"Ddál!H115","v":634.73500000000001},{"$f":"Dvýš!H115","v":0},{"$f":"Dmíč!H115","v":410.68},{"$f":"Dkou!H115","v":0},{"$f":"Dčlu!H115","v":0},{"$f":"Dls!H115","v":305.8},{"$f":"Dodbíj!H115","v":0},{"$f":"Dplav!H115","v":0},{"$f":"Dšplh!H115","v":0},{"$f":"Dšvih!H115","v":362},{"$f":"'Dz mís'!H115","v":308.38999055712941},{"$f":"Drepre!E18","v":0},3488.9749779553681]
[null,{"$f":"'D60'!B116","v":"FAJSTAVROVÁ"},{"$f":"'D60'!C116","v":"Magdaléna"},{"$f":"'D60'!D116","v":"6.B"},null,{"$f":"'D60'!H116","v":736.69000174666667},{"$f":"'D300'!H116","v":0},{"$f":"'D800'!H116","v":801.5705491730771},{"$f":"Ddál!H116","v":0},{"$f":"Dvýš!H116","v":0},{"$f":"Dmíč!H116","v":530.80000000000007},{"$f":"Dkou!H116","v":0},{"$f":"Dčlu!H116","v":0},{"$f":"Dls!H116","v":625.27},{"$f":"Dodbíj!H116","v":0},{"$f":"Dplav!H116","v":0},{"$f":"Dšplh!H116","v":0},{"$f":"Dšvih!H116","v":493.25},{"$f":"'Dz mís'!H116","v":722.38054768649681},{"$f":"Drepre!E19","v":0},3909.9610986062407]
[null,{"$f":"'D60'!B117","v":"HLAVATÁ"},{"$f":"'D60'!C117","v":"Anna"},{"$f":"'D60'!D117","v":"6.B"},null,{"$f":"'D60'!H117","v":0},{"$f":"'D300'!H117","v":0},{"$f":"'D800'!H117","v":0},{"$f":"Ddál!H117","v":636.47400000000005},{"$f":"Dvýš!H117","v":0},{"$f":"Dmíč!H117","v":0},{"$f":"Dkou!H117","v":0},{"$f":"Dčlu!H117","v":632.18454373474572},{"$f":"Dls!H117","v":0},{"$f":"Dodbíj!H117","v":0},{"$f":"Dplav!H117","v":0},{"$f":"Dšplh!H117","v":0},{"$f":"Dšvih!H117","v":0},{"$f":"'Dz mís'!H117","v":0},{"$f":"Drepre!E20","v":0},1268.6585437347458]
[null,{"$f":"'D60'!B118","v":"JINDROVÁ"},{"$f":"'D60'!C118","v":"Barbora"},{"$f":"'D60'!D118","v":"6.B"},null,{"$f":"'D60'!H118","v":615.05021777438014},{"$f":"'D300'!H118","v":0},{"$f":"'D800'!H118","v":564.85999985655735},{"$f":"Ddál!H118","v":643.43000000000006},{"$f":"Dvýš!H118","v":0},{"$f":"Dmíč!H118","v":221.4},{"$f":"Dkou!H118","v":0},{"$f":"Dčlu!H118","v":0},{"$f":"Dls!H118","v":347.47},{"$f":"Dodbíj!H118","v":0},{"$f":"Dplav!H118","v":0},{"$f":"Dšplh!H118","v":0},{"$f":"Dšvih!H118","v":337},{"$f":"'Dz mís'!H118","v":477.74976392823442},{"$f":"Drepre!E21","v":0},3206.9599815591719]
[null,{"$f":"'D60'!B119","v":"MAŘASOVÁ"},{"$f":"'D60'!C119","v":"Vendula"},{"$f":"'D60'!D119","v":"6.B"},null,{"$f":"'D60'!H119","v":0},{"$f":"'D300'!H119","v":0},{"$f":"'D800'!H119","v":545.48143413047808},{"$f":"Ddál!H119","v":547.78500000000008},{"$f":"Dvýš!H119","v":0},{"$f":"Dmíč!H119","v":239.6},{"$f":"Dkou!H119","v":0},{"$f":"Dčlu!H119","v":0},{"$f":"Dls!H119","v":0},{"$f":"Dodbíj!H119","v":0},{"$f":"Dplav!H119","v":0},{"$f":"Dšplh!H119","v":0},{"$f":"Dšvih!H119","v":0},{"$f":"'Dz mís'!H119","v":0},{"$f":"Drepre!E22","v":0},1332.866434130478]
[null,{"$f":"'D60'!B120","v":"PETŘÍČKOVÁ"},{"$f":"'D60'!C120","v":"Natálie"},{"$f":"'D60'!D120","v":"6.B"},null,{"$f":"'D60'!H120","v":697.57472648144721},{"$f":"'D300'!H120","v":0},{"$f":"'D800'!H120","v":0},{"$f":"Ddál!H120","v":674.73200000000008},{"$f":"Dvýš!H120","v":0},{"$f":"Dmíč!H120","v":399.76},{"$f":"Dkou!H120","v":0},{"$f":"Dčlu!H120","v":0},{"$f":"Dls!H120","v":0},{"$f":"Dodbíj!H120","v":0},{"$f":"Dplav!H120","v":0},{"$f":"Dšplh!H120","v":0},{"$f":"Dšvih!H120","v":0},{"$f":"'Dz mís'!H120","v":0},{"$f":"Drepre!E23","v":0},1772.0667264814472]
[null,{"$f":"'D60'!B121","v":"PETŘÍKOVÁ"},{"$f":"'D60'!C121","v":"Adéla"},{"$f":"'D60'!D121","v":"6.B"},null,{"$f":"'D60'!H121","v":599.80740329590731},{"$f":"'D300'!H121","v":541.67729241279358},{"$f":"'D800'!H121","v":0},{"$f":"Ddál!H121","v":464.31300000000005},{"$f":"Dvýš!H121","v":0},{"$f":"Dmíč!H121","v":203.20000000000002},{"$f":"Dkou!H121","v":353.77777777777777},{"$f":"Dčlu!H121","v":574.23646618555904},{"$f":"Dls!H121","v":333.58000000000004},{"$f":"Dodbíj!H121","v":0},{"$f":"Dplav!H121","v":0},{"$f":"Dšplh!H121","v":0},{"$f":"Dšvih!H121","v":124.5},{"$f":"'Dz mís'!H121","v":576.54296506137871},{"$f":"Drepre!E24","v":0},3771.6349047334165]
[null,{"$f":"'D60'!B122","v":"REGÁLOVÁ"},{"$f":"'D60'!C122","v":"Karolína"},{"$f":"'D60'!D122","v":"6.B"},null,{"$f":"'D60'!H122","v":657.06115804243473},{"$f":"'D300'!H122","v":0},{"$f":"'D800'!H122","v":529.71143956517506},{"$f":"Ddál!H122","v":636.47400000000005},{"$f":"Dvýš!H122","v":0},{"$f":"Dmíč!H122","v":425.24},{"$f":"Dkou!H122","v":0},{"$f":"Dčlu!H122","v":0},{"$f":"Dls!H122","v":778.06000000000006},{"$f":"Dodbíj!H122","v":0},{"$f":"Dplav!H122","v":0},{"$f":"Dšplh!H122","v":0},{"$f":"Dšvih!H122","v":462},{"$f":"'Dz mís'!H122","v":430.70538243626072},{"$f":"Drepre!E25","v":0},3919.2519800438704]
[null,{"$f":"'D60'!B123","v":"RIEGROVÁ"},{"$f":"'D60'!C123","v":"Magdaléna"},{"$f":"'D60'!D123","v":"6.B"},null,{"$f":"'D60'!H123","v":0},{"$f":"'D300'!H123","v":514.42470234499331},{"$f":"'D800'!H123","v":0},{"$f":"Ddál!H123","v":0},{"$f":"Dvýš!H123","v":0},{"$f":"Dmíč!H123","v":285.10000000000002},{"$f":"Dkou!H123","v":256.88888888888891},{"$f":"Dčlu!H123","v":587.79291573116575},{"$f":"Dls!H123","v":0},{"$f":"Dodbíj!H123","v":0},{"$f":"Dplav!H123","v":0},{"$f":"Dšplh!H123","v":0},{"$f":"Dšvih!H123","v":0},{"$f":"'Dz mís'!H123","v":590.65627950897101},{"$f":"Drepre!E26","v":0},2234.8627864740192]
[null,{"$f":"'D60'!B124","v":"RYBENSKÁ"},{"$f":"'D60'!C124","v":"Sabina"},{"$f":"'D60'!D124","v":"6.B"},null,{"$f":"'D60'!H124","v":681.77189518952468},{"$f":"'D300'!H124","v":0},{"$f":"'D800'!H124","v":529.71143956517506},{"$f":"Ddál!H124","v":582.56500000000005},{"$f":"Dvýš!H124","v":0},{"$f":"Dmíč!H124","v":232.32000000000002},{"$f":"Dkou!H124","v":0},{"$f":"Dčlu!H124","v":0},{"$f":"Dls!H124","v":0},{"$f":"Dodbíj!H124","v":0},{"$f":"Dplav!H124","v":0},{"$f":"Dšplh!H124","v":0},{"$f":"Dšvih!H124","v":0},{"$f":"'Dz mís'!H124","v":0},{"$f":"Drepre!E27","v":0},2026.3683347546996]
[null,{"$f":"'D60'!B125","v":"STEINEROVÁ"},{"$f":"'D60'!C125","v":"Barbora"},{"$f":"'D60'!D125","v":"6.B"},null,{"$f":"'D60'!H125","v":665.3271387095914},{"$f":"'D300'!H125","v":0},{"$f":"'D800'!H125","v":527.15441848255807},{"$f":"Ddál!H125","v":631.25700000000006},{"$f":"Dvýš!H125","v":0},{"$f":"Dmíč!H125","v":447.08000000000004},{"$f":"Dkou!H125","v":0},{"$f":"Dčlu!H125","v":0},{"$f":"Dls!H125","v":0},{"$f":"Dodbíj!H125","v":0},{"$f":"Dplav!H125","v":0},{"$f":"Dšplh!H125","v":0},{"$f":"Dšvih!H125","v":0},{"$f":"'Dz mís'!H125","v":0},{"$f":"Drepre!E28","v":0},2270.8185571921495]
[null,{"$f":"'D60'!B126","v":"TOMEŠOVÁ"},{"$f":"'D60'!C126","v":"Barbora"},{"$f":"'D60'!D126","v":"6.B"},null,{"$f":"'D60'!H126","v":644.70635054098352},{"$f":"'D300'!H126","v":0},{"$f":"'D800'!H126","v":522.09938449615402},{"$f":"Ddál!H126","v":509.52700000000004},{"$f":"Dvýš!H126","v":0},{"$f":"Dmíč!H126","v":297.84000000000003},{"$f":"Dkou!H126","v":0},{"$f":"Dčlu!H126","v":0},{"$f":"Dls!H126","v":0},{"$f":"Dodbíj!H126","v":0},{"$f":"Dplav!H126","v":0},{"$f":"Dšplh!H126","v":0},{"$f":"Dšvih!H126","v":0},{"$f":"'Dz mís'!H126","v":0},{"$f":"Drepre!E29","v":0},1974.1727350371375]
[null,{"$f":"'D60'!B127","v":"VOHNOUTOVÁ"},{"$f":"'D60'!C127","v":"Aneta"},{"$f":"'D60'!D127","v":"6.B"},null,{"$f":"'D60'!H127","v":739.80690650048962},{"$f":"'D300'!H127","v":0},{"$f":"'D800'!H127","v":654.93444424999996},{"$f":"Ddál!H127","v":0},{"$f":"Dvýš!H127","v":0},{"$f":"Dmíč!H127","v":530.80000000000007},{"$f":"Dkou!H127","v":0},{"$f":"Dčlu!H127","v":0},{"$f":"Dls!H127","v":805.84},{"$f":"Dodbíj!H127","v":0},{"$f":"Dplav!H127","v":0},{"$f":"Dšplh!H127","v":0},{"$f":"Dšvih!H127","v":274.5},{"$f":"'Dz mís'!H127","v":458.93201133144487},{"$f":"Drepre!E30","v":0},3464.8133620819344]
[null,{"$f":"'D60'!B128","v":"HAVLÍKOVÁ"},{"$f":"'D60'!C128","v":"Michaela"},{"$f":"'D60'!D128","v":"7.A"},null,{"$f":"'D60'!H128","v":635.12532875773047},{"$f":"'D300'!H128","v":0},{"$f":"'D800'!H128","v":0},{"$f":"Ddál!H128","v":634.73500000000001},{"$f":"Dvýš!H128","v":0},{"$f":"Dmíč!H128","v":0},{"$f":"Dkou!H128","v":254.2222222222222},{"$f":"Dčlu!H128","v":673.78621506169497},{"$f":"Dls!H128","v":0},{"$f":"Dodbíj!H128","v":0},{"$f":"Dplav!H128","v":0},{"$f":"Dšplh!H128","v":0},{"$f":"Dšvih!H128","v":0},{"$f":"'Dz mís'!H128","v":0},{"$f":"Drepre!E31","v":0},2197.8687660416476]
[null,{"$f":"'D60'!B129","v":"HOLUBCOVÁ"},{"$f":"'D60'!C129","v":"Sára"},{"$f":"'D60'!D129","v":"7.A"},null,{"$f":"'D60'!H129","v":792.33146925574101},{"$f":"'D300'!H129","v":0},{"$f":"'D800'!H129","v":0},{"$f":"Ddál!H129","v":758.20400000000006},{"$f":"Dvýš!H129","v":0},{"$f":"Dmíč!H129","v":458},{"$f":"Dkou!H129","v":381.33333333333331},{"$f":"Dčlu!H129","v":706.8086895057902},{"$f":"Dls!H129","v":0},{"$f":"Dodbíj!H129","v":0},{"$f":"Dplav!H129","v":0},{"$f":"Dšplh!H129","v":0},{"$f":"Dšvih!H129","v":362},{"$f":"'Dz mís'!H129","v":0},{"$f":"Drepre!E32","v":0},3458.6774920948646]
[null,{"$f":"'D60'!B130","v":"HONCŮ"},{"$f":"'D60'!C130","v":"Tereza"},{"$f":"'D60'!D130","v":"7.A"},null,{"$f":"'D60'!H130","v":671.16245086571166},{"$f":"'D300'!H130","v":0},{"$f":"'D800'!H130","v":0},{"$f":"Ddál!H130","v":723.42400000000009},{"$f":"Dvýš!H130","v":0},{"$f":"Dmíč!H130","v":403.40000000000003},{"$f":"Dkou!H130","v":356.4444444444444},{"$f":"Dčlu!H130","v":0},{"$f":"Dls!H130","v":0},{"$f":"Dodbíj!H130","v":0},{"$f":"Dplav!H130","v":0},{"$f":"Dšplh!H130","v":0},{"$f":"Dšvih!H130","v":0},{"$f":"'Dz mís'!H130","v":0},{"$f":"Drepre!E33","v":0},2154.4308953101563]
[null,{"$f":"'D60'!B131","v":"HORÁČKOVÁ"},{"$f":"'D60'!C131","v":"Kateřina"},{"$f":"'D60'!D131","v":"7.A"},null,{"$f":"'D60'!H131","v":791.44384526624958},{"$f":"'D300'!H131","v":0},{"$f":"'D800'!H131","v":0},{"$f":"Ddál!H131","v":754.726},{"$f":"Dvýš!H131","v":0},{"$f":"Dmíč!H131","v":403.40000000000003},{"$f":"Dkou!H131","v":511.11111111111109},{"$f":"Dčlu!H131","v":694.08223034502919},{"$f":"Dls!H131","v":541.93000000000006},{"$f":"Dodbíj!H131","v":0},{"$f":"Dplav!H131","v":0},{"$f":"Dšplh!H131","v":0},{"$f":"Dšvih!H131","v":212},{"$f":"'Dz mís'!H131","v":0},{"$f":"Drepre!E34","v":0},3908.6931867223893]
[null,{"$f":"'D60'!B132","v":"JOUDALOVÁ"},{"$f":"'D60'!C132","v":"Daniela"},{"$f":"'D60'!D132","v":"7.A"},null,{"$f":"'D60'!H132","v":0},{"$f":"'D300'!H132","v":0},{"$f":"'D800'!H132","v":0},{"$f":"Ddál!H132","v":0},{"$f":"Dvýš!H132","v":0},{"$f":"Dmíč!H132","v":0},{"$f":"Dkou!H132","v":364.44444444444446},{"$f":"Dčlu!H132","v":0},{"$f":"Dls!H132","v":0},{"$f":"Dodbíj!H132","v":0},{"$f":"Dplav!H132","v":0},{"$f":"Dšplh!H132","v":0},{"$f":"Dšvih!H132","v":0},{"$f":"'Dz mís'!H132","v":0},{"$f":"Drepre!E35","v":0},364.44444444444446]
[null,{"$f":"'D60'!B133","v":"KLÍMOVÁ"},{"$f":"'D60'!C133","v":"Anna"},{"$f":"'D60'!D133","v":"7.A"},null,{"$f":"'D60'!H133","v":695.47535183811272},{"$f":"'D300'!H133","v":0},{"$f":"'D800'!H133","v":0},{"$f":"Ddál!H133","v":0},{"$f":"Dvýš!H133","v":0},{"$f":"Dmíč!H133","v":0},{"$f":"Dkou!H133","v":422.22222222222223},{"$f":"Dčlu!H133","v":662.76350304454274},{"$f":"Dls!H133","v":0},{"$f":"Dodbíj!H133","v":0},{"$f":"Dplav!H133","v":0},{"$f":"Dšplh!H133","v":0},{"$f":"Dšvih!H133","v":0},{"$f":"'Dz mís'!H133","v":0},{"$f":"Drepre!E36","v":0},{"$f":"SUM(F67:T67)","v":1780.4610771048779}]
[null,{"$f":"'D60'!B134","v":"KOHOUTOVÁ"},{"$f":"'D60'!C134","v":"Veronika"},{"$f":"'D60'!D134","v":"7.A"},null,{"$f":"'D60'!H134","v":0},{"$f":"'D300'!H134","v":0},{"$f":"'D800'!H134","v":0},{"$f":"Ddál!H134","v":780.81100000000004},{"$f":"Dvýš!H134","v":0},{"$f":"Dmíč!H134","v":539.9},{"$f":"Dkou!H134","v":494.22222222222217},{"$f":"Dčlu!H134","v":695.47535183811272},{"$f":"Dls!H134","v":0},{"$f":"Dodbíj!H134","v":0},{"$f":"Dplav!H134","v":0},{"$f":"Dšplh!H134","v":0},{"$f":"Dšvih!H134","v":0},{"$f":"'Dz mís'!H134","v":0},{"$f":"Drepre!E37","v":0},2510.408574060335]
[null,{"$f":"'D60'!B135","v":"KOVÁŘOVÁ"},{"$f":"'D60'!C135","v":"Viktorie"},{"$f":"'D60'!D135","v":"7.A"},null,{"$f":"'D60'!H135","v":708.97170822379167},{"$f":"'D300'!H135","v":0},{"$f":"'D800'!H135","v":0},{"$f":"Ddál!H135","v":721.68500000000006},{"$f":"Dvýš!H135","v":0},{"$f":"Dmíč!H135","v":357.90000000000003},{"$f":"Dkou!H135","v":372.4444444444444},{"$f":"Dčlu!H135","v":692.69424478371741},{"$f":"Dls!H135","v":583.6},{"$f":"Dodbíj!H135","v":0},{"$f":"Dplav!H135","v":0},{"$f":"Dšplh!H135","v":0},{"$f":"Dšvih!H135","v":0},{"$f":"'Dz mís'!H135","v":0},{"$f":"Drepre!E38","v":0},3437.2953974519532]
[null,{"$f":"'D60'!B136","v":"KYNČLOVÁ"},{"$f":"'D60'!C136","v":"Anna"},{"$f":"'D60'!D136","v":"7.A"},null,{"$f":"'D60'!H136","v":799.49973372666659},{"$f":"'D300'!H136","v":0},{"$f":"'D800'!H136","v":0},{"$f":"Ddál!H136","v":766.899},{"$f":"Dvýš!H136","v":0},{"$f":"Dmíč!H136","v":503.5},{"$f":"Dkou!H136","v":329.77777777777777},{"$f":"Dčlu!H136","v":750.10768920006615},{"$f":"Dls!H136","v":736.39},{"$f":"Dodbíj!H136","v":0},{"$f":"Dplav!H136","v":0},{"$f":"Dšplh!H136","v":0},{"$f":"Dšvih!H136","v":355.75},{"$f":"'Dz mís'!H136","v":0},{"$f":"Drepre!E39","v":0},4241.9242007045104]
[null,{"$f":"'D60'!B137","v":"MATOUŠOVÁ"},{"$f":"'D60'!C137","v":"Tereza"},{"$f":"'D60'!D137","v":"7.A"},null,{"$f":"'D60'!H137","v":695.47535183811272},{"$f":"'D300'!H137","v":0},{"$f":"'D800'!H137","v":0},{"$f":"Ddál!H137","v":739.07500000000005},{"$f":"Dvýš!H137","v":0},{"$f":"Dmíč!H137","v":376.1},{"$f":"Dkou!H137","v":432},{"$f":"Dčlu!H137","v":628.68833219814508},{"$f":"Dls!H137","v":0},{"$f":"Dodbíj!H137","v":0},{"$f":"Dplav!H137","v":509.95443449696967},{"$f":"Dšplh!H137","v":0},{"$f":"Dšvih!H137","v":312},{"$f":"'Dz mís'!H137","v":0},{"$f":"Drepre!E40","v":0},3693.2931185332272]
[null,{"$f":"'D60'!B138","v":"MAZÁNKOVÁ"},{"$f":"'D60'!C138","v":"Zuzana"},{"$f":"'D60'!D138","v":"7.A"},null,{"$f":"'D60'!H138","v":735.91457295679004},{"$f":"'D300'!H138","v":0},{"$f":"'D800'!H138","v":0},{"$f":"Ddál!H138","v":672.99300000000005},{"$f":"Dvýš!H138","v":0},{"$f":"Dmíč!H138","v":348.8},{"$f":"Dkou!H138","v":422.22222222222223},{"$f":"Dčlu!H138","v":0},{"$f":"Dls!H138","v":0},{"$f":"Dodbíj!H138","v":0},{"$f":"Dplav!H138","v":0},{"$f":"Dšplh!H138","v":0},{"$f":"Dšvih!H138","v":0},{"$f":"'Dz mís'!H138","v":0},{"$f":"Drepre!E41","v":0},2179.9297951790122]
[null,{"$f":"'D60'!B139","v":"MORKESOVÁ"},{"$f":"'D60'!C139","v":"Sabrina"},{"$f":"'D60'!D139","v":"7.A"},null,{"$f":"'D60'!H139","v":0},{"$f":"'D300'!H139","v":0},{"$f":"'D800'!H139","v":0},{"$f":"Ddál!H139","v":766.899},{"$f":"Dvýš!H139","v":0},{"$f":"Dmíč!H139","v":767.4},{"$f":"Dkou!H139","v":610.66666666666663},{"$f":"Dčlu!H139","v":743.73755041371385},{"$f":"Dls!H139","v":541.93000000000006},{"$f":"Dodbíj!H139","v":0},{"$f":"Dplav!H139","v":0},{"$f":"Dšplh!H139","v":0},{"$f":"Dšvih!H139","v":412},{"$f":"'Dz mís'!H139","v":637.70066100094436},{"$f":"Drepre!E42","v":0},4480.3338780813247]
[null,{"$f":"'D60'!B140","v":"POHOŘALÁ"},{"$f":"'D60'!C140","v":"Alžběta"},{"$f":"'D60'!D140","v":"7.A"},null,{"$f":"'D60'!H140","v":799.49973372666659},{"$f":"'D300'!H140","v":0},{"$f":"'D800'!H140","v":0},{"$f":"Ddál!H140","v":733.85800000000006},{"$f":"Dvýš!H140","v":0},{"$f":"Dmíč!H140","v":412.5},{"$f":"Dkou!H140","v":400.8888888888888},{"$f":"Dčlu!H140","v":699.68581856465107},{"$f":"Dls!H140","v":0},{"$f":"Dodbíj!H140","v":0},{"$f":"Dplav!H140","v":509.95443449696967},{"$f":"Dšplh!H140","v":0},{"$f":"Dšvih!H140","v":0},{"$f":"'Dz mís'!H140","v":0},{"$f":"Drepre!E43","v":0},3556.3868756771758]
[null,{"$f":"'D60'!B141","v":"SCHOLZOVÁ"},{"$f":"'D60'!C141","v":"Laura"},{"$f":"'D60'!D141","v":"7.A"},null,{"$f":"'D60'!H141","v":663.40270892559784},{"$f":"'D300'!H141","v":0},{"$f":"'D800'!H141","v":0},{"$f":"Ddál!H141","v":0},{"$f":"Dvýš!H141","v":0},{"$f":"Dmíč!H141","v":0},{"$f":"Dkou!H141","v":295.99999999999994},{"$f":"Dčlu!H141","v":636.30866254362036},{"$f":"Dls!H141","v":0},{"$f":"Dodbíj!H141","v":0},{"$f":"Dplav!H141","v":509.95443449696967},{"$f":"Dšplh!H141","v":0},{"$f":"Dšvih!H141","v":0},{"$f":"'Dz mís'!H141","v":0},{"$f":"Drepre!E44","v":0},2105.6658059661877]
[null,{"$f":"'D60'!B142","v":"VÁCLAVÍKOVÁ"},{"$f":"'D60'!C142","v":"Valerie"},{"$f":"'D60'!D142","v":"7.A"},null,{"$f":"'D60'!H142","v":806.78975215888181},{"$f":"'D300'!H142","v":0},{"$f":"'D800'!H142","v":0},{"$f":"Ddál!H142","v":742.553},{"$f":"Dvýš!H142","v":0},{"$f":"Dmíč!H142","v":485.3},{"$f":"Dkou!H142","v":548.44444444444446},{"$f":"Dčlu!H142","v":684.47261289911864},{"$f":"Dls!H142","v":528.04},{"$f":"Dodbíj!H142","v":0},{"$f":"Dplav!H142","v":509.95443449696967},{"$f":"Dšplh!H142","v":0},{"$f":"Dšvih!H142","v":287},{"$f":"'Dz mís'!H142","v":477.74976392823442},{"$f":"Drepre!E45","v":0},5070.3040079276498]
[null,{"$f":"'D60'!B143","v":"ZAPADLOVÁ"},{"$f":"'D60'!C143","v":"Emma"},{"$f":"'D60'!D143","v":"7.A"},null,{"$f":"'D60'!H143","v":797.69637307457981},{"$f":"'D300'!H143","v":0},{"$f":"'D800'!H143","v":0},{"$f":"Ddál!H143","v":728.64100000000008},{"$f":"Dvýš!H143","v":0},{"$f":"Dmíč!H143","v":612.70000000000005},{"$f":"Dkou!H143","v":400.8888888888888},{"$f":"Dčlu!H143","v":690.62183435692396},{"$f":"Dls!H143","v":486.37},{"$f":"Dodbíj!H143","v":0},{"$f":"Dplav!H143","v":509.95443449696967},{"$f":"Dšplh!H143","v":0},{"$f":"Dšvih!H143","v":412},{"$f":"'Dz mís'!H143","v":0},{"$f":"Drepre!E46","v":0},4638.8725308173616]
[null,{"$f":"'D60'!B144","v":"ŽIŠKOVÁ"},{"$f":"'D60'!C144","v":"Mia"},{"$f":"'D60'!D144","v":"7.A"},null,{"$f":"'D60'!H144","v":792.33146925574101},{"$f":"'D300'!H144","v":0},{"$f":"'D800'!H144","v":0},{"$f":"Ddál!H144","v":725.16300000000001},{"$f":"Dvýš!H144","v":0},{"$f":"Dmíč!H144","v":412.5},{"$f":"Dkou!H144","v":0},{"$f":"Dčlu!H144","v":0},{"$f":"Dls!H144","v":0},{"$f":"Dodbíj!H144","v":0},{"$f":"Dplav!H144","v":0},{"$f":"Dšplh!H144","v":0},{"$f":"Dšvih!H144","v":0},{"$f":"'Dz mís'!H144","v":0},{"$f":"Drepre!E47","v":0},1929.994469255741]
[null,{"$f":"'D60'!B145","v":"FARSKÁ"},{"$f":"'D60'!C145","v":"Tereza"},{"$f":"'D60'!D145","v":"7.B"},null,{"$f":"'D60'!H145","v":647.14308227157278},{"$f":"'D300'!H145","v":0},{"$f":"'D800'!H145","v":0},{"$f":"Ddál!H145","v":0},{"$f":"Dvýš!H145","v":0},{"$f":"Dmíč!H145","v":0},{"$f":"Dkou!H145","v":0},{"$f":"Dčlu!H145","v":0},{"$f":"Dls!H145","v":472.48},{"$f":"Dodbíj!H145","v":0},{"$f":"Dplav!H145","v":0},{"$f":"Dšplh!H145","v":0},{"$f":"Dšvih!H145","v":355.75},{"$f":"'Dz mís'!H145","v":426.00094428706336},{"$f":"Drepre!E48","v":0},1901.3740265586362]
[null,{"$f":"'D60'!B146","v":"FEIXOVÁ"},{"$f":"'D60'!C146","v":"Rozálie"},{"$f":"'D60'!D146","v":"7.B"},null,{"$f":"'D60'!H146","v":645.31395527950497},{"$f":"'D300'!H146","v":0},{"$f":"'D800'!H146","v":0},{"$f":"Ddál!H146","v":565.17500000000007},{"$f":"Dvýš!H146","v":0},{"$f":"Dmíč!H146","v":0},{"$f":"Dkou!H146","v":0},{"$f":"Dčlu!H146","v":0},{"$f":"Dls!H146","v":0},{"$f":"Dodbíj!H146","v":0},{"$f":"Dplav!H146","v":0},{"$f":"Dšplh!H146","v":0},{"$f":"Dšvih!H146","v":0},{"$f":"'Dz mís'!H146","v":0},{"$f":"Drepre!E49","v":0},1210.488955279505]
[null,{"$f":"'D60'!B147","v":"FIŠEROVÁ"},{"$f":"'D60'!C147","v":"Michaela"},{"$f":"'D60'!D147","v":"7.B"},null,{"$f":"'D60'!H147","v":689.24656505229348},{"$f":"'D300'!H147","v":0},{"$f":"'D800'!H147","v":0},{"$f":"Ddál!H147","v":553.00200000000007},{"$f":"Dvýš!H147","v":570.5},{"$f":"Dmíč!H147","v":0},{"$f":"Dkou!H147","v":0},{"$f":"Dčlu!H147","v":0},{"$f":"Dls!H147","v":0},{"$f":"Dodbíj!H147","v":0},{"$f":"Dplav!H147","v":0},{"$f":"Dšplh!H147","v":0},{"$f":"Dšvih!H147","v":0},{"$f":"'Dz mís'!H147","v":0},{"$f":"Drepre!E50","v":0},1812.7485650522935]
[null,{"$f":"'D60'!B148","v":"HAVLÍČKOVÁ"},{"$f":"'D60'!C148","v":"Kristýna"},{"$f":"'D60'!D148","v":"7.B"},null,{"$f":"'D60'!H148","v":600.87327277804752},{"$f":"'D300'!H148","v":0},{"$f":"'D800'!H148","v":0},{"$f":"Ddál!H148","v":539.09},{"$f":"Dvýš!H148","v":0},{"$f":"Dmíč!H148","v":0},{"$f":"Dkou!H148","v":0},{"$f":"Dčlu!H148","v":0},{"$f":"Dls!H148","v":0},{"$f":"Dodbíj!H148","v":0},{"$f":"Dplav!H148","v":0},{"$f":"Dšplh!H148","v":0},{"$f":"Dšvih!H148","v":0},{"$f":"'Dz mís'!H148","v":0},{"$f":"Drepre!E51","v":0},1139.9632727780477]
[null,{"$f":"'D60'!B149","v":"JODASOVÁ"},{"$f":"'D60'!C149","v":"Nikola"},{"$f":"'D60'!D149","v":"7.B"},null,{"$f":"'D60'!H149","v":777.48948576786313},{"$f":"'D300'!H149","v":0},{"$f":"'D800'!H149","v":0},{"$f":"Ddál!H149","v":695.6},{"$f":"Dvýš!H149","v":0},{"$f":"Dmíč!H149","v":0},{"$f":"Dkou!H149","v":0},{"$f":"Dčlu!H149","v":0},{"$f":"Dls!H149","v":0},{"$f":"Dodbíj!H149","v":0},{"$f":"Dplav!H149","v":0},{"$f":"Dšplh!H149","v":0},{"$f":"Dšvih!H149","v":0},{"$f":"'Dz mís'!H149","v":0},{"$f":"Drepre!E52","v":0},1473.0894857678632]
[null,{"$f":"'D60'!B150","v":"KADAVÁ"},{"$f":"'D60'!C150","v":"Nikola"},{"$f":"'D60'!D150","v":"7.B"},null,{"$f":"'D60'!H150","v":0},{"$f":"'D300'!H150","v":0},{"$f":"'D800'!H150","v":0},{"$f":"Ddál!H150","v":0},{"$f":"Dvýš!H150","v":0},{"$f":"Dmíč!H150","v":0},{"$f":"Dkou!H150","v":0},{"$f":"Dčlu!H150","v":0},{"$f":"Dls!H150","v":583.6},{"$f":"Dodbíj!H150","v":0},{"$f":"Dplav!H150","v":0},{"$f":"Dšplh!H150","v":0},{"$f":"Dšvih!H150","v":0},{"$f":"'Dz mís'!H150","v":0},{"$f":"Drepre!E53","v":0},583.6]
[null,{"$f":"'D60'!B151","v":"KRAFKOVÁ"},{"$f":"'D60'!C151","v":"Lucie"},{"$f":"'D60'!D151","v":"7.B"},null,{"$f":"'D60'!H151","v":675.76644790420426},{"$f":"'D300'!H151","v":0},{"$f":"'D800'!H151","v":0},{"$f":"Ddál!H151","v":537.351},{"$f":"Dvýš!H151","v":0},{"$f":"Dmíč!H151","v":0},{"$f":"Dkou!H151","v":0},{"$f":"Dčlu!H151","v":0},{"$f":"Dls!H151","v":0},{"$f":"Dodbíj!H151","v":0},{"$f":"Dplav!H151","v":0},{"$f":"Dšplh!H151","v":0},{"$f":"Dšvih!H151","v":0},{"$f":"'Dz mís'!H151","v":0},{"$f":"Drepre!E54","v":0},1213.1174479042043]
[null,{"$f":"'D60'!B152","v":"KŘIVINKOVÁ"},{"$f":"'D60'!C152","v":"Alžběta"},{"$f":"'D60'!D152","v":"7.B"},null,{"$f":"'D60'!H152","v":681.77189518952468},{"$f":"'D300'!H152","v":0},{"$f":"'D800'!H152","v":0},{"$f":"Ddál!H152","v":626.04000000000008},{"$f":"Dvýš!H152","v":0},{"$f":"Dmíč!H152","v":0},{"$f":"Dkou!H152","v":0},{"$f":"Dčlu!H152","v":0},{"$f":"Dls!H152","v":0},{"$f":"Dodbíj!H152","v":0},{"$f":"Dplav!H152","v":0},{"$f":"Dšplh!H152","v":0},{"$f":"Dšvih!H152","v":0},{"$f":"'Dz mís'!H152","v":0},{"$f":"Drepre!E55","v":0},1307.8118951895249]
[null,{"$f":"'D60'!B153","v":"LEŠÁKOVÁ"},{"$f":"'D60'!C153","v":"Lenka"},{"$f":"'D60'!D153","v":"7.B"},null,{"$f":"'D60'!H153","v":598.7449721024193},{"$f":"'D300'!H153","v":0},{"$f":"'D800'!H153","v":0},{"$f":"Ddál!H153","v":0},{"$f":"Dvýš!H153","v":0},{"$f":"Dmíč!H153","v":0},{"$f":"Dkou!H153","v":0},{"$f":"Dčlu!H153","v":0},{"$f":"Dls!H153","v":0},{"$f":"Dodbíj!H153","v":0},{"$f":"Dplav!H153","v":0},{"$f":"Dšplh!H153","v":0},{"$f":"Dšvih!H153","v":0},{"$f":"'Dz mís'!H153","v":0},{"$f":"Drepre!E56","v":0},598.7449721024193]
[null,{"$f":"'D60'!B154","v":"NYKLÍČKOVÁ"},{"$f":"'D60'!C154","v":"Adéla"},{"$f":"'D60'!D154","v":"7.B"},null,{"$f":"'D60'!H154","v":747.7070730995714},{"$f":"'D300'!H154","v":0},{"$f":"'D800'!H154","v":0},{"$f":"Ddál!H154","v":695.6},{"$f":"Dvýš!H154","v":668},{"$f":"Dmíč!H154","v":0},{"$f":"Dkou!H154","v":0},{"$f":"Dčlu!H154","v":0},{"$f":"Dls!H154","v":0},{"$f":"Dodbíj!H154","v":0},{"$f":"Dplav!H154","v":0},{"$f":"Dšplh!H154","v":0},{"$f":"Dšvih!H154","v":0},{"$f":"'Dz mís'!H154","v":0},{"$f":"Drepre!E57","v":0},2111.3070730995714]
[null,{"$f":"'D60'!B155","v":"PLŮCHOVÁ"},{"$f":"'D60'!C155","v":"Petra"},{"$f":"'D60'!D155","v":"7.B"},null,{"$f":"'D60'!H155","v":681.77189518952468},{"$f":"'D300'!H155","v":0},{"$f":"'D800'!H155","v":0},{"$f":"Ddál!H155","v":521.70000000000005},{"$f":"Dvýš!H155","v":668},{"$f":"Dmíč!H155","v":0},{"$f":"Dkou!H155","v":0},{"$f":"Dčlu!H155","v":0},{"$f":"Dls!H155","v":0},{"$f":"Dodbíj!H155","v":0},{"$f":"Dplav!H155","v":0},{"$f":"Dšplh!H155","v":0},{"$f":"Dšvih!H155","v":0},{"$f":"'Dz mís'!H155","v":0},{"$f":"Drepre!E58","v":0},1871.4718951895247]
[null,{"$f":"'D60'!B156","v":"PODZIMKOVÁ"},{"$f":"'D60'!C156","v":"Eliška"},{"$f":"'D60'!D156","v":"7.B"},null,{"$f":"'D60'!H156","v":601.40750209743589},{"$f":"'D300'!H156","v":0},{"$f":"'D800'!H156","v":0},{"$f":"Ddál!H156","v":460.83500000000004},{"$f":"Dvýš!H156","v":596.5},{"$f":"Dmíč!H156","v":0},{"$f":"Dkou!H156","v":0},{"$f":"Dčlu!H156","v":0},{"$f":"Dls!H156","v":0},{"$f":"Dodbíj!H156","v":0},{"$f":"Dplav!H156","v":0},{"$f":"Dšplh!H156","v":0},{"$f":"Dšvih!H156","v":0},{"$f":"'Dz mís'!H156","v":0},{"$f":"Drepre!E59","v":0},1658.742502097436]
[null,{"$f":"'D60'!B157","v":"RUTKAYOVÁ"},{"$f":"'D60'!C157","v":"Klára"},{"$f":"'D60'!D157","v":"7.B"},null,{"$f":"'D60'!H157","v":0},{"$f":"'D300'!H157","v":0},{"$f":"'D800'!H157","v":0},{"$f":"Ddál!H157","v":0},{"$f":"Dvýš!H157","v":0},{"$f":"Dmíč!H157","v":0},{"$f":"Dkou!H157","v":0},{"$f":"Dčlu!H157","v":0},{"$f":"Dls!H157","v":583.6},{"$f":"Dodbíj!H157","v":0},{"$f":"Dplav!H157","v":0},{"$f":"Dšplh!H157","v":0},{"$f":"Dšvih!H157","v":437},{"$f":"'Dz mís'!H157","v":0},{"$f":"Drepre!E60","v":0},1020.6]
[null,{"$f":"'D60'!B158","v":"SEIDLOVÁ"},{"$f":"'D60'!C158","v":"Zuzana"},{"$f":"'D60'!D158","v":"7.B"},null,{"$f":"'D60'!H158","v":612.82962418478849},{"$f":"'D300'!H158","v":0},{"$f":"'D800'!H158","v":0},{"$f":"Ddál!H158","v":624.30100000000004},{"$f":"Dvýš!H158","v":635.5},{"$f":"Dmíč!H158","v":0},{"$f":"Dkou!H158","v":0},{"$f":"Dčlu!H158","v":0},{"$f":"Dls!H158","v":375.25},{"$f":"Dodbíj!H158","v":0},{"$f":"Dplav!H158","v":0},{"$f":"Dšplh!H158","v":0},{"$f":"Dšvih!H158","v":224.5},{"$f":"'Dz mís'!H158","v":477.74976392823442},{"$f":"Drepre!E61","v":0},2950.1303881130234]
[null,{"$f":"'D60'!B159","v":"TOMÁŠOVÁ"},{"$f":"'D60'!C159","v":"Sára"},{"$f":"'D60'!D159","v":"7.B"},null,{"$f":"'D60'!H159","v":592.96232302451369},{"$f":"'D300'!H159","v":0},{"$f":"'D800'!H159","v":0},{"$f":"Ddál!H159","v":473.00800000000004},{"$f":"Dvýš!H159","v":0},{"$f":"Dmíč!H159","v":0},{"$f":"Dkou!H159","v":0},{"$f":"Dčlu!H159","v":0},{"$f":"Dls!H159","v":0},{"$f":"Dodbíj!H159","v":0},{"$f":"Dplav!H159","v":0},{"$f":"Dšplh!H159","v":0},{"$f":"Dšvih!H159","v":0},{"$f":"'Dz mís'!H159","v":0},{"$f":"Drepre!E62","v":0},1065.9703230245136]
[null,{"$f":"'D60'!B160","v":"VANCLOVÁ"},{"$f":"'D60'!C160","v":"Barbora"},{"$f":"'D60'!D160","v":"7.B"},null,{"$f":"'D60'!H160","v":759.0335506690069},{"$f":"'D300'!H160","v":0},{"$f":"'D800'!H160","v":0},{"$f":"Ddál!H160","v":613.86700000000008},{"$f":"Dvýš!H160","v":635.5},{"$f":"Dmíč!H160","v":0},{"$f":"Dkou!H160","v":0},{"$f":"Dčlu!H160","v":0},{"$f":"Dls!H160","v":0},{"$f":"Dodbíj!H160","v":0},{"$f":"Dplav!H160","v":0},{"$f":"Dšplh!H160","v":0},{"$f":"Dšvih!H160","v":0},{"$f":"'Dz mís'!H160","v":0},{"$f":"Drepre!E63","v":0},2008.4005506690069]
[null,{"$f":"'D60'!B161","v":"VOTOČKOVÁ"},{"$f":"'D60'!C161","v":"Veronika"},{"$f":"'D60'!D161","v":"7.B"},null,{"$f":"'D60'!H161","v":590.88467438804776},{"$f":"'D300'!H161","v":0},{"$f":"'D800'!H161","v":0},{"$f":"Ddál!H161","v":573.87},{"$f":"Dvýš!H161","v":0},{"$f":"Dmíč!H161","v":0},{"$f":"Dkou!H161","v":0},{"$f":"Dčlu!H161","v":0},{"$f":"Dls!H161","v":0},{"$f":"Dodbíj!H161","v":0},{"$f":"Dplav!H161","v":0},{"$f":"Dšplh!H161","v":0},{"$f":"Dšvih!H161","v":0},{"$f":"'Dz mís'!H161","v":0},{"$f":"Drepre!E64","v":0},1164.7546743880478]
[null,{"$f":"'D60'!B162","v":"HARTIGOVÁ"},{"$f":"'D60'!C162","v":"Anna"},{"$f":"'D60'!D162","v":"8.A"},null,{"$f":"'D60'!H162","v":703.23061181339574},{"$f":"'D300'!H162","v":0},{"$f":"'D800'!H162","v":0},{"$f":"Ddál!H162","v":716.46800000000007},{"$f":"Dvýš!H162","v":0},{"$f":"Dmíč!H162","v":458},{"$f":"Dkou!H162","v":627.55555555555554},{"$f":"Dčlu!H162","v":0},{"$f":"Dls!H162","v":0},{"$f":"Dodbíj!H162","v":63},{"$f":"Dplav!H162","v":0},{"$f":"Dšplh!H162","v":0},{"$f":"Dšvih!H162","v":0},{"$f":"'Dz mís'!H162","v":0},{"$f":"Drepre!E65","v":0},2568.2541673689516]
[null,{"$f":"'D60'!B163","v":"HONCŮ"},{"$f":"'D60'!C163","v":"Rozálie"},{"$f":"'D60'!D163","v":"8.A"},null,{"$f":"'D60'!H163","v":829.42216232425562},{"$f":"'D300'!H163","v":0},{"$f":"'D800'!H163","v":0},{"$f":"Ddál!H163","v":810.37400000000002},{"$f":"Dvýš!H163","v":0},{"$f":"Dmíč!H163","v":494.40000000000003},{"$f":"Dkou!H163","v":653.33333333333337},{"$f":"Dčlu!H163","v":733.59732948850012},{"$f":"Dls!H163","v":0},{"$f":"Dodbíj!H163","v":30},{"$f":"Dplav!H163","v":0},{"$f":"Dšplh!H163","v":0},{"$f":"Dšvih!H163","v":0},{"$f":"'Dz mís'!H163","v":0},{"$f":"Drepre!E66","v":0},3551.1268251460892]
[null,{"$f":"'D60'!B164","v":"CHALOUPSKÁ"},{"$f":"'D60'!C164","v":"Lucie"},{"$f":"'D60'!D164","v":"8.A"},null,{"$f":"'D60'!H164","v":0},{"$f":"'D300'!H164","v":847.95657419260442},{"$f":"'D800'!H164","v":0},{"$f":"Ddál!H164","v":791.245},{"$f":"Dvýš!H164","v":0},{"$f":"Dmíč!H164","v":530.80000000000007},{"$f":"Dkou!H164","v":660.44444444444446},{"$f":"Dčlu!H164","v":701.80872646175362},{"$f":"Dls!H164","v":0},{"$f":"Dodbíj!H164","v":12},{"$f":"Dplav!H164","v":0},{"$f":"Dšplh!H164","v":0},{"$f":"Dšvih!H164","v":0},{"$f":"'Dz mís'!H164","v":0},{"$f":"Drepre!E67","v":0},3544.2547450988022]
[null,{"$f":"'D60'!B165","v":"KŘÍŽKOVÁ"},{"$f":"'D60'!C165","v":"Anna"},{"$f":"'D60'!D165","v":"8.A"},null,{"$f":"'D60'!H165","v":696.17384747561709},{"$f":"'D300'!H165","v":650.29815717572421},{"$f":"'D800'!H165","v":0},{"$f":"Ddál!H165","v":613.86700000000008},{"$f":"Dvýš!H165","v":0},{"$f":"Dmíč!H165","v":458},{"$f":"Dkou!H165","v":537.77777777777771},{"$f":"Dčlu!H165","v":661.48847929946976},{"$f":"Dls!H165","v":0},{"$f":"Dodbíj!H165","v":36},{"$f":"Dplav!H165","v":0},{"$f":"Dšplh!H165","v":0},{"$f":"Dšvih!H165","v":0},{"$f":"'Dz mís'!H165","v":0},{"$f":"Drepre!E68","v":0},{"$f":"SUM(F99:T99)","v":3653.6052617285891}]
[null,{"$f":"'D60'!B166","v":"LUKEŠOVÁ"},{"$f":"'D60'!C166","v":"Kristýna"},{"$f":"'D60'!D166","v":"8.A"},null,{"$f":"'D60'!H166","v":0},{"$f":"'D300'!H166","v":726.31598911774654},{"$f":"'D800'!H166","v":0},{"$f":"Ddál!H166","v":723.42400000000009},{"$f":"Dvýš!H166","v":0},{"$f":"Dmíč!H166","v":412.5},{"$f":"Dkou!H166","v":520},{"$f":"Dčlu!H166","v":694.08223034502919},{"$f":"Dls!H166","v":0},{"$f":"Dodbíj!H166","v":30},{"$f":"Dplav!H166","v":0},{"$f":"Dšplh!H166","v":0},{"$f":"Dšvih!H166","v":0},{"$f":"'Dz mís'!H166","v":0},{"$f":"Drepre!E69","v":0},3106.3222194627756]
[null,{"$f":"'D60'!B167","v":"MOTLÍKOVÁ"},{"$f":"'D60'!C167","v":"Eliška"},{"$f":"'D60'!D167","v":"8.A"},null,{"$f":"'D60'!H167","v":721.46340005454545},{"$f":"'D300'!H167","v":0},{"$f":"'D800'!H167","v":0},{"$f":"Ddál!H167","v":699.07800000000009},{"$f":"Dvýš!H167","v":0},{"$f":"Dmíč!H167","v":458},{"$f":"Dkou!H167","v":590.22222222222229},{"$f":"Dčlu!H167","v":687.87633336416366},{"$f":"Dls!H167","v":0},{"$f":"Dodbíj!H167","v":30},{"$f":"Dplav!H167","v":0},{"$f":"Dšplh!H167","v":0},{"$f":"Dšvih!H167","v":0},{"$f":"'Dz mís'!H167","v":0},{"$f":"Drepre!E70","v":0},3186.6399556409315]
[null,{"$f":"'D60'!B168","v":"POHOŘELÁ"},{"$f":"'D60'!C168","v":"Amálie"},{"$f":"'D60'!D168","v":"8.A"},null,{"$f":"'D60'!H168","v":819.84972591271548},{"$f":"'D300'!H168","v":665.40124867261659},{"$f":"'D800'!H168","v":0},{"$f":"Ddál!H168","v":0},{"$f":"Dvýš!H168","v":0},{"$f":"Dmíč!H168","v":0},{"$f":"Dkou!H168","v":546.66666666666663},{"$f":"Dčlu!H168","v":671.16245086571166},{"$f":"Dls!H168","v":541.93000000000006},{"$f":"Dodbíj!H168","v":36},{"$f":"Dplav!H168","v":0},{"$f":"Dšplh!H168","v":0},{"$f":"Dšvih!H168","v":693.25},{"$f":"'Dz mís'!H168","v":670.63172804532587},{"$f":"Drepre!E71","v":0},4644.8918201630368]
[null,{"$f":"'D60'!B169","v":"POLÁČKOVÁ"},{"$f":"'D60'!C169","v":"Natálie"},{"$f":"'D60'!D169","v":"8.A"},null,{"$f":"'D60'!H169","v":0},{"$f":"'D300'!H169","v":362.14731629844562},{"$f":"'D800'!H169","v":0},{"$f":"Ddál!H169","v":0},{"$f":"Dvýš!H169","v":0},{"$f":"Dmíč!H169","v":439.8},{"$f":"Dkou!H169","v":342.22222222222223},{"$f":"Dčlu!H169","v":566.46792136528632},{"$f":"Dls!H169","v":0},{"$f":"Dodbíj!H169","v":18},{"$f":"Dplav!H169","v":0},{"$f":"Dšplh!H169","v":0},{"$f":"Dšvih!H169","v":0},{"$f":"'Dz mís'!H169","v":0},{"$f":"Drepre!E72","v":0},1728.6374598859543]
[null,{"$f":"'D60'!B170","v":"ŘEHOŘKOVÁ"},{"$f":"'D60'!C170","v":"Lucie"},{"$f":"'D60'!D170","v":"8.A"},null,{"$f":"'D60'!H170","v":726.72596590912008},{"$f":"'D300'!H170","v":683.29908907741935},{"$f":"'D800'!H170","v":0},{"$f":"Ddál!H170","v":744.29200000000003},{"$f":"Dvýš!H170","v":0},{"$f":"Dmíč!H170","v":558.1},{"$f":"Dkou!H170","v":688.88888888888891},{"$f":"Dčlu!H170","v":727.48356080070721},{"$f":"Dls!H170","v":0},{"$f":"Dodbíj!H170","v":18},{"$f":"Dplav!H170","v":0},{"$f":"Dšplh!H170","v":0},{"$f":"Dšvih!H170","v":0},{"$f":"'Dz mís'!H170","v":0},{"$f":"Drepre!E73","v":0},4146.789504676135]
[null,{"$f":"'D60'!B171","v":"SKÁLOVÁ"},{"$f":"'D60'!C171","v":"Alena"},{"$f":"'D60'!D171","v":"8.A"},null,{"$f":"'D60'!H171","v":654.55560740478279},{"$f":"'D300'!H171","v":547.50448918836287},{"$f":"'D800'!H171","v":0},{"$f":"Ddál!H171","v":672.99300000000005},{"$f":"Dvýš!H171","v":0},{"$f":"Dmíč!H171","v":367},{"$f":"Dkou!H171","v":688.88888888888891},{"$f":"Dčlu!H171","v":630.43200490025367},{"$f":"Dls!H171","v":0},{"$f":"Dodbíj!H171","v":12},{"$f":"Dplav!H171","v":0},{"$f":"Dšplh!H171","v":0},{"$f":"Dšvih!H171","v":0},{"$f":"'Dz mís'!H171","v":0},{"$f":"Drepre!E74","v":0},3573.373990382288]
[null,{"$f":"'D60'!B172","v":"VÁVROVÁ "},{"$f":"'D60'!C172","v":"Aneta"},{"$f":"'D60'!D172","v":"8.A"},null,{"$f":"'D60'!H172","v":780.07093460253748},{"$f":"'D300'!H172","v":787.18802121627004},{"$f":"'D800'!H172","v":0},{"$f":"Ddál!H172","v":786.02800000000002},{"$f":"Dvýš!H172","v":0},{"$f":"Dmíč!H172","v":439.8},{"$f":"Dkou!H172","v":511.11111111111109},{"$f":"Dčlu!H172","v":0},{"$f":"Dls!H172","v":389.14},{"$f":"Dodbíj!H172","v":63},{"$f":"Dplav!H172","v":0},{"$f":"Dšplh!H172","v":0},{"$f":"Dšvih!H172","v":468.25},{"$f":"'Dz mís'!H172","v":792.94711992445718},{"$f":"Drepre!E75","v":0},5017.5351868543758]
[null,{"$f":"'D60'!B173","v":"ZELINKOVÁ"},{"$f":"'D60'!C173","v":"Klára"},{"$f":"'D60'!D173","v":"8.A"},null,{"$f":"'D60'!H173","v":780.93496227634739},{"$f":"'D300'!H173","v":660.06988022729956},{"$f":"'D800'!H173","v":0},{"$f":"Ddál!H173","v":728.64100000000008},{"$f":"Dvýš!H173","v":0},{"$f":"Dmíč!H173","v":494.40000000000003},{"$f":"Dkou!H173","v":621.33333333333337},{"$f":"Dčlu!H173","v":673.78621506169497},{"$f":"Dls!H173","v":0},{"$f":"Dodbíj!H173","v":30},{"$f":"Dplav!H173","v":0},{"$f":"Dšplh!H173","v":0},{"$f":"Dšvih!H173","v":0},{"$f":"'Dz mís'!H173","v":0},{"$f":"Drepre!E76","v":0},3989.1653908986755]
[null,{"$f":"'D60'!B174","v":"JUNGOVÁ "},{"$f":"'D60'!C174","v":"Lucie"},{"$f":"'D60'!D174","v":"9.A"},null,{"$f":"'D60'!H174","v":829.42216232425562},{"$f":"'D300'!H174","v":0},{"$f":"'D800'!H174","v":0},{"$f":"Ddál!H174","v":0},{"$f":"Dvýš!H174","v":0},{"$f":"Dmíč!H174","v":376.1},{"$f":"Dkou!H174","v":462.22222222222223},{"$f":"Dčlu!H174","v":673.78621506169497},{"$f":"Dls!H174","v":0},{"$f":"Dodbíj!H174","v":0},{"$f":"Dplav!H174","v":0},{"$f":"Dšplh!H174","v":0},{"$f":"Dšvih!H174","v":0},{"$f":"'Dz mís'!H174","v":0},{"$f":"Drepre!E77","v":0},2341.5305996081725]
[null,{"$f":"'D60'!B175","v":"KŘIVÁNKOVÁ "},{"$f":"'D60'!C175","v":"Linda"},{"$f":"'D60'!D175","v":"9.A"},null,{"$f":"'D60'!H175","v":703.23061181339574},{"$f":"'D300'!H175","v":422.42112043261818},{"$f":"'D800'!H175","v":0},{"$f":"Ddál!H175","v":0},{"$f":"Dvýš!H175","v":0},{"$f":"Dmíč!H175","v":285.10000000000002},{"$f":"Dkou!H175","v":564.44444444444446},{"$f":"Dčlu!H175","v":638.68747725434832},{"$f":"Dls!H175","v":0},{"$f":"Dodbíj!H175","v":0},{"$f":"Dplav!H175","v":0},{"$f":"Dšplh!H175","v":0},{"$f":"Dšvih!H175","v":462},{"$f":"'Dz mís'!H175","v":0},{"$f":"Drepre!E78","v":0},3075.8836539448066]
[null,{"$f":"'D60'!B176","v":"KUBÁTOVÁ"},{"$f":"'D60'!C176","v":"Lucie"},{"$f":"'D60'!D176","v":"9.A"},null,{"$f":"'D60'!H176","v":726.72596590912008},{"$f":"'D300'!H176","v":0},{"$f":"'D800'!H176","v":0},{"$f":"Ddál!H176","v":0},{"$f":"Dvýš!H176","v":0},{"$f":"Dmíč!H176","v":0},{"$f":"Dkou!H176","v":0},{"$f":"Dčlu!H176","v":0},{"$f":"Dls!H176","v":0},{"$f":"Dodbíj!H176","v":0},{"$f":"Dplav!H176","v":0},{"$f":"Dšplh!H176","v":0},{"$f":"Dšvih!H176","v":0},{"$f":"'Dz mís'!H176","v":0},{"$f":"Drepre!E79","v":0},726.72596590912008]
[null,{"$f":"'D60'!B177","v":"ŠIMŮNKOVÁ "},{"$f":"'D60'!C177","v":"Nikola"},{"$f":"'D60'!D177","v":"9.A"},null,{"$f":"'D60'!H177","v":703.94354965107573},{"$f":"'D300'!H177","v":437.67179909531262},{"$f":"'D800'!H177","v":0},{"$f":"Ddál!H177","v":0},{"$f":"Dvýš!H177","v":0},{"$f":"Dmíč!H177","v":330.6},{"$f":"Dkou!H177","v":471.99999999999994},{"$f":"Dčlu!H177","v":596.63035824785641},{"$f":"Dls!H177","v":0},{"$f":"Dodbíj!H177","v":0},{"$f":"Dplav!H177","v":0},{"$f":"Dšplh!H177","v":0},{"$f":"Dšvih!H177","v":0},{"$f":"'Dz mís'!H177","v":0},{"$f":"Drepre!E80","v":0},2540.8457069942447]
[null,{"$f":"'D60'!B178","v":"ŠMÍDOVÁ"},{"$f":"'D60'!C178","v":"Kristýna"},{"$f":"'D60'!D178","v":"9.A"},null,{"$f":"'D60'!H178","v":593.48381283226661},{"$f":"'D300'!H178","v":520.64704983335162},{"$f":"'D800'!H178","v":0},{"$f":"Ddál!H178","v":0},{"$f":"Dvýš!H178","v":0},{"$f":"Dmíč!H178","v":367},{"$f":"Dkou!H178","v":584},{"$f":"Dčlu!H178","v":568.87503398280717},{"$f":"Dls!H178","v":541.93000000000006},{"$f":"Dodbíj!H178","v":0},{"$f":"Dplav!H178","v":0},{"$f":"Dšplh!H178","v":0},{"$f":"Dšvih!H178","v":224.5},{"$f":"'Dz mís'!H178","v":421.296506137866},{"$f":"Drepre!E81","v":0},3821.732402786291]
[null,{"$f":"'D60'!B179","v":"VOTOČKOVÁ "},{"$f":"'D60'!C179","v":"Nikola"},{"$f":"'D60'!D179","v":"9.A"},null,{"$f":"'D60'!H179","v":857.36937442734074},{"$f":"'D300'!H179","v":815.18735417895959},{"$f":"'D800'!H179","v":0},{"$f":"Ddál!H179","v":0},{"$f":"Dvýš!H179","v":0},{"$f":"Dmíč!H179","v":530.80000000000007},{"$f":"Dkou!H179","v":562.66666666666663},{"$f":"Dčlu!H179","v":701.09977151009628},{"$f":"Dls!H179","v":0},{"$f":"Dodbíj!H179","v":0},{"$f":"Dplav!H179","v":0},{"$f":"Dšplh!H179","v":0},{"$f":"Dšvih!H179","v":0},{"$f":"'Dz mís'!H179","v":0},{"$f":"Drepre!E82","v":0},3467.123166783063]
[null,{"$f":"'D60'!B180","v":"VYHLASOVÁ"},{"$f":"'D60'!C180","v":"Lenka"},{"$f":"'D60'!D180","v":"9.A"},null,{"$f":"'D60'!H180","v":593.48381283226661},{"$f":"'D300'!H180","v":0},{"$f":"'D800'!H180","v":0},{"$f":"Ddál!H180","v":0},{"$f":"Dvýš!H180","v":0},{"$f":"Dmíč!H180","v":0},{"$f":"Dkou!H180","v":612.44444444444434},{"$f":"Dčlu!H180","v":519.45445118699763},{"$f":"Dls!H180","v":0},{"$f":"Dodbíj!H180","v":0},{"$f":"Dplav!H180","v":0},{"$f":"Dšplh!H180","v":0},{"$f":"Dšvih!H180","v":0},{"$f":"'Dz mís'!H180","v":0},{"$f":"Drepre!E83","v":0},1725.3827084637087]
[null,{"$f":"'D60'!B181","v":"BÖHMOVÁ"},{"$f":"'D60'!C181","v":"Diana"},{"$f":"'D60'!D181","v":"9.B"},null,{"$f":"'D60'!H181","v":743.73755041371385},{"$f":"'D300'!H181","v":632.0655858980989},{"$f":"'D800'!H181","v":0},{"$f":"Ddál!H181","v":0},{"$f":"Dvýš!H181","v":0},{"$f":"Dmíč!H181","v":357.90000000000003},{"$f":"Dkou!H181","v":525.33333333333337},{"$f":"Dčlu!H181","v":657.06115804243473},{"$f":"Dls!H181","v":0},{"$f":"Dodbíj!H181","v":24},{"$f":"Dplav!H181","v":509.95443449696967},{"$f":"Dšplh!H181","v":0},{"$f":"Dšvih!H181","v":0},{"$f":"'Dz mís'!H181","v":0},{"$f":"Drepre!E84","v":0},3450.0520621845503]
[null,{"$f":"'D60'!B182","v":"HOUDOVÁ"},{"$f":"'D60'!C182","v":"Tereza"},{"$f":"'D60'!D182","v":"9.B"},null,{"$f":"'D60'!H182","v":750.10768920006615},{"$f":"'D300'!H182","v":0},{"$f":"'D800'!H182","v":0},{"$f":"Ddál!H182","v":0},{"$f":"Dvýš!H182","v":0},{"$f":"Dmíč!H182","v":0},{"$f":"Dkou!H182","v":0},{"$f":"Dčlu!H182","v":0},{"$f":"Dls!H182","v":0},{"$f":"Dodbíj!H182","v":0},{"$f":"Dplav!H182","v":509.95443449696967},{"$f":"Dšplh!H182","v":0},{"$f":"Dšvih!H182","v":0},{"$f":"'Dz mís'!H182","v":0},{"$f":"Drepre!E85","v":0},1260.0621236970358]
[null,{"$f":"'D60'!B183","v":"JANÍKOVÁ"},{"$f":"'D60'!C183","v":"Kristýna"},{"$f":"'D60'!D183","v":"9.B"},null,{"$f":"'D60'!H183","v":829.42216232425562},{"$f":"'D300'!H183","v":0},{"$f":"'D800'!H183","v":0},{"$f":"Ddál!H183","v":0},{"$f":"Dvýš!H183","v":0},{"$f":"Dmíč!H183","v":0},{"$f":"Dkou!H183","v":635.55555555555554},{"$f":"Dčlu!H183","v":0},{"$f":"Dls!H183","v":0},{"$f":"Dodbíj!H183","v":0},{"$f":"Dplav!H183","v":509.95443449696967},{"$f":"Dšplh!H183","v":0},{"$f":"Dšvih!H183","v":0},{"$f":"'Dz mís'!H183","v":0},{"$f":"Drepre!E86","v":0},1974.932152376781]
[null,{"$f":"'D60'!B184","v":"KUŽELOVÁ"},{"$f":"'D60'!C184","v":"Ela"},{"$f":"'D60'!D184","v":"9.B"},null,{"$f":"'D60'!H184","v":797.69637307457981},{"$f":"'D300'!H184","v":424.63251742897478},{"$f":"'D800'!H184","v":0},{"$f":"Ddál!H184","v":0},{"$f":"Dvýš!H184","v":0},{"$f":"Dmíč!H184","v":0},{"$f":"Dkou!H184","v":568},{"$f":"Dčlu!H184","v":696.17384747561709},{"$f":"Dls!H184","v":0},{"$f":"Dodbíj!H184","v":27},{"$f":"Dplav!H184","v":0},{"$f":"Dšplh!H184","v":0},{"$f":"Dšvih!H184","v":0},{"$f":"'Dz mís'!H184","v":0},{"$f":"Drepre!E87","v":0},2513.5027379791718]
[null,{"$f":"'D60'!B185","v":"MATERNOVÁ"},{"$f":"'D60'!C185","v":"Lucie"},{"$f":"'D60'!D185","v":"9.B"},null,{"$f":"'D60'!H185","v":767.32061740999654},{"$f":"'D300'!H185","v":612.40308390417829},{"$f":"'D800'!H185","v":0},{"$f":"Ddál!H185","v":0},{"$f":"Dvýš!H185","v":0},{"$f":"Dmíč!H185","v":257.8},{"$f":"Dkou!H185","v":372.4444444444444},{"$f":"Dčlu!H185","v":640.48229907404232},{"$f":"Dls!H185","v":0},{"$f":"Dodbíj!H185","v":12},{"$f":"Dplav!H185","v":0},{"$f":"Dšplh!H185","v":0},{"$f":"Dšvih!H185","v":0},{"$f":"'Dz mís'!H185","v":0},{"$f":"Drepre!E88","v":0},2662.4504448326616]
[null,{"$f":"'D60'!B186","v":"OPOČENSKÁ"},{"$f":"'D60'!C186","v":"Matylda"},{"$f":"'D60'!D186","v":"9.B"},null,{"$f":"'D60'!H186","v":0},{"$f":"'D300'!H186","v":0},{"$f":"'D800'!H186","v":0},{"$f":"Ddál!H186","v":0},{"$f":"Dvýš!H186","v":0},{"$f":"Dmíč!H186","v":0},{"$f":"Dkou!H186","v":0},{"$f":"Dčlu!H186","v":0},{"$f":"Dls!H186","v":0},{"$f":"Dodbíj!H186","v":0},{"$f":"Dplav!H186","v":0},{"$f":"Dšplh!H186","v":0},{"$f":"Dšvih!H186","v":0},{"$f":"'Dz mís'!H186","v":0},{"$f":"Drepre!E89","v":0},0]
[null,{"$f":"'D60'!B187","v":"PIŠTOROVÁ"},{"$f":"'D60'!C187","v":"Karolína"},{"$f":"'D60'!D187","v":"9.B"},null,{"$f":"'D60'!H187","v":787.91178386673573},{"$f":"'D300'!H187","v":0},{"$f":"'D800'!H187","v":0},{"$f":"Ddál!H187","v":0},{"$f":"Dvýš!H187","v":0},{"$f":"Dmíč!H187","v":367},{"$f":"Dkou!H187","v":0},{"$f":"Dčlu!H187","v":687.87633336416366},{"$f":"Dls!H187","v":0},{"$f":"Dodbíj!H187","v":27},{"$f":"Dplav!H187","v":0},{"$f":"Dšplh!H187","v":0},{"$f":"Dšvih!H187","v":0},{"$f":"'Dz mís'!H187","v":0},{"$f":"Drepre!E90","v":0},1869.7881172308994]
[null,{"$f":"'D60'!B188","v":"POKORNÝ"},{"$f":"'D60'!C188","v":"Anna"},{"$f":"'D60'!D188","v":"9.B"},null,{"$f":"'D60'!H188","v":0},{"$f":"'D300'!H188","v":0},{"$f":"'D800'!H188","v":0},{"$f":"Ddál!H188","v":0},{"$f":"Dvýš!H188","v":0},{"$f":"Dmíč!H188","v":303.3},{"$f":"Dkou!H188","v":576.00000000000011},{"$f":"Dčlu!H188","v":0},{"$f":"Dls!H188","v":625.27},{"$f":"Dodbíj!H188","v":15},{"$f":"Dplav!H188","v":0},{"$f":"Dšplh!H188","v":0},{"$f":"Dšvih!H188","v":0},{"$f":"'Dz mís'!H188","v":0},{"$f":"Drepre!E91","v":0},1519.5700000000002]
[null,{"$f":"'D60'!B189","v":"SUCHÁNKOVÁ"},{"$f":"'D60'!C189","v":"Michaela"},{"$f":"'D60'!D189","v":"9.B"},null,{"$f":"'D60'!H189","v":586.76885737424118},{"$f":"'D300'!H189","v":398.0822180012384},{"$f":"'D800'!H189","v":0},{"$f":"Ddál!H189","v":0},{"$f":"Dvýš!H189","v":0},{"$f":"Dmíč!H189","v":276},{"$f":"Dkou!H189","v":546.66666666666663},{"$f":"Dčlu!H189","v":517.81837088189536},{"$f":"Dls!H189","v":0},{"$f":"Dodbíj!H189","v":27},{"$f":"Dplav!H189","v":0},{"$f":"Dšplh!H189","v":0},{"$f":"Dšvih!H189","v":0},{"$f":"'Dz mís'!H189","v":0},{"$f":"Drepre!E92","v":0},2352.3361129240411]
[null,{"$f":"'D60'!B190","v":"ŠUBÍKOVÁ "},{"$f":"'D60'!C190","v":"Štěpánka"},{"$f":"'D60'!D190","v":"9.B"},null,{"$f":"'D60'!H190","v":774.92387404260398},{"$f":"'D300'!H190","v":637.60369529402021},{"$f":"'D800'!H190","v":0},{"$f":"Ddál!H190","v":0},{"$f":"Dvýš!H190","v":0},{"$f":"Dmíč!H190","v":321.5},{"$f":"Dkou!H190","v":466.66666666666663},{"$f":"Dčlu!H190","v":692.69424478371741},{"$f":"Dls!H190","v":0},{"$f":"Dodbíj!H190","v":27},{"$f":"Dplav!H190","v":0},{"$f":"Dšplh!H190","v":0},{"$f":"Dšvih!H190","v":0},{"$f":"'Dz mís'!H190","v":0},{"$f":"Drepre!E93","v":0},2920.3884807870081]
[null,{"$f":"'D60'!B191","v":"VANCLOVÁ"},{"$f":"'D60'!C191","v":"Pavlína"},{"$f":"'D60'!D191","v":"9.B"},null,{"$f":"'D60'!H191","v":0},{"$f":"'D300'!H191","v":643.62816013952124},{"$f":"'D800'!H191","v":0},{"$f":"Ddál!H191","v":0},{"$f":"Dvýš!H191","v":0},{"$f":"Dmíč!H191","v":421.6},{"$f":"Dkou!H191","v":724.44444444444446},{"$f":"Dčlu!H191","v":654.55560740478279},{"$f":"Dls!H191","v":0},{"$f":"Dodbíj!H191","v":24},{"$f":"Dplav!H191","v":509.95443449696967},{"$f":"Dšplh!H191","v":0},{"$f":"Dšvih!H191","v":0},{"$f":"'Dz mís'!H191","v":0},{"$f":"Drepre!E94","v":0},2978.1826464857177]

{"sheet":"Droč","index":5,"n_rows":229,"n_cols":21,"rows_kept":229,"cut":false,"hidden":false,"merged":[]}
[null,null,"CELKOVÉ   VÝSLEDKY  ",null,null,null,null,null,null,null,null,null,null,null,null,null,null,null,null,null,{"$f":"TODAY()","v":"2021-06-28"}]
[]
[null,"6. ročník",null,null,null,"   60  m  ","   300m","  1000m","   dálka","   výška","   míček","   koule","  člunek","  lehsed","odbíjení ","  plavání","    šplh","švihadlo","z místa"," REPRE","          CELKEM"]
[]
["1.",{"$f":"B139","v":"ERBENOVÁ"},{"$f":"C139","v":"Sára"},{"$f":"D139","v":"6.A"},null,{"$f":"F139","v":645.31395527950497},0,0,570.39200000000005,0,321.5,325.33333333333331,0,541.93000000000006,0,0,0,174.5,454.22757318224751,0,3033.1968617950856]
["2.",{"$f":"B140","v":"HOFMANOVÁ "},"Nicol","6.A",null,625.22731742197993,491.29911072507264,0,646.90800000000002,0,285.10000000000002,419.55555555555549,606.79776690367351,389.14,0,0,0,318.25,670.63172804532587,0,{"$f":"U140","v":4452.9094786516071}]
["3.",{"$f":"B141","v":"HOLEŠOVSKÁ"},"Aneta","6.A",null,683.11979661237478,0,279.53101451086951,622.56200000000001,0,414.32,0,0,0,0,0,0,0,0,0,1999.5328111232441]
["4.","HOLUBCOVÁ","Alena","6.A",null,0,687.08808051101755,0,634.73500000000001,0,530.80000000000007,574.22222222222217,680.42888189513451,0,0,0,0,0,694.15391879131289,0,3801.4281034196874]
["5.","KOHOUTOVÁ","Anna","6.A",null,556.5564307851572,420.75368230544586,0,525.178,0,239.6,272.88888888888886,539.83698467963779,0,0,0,0,0,0,0,2554.8139866591296]
["6.","KRAUSOVÁ","Anežka","6.A",null,635.71649167546843,619.11520564567854,0,0,0,0,0,638.09124869544166,528.04,0,0,0,0,694.15391879131289,0,3115.1168648079019]
["7.","KUŽELOVÁ","Apoléna","6.A",null,692.00216911019038,0,517.12152660114498,606.91100000000006,0,337.88,0,0,0,0,0,0,0,0,0,2153.9146957113353]
["8.","MORÁVKOVÁ","Lucie","6.A",null,645.31395527950497,0,446.68653053571416,513.005,0,383.38,0,0,625.27,0,0,0,493.25,0,0,3106.9054858152194]
["9.","SKLENÁROVÁ","Eliška","6.A",null,0,474.62790960773896,0,0,0,0,0,0,583.6,0,0,0,243.25,553.02077431539215,0,1854.4986839231312]
["10.","ŠTOLFOVÁ","Tereza","6.A",null,694.7781473200863,609.08737025104813,0,0,0,257.8,293.33333333333331,622.36964301058197,0,0,0,0,0,491.86307837582638,0,2969.2315722908761]
["11.","ŠUBÍKOVÁ","Klára","6.A",null,0,593.87737794081704,0,669.51499999999999,0,239.6,364.44444444444446,642.88981107314976,0,0,0,0,0,623.58734655335252,0,3133.9139800117637]
["12.","TULÁČKOVÁ","Natálie","6.A",null,648.98173596672461,0,458.70083324999996,577.34800000000007,0,326.96000000000004,0,0,666.94,0,0,0,262,0,0,2940.9305692167245]
["13.","VOJTÍŠKOVÁ","Ella","6.A",null,709.6954326770342,0,0,659.08100000000002,0,450.72,0,0,0,0,0,0,830.75,567.13408876298399,0,3217.3805214400181]
["14.","DRUGÁČOVÁ","Kristinka","6.B",null,0,628.8570230727272,0,664.298,0,303.3,377.77777777777777,693.38759734963094,416.92,0,0,0,249.5,703.56279508970738,0,4037.6031932898431]
["15.","FAJSTAVROVÁ","Karolína","6.B",null,709.6954326770342,0,757.67455472120457,634.73500000000001,0,410.68,0,0,305.8,0,0,0,362,308.38999055712941,0,3488.9749779553681]
["16.","FAJSTAVROVÁ","Magdaléna","6.B",null,736.69000174666667,0,801.5705491730771,0,0,530.80000000000007,0,0,625.27,0,0,0,493.25,722.38054768649681,{"$f":"T154","v":0},3909.9610986062407]
["17.","HLAVATÁ","Anna","6.B",null,0,0,0,636.47400000000005,0,0,0,632.18454373474572,0,0,0,0,0,0,0,1268.6585437347458]
["18.","JINDROVÁ","Barbora","6.B",null,615.05021777438014,0,564.85999985655735,643.43000000000006,0,221.4,0,0,347.47,0,0,0,337,477.74976392823442,0,3206.9599815591719]
["19.","MAŘASOVÁ","Vendula","6.B",null,0,0,545.48143413047808,547.78500000000008,0,239.6,0,0,0,0,0,0,0,0,0,1332.866434130478]
["20.","PETŘÍČKOVÁ","Natálie","6.B",null,697.57472648144721,0,0,674.73200000000008,0,399.76,0,0,0,0,0,0,0,0,0,1772.0667264814472]
["21.","PETŘÍKOVÁ","Adéla","6.B",null,599.80740329590731,541.67729241279358,0,464.31300000000005,0,203.20000000000002,353.77777777777777,574.23646618555904,333.58000000000004,0,0,0,124.5,576.54296506137871,0,3771.6349047334165]
["22.","REGÁLOVÁ","Karolína","6.B",null,657.06115804243473,0,529.71143956517506,636.47400000000005,0,425.24,0,0,778.06000000000006,0,0,0,462,430.70538243626072,0,3919.2519800438704]
["23.","RIEGROVÁ","Magdaléna","6.B",null,0,514.42470234499331,0,0,0,285.10000000000002,256.88888888888891,587.79291573116575,0,0,0,0,0,590.65627950897101,0,2234.8627864740192]
["24.","RYBENSKÁ","Sabina","6.B",null,681.77189518952468,0,529.71143956517506,582.56500000000005,0,232.32000000000002,0,0,0,0,0,0,0,0,0,2026.3683347546996]
["25.","STEINEROVÁ","Barbora","6.B",null,665.3271387095914,0,527.15441848255807,631.25700000000006,0,447.08000000000004,0,0,0,0,0,0,0,0,0,2270.8185571921495]
["26.","TOMEŠOVÁ","Barbora","6.B",null,644.70635054098352,0,522.09938449615402,509.52700000000004,0,297.84000000000003,0,0,0,0,0,0,0,0,0,1974.1727350371375]
["27.","VOHNOUTOVÁ","Aneta","6.B",null,739.80690650048962,0,654.93444424999996,0,0,530.80000000000007,0,0,805.84,0,0,0,274.5,458.93201133144487,0,3464.8133620819344]
[]
[]
[]
[null,null,"CELKOVÉ   VÝSLEDKY  ",null,null,null,null,null,null,null,null,null,null,null,null,null,null,null,null,null,{"$f":"TODAY()","v":"2021-06-28"}]
[]
[null,"7. ročník",null,null,null,"   60  m  ","   300m","  1000m","   dálka","   výška","   míček","   koule","  člunek","  lehsed","odbíjení ","  plavání","    šplh","švihadlo","z místa"," REPRE","          CELKEM"]
[]
["1.",{"$f":"B166","v":"HAVLÍKOVÁ"},{"$f":"C166","v":"Michaela"},"7.A",0,635.12532875773047,0,0,634.73500000000001,0,0,254.2222222222222,673.78621506169497,0,0,0,0,0,0,0,{"$f":"U166","v":2197.8687660416476}]
["2.",{"$f":"B167","v":"HOLUBCOVÁ"},"Sára","7.A",0,792.33146925574101,0,0,758.20400000000006,0,458,381.33333333333331,706.8086895057902,0,0,0,0,362,0,0,3458.6774920948646]
["3.",{"$f":"B168","v":"HONCŮ"},"Tereza","7.A",0,671.16245086571166,0,0,723.42400000000009,0,403.40000000000003,356.4444444444444,0,0,0,0,0,0,0,0,2154.4308953101563]
["4.",{"$f":"B169","v":"HORÁČKOVÁ"},"Kateřina","7.A",0,791.44384526624958,0,0,754.726,0,403.40000000000003,511.11111111111109,694.08223034502919,541.93000000000006,0,0,0,212,0,0,3908.6931867223893]
["5.",{"$f":"B170","v":"JOUDALOVÁ"},"Daniela","7.A",0,0,0,0,0,0,0,364.44444444444446,0,0,0,0,0,0,0,0,364.44444444444446]
["6.",{"$f":"B171","v":"KLÍMOVÁ"},"Anna","7.A",0,695.47535183811272,0,0,0,0,0,422.22222222222223,662.76350304454274,0,0,0,0,0,0,0,1780.4610771048779]
["7.",{"$f":"B172","v":"KOHOUTOVÁ"},"Veronika","7.A",0,0,0,0,780.81100000000004,0,539.9,494.22222222222217,695.47535183811272,0,0,0,0,0,0,0,2510.408574060335]
["8.",{"$f":"B173","v":"KOVÁŘOVÁ"},"Viktorie","7.A",0,708.97170822379167,0,0,721.68500000000006,0,357.90000000000003,372.4444444444444,692.69424478371741,583.6,0,0,0,0,0,0,3437.2953974519532]
["9.",{"$f":"B174","v":"KYNČLOVÁ"},"Anna","7.A",0,799.49973372666659,0,0,766.899,0,503.5,329.77777777777777,750.10768920006615,736.39,0,0,0,355.75,0,0,4241.9242007045104]
["10.",{"$f":"B175","v":"MATOUŠOVÁ"},"Tereza","7.A",0,695.47535183811272,0,0,739.07500000000005,0,376.1,432,628.68833219814508,0,0,509.95443449696967,0,312,0,0,3693.2931185332272]
["11.",{"$f":"B176","v":"MAZÁNKOVÁ"},"Zuzana","7.A",0,735.91457295679004,0,0,672.99300000000005,0,348.8,422.22222222222223,0,0,0,0,0,0,0,0,2179.9297951790122]
["12.",{"$f":"B177","v":"MORKESOVÁ"},"Sabrina","7.A",0,0,0,0,766.899,0,767.4,610.66666666666663,743.73755041371385,541.93000000000006,0,0,0,412,637.70066100094436,0,4480.3338780813247]
["13.",{"$f":"B178","v":"POHOŘALÁ"},"Alžběta","7.A",0,799.49973372666659,0,0,733.85800000000006,0,412.5,400.8888888888888,699.68581856465107,0,0,509.95443449696967,0,0,0,0,3556.3868756771758]
["14.",{"$f":"B179","v":"SCHOLZOVÁ"},"Laura","7.A",0,663.40270892559784,0,0,0,0,0,295.99999999999994,636.30866254362036,0,0,509.95443449696967,0,0,0,0,2105.6658059661877]
["15.",{"$f":"B180","v":"VÁCLAVÍKOVÁ"},"Valerie","7.A",0,806.78975215888181,0,0,742.553,0,485.3,548.44444444444446,684.47261289911864,528.04,0,509.95443449696967,0,287,477.74976392823442,0,5070.3040079276498]
["16.",{"$f":"B181","v":"ZAPADLOVÁ"},"Emma","7.A",0,797.69637307457981,0,0,728.64100000000008,0,612.70000000000005,400.8888888888888,690.62183435692396,486.37,0,509.95443449696967,0,412,0,0,4638.8725308173616]
["17.",{"$f":"B182","v":"ŽIŠKOVÁ"},"Mia","7.A",0,792.33146925574101,0,0,725.16300000000001,0,412.5,0,0,0,0,0,0,0,0,0,1929.994469255741]
["18.",{"$f":"B183","v":"FARSKÁ"},"Tereza","7.B",0,647.14308227157278,0,0,0,0,0,0,0,472.48,0,0,0,355.75,426.00094428706336,0,1901.3740265586362]
["19.",{"$f":"B184","v":"FEIXOVÁ"},"Rozálie","7.B",0,645.31395527950497,0,0,565.17500000000007,0,0,0,0,0,0,0,0,0,0,0,1210.488955279505]
["20.",{"$f":"B185","v":"FIŠEROVÁ"},"Michaela","7.B",0,689.24656505229348,0,0,553.00200000000007,570.5,0,0,0,0,0,0,0,0,0,0,1812.7485650522935]
["21.",{"$f":"B186","v":"HAVLÍČKOVÁ"},"Kristýna","7.B",0,600.87327277804752,0,0,539.09,0,0,0,0,0,0,0,0,0,0,0,1139.9632727780477]
["22.",{"$f":"B187","v":"JODASOVÁ"},"Nikola","7.B",0,777.48948576786313,0,0,695.6,0,0,0,0,0,0,0,0,0,0,0,1473.0894857678632]
["23.",{"$f":"B188","v":"KADAVÁ"},"Nikola","7.B",0,0,0,0,0,0,0,0,0,583.6,0,0,0,0,0,0,583.6]
["24.",{"$f":"B189","v":"KRAFKOVÁ"},"Lucie","7.B",0,675.76644790420426,0,0,537.351,0,0,0,0,0,0,0,0,0,0,0,1213.1174479042043]
["25.",{"$f":"B190","v":"KŘIVINKOVÁ"},"Alžběta","7.B",0,681.77189518952468,0,0,626.04000000000008,0,0,0,0,0,0,0,0,0,0,0,1307.8118951895249]
["26.",{"$f":"B191","v":"LEŠÁKOVÁ"},"Lenka","7.B",0,598.7449721024193,0,0,0,0,0,0,0,0,0,0,0,0,0,0,598.7449721024193]
["27.",{"$f":"B192","v":"NYKLÍČKOVÁ"},"Adéla","7.B",0,747.7070730995714,0,0,695.6,668,0,0,0,0,0,0,0,0,0,0,2111.3070730995714]
["28.",{"$f":"B193","v":"PLŮCHOVÁ"},"Petra","7.B",0,681.77189518952468,0,0,521.70000000000005,668,0,0,0,0,0,0,0,0,0,0,1871.4718951895247]
["29.",{"$f":"B194","v":"PODZIMKOVÁ"},"Eliška","7.B",0,601.40750209743589,0,0,460.83500000000004,596.5,0,0,0,0,0,0,0,0,0,0,1658.742502097436]
["30.",{"$f":"B195","v":"RUTKAYOVÁ"},"Klára","7.B",0,0,0,0,0,0,0,0,0,583.6,0,0,0,437,0,0,1020.6]
["31.",{"$f":"B196","v":"SEIDLOVÁ"},"Zuzana","7.B",0,612.82962418478849,0,0,624.30100000000004,635.5,0,0,0,375.25,0,0,0,224.5,477.74976392823442,0,2950.1303881130234]
["32.",{"$f":"B197","v":"TOMÁŠOVÁ"},"Sára","7.B",0,592.96232302451369,0,0,473.00800000000004,0,0,0,0,0,0,0,0,0,0,0,1065.9703230245136]
["33.",{"$f":"B198","v":"VANCLOVÁ"},"Barbora","7.B",0,759.0335506690069,0,0,613.86700000000008,635.5,0,0,0,0,0,0,0,0,0,0,2008.4005506690069]
["34.",{"$f":"B199","v":"VOTOČKOVÁ"},"Veronika","7.B",0,590.88467438804776,0,0,573.87,0,0,0,0,0,0,0,0,0,0,0,1164.7546743880478]
[]
[]
[]
[" ",null,"CELKOVÉ   VÝSLEDKY  ",null,null,null,null,null,null,null,null,null,null,null,null,null,null,null,null,null,{"$f":"U35","v":"2021-06-28"}]
[]
[null,"8. ročník",null,null,null,"   60  m  ","   300m","  1000m","   dálka","   výška","   míček","   koule","  člunek","  lehsed","odbíjení ","  plavání","    šplh","švihadlo","z místa"," REPRE","          CELKEM"]
[]
["1.",{"$f":"B200","v":"HARTIGOVÁ"},{"$f":"C200","v":"Anna"},"8.A",0,703.23061181339574,0,0,716.46800000000007,0,458,627.55555555555554,0,0,63,0,0,0,0,0,{"$f":"U200","v":2568.2541673689516}]
["2.",{"$f":"B201","v":"HONCŮ"},"Rozálie","8.A",0,829.42216232425562,0,0,810.37400000000002,0,494.40000000000003,653.33333333333337,733.59732948850012,0,30,0,0,0,0,0,3551.1268251460892]
["3.",{"$f":"B202","v":"CHALOUPSKÁ"},"Lucie","8.A",0,0,847.95657419260442,0,791.245,0,530.80000000000007,660.44444444444446,701.80872646175362,0,12,0,0,0,0,0,3544.2547450988022]
["4.",{"$f":"B203","v":"KŘÍŽKOVÁ"},"Anna","8.A",0,696.17384747561709,650.29815717572421,0,613.86700000000008,0,458,537.77777777777771,661.48847929946976,0,36,0,0,0,0,0,3653.6052617285891]
["5.",{"$f":"B204","v":"LUKEŠOVÁ"},"Kristýna","8.A",0,0,726.31598911774654,0,723.42400000000009,0,412.5,520,694.08223034502919,0,30,0,0,0,0,0,3106.3222194627756]
["6.",{"$f":"B205","v":"MOTLÍKOVÁ"},"Eliška","8.A",0,721.46340005454545,0,0,699.07800000000009,0,458,590.22222222222229,687.87633336416366,0,30,0,0,0,0,0,3186.6399556409315]
["7.",{"$f":"B206","v":"POHOŘELÁ"},"Amálie","8.A",0,819.84972591271548,665.40124867261659,0,0,0,0,546.66666666666663,671.16245086571166,541.93000000000006,36,0,0,693.25,670.63172804532587,0,4644.8918201630368]
["8.",{"$f":"B207","v":"POLÁČKOVÁ"},"Natálie","8.A",0,0,362.14731629844562,0,0,0,439.8,342.22222222222223,566.46792136528632,0,18,0,0,0,0,0,1728.6374598859543]
["9.",{"$f":"B208","v":"ŘEHOŘKOVÁ"},"Lucie","8.A",0,726.72596590912008,683.29908907741935,0,744.29200000000003,0,558.1,688.88888888888891,727.48356080070721,0,18,0,0,0,0,0,4146.789504676135]
["10.",{"$f":"B209","v":"SKÁLOVÁ"},"Alena","8.A",0,654.55560740478279,547.50448918836287,0,672.99300000000005,0,367,688.88888888888891,630.43200490025367,0,12,0,0,0,0,0,3573.373990382288]
["11.",{"$f":"B210","v":"VÁVROVÁ "},"Aneta","8.A",0,780.07093460253748,787.18802121627004,0,786.02800000000002,0,439.8,511.11111111111109,0,389.14,63,0,0,468.25,792.94711992445718,0,5017.5351868543758]
["12.",{"$f":"B211","v":"ZELINKOVÁ"},"Klára","8.A",0,780.93496227634739,660.06988022729956,0,728.64100000000008,0,494.40000000000003,621.33333333333337,673.78621506169497,0,30,0,0,0,0,0,3989.1653908986755]
[]
[]
[]
[]
[]
[]
[null,null,"CELKOVÉ   VÝSLEDKY  ",null,null,null,null,null,null,null,null,null,null,null,null,null,null,null,null,null,{"$f":"U76","v":"2021-06-28"}]
[]
[null,"9. ročník",null,null,null,"   60  m  ","   300m","  1000m","   dálka","   výška","   míček","   koule","  člunek","  lehsed","odbíjení ","  plavání","    šplh","švihadlo","z místa"," REPRE","          CELKEM"]
[]
["1.",{"$f":"B212","v":"JUNGOVÁ "},{"$f":"C212","v":"Lucie"},"9.A",0,829.42216232425562,0,0,0,0,376.1,462.22222222222223,673.78621506169497,0,0,0,0,0,0,0,{"$f":"U212","v":2341.5305996081725}]
["2.",{"$f":"B213","v":"KŘIVÁNKOVÁ "},"Linda","9.A",0,703.23061181339574,422.42112043261818,0,0,0,285.10000000000002,564.44444444444446,638.68747725434832,0,0,0,0,462,0,0,3075.8836539448066]
["3.",{"$f":"B214","v":"KUBÁTOVÁ"},"Lucie","9.A",0,726.72596590912008,0,0,0,0,0,0,0,0,0,0,0,0,0,0,726.72596590912008]
["4.",{"$f":"B215","v":"ŠIMŮNKOVÁ "},"Nikola","9.A",0,703.94354965107573,437.67179909531262,0,0,0,330.6,471.99999999999994,596.63035824785641,0,0,0,0,0,0,0,2540.8457069942447]
["5.",{"$f":"B216","v":"ŠMÍDOVÁ"},"Kristýna","9.A",0,593.48381283226661,520.64704983335162,0,0,0,367,584,568.87503398280717,541.93000000000006,0,0,0,224.5,421.296506137866,0,3821.732402786291]
["6.",{"$f":"B217","v":"VOTOČKOVÁ "},"Nikola","9.A",0,857.36937442734074,815.18735417895959,0,0,0,530.80000000000007,562.66666666666663,701.09977151009628,0,0,0,0,0,0,0,3467.123166783063]
["7.",{"$f":"B218","v":"VYHLASOVÁ"},"Lenka","9.A",0,593.48381283226661,0,0,0,0,0,612.44444444444434,519.45445118699763,0,0,0,0,0,0,0,1725.3827084637087]
["8.",{"$f":"B219","v":"BÖHMOVÁ"},"Diana","9.B",0,743.73755041371385,632.0655858980989,0,0,0,357.90000000000003,525.33333333333337,657.06115804243473,0,24,509.95443449696967,0,0,0,0,3450.0520621845503]
["9.",{"$f":"B220","v":"HOUDOVÁ"},"Tereza","9.B",0,750.10768920006615,0,0,0,0,0,0,0,0,0,509.95443449696967,0,0,0,0,1260.0621236970358]
["10.",{"$f":"B221","v":"JANÍKOVÁ"},"Kristýna","9.B",0,829.42216232425562,0,0,0,0,0,635.55555555555554,0,0,0,509.95443449696967,0,0,0,0,1974.932152376781]
["11.",{"$f":"B222","v":"KUŽELOVÁ"},"Ela","9.B",0,797.69637307457981,424.63251742897478,0,0,0,0,568,696.17384747561709,0,27,0,0,0,0,0,2513.5027379791718]
["12.",{"$f":"B223","v":"MATERNOVÁ"},"Lucie","9.B",0,767.32061740999654,612.40308390417829,0,0,0,257.8,372.4444444444444,640.48229907404232,0,12,0,0,0,0,0,2662.4504448326616]
["13.",{"$f":"B224","v":"OPOČENSKÁ"},"Matylda","9.B",0,0,0,0,0,0,0,0,0,0,0,0,0,0,0,0,0]
["14.",{"$f":"B225","v":"PIŠTOROVÁ"},"Karolína","9.B",0,787.91178386673573,0,0,0,0,367,0,687.87633336416366,0,27,0,0,0,0,0,1869.7881172308994]
["15.",{"$f":"B226","v":"POKORNÝ"},"Anna","9.B",0,0,0,0,0,0,303.3,576.00000000000011,0,625.27,15,0,0,0,0,0,1519.5700000000002]
["16.",{"$f":"B227","v":"SUCHÁNKOVÁ"},"Michaela","9.B",0,586.76885737424118,398.0822180012384,0,0,0,276,546.66666666666663,517.81837088189536,0,27,0,0,0,0,0,2352.3361129240411]
["17.",{"$f":"B228","v":"ŠUBÍKOVÁ "},"Štěpánka","9.B",0,774.92387404260398,637.60369529402021,0,0,0,321.5,466.66666666666663,692.69424478371741,0,27,0,0,0,0,0,2920.3884807870081]
["18.",{"$f":"B229","v":"VANCLOVÁ"},"Pavlína","9.B",0,0,643.62816013952124,0,0,0,421.6,724.44444444444446,654.55560740478279,0,24,509.95443449696967,0,0,0,0,2978.1826464857177]
[]
[]
[]
[]
[]
[]
[]
[]
[]
[]
[]
[]
[]
[]
[]
[]
[]
[]
[null,null,null,null,null,"60  m  ","300m","800m","dálka","výška","míček","koule","člunek","lehsed","odbíjení ","plavání","šplh","švihadlo","z místa"," REPRE","   CELKEM"]
[null,"ERBENOVÁ","Sára","6.A",null,{"$f":"'D60'!H101","v":645.31395527950497},{"$f":"'D300'!H101","v":0},{"$f":"'D800'!H101","v":0},{"$f":"Ddál!H101","v":570.39200000000005},{"$f":"Dvýš!H101","v":0},{"$f":"Dmíč!H101","v":321.5},{"$f":"Dkou!H101","v":325.33333333333331},{"$f":"Dčlu!H101","v":0},{"$f":"Dls!H101","v":541.93000000000006},{"$f":"Dodbíj!H101","v":0},{"$f":"Dplav!H101","v":0},{"$f":"Dšplh!H101","v":0},{"$f":"Dšvih!H101","v":174.5},{"$f":"'Dz mís'!H101","v":454.22757318224751},{"$f":"Drepre!E4","v":0},{"$f":"SUM(F139:T139)","v":3033.1968617950856}]
[null,"HOFMANOVÁ ","Nicol","6.A",null,{"$f":"'D60'!H102","v":625.22731742197993},{"$f":"'D300'!H102","v":491.29911072507264},{"$f":"'D800'!H102","v":0},{"$f":"Ddál!H102","v":646.90800000000002},{"$f":"Dvýš!H102","v":0},{"$f":"Dmíč!H102","v":285.10000000000002},{"$f":"Dkou!H102","v":419.55555555555549},{"$f":"Dčlu!H102","v":606.79776690367351},{"$f":"Dls!H102","v":389.14},{"$f":"Dodbíj!H102","v":0},{"$f":"Dplav!H102","v":0},{"$f":"Dšplh!H102","v":0},{"$f":"Dšvih!H102","v":318.25},{"$f":"'Dz mís'!H102","v":670.63172804532587},{"$f":"Drepre!E5","v":0},{"$f":"SUM(F140:T140)","v":4452.9094786516071}]
[null,"HOLEŠOVSKÁ","Aneta","6.A",null,{"$f":"'D60'!H103","v":683.11979661237478},{"$f":"'D300'!H103","v":0},{"$f":"'D800'!H103","v":279.53101451086951},{"$f":"Ddál!H103","v":622.56200000000001},{"$f":"Dvýš!H103","v":0},{"$f":"Dmíč!H103","v":414.32},{"$f":"Dkou!H103","v":0},{"$f":"Dčlu!H103","v":0},{"$f":"Dls!H103","v":0},{"$f":"Dodbíj!H103","v":0},{"$f":"Dplav!H103","v":0},{"$f":"Dšplh!H103","v":0},{"$f":"Dšvih!H103","v":0},{"$f":"'Dz mís'!H103","v":0},{"$f":"Drepre!E6","v":0},{"$f":"SUM(F141:T141)","v":1999.5328111232441}]
[null,"HOLUBCOVÁ","Alena","6.A",null,{"$f":"'D60'!H104","v":0},{"$f":"'D300'!H104","v":687.08808051101755},{"$f":"'D800'!H104","v":0},{"$f":"Ddál!H104","v":634.73500000000001},{"$f":"Dvýš!H104","v":0},{"$f":"Dmíč!H104","v":530.80000000000007},{"$f":"Dkou!H104","v":574.22222222222217},{"$f":"Dčlu!H104","v":680.42888189513451},{"$f":"Dls!H104","v":0},{"$f":"Dodbíj!H104","v":0},{"$f":"Dplav!H104","v":0},{"$f":"Dšplh!H104","v":0},{"$f":"Dšvih!H104","v":0},{"$f":"'Dz mís'!H104","v":694.15391879131289},{"$f":"Drepre!E7","v":0},{"$f":"SUM(F142:T142)","v":3801.4281034196874}]
[null,"KOHOUTOVÁ","Anna","6.A",null,{"$f":"'D60'!H105","v":556.5564307851572},{"$f":"'D300'!H105","v":420.75368230544586},{"$f":"'D800'!H105","v":0},{"$f":"Ddál!H105","v":525.178},{"$f":"Dvýš!H105","v":0},{"$f":"Dmíč!H105","v":239.6},{"$f":"Dkou!H105","v":272.88888888888886},{"$f":"Dčlu!H105","v":539.83698467963779},{"$f":"Dls!H105","v":0},{"$f":"Dodbíj!H105","v":0},{"$f":"Dplav!H105","v":0},{"$f":"Dšplh!H105","v":0},{"$f":"Dšvih!H105","v":0},{"$f":"'Dz mís'!H105","v":0},{"$f":"Drepre!E8","v":0},{"$f":"SUM(F143:T143)","v":2554.8139866591296}]
[null,"KRAUSOVÁ","Anežka","6.A",null,{"$f":"'D60'!H106","v":635.71649167546843},{"$f":"'D300'!H106","v":619.11520564567854},{"$f":"'D800'!H106","v":0},{"$f":"Ddál!H106","v":0},{"$f":"Dvýš!H106","v":0},{"$f":"Dmíč!H106","v":0},{"$f":"Dkou!H106","v":0},{"$f":"Dčlu!H106","v":638.09124869544166},{"$f":"Dls!H106","v":528.04},{"$f":"Dodbíj!H106","v":0},{"$f":"Dplav!H106","v":0},{"$f":"Dšplh!H106","v":0},{"$f":"Dšvih!H106","v":0},{"$f":"'Dz mís'!H106","v":694.15391879131289},{"$f":"Drepre!E9","v":0},{"$f":"SUM(F144:T144)","v":3115.1168648079019}]
[null,"KUŽELOVÁ","Apoléna","6.A",null,{"$f":"'D60'!H107","v":692.00216911019038},{"$f":"'D300'!H107","v":0},{"$f":"'D800'!H107","v":517.12152660114498},{"$f":"Ddál!H107","v":606.91100000000006},{"$f":"Dvýš!H107","v":0},{"$f":"Dmíč!H107","v":337.88},{"$f":"Dkou!H107","v":0},{"$f":"Dčlu!H107","v":0},{"$f":"Dls!H107","v":0},{"$f":"Dodbíj!H107","v":0},{"$f":"Dplav!H107","v":0},{"$f":"Dšplh!H107","v":0},{"$f":"Dšvih!H107","v":0},{"$f":"'Dz mís'!H107","v":0},{"$f":"Drepre!E10","v":0},{"$f":"SUM(F145:T145)","v":2153.9146957113353}]
[null,"MORÁVKOVÁ","Lucie","6.A",null,{"$f":"'D60'!H108","v":645.31395527950497},{"$f":"'D300'!H108","v":0},{"$f":"'D800'!H108","v":446.68653053571416},{"$f":"Ddál!H108","v":513.005},{"$f":"Dvýš!H108","v":0},{"$f":"Dmíč!H108","v":383.38},{"$f":"Dkou!H108","v":0},{"$f":"Dčlu!H108","v":0},{"$f":"Dls!H108","v":625.27},{"$f":"Dodbíj!H108","v":0},{"$f":"Dplav!H108","v":0},{"$f":"Dšplh!H108","v":0},{"$f":"Dšvih!H108","v":493.25},{"$f":"'Dz mís'!H108","v":0},{"$f":"Drepre!E11","v":0},{"$f":"SUM(F146:T146)","v":3106.9054858152194}]
[null,"SKLENÁROVÁ","Eliška","6.A",null,{"$f":"'D60'!H109","v":0},{"$f":"'D300'!H109","v":474.62790960773896},{"$f":"'D800'!H109","v":0},{"$f":"Ddál!H109","v":0},{"$f":"Dvýš!H109","v":0},{"$f":"Dmíč!H109","v":0},{"$f":"Dkou!H109","v":0},{"$f":"Dčlu!H109","v":0},{"$f":"Dls!H109","v":583.6},{"$f":"Dodbíj!H109","v":0},{"$f":"Dplav!H109","v":0},{"$f":"Dšplh!H109","v":0},{"$f":"Dšvih!H109","v":243.25},{"$f":"'Dz mís'!H109","v":553.02077431539215},{"$f":"Drepre!E12","v":0},{"$f":"SUM(F147:T147)","v":1854.4986839231312}]
[null,"ŠTOLFOVÁ","Tereza","6.A",null,{"$f":"'D60'!H110","v":694.7781473200863},{"$f":"'D300'!H110","v":609.08737025104813},{"$f":"'D800'!H110","v":0},{"$f":"Ddál!H110","v":0},{"$f":"Dvýš!H110","v":0},{"$f":"Dmíč!H110","v":257.8},{"$f":"Dkou!H110","v":293.33333333333331},{"$f":"Dčlu!H110","v":622.36964301058197},{"$f":"Dls!H110","v":0},{"$f":"Dodbíj!H110","v":0},{"$f":"Dplav!H110","v":0},{"$f":"Dšplh!H110","v":0},{"$f":"Dšvih!H110","v":0},{"$f":"'Dz mís'!H110","v":491.86307837582638},{"$f":"Drepre!E13","v":0},{"$f":"SUM(F148:T148)","v":2969.2315722908761}]
[null,"ŠUBÍKOVÁ","Klára","6.A",null,{"$f":"'D60'!H111","v":0},{"$f":"'D300'!H111","v":593.87737794081704},{"$f":"'D800'!H111","v":0},{"$f":"Ddál!H111","v":669.51499999999999},{"$f":"Dvýš!H111","v":0},{"$f":"Dmíč!H111","v":239.6},{"$f":"Dkou!H111","v":364.44444444444446},{"$f":"Dčlu!H111","v":642.88981107314976},{"$f":"Dls!H111","v":0},{"$f":"Dodbíj!H111","v":0},{"$f":"Dplav!H111","v":0},{"$f":"Dšplh!H111","v":0},{"$f":"Dšvih!H111","v":0},{"$f":"'Dz mís'!H111","v":623.58734655335252},{"$f":"Drepre!E14","v":0},{"$f":"SUM(F149:T149)","v":3133.9139800117637}]
[null,"TULÁČKOVÁ","Natálie","6.A",null,{"$f":"'D60'!H112","v":648.98173596672461},{"$f":"'D300'!H112","v":0},{"$f":"'D800'!H112","v":458.70083324999996},{"$f":"Ddál!H112","v":577.34800000000007},{"$f":"Dvýš!H112","v":0},{"$f":"Dmíč!H112","v":326.96000000000004},{"$f":"Dkou!H112","v":0},{"$f":"Dčlu!H112","v":0},{"$f":"Dls!H112","v":666.94},{"$f":"Dodbíj!H112","v":0},{"$f":"Dplav!H112","v":0},{"$f":"Dšplh!H112","v":0},{"$f":"Dšvih!H112","v":262},{"$f":"'Dz mís'!H112","v":0},{"$f":"Drepre!E15","v":0},{"$f":"SUM(F150:T150)","v":2940.9305692167245}]
[null,"VOJTÍŠKOVÁ","Ella","6.A",null,{"$f":"'D60'!H113","v":709.6954326770342},{"$f":"'D300'!H113","v":0},{"$f":"'D800'!H113","v":0},{"$f":"Ddál!H113","v":659.08100000000002},{"$f":"Dvýš!H113","v":0},{"$f":"Dmíč!H113","v":450.72},{"$f":"Dkou!H113","v":0},{"$f":"Dčlu!H113","v":0},{"$f":"Dls!H113","v":0},{"$f":"Dodbíj!H113","v":0},{"$f":"Dplav!H113","v":0},{"$f":"Dšplh!H113","v":0},{"$f":"Dšvih!H113","v":830.75},{"$f":"'Dz mís'!H113","v":567.13408876298399},{"$f":"Drepre!E16","v":0},{"$f":"SUM(F151:T151)","v":3217.3805214400181}]
[null,"DRUGÁČOVÁ","Kristinka","6.B",null,{"$f":"'D60'!H114","v":0},{"$f":"'D300'!H114","v":628.8570230727272},{"$f":"'D800'!H114","v":0},{"$f":"Ddál!H114","v":664.298},{"$f":"Dvýš!H114","v":0},{"$f":"Dmíč!H114","v":303.3},{"$f":"Dkou!H114","v":377.77777777777777},{"$f":"Dčlu!H114","v":693.38759734963094},{"$f":"Dls!H114","v":416.92},{"$f":"Dodbíj!H114","v":0},{"$f":"Dplav!H114","v":0},{"$f":"Dšplh!H114","v":0},{"$f":"Dšvih!H114","v":249.5},{"$f":"'Dz mís'!H114","v":703.56279508970738},{"$f":"Drepre!E17","v":0},{"$f":"SUM(F152:T152)","v":4037.6031932898431}]
[null,"FAJSTAVROVÁ","Karolína","6.B",null,{"$f":"'D60'!H115","v":709.6954326770342},{"$f":"'D300'!H115","v":0},{"$f":"'D800'!H115","v":757.67455472120457},{"$f":"Ddál!H115","v":634.73500000000001},{"$f":"Dvýš!H115","v":0},{"$f":"Dmíč!H115","v":410.68},{"$f":"Dkou!H115","v":0},{"$f":"Dčlu!H115","v":0},{"$f":"Dls!H115","v":305.8},{"$f":"Dodbíj!H115","v":0},{"$f":"Dplav!H115","v":0},{"$f":"Dšplh!H115","v":0},{"$f":"Dšvih!H115","v":362},{"$f":"'Dz mís'!H115","v":308.38999055712941},{"$f":"Drepre!E18","v":0},{"$f":"SUM(F153:T153)","v":3488.9749779553681}]
[null,"FAJSTAVROVÁ","Magdaléna","6.B",null,{"$f":"'D60'!H116","v":736.69000174666667},{"$f":"'D300'!H116","v":0},{"$f":"'D800'!H116","v":801.5705491730771},{"$f":"Ddál!H116","v":0},{"$f":"Dvýš!H116","v":0},{"$f":"Dmíč!H116","v":530.80000000000007},{"$f":"Dkou!H116","v":0},{"$f":"Dčlu!H116","v":0},{"$f":"Dls!H116","v":625.27},{"$f":"Dodbíj!H116","v":0},{"$f":"Dplav!H116","v":0},{"$f":"Dšplh!H116","v":0},{"$f":"Dšvih!H116","v":493.25},{"$f":"'Dz mís'!H116","v":722.38054768649681},{"$f":"Drepre!E19","v":0},{"$f":"SUM(F154:T154)","v":3909.9610986062407}]
[null,"HLAVATÁ","Anna","6.B",null,{"$f":"'D60'!H117","v":0},{"$f":"'D300'!H117","v":0},{"$f":"'D800'!H117","v":0},{"$f":"Ddál!H117","v":636.47400000000005},{"$f":"Dvýš!H117","v":0},{"$f":"Dmíč!H117","v":0},{"$f":"Dkou!H117","v":0},{"$f":"Dčlu!H117","v":632.18454373474572},{"$f":"Dls!H117","v":0},{"$f":"Dodbíj!H117","v":0},{"$f":"Dplav!H117","v":0},{"$f":"Dšplh!H117","v":0},{"$f":"Dšvih!H117","v":0},{"$f":"'Dz mís'!H117","v":0},{"$f":"Drepre!E20","v":0},{"$f":"SUM(F155:T155)","v":1268.6585437347458}]
[null,"JINDROVÁ","Barbora","6.B",null,{"$f":"'D60'!H118","v":615.05021777438014},{"$f":"'D300'!H118","v":0},{"$f":"'D800'!H118","v":564.85999985655735},{"$f":"Ddál!H118","v":643.43000000000006},{"$f":"Dvýš!H118","v":0},{"$f":"Dmíč!H118","v":221.4},{"$f":"Dkou!H118","v":0},{"$f":"Dčlu!H118","v":0},{"$f":"Dls!H118","v":347.47},{"$f":"Dodbíj!H118","v":0},{"$f":"Dplav!H118","v":0},{"$f":"Dšplh!H118","v":0},{"$f":"Dšvih!H118","v":337},{"$f":"'Dz mís'!H118","v":477.74976392823442},{"$f":"Drepre!E21","v":0},{"$f":"SUM(F156:T156)","v":3206.9599815591719}]
[null,"MAŘASOVÁ","Vendula","6.B",null,{"$f":"'D60'!H119","v":0},{"$f":"'D300'!H119","v":0},{"$f":"'D800'!H119","v":545.48143413047808},{"$f":"Ddál!H119","v":547.78500000000008},{"$f":"Dvýš!H119","v":0},{"$f":"Dmíč!H119","v":239.6},{"$f":"Dkou!H119","v":0},{"$f":"Dčlu!H119","v":0},{"$f":"Dls!H119","v":0},{"$f":"Dodbíj!H119","v":0},{"$f":"Dplav!H119","v":0},{"$f":"Dšplh!H119","v":0},{"$f":"Dšvih!H119","v":0},{"$f":"'Dz mís'!H119","v":0},{"$f":"Drepre!E22","v":0},{"$f":"SUM(F157:T157)","v":1332.866434130478}]
[null,"PETŘÍČKOVÁ","Natálie","6.B",null,{"$f":"'D60'!H120","v":697.57472648144721},{"$f":"'D300'!H120","v":0},{"$f":"'D800'!H120","v":0},{"$f":"Ddál!H120","v":674.73200000000008},{"$f":"Dvýš!H120","v":0},{"$f":"Dmíč!H120","v":399.76},{"$f":"Dkou!H120","v":0},{"$f":"Dčlu!H120","v":0},{"$f":"Dls!H120","v":0},{"$f":"Dodbíj!H120","v":0},{"$f":"Dplav!H120","v":0},{"$f":"Dšplh!H120","v":0},{"$f":"Dšvih!H120","v":0},{"$f":"'Dz mís'!H120","v":0},{"$f":"Drepre!E23","v":0},{"$f":"SUM(F158:T158)","v":1772.0667264814472}]
[null,"PETŘÍKOVÁ","Adéla","6.B",null,{"$f":"'D60'!H121","v":599.80740329590731},{"$f":"'D300'!H121","v":541.67729241279358},{"$f":"'D800'!H121","v":0},{"$f":"Ddál!H121","v":464.31300000000005},{"$f":"Dvýš!H121","v":0},{"$f":"Dmíč!H121","v":203.20000000000002},{"$f":"Dkou!H121","v":353.77777777777777},{"$f":"Dčlu!H121","v":574.23646618555904},{"$f":"Dls!H121","v":333.58000000000004},{"$f":"Dodbíj!H121","v":0},{"$f":"Dplav!H121","v":0},{"$f":"Dšplh!H121","v":0},{"$f":"Dšvih!H121","v":124.5},{"$f":"'Dz mís'!H121","v":576.54296506137871},{"$f":"Drepre!E24","v":0},{"$f":"SUM(F159:T159)","v":3771.6349047334165}]
[null,"REGÁLOVÁ","Karolína","6.B",null,{"$f":"'D60'!H122","v":657.06115804243473},{"$f":"'D300'!H122","v":0},{"$f":"'D800'!H122","v":529.71143956517506},{"$f":"Ddál!H122","v":636.47400000000005},{"$f":"Dvýš!H122","v":0},{"$f":"Dmíč!H122","v":425.24},{"$f":"Dkou!H122","v":0},{"$f":"Dčlu!H122","v":0},{"$f":"Dls!H122","v":778.06000000000006},{"$f":"Dodbíj!H122","v":0},{"$f":"Dplav!H122","v":0},{"$f":"Dšplh!H122","v":0},{"$f":"Dšvih!H122","v":462},{"$f":"'Dz mís'!H122","v":430.70538243626072},{"$f":"Drepre!E25","v":0},{"$f":"SUM(F160:T160)","v":3919.2519800438704}]
[null,"RIEGROVÁ","Magdaléna","6.B",null,{"$f":"'D60'!H123","v":0},{"$f":"'D300'!H123","v":514.42470234499331},{"$f":"'D800'!H123","v":0},{"$f":"Ddál!H123","v":0},{"$f":"Dvýš!H123","v":0},{"$f":"Dmíč!H123","v":285.10000000000002},{"$f":"Dkou!H123","v":256.88888888888891},{"$f":"Dčlu!H123","v":587.79291573116575},{"$f":"Dls!H123","v":0},{"$f":"Dodbíj!H123","v":0},{"$f":"Dplav!H123","v":0},{"$f":"Dšplh!H123","v":0},{"$f":"Dšvih!H123","v":0},{"$f":"'Dz mís'!H123","v":590.65627950897101},{"$f":"Drepre!E26","v":0},{"$f":"SUM(F161:T161)","v":2234.8627864740192}]
[null,"RYBENSKÁ","Sabina","6.B",null,{"$f":"'D60'!H124","v":681.77189518952468},{"$f":"'D300'!H124","v":0},{"$f":"'D800'!H124","v":529.71143956517506},{"$f":"Ddál!H124","v":582.56500000000005},{"$f":"Dvýš!H124","v":0},{"$f":"Dmíč!H124","v":232.32000000000002},{"$f":"Dkou!H124","v":0},{"$f":"Dčlu!H124","v":0},{"$f":"Dls!H124","v":0},{"$f":"Dodbíj!H124","v":0},{"$f":"Dplav!H124","v":0},{"$f":"Dšplh!H124","v":0},{"$f":"Dšvih!H124","v":0},{"$f":"'Dz mís'!H124","v":0},{"$f":"Drepre!E27","v":0},{"$f":"SUM(F162:T162)","v":2026.3683347546996}]
[null,"STEINEROVÁ","Barbora","6.B",null,{"$f":"'D60'!H125","v":665.3271387095914},{"$f":"'D300'!H125","v":0},{"$f":"'D800'!H125","v":527.15441848255807},{"$f":"Ddál!H125","v":631.25700000000006},{"$f":"Dvýš!H125","v":0},{"$f":"Dmíč!H125","v":447.08000000000004},{"$f":"Dkou!H125","v":0},{"$f":"Dčlu!H125","v":0},{"$f":"Dls!H125","v":0},{"$f":"Dodbíj!H125","v":0},{"$f":"Dplav!H125","v":0},{"$f":"Dšplh!H125","v":0},{"$f":"Dšvih!H125","v":0},{"$f":"'Dz mís'!H125","v":0},{"$f":"Drepre!E28","v":0},{"$f":"SUM(F163:T163)","v":2270.8185571921495}]
[null,"TOMEŠOVÁ","Barbora","6.B",null,{"$f":"'D60'!H126","v":644.70635054098352},{"$f":"'D300'!H126","v":0},{"$f":"'D800'!H126","v":522.09938449615402},{"$f":"Ddál!H126","v":509.52700000000004},{"$f":"Dvýš!H126","v":0},{"$f":"Dmíč!H126","v":297.84000000000003},{"$f":"Dkou!H126","v":0},{"$f":"Dčlu!H126","v":0},{"$f":"Dls!H126","v":0},{"$f":"Dodbíj!H126","v":0},{"$f":"Dplav!H126","v":0},{"$f":"Dšplh!H126","v":0},{"$f":"Dšvih!H126","v":0},{"$f":"'Dz mís'!H126","v":0},{"$f":"Drepre!E29","v":0},{"$f":"SUM(F164:T164)","v":1974.1727350371375}]
[null,"VOHNOUTOVÁ","Aneta","6.B",null,{"$f":"'D60'!H127","v":739.80690650048962},{"$f":"'D300'!H127","v":0},{"$f":"'D800'!H127","v":654.93444424999996},{"$f":"Ddál!H127","v":0},{"$f":"Dvýš!H127","v":0},{"$f":"Dmíč!H127","v":530.80000000000007},{"$f":"Dkou!H127","v":0},{"$f":"Dčlu!H127","v":0},{"$f":"Dls!H127","v":805.84},{"$f":"Dodbíj!H127","v":0},{"$f":"Dplav!H127","v":0},{"$f":"Dšplh!H127","v":0},{"$f":"Dšvih!H127","v":274.5},{"$f":"'Dz mís'!H127","v":458.93201133144487},{"$f":"Drepre!E30","v":0},{"$f":"SUM(F165:T165)","v":3464.8133620819344}]
[null,"HAVLÍKOVÁ","Michaela","7.A",null,{"$f":"'D60'!H128","v":635.12532875773047},{"$f":"'D300'!H128","v":0},{"$f":"'D800'!H128","v":0},{"$f":"Ddál!H128","v":634.73500000000001},{"$f":"Dvýš!H128","v":0},{"$f":"Dmíč!H128","v":0},{"$f":"Dkou!H128","v":254.2222222222222},{"$f":"Dčlu!H128","v":673.78621506169497},{"$f":"Dls!H128","v":0},{"$f":"Dodbíj!H128","v":0},{"$f":"Dplav!H128","v":0},{"$f":"Dšplh!H128","v":0},{"$f":"Dšvih!H128","v":0},{"$f":"'Dz mís'!H128","v":0},{"$f":"Drepre!E31","v":0},{"$f":"SUM(F166:T166)","v":2197.8687660416476}]
[null,"HOLUBCOVÁ","Sára","7.A",null,{"$f":"'D60'!H129","v":792.33146925574101},{"$f":"'D300'!H129","v":0},{"$f":"'D800'!H129","v":0},{"$f":"Ddál!H129","v":758.20400000000006},{"$f":"Dvýš!H129","v":0},{"$f":"Dmíč!H129","v":458},{"$f":"Dkou!H129","v":381.33333333333331},{"$f":"Dčlu!H129","v":706.8086895057902},{"$f":"Dls!H129","v":0},{"$f":"Dodbíj!H129","v":0},{"$f":"Dplav!H129","v":0},{"$f":"Dšplh!H129","v":0},{"$f":"Dšvih!H129","v":362},{"$f":"'Dz mís'!H129","v":0},{"$f":"Drepre!E32","v":0},{"$f":"SUM(F167:T167)","v":3458.6774920948646}]
[null,"HONCŮ","Tereza","7.A",null,{"$f":"'D60'!H130","v":671.16245086571166},{"$f":"'D300'!H130","v":0},{"$f":"'D800'!H130","v":0},{"$f":"Ddál!H130","v":723.42400000000009},{"$f":"Dvýš!H130","v":0},{"$f":"Dmíč!H130","v":403.40000000000003},{"$f":"Dkou!H130","v":356.4444444444444},{"$f":"Dčlu!H130","v":0},{"$f":"Dls!H130","v":0},{"$f":"Dodbíj!H130","v":0},{"$f":"Dplav!H130","v":0},{"$f":"Dšplh!H130","v":0},{"$f":"Dšvih!H130","v":0},{"$f":"'Dz mís'!H130","v":0},{"$f":"Drepre!E33","v":0},{"$f":"SUM(F168:T168)","v":2154.4308953101563}]
[null,"HORÁČKOVÁ","Kateřina","7.A",null,{"$f":"'D60'!H131","v":791.44384526624958},{"$f":"'D300'!H131","v":0},{"$f":"'D800'!H131","v":0},{"$f":"Ddál!H131","v":754.726},{"$f":"Dvýš!H131","v":0},{"$f":"Dmíč!H131","v":403.40000000000003},{"$f":"Dkou!H131","v":511.11111111111109},{"$f":"Dčlu!H131","v":694.08223034502919},{"$f":"Dls!H131","v":541.93000000000006},{"$f":"Dodbíj!H131","v":0},{"$f":"Dplav!H131","v":0},{"$f":"Dšplh!H131","v":0},{"$f":"Dšvih!H131","v":212},{"$f":"'Dz mís'!H131","v":0},{"$f":"Drepre!E34","v":0},{"$f":"SUM(F169:T169)","v":3908.6931867223893}]
[null,"JOUDALOVÁ","Daniela","7.A",null,{"$f":"'D60'!H132","v":0},{"$f":"'D300'!H132","v":0},{"$f":"'D800'!H132","v":0},{"$f":"Ddál!H132","v":0},{"$f":"Dvýš!H132","v":0},{"$f":"Dmíč!H132","v":0},{"$f":"Dkou!H132","v":364.44444444444446},{"$f":"Dčlu!H132","v":0},{"$f":"Dls!H132","v":0},{"$f":"Dodbíj!H132","v":0},{"$f":"Dplav!H132","v":0},{"$f":"Dšplh!H132","v":0},{"$f":"Dšvih!H132","v":0},{"$f":"'Dz mís'!H132","v":0},{"$f":"Drepre!E35","v":0},{"$f":"SUM(F170:T170)","v":364.44444444444446}]
[null,"KLÍMOVÁ","Anna","7.A",null,{"$f":"'D60'!H133","v":695.47535183811272},{"$f":"'D300'!H133","v":0},{"$f":"'D800'!H133","v":0},{"$f":"Ddál!H133","v":0},{"$f":"Dvýš!H133","v":0},{"$f":"Dmíč!H133","v":0},{"$f":"Dkou!H133","v":422.22222222222223},{"$f":"Dčlu!H133","v":662.76350304454274},{"$f":"Dls!H133","v":0},{"$f":"Dodbíj!H133","v":0},{"$f":"Dplav!H133","v":0},{"$f":"Dšplh!H133","v":0},{"$f":"Dšvih!H133","v":0},{"$f":"'Dz mís'!H133","v":0},{"$f":"Drepre!E36","v":0},{"$f":"SUM(F171:T171)","v":1780.4610771048779}]
[null,"KOHOUTOVÁ","Veronika","7.A",null,{"$f":"'D60'!H134","v":0},{"$f":"'D300'!H134","v":0},{"$f":"'D800'!H134","v":0},{"$f":"Ddál!H134","v":780.81100000000004},{"$f":"Dvýš!H134","v":0},{"$f":"Dmíč!H134","v":539.9},{"$f":"Dkou!H134","v":494.22222222222217},{"$f":"Dčlu!H134","v":695.47535183811272},{"$f":"Dls!H134","v":0},{"$f":"Dodbíj!H134","v":0},{"$f":"Dplav!H134","v":0},{"$f":"Dšplh!H134","v":0},{"$f":"Dšvih!H134","v":0},{"$f":"'Dz mís'!H134","v":0},{"$f":"Drepre!E37","v":0},{"$f":"SUM(F172:T172)","v":2510.408574060335}]
[null,"KOVÁŘOVÁ","Viktorie","7.A",null,{"$f":"'D60'!H135","v":708.97170822379167},{"$f":"'D300'!H135","v":0},{"$f":"'D800'!H135","v":0},{"$f":"Ddál!H135","v":721.68500000000006},{"$f":"Dvýš!H135","v":0},{"$f":"Dmíč!H135","v":357.90000000000003},{"$f":"Dkou!H135","v":372.4444444444444},{"$f":"Dčlu!H135","v":692.69424478371741},{"$f":"Dls!H135","v":583.6},{"$f":"Dodbíj!H135","v":0},{"$f":"Dplav!H135","v":0},{"$f":"Dšplh!H135","v":0},{"$f":"Dšvih!H135","v":0},{"$f":"'Dz mís'!H135","v":0},{"$f":"Drepre!E38","v":0},{"$f":"SUM(F173:T173)","v":3437.2953974519532}]
[null,"KYNČLOVÁ","Anna","7.A",null,{"$f":"'D60'!H136","v":799.49973372666659},{"$f":"'D300'!H136","v":0},{"$f":"'D800'!H136","v":0},{"$f":"Ddál!H136","v":766.899},{"$f":"Dvýš!H136","v":0},{"$f":"Dmíč!H136","v":503.5},{"$f":"Dkou!H136","v":329.77777777777777},{"$f":"Dčlu!H136","v":750.10768920006615},{"$f":"Dls!H136","v":736.39},{"$f":"Dodbíj!H136","v":0},{"$f":"Dplav!H136","v":0},{"$f":"Dšplh!H136","v":0},{"$f":"Dšvih!H136","v":355.75},{"$f":"'Dz mís'!H136","v":0},{"$f":"Drepre!E39","v":0},{"$f":"SUM(F174:T174)","v":4241.9242007045104}]
[null,"MATOUŠOVÁ","Tereza","7.A",null,{"$f":"'D60'!H137","v":695.47535183811272},{"$f":"'D300'!H137","v":0},{"$f":"'D800'!H137","v":0},{"$f":"Ddál!H137","v":739.07500000000005},{"$f":"Dvýš!H137","v":0},{"$f":"Dmíč!H137","v":376.1},{"$f":"Dkou!H137","v":432},{"$f":"Dčlu!H137","v":628.68833219814508},{"$f":"Dls!H137","v":0},{"$f":"Dodbíj!H137","v":0},{"$f":"Dplav!H137","v":509.95443449696967},{"$f":"Dšplh!H137","v":0},{"$f":"Dšvih!H137","v":312},{"$f":"'Dz mís'!H137","v":0},{"$f":"Drepre!E40","v":0},{"$f":"SUM(F175:T175)","v":3693.2931185332272}]
[null,"MAZÁNKOVÁ","Zuzana","7.A",null,{"$f":"'D60'!H138","v":735.91457295679004},{"$f":"'D300'!H138","v":0},{"$f":"'D800'!H138","v":0},{"$f":"Ddál!H138","v":672.99300000000005},{"$f":"Dvýš!H138","v":0},{"$f":"Dmíč!H138","v":348.8},{"$f":"Dkou!H138","v":422.22222222222223},{"$f":"Dčlu!H138","v":0},{"$f":"Dls!H138","v":0},{"$f":"Dodbíj!H138","v":0},{"$f":"Dplav!H138","v":0},{"$f":"Dšplh!H138","v":0},{"$f":"Dšvih!H138","v":0},{"$f":"'Dz mís'!H138","v":0},{"$f":"Drepre!E41","v":0},{"$f":"SUM(F176:T176)","v":2179.9297951790122}]
[null,"MORKESOVÁ","Sabrina","7.A",null,{"$f":"'D60'!H139","v":0},{"$f":"'D300'!H139","v":0},{"$f":"'D800'!H139","v":0},{"$f":"Ddál!H139","v":766.899},{"$f":"Dvýš!H139","v":0},{"$f":"Dmíč!H139","v":767.4},{"$f":"Dkou!H139","v":610.66666666666663},{"$f":"Dčlu!H139","v":743.73755041371385},{"$f":"Dls!H139","v":541.93000000000006},{"$f":"Dodbíj!H139","v":0},{"$f":"Dplav!H139","v":0},{"$f":"Dšplh!H139","v":0},{"$f":"Dšvih!H139","v":412},{"$f":"'Dz mís'!H139","v":637.70066100094436},{"$f":"Drepre!E42","v":0},{"$f":"SUM(F177:T177)","v":4480.3338780813247}]
[null,"POHOŘALÁ","Alžběta","7.A",null,{"$f":"'D60'!H140","v":799.49973372666659},{"$f":"'D300'!H140","v":0},{"$f":"'D800'!H140","v":0},{"$f":"Ddál!H140","v":733.85800000000006},{"$f":"Dvýš!H140","v":0},{"$f":"Dmíč!H140","v":412.5},{"$f":"Dkou!H140","v":400.8888888888888},{"$f":"Dčlu!H140","v":699.68581856465107},{"$f":"Dls!H140","v":0},{"$f":"Dodbíj!H140","v":0},{"$f":"Dplav!H140","v":509.95443449696967},{"$f":"Dšplh!H140","v":0},{"$f":"Dšvih!H140","v":0},{"$f":"'Dz mís'!H140","v":0},{"$f":"Drepre!E43","v":0},{"$f":"SUM(F178:T178)","v":3556.3868756771758}]
[null,"SCHOLZOVÁ","Laura","7.A",null,{"$f":"'D60'!H141","v":663.40270892559784},{"$f":"'D300'!H141","v":0},{"$f":"'D800'!H141","v":0},{"$f":"Ddál!H141","v":0},{"$f":"Dvýš!H141","v":0},{"$f":"Dmíč!H141","v":0},{"$f":"Dkou!H141","v":295.99999999999994},{"$f":"Dčlu!H141","v":636.30866254362036},{"$f":"Dls!H141","v":0},{"$f":"Dodbíj!H141","v":0},{"$f":"Dplav!H141","v":509.95443449696967},{"$f":"Dšplh!H141","v":0},{"$f":"Dšvih!H141","v":0},{"$f":"'Dz mís'!H141","v":0},{"$f":"Drepre!E44","v":0},{"$f":"SUM(F179:T179)","v":2105.6658059661877}]
[null,"VÁCLAVÍKOVÁ","Valerie","7.A",null,{"$f":"'D60'!H142","v":806.78975215888181},{"$f":"'D300'!H142","v":0},{"$f":"'D800'!H142","v":0},{"$f":"Ddál!H142","v":742.553},{"$f":"Dvýš!H142","v":0},{"$f":"Dmíč!H142","v":485.3},{"$f":"Dkou!H142","v":548.44444444444446},{"$f":"Dčlu!H142","v":684.47261289911864},{"$f":"Dls!H142","v":528.04},{"$f":"Dodbíj!H142","v":0},{"$f":"Dplav!H142","v":509.95443449696967},{"$f":"Dšplh!H142","v":0},{"$f":"Dšvih!H142","v":287},{"$f":"'Dz mís'!H142","v":477.74976392823442},{"$f":"Drepre!E45","v":0},{"$f":"SUM(F180:T180)","v":5070.3040079276498}]
[null,"ZAPADLOVÁ","Emma","7.A",null,{"$f":"'D60'!H143","v":797.69637307457981},{"$f":"'D300'!H143","v":0},{"$f":"'D800'!H143","v":0},{"$f":"Ddál!H143","v":728.64100000000008},{"$f":"Dvýš!H143","v":0},{"$f":"Dmíč!H143","v":612.70000000000005},{"$f":"Dkou!H143","v":400.8888888888888},{"$f":"Dčlu!H143","v":690.62183435692396},{"$f":"Dls!H143","v":486.37},{"$f":"Dodbíj!H143","v":0},{"$f":"Dplav!H143","v":509.95443449696967},{"$f":"Dšplh!H143","v":0},{"$f":"Dšvih!H143","v":412},{"$f":"'Dz mís'!H143","v":0},{"$f":"Drepre!E46","v":0},{"$f":"SUM(F181:T181)","v":4638.8725308173616}]
[null,"ŽIŠKOVÁ","Mia","7.A",null,{"$f":"'D60'!H144","v":792.33146925574101},{"$f":"'D300'!H144","v":0},{"$f":"'D800'!H144","v":0},{"$f":"Ddál!H144","v":725.16300000000001},{"$f":"Dvýš!H144","v":0},{"$f":"Dmíč!H144","v":412.5},{"$f":"Dkou!H144","v":0},{"$f":"Dčlu!H144","v":0},{"$f":"Dls!H144","v":0},{"$f":"Dodbíj!H144","v":0},{"$f":"Dplav!H144","v":0},{"$f":"Dšplh!H144","v":0},{"$f":"Dšvih!H144","v":0},{"$f":"'Dz mís'!H144","v":0},{"$f":"Drepre!E47","v":0},{"$f":"SUM(F182:T182)","v":1929.994469255741}]
[null,"FARSKÁ","Tereza","7.B",null,{"$f":"'D60'!H145","v":647.14308227157278},{"$f":"'D300'!H145","v":0},{"$f":"'D800'!H145","v":0},{"$f":"Ddál!H145","v":0},{"$f":"Dvýš!H145","v":0},{"$f":"Dmíč!H145","v":0},{"$f":"Dkou!H145","v":0},{"$f":"Dčlu!H145","v":0},{"$f":"Dls!H145","v":472.48},{"$f":"Dodbíj!H145","v":0},{"$f":"Dplav!H145","v":0},{"$f":"Dšplh!H145","v":0},{"$f":"Dšvih!H145","v":355.75},{"$f":"'Dz mís'!H145","v":426.00094428706336},{"$f":"Drepre!E48","v":0},{"$f":"SUM(F183:T183)","v":1901.3740265586362}]
[null,"FEIXOVÁ","Rozálie","7.B",null,{"$f":"'D60'!H146","v":645.31395527950497},{"$f":"'D300'!H146","v":0},{"$f":"'D800'!H146","v":0},{"$f":"Ddál!H146","v":565.17500000000007},{"$f":"Dvýš!H146","v":0},{"$f":"Dmíč!H146","v":0},{"$f":"Dkou!H146","v":0},{"$f":"Dčlu!H146","v":0},{"$f":"Dls!H146","v":0},{"$f":"Dodbíj!H146","v":0},{"$f":"Dplav!H146","v":0},{"$f":"Dšplh!H146","v":0},{"$f":"Dšvih!H146","v":0},{"$f":"'Dz mís'!H146","v":0},{"$f":"Drepre!E49","v":0},{"$f":"SUM(F184:T184)","v":1210.488955279505}]
[null,"FIŠEROVÁ","Michaela","7.B",null,{"$f":"'D60'!H147","v":689.24656505229348},{"$f":"'D300'!H147","v":0},{"$f":"'D800'!H147","v":0},{"$f":"Ddál!H147","v":553.00200000000007},{"$f":"Dvýš!H147","v":570.5},{"$f":"Dmíč!H147","v":0},{"$f":"Dkou!H147","v":0},{"$f":"Dčlu!H147","v":0},{"$f":"Dls!H147","v":0},{"$f":"Dodbíj!H147","v":0},{"$f":"Dplav!H147","v":0},{"$f":"Dšplh!H147","v":0},{"$f":"Dšvih!H147","v":0},{"$f":"'Dz mís'!H147","v":0},{"$f":"Drepre!E50","v":0},{"$f":"SUM(F185:T185)","v":1812.7485650522935}]
[null,"HAVLÍČKOVÁ","Kristýna","7.B",null,{"$f":"'D60'!H148","v":600.87327277804752},{"$f":"'D300'!H148","v":0},{"$f":"'D800'!H148","v":0},{"$f":"Ddál!H148","v":539.09},{"$f":"Dvýš!H148","v":0},{"$f":"Dmíč!H148","v":0},{"$f":"Dkou!H148","v":0},{"$f":"Dčlu!H148","v":0},{"$f":"Dls!H148","v":0},{"$f":"Dodbíj!H148","v":0},{"$f":"Dplav!H148","v":0},{"$f":"Dšplh!H148","v":0},{"$f":"Dšvih!H148","v":0},{"$f":"'Dz mís'!H148","v":0},{"$f":"Drepre!E51","v":0},{"$f":"SUM(F186:T186)","v":1139.9632727780477}]
[null,"JODASOVÁ","Nikola","7.B",null,{"$f":"'D60'!H149","v":777.48948576786313},{"$f":"'D300'!H149","v":0},{"$f":"'D800'!H149","v":0},{"$f":"Ddál!H149","v":695.6},{"$f":"Dvýš!H149","v":0},{"$f":"Dmíč!H149","v":0},{"$f":"Dkou!H149","v":0},{"$f":"Dčlu!H149","v":0},{"$f":"Dls!H149","v":0},{"$f":"Dodbíj!H149","v":0},{"$f":"Dplav!H149","v":0},{"$f":"Dšplh!H149","v":0},{"$f":"Dšvih!H149","v":0},{"$f":"'Dz mís'!H149","v":0},{"$f":"Drepre!E52","v":0},{"$f":"SUM(F187:T187)","v":1473.0894857678632}]
[null,"KADAVÁ","Nikola","7.B",null,{"$f":"'D60'!H150","v":0},{"$f":"'D300'!H150","v":0},{"$f":"'D800'!H150","v":0},{"$f":"Ddál!H150","v":0},{"$f":"Dvýš!H150","v":0},{"$f":"Dmíč!H150","v":0},{"$f":"Dkou!H150","v":0},{"$f":"Dčlu!H150","v":0},{"$f":"Dls!H150","v":583.6},{"$f":"Dodbíj!H150","v":0},{"$f":"Dplav!H150","v":0},{"$f":"Dšplh!H150","v":0},{"$f":"Dšvih!H150","v":0},{"$f":"'Dz mís'!H150","v":0},{"$f":"Drepre!E53","v":0},{"$f":"SUM(F188:T188)","v":583.6}]
[null,"KRAFKOVÁ","Lucie","7.B",null,{"$f":"'D60'!H151","v":675.76644790420426},{"$f":"'D300'!H151","v":0},{"$f":"'D800'!H151","v":0},{"$f":"Ddál!H151","v":537.351},{"$f":"Dvýš!H151","v":0},{"$f":"Dmíč!H151","v":0},{"$f":"Dkou!H151","v":0},{"$f":"Dčlu!H151","v":0},{"$f":"Dls!H151","v":0},{"$f":"Dodbíj!H151","v":0},{"$f":"Dplav!H151","v":0},{"$f":"Dšplh!H151","v":0},{"$f":"Dšvih!H151","v":0},{"$f":"'Dz mís'!H151","v":0},{"$f":"Drepre!E54","v":0},{"$f":"SUM(F189:T189)","v":1213.1174479042043}]
[null,"KŘIVINKOVÁ","Alžběta","7.B",null,{"$f":"'D60'!H152","v":681.77189518952468},{"$f":"'D300'!H152","v":0},{"$f":"'D800'!H152","v":0},{"$f":"Ddál!H152","v":626.04000000000008},{"$f":"Dvýš!H152","v":0},{"$f":"Dmíč!H152","v":0},{"$f":"Dkou!H152","v":0},{"$f":"Dčlu!H152","v":0},{"$f":"Dls!H152","v":0},{"$f":"Dodbíj!H152","v":0},{"$f":"Dplav!H152","v":0},{"$f":"Dšplh!H152","v":0},{"$f":"Dšvih!H152","v":0},{"$f":"'Dz mís'!H152","v":0},{"$f":"Drepre!E55","v":0},{"$f":"SUM(F190:T190)","v":1307.8118951895249}]
[null,"LEŠÁKOVÁ","Lenka","7.B",null,{"$f":"'D60'!H153","v":598.7449721024193},{"$f":"'D300'!H153","v":0},{"$f":"'D800'!H153","v":0},{"$f":"Ddál!H153","v":0},{"$f":"Dvýš!H153","v":0},{"$f":"Dmíč!H153","v":0},{"$f":"Dkou!H153","v":0},{"$f":"Dčlu!H153","v":0},{"$f":"Dls!H153","v":0},{"$f":"Dodbíj!H153","v":0},{"$f":"Dplav!H153","v":0},{"$f":"Dšplh!H153","v":0},{"$f":"Dšvih!H153","v":0},{"$f":"'Dz mís'!H153","v":0},{"$f":"Drepre!E56","v":0},{"$f":"SUM(F191:T191)","v":598.7449721024193}]
[null,"NYKLÍČKOVÁ","Adéla","7.B",null,{"$f":"'D60'!H154","v":747.7070730995714},{"$f":"'D300'!H154","v":0},{"$f":"'D800'!H154","v":0},{"$f":"Ddál!H154","v":695.6},{"$f":"Dvýš!H154","v":668},{"$f":"Dmíč!H154","v":0},{"$f":"Dkou!H154","v":0},{"$f":"Dčlu!H154","v":0},{"$f":"Dls!H154","v":0},{"$f":"Dodbíj!H154","v":0},{"$f":"Dplav!H154","v":0},{"$f":"Dšplh!H154","v":0},{"$f":"Dšvih!H154","v":0},{"$f":"'Dz mís'!H154","v":0},{"$f":"Drepre!E57","v":0},{"$f":"SUM(F192:T192)","v":2111.3070730995714}]
[null,"PLŮCHOVÁ","Petra","7.B",null,{"$f":"'D60'!H155","v":681.77189518952468},{"$f":"'D300'!H155","v":0},{"$f":"'D800'!H155","v":0},{"$f":"Ddál!H155","v":521.70000000000005},{"$f":"Dvýš!H155","v":668},{"$f":"Dmíč!H155","v":0},{"$f":"Dkou!H155","v":0},{"$f":"Dčlu!H155","v":0},{"$f":"Dls!H155","v":0},{"$f":"Dodbíj!H155","v":0},{"$f":"Dplav!H155","v":0},{"$f":"Dšplh!H155","v":0},{"$f":"Dšvih!H155","v":0},{"$f":"'Dz mís'!H155","v":0},{"$f":"Drepre!E58","v":0},{"$f":"SUM(F193:T193)","v":1871.4718951895247}]
[null,"PODZIMKOVÁ","Eliška","7.B",null,{"$f":"'D60'!H156","v":601.40750209743589},{"$f":"'D300'!H156","v":0},{"$f":"'D800'!H156","v":0},{"$f":"Ddál!H156","v":460.83500000000004},{"$f":"Dvýš!H156","v":596.5},{"$f":"Dmíč!H156","v":0},{"$f":"Dkou!H156","v":0},{"$f":"Dčlu!H156","v":0},{"$f":"Dls!H156","v":0},{"$f":"Dodbíj!H156","v":0},{"$f":"Dplav!H156","v":0},{"$f":"Dšplh!H156","v":0},{"$f":"Dšvih!H156","v":0},{"$f":"'Dz mís'!H156","v":0},{"$f":"Drepre!E59","v":0},{"$f":"SUM(F194:T194)","v":1658.742502097436}]
[null,"RUTKAYOVÁ","Klára","7.B",null,{"$f":"'D60'!H157","v":0},{"$f":"'D300'!H157","v":0},{"$f":"'D800'!H157","v":0},{"$f":"Ddál!H157","v":0},{"$f":"Dvýš!H157","v":0},{"$f":"Dmíč!H157","v":0},{"$f":"Dkou!H157","v":0},{"$f":"Dčlu!H157","v":0},{"$f":"Dls!H157","v":583.6},{"$f":"Dodbíj!H157","v":0},{"$f":"Dplav!H157","v":0},{"$f":"Dšplh!H157","v":0},{"$f":"Dšvih!H157","v":437},{"$f":"'Dz mís'!H157","v":0},{"$f":"Drepre!E60","v":0},{"$f":"SUM(F195:T195)","v":1020.6}]
[null,"SEIDLOVÁ","Zuzana","7.B",null,{"$f":"'D60'!H158","v":612.82962418478849},{"$f":"'D300'!H158","v":0},{"$f":"'D800'!H158","v":0},{"$f":"Ddál!H158","v":624.30100000000004},{"$f":"Dvýš!H158","v":635.5},{"$f":"Dmíč!H158","v":0},{"$f":"Dkou!H158","v":0},{"$f":"Dčlu!H158","v":0},{"$f":"Dls!H158","v":375.25},{"$f":"Dodbíj!H158","v":0},{"$f":"Dplav!H158","v":0},{"$f":"Dšplh!H158","v":0},{"$f":"Dšvih!H158","v":224.5},{"$f":"'Dz mís'!H158","v":477.74976392823442},{"$f":"Drepre!E61","v":0},{"$f":"SUM(F196:T196)","v":2950.1303881130234}]
[null,"TOMÁŠOVÁ","Sára","7.B",null,{"$f":"'D60'!H159","v":592.96232302451369},{"$f":"'D300'!H159","v":0},{"$f":"'D800'!H159","v":0},{"$f":"Ddál!H159","v":473.00800000000004},{"$f":"Dvýš!H159","v":0},{"$f":"Dmíč!H159","v":0},{"$f":"Dkou!H159","v":0},{"$f":"Dčlu!H159","v":0},{"$f":"Dls!H159","v":0},{"$f":"Dodbíj!H159","v":0},{"$f":"Dplav!H159","v":0},{"$f":"Dšplh!H159","v":0},{"$f":"Dšvih!H159","v":0},{"$f":"'Dz mís'!H159","v":0},{"$f":"Drepre!E62","v":0},{"$f":"SUM(F197:T197)","v":1065.9703230245136}]
[null,"VANCLOVÁ","Barbora","7.B",null,{"$f":"'D60'!H160","v":759.0335506690069},{"$f":"'D300'!H160","v":0},{"$f":"'D800'!H160","v":0},{"$f":"Ddál!H160","v":613.86700000000008},{"$f":"Dvýš!H160","v":635.5},{"$f":"Dmíč!H160","v":0},{"$f":"Dkou!H160","v":0},{"$f":"Dčlu!H160","v":0},{"$f":"Dls!H160","v":0},{"$f":"Dodbíj!H160","v":0},{"$f":"Dplav!H160","v":0},{"$f":"Dšplh!H160","v":0},{"$f":"Dšvih!H160","v":0},{"$f":"'Dz mís'!H160","v":0},{"$f":"Drepre!E63","v":0},{"$f":"SUM(F198:T198)","v":2008.4005506690069}]
[null,"VOTOČKOVÁ","Veronika","7.B",null,{"$f":"'D60'!H161","v":590.88467438804776},{"$f":"'D300'!H161","v":0},{"$f":"'D800'!H161","v":0},{"$f":"Ddál!H161","v":573.87},{"$f":"Dvýš!H161","v":0},{"$f":"Dmíč!H161","v":0},{"$f":"Dkou!H161","v":0},{"$f":"Dčlu!H161","v":0},{"$f":"Dls!H161","v":0},{"$f":"Dodbíj!H161","v":0},{"$f":"Dplav!H161","v":0},{"$f":"Dšplh!H161","v":0},{"$f":"Dšvih!H161","v":0},{"$f":"'Dz mís'!H161","v":0},{"$f":"Drepre!E64","v":0},{"$f":"SUM(F199:T199)","v":1164.7546743880478}]
[null,"HARTIGOVÁ","Anna","8.A",null,{"$f":"'D60'!H162","v":703.23061181339574},{"$f":"'D300'!H162","v":0},{"$f":"'D800'!H162","v":0},{"$f":"Ddál!H162","v":716.46800000000007},{"$f":"Dvýš!H162","v":0},{"$f":"Dmíč!H162","v":458},{"$f":"Dkou!H162","v":627.55555555555554},{"$f":"Dčlu!H162","v":0},{"$f":"Dls!H162","v":0},{"$f":"Dodbíj!H162","v":63},{"$f":"Dplav!H162","v":0},{"$f":"Dšplh!H162","v":0},{"$f":"Dšvih!H162","v":0},{"$f":"'Dz mís'!H162","v":0},{"$f":"Drepre!E65","v":0},{"$f":"SUM(F200:T200)","v":2568.2541673689516}]
[null,"HONCŮ","Rozálie","8.A",null,{"$f":"'D60'!H163","v":829.42216232425562},{"$f":"'D300'!H163","v":0},{"$f":"'D800'!H163","v":0},{"$f":"Ddál!H163","v":810.37400000000002},{"$f":"Dvýš!H163","v":0},{"$f":"Dmíč!H163","v":494.40000000000003},{"$f":"Dkou!H163","v":653.33333333333337},{"$f":"Dčlu!H163","v":733.59732948850012},{"$f":"Dls!H163","v":0},{"$f":"Dodbíj!H163","v":30},{"$f":"Dplav!H163","v":0},{"$f":"Dšplh!H163","v":0},{"$f":"Dšvih!H163","v":0},{"$f":"'Dz mís'!H163","v":0},{"$f":"Drepre!E66","v":0},{"$f":"SUM(F201:T201)","v":3551.1268251460892}]
[null,"CHALOUPSKÁ","Lucie","8.A",null,{"$f":"'D60'!H164","v":0},{"$f":"'D300'!H164","v":847.95657419260442},{"$f":"'D800'!H164","v":0},{"$f":"Ddál!H164","v":791.245},{"$f":"Dvýš!H164","v":0},{"$f":"Dmíč!H164","v":530.80000000000007},{"$f":"Dkou!H164","v":660.44444444444446},{"$f":"Dčlu!H164","v":701.80872646175362},{"$f":"Dls!H164","v":0},{"$f":"Dodbíj!H164","v":12},{"$f":"Dplav!H164","v":0},{"$f":"Dšplh!H164","v":0},{"$f":"Dšvih!H164","v":0},{"$f":"'Dz mís'!H164","v":0},{"$f":"Drepre!E67","v":0},{"$f":"SUM(F202:T202)","v":3544.2547450988022}]
[null,"KŘÍŽKOVÁ","Anna","8.A",null,{"$f":"'D60'!H165","v":696.17384747561709},{"$f":"'D300'!H165","v":650.29815717572421},{"$f":"'D800'!H165","v":0},{"$f":"Ddál!H165","v":613.86700000000008},{"$f":"Dvýš!H165","v":0},{"$f":"Dmíč!H165","v":458},{"$f":"Dkou!H165","v":537.77777777777771},{"$f":"Dčlu!H165","v":661.48847929946976},{"$f":"Dls!H165","v":0},{"$f":"Dodbíj!H165","v":36},{"$f":"Dplav!H165","v":0},{"$f":"Dšplh!H165","v":0},{"$f":"Dšvih!H165","v":0},{"$f":"'Dz mís'!H165","v":0},{"$f":"Drepre!E68","v":0},{"$f":"SUM(F203:T203)","v":3653.6052617285891}]
[null,"LUKEŠOVÁ","Kristýna","8.A",null,{"$f":"'D60'!H166","v":0},{"$f":"'D300'!H166","v":726.31598911774654},{"$f":"'D800'!H166","v":0},{"$f":"Ddál!H166","v":723.42400000000009},{"$f":"Dvýš!H166","v":0},{"$f":"Dmíč!H166","v":412.5},{"$f":"Dkou!H166","v":520},{"$f":"Dčlu!H166","v":694.08223034502919},{"$f":"Dls!H166","v":0},{"$f":"Dodbíj!H166","v":30},{"$f":"Dplav!H166","v":0},{"$f":"Dšplh!H166","v":0},{"$f":"Dšvih!H166","v":0},{"$f":"'Dz mís'!H166","v":0},{"$f":"Drepre!E69","v":0},{"$f":"SUM(F204:T204)","v":3106.3222194627756}]
[null,"MOTLÍKOVÁ","Eliška","8.A",null,{"$f":"'D60'!H167","v":721.46340005454545},{"$f":"'D300'!H167","v":0},{"$f":"'D800'!H167","v":0},{"$f":"Ddál!H167","v":699.07800000000009},{"$f":"Dvýš!H167","v":0},{"$f":"Dmíč!H167","v":458},{"$f":"Dkou!H167","v":590.22222222222229},{"$f":"Dčlu!H167","v":687.87633336416366},{"$f":"Dls!H167","v":0},{"$f":"Dodbíj!H167","v":30},{"$f":"Dplav!H167","v":0},{"$f":"Dšplh!H167","v":0},{"$f":"Dšvih!H167","v":0},{"$f":"'Dz mís'!H167","v":0},{"$f":"Drepre!E70","v":0},{"$f":"SUM(F205:T205)","v":3186.6399556409315}]
[null,"POHOŘELÁ","Amálie","8.A",null,{"$f":"'D60'!H168","v":819.84972591271548},{"$f":"'D300'!H168","v":665.40124867261659},{"$f":"'D800'!H168","v":0},{"$f":"Ddál!H168","v":0},{"$f":"Dvýš!H168","v":0},{"$f":"Dmíč!H168","v":0},{"$f":"Dkou!H168","v":546.66666666666663},{"$f":"Dčlu!H168","v":671.16245086571166},{"$f":"Dls!H168","v":541.93000000000006},{"$f":"Dodbíj!H168","v":36},{"$f":"Dplav!H168","v":0},{"$f":"Dšplh!H168","v":0},{"$f":"Dšvih!H168","v":693.25},{"$f":"'Dz mís'!H168","v":670.63172804532587},{"$f":"Drepre!E71","v":0},{"$f":"SUM(F206:T206)","v":4644.8918201630368}]
[null,"POLÁČKOVÁ","Natálie","8.A",null,{"$f":"'D60'!H169","v":0},{"$f":"'D300'!H169","v":362.14731629844562},{"$f":"'D800'!H169","v":0},{"$f":"Ddál!H169","v":0},{"$f":"Dvýš!H169","v":0},{"$f":"Dmíč!H169","v":439.8},{"$f":"Dkou!H169","v":342.22222222222223},{"$f":"Dčlu!H169","v":566.46792136528632},{"$f":"Dls!H169","v":0},{"$f":"Dodbíj!H169","v":18},{"$f":"Dplav!H169","v":0},{"$f":"Dšplh!H169","v":0},{"$f":"Dšvih!H169","v":0},{"$f":"'Dz mís'!H169","v":0},{"$f":"Drepre!E72","v":0},{"$f":"SUM(F207:T207)","v":1728.6374598859543}]
[null,"ŘEHOŘKOVÁ","Lucie","8.A",null,{"$f":"'D60'!H170","v":726.72596590912008},{"$f":"'D300'!H170","v":683.29908907741935},{"$f":"'D800'!H170","v":0},{"$f":"Ddál!H170","v":744.29200000000003},{"$f":"Dvýš!H170","v":0},{"$f":"Dmíč!H170","v":558.1},{"$f":"Dkou!H170","v":688.88888888888891},{"$f":"Dčlu!H170","v":727.48356080070721},{"$f":"Dls!H170","v":0},{"$f":"Dodbíj!H170","v":18},{"$f":"Dplav!H170","v":0},{"$f":"Dšplh!H170","v":0},{"$f":"Dšvih!H170","v":0},{"$f":"'Dz mís'!H170","v":0},{"$f":"Drepre!E73","v":0},{"$f":"SUM(F208:T208)","v":4146.789504676135}]
[null,"SKÁLOVÁ","Alena","8.A",null,{"$f":"'D60'!H171","v":654.55560740478279},{"$f":"'D300'!H171","v":547.50448918836287},{"$f":"'D800'!H171","v":0},{"$f":"Ddál!H171","v":672.99300000000005},{"$f":"Dvýš!H171","v":0},{"$f":"Dmíč!H171","v":367},{"$f":"Dkou!H171","v":688.88888888888891},{"$f":"Dčlu!H171","v":630.43200490025367},{"$f":"Dls!H171","v":0},{"$f":"Dodbíj!H171","v":12},{"$f":"Dplav!H171","v":0},{"$f":"Dšplh!H171","v":0},{"$f":"Dšvih!H171","v":0},{"$f":"'Dz mís'!H171","v":0},{"$f":"Drepre!E74","v":0},{"$f":"SUM(F209:T209)","v":3573.373990382288}]
[null,"VÁVROVÁ ","Aneta","8.A",null,{"$f":"'D60'!H172","v":780.07093460253748},{"$f":"'D300'!H172","v":787.18802121627004},{"$f":"'D800'!H172","v":0},{"$f":"Ddál!H172","v":786.02800000000002},{"$f":"Dvýš!H172","v":0},{"$f":"Dmíč!H172","v":439.8},{"$f":"Dkou!H172","v":511.11111111111109},{"$f":"Dčlu!H172","v":0},{"$f":"Dls!H172","v":389.14},{"$f":"Dodbíj!H172","v":63},{"$f":"Dplav!H172","v":0},{"$f":"Dšplh!H172","v":0},{"$f":"Dšvih!H172","v":468.25},{"$f":"'Dz mís'!H172","v":792.94711992445718},{"$f":"Drepre!E75","v":0},{"$f":"SUM(F210:T210)","v":5017.5351868543758}]
[null,"ZELINKOVÁ","Klára","8.A",null,{"$f":"'D60'!H173","v":780.93496227634739},{"$f":"'D300'!H173","v":660.06988022729956},{"$f":"'D800'!H173","v":0},{"$f":"Ddál!H173","v":728.64100000000008},{"$f":"Dvýš!H173","v":0},{"$f":"Dmíč!H173","v":494.40000000000003},{"$f":"Dkou!H173","v":621.33333333333337},{"$f":"Dčlu!H173","v":673.78621506169497},{"$f":"Dls!H173","v":0},{"$f":"Dodbíj!H173","v":30},{"$f":"Dplav!H173","v":0},{"$f":"Dšplh!H173","v":0},{"$f":"Dšvih!H173","v":0},{"$f":"'Dz mís'!H173","v":0},{"$f":"Drepre!E76","v":0},{"$f":"SUM(F211:T211)","v":3989.1653908986755}]
[null,"JUNGOVÁ ","Lucie","9.A",null,{"$f":"'D60'!H174","v":829.42216232425562},{"$f":"'D300'!H174","v":0},{"$f":"'D800'!H174","v":0},{"$f":"Ddál!H174","v":0},{"$f":"Dvýš!H174","v":0},{"$f":"Dmíč!H174","v":376.1},{"$f":"Dkou!H174","v":462.22222222222223},{"$f":"Dčlu!H174","v":673.78621506169497},{"$f":"Dls!H174","v":0},{"$f":"Dodbíj!H174","v":0},{"$f":"Dplav!H174","v":0},{"$f":"Dšplh!H174","v":0},{"$f":"Dšvih!H174","v":0},{"$f":"'Dz mís'!H174","v":0},{"$f":"Drepre!E77","v":0},{"$f":"SUM(F212:T212)","v":2341.5305996081725}]
[null,"KŘIVÁNKOVÁ ","Linda","9.A",null,{"$f":"'D60'!H175","v":703.23061181339574},{"$f":"'D300'!H175","v":422.42112043261818},{"$f":"'D800'!H175","v":0},{"$f":"Ddál!H175","v":0},{"$f":"Dvýš!H175","v":0},{"$f":"Dmíč!H175","v":285.10000000000002},{"$f":"Dkou!H175","v":564.44444444444446},{"$f":"Dčlu!H175","v":638.68747725434832},{"$f":"Dls!H175","v":0},{"$f":"Dodbíj!H175","v":0},{"$f":"Dplav!H175","v":0},{"$f":"Dšplh!H175","v":0},{"$f":"Dšvih!H175","v":462},{"$f":"'Dz mís'!H175","v":0},{"$f":"Drepre!E78","v":0},{"$f":"SUM(F213:T213)","v":3075.8836539448066}]
[null,"KUBÁTOVÁ","Lucie","9.A",null,{"$f":"'D60'!H176","v":726.72596590912008},{"$f":"'D300'!H176","v":0},{"$f":"'D800'!H176","v":0},{"$f":"Ddál!H176","v":0},{"$f":"Dvýš!H176","v":0},{"$f":"Dmíč!H176","v":0},{"$f":"Dkou!H176","v":0},{"$f":"Dčlu!H176","v":0},{"$f":"Dls!H176","v":0},{"$f":"Dodbíj!H176","v":0},{"$f":"Dplav!H176","v":0},{"$f":"Dšplh!H176","v":0},{"$f":"Dšvih!H176","v":0},{"$f":"'Dz mís'!H176","v":0},{"$f":"Drepre!E79","v":0},{"$f":"SUM(F214:T214)","v":726.72596590912008}]
[null,"ŠIMŮNKOVÁ ","Nikola","9.A",null,{"$f":"'D60'!H177","v":703.94354965107573},{"$f":"'D300'!H177","v":437.67179909531262},{"$f":"'D800'!H177","v":0},{"$f":"Ddál!H177","v":0},{"$f":"Dvýš!H177","v":0},{"$f":"Dmíč!H177","v":330.6},{"$f":"Dkou!H177","v":471.99999999999994},{"$f":"Dčlu!H177","v":596.63035824785641},{"$f":"Dls!H177","v":0},{"$f":"Dodbíj!H177","v":0},{"$f":"Dplav!H177","v":0},{"$f":"Dšplh!H177","v":0},{"$f":"Dšvih!H177","v":0},{"$f":"'Dz mís'!H177","v":0},{"$f":"Drepre!E80","v":0},{"$f":"SUM(F215:T215)","v":2540.8457069942447}]
[null,"ŠMÍDOVÁ","Kristýna","9.A",null,{"$f":"'D60'!H178","v":593.48381283226661},{"$f":"'D300'!H178","v":520.64704983335162},{"$f":"'D800'!H178","v":0},{"$f":"Ddál!H178","v":0},{"$f":"Dvýš!H178","v":0},{"$f":"Dmíč!H178","v":367},{"$f":"Dkou!H178","v":584},{"$f":"Dčlu!H178","v":568.87503398280717},{"$f":"Dls!H178","v":541.93000000000006},{"$f":"Dodbíj!H178","v":0},{"$f":"Dplav!H178","v":0},{"$f":"Dšplh!H178","v":0},{"$f":"Dšvih!H178","v":224.5},{"$f":"'Dz mís'!H178","v":421.296506137866},{"$f":"Drepre!E81","v":0},{"$f":"SUM(F216:T216)","v":3821.732402786291}]
[null,"VOTOČKOVÁ ","Nikola","9.A",null,{"$f":"'D60'!H179","v":857.36937442734074},{"$f":"'D300'!H179","v":815.18735417895959},{"$f":"'D800'!H179","v":0},{"$f":"Ddál!H179","v":0},{"$f":"Dvýš!H179","v":0},{"$f":"Dmíč!H179","v":530.80000000000007},{"$f":"Dkou!H179","v":562.66666666666663},{"$f":"Dčlu!H179","v":701.09977151009628},{"$f":"Dls!H179","v":0},{"$f":"Dodbíj!H179","v":0},{"$f":"Dplav!H179","v":0},{"$f":"Dšplh!H179","v":0},{"$f":"Dšvih!H179","v":0},{"$f":"'Dz mís'!H179","v":0},{"$f":"Drepre!E82","v":0},{"$f":"SUM(F217:T217)","v":3467.123166783063}]
[null,"VYHLASOVÁ","Lenka","9.A",null,{"$f":"'D60'!H180","v":593.48381283226661},{"$f":"'D300'!H180","v":0},{"$f":"'D800'!H180","v":0},{"$f":"Ddál!H180","v":0},{"$f":"Dvýš!H180","v":0},{"$f":"Dmíč!H180","v":0},{"$f":"Dkou!H180","v":612.44444444444434},{"$f":"Dčlu!H180","v":519.45445118699763},{"$f":"Dls!H180","v":0},{"$f":"Dodbíj!H180","v":0},{"$f":"Dplav!H180","v":0},{"$f":"Dšplh!H180","v":0},{"$f":"Dšvih!H180","v":0},{"$f":"'Dz mís'!H180","v":0},{"$f":"Drepre!E83","v":0},{"$f":"SUM(F218:T218)","v":1725.3827084637087}]
[null,"BÖHMOVÁ","Diana","9.B",null,{"$f":"'D60'!H181","v":743.73755041371385},{"$f":"'D300'!H181","v":632.0655858980989},{"$f":"'D800'!H181","v":0},{"$f":"Ddál!H181","v":0},{"$f":"Dvýš!H181","v":0},{"$f":"Dmíč!H181","v":357.90000000000003},{"$f":"Dkou!H181","v":525.33333333333337},{"$f":"Dčlu!H181","v":657.06115804243473},{"$f":"Dls!H181","v":0},{"$f":"Dodbíj!H181","v":24},{"$f":"Dplav!H181","v":509.95443449696967},{"$f":"Dšplh!H181","v":0},0,{"$f":"'Dz mís'!H181","v":0},{"$f":"Drepre!E84","v":0},{"$f":"SUM(F219:T219)","v":3450.0520621845503}]
[null,"HOUDOVÁ","Tereza","9.B",null,{"$f":"'D60'!H182","v":750.10768920006615},{"$f":"'D300'!H182","v":0},{"$f":"'D800'!H182","v":0},{"$f":"Ddál!H182","v":0},{"$f":"Dvýš!H182","v":0},{"$f":"Dmíč!H182","v":0},{"$f":"Dkou!H182","v":0},{"$f":"Dčlu!H182","v":0},{"$f":"Dls!H182","v":0},{"$f":"Dodbíj!H182","v":0},{"$f":"Dplav!H182","v":509.95443449696967},{"$f":"Dšplh!H182","v":0},{"$f":"Dšvih!H182","v":0},{"$f":"'Dz mís'!H182","v":0},{"$f":"Drepre!E85","v":0},{"$f":"SUM(F220:T220)","v":1260.0621236970358}]
[null,"JANÍKOVÁ","Kristýna","9.B",null,{"$f":"'D60'!H183","v":829.42216232425562},{"$f":"'D300'!H183","v":0},{"$f":"'D800'!H183","v":0},{"$f":"Ddál!H183","v":0},{"$f":"Dvýš!H183","v":0},{"$f":"Dmíč!H183","v":0},{"$f":"Dkou!H183","v":635.55555555555554},{"$f":"Dčlu!H183","v":0},{"$f":"Dls!H183","v":0},{"$f":"Dodbíj!H183","v":0},{"$f":"Dplav!H183","v":509.95443449696967},{"$f":"Dšplh!H183","v":0},{"$f":"Dšvih!H183","v":0},{"$f":"'Dz mís'!H183","v":0},{"$f":"Drepre!E86","v":0},{"$f":"SUM(F221:T221)","v":1974.932152376781}]
[null,"KUŽELOVÁ","Ela","9.B",null,{"$f":"'D60'!H184","v":797.69637307457981},{"$f":"'D300'!H184","v":424.63251742897478},{"$f":"'D800'!H184","v":0},{"$f":"Ddál!H184","v":0},{"$f":"Dvýš!H184","v":0},{"$f":"Dmíč!H184","v":0},{"$f":"Dkou!H184","v":568},{"$f":"Dčlu!H184","v":696.17384747561709},{"$f":"Dls!H184","v":0},{"$f":"Dodbíj!H184","v":27},{"$f":"Dplav!H184","v":0},{"$f":"Dšplh!H184","v":0},0,{"$f":"'Dz mís'!H184","v":0},{"$f":"Drepre!E87","v":0},{"$f":"SUM(F222:T222)","v":2513.5027379791718}]
[null,"MATERNOVÁ","Lucie","9.B",null,{"$f":"'D60'!H185","v":767.32061740999654},{"$f":"'D300'!H185","v":612.40308390417829},{"$f":"'D800'!H185","v":0},{"$f":"Ddál!H185","v":0},{"$f":"Dvýš!H185","v":0},{"$f":"Dmíč!H185","v":257.8},{"$f":"Dkou!H185","v":372.4444444444444},{"$f":"Dčlu!H185","v":640.48229907404232},{"$f":"Dls!H185","v":0},{"$f":"Dodbíj!H185","v":12},{"$f":"Dplav!H185","v":0},{"$f":"Dšplh!H185","v":0},0,{"$f":"'Dz mís'!H185","v":0},{"$f":"Drepre!E88","v":0},{"$f":"SUM(F223:T223)","v":2662.4504448326616}]
[null,"OPOČENSKÁ","Matylda","9.B",null,{"$f":"'D60'!H186","v":0},{"$f":"'D300'!H186","v":0},{"$f":"'D800'!H186","v":0},{"$f":"Ddál!H186","v":0},{"$f":"Dvýš!H186","v":0},{"$f":"Dmíč!H186","v":0},{"$f":"Dkou!H186","v":0},{"$f":"Dčlu!H186","v":0},{"$f":"Dls!H186","v":0},{"$f":"Dodbíj!H186","v":0},{"$f":"Dplav!H186","v":0},{"$f":"Dšplh!H186","v":0},{"$f":"Dšvih!H186","v":0},{"$f":"'Dz mís'!H186","v":0},{"$f":"Drepre!E89","v":0},{"$f":"SUM(F224:T224)","v":0}]
[null,"PIŠTOROVÁ","Karolína","9.B",null,{"$f":"'D60'!H187","v":787.91178386673573},{"$f":"'D300'!H187","v":0},{"$f":"'D800'!H187","v":0},{"$f":"Ddál!H187","v":0},{"$f":"Dvýš!H187","v":0},{"$f":"Dmíč!H187","v":367},{"$f":"Dkou!H187","v":0},{"$f":"Dčlu!H187","v":687.87633336416366},{"$f":"Dls!H187","v":0},{"$f":"Dodbíj!H187","v":27},{"$f":"Dplav!H187","v":0},{"$f":"Dšplh!H187","v":0},0,{"$f":"'Dz mís'!H187","v":0},{"$f":"Drepre!E90","v":0},{"$f":"SUM(F225:T225)","v":1869.7881172308994}]
[null,"POKORNÝ","Anna","9.B",null,{"$f":"'D60'!H188","v":0},{"$f":"'D300'!H188","v":0},{"$f":"'D800'!H188","v":0},{"$f":"Ddál!H188","v":0},{"$f":"Dvýš!H188","v":0},{"$f":"Dmíč!H188","v":303.3},{"$f":"Dkou!H188","v":576.00000000000011},{"$f":"Dčlu!H188","v":0},{"$f":"Dls!H188","v":625.27},{"$f":"Dodbíj!H188","v":15},{"$f":"Dplav!H188","v":0},{"$f":"Dšplh!H188","v":0},0,{"$f":"'Dz mís'!H188","v":0},{"$f":"Drepre!E91","v":0},{"$f":"SUM(F226:T226)","v":1519.5700000000002}]
[null,"SUCHÁNKOVÁ","Michaela","9.B",null,{"$f":"'D60'!H189","v":586.76885737424118},{"$f":"'D300'!H189","v":398.0822180012384},{"$f":"'D800'!H189","v":0},{"$f":"Ddál!H189","v":0},{"$f":"Dvýš!H189","v":0},{"$f":"Dmíč!H189","v":276},{"$f":"Dkou!H189","v":546.66666666666663},{"$f":"Dčlu!H189","v":517.81837088189536},{"$f":"Dls!H189","v":0},{"$f":"Dodbíj!H189","v":27},{"$f":"Dplav!H189","v":0},{"$f":"Dšplh!H189","v":0},0,{"$f":"'Dz mís'!H189","v":0},{"$f":"Drepre!E92","v":0},{"$f":"SUM(F227:T227)","v":2352.3361129240411}]
[null,"ŠUBÍKOVÁ ","Štěpánka","9.B",null,{"$f":"'D60'!H190","v":774.92387404260398},{"$f":"'D300'!H190","v":637.60369529402021},{"$f":"'D800'!H190","v":0},{"$f":"Ddál!H190","v":0},{"$f":"Dvýš!H190","v":0},{"$f":"Dmíč!H190","v":321.5},{"$f":"Dkou!H190","v":466.66666666666663},{"$f":"Dčlu!H190","v":692.69424478371741},{"$f":"Dls!H190","v":0},{"$f":"Dodbíj!H190","v":27},{"$f":"Dplav!H190","v":0},{"$f":"Dšplh!H190","v":0},0,{"$f":"'Dz mís'!H190","v":0},{"$f":"Drepre!E93","v":0},{"$f":"SUM(F228:T228)","v":2920.3884807870081}]
[null,"VANCLOVÁ","Pavlína","9.B",null,{"$f":"'D60'!H191","v":0},{"$f":"'D300'!H191","v":643.62816013952124},{"$f":"'D800'!H191","v":0},{"$f":"Ddál!H191","v":0},{"$f":"Dvýš!H191","v":0},{"$f":"Dmíč!H191","v":421.6},{"$f":"Dkou!H191","v":724.44444444444446},{"$f":"Dčlu!H191","v":654.55560740478279},{"$f":"Dls!H191","v":0},{"$f":"Dodbíj!H191","v":24},{"$f":"Dplav!H191","v":509.95443449696967},{"$f":"Dšplh!H191","v":0},0,{"$f":"'Dz mís'!H191","v":0},{"$f":"Drepre!E94","v":0},{"$f":"SUM(F229:T229)","v":2978.1826464857177}]

{"sheet":"Dvýk","index":6,"n_rows":0,"n_cols":0,"rows_kept":0,"cut":false,"hidden":false,"merged":[]}

{"sheet":"D60","index":7,"n_rows":191,"n_cols":12,"rows_kept":191,"cut":false,"hidden":false,"merged":[]}
[null,null,"VÝKONY  2020 - 2021",null,null,null,"60  M",null,"DĚVČATA  6. -  9.  ROČ."]
[null,null,null,null,null,null,null,null,null,null,"stav  k ",{"$f":"TODAY()","v":"2021-06-28"}]
[null,null,null,null,null,null,null,"   BODY",null,"   19 - 20   ","   18 - 19   ","   17 - 18   "]
[]
["1.",{"$f":"B101","v":"ERBENOVÁ"},{"$f":"C101","v":"Sára"},"6.A",11.58,null,"Jilemnice  16.09.20",645.31395527950497,null,0,0,0]
["2. ",{"$f":"B102","v":"HOFMANOVÁ "},"Nicol","6.A",11.92,null,"Jilemnice  16.09.20",625.22731742197993,null,0,0,0]
["3. ","HOLEŠOVSKÁ","Aneta","6.A",10.99,null,"Jilemnice  16.09.20",683.11979661237478,null,0,0,0]
["4.","HOLUBCOVÁ","Alena","6.A",0,null,0,0,null,0,0,0]
["5.","KOHOUTOVÁ","Anna","6.A",13.25,null,"Jilemnice  16.09.20",556.5564307851572,null,0,0,0]
["6.","KRAUSOVÁ","Anežka","6.A",11.74,null,"Jilemnice  16.09.20",635.71649167546843,null,0,0,0]
["7.","KUŽELOVÁ","Apoléna","6.A",10.86,null,"Jilemnice  16.09.20",692.00216911019038,null,0,0,0]
["8.","MORÁVKOVÁ","Lucie","6.A",11.58,null,"Jilemnice  16.09.20",645.31395527950497,null,0,0,0]
["9.","SKLENÁROVÁ","Eliška","6.A",0,null,0,0,null,0,0,0]
["10.","ŠTOLFOVÁ","Tereza","6.A",10.82,null,"Jilemnice  16.09.20",694.7781473200863,null,0,0,0]
["11.","ŠUBÍKOVÁ","Klára","6.A",0,null,0,0,null,0,0,0]
["12.","TULÁČKOVÁ","Natálie","6.A",11.52,null,"Jilemnice  16.09.20",648.98173596672461,null,0,0,0]
["13.","VOJTÍŠKOVÁ","Ella","6.A",10.61,null,"Jilemnice  16.09.20",709.6954326770342,null,0,0,0]
["14.","DRUGÁČOVÁ","Kristinka","6.B",0,null,0,0,null,0,0,0]
["15.","FAJSTAVROVÁ","Karolína","6.B",10.61,null,"Jilemnice  16.09.20",709.6954326770342,null,0,0,0]
["16.","FAJSTAVROVÁ","Magdaléna","6.B",10.25,null,"Jilemnice  16.09.20",736.69000174666667,null,0,0,0]
["17.","HLAVATÁ","Anna","6.B",0,null,0,0,null,0,0,0]
["18.",{"$f":"B118","v":"JINDROVÁ"},"Barbora","6.B",12.1,null,"Jilemnice  16.09.20",615.05021777438014,null,0,0,0]
["19.","MAŘASOVÁ","Vendula","6.B",0,null,0,0,null,0,0,0]
["20.","PETŘÍČKOVÁ","Natálie","6.B",10.78,null,"Jilemnice  16.09.20",697.57472648144721,null,0,0,0]
["21.","PETŘÍKOVÁ","Adéla","6.B",12.38,null,"Jilemnice  16.09.20",599.80740329590731,null,0,0,0]
["22.","REGÁLOVÁ","Karolína","6.B",11.39,null,"Jilemnice  16.09.20",657.06115804243473,null,0,0,0]
["23.","RIEGROVÁ","Magdaléna","6.B",0,null,0,0,null,0,0,0]
["24.","RYBENSKÁ","Sabina","6.B",11.01,null,"Jilemnice  16.09.20",681.77189518952468,null,0,0,0]
["25.","STEINEROVÁ","Barbora","6.B",11.26,null,"Jilemnice  16.09.20",665.3271387095914,null,0,0,0]
["26.","TOMEŠOVÁ","Barbora","6.B",11.59,null,"Jilemnice  16.09.20",644.70635054098352,null,0,0,0]
["27.","VOHNOUTOVÁ","Aneta","6.B",10.210000000000001,null,"Jilemnice  16.09.20",739.80690650048962,null,0,0,0]
["28.","HAVLÍKOVÁ","Michaela","7.A",11.75,null,"Jilemnice  18.09.20",635.12532875773047,null,12.24,0,0]
["29.","HOLUBCOVÁ","Sára","7.A",9.58,null,"Jilemnice  18.09.20",792.33146925574101,null,9.9600000000000009,0,0]
["30.","HONCŮ","Tereza","7.A",11.17,null,"Jilemnice  18.09.20",671.16245086571166,null,0,0,0]
["31.","HORÁČKOVÁ","Kateřina","7.A",9.59,null,"Jilemnice  18.09.20",791.44384526624958,null,9.91,0,0]
["32.","JOUDALOVÁ","Daniela","7.A",0,null,0,0,null,13.96,0,0]
["33.","KLÍMOVÁ","Anna","7.A",10.81,null,"Jilemnice  18.09.20",695.47535183811272,null,11.09,0,0]
["34.",{"$f":"B134","v":"KOHOUTOVÁ"},"Veronika","7.A",0,null,0,0,null,9.9600000000000009,0,0]
["35.","KOVÁŘOVÁ","Viktorie","7.A",10.62,null,"Jilemnice  18.09.20",708.97170822379167,null,11.22,0,0]
["36.","KYNČLOVÁ","Anna","7.A",9.5,null,"Jilemnice  18.09.20",799.49973372666659,null,10.51,0,0]
["37.","MATOUŠOVÁ","Tereza","7.A",10.81,null,"Jilemnice  18.09.20",695.47535183811272,null,11.37,0,0]
["38.","MAZÁNKOVÁ","Zuzana","7.A",10.26,null,"Jilemnice  18.09.20",735.91457295679004,null,11.5,0,0]
["39.","MORKESOVÁ","Sabrina","7.A",0,null,0,0,null,9.39,0,0]
["40.","POHOŘALÁ","Alžběta","7.A",9.5,null,"Jilemnice  18.09.20",799.49973372666659,null,10.59,0,0]
["41.","SCHOLZOVÁ","Laura","7.A",11.29,null,"Jilemnice  18.09.20",663.40270892559784,null,0,0,0]
["42.","VÁCLAVÍKOVÁ","Valerie","7.A",9.42,null,"Jilemnice  18.09.20",806.78975215888181,null,10.34,0,0]
["43.","ZAPADLOVÁ","Emma","7.A",9.52,null,"Jilemnice  18.09.20",797.69637307457981,null,0,0,0]
["44.","ŽIŠKOVÁ","Mia","7.A",9.58,null,"Jilemnice  18.09.20",792.33146925574101,null,10.58,0,0]
["45.","FARSKÁ","Tereza","7.B",11.55,null,0,647.14308227157278,null,11.73,0,0]
["46.","FEIXOVÁ","Rozálie","7.B",11.58,null,0,645.31395527950497,null,12.86,0,0]
["47.","FIŠEROVÁ","Michaela","7.B",10.9,null,0,689.24656505229348,null,11.71,0,0]
["48.","HAVLÍČKOVÁ","Kristýna","7.B",12.36,null,0,600.87327277804752,null,12.86,0,0]
["49.","JODASOVÁ","Nikola","7.B",9.75,null,0,777.48948576786313,null,10.37,0,0]
["50.",{"$f":"B150","v":"KADAVÁ"},"Nikola","7.B",0,null,0,0,null,12.41,0,0]
["51.","KRAFKOVÁ","Lucie","7.B",11.1,null,0,675.76644790420426,null,0,0,0]
["52.","KŘIVINKOVÁ","Alžběta","7.B",11.01,null,0,681.77189518952468,null,0,0,0]
["53.","LEŠÁKOVÁ","Lenka","7.B",12.4,null,0,598.7449721024193,null,12.92,0,0]
["54.","NYKLÍČKOVÁ","Adéla","7.B",10.11,null,0,747.7070730995714,null,10,0,0]
["55.","PLŮCHOVÁ","Petra","7.B",11.01,null,0,681.77189518952468,null,11.32,0,0]
["56.","PODZIMKOVÁ","Eliška","7.B",12.35,null,0,601.40750209743589,null,12.09,0,0]
["57.","RUTKAYOVÁ","Klára","7.B",0,null,0,0,null,0,0,0]
["58.","SEIDLOVÁ","Zuzana","7.B",12.14,null,0,612.82962418478849,null,0,0,0]
["59.","TOMÁŠOVÁ","Sára","7.B",12.51,null,0,592.96232302451369,null,12.51,0,0]
["60.","VANCLOVÁ","Barbora","7.B",9.9700000000000006,null,0,759.0335506690069,null,0,0,0]
["61.","VOTOČKOVÁ","Veronika","7.B",12.55,null,0,590.88467438804776,null,13.86,0,0]
["62.","HARTIGOVÁ","Anna","8.A",10.7,null,"Jilemnice  16.09.20",703.23061181339574,null,10.5,13.01,0]
["63.","HONCŮ","Rozálie","8.A",9.18,null,"Jilemnice  16.09.20",829.42216232425562,null,9.34,9.91,0]
["64.","CHALOUPSKÁ","Lucie","8.A",0,null,0,0,null,9.1199999999999992,9.9499999999999993,0]
["65.","KŘÍŽKOVÁ","Anna","8.A",10.8,null,"Jilemnice  16.09.20",696.17384747561709,null,11.23,11.61,0]
["66.",{"$f":"B166","v":"LUKEŠOVÁ"},"Kristýna","8.A",0,null,0,0,null,10.65,11.73,0]
["67.","MOTLÍKOVÁ","Eliška","8.A",10.45,null,"Jilemnice  16.09.20",721.46340005454545,null,10.77,11.39,0]
["68.","POHOŘELÁ","Amálie","8.A",9.2799999999999994,null,"Jilemnice  16.09.20",819.84972591271548,null,10.23,10.33,0]
["69.","POLÁČKOVÁ","Natálie","8.A",0,null,0,0,null,12.7,13.16,0]
["70.","ŘEHOŘKOVÁ","Lucie","8.A",10.38,null,"Jilemnice  16.09.20",726.72596590912008,null,10.4,11.62,0]
["71.","SKÁLOVÁ","Alena","8.A",11.43,null,"Jilemnice  16.09.20",654.55560740478279,null,12.9,12.88,0]
["72.","VÁVROVÁ ","Aneta","8.A",9.7200000000000006,null,"Jilemnice  16.09.20",780.07093460253748,null,9.6999999999999993,10.59,0]
["73.","ZELINKOVÁ","Klára","8.A",9.7100000000000009,null,"Jilemnice  16.09.20",780.93496227634739,null,10.4,10.92,0]
["74.","JUNGOVÁ ","Lucie","9.A",9.18,null,"Jilemnice  16.09.20",829.42216232425562,null,9.61,9.1999999999999993,9.6999999999999993]
["75.","KŘIVÁNKOVÁ ","Linda","9.A",10.7,null,"Jilemnice  16.09.20",703.23061181339574,null,10.89,0,11.5]
["76.","KUBÁTOVÁ","Lucie","9.A",10.38,null,"Jilemnice  16.09.20",726.72596590912008,null,0,10.56,10.86]
["77.","ŠIMŮNKOVÁ ","Nikola","9.A",10.69,null,"Jilemnice  16.09.20",703.94354965107573,null,11.24,11.86,11.24]
["78.","ŠMÍDOVÁ","Kristýna","9.A",12.5,null,"Jilemnice  16.09.20",593.48381283226661,null,11.52,0,13.52]
["79.","VOTOČKOVÁ ","Nikola","9.A",8.9,null,"Jilemnice  16.09.20",857.36937442734074,null,9.48,9.6,9.84]
["80.","VYHLASOVÁ","Lenka","9.A",12.5,null,"Jilemnice  16.09.20",593.48381283226661,null,13.17,0,13.6]
["81.","BÖHMOVÁ","Diana","9.B",10.16,null,"Jilemnice  16.09.20",743.73755041371385,null,0,10.61,10.76]
["82.",{"$f":"B182","v":"HOUDOVÁ"},"Tereza","9.B",10.08,null,"Jilemnice  16.09.20",750.10768920006615,null,10.68,10.96,10.86]
["83.","JANÍKOVÁ","Kristýna","9.B",9.18,null,"Jilemnice  16.09.20",829.42216232425562,null,9.56,0,0]
["84.","KUŽELOVÁ","Ela","9.B",9.52,null,"Jilemnice  16.09.20",797.69637307457981,null,9.65,9.7799999999999994,10.19]
["85.","MATERNOVÁ","Lucie","9.B",9.8699999999999992,null,"Jilemnice  16.09.20",767.32061740999654,null,0,10.67,11.69]
["86.","OPOČENSKÁ","Matylda","9.B",0,null,0,0,null,0,11.65,11.29]
["87.","PIŠTOROVÁ","Karolína","9.B",9.6300000000000008,null,"Jilemnice  16.09.20",787.91178386673573,null,9.65,9.9,9.9499999999999993]
["88.","POKORNÝ","Anna","9.B",0,null,0,0,null,0,10.47,11.31]
["89.","SUCHÁNKOVÁ","Michaela","9.B",12.63,null,"Jilemnice  16.09.20",586.76885737424118,null,13.9,13.28,13.23]
["90.",{"$f":"B190","v":"ŠUBÍKOVÁ "},"Štěpánka","9.B",9.7799999999999994,null,"Jilemnice  16.09.20",774.92387404260398,null,10.36,10.74,11.24]
["91.",{"$f":"B191","v":"VANCLOVÁ"},{"$f":"C191","v":"Pavlína"},{"$f":"D191","v":"9.B"},{"$f":"E191","v":0},null,{"$f":"G191","v":0},{"$f":"H191","v":0},null,{"$f":"J191","v":10.16},{"$f":"K191","v":10.84},{"$f":"L191","v":10.47}]
[]
[]
[]
[]
[]
["ZG","ERBENOVÁ","Sára","6.A",11.58,null,"Jilemnice  16.09.20",{"$f":"IF(E101=0,0,IF(E101>0,((1000 - 321 / E101 + 340 / E101*2 - 16600 / E101*3 + 32190000000 / E101*4)/15000000-62)*0.95))","v":645.31395527950497}]
[null,"HOFMANOVÁ ","Nicol","6.A",11.92,null,"Jilemnice  16.09.20",{"$f":"IF(E102=0,0,IF(E102>0,((1000 - 321 / E102 + 340 / E102*2 - 16600 / E102*3 + 32190000000 / E102*4)/15000000-62)*0.95))","v":625.22731742197993}]
[null,"HOLEŠOVSKÁ","Aneta","6.A",10.99,null,"Jilemnice  16.09.20",{"$f":"IF(E103=0,0,IF(E103>0,((1000 - 321 / E103 + 340 / E103*2 - 16600 / E103*3 + 32190000000 / E103*4)/15000000-62)*0.95))","v":683.11979661237478}]
[null,"HOLUBCOVÁ","Alena","6.A",null,null,null,{"$f":"IF(E104=0,0,IF(E104>0,((1000 - 321 / E104 + 340 / E104*2 - 16600 / E104*3 + 32190000000 / E104*4)/15000000-62)*0.95))","v":0}]
[null,"KOHOUTOVÁ","Anna","6.A",13.25,null,"Jilemnice  16.09.20",{"$f":"IF(E105=0,0,IF(E105>0,((1000 - 321 / E105 + 340 / E105*2 - 16600 / E105*3 + 32190000000 / E105*4)/15000000-62)*0.95))","v":556.5564307851572}]
[null,"KRAUSOVÁ","Anežka","6.A",11.74,null,"Jilemnice  16.09.20",{"$f":"IF(E106=0,0,IF(E106>0,((1000 - 321 / E106 + 340 / E106*2 - 16600 / E106*3 + 32190000000 / E106*4)/15000000-62)*0.95))","v":635.71649167546843}]
[null,"KUŽELOVÁ","Apoléna","6.A",10.86,null,"Jilemnice  16.09.20",{"$f":"IF(E107=0,0,IF(E107>0,((1000 - 321 / E107 + 340 / E107*2 - 16600 / E107*3 + 32190000000 / E107*4)/15000000-62)*0.95))","v":692.00216911019038}]
[null,"MORÁVKOVÁ","Lucie","6.A",11.58,null,"Jilemnice  16.09.20",{"$f":"IF(E108=0,0,IF(E108>0,((1000 - 321 / E108 + 340 / E108*2 - 16600 / E108*3 + 32190000000 / E108*4)/15000000-62)*0.95))","v":645.31395527950497}]
[null,"SKLENÁROVÁ","Eliška","6.A",null,null,null,{"$f":"IF(E109=0,0,IF(E109>0,((1000 - 321 / E109 + 340 / E109*2 - 16600 / E109*3 + 32190000000 / E109*4)/15000000-62)*0.95))","v":0}]
[null,"ŠTOLFOVÁ","Tereza","6.A",10.82,null,"Jilemnice  16.09.20",{"$f":"IF(E110=0,0,IF(E110>0,((1000 - 321 / E110 + 340 / E110*2 - 16600 / E110*3 + 32190000000 / E110*4)/15000000-62)*0.95))","v":694.7781473200863}]
[null,"ŠUBÍKOVÁ","Klára","6.A",null,null,null,{"$f":"IF(E111=0,0,IF(E111>0,((1000 - 321 / E111 + 340 / E111*2 - 16600 / E111*3 + 32190000000 / E111*4)/15000000-62)*0.95))","v":0}]
[null,"TULÁČKOVÁ","Natálie","6.A",11.52,null,"Jilemnice  16.09.20",{"$f":"IF(E112=0,0,IF(E112>0,((1000 - 321 / E112 + 340 / E112*2 - 16600 / E112*3 + 32190000000 / E112*4)/15000000-62)*0.95))","v":648.98173596672461}]
[null,"VOJTÍŠKOVÁ","Ella","6.A",10.61,null,"Jilemnice  16.09.20",{"$f":"IF(E113=0,0,IF(E113>0,((1000 - 321 / E113 + 340 / E113*2 - 16600 / E113*3 + 32190000000 / E113*4)/15000000-62)*0.95))","v":709.6954326770342}]
[null,"DRUGÁČOVÁ","Kristinka","6.B",null,null,null,{"$f":"IF(E114=0,0,IF(E114>0,((1000 - 321 / E114 + 340 / E114*2 - 16600 / E114*3 + 32190000000 / E114*4)/15000000-62)*0.95))","v":0}]
[null,"FAJSTAVROVÁ","Karolína","6.B",10.61,null,"Jilemnice  16.09.20",{"$f":"IF(E115=0,0,IF(E115>0,((1000 - 321 / E115 + 340 / E115*2 - 16600 / E115*3 + 32190000000 / E115*4)/15000000-62)*0.95))","v":709.6954326770342}]
[null,"FAJSTAVROVÁ","Magdaléna","6.B",10.25,null,"Jilemnice  16.09.20",{"$f":"IF(E116=0,0,IF(E116>0,((1000 - 321 / E116 + 340 / E116*2 - 16600 / E116*3 + 32190000000 / E116*4)/15000000-62)*0.95))","v":736.69000174666667}]
[null,"HLAVATÁ","Anna","6.B",null,null,null,{"$f":"IF(E117=0,0,IF(E117>0,((1000 - 321 / E117 + 340 / E117*2 - 16600 / E117*3 + 32190000000 / E117*4)/15000000-62)*0.95))","v":0}]
[null,"JINDROVÁ","Barbora","6.B",12.1,null,"Jilemnice  16.09.20",{"$f":"IF(E118=0,0,IF(E118>0,((1000 - 321 / E118 + 340 / E118*2 - 16600 / E118*3 + 32190000000 / E118*4)/15000000-62)*0.95))","v":615.05021777438014}]
[null,"MAŘASOVÁ","Vendula","6.B",null,null,null,{"$f":"IF(E119=0,0,IF(E119>0,((1000 - 321 / E119 + 340 / E119*2 - 16600 / E119*3 + 32190000000 / E119*4)/15000000-62)*0.95))","v":0}]
[null,"PETŘÍČKOVÁ","Natálie","6.B",10.78,null,"Jilemnice  16.09.20",{"$f":"IF(E120=0,0,IF(E120>0,((1000 - 321 / E120 + 340 / E120*2 - 16600 / E120*3 + 32190000000 / E120*4)/15000000-62)*0.95))","v":697.57472648144721}]
[null,"PETŘÍKOVÁ","Adéla","6.B",12.38,null,"Jilemnice  16.09.20",{"$f":"IF(E121=0,0,IF(E121>0,((1000 - 321 / E121 + 340 / E121*2 - 16600 / E121*3 + 32190000000 / E121*4)/15000000-62)*0.95))","v":599.80740329590731}]
[null,"REGÁLOVÁ","Karolína","6.B",11.39,null,"Jilemnice  16.09.20",{"$f":"IF(E122=0,0,IF(E122>0,((1000 - 321 / E122 + 340 / E122*2 - 16600 / E122*3 + 32190000000 / E122*4)/15000000-62)*0.95))","v":657.06115804243473}]
[null,"RIEGROVÁ","Magdaléna","6.B",null,null,null,{"$f":"IF(E123=0,0,IF(E123>0,((1000 - 321 / E123 + 340 / E123*2 - 16600 / E123*3 + 32190000000 / E123*4)/15000000-62)*0.95))","v":0}]
[null,"RYBENSKÁ","Sabina","6.B",11.01,null,"Jilemnice  16.09.20",{"$f":"IF(E124=0,0,IF(E124>0,((1000 - 321 / E124 + 340 / E124*2 - 16600 / E124*3 + 32190000000 / E124*4)/15000000-62)*0.95))","v":681.77189518952468}]
[null,"STEINEROVÁ","Barbora","6.B",11.26,null,"Jilemnice  16.09.20",{"$f":"IF(E125=0,0,IF(E125>0,((1000 - 321 / E125 + 340 / E125*2 - 16600 / E125*3 + 32190000000 / E125*4)/15000000-62)*0.95))","v":665.3271387095914}]
[null,"TOMEŠOVÁ","Barbora","6.B",11.59,null,"Jilemnice  16.09.20",{"$f":"IF(E126=0,0,IF(E126>0,((1000 - 321 / E126 + 340 / E126*2 - 16600 / E126*3 + 32190000000 / E126*4)/15000000-62)*0.95))","v":644.70635054098352}]
[null,"VOHNOUTOVÁ","Aneta","6.B",10.210000000000001,null,"Jilemnice  16.09.20",{"$f":"IF(E127=0,0,IF(E127>0,((1000 - 321 / E127 + 340 / E127*2 - 16600 / E127*3 + 32190000000 / E127*4)/15000000-62)*0.95))","v":739.80690650048962}]
[null,"HAVLÍKOVÁ","Michaela","7.A",11.75,null,"Jilemnice  18.09.20",{"$f":"IF(E128=0,0,IF(E128>0,((1000 - 321 / E128 + 340 / E128*2 - 16600 / E128*3 + 32190000000 / E128*4)/15000000-62)*0.95))","v":635.12532875773047},null,12.24]
[null,"HOLUBCOVÁ","Sára","7.A",9.58,null,"Jilemnice  18.09.20",{"$f":"IF(E129=0,0,IF(E129>0,((1000 - 321 / E129 + 340 / E129*2 - 16600 / E129*3 + 32190000000 / E129*4)/15000000-62)*0.95))","v":792.33146925574101},null,9.9600000000000009]
[null,"HONCŮ","Tereza","7.A",11.17,null,"Jilemnice  18.09.20",{"$f":"IF(E130=0,0,IF(E130>0,((1000 - 321 / E130 + 340 / E130*2 - 16600 / E130*3 + 32190000000 / E130*4)/15000000-62)*0.95))","v":671.16245086571166}]
[null,"HORÁČKOVÁ","Kateřina","7.A",9.59,null,"Jilemnice  18.09.20",{"$f":"IF(E131=0,0,IF(E131>0,((1000 - 321 / E131 + 340 / E131*2 - 16600 / E131*3 + 32190000000 / E131*4)/15000000-62)*0.95))","v":791.44384526624958},null,9.91]
[null,"JOUDALOVÁ","Daniela","7.A",null,null,null,{"$f":"IF(E132=0,0,IF(E132>0,((1000 - 321 / E132 + 340 / E132*2 - 16600 / E132*3 + 32190000000 / E132*4)/15000000-62)*0.95))","v":0},null,13.96]
[null,"KLÍMOVÁ","Anna","7.A",10.81,null,"Jilemnice  18.09.20",{"$f":"IF(E133=0,0,IF(E133>0,((1000 - 321 / E133 + 340 / E133*2 - 16600 / E133*3 + 32190000000 / E133*4)/15000000-62)*0.95))","v":695.47535183811272},null,11.09]
[null,"KOHOUTOVÁ","Veronika","7.A",null,null,null,{"$f":"IF(E134=0,0,IF(E134>0,((1000 - 321 / E134 + 340 / E134*2 - 16600 / E134*3 + 32190000000 / E134*4)/15000000-62)*0.95))","v":0},null,9.9600000000000009]
[null,"KOVÁŘOVÁ","Viktorie","7.A",10.62,null,"Jilemnice  18.09.20",{"$f":"IF(E135=0,0,IF(E135>0,((1000 - 321 / E135 + 340 / E135*2 - 16600 / E135*3 + 32190000000 / E135*4)/15000000-62)*0.95))","v":708.97170822379167},null,11.22]
[null,"KYNČLOVÁ","Anna","7.A",9.5,null,"Jilemnice  18.09.20",{"$f":"IF(E136=0,0,IF(E136>0,((1000 - 321 / E136 + 340 / E136*2 - 16600 / E136*3 + 32190000000 / E136*4)/15000000-62)*0.95))","v":799.49973372666659},null,10.51]
[null,"MATOUŠOVÁ","Tereza","7.A",10.81,null,"Jilemnice  18.09.20",{"$f":"IF(E137=0,0,IF(E137>0,((1000 - 321 / E137 + 340 / E137*2 - 16600 / E137*3 + 32190000000 / E137*4)/15000000-62)*0.95))","v":695.47535183811272},null,11.37]
[null,"MAZÁNKOVÁ","Zuzana","7.A",10.26,null,"Jilemnice  18.09.20",{"$f":"IF(E138=0,0,IF(E138>0,((1000 - 321 / E138 + 340 / E138*2 - 16600 / E138*3 + 32190000000 / E138*4)/15000000-62)*0.95))","v":735.91457295679004},null,11.5]
[null,"MORKESOVÁ","Sabrina","7.A",null,null,null,{"$f":"IF(E139=0,0,IF(E139>0,((1000 - 321 / E139 + 340 / E139*2 - 16600 / E139*3 + 32190000000 / E139*4)/15000000-62)*0.95))","v":0},null,9.39]
[null,"POHOŘALÁ","Alžběta","7.A",9.5,null,"Jilemnice  18.09.20",{"$f":"IF(E140=0,0,IF(E140>0,((1000 - 321 / E140 + 340 / E140*2 - 16600 / E140*3 + 32190000000 / E140*4)/15000000-62)*0.95))","v":799.49973372666659},null,10.59]
[null,"SCHOLZOVÁ","Laura","7.A",11.29,null,"Jilemnice  18.09.20",{"$f":"IF(E141=0,0,IF(E141>0,((1000 - 321 / E141 + 340 / E141*2 - 16600 / E141*3 + 32190000000 / E141*4)/15000000-62)*0.95))","v":663.40270892559784}]
[null,"VÁCLAVÍKOVÁ","Valerie","7.A",9.42,null,"Jilemnice  18.09.20",{"$f":"IF(E142=0,0,IF(E142>0,((1000 - 321 / E142 + 340 / E142*2 - 16600 / E142*3 + 32190000000 / E142*4)/15000000-62)*0.95))","v":806.78975215888181},null,10.34]
[null,"ZAPADLOVÁ","Emma","7.A",9.52,null,"Jilemnice  18.09.20",{"$f":"IF(E143=0,0,IF(E143>0,((1000 - 321 / E143 + 340 / E143*2 - 16600 / E143*3 + 32190000000 / E143*4)/15000000-62)*0.95))","v":797.69637307457981}]
[null,"ŽIŠKOVÁ","Mia","7.A",9.58,null,"Jilemnice  18.09.20",{"$f":"IF(E144=0,0,IF(E144>0,((1000 - 321 / E144 + 340 / E144*2 - 16600 / E144*3 + 32190000000 / E144*4)/15000000-62)*0.95))","v":792.33146925574101},null,10.58]
[null,"FARSKÁ","Tereza","7.B",11.55,null,null,{"$f":"IF(E145=0,0,IF(E145>0,((1000 - 321 / E145 + 340 / E145*2 - 16600 / E145*3 + 32190000000 / E145*4)/15000000-62)*0.95))","v":647.14308227157278},null,11.73]
[null,"FEIXOVÁ","Rozálie","7.B",11.58,null,null,{"$f":"IF(E146=0,0,IF(E146>0,((1000 - 321 / E146 + 340 / E146*2 - 16600 / E146*3 + 32190000000 / E146*4)/15000000-62)*0.95))","v":645.31395527950497},null,12.86]
[null,"FIŠEROVÁ","Michaela","7.B",10.9,null,null,{"$f":"IF(E147=0,0,IF(E147>0,((1000 - 321 / E147 + 340 / E147*2 - 16600 / E147*3 + 32190000000 / E147*4)/15000000-62)*0.95))","v":689.24656505229348},null,11.71]
[null,"HAVLÍČKOVÁ","Kristýna","7.B",12.36,null,null,{"$f":"IF(E148=0,0,IF(E148>0,((1000 - 321 / E148 + 340 / E148*2 - 16600 / E148*3 + 32190000000 / E148*4)/15000000-62)*0.95))","v":600.87327277804752},null,12.86]
[null,"JODASOVÁ","Nikola","7.B",9.75,null,null,{"$f":"IF(E149=0,0,IF(E149>0,((1000 - 321 / E149 + 340 / E149*2 - 16600 / E149*3 + 32190000000 / E149*4)/15000000-62)*0.95))","v":777.48948576786313},null,10.37]
[null,"KADAVÁ","Nikola","7.B",null,null,null,{"$f":"IF(E150=0,0,IF(E150>0,((1000 - 321 / E150 + 340 / E150*2 - 16600 / E150*3 + 32190000000 / E150*4)/15000000-62)*0.95))","v":0},null,12.41]
[null,"KRAFKOVÁ","Lucie","7.B",11.1,null,null,{"$f":"IF(E151=0,0,IF(E151>0,((1000 - 321 / E151 + 340 / E151*2 - 16600 / E151*3 + 32190000000 / E151*4)/15000000-62)*0.95))","v":675.76644790420426}]
[null,"KŘIVINKOVÁ","Alžběta","7.B",11.01,null,null,{"$f":"IF(E152=0,0,IF(E152>0,((1000 - 321 / E152 + 340 / E152*2 - 16600 / E152*3 + 32190000000 / E152*4)/15000000-62)*0.95))","v":681.77189518952468}]
[null,"LEŠÁKOVÁ","Lenka","7.B",12.4,null,null,{"$f":"IF(E153=0,0,IF(E153>0,((1000 - 321 / E153 + 340 / E153*2 - 16600 / E153*3 + 32190000000 / E153*4)/15000000-62)*0.95))","v":598.7449721024193},null,12.92]
[null,"NYKLÍČKOVÁ","Adéla","7.B",10.11,null,null,{"$f":"IF(E154=0,0,IF(E154>0,((1000 - 321 / E154 + 340 / E154*2 - 16600 / E154*3 + 32190000000 / E154*4)/15000000-62)*0.95))","v":747.7070730995714},null,10]
[null,"PLŮCHOVÁ","Petra","7.B",11.01,null,null,{"$f":"IF(E155=0,0,IF(E155>0,((1000 - 321 / E155 + 340 / E155*2 - 16600 / E155*3 + 32190000000 / E155*4)/15000000-62)*0.95))","v":681.77189518952468},null,11.32]
[null,"PODZIMKOVÁ","Eliška","7.B",12.35,null,null,{"$f":"IF(E156=0,0,IF(E156>0,((1000 - 321 / E156 + 340 / E156*2 - 16600 / E156*3 + 32190000000 / E156*4)/15000000-62)*0.95))","v":601.40750209743589},null,12.09]
[null,"RUTKAYOVÁ","Klára","7.B",null,null,null,{"$f":"IF(E157=0,0,IF(E157>0,((1000 - 321 / E157 + 340 / E157*2 - 16600 / E157*3 + 32190000000 / E157*4)/15000000-62)*0.95))","v":0}]
[null,"SEIDLOVÁ","Zuzana","7.B",12.14,null,null,{"$f":"IF(E158=0,0,IF(E158>0,((1000 - 321 / E158 + 340 / E158*2 - 16600 / E158*3 + 32190000000 / E158*4)/15000000-62)*0.95))","v":612.82962418478849}]
[null,"TOMÁŠOVÁ","Sára","7.B",12.51,null,null,{"$f":"IF(E159=0,0,IF(E159>0,((1000 - 321 / E159 + 340 / E159*2 - 16600 / E159*3 + 32190000000 / E159*4)/15000000-62)*0.95))","v":592.96232302451369},null,12.51]
[null,"VANCLOVÁ","Barbora","7.B",9.9700000000000006,null,null,{"$f":"IF(E160=0,0,IF(E160>0,((1000 - 321 / E160 + 340 / E160*2 - 16600 / E160*3 + 32190000000 / E160*4)/15000000-62)*0.95))","v":759.0335506690069}]
[null,"VOTOČKOVÁ","Veronika","7.B",12.55,null,null,{"$f":"IF(E161=0,0,IF(E161>0,((1000 - 321 / E161 + 340 / E161*2 - 16600 / E161*3 + 32190000000 / E161*4)/15000000-62)*0.95))","v":590.88467438804776},null,13.86]
[null,"HARTIGOVÁ","Anna","8.A",10.7,null,"Jilemnice  16.09.20",{"$f":"IF(E162=0,0,IF(E162>0,((1000 - 321 / E162 + 340 / E162*2 - 16600 / E162*3 + 32190000000 / E162*4)/15000000-62)*0.95))","v":703.23061181339574},null,10.5,13.01]
[null,"HONCŮ","Rozálie","8.A",9.18,null,"Jilemnice  16.09.20",{"$f":"IF(E163=0,0,IF(E163>0,((1000 - 321 / E163 + 340 / E163*2 - 16600 / E163*3 + 32190000000 / E163*4)/15000000-62)*0.95))","v":829.42216232425562},null,9.34,9.91]
[null,"CHALOUPSKÁ","Lucie","8.A",null,null,null,{"$f":"IF(E164=0,0,IF(E164>0,((1000 - 321 / E164 + 340 / E164*2 - 16600 / E164*3 + 32190000000 / E164*4)/15000000-62)*0.95))","v":0},null,9.1199999999999992,9.9499999999999993]
[null,"KŘÍŽKOVÁ","Anna","8.A",10.8,null,"Jilemnice  16.09.20",{"$f":"IF(E165=0,0,IF(E165>0,((1000 - 321 / E165 + 340 / E165*2 - 16600 / E165*3 + 32190000000 / E165*4)/15000000-62)*0.95))","v":696.17384747561709},null,11.23,11.61]
[null,"LUKEŠOVÁ","Kristýna","8.A",null,null,null,{"$f":"IF(E166=0,0,IF(E166>0,((1000 - 321 / E166 + 340 / E166*2 - 16600 / E166*3 + 32190000000 / E166*4)/15000000-62)*0.95))","v":0},null,10.65,11.73]
[null,"MOTLÍKOVÁ","Eliška","8.A",10.45,null,"Jilemnice  16.09.20",{"$f":"IF(E167=0,0,IF(E167>0,((1000 - 321 / E167 + 340 / E167*2 - 16600 / E167*3 + 32190000000 / E167*4)/15000000-62)*0.95))","v":721.46340005454545},null,10.77,11.39]
[null,"POHOŘELÁ","Amálie","8.A",9.2799999999999994,null,"Jilemnice  16.09.20",{"$f":"IF(E168=0,0,IF(E168>0,((1000 - 321 / E168 + 340 / E168*2 - 16600 / E168*3 + 32190000000 / E168*4)/15000000-62)*0.95))","v":819.84972591271548},null,10.23,10.33]
[null,"POLÁČKOVÁ","Natálie","8.A",null,null,null,{"$f":"IF(E169=0,0,IF(E169>0,((1000 - 321 / E169 + 340 / E169*2 - 16600 / E169*3 + 32190000000 / E169*4)/15000000-62)*0.95))","v":0},null,12.7,13.16]
[null,"ŘEHOŘKOVÁ","Lucie","8.A",10.38,null,"Jilemnice  16.09.20",{"$f":"IF(E170=0,0,IF(E170>0,((1000 - 321 / E170 + 340 / E170*2 - 16600 / E170*3 + 32190000000 / E170*4)/15000000-62)*0.95))","v":726.72596590912008},null,10.4,11.62]
[null,"SKÁLOVÁ","Alena","8.A",11.43,null,"Jilemnice  16.09.20",{"$f":"IF(E171=0,0,IF(E171>0,((1000 - 321 / E171 + 340 / E171*2 - 16600 / E171*3 + 32190000000 / E171*4)/15000000-62)*0.95))","v":654.55560740478279},null,12.9,12.88]
[null,"VÁVROVÁ ","Aneta","8.A",9.7200000000000006,null,"Jilemnice  16.09.20",{"$f":"IF(E172=0,0,IF(E172>0,((1000 - 321 / E172 + 340 / E172*2 - 16600 / E172*3 + 32190000000 / E172*4)/15000000-62)*0.95))","v":780.07093460253748},null,9.6999999999999993,10.59]
[null,"ZELINKOVÁ","Klára","8.A",9.7100000000000009,null,"Jilemnice  16.09.20",{"$f":"IF(E173=0,0,IF(E173>0,((1000 - 321 / E173 + 340 / E173*2 - 16600 / E173*3 + 32190000000 / E173*4)/15000000-62)*0.95))","v":780.93496227634739},null,10.4,10.92]
[null,"JUNGOVÁ ","Lucie","9.A",9.18,null,"Jilemnice  16.09.20",{"$f":"IF(E174=0,0,IF(E174>0,((1000 - 321 / E174 + 340 / E174*2 - 16600 / E174*3 + 32190000000 / E174*4)/15000000-62)*0.95))","v":829.42216232425562},null,9.61,9.1999999999999993,9.6999999999999993]
[null,"KŘIVÁNKOVÁ ","Linda","9.A",10.7,null,"Jilemnice  16.09.20",{"$f":"IF(E175=0,0,IF(E175>0,((1000 - 321 / E175 + 340 / E175*2 - 16600 / E175*3 + 32190000000 / E175*4)/15000000-62)*0.95))","v":703.23061181339574},null,10.89,null,11.5]
[null,"KUBÁTOVÁ","Lucie","9.A",10.38,null,"Jilemnice  16.09.20",{"$f":"IF(E176=0,0,IF(E176>0,((1000 - 321 / E176 + 340 / E176*2 - 16600 / E176*3 + 32190000000 / E176*4)/15000000-62)*0.95))","v":726.72596590912008},null,null,10.56,10.86]
[null,"ŠIMŮNKOVÁ ","Nikola","9.A",10.69,null,"Jilemnice  16.09.20",{"$f":"IF(E177=0,0,IF(E177>0,((1000 - 321 / E177 + 340 / E177*2 - 16600 / E177*3 + 32190000000 / E177*4)/15000000-62)*0.95))","v":703.94354965107573},null,11.24,11.86,11.24]
[null,"ŠMÍDOVÁ","Kristýna","9.A",12.5,null,"Jilemnice  16.09.20",{"$f":"IF(E178=0,0,IF(E178>0,((1000 - 321 / E178 + 340 / E178*2 - 16600 / E178*3 + 32190000000 / E178*4)/15000000-62)*0.95))","v":593.48381283226661},null,11.52,null,13.52]
[null,"VOTOČKOVÁ ","Nikola","9.A",8.9,null,"Jilemnice  16.09.20",{"$f":"IF(E179=0,0,IF(E179>0,((1000 - 321 / E179 + 340 / E179*2 - 16600 / E179*3 + 32190000000 / E179*4)/15000000-62)*0.95))","v":857.36937442734074},null,9.48,9.6,9.84]
[null,"VYHLASOVÁ","Lenka","9.A",12.5,null,"Jilemnice  16.09.20",{"$f":"IF(E180=0,0,IF(E180>0,((1000 - 321 / E180 + 340 / E180*2 - 16600 / E180*3 + 32190000000 / E180*4)/15000000-62)*0.95))","v":593.48381283226661},null,13.17,null,13.6]
[null,"BÖHMOVÁ","Diana","9.B",10.16,null,"Jilemnice  16.09.20",{"$f":"IF(E181=0,0,IF(E181>0,((1000 - 321 / E181 + 340 / E181*2 - 16600 / E181*3 + 32190000000 / E181*4)/15000000-62)*0.95))","v":743.73755041371385},null,null,10.61,10.76]
[null,"HOUDOVÁ","Tereza","9.B",10.08,null,"Jilemnice  16.09.20",{"$f":"IF(E182=0,0,IF(E182>0,((1000 - 321 / E182 + 340 / E182*2 - 16600 / E182*3 + 32190000000 / E182*4)/15000000-62)*0.95))","v":750.10768920006615},null,10.68,10.96,10.86]
[null,"JANÍKOVÁ","Kristýna","9.B",9.18,null,"Jilemnice  16.09.20",{"$f":"IF(E183=0,0,IF(E183>0,((1000 - 321 / E183 + 340 / E183*2 - 16600 / E183*3 + 32190000000 / E183*4)/15000000-62)*0.95))","v":829.42216232425562},null,9.56]
[null,"KUŽELOVÁ","Ela","9.B",9.52,null,"Jilemnice  16.09.20",{"$f":"IF(E184=0,0,IF(E184>0,((1000 - 321 / E184 + 340 / E184*2 - 16600 / E184*3 + 32190000000 / E184*4)/15000000-62)*0.95))","v":797.69637307457981},null,9.65,9.7799999999999994,10.19]
[null,"MATERNOVÁ","Lucie","9.B",9.8699999999999992,null,"Jilemnice  16.09.20",{"$f":"IF(E185=0,0,IF(E185>0,((1000 - 321 / E185 + 340 / E185*2 - 16600 / E185*3 + 32190000000 / E185*4)/15000000-62)*0.95))","v":767.32061740999654},null,null,10.67,11.69]
[null,"OPOČENSKÁ","Matylda","9.B",null,null,null,{"$f":"IF(E186=0,0,IF(E186>0,((1000 - 321 / E186 + 340 / E186*2 - 16600 / E186*3 + 32190000000 / E186*4)/15000000-62)*0.95))","v":0},null,null,11.65,11.29]
[null,"PIŠTOROVÁ","Karolína","9.B",9.6300000000000008,null,"Jilemnice  16.09.20",{"$f":"IF(E187=0,0,IF(E187>0,((1000 - 321 / E187 + 340 / E187*2 - 16600 / E187*3 + 32190000000 / E187*4)/15000000-62)*0.95))","v":787.91178386673573},null,9.65,9.9,9.9499999999999993]
[null,"POKORNÝ","Anna","9.B",null,null,null,{"$f":"IF(E188=0,0,IF(E188>0,((1000 - 321 / E188 + 340 / E188*2 - 16600 / E188*3 + 32190000000 / E188*4)/15000000-62)*0.95))","v":0},null,null,10.47,11.31]
[null,"SUCHÁNKOVÁ","Michaela","9.B",12.63,null,"Jilemnice  16.09.20",{"$f":"IF(E189=0,0,IF(E189>0,((1000 - 321 / E189 + 340 / E189*2 - 16600 / E189*3 + 32190000000 / E189*4)/15000000-62)*0.95))","v":586.76885737424118},null,13.9,13.28,13.23]
[null,"ŠUBÍKOVÁ ","Štěpánka","9.B",9.7799999999999994,null,"Jilemnice  16.09.20",{"$f":"IF(E190=0,0,IF(E190>0,((1000 - 321 / E190 + 340 / E190*2 - 16600 / E190*3 + 32190000000 / E190*4)/15000000-62)*0.95))","v":774.92387404260398},null,10.36,10.74,11.24]
[null,"VANCLOVÁ","Pavlína","9.B",null,null,null,{"$f":"IF(E191=0,0,IF(E191>0,((1000 - 321 / E191 + 340 / E191*2 - 16600 / E191*3 + 32190000000 / E191*4)/15000000-62)*0.95))","v":0},null,10.16,10.84,10.47]

{"sheet":"D300","index":8,"n_rows":191,"n_cols":12,"rows_kept":191,"cut":false,"hidden":false,"merged":[]}
[null,null,"VÝKONY  2020 - 2021",null,null,null,"300 M",null,"DĚVČATA  6. -  9.  ROČ."]
[null,null,null,null,null,null,null,null,null,null,"stav  k ",{"$f":"TODAY()","v":44375}]
[null,null,null,null,null,null,null,"   BODY",null,"   19 - 20   ","   18 - 19   ","   17 - 18   "]
[]
["1.",{"$f":"B101","v":"ERBENOVÁ"},{"$f":"C101","v":"Sára"},"6.A","00:00:00",null,0,0,null,"00:00:00","00:00:00","00:00:00"]
["2.",{"$f":"B102","v":"HOFMANOVÁ "},"Nicol","6.A","00:01:15.700",null,0,491.29911072507264,null,"00:00:00","00:00:00","00:00:00"]
["3.","HOLEŠOVSKÁ","Aneta","6.A","00:00:00",null,0,0,null,"00:00:00","00:00:00","00:00:00"]
["4.","HOLUBCOVÁ","Alena","6.A","00:00:59.270",null,0,687.08808051101755,null,"00:00:00","00:00:00","00:00:00"]
["5.","KOHOUTOVÁ","Anna","6.A","00:01:24.100",null,0,420.75368230544586,null,"00:00:00","00:00:00","00:00:00"]
["6.","KRAUSOVÁ","Anežka","6.A","00:01:04.100",null,0,619.11520564567854,null,"00:00:00","00:00:00","00:00:00"]
["7.","KUŽELOVÁ","Apoléna","6.A","00:00:00",null,0,0,null,"00:00:00","00:00:00","00:00:00"]
["8.","MORÁVKOVÁ","Lucie","6.A","00:00:00",null,0,0,null,"00:00:00","00:00:00","00:00:00"]
["9.","SKLENÁROVÁ","Eliška","6.A","00:01:17.530",null,0,474.62790960773896,null,"00:00:00","00:00:00","00:00:00"]
["10.","ŠTOLFOVÁ","Tereza","6.A","00:01:04.880",null,0,609.08737025104813,null,"00:00:00","00:00:00","00:00:00"]
["11.","ŠUBÍKOVÁ","Klára","6.A","00:01:06.100",null,0,593.87737794081704,null,"00:00:00","00:00:00","00:00:00"]
["12.","TULÁČKOVÁ","Natálie","6.A","00:00:00",null,0,0,null,"00:00:00","00:00:00","00:00:00"]
["13.","VOJTÍŠKOVÁ","Ella","6.A","00:00:00",null,0,0,null,"00:00:00","00:00:00","00:00:00"]
["14.","DRUGÁČOVÁ","Kristinka","6.B","00:01:03.360",null,"Jilemnice  23.06.21",628.8570230727272,null,"00:00:00","00:00:00","00:00:00"]
["15.","FAJSTAVROVÁ","Karolína","6.B","00:00:00",null,0,0,null,"00:00:00","00:00:00","00:00:00"]
["16.","FAJSTAVROVÁ","Magdaléna","6.B","00:00:00",null,0,0,null,"00:00:00","00:00:00","00:00:00"]
["17.","HLAVATÁ","Anna","6.B","00:00:00",null,0,0,null,"00:00:00","00:00:00","00:00:00"]
["18.",{"$f":"B118","v":"JINDROVÁ"},"Barbora","6.B","00:00:00",null,0,0,null,"00:00:00","00:00:00","00:00:00"]
["19.","MAŘASOVÁ","Vendula","6.B","00:00:00",null,0,0,null,"00:00:00","00:00:00","00:00:00"]
["20.","PETŘÍČKOVÁ","Natálie","6.B","00:00:00",null,0,0,null,"00:00:00","00:00:00","00:00:00"]
["21.","PETŘÍKOVÁ","Adéla","6.B","00:01:10.660",null,0,541.67729241279358,null,"00:00:00","00:00:00","00:00:00"]
["22.","REGÁLOVÁ","Karolína","6.B","00:00:00",null,0,0,null,"00:00:00","00:00:00","00:00:00"]
["23.","RIEGROVÁ","Magdaléna","6.B","00:01:13.300",null,0,514.42470234499331,null,"00:00:00","00:00:00","00:00:00"]
["24.","RYBENSKÁ","Sabina","6.B","00:00:00",null,0,0,null,"00:00:00","00:00:00","00:00:00"]
["25.","STEINEROVÁ","Barbora","6.B","00:00:00",null,0,0,null,"00:00:00","00:00:00","00:00:00"]
["26.","TOMEŠOVÁ","Barbora","6.B","00:00:00",null,0,0,null,"00:00:00","00:00:00","00:00:00"]
["27.","VOHNOUTOVÁ","Aneta","6.B","00:00:00",null,0,0,null,"00:00:00","00:00:00","00:00:00"]
["28.","HAVLÍKOVÁ","Michaela","7.A","00:00:00",null,0,0,null,"00:01:18.970","00:00:00","00:00:00"]
["29.","HOLUBCOVÁ","Sára","7.A","00:00:00",null,0,0,null,"00:00:58.890","00:00:00","00:00:00"]
["30.","HONCŮ","Tereza","7.A","00:00:00",null,0,0,null,"00:01:07.580","00:00:00","00:00:00"]
["31.","HORÁČKOVÁ","Kateřina","7.A","00:00:00",null,0,0,null,"00:01:02.240","00:00:00","00:00:00"]
["32.","JOUDALOVÁ","Daniela","7.A","00:00:00",null,0,0,null,"00:01:29.440","00:00:00","00:00:00"]
["33.","KLÍMOVÁ","Anna","7.A","00:00:00",null,0,0,null,"00:01:03.720","00:00:00","00:00:00"]
["34.",{"$f":"B134","v":"KOHOUTOVÁ"},"Veronika","7.A","00:00:00",null,0,0,null,"00:00:59.130","00:00:00","00:00:00"]
["35.","KOVÁŘOVÁ","Viktorie","7.A","00:00:00",null,0,0,null,"00:01:04.860","00:00:00","00:00:00"]
["36.","KYNČLOVÁ","Anna","7.A","00:00:00",null,0,0,null,"00:00:59.780","00:00:00","00:00:00"]
["37.","MATOUŠOVÁ","Tereza","7.A","00:00:00",null,0,0,null,"00:01:10.610","00:00:00","00:00:00"]
["38.","MAZÁNKOVÁ","Zuzana","7.A","00:00:00",null,0,0,null,"00:01:04.850","00:00:00","00:00:00"]
["39.","MORKESOVÁ","Sabrina","7.A","00:00:00",null,0,0,null,"00:01:00.680","00:00:00","00:00:00"]
["40.","POHOŘALÁ","Alžběta","7.A","00:00:00",null,0,0,null,"00:01:05.990","00:00:00","00:00:00"]
["41.","SCHOLZOVÁ","Laura","7.A","00:00:00",null,0,0,null,"00:01:14.770","00:00:00","00:00:00"]
["42.","VÁCLAVÍKOVÁ","Valerie","7.A","00:00:00",null,0,0,null,"00:01:03.520","00:00:00","00:00:00"]
["43.","ZAPADLOVÁ","Emma","7.A","00:00:00",null,0,0,null,"00:01:04.690","00:00:00","00:00:00"]
["44.","ŽIŠKOVÁ","Mia","7.A","00:00:00",null,0,0,null,"00:01:06.460","00:00:00","00:00:00"]
["45.","FARSKÁ","Tereza","7.B","00:00:00",null,0,0,null,"00:01:14.230","00:00:00","00:00:00"]
["46.","FEIXOVÁ","Rozálie","7.B","00:00:00",null,0,0,null,"00:01:28.320","00:00:00","00:00:00"]
["47.","FIŠEROVÁ","Michaela","7.B","00:00:00",null,0,0,null,"00:01:19.320","00:00:00","00:00:00"]
["48.","HAVLÍČKOVÁ","Kristýna","7.B","00:00:00",null,0,0,null,"00:00:00","00:00:00","00:00:00"]
["49.","JODASOVÁ","Nikola","7.B","00:00:00",null,0,0,null,"00:01:11.830","00:00:00","00:00:00"]
["50.",{"$f":"B150","v":"KADAVÁ"},"Nikola","7.B","00:00:00",null,0,0,null,"00:01:29.980","00:00:00","00:00:00"]
["51.","KRAFKOVÁ","Lucie","7.B","00:00:00",null,0,0,null,"00:00:00","00:00:00","00:00:00"]
["52.","KŘIVINKOVÁ","Alžběta","7.B","00:00:00",null,0,0,null,"00:01:12.620","00:00:00","00:00:00"]
["53.","LEŠÁKOVÁ","Lenka","7.B","00:00:00",null,0,0,null,"00:01:32.350","00:00:00","00:00:00"]
["54.","NYKLÍČKOVÁ","Adéla","7.B","00:00:00",null,0,0,null,"00:01:09.160","00:00:00","00:00:00"]
["55.","PLŮCHOVÁ","Petra","7.B","00:00:00",null,0,0,null,"00:01:10.250","00:00:00","00:00:00"]
["56.","PODZIMKOVÁ","Eliška","7.B","00:00:00",null,0,0,null,"00:01:21.100","00:00:00","00:00:00"]
["57.","RUTKAYOVÁ","Klára","7.B","00:00:00",null,0,0,null,"00:01:19.660","00:00:00","00:00:00"]
["58.","SEIDLOVÁ","Zuzana","7.B","00:00:00",null,0,0,null,"00:01:25.020","00:00:00","00:00:00"]
["59.","TOMÁŠOVÁ","Sára","7.B","00:00:00",null,0,0,null,"00:00:00","00:00:00","00:00:00"]
["60.","VANCLOVÁ","Barbora","7.B","00:00:00",null,0,0,null,"00:01:16.110","00:00:00","00:00:00"]
["61.","VOTOČKOVÁ","Veronika","7.B","00:00:00",null,0,0,null,"00:01:36.510","00:00:00","00:00:00"]
["62.","HARTIGOVÁ","Anna","8.A","00:00:00",null,0,0,null,"00:01:03.510","00:01:29.540","00:00:00"]
["63.","HONCŮ","Rozálie","8.A","00:00:00",null,0,0,null,"00:01:03.850","00:01:06.010","00:00:00"]
["64.","CHALOUPSKÁ","Lucie","8.A","00:00:50.300",null,"Jilemnice  23.06.21",847.95657419260442,null,"00:00:57.680","00:00:56.920","00:00:00"]
["65.","KŘÍŽKOVÁ","Anna","8.A","00:01:01.790",null,"Jilemnice  23.06.21",650.29815717572421,null,"00:01:07.500","00:01:05.510","00:00:00"]
["66.",{"$f":"B166","v":"LUKEŠOVÁ"},"Kristýna","8.A","00:00:56.800",null,"Jilemnice  23.06.21",726.31598911774654,null,"00:01:05.900","00:01:15.580","00:00:00"]
["67.","MOTLÍKOVÁ","Eliška","8.A","00:00:00",null,0,0,null,"00:01:02.560","00:01:06.450","00:00:00"]
["68.","POHOŘELÁ","Amálie","8.A","00:01:00.730",null,"Jilemnice  23.06.21",665.40124867261659,null,"00:01:03.840","00:01:07.200","00:00:00"]
["69.","POLÁČKOVÁ","Natálie","8.A","00:01:32.640",null,"Jilemnice  23.06.21",362.14731629844562,null,"00:01:29.720","00:01:29.520","00:00:00"]
["70.","ŘEHOŘKOVÁ","Lucie","8.A","00:00:59.520",null,"Jilemnice  23.06.21",683.29908907741935,null,"00:00:00","00:01:18.550","00:00:00"]
["71.","SKÁLOVÁ","Alena","8.A","00:01:10.120",null,"Jilemnice  23.06.21",547.50448918836287,null,"00:01:20.570","00:01:32.380","00:00:00"]
["72.","VÁVROVÁ ","Aneta","8.A","00:00:53.350",null,"Jilemnice  23.06.21",787.18802121627004,null,"00:00:53.320","00:01:05.390","00:00:00"]
["73.","ZELINKOVÁ","Klára","8.A","00:01:01.100",null,"Jilemnice  23.06.21",660.06988022729956,null,"00:01:01.220","00:01:08.240","00:00:00"]
["74.","JUNGOVÁ ","Lucie","9.A","00:00:00",null," ",0,null,"00:00:52.800","00:00:51.060","00:00:53.350"]
["75.","KŘIVÁNKOVÁ ","Linda","9.A","00:01:23.880",null,"Jilemnice  23.06.21",422.42112043261818,null,"00:01:13.410","00:01:20.700","00:01:14.160"]
["76.","KUBÁTOVÁ","Lucie","9.A","00:00:00",null," ",0,null,"00:01:03.930","00:01:01.340","00:01:01.020"]
["77.","ŠIMŮNKOVÁ ","Nikola","9.A","00:01:21.920",null,"Jilemnice  23.06.21",437.67179909531262,null,"00:01:14.110","00:01:21.900","00:01:14.820"]
["78.","ŠMÍDOVÁ","Kristýna","9.A","00:01:12.680",null,"Jilemnice  23.06.21",520.64704983335162,null,"00:01:16.560","00:01:18.960","00:00:00"]
["79.","VOTOČKOVÁ ","Nikola","9.A","00:00:51.900",null,"Jilemnice  23.06.21",815.18735417895959,null,"00:00:53.610","00:00:56.180","00:00:59.560"]
["80.","VYHLASOVÁ","Lenka","9.A","00:00:00",null," ",0,null,"00:01:44.220","00:01:33.900","00:01:34.440"]
["81.","BÖHMOVÁ","Diana","9.B","00:01:03.120",null,"Jilemnice  23.06.21",632.0655858980989,null,"00:00:00","00:01:08.080","00:01:05.800"]
["82.",{"$f":"B182","v":"HOUDOVÁ"},"Tereza","9.B","00:00:00",null," ",0,null,"00:00:00","00:01:00.750","00:01:05.810"]
["83.","JANÍKOVÁ","Kristýna","9.B","00:00:00",null," ",0,null,"00:01:02.590","00:00:00","00:00:00"]
["84.","KUŽELOVÁ","Ela","9.B","00:01:23.590",null,"Jilemnice  23.06.21",424.63251742897478,null,"00:01:03.930","00:01:02.900","00:01:09.200"]
["85.","MATERNOVÁ","Lucie","9.B","00:01:04.620",null,"Jilemnice  23.06.21",612.40308390417829,null,"00:01:04.780","00:01:05.300","00:01:09.850"]
["86.","OPOČENSKÁ","Matylda","9.B","00:00:00",null," ",0,null,"00:00:00","00:00:00","00:00:00"]
["87.","PIŠTOROVÁ","Karolína","9.B","00:00:00",null," ",0,null,"00:00:58.150","00:00:57.920","00:00:55.470"]
["88.","POKORNÝ","Anna","9.B","00:00:00",null," ",0,null,"00:00:00","00:01:09.530","00:01:10.680"]
["89.","SUCHÁNKOVÁ","Michaela","9.B","00:01:27.210",null,"Jilemnice  23.06.21",398.0822180012384,null,"00:01:31.570","00:01:22.570","00:01:24.750"]
["90.","ŠUBÍKOVÁ ","Štěpánka","9.B","00:01:02.710",null,"Jilemnice  23.06.21",637.60369529402021,null,"00:01:31.570","00:01:12.330","00:01:11.690"]
["91.","VANCLOVÁ","Pavlína","9.B","00:01:02.270",null,"Jilemnice  23.06.21",643.62816013952124,null,"00:01:09.370","00:01:13.560","00:01:06.690"]
[]
[]
[]
[]
[]
[null,"ERBENOVÁ","Sára","6.A",null,null,null,{"$f":"IF(E101=0,0,IF(E101>0,(1000000000 - 313216 / E101 + 34538300 / E101*2 - 1698600000 / E101*3 + 32198000000 / E101*4)/200000000000-215))","v":0}]
[null,"HOFMANOVÁ ","Nicol","6.A","00:01:15.700",null,null,{"$f":"IF(E102=0,0,IF(E102>0,(1000000000 - 313216 / E102 + 34538300 / E102*2 - 1698600000 / E102*3 + 32198000000 / E102*4)/200000000000-215))","v":491.29911072507264}]
[null,"HOLEŠOVSKÁ","Aneta","6.A",null,null,null,{"$f":"IF(E103=0,0,IF(E103>0,(1000000000 - 313216 / E103 + 34538300 / E103*2 - 1698600000 / E103*3 + 32198000000 / E103*4)/200000000000-215))","v":0}]
[null,"HOLUBCOVÁ","Alena","6.A","00:00:59.270",null,null,{"$f":"IF(E104=0,0,IF(E104>0,(1000000000 - 313216 / E104 + 34538300 / E104*2 - 1698600000 / E104*3 + 32198000000 / E104*4)/200000000000-215))","v":687.08808051101755}]
[null,"KOHOUTOVÁ","Anna","6.A","00:01:24.100",null,null,{"$f":"IF(E105=0,0,IF(E105>0,(1000000000 - 313216 / E105 + 34538300 / E105*2 - 1698600000 / E105*3 + 32198000000 / E105*4)/200000000000-215))","v":420.75368230544586}]
[null,"KRAUSOVÁ","Anežka","6.A","00:01:04.100",null,null,{"$f":"IF(E106=0,0,IF(E106>0,(1000000000 - 313216 / E106 + 34538300 / E106*2 - 1698600000 / E106*3 + 32198000000 / E106*4)/200000000000-215))","v":619.11520564567854}]
[null,"KUŽELOVÁ","Apoléna","6.A",null,null,null,{"$f":"IF(E107=0,0,IF(E107>0,(1000000000 - 313216 / E107 + 34538300 / E107*2 - 1698600000 / E107*3 + 32198000000 / E107*4)/200000000000-215))","v":0}]
[null,"MORÁVKOVÁ","Lucie","6.A",null,null,null,{"$f":"IF(E108=0,0,IF(E108>0,(1000000000 - 313216 / E108 + 34538300 / E108*2 - 1698600000 / E108*3 + 32198000000 / E108*4)/200000000000-215))","v":0}]
[null,"SKLENÁROVÁ","Eliška","6.A","00:01:17.530",null,null,{"$f":"IF(E109=0,0,IF(E109>0,(1000000000 - 313216 / E109 + 34538300 / E109*2 - 1698600000 / E109*3 + 32198000000 / E109*4)/200000000000-215))","v":474.62790960773896}]
[null,"ŠTOLFOVÁ","Tereza","6.A","00:01:04.880",null,null,{"$f":"IF(E110=0,0,IF(E110>0,(1000000000 - 313216 / E110 + 34538300 / E110*2 - 1698600000 / E110*3 + 32198000000 / E110*4)/200000000000-215))","v":609.08737025104813}]
[null,"ŠUBÍKOVÁ","Klára","6.A","00:01:06.100",null,null,{"$f":"IF(E111=0,0,IF(E111>0,(1000000000 - 313216 / E111 + 34538300 / E111*2 - 1698600000 / E111*3 + 32198000000 / E111*4)/200000000000-215))","v":593.87737794081704}]
[null,"TULÁČKOVÁ","Natálie","6.A",null,null,null,{"$f":"IF(E112=0,0,IF(E112>0,(1000000000 - 313216 / E112 + 34538300 / E112*2 - 1698600000 / E112*3 + 32198000000 / E112*4)/200000000000-215))","v":0}]
[null,"VOJTÍŠKOVÁ","Ella","6.A",null,null,null,{"$f":"IF(E113=0,0,IF(E113>0,(1000000000 - 313216 / E113 + 34538300 / E113*2 - 1698600000 / E113*3 + 32198000000 / E113*4)/200000000000-215))","v":0}]
[null,"DRUGÁČOVÁ","Kristinka","6.B","00:01:03.360",null,"Jilemnice  23.06.21",{"$f":"IF(E114=0,0,IF(E114>0,(1000000000 - 313216 / E114 + 34538300 / E114*2 - 1698600000 / E114*3 + 32198000000 / E114*4)/200000000000-215))","v":628.8570230727272}]
[null,"FAJSTAVROVÁ","Karolína","6.B",null,null,null,{"$f":"IF(E115=0,0,IF(E115>0,(1000000000 - 313216 / E115 + 34538300 / E115*2 - 1698600000 / E115*3 + 32198000000 / E115*4)/200000000000-215))","v":0}]
[null,"FAJSTAVROVÁ","Magdaléna","6.B",null,null,null,{"$f":"IF(E116=0,0,IF(E116>0,(1000000000 - 313216 / E116 + 34538300 / E116*2 - 1698600000 / E116*3 + 32198000000 / E116*4)/200000000000-215))","v":0}]
[null,"HLAVATÁ","Anna","6.B",null,null,null,{"$f":"IF(E117=0,0,IF(E117>0,(1000000000 - 313216 / E117 + 34538300 / E117*2 - 1698600000 / E117*3 + 32198000000 / E117*4)/200000000000-215))","v":0}]
[null,"JINDROVÁ","Barbora","6.B",null,null,null,{"$f":"IF(E118=0,0,IF(E118>0,(1000000000 - 313216 / E118 + 34538300 / E118*2 - 1698600000 / E118*3 + 32198000000 / E118*4)/200000000000-215))","v":0}]
[null,"MAŘASOVÁ","Vendula","6.B",null,null,null,{"$f":"IF(E119=0,0,IF(E119>0,(1000000000 - 313216 / E119 + 34538300 / E119*2 - 1698600000 / E119*3 + 32198000000 / E119*4)/200000000000-215))","v":0}]
[null,"PETŘÍČKOVÁ","Natálie","6.B",null,null,null,{"$f":"IF(E120=0,0,IF(E120>0,(1000000000 - 313216 / E120 + 34538300 / E120*2 - 1698600000 / E120*3 + 32198000000 / E120*4)/200000000000-215))","v":0}]
[null,"PETŘÍKOVÁ","Adéla","6.B","00:01:10.660",null,null,{"$f":"IF(E121=0,0,IF(E121>0,(1000000000 - 313216 / E121 + 34538300 / E121*2 - 1698600000 / E121*3 + 32198000000 / E121*4)/200000000000-215))","v":541.67729241279358}]
[null,"REGÁLOVÁ","Karolína","6.B",null,null,null,{"$f":"IF(E122=0,0,IF(E122>0,(1000000000 - 313216 / E122 + 34538300 / E122*2 - 1698600000 / E122*3 + 32198000000 / E122*4)/200000000000-215))","v":0}]
[null,"RIEGROVÁ","Magdaléna","6.B","00:01:13.300",null,null,{"$f":"IF(E123=0,0,IF(E123>0,(1000000000 - 313216 / E123 + 34538300 / E123*2 - 1698600000 / E123*3 + 32198000000 / E123*4)/200000000000-215))","v":514.42470234499331}]
[null,"RYBENSKÁ","Sabina","6.B",null,null,null,{"$f":"IF(E124=0,0,IF(E124>0,(1000000000 - 313216 / E124 + 34538300 / E124*2 - 1698600000 / E124*3 + 32198000000 / E124*4)/200000000000-215))","v":0}]
[null,"STEINEROVÁ","Barbora","6.B",null,null,null,{"$f":"IF(E125=0,0,IF(E125>0,(1000000000 - 313216 / E125 + 34538300 / E125*2 - 1698600000 / E125*3 + 32198000000 / E125*4)/200000000000-215))","v":0}]
[null,"TOMEŠOVÁ","Barbora","6.B",null,null,null,{"$f":"IF(E126=0,0,IF(E126>0,(1000000000 - 313216 / E126 + 34538300 / E126*2 - 1698600000 / E126*3 + 32198000000 / E126*4)/200000000000-215))","v":0}]
[null,"VOHNOUTOVÁ","Aneta","6.B",null,null,null,{"$f":"IF(E127=0,0,IF(E127>0,(1000000000 - 313216 / E127 + 34538300 / E127*2 - 1698600000 / E127*3 + 32198000000 / E127*4)/200000000000-215))","v":0}]
[null,"HAVLÍKOVÁ","Michaela","7.A",null,null,null,{"$f":"IF(E128=0,0,IF(E128>0,(1000000000 - 313216 / E128 + 34538300 / E128*2 - 1698600000 / E128*3 + 32198000000 / E128*4)/200000000000-215))","v":0},null,"00:01:18.970"]
[null,"HOLUBCOVÁ","Sára","7.A",null,null,null,{"$f":"IF(E129=0,0,IF(E129>0,(1000000000 - 313216 / E129 + 34538300 / E129*2 - 1698600000 / E129*3 + 32198000000 / E129*4)/200000000000-215))","v":0},null,"00:00:58.890"]
[null,"HONCŮ","Tereza","7.A",null,null,null,{"$f":"IF(E130=0,0,IF(E130>0,(1000000000 - 313216 / E130 + 34538300 / E130*2 - 1698600000 / E130*3 + 32198000000 / E130*4)/200000000000-215))","v":0},null,"00:01:07.580"]
[null,"HORÁČKOVÁ","Kateřina","7.A",null,null,null,{"$f":"IF(E131=0,0,IF(E131>0,(1000000000 - 313216 / E131 + 34538300 / E131*2 - 1698600000 / E131*3 + 32198000000 / E131*4)/200000000000-215))","v":0},null,"00:01:02.240"]
[null,"JOUDALOVÁ","Daniela","7.A",null,null,null,{"$f":"IF(E132=0,0,IF(E132>0,(1000000000 - 313216 / E132 + 34538300 / E132*2 - 1698600000 / E132*3 + 32198000000 / E132*4)/200000000000-215))","v":0},null,"00:01:29.440"]
[null,"KLÍMOVÁ","Anna","7.A",null,null,null,{"$f":"IF(E133=0,0,IF(E133>0,(1000000000 - 313216 / E133 + 34538300 / E133*2 - 1698600000 / E133*3 + 32198000000 / E133*4)/200000000000-215))","v":0},null,"00:01:03.720"]
[null,"KOHOUTOVÁ","Veronika","7.A",null,null,null,{"$f":"IF(E134=0,0,IF(E134>0,(1000000000 - 313216 / E134 + 34538300 / E134*2 - 1698600000 / E134*3 + 32198000000 / E134*4)/200000000000-215))","v":0},null,"00:00:59.130"]
[null,"KOVÁŘOVÁ","Viktorie","7.A",null,null,null,{"$f":"IF(E135=0,0,IF(E135>0,(1000000000 - 313216 / E135 + 34538300 / E135*2 - 1698600000 / E135*3 + 32198000000 / E135*4)/200000000000-215))","v":0},null,"00:01:04.860"]
[null,"KYNČLOVÁ","Anna","7.A",null,null,null,{"$f":"IF(E136=0,0,IF(E136>0,(1000000000 - 313216 / E136 + 34538300 / E136*2 - 1698600000 / E136*3 + 32198000000 / E136*4)/200000000000-215))","v":0},null,"00:00:59.780"]
[null,"MATOUŠOVÁ","Tereza","7.A",null,null,null,{"$f":"IF(E137=0,0,IF(E137>0,(1000000000 - 313216 / E137 + 34538300 / E137*2 - 1698600000 / E137*3 + 32198000000 / E137*4)/200000000000-215))","v":0},null,"00:01:10.610"]
[null,"MAZÁNKOVÁ","Zuzana","7.A",null,null,null,{"$f":"IF(E138=0,0,IF(E138>0,(1000000000 - 313216 / E138 + 34538300 / E138*2 - 1698600000 / E138*3 + 32198000000 / E138*4)/200000000000-215))","v":0},null,"00:01:04.850"]
[null,"MORKESOVÁ","Sabrina","7.A",null,null,null,{"$f":"IF(E139=0,0,IF(E139>0,(1000000000 - 313216 / E139 + 34538300 / E139*2 - 1698600000 / E139*3 + 32198000000 / E139*4)/200000000000-215))","v":0},null,"00:01:00.680"]
[null,"POHOŘALÁ","Alžběta","7.A",null,null,null,{"$f":"IF(E140=0,0,IF(E140>0,(1000000000 - 313216 / E140 + 34538300 / E140*2 - 1698600000 / E140*3 + 32198000000 / E140*4)/200000000000-215))","v":0},null,"00:01:05.990"]
[null,"SCHOLZOVÁ","Laura","7.A",null,null,null,{"$f":"IF(E141=0,0,IF(E141>0,(1000000000 - 313216 / E141 + 34538300 / E141*2 - 1698600000 / E141*3 + 32198000000 / E141*4)/200000000000-215))","v":0},null,"00:01:14.770"]
[null,"VÁCLAVÍKOVÁ","Valerie","7.A",null,null,null,{"$f":"IF(E142=0,0,IF(E142>0,(1000000000 - 313216 / E142 + 34538300 / E142*2 - 1698600000 / E142*3 + 32198000000 / E142*4)/200000000000-215))","v":0},null,"00:01:03.520"]
[null,"ZAPADLOVÁ","Emma","7.A",null,null,null,{"$f":"IF(E143=0,0,IF(E143>0,(1000000000 - 313216 / E143 + 34538300 / E143*2 - 1698600000 / E143*3 + 32198000000 / E143*4)/200000000000-215))","v":0},null,"00:01:04.690"]
[null,"ŽIŠKOVÁ","Mia","7.A",null,null,null,{"$f":"IF(E144=0,0,IF(E144>0,(1000000000 - 313216 / E144 + 34538300 / E144*2 - 1698600000 / E144*3 + 32198000000 / E144*4)/200000000000-215))","v":0},null,"00:01:06.460"]
[null,"FARSKÁ","Tereza","7.B",null,null,null,{"$f":"IF(E145=0,0,IF(E145>0,(1000000000 - 313216 / E145 + 34538300 / E145*2 - 1698600000 / E145*3 + 32198000000 / E145*4)/200000000000-215))","v":0},null,"00:01:14.230"]
[null,"FEIXOVÁ","Rozálie","7.B",null,null,null,{"$f":"IF(E146=0,0,IF(E146>0,(1000000000 - 313216 / E146 + 34538300 / E146*2 - 1698600000 / E146*3 + 32198000000 / E146*4)/200000000000-215))","v":0},null,"00:01:28.320"]
[null,"FIŠEROVÁ","Michaela","7.B",null,null,null,{"$f":"IF(E147=0,0,IF(E147>0,(1000000000 - 313216 / E147 + 34538300 / E147*2 - 1698600000 / E147*3 + 32198000000 / E147*4)/200000000000-215))","v":0},null,"00:01:19.320"]
[null,"HAVLÍČKOVÁ","Kristýna","7.B",null,null,null,{"$f":"IF(E148=0,0,IF(E148>0,(1000000000 - 313216 / E148 + 34538300 / E148*2 - 1698600000 / E148*3 + 32198000000 / E148*4)/200000000000-215))","v":0}]
[null,"JODASOVÁ","Nikola","7.B",null,null,null,{"$f":"IF(E149=0,0,IF(E149>0,(1000000000 - 313216 / E149 + 34538300 / E149*2 - 1698600000 / E149*3 + 32198000000 / E149*4)/200000000000-215))","v":0},null,"00:01:11.830"]
[null,"KADAVÁ","Nikola","7.B",null,null,null,{"$f":"IF(E150=0,0,IF(E150>0,(1000000000 - 313216 / E150 + 34538300 / E150*2 - 1698600000 / E150*3 + 32198000000 / E150*4)/200000000000-215))","v":0},null,"00:01:29.980"]
[null,"KRAFKOVÁ","Lucie","7.B",null,null,null,{"$f":"IF(E151=0,0,IF(E151>0,(1000000000 - 313216 / E151 + 34538300 / E151*2 - 1698600000 / E151*3 + 32198000000 / E151*4)/200000000000-215))","v":0}]
[null,"KŘIVINKOVÁ","Alžběta","7.B",null,null,null,{"$f":"IF(E152=0,0,IF(E152>0,(1000000000 - 313216 / E152 + 34538300 / E152*2 - 1698600000 / E152*3 + 32198000000 / E152*4)/200000000000-215))","v":0},null,"00:01:12.620"]
[null,"LEŠÁKOVÁ","Lenka","7.B",null,null,null,{"$f":"IF(E153=0,0,IF(E153>0,(1000000000 - 313216 / E153 + 34538300 / E153*2 - 1698600000 / E153*3 + 32198000000 / E153*4)/200000000000-215))","v":0},null,"00:01:32.350"]
[null,"NYKLÍČKOVÁ","Adéla","7.B",null,null,null,{"$f":"IF(E154=0,0,IF(E154>0,(1000000000 - 313216 / E154 + 34538300 / E154*2 - 1698600000 / E154*3 + 32198000000 / E154*4)/200000000000-215))","v":0},null,"00:01:09.160"]
[null,"PLŮCHOVÁ","Petra","7.B",null,null,null,{"$f":"IF(E155=0,0,IF(E155>0,(1000000000 - 313216 / E155 + 34538300 / E155*2 - 1698600000 / E155*3 + 32198000000 / E155*4)/200000000000-215))","v":0},null,"00:01:10.250"]
[null,"PODZIMKOVÁ","Eliška","7.B",null,null,null,{"$f":"IF(E156=0,0,IF(E156>0,(1000000000 - 313216 / E156 + 34538300 / E156*2 - 1698600000 / E156*3 + 32198000000 / E156*4)/200000000000-215))","v":0},null,"00:01:21.100"]
[null,"RUTKAYOVÁ","Klára","7.B",null,null,null,{"$f":"IF(E157=0,0,IF(E157>0,(1000000000 - 313216 / E157 + 34538300 / E157*2 - 1698600000 / E157*3 + 32198000000 / E157*4)/200000000000-215))","v":0},null,"00:01:19.660"]
[null,"SEIDLOVÁ","Zuzana","7.B",null,null,null,{"$f":"IF(E158=0,0,IF(E158>0,(1000000000 - 313216 / E158 + 34538300 / E158*2 - 1698600000 / E158*3 + 32198000000 / E158*4)/200000000000-215))","v":0},null,"00:01:25.020"]
[null,"TOMÁŠOVÁ","Sára","7.B",null,null,null,{"$f":"IF(E159=0,0,IF(E159>0,(1000000000 - 313216 / E159 + 34538300 / E159*2 - 1698600000 / E159*3 + 32198000000 / E159*4)/200000000000-215))","v":0}]
[null,"VANCLOVÁ","Barbora","7.B",null,null,null,{"$f":"IF(E160=0,0,IF(E160>0,(1000000000 - 313216 / E160 + 34538300 / E160*2 - 1698600000 / E160*3 + 32198000000 / E160*4)/200000000000-215))","v":0},null,"00:01:16.110"]
[null,"VOTOČKOVÁ","Veronika","7.B",null,null,null,{"$f":"IF(E161=0,0,IF(E161>0,(1000000000 - 313216 / E161 + 34538300 / E161*2 - 1698600000 / E161*3 + 32198000000 / E161*4)/200000000000-215))","v":0},null,"00:01:36.510"]
[null,"HARTIGOVÁ","Anna","8.A",null,null,null,{"$f":"IF(E162=0,0,IF(E162>0,(1000000000 - 313216 / E162 + 34538300 / E162*2 - 1698600000 / E162*3 + 32198000000 / E162*4)/200000000000-215))","v":0},null,"00:01:03.510","00:01:29.540"]
[null,"HONCŮ","Rozálie","8.A",null,null,null,{"$f":"IF(E163=0,0,IF(E163>0,(1000000000 - 313216 / E163 + 34538300 / E163*2 - 1698600000 / E163*3 + 32198000000 / E163*4)/200000000000-215))","v":0},null,"00:01:03.850","00:01:06.010"]
[null,"CHALOUPSKÁ","Lucie","8.A","00:00:50.300",null,"Jilemnice  23.06.21",{"$f":"IF(E164=0,0,IF(E164>0,(1000000000 - 313216 / E164 + 34538300 / E164*2 - 1698600000 / E164*3 + 32198000000 / E164*4)/200000000000-215))","v":847.95657419260442},null,"00:00:57.680","00:00:56.920"]
[null,"KŘÍŽKOVÁ","Anna","8.A","00:01:01.790",null,"Jilemnice  23.06.21",{"$f":"IF(E165=0,0,IF(E165>0,(1000000000 - 313216 / E165 + 34538300 / E165*2 - 1698600000 / E165*3 + 32198000000 / E165*4)/200000000000-215))","v":650.29815717572421},null,"00:01:07.500","00:01:05.510"]
[null,"LUKEŠOVÁ","Kristýna","8.A","00:00:56.800",null,"Jilemnice  23.06.21",{"$f":"IF(E166=0,0,IF(E166>0,(1000000000 - 313216 / E166 + 34538300 / E166*2 - 1698600000 / E166*3 + 32198000000 / E166*4)/200000000000-215))","v":726.31598911774654},null,"00:01:05.900","00:01:15.580"]
[null,"MOTLÍKOVÁ","Eliška","8.A",null,null,null,{"$f":"IF(E167=0,0,IF(E167>0,(1000000000 - 313216 / E167 + 34538300 / E167*2 - 1698600000 / E167*3 + 32198000000 / E167*4)/200000000000-215))","v":0},null,"00:01:02.560","00:01:06.450"]
[null,"POHOŘELÁ","Amálie","8.A","00:01:00.730",null,"Jilemnice  23.06.21",{"$f":"IF(E168=0,0,IF(E168>0,(1000000000 - 313216 / E168 + 34538300 / E168*2 - 1698600000 / E168*3 + 32198000000 / E168*4)/200000000000-215))","v":665.40124867261659},null,"00:01:03.840","00:01:07.200"]
[null,"POLÁČKOVÁ","Natálie","8.A","00:01:32.640",null,"Jilemnice  23.06.21",{"$f":"IF(E169=0,0,IF(E169>0,(1000000000 - 313216 / E169 + 34538300 / E169*2 - 1698600000 / E169*3 + 32198000000 / E169*4)/200000000000-215))","v":362.14731629844562},null,"00:01:29.720","00:01:29.520"]
[null,"ŘEHOŘKOVÁ","Lucie","8.A","00:00:59.520",null,"Jilemnice  23.06.21",{"$f":"IF(E170=0,0,IF(E170>0,(1000000000 - 313216 / E170 + 34538300 / E170*2 - 1698600000 / E170*3 + 32198000000 / E170*4)/200000000000-215))","v":683.29908907741935},null,null,"00:01:18.550"]
[null,"SKÁLOVÁ","Alena","8.A","00:01:10.120",null,"Jilemnice  23.06.21",{"$f":"IF(E171=0,0,IF(E171>0,(1000000000 - 313216 / E171 + 34538300 / E171*2 - 1698600000 / E171*3 + 32198000000 / E171*4)/200000000000-215))","v":547.50448918836287},null,"00:01:20.570","00:01:32.380"]
[null,"VÁVROVÁ ","Aneta","8.A","00:00:53.350",null,"Jilemnice  23.06.21",{"$f":"IF(E172=0,0,IF(E172>0,(1000000000 - 313216 / E172 + 34538300 / E172*2 - 1698600000 / E172*3 + 32198000000 / E172*4)/200000000000-215))","v":787.18802121627004},null,"00:00:53.320","00:01:05.390"]
[null,"ZELINKOVÁ","Klára","8.A","00:01:01.100",null,"Jilemnice  23.06.21",{"$f":"IF(E173=0,0,IF(E173>0,(1000000000 - 313216 / E173 + 34538300 / E173*2 - 1698600000 / E173*3 + 32198000000 / E173*4)/200000000000-215))","v":660.06988022729956},null,"00:01:01.220","00:01:08.240"]
[null,"JUNGOVÁ ","Lucie","9.A",null,null," ",{"$f":"IF(E174=0,0,IF(E174>0,(1000000000 - 313216 / E174 + 34538300 / E174*2 - 1698600000 / E174*3 + 32198000000 / E174*4)/200000000000-215))","v":0},null,"00:00:52.800","00:00:51.060","00:00:53.350"]
[null,"KŘIVÁNKOVÁ ","Linda","9.A","00:01:23.880",null,"Jilemnice  23.06.21",{"$f":"IF(E175=0,0,IF(E175>0,(1000000000 - 313216 / E175 + 34538300 / E175*2 - 1698600000 / E175*3 + 32198000000 / E175*4)/200000000000-215))","v":422.42112043261818},null,"00:01:13.410","00:01:20.700","00:01:14.160"]
[null,"KUBÁTOVÁ","Lucie","9.A",null,null," ",{"$f":"IF(E176=0,0,IF(E176>0,(1000000000 - 313216 / E176 + 34538300 / E176*2 - 1698600000 / E176*3 + 32198000000 / E176*4)/200000000000-215))","v":0},null,"00:01:03.930","00:01:01.340","00:01:01.020"]
[null,"ŠIMŮNKOVÁ ","Nikola","9.A","00:01:21.920",null,"Jilemnice  23.06.21",{"$f":"IF(E177=0,0,IF(E177>0,(1000000000 - 313216 / E177 + 34538300 / E177*2 - 1698600000 / E177*3 + 32198000000 / E177*4)/200000000000-215))","v":437.67179909531262},null,"00:01:14.110","00:01:21.900","00:01:14.820"]
[null,"ŠMÍDOVÁ","Kristýna","9.A","00:01:12.680",null,"Jilemnice  23.06.21",{"$f":"IF(E178=0,0,IF(E178>0,(1000000000 - 313216 / E178 + 34538300 / E178*2 - 1698600000 / E178*3 + 32198000000 / E178*4)/200000000000-215))","v":520.64704983335162},null,"00:01:16.560","00:01:18.960"]
[null,"VOTOČKOVÁ ","Nikola","9.A","00:00:51.900",null,"Jilemnice  23.06.21",{"$f":"IF(E179=0,0,IF(E179>0,(1000000000 - 313216 / E179 + 34538300 / E179*2 - 1698600000 / E179*3 + 32198000000 / E179*4)/200000000000-215))","v":815.18735417895959},null,"00:00:53.610","00:00:56.180","00:00:59.560"]
[null,"VYHLASOVÁ","Lenka","9.A",null,null," ",{"$f":"IF(E180=0,0,IF(E180>0,(1000000000 - 313216 / E180 + 34538300 / E180*2 - 1698600000 / E180*3 + 32198000000 / E180*4)/200000000000-215))","v":0},null,"00:01:44.220","00:01:33.900","00:01:34.440"]
[null,"BÖHMOVÁ","Diana","9.B","00:01:03.120",null,"Jilemnice  23.06.21",{"$f":"IF(E181=0,0,IF(E181>0,(1000000000 - 313216 / E181 + 34538300 / E181*2 - 1698600000 / E181*3 + 32198000000 / E181*4)/200000000000-215))","v":632.0655858980989},null,null,"00:01:08.080","00:01:05.800"]
[null,"HOUDOVÁ","Tereza","9.B",null,null," ",{"$f":"IF(E182=0,0,IF(E182>0,(1000000000 - 313216 / E182 + 34538300 / E182*2 - 1698600000 / E182*3 + 32198000000 / E182*4)/200000000000-215))","v":0},null,null,"00:01:00.750","00:01:05.810"]
[null,"JANÍKOVÁ","Kristýna","9.B",null,null," ",{"$f":"IF(E183=0,0,IF(E183>0,(1000000000 - 313216 / E183 + 34538300 / E183*2 - 1698600000 / E183*3 + 32198000000 / E183*4)/200000000000-215))","v":0},null,"00:01:02.590"]
[null,"KUŽELOVÁ","Ela","9.B","00:01:23.590",null,"Jilemnice  23.06.21",{"$f":"IF(E184=0,0,IF(E184>0,(1000000000 - 313216 / E184 + 34538300 / E184*2 - 1698600000 / E184*3 + 32198000000 / E184*4)/200000000000-215))","v":424.63251742897478},null,"00:01:03.930","00:01:02.900","00:01:09.200"]
[null,"MATERNOVÁ","Lucie","9.B","00:01:04.620",null,"Jilemnice  23.06.21",{"$f":"IF(E185=0,0,IF(E185>0,(1000000000 - 313216 / E185 + 34538300 / E185*2 - 1698600000 / E185*3 + 32198000000 / E185*4)/200000000000-215))","v":612.40308390417829},null,"00:01:04.780","00:01:05.300","00:01:09.850"]
[null,"OPOČENSKÁ","Matylda","9.B",null,null," ",{"$f":"IF(E186=0,0,IF(E186>0,(1000000000 - 313216 / E186 + 34538300 / E186*2 - 1698600000 / E186*3 + 32198000000 / E186*4)/200000000000-215))","v":0}]
[null,"PIŠTOROVÁ","Karolína","9.B",null,null," ",{"$f":"IF(E187=0,0,IF(E187>0,(1000000000 - 313216 / E187 + 34538300 / E187*2 - 1698600000 / E187*3 + 32198000000 / E187*4)/200000000000-215))","v":0},null,"00:00:58.150","00:00:57.920","00:00:55.470"]
[null,"POKORNÝ","Anna","9.B",null,null," ",{"$f":"IF(E188=0,0,IF(E188>0,(1000000000 - 313216 / E188 + 34538300 / E188*2 - 1698600000 / E188*3 + 32198000000 / E188*4)/200000000000-215))","v":0},null,null,"00:01:09.530","00:01:10.680"]
[null,"SUCHÁNKOVÁ","Michaela","9.B","00:01:27.210",null,"Jilemnice  23.06.21",{"$f":"IF(E189=0,0,IF(E189>0,(1000000000 - 313216 / E189 + 34538300 / E189*2 - 1698600000 / E189*3 + 32198000000 / E189*4)/200000000000-215))","v":398.0822180012384},null,"00:01:31.570","00:01:22.570","00:01:24.750"]
[null,"ŠUBÍKOVÁ ","Štěpánka","9.B","00:01:02.710",null,"Jilemnice  23.06.21",{"$f":"IF(E190=0,0,IF(E190>0,(1000000000 - 313216 / E190 + 34538300 / E190*2 - 1698600000 / E190*3 + 32198000000 / E190*4)/200000000000-215))","v":637.60369529402021},null,"00:01:31.570","00:01:12.330","00:01:11.690"]
[null,"VANCLOVÁ","Pavlína","9.B","00:01:02.270",null,"Jilemnice  23.06.21",{"$f":"IF(E191=0,0,IF(E191>0,(1000000000 - 313216 / E191 + 34538300 / E191*2 - 1698600000 / E191*3 + 32198000000 / E191*4)/200000000000-215))","v":643.62816013952124},null,"00:01:09.370","00:01:13.560","00:01:06.690"]

{"sheet":"D800","index":9,"n_rows":191,"n_cols":12,"rows_kept":191,"cut":false,"hidden":false,"merged":[]}
[null,null,"VÝKONY  2020 - 2021",null,null,null,"800 M","DĚVČATA  6. -  9.  ROČ."]
[null,null,null,null,null,null,null,null,null,null,"stav  k ",{"$f":"TODAY()","v":44375}]
[null,null,null,null,null,null,null,"   BODY",null,"   19 - 20   ","   18 - 19   ","   17 - 18   "]
[]
["1.",{"$f":"B101","v":"ERBENOVÁ"},{"$f":"C101","v":"Sára"},"6.A","00:00:00",null,0,0,null,"00:00:00","00:00:00","00:00:00"]
["2.",{"$f":"B102","v":"HOFMANOVÁ "},"Nicol","6.A","00:00:00",null,0,0,null,"00:00:00","00:00:00","00:00:00"]
["3.","HOLEŠOVSKÁ","Aneta","6.A","00:06:54",null,"Jilemnice  22.09.20",279.53101451086951,null,"00:00:00","00:00:00","00:00:00"]
["4.","HOLUBCOVÁ","Alena","6.A","00:00:00",null,0,0,null,"00:00:00","00:00:00","00:00:00"]
["5.","KOHOUTOVÁ","Anna","6.A","00:00:00",null,0,0,null,"00:00:00","00:00:00","00:00:00"]
["6.","KRAUSOVÁ","Anežka","6.A","00:00:00",null,0,0,null,"00:00:00","00:00:00","00:00:00"]
["7.","KUŽELOVÁ","Apoléna","6.A","00:04:22",null,"Jilemnice  22.09.20",517.12152660114498,null,"00:00:00","00:00:00","00:00:00"]
["8.","MORÁVKOVÁ","Lucie","6.A","00:04:54",null,"Jilemnice  22.09.20",446.68653053571416,null,"00:00:00","00:00:00","00:00:00"]
["9.","SKLENÁROVÁ","Eliška","6.A","00:00:00",null,0,0,null,"00:00:00","00:00:00","00:00:00"]
["10.","ŠTOLFOVÁ","Tereza","6.A","00:00:00",null,0,0,null,"00:00:00","00:00:00","00:00:00"]
["11.","ŠUBÍKOVÁ","Klára","6.A","00:00:00",null,0,0,null,"00:00:00","00:00:00","00:00:00"]
["12.","TULÁČKOVÁ","Natálie","6.A","00:04:48",null,"Jilemnice  22.09.20",458.70083324999996,null,"00:00:00","00:00:00","00:00:00"]
["13.","VOJTÍŠKOVÁ","Ella","6.A","00:00:00",null,0,0,null,"00:00:00","00:00:00","00:00:00"]
["14.","DRUGÁČOVÁ","Kristinka","6.B","00:00:00",null,0,0,null,"00:00:00","00:00:00","00:00:00"]
["15.","FAJSTAVROVÁ","Karolína","6.B","00:03:11",null,"Jilemnice  22.09.20",757.67455472120457,null,"00:00:00","00:00:00","00:00:00"]
["16.","FAJSTAVROVÁ","Magdaléna","6.B","00:03:02",null,"Jilemnice  22.09.20",801.5705491730771,null,"00:00:00","00:00:00","00:00:00"]
["17.","HLAVATÁ","Anna","6.B","00:00:00",null,0,0,null,"00:00:00","00:00:00","00:00:00"]
["18.",{"$f":"B118","v":"JINDROVÁ"},"Barbora","6.B","00:04:04",null,"Jilemnice  22.09.20",564.85999985655735,null,"00:00:00","00:00:00","00:00:00"]
["19.","MAŘASOVÁ","Vendula","6.B","00:04:11",null,"Jilemnice  22.09.20",545.48143413047808,null,"00:00:00","00:00:00","00:00:00"]
["20.","PETŘÍČKOVÁ","Natálie","6.B","00:00:00",null,0,0,null,"00:00:00","00:00:00","00:00:00"]
["21.","PETŘÍKOVÁ","Adéla","6.B","00:00:00",null,0,0,null,"00:00:00","00:00:00","00:00:00"]
["22.","REGÁLOVÁ","Karolína","6.B","00:04:17",null,"Jilemnice  22.09.20",529.71143956517506,null,"00:00:00","00:00:00","00:00:00"]
["23.","RIEGROVÁ","Magdaléna","6.B","00:00:00",null,0,0,null,"00:00:00","00:00:00","00:00:00"]
["24.","RYBENSKÁ","Sabina","6.B","00:04:17",null,"Jilemnice  22.09.20",529.71143956517506,null,"00:00:00","00:00:00","00:00:00"]
["25.","STEINEROVÁ","Barbora","6.B","00:04:18",null,"Jilemnice  22.09.20",527.15441848255807,null,"00:00:00","00:00:00","00:00:00"]
["26.","TOMEŠOVÁ","Barbora","6.B","00:04:20",null,"Jilemnice  22.09.20",522.09938449615402,null,"00:00:00","00:00:00","00:00:00"]
["27.","VOHNOUTOVÁ","Aneta","6.B","00:03:36",null,"Jilemnice  22.09.20",654.93444424999996,null,"00:00:00","00:00:00","00:00:00"]
["28.","HAVLÍKOVÁ","Michaela","7.A","00:00:00",null,0,0,null,"00:04:12.990","00:00:00","00:00:00"]
["29.","HOLUBCOVÁ","Sára","7.A","00:00:00",null,0,0,null,"00:03:44.190","00:00:00","00:00:00"]
["30.","HONCŮ","Tereza","7.A","00:00:00",null,0,0,null,"00:04:00.600","00:00:00","00:00:00"]
["31.","HORÁČKOVÁ","Kateřina","7.A","00:00:00",null,0,0,null,"00:03:39.880","00:00:00","00:00:00"]
["32.","JOUDALOVÁ","Daniela","7.A","00:00:00",null,0,0,null,"00:00:00","00:00:00","00:00:00"]
["33.","KLÍMOVÁ","Anna","7.A","00:00:00",null,0,0,null,"00:03:43.750","00:00:00","00:00:00"]
["34.",{"$f":"B134","v":"KOHOUTOVÁ"},"Veronika","7.A","00:00:00",null,0,0,null,"00:03:21.790","00:00:00","00:00:00"]
["35.","KOVÁŘOVÁ","Viktorie","7.A","00:00:00",null,0,0,null,"00:03:46.100","00:00:00","00:00:00"]
["36.","KYNČLOVÁ","Anna","7.A","00:00:00",null,0,0,null,"00:03:11.460","00:00:00","00:00:00"]
["37.","MATOUŠOVÁ","Tereza","7.A","00:00:00",null,0,0,null,"00:04:28.960","00:00:00","00:00:00"]
["38.","MAZÁNKOVÁ","Zuzana","7.A","00:00:00",null,0,0,null,"00:04:00.600","00:00:00","00:00:00"]
["39.","MORKESOVÁ","Sabrina","7.A","00:00:00",null,0,0,null,"00:03:22.340","00:00:00","00:00:00"]
["40.","POHOŘALÁ","Alžběta","7.A","00:00:00",null,0,0,null,"00:04:00.600","00:00:00","00:00:00"]
["41.","SCHOLZOVÁ","Laura","7.A","00:00:00",null,0,0,null,"00:04:18.780","00:00:00","00:00:00"]
["42.","VÁCLAVÍKOVÁ","Valerie","7.A","00:00:00",null,0,0,null,"00:03:49.500","00:00:00","00:00:00"]
["43.","ZAPADLOVÁ","Emma","7.A","00:00:00",null,0,0,null,"00:03:24.360","00:00:00","00:00:00"]
["44.","ŽIŠKOVÁ","Mia","7.A","00:00:00",null,0,0,null,"00:04:11.900","00:00:00","00:00:00"]
["45.","FARSKÁ","Tereza","7.B","00:00:00",null,0,0,null,"00:00:00","00:00:00","00:00:00"]
["46.","FEIXOVÁ","Rozálie","7.B","00:00:00",null,0,0,null,"00:00:00","00:00:00","00:00:00"]
["47.","FIŠEROVÁ","Michaela","7.B","00:00:00",null,0,0,null,"00:00:00","00:00:00","00:00:00"]
["48.","HAVLÍČKOVÁ","Kristýna","7.B","00:00:00",null,0,0,null,"00:00:00","00:00:00","00:00:00"]
["49.","JODASOVÁ","Nikola","7.B","00:00:00",null,0,0,null,"00:00:00","00:00:00","00:00:00"]
["50.",{"$f":"B150","v":"KADAVÁ"},"Nikola","7.B","00:00:00",null,0,0,null,"00:00:00","00:00:00","00:00:00"]
["51.","KRAFKOVÁ","Lucie","7.B","00:00:00",null,0,0,null,"00:00:00","00:00:00","00:00:00"]
["52.","KŘIVINKOVÁ","Alžběta","7.B","00:00:00",null,0,0,null,"00:00:00","00:00:00","00:00:00"]
["53.","LEŠÁKOVÁ","Lenka","7.B","00:00:00",null,0,0,null,"00:00:00","00:00:00","00:00:00"]
["54.","NYKLÍČKOVÁ","Adéla","7.B","00:00:00",null,0,0,null,"00:00:00","00:00:00","00:00:00"]
["55.","PLŮCHOVÁ","Petra","7.B","00:00:00",null,0,0,null,"00:00:00","00:00:00","00:00:00"]
["56.","PODZIMKOVÁ","Eliška","7.B","00:00:00",null,0,0,null,"00:00:00","00:00:00","00:00:00"]
["57.","RUTKAYOVÁ","Klára","7.B","00:00:00",null,0,0,null,"00:00:00","00:00:00","00:00:00"]
["58.","SEIDLOVÁ","Zuzana","7.B","00:00:00",null,0,0,null,"00:00:00","00:00:00","00:00:00"]
["59.","TOMÁŠOVÁ","Sára","7.B","00:00:00",null,0,0,null,"00:00:00","00:00:00","00:00:00"]
["60.","VANCLOVÁ","Barbora","7.B","00:00:00",null,0,0,null,"00:00:00","00:00:00","00:00:00"]
["61.","VOTOČKOVÁ","Veronika","7.B","00:00:00",null,0,0,null,"00:00:00","00:00:00","00:00:00"]
["62.","HARTIGOVÁ","Anna","8.A","00:00:00",null,0,0,null,"00:00:00","00:04:39.330","00:00:00"]
["63.","HONCŮ","Rozálie","8.A","00:00:00",null,0,0,null,"00:00:00","00:04:50.840","00:00:00"]
["64.","CHALOUPSKÁ","Lucie","8.A","00:00:00",null,0,0,null,"00:00:00","00:04:20.270","00:00:00"]
["65.","KŘÍŽKOVÁ","Anna","8.A","00:00:00",null,0,0,null,"00:00:00","00:04:01.790","00:00:00"]
["66.",{"$f":"B166","v":"LUKEŠOVÁ"},"Kristýna","8.A","00:00:00",null,0,0,null,"00:00:00","00:04:33.830","00:00:00"]
["67.","MOTLÍKOVÁ","Eliška","8.A","00:00:00",null,0,0,null,"00:00:00","00:03:45.680","00:00:00"]
["68.","POHOŘELÁ","Amálie","8.A","00:00:00",null,0,0,null,"00:00:00","00:04:11.300","00:00:00"]
["69.","POLÁČKOVÁ","Natálie","8.A","00:00:00",null,0,0,null,"00:00:00","00:05:24.730","00:00:00"]
["70.","ŘEHOŘKOVÁ","Lucie","8.A","00:00:00",null,0,0,null,"00:00:00","00:04:53.870","00:00:00"]
["71.","SKÁLOVÁ","Alena","8.A","00:00:00",null,0,0,null,"00:00:00","00:05:00.980","00:00:00"]
["72.","VÁVROVÁ ","Aneta","8.A","00:00:00",null,0,0,null,"00:00:00","00:04:39.330","00:00:00"]
["73.","ZELINKOVÁ","Klára","8.A","00:00:00",null,0,0,null,"00:00:00","00:03:48.280","00:00:00"]
["74.","JUNGOVÁ ","Lucie","9.A","00:00:00",null,0,0,null,"00:00:00","00:03:14.620","00:03:00.880"]
["75.","KŘIVÁNKOVÁ ","Linda","9.A","00:00:00",null,0,0,null,"00:00:00","00:04:26.020","00:04:49.480"]
["76.","KUBÁTOVÁ","Lucie","9.A","00:00:00",null,0,0,null,"00:00:00","00:03:42.540","00:03:30.480"]
["77.","ŠIMŮNKOVÁ ","Nikola","9.A","00:00:00",null,0,0,null,"00:00:00","00:04:49.340","00:05:15.120"]
["78.","ŠMÍDOVÁ","Kristýna","9.A","00:00:00",null,0,0,null,"00:00:00","00:04:36.990","00:05:15.960"]
["79.","VOTOČKOVÁ ","Nikola","9.A","00:00:00",null,0,0,null,"00:02:49.970","00:03:12.760","00:03:22.360"]
["80.","VYHLASOVÁ","Lenka","9.A","00:00:00",null,0,0,null,"00:00:00","00:00:00","00:00:00"]
["81.","BÖHMOVÁ","Diana","9.B","00:00:00",null,0,0,null,"00:00:00","00:03:47.200","00:03:34.140"]
["82.",{"$f":"B182","v":"HOUDOVÁ"},"Tereza","9.B","00:00:00",null,0,0,null,"00:00:00","00:03:19.550","00:04:28.890"]
["83.","JANÍKOVÁ","Kristýna","9.B","00:00:00",null,0,0,null,"00:03:01.370","00:00:00","00:00:00"]
["84.","KUŽELOVÁ","Ela","9.B","00:00:00",null,0,0,null,"00:00:00","00:03:50.290","00:04:38.890"]
["85.","MATERNOVÁ","Lucie","9.B","00:00:00",null,0,0,null,"00:00:00","00:04:10.680","00:04:25.040"]
["86.","OPOČENSKÁ","Matylda","9.B","00:00:00",null,0,0,null,"00:00:00","00:00:00","00:04:39.260"]
["87.","PIŠTOROVÁ","Karolína","9.B","00:00:00",null,0,0,null,"00:00:00","00:03:14.620","00:03:05.440"]
["88.","POKORNÝ","Anna","9.B","00:00:00",null,0,0,null,"00:00:00","00:00:00","00:05:14.170"]
["89.","SUCHÁNKOVÁ","Michaela","9.B","00:00:00",null,0,0,null,"00:00:00","00:05:09.220","00:04:42.460"]
["90.","ŠUBÍKOVÁ ","Štěpánka","9.B","00:00:00",null,0,0,null,"00:00:00","00:03:52.980","00:03:57.510"]
["91.","VANCLOVÁ","Pavlína","9.B","00:00:00",null,0,0,null,"00:00:00","00:04:12.460","00:05:07.360"]
[]
[]
[]
[]
[]
[null,"ERBENOVÁ","Sára","6.A",null,null,null,{"$f":"IF(E101=0,0,IF(E101>0,(100 - 313216 / E101 + 3453830 / E101*2 - 169860000 / E101*3 + 321980000/ E101*4)/400000000-130))","v":0}]
[null,"HOFMANOVÁ ","Nicol","6.A",null,null,null,{"$f":"IF(E102=0,0,IF(E102>0,(100 - 313216 / E102 + 3453830 / E102*2 - 169860000 / E102*3 + 321980000/ E102*4)/400000000-130))","v":0}]
[null,"HOLEŠOVSKÁ","Aneta","6.A","00:06:54",null,"Jilemnice  22.09.20",{"$f":"IF(E103=0,0,IF(E103>0,(100 - 313216 / E103 + 3453830 / E103*2 - 169860000 / E103*3 + 321980000/ E103*4)/400000000-130))","v":279.53101451086951}]
[null,"HOLUBCOVÁ","Alena","6.A",null,null,null,{"$f":"IF(E104=0,0,IF(E104>0,(100 - 313216 / E104 + 3453830 / E104*2 - 169860000 / E104*3 + 321980000/ E104*4)/400000000-130))","v":0}]
[null,"KOHOUTOVÁ","Anna","6.A",null,null,null,{"$f":"IF(E105=0,0,IF(E105>0,(100 - 313216 / E105 + 3453830 / E105*2 - 169860000 / E105*3 + 321980000/ E105*4)/400000000-130))","v":0}]
[null,"KRAUSOVÁ","Anežka","6.A",null,null,null,{"$f":"IF(E106=0,0,IF(E106>0,(100 - 313216 / E106 + 3453830 / E106*2 - 169860000 / E106*3 + 321980000/ E106*4)/400000000-130))","v":0}]
[null,"KUŽELOVÁ","Apoléna","6.A","00:04:22",null,"Jilemnice  22.09.20",{"$f":"IF(E107=0,0,IF(E107>0,(100 - 313216 / E107 + 3453830 / E107*2 - 169860000 / E107*3 + 321980000/ E107*4)/400000000-130))","v":517.12152660114498}]
[null,"MORÁVKOVÁ","Lucie","6.A","00:04:54",null,"Jilemnice  22.09.20",{"$f":"IF(E108=0,0,IF(E108>0,(100 - 313216 / E108 + 3453830 / E108*2 - 169860000 / E108*3 + 321980000/ E108*4)/400000000-130))","v":446.68653053571416}]
[null,"SKLENÁROVÁ","Eliška","6.A",null,null,null,{"$f":"IF(E109=0,0,IF(E109>0,(100 - 313216 / E109 + 3453830 / E109*2 - 169860000 / E109*3 + 321980000/ E109*4)/400000000-130))","v":0}]
[null,"ŠTOLFOVÁ","Tereza","6.A",null,null,null,{"$f":"IF(E110=0,0,IF(E110>0,(100 - 313216 / E110 + 3453830 / E110*2 - 169860000 / E110*3 + 321980000/ E110*4)/400000000-130))","v":0}]
[null,"ŠUBÍKOVÁ","Klára","6.A",null,null,null,{"$f":"IF(E111=0,0,IF(E111>0,(100 - 313216 / E111 + 3453830 / E111*2 - 169860000 / E111*3 + 321980000/ E111*4)/400000000-130))","v":0}]
[null,"TULÁČKOVÁ","Natálie","6.A","00:04:48",null,"Jilemnice  22.09.20",{"$f":"IF(E112=0,0,IF(E112>0,(100 - 313216 / E112 + 3453830 / E112*2 - 169860000 / E112*3 + 321980000/ E112*4)/400000000-130))","v":458.70083324999996}]
[null,"VOJTÍŠKOVÁ","Ella","6.A",null,null,null,{"$f":"IF(E113=0,0,IF(E113>0,(100 - 313216 / E113 + 3453830 / E113*2 - 169860000 / E113*3 + 321980000/ E113*4)/400000000-130))","v":0}]
[null,"DRUGÁČOVÁ","Kristinka","6.B",null,null,null,{"$f":"IF(E114=0,0,IF(E114>0,(100 - 313216 / E114 + 3453830 / E114*2 - 169860000 / E114*3 + 321980000/ E114*4)/400000000-130))","v":0}]
[null,"FAJSTAVROVÁ","Karolína","6.B","00:03:11",null,"Jilemnice  22.09.20",{"$f":"IF(E115=0,0,IF(E115>0,(100 - 313216 / E115 + 3453830 / E115*2 - 169860000 / E115*3 + 321980000/ E115*4)/400000000-130))","v":757.67455472120457}]
[null,"FAJSTAVROVÁ","Magdaléna","6.B","00:03:02",null,"Jilemnice  22.09.20",{"$f":"IF(E116=0,0,IF(E116>0,(100 - 313216 / E116 + 3453830 / E116*2 - 169860000 / E116*3 + 321980000/ E116*4)/400000000-130))","v":801.5705491730771}]
[null,"HLAVATÁ","Anna","6.B",null,null,null,{"$f":"IF(E117=0,0,IF(E117>0,(100 - 313216 / E117 + 3453830 / E117*2 - 169860000 / E117*3 + 321980000/ E117*4)/400000000-130))","v":0}]
[null,"JINDROVÁ","Barbora","6.B","00:04:04",null,"Jilemnice  22.09.20",{"$f":"IF(E118=0,0,IF(E118>0,(100 - 313216 / E118 + 3453830 / E118*2 - 169860000 / E118*3 + 321980000/ E118*4)/400000000-130))","v":564.85999985655735}]
[null,"MAŘASOVÁ","Vendula","6.B","00:04:11",null,"Jilemnice  22.09.20",{"$f":"IF(E119=0,0,IF(E119>0,(100 - 313216 / E119 + 3453830 / E119*2 - 169860000 / E119*3 + 321980000/ E119*4)/400000000-130))","v":545.48143413047808}]
[null,"PETŘÍČKOVÁ","Natálie","6.B",null,null,null,{"$f":"IF(E120=0,0,IF(E120>0,(100 - 313216 / E120 + 3453830 / E120*2 - 169860000 / E120*3 + 321980000/ E120*4)/400000000-130))","v":0}]
[null,"PETŘÍKOVÁ","Adéla","6.B",null,null,null,{"$f":"IF(E121=0,0,IF(E121>0,(100 - 313216 / E121 + 3453830 / E121*2 - 169860000 / E121*3 + 321980000/ E121*4)/400000000-130))","v":0}]
[null,"REGÁLOVÁ","Karolína","6.B","00:04:17",null,"Jilemnice  22.09.20",{"$f":"IF(E122=0,0,IF(E122>0,(100 - 313216 / E122 + 3453830 / E122*2 - 169860000 / E122*3 + 321980000/ E122*4)/400000000-130))","v":529.71143956517506}]
[null,"RIEGROVÁ","Magdaléna","6.B",null,null,null,{"$f":"IF(E123=0,0,IF(E123>0,(100 - 313216 / E123 + 3453830 / E123*2 - 169860000 / E123*3 + 321980000/ E123*4)/400000000-130))","v":0}]
[null,"RYBENSKÁ","Sabina","6.B","00:04:17",null,"Jilemnice  22.09.20",{"$f":"IF(E124=0,0,IF(E124>0,(100 - 313216 / E124 + 3453830 / E124*2 - 169860000 / E124*3 + 321980000/ E124*4)/400000000-130))","v":529.71143956517506}]
[null,"STEINEROVÁ","Barbora","6.B","00:04:18",null,"Jilemnice  22.09.20",{"$f":"IF(E125=0,0,IF(E125>0,(100 - 313216 / E125 + 3453830 / E125*2 - 169860000 / E125*3 + 321980000/ E125*4)/400000000-130))","v":527.15441848255807}]
[null,"TOMEŠOVÁ","Barbora","6.B","00:04:20",null,"Jilemnice  22.09.20",{"$f":"IF(E126=0,0,IF(E126>0,(100 - 313216 / E126 + 3453830 / E126*2 - 169860000 / E126*3 + 321980000/ E126*4)/400000000-130))","v":522.09938449615402}]
[null,"VOHNOUTOVÁ","Aneta","6.B","00:03:36",null,"Jilemnice  22.09.20",{"$f":"IF(E127=0,0,IF(E127>0,(100 - 313216 / E127 + 3453830 / E127*2 - 169860000 / E127*3 + 321980000/ E127*4)/400000000-130))","v":654.93444424999996}]
[null,"HAVLÍKOVÁ","Michaela","7.A",null,null,null,{"$f":"IF(E128=0,0,IF(E128>0,(100 - 313216 / E128 + 3453830 / E128*2 - 169860000 / E128*3 + 321980000/ E128*4)/400000000-130))","v":0},null,"00:04:12.990"]
[null,"HOLUBCOVÁ","Sára","7.A",null,null,null,{"$f":"IF(E129=0,0,IF(E129>0,(100 - 313216 / E129 + 3453830 / E129*2 - 169860000 / E129*3 + 321980000/ E129*4)/400000000-130))","v":0},null,"00:03:44.190"]
[null,"HONCŮ","Tereza","7.A",null,null,null,{"$f":"IF(E130=0,0,IF(E130>0,(100 - 313216 / E130 + 3453830 / E130*2 - 169860000 / E130*3 + 321980000/ E130*4)/400000000-130))","v":0},null,"00:04:00.600"]
[null,"HORÁČKOVÁ","Kateřina","7.A",null,null,null,{"$f":"IF(E131=0,0,IF(E131>0,(100 - 313216 / E131 + 3453830 / E131*2 - 169860000 / E131*3 + 321980000/ E131*4)/400000000-130))","v":0},null,"00:03:39.880"]
[null,"JOUDALOVÁ","Daniela","7.A",null,null,null,{"$f":"IF(E132=0,0,IF(E132>0,(100 - 313216 / E132 + 3453830 / E132*2 - 169860000 / E132*3 + 321980000/ E132*4)/400000000-130))","v":0}]
[null,"KLÍMOVÁ","Anna","7.A",null,null,null,{"$f":"IF(E133=0,0,IF(E133>0,(100 - 313216 / E133 + 3453830 / E133*2 - 169860000 / E133*3 + 321980000/ E133*4)/400000000-130))","v":0},null,"00:03:43.750"]
[null,"KOHOUTOVÁ","Veronika","7.A",null,null,null,{"$f":"IF(E134=0,0,IF(E134>0,(100 - 313216 / E134 + 3453830 / E134*2 - 169860000 / E134*3 + 321980000/ E134*4)/400000000-130))","v":0},null,"00:03:21.790"]
[null,"KOVÁŘOVÁ","Viktorie","7.A",null,null,null,{"$f":"IF(E135=0,0,IF(E135>0,(100 - 313216 / E135 + 3453830 / E135*2 - 169860000 / E135*3 + 321980000/ E135*4)/400000000-130))","v":0},null,"00:03:46.100"]
[null,"KYNČLOVÁ","Anna","7.A",null,null,null,{"$f":"IF(E136=0,0,IF(E136>0,(100 - 313216 / E136 + 3453830 / E136*2 - 169860000 / E136*3 + 321980000/ E136*4)/400000000-130))","v":0},null,"00:03:11.460"]
[null,"MATOUŠOVÁ","Tereza","7.A",null,null,null,{"$f":"IF(E137=0,0,IF(E137>0,(100 - 313216 / E137 + 3453830 / E137*2 - 169860000 / E137*3 + 321980000/ E137*4)/400000000-130))","v":0},null,"00:04:28.960"]
[null,"MAZÁNKOVÁ","Zuzana","7.A",null,null,null,{"$f":"IF(E138=0,0,IF(E138>0,(100 - 313216 / E138 + 3453830 / E138*2 - 169860000 / E138*3 + 321980000/ E138*4)/400000000-130))","v":0},null,"00:04:00.600"]
[null,"MORKESOVÁ","Sabrina","7.A",null,null,null,{"$f":"IF(E139=0,0,IF(E139>0,(100 - 313216 / E139 + 3453830 / E139*2 - 169860000 / E139*3 + 321980000/ E139*4)/400000000-130))","v":0},null,"00:03:22.340"]
[null,"POHOŘALÁ","Alžběta","7.A",null,null,null,{"$f":"IF(E140=0,0,IF(E140>0,(100 - 313216 / E140 + 3453830 / E140*2 - 169860000 / E140*3 + 321980000/ E140*4)/400000000-130))","v":0},null,"00:04:00.600"]
[null,"SCHOLZOVÁ","Laura","7.A",null,null,null,{"$f":"IF(E141=0,0,IF(E141>0,(100 - 313216 / E141 + 3453830 / E141*2 - 169860000 / E141*3 + 321980000/ E141*4)/400000000-130))","v":0},null,"00:04:18.780"]
[null,"VÁCLAVÍKOVÁ","Valerie","7.A",null,null,null,{"$f":"IF(E142=0,0,IF(E142>0,(100 - 313216 / E142 + 3453830 / E142*2 - 169860000 / E142*3 + 321980000/ E142*4)/400000000-130))","v":0},null,"00:03:49.500"]
[null,"ZAPADLOVÁ","Emma","7.A",null,null,null,{"$f":"IF(E143=0,0,IF(E143>0,(100 - 313216 / E143 + 3453830 / E143*2 - 169860000 / E143*3 + 321980000/ E143*4)/400000000-130))","v":0},null,"00:03:24.360"]
[null,"ŽIŠKOVÁ","Mia","7.A",null,null,null,{"$f":"IF(E144=0,0,IF(E144>0,(100 - 313216 / E144 + 3453830 / E144*2 - 169860000 / E144*3 + 321980000/ E144*4)/400000000-130))","v":0},null,"00:04:11.900"]
[null,"FARSKÁ","Tereza","7.B",null,null,null,{"$f":"IF(E145=0,0,IF(E145>0,(100 - 313216 / E145 + 3453830 / E145*2 - 169860000 / E145*3 + 321980000/ E145*4)/400000000-130))","v":0}]
[null,"FEIXOVÁ","Rozálie","7.B",null,null,null,{"$f":"IF(E146=0,0,IF(E146>0,(100 - 313216 / E146 + 3453830 / E146*2 - 169860000 / E146*3 + 321980000/ E146*4)/400000000-130))","v":0}]
[null,"FIŠEROVÁ","Michaela","7.B",null,null,null,{"$f":"IF(E147=0,0,IF(E147>0,(100 - 313216 / E147 + 3453830 / E147*2 - 169860000 / E147*3 + 321980000/ E147*4)/400000000-130))","v":0}]
[null,"HAVLÍČKOVÁ","Kristýna","7.B",null,null,null,{"$f":"IF(E148=0,0,IF(E148>0,(100 - 313216 / E148 + 3453830 / E148*2 - 169860000 / E148*3 + 321980000/ E148*4)/400000000-130))","v":0}]
[null,"JODASOVÁ","Nikola","7.B",null,null,null,{"$f":"IF(E149=0,0,IF(E149>0,(100 - 313216 / E149 + 3453830 / E149*2 - 169860000 / E149*3 + 321980000/ E149*4)/400000000-130))","v":0}]
[null,"KADAVÁ","Nikola","7.B",null,null,null,{"$f":"IF(E150=0,0,IF(E150>0,(100 - 313216 / E150 + 3453830 / E150*2 - 169860000 / E150*3 + 321980000/ E150*4)/400000000-130))","v":0}]
[null,"KRAFKOVÁ","Lucie","7.B",null,null,null,{"$f":"IF(E151=0,0,IF(E151>0,(100 - 313216 / E151 + 3453830 / E151*2 - 169860000 / E151*3 + 321980000/ E151*4)/400000000-130))","v":0}]
[null,"KŘIVINKOVÁ","Alžběta","7.B",null,null,null,{"$f":"IF(E152=0,0,IF(E152>0,(100 - 313216 / E152 + 3453830 / E152*2 - 169860000 / E152*3 + 321980000/ E152*4)/400000000-130))","v":0}]
[null,"LEŠÁKOVÁ","Lenka","7.B",null,null,null,{"$f":"IF(E153=0,0,IF(E153>0,(100 - 313216 / E153 + 3453830 / E153*2 - 169860000 / E153*3 + 321980000/ E153*4)/400000000-130))","v":0}]
[null,"NYKLÍČKOVÁ","Adéla","7.B",null,null,null,{"$f":"IF(E154=0,0,IF(E154>0,(100 - 313216 / E154 + 3453830 / E154*2 - 169860000 / E154*3 + 321980000/ E154*4)/400000000-130))","v":0}]
[null,"PLŮCHOVÁ","Petra","7.B",null,null,null,{"$f":"IF(E155=0,0,IF(E155>0,(100 - 313216 / E155 + 3453830 / E155*2 - 169860000 / E155*3 + 321980000/ E155*4)/400000000-130))","v":0}]
[null,"PODZIMKOVÁ","Eliška","7.B",null,null,null,{"$f":"IF(E156=0,0,IF(E156>0,(100 - 313216 / E156 + 3453830 / E156*2 - 169860000 / E156*3 + 321980000/ E156*4)/400000000-130))","v":0}]
[null,"RUTKAYOVÁ","Klára","7.B",null,null,null,{"$f":"IF(E157=0,0,IF(E157>0,(100 - 313216 / E157 + 3453830 / E157*2 - 169860000 / E157*3 + 321980000/ E157*4)/400000000-130))","v":0}]
[null,"SEIDLOVÁ","Zuzana","7.B",null,null,null,{"$f":"IF(E158=0,0,IF(E158>0,(100 - 313216 / E158 + 3453830 / E158*2 - 169860000 / E158*3 + 321980000/ E158*4)/400000000-130))","v":0}]
[null,"TOMÁŠOVÁ","Sára","7.B",null,null,null,{"$f":"IF(E159=0,0,IF(E159>0,(100 - 313216 / E159 + 3453830 / E159*2 - 169860000 / E159*3 + 321980000/ E159*4)/400000000-130))","v":0}]
[null,"VANCLOVÁ","Barbora","7.B",null,null,null,{"$f":"IF(E160=0,0,IF(E160>0,(100 - 313216 / E160 + 3453830 / E160*2 - 169860000 / E160*3 + 321980000/ E160*4)/400000000-130))","v":0}]
[null,"VOTOČKOVÁ","Veronika","7.B",null,null,null,{"$f":"IF(E161=0,0,IF(E161>0,(100 - 313216 / E161 + 3453830 / E161*2 - 169860000 / E161*3 + 321980000/ E161*4)/400000000-130))","v":0}]
[null,"HARTIGOVÁ","Anna","8.A",null,null,null,{"$f":"IF(E162=0,0,IF(E162>0,(100 - 313216 / E162 + 3453830 / E162*2 - 169860000 / E162*3 + 321980000/ E162*4)/400000000-130))","v":0},null,null,"00:04:39.330"]
[null,"HONCŮ","Rozálie","8.A",null,null,null,{"$f":"IF(E163=0,0,IF(E163>0,(100 - 313216 / E163 + 3453830 / E163*2 - 169860000 / E163*3 + 321980000/ E163*4)/400000000-130))","v":0},null,null,"00:04:50.840"]
[null,"CHALOUPSKÁ","Lucie","8.A",null,null,null,{"$f":"IF(E164=0,0,IF(E164>0,(100 - 313216 / E164 + 3453830 / E164*2 - 169860000 / E164*3 + 321980000/ E164*4)/400000000-130))","v":0},null,null,"00:04:20.270"]
[null,"KŘÍŽKOVÁ","Anna","8.A",null,null,null,{"$f":"IF(E165=0,0,IF(E165>0,(100 - 313216 / E165 + 3453830 / E165*2 - 169860000 / E165*3 + 321980000/ E165*4)/400000000-130))","v":0},null,null,"00:04:01.790"]
[null,"LUKEŠOVÁ","Kristýna","8.A",null,null,null,{"$f":"IF(E166=0,0,IF(E166>0,(100 - 313216 / E166 + 3453830 / E166*2 - 169860000 / E166*3 + 321980000/ E166*4)/400000000-130))","v":0},null,null,"00:04:33.830"]
[null,"MOTLÍKOVÁ","Eliška","8.A",null,null,null,{"$f":"IF(E167=0,0,IF(E167>0,(100 - 313216 / E167 + 3453830 / E167*2 - 169860000 / E167*3 + 321980000/ E167*4)/400000000-130))","v":0},null,null,"00:03:45.680"]
[null,"POHOŘELÁ","Amálie","8.A",null,null,null,{"$f":"IF(E168=0,0,IF(E168>0,(100 - 313216 / E168 + 3453830 / E168*2 - 169860000 / E168*3 + 321980000/ E168*4)/400000000-130))","v":0},null,null,"00:04:11.300"]
[null,"POLÁČKOVÁ","Natálie","8.A",null,null,null,{"$f":"IF(E169=0,0,IF(E169>0,(100 - 313216 / E169 + 3453830 / E169*2 - 169860000 / E169*3 + 321980000/ E169*4)/400000000-130))","v":0},null,null,"00:05:24.730"]
[null,"ŘEHOŘKOVÁ","Lucie","8.A",null,null,null,{"$f":"IF(E170=0,0,IF(E170>0,(100 - 313216 / E170 + 3453830 / E170*2 - 169860000 / E170*3 + 321980000/ E170*4)/400000000-130))","v":0},null,null,"00:04:53.870"]
[null,"SKÁLOVÁ","Alena","8.A",null,null,null,{"$f":"IF(E171=0,0,IF(E171>0,(100 - 313216 / E171 + 3453830 / E171*2 - 169860000 / E171*3 + 321980000/ E171*4)/400000000-130))","v":0},null,null,"00:05:00.980"]
[null,"VÁVROVÁ ","Aneta","8.A",null,null,null,{"$f":"IF(E172=0,0,IF(E172>0,(100 - 313216 / E172 + 3453830 / E172*2 - 169860000 / E172*3 + 321980000/ E172*4)/400000000-130))","v":0},null,null,"00:04:39.330"]
[null,"ZELINKOVÁ","Klára","8.A",null,null,null,{"$f":"IF(E173=0,0,IF(E173>0,(100 - 313216 / E173 + 3453830 / E173*2 - 169860000 / E173*3 + 321980000/ E173*4)/400000000-130))","v":0},null,null,"00:03:48.280"]
[null,"JUNGOVÁ ","Lucie","9.A",null,null,null,{"$f":"IF(E174=0,0,IF(E174>0,(100 - 313216 / E174 + 3453830 / E174*2 - 169860000 / E174*3 + 321980000/ E174*4)/400000000-130))","v":0},null,null,"00:03:14.620","00:03:00.880"]
[null,"KŘIVÁNKOVÁ ","Linda","9.A",null,null,null,{"$f":"IF(E175=0,0,IF(E175>0,(100 - 313216 / E175 + 3453830 / E175*2 - 169860000 / E175*3 + 321980000/ E175*4)/400000000-130))","v":0},null,null,"00:04:26.020","00:04:49.480"]
[null,"KUBÁTOVÁ","Lucie","9.A",null,null,null,{"$f":"IF(E176=0,0,IF(E176>0,(100 - 313216 / E176 + 3453830 / E176*2 - 169860000 / E176*3 + 321980000/ E176*4)/400000000-130))","v":0},null,null,"00:03:42.540","00:03:30.480"]
[null,"ŠIMŮNKOVÁ ","Nikola","9.A",null,null,null,{"$f":"IF(E177=0,0,IF(E177>0,(100 - 313216 / E177 + 3453830 / E177*2 - 169860000 / E177*3 + 321980000/ E177*4)/400000000-130))","v":0},null,null,"00:04:49.340","00:05:15.120"]
[null,"ŠMÍDOVÁ","Kristýna","9.A",null,null,null,{"$f":"IF(E178=0,0,IF(E178>0,(100 - 313216 / E178 + 3453830 / E178*2 - 169860000 / E178*3 + 321980000/ E178*4)/400000000-130))","v":0},null,null,"00:04:36.990","00:05:15.960"]
[null,"VOTOČKOVÁ ","Nikola","9.A",null,null,null,{"$f":"IF(E179=0,0,IF(E179>0,(100 - 313216 / E179 + 3453830 / E179*2 - 169860000 / E179*3 + 321980000/ E179*4)/400000000-130))","v":0},null,"00:02:49.970","00:03:12.760","00:03:22.360"]
[null,"VYHLASOVÁ","Lenka","9.A",null,null,null,{"$f":"IF(E180=0,0,IF(E180>0,(100 - 313216 / E180 + 3453830 / E180*2 - 169860000 / E180*3 + 321980000/ E180*4)/400000000-130))","v":0}]
[null,"BÖHMOVÁ","Diana","9.B",null,null,null,{"$f":"IF(E181=0,0,IF(E181>0,(100 - 313216 / E181 + 3453830 / E181*2 - 169860000 / E181*3 + 321980000/ E181*4)/400000000-130))","v":0},null,null,"00:03:47.200","00:03:34.140"]
[null,"HOUDOVÁ","Tereza","9.B",null,null,null,{"$f":"IF(E182=0,0,IF(E182>0,(100 - 313216 / E182 + 3453830 / E182*2 - 169860000 / E182*3 + 321980000/ E182*4)/400000000-130))","v":0},null,null,"00:03:19.550","00:04:28.890"]
[null,"JANÍKOVÁ","Kristýna","9.B",null,null,null,{"$f":"IF(E183=0,0,IF(E183>0,(100 - 313216 / E183 + 3453830 / E183*2 - 169860000 / E183*3 + 321980000/ E183*4)/400000000-130))","v":0},null,"00:03:01.370"]
[null,"KUŽELOVÁ","Ela","9.B",null,null,null,{"$f":"IF(E184=0,0,IF(E184>0,(100 - 313216 / E184 + 3453830 / E184*2 - 169860000 / E184*3 + 321980000/ E184*4)/400000000-130))","v":0},null,null,"00:03:50.290","00:04:38.890"]
[null,"MATERNOVÁ","Lucie","9.B",null,null,null,{"$f":"IF(E185=0,0,IF(E185>0,(100 - 313216 / E185 + 3453830 / E185*2 - 169860000 / E185*3 + 321980000/ E185*4)/400000000-130))","v":0},null,null,"00:04:10.680","00:04:25.040"]
[null,"OPOČENSKÁ","Matylda","9.B",null,null,null,{"$f":"IF(E186=0,0,IF(E186>0,(100 - 313216 / E186 + 3453830 / E186*2 - 169860000 / E186*3 + 321980000/ E186*4)/400000000-130))","v":0},null,null,null,"00:04:39.260"]
[null,"PIŠTOROVÁ","Karolína","9.B",null,null,null,{"$f":"IF(E187=0,0,IF(E187>0,(100 - 313216 / E187 + 3453830 / E187*2 - 169860000 / E187*3 + 321980000/ E187*4)/400000000-130))","v":0},null,null,"00:03:14.620","00:03:05.440"]
[null,"POKORNÝ","Anna","9.B",null,null,null,{"$f":"IF(E188=0,0,IF(E188>0,(100 - 313216 / E188 + 3453830 / E188*2 - 169860000 / E188*3 + 321980000/ E188*4)/400000000-130))","v":0},null,null,null,"00:05:14.170"]
[null,"SUCHÁNKOVÁ","Michaela","9.B",null,null,null,{"$f":"IF(E189=0,0,IF(E189>0,(100 - 313216 / E189 + 3453830 / E189*2 - 169860000 / E189*3 + 321980000/ E189*4)/400000000-130))","v":0},null,null,"00:05:09.220","00:04:42.460"]
[null,"ŠUBÍKOVÁ ","Štěpánka","9.B",null,null,null,{"$f":"IF(E190=0,0,IF(E190>0,(100 - 313216 / E190 + 3453830 / E190*2 - 169860000 / E190*3 + 321980000/ E190*4)/400000000-130))","v":0},null,null,"00:03:52.980","00:03:57.510"]
[null,"VANCLOVÁ","Pavlína","9.B",null,null,null,{"$f":"IF(E191=0,0,IF(E191>0,(100 - 313216 / E191 + 3453830 / E191*2 - 169860000 / E191*3 + 321980000/ E191*4)/400000000-130))","v":0},null,null,"00:04:12.460","00:05:07.360"]

{"sheet":"Ddál","index":10,"n_rows":191,"n_cols":12,"rows_kept":191,"cut":false,"hidden":false,"merged":[]}
[null,null,"VÝKONY  2020 - 2021",null,null,null,"DÁLKA","DĚVČATA  6. -  9.  ROČ."]
[null,null,null,null,null,null,null,null,null,null,"stav  k ",{"$f":"TODAY()","v":"2021-06-28"}]
[null,null,null,null,null,null,null,"   BODY",null,"   19 - 20   ","   18 - 19   ","   17 - 18   "]
[]
["1.",{"$f":"B101","v":"ERBENOVÁ"},{"$f":"C101","v":"Sára"},"6.A",253,null,"Jilemnice  23.09.21",570.39200000000005,null,0,0,0]
["2.",{"$f":"B102","v":"HOFMANOVÁ "},"Nicol","6.A",297,null,"Jilemnice  23.09.21",646.90800000000002,null,0,0,0]
["3.","HOLEŠOVSKÁ","Aneta","6.A",283,null,"Jilemnice  23.09.21",622.56200000000001,null,0,0,0]
["4.","HOLUBCOVÁ","Alena","6.A",290,null,"Jilemnice  23.09.21",634.73500000000001,null,0,0,0]
["5.","KOHOUTOVÁ","Anna","6.A",227,null,"Jilemnice  23.09.21",525.178,null,0,0,0]
["6.","KRAUSOVÁ","Anežka","6.A",0,null,0,0,null,0,0,0]
["7.","KUŽELOVÁ","Apoléna","6.A",274,null,"Jilemnice  23.09.21",606.91100000000006,null,0,0,0]
["8.","MORÁVKOVÁ","Lucie","6.A",220,null,"Jilemnice  23.09.21",513.005,null,0,0,0]
["9.","SKLENÁROVÁ","Eliška","6.A",0,null,0,0,null,0,0,0]
["10.","ŠTOLFOVÁ","Tereza","6.A",0,null,0,0,null,0,0,0]
["11.","ŠUBÍKOVÁ","Klára","6.A",310,null,"Jilemnice  23.09.21",669.51499999999999,null,0,0,0]
["12.","TULÁČKOVÁ","Natálie","6.A",257,null,"Jilemnice  23.09.21",577.34800000000007,null,0,0,0]
["13.","VOJTÍŠKOVÁ","Ella","6.A",304,null,"Jilemnice  23.09.21",659.08100000000002,null,0,0,0]
["14.","DRUGÁČOVÁ","Kristinka","6.B",307,null,"Jilemnice  23.09.21",664.298,null,0,0,0]
["15.","FAJSTAVROVÁ","Karolína","6.B",290,null,"Jilemnice  23.09.21",634.73500000000001,null,0,0,0]
["16.","FAJSTAVROVÁ","Magdaléna","6.B",0,null,0,0,null,0,0,0]
["17.","HLAVATÁ","Anna","6.B",291,null,"Jilemnice  23.09.21",636.47400000000005,null,0,0,0]
["18.",{"$f":"B118","v":"JINDROVÁ"},"Barbora","6.B",295,null,"Jilemnice  23.09.21",643.43000000000006,null,0,0,0]
["19.","MAŘASOVÁ","Vendula","6.B",240,null,"Jilemnice  23.09.21",547.78500000000008,null,0,0,0]
["20.","PETŘÍČKOVÁ","Natálie","6.B",313,null,"Jilemnice  23.09.21",674.73200000000008,null,0,0,0]
["21.","PETŘÍKOVÁ","Adéla","6.B",192,null,"Jilemnice  23.09.21",464.31300000000005,null,0,0,0]
["22.","REGÁLOVÁ","Karolína","6.B",291,null,"Jilemnice  23.09.21",636.47400000000005,null,0,0,0]
["23.","RIEGROVÁ","Magdaléna","6.B",0,null,0,0,null,0,0,0]
["24.","RYBENSKÁ","Sabina","6.B",260,null,"Jilemnice  23.09.21",582.56500000000005,null,0,0,0]
["25.","STEINEROVÁ","Barbora","6.B",288,null,"Jilemnice  23.09.21",631.25700000000006,null,0,0,0]
["26.","TOMEŠOVÁ","Barbora","6.B",218,null,"Jilemnice  23.09.21",509.52700000000004,null,0,0,0]
["27.","VOHNOUTOVÁ","Aneta","6.B",0,null,0,0,null,0,0,0]
["28.","HAVLÍKOVÁ","Michaela","7.A",290,null,"Jilemnice  11.06.21",634.73500000000001,null,237,0,0]
["29.","HOLUBCOVÁ","Sára","7.A",361,null,"Jilemnice  11.06.21",758.20400000000006,null,327,0,0]
["30.","HONCŮ","Tereza","7.A",341,null,"Jilemnice  11.06.21",723.42400000000009,null,280,0,0]
["31.","HORÁČKOVÁ","Kateřina","7.A",359,null,"Jilemnice  11.06.21",754.726,null,293,0,0]
["32.","JOUDALOVÁ","Daniela","7.A",0,null,0,0,null,0,0,0]
["33.","KLÍMOVÁ","Anna","7.A",0,null,0,0,null,277,0,0]
["34.",{"$f":"B134","v":"KOHOUTOVÁ"},"Veronika","7.A",374,null,"Jilemnice  11.06.21",780.81100000000004,null,323,0,0]
["35.","KOVÁŘOVÁ","Viktorie","7.A",340,null,"Jilemnice  11.06.21",721.68500000000006,null,279,0,0]
["36.","KYNČLOVÁ","Anna","7.A",366,null,"Jilemnice  11.06.21",766.899,null,292,0,0]
["37.","MATOUŠOVÁ","Tereza","7.A",350,null,"Jilemnice  11.06.21",739.07500000000005,null,260,0,0]
["38.","MAZÁNKOVÁ","Zuzana","7.A",312,null,"Jilemnice  11.06.21",672.99300000000005,null,241,0,0]
["39.","MORKESOVÁ","Sabrina","7.A",366,null,"Jilemnice  11.06.21",766.899,null,350,0,0]
["40.","POHOŘALÁ","Alžběta","7.A",347,null,"Jilemnice  11.06.21",733.85800000000006,null,323,0,0]
["41.","SCHOLZOVÁ","Laura","7.A",0,null,0,0,null,225,0,0]
["42.","VÁCLAVÍKOVÁ","Valerie","7.A",352,null,"Jilemnice  11.06.21",742.553,null,310,0,0]
["43.","ZAPADLOVÁ","Emma","7.A",344,null,"Jilemnice  11.06.21",728.64100000000008,null,0,0,0]
["44.","ŽIŠKOVÁ","Mia","7.A",342,null,"Jilemnice  11.06.21",725.16300000000001,null,0,0,0]
["45.","FARSKÁ","Tereza","7.B",0,null,0,0,null,0,0,0]
["46.","FEIXOVÁ","Rozálie","7.B",250,null,"Jilemnice  11.06.21",565.17500000000007,null,0,0,0]
["47.","FIŠEROVÁ","Michaela","7.B",243,null,"Jilemnice  11.06.21",553.00200000000007,null,0,0,0]
["48.","HAVLÍČKOVÁ","Kristýna","7.B",235,null,"Jilemnice  11.06.21",539.09,null,0,0,0]
["49.","JODASOVÁ","Nikola","7.B",325,null,"Jilemnice  11.06.21",695.6,null,319,0,0]
["50.",{"$f":"B150","v":"KADAVÁ"},"Nikola","7.B",0,null,0,0,null,0,0,0]
["51.","KRAFKOVÁ","Lucie","7.B",234,null,"Jilemnice  11.06.21",537.351,null,0,0,0]
["52.","KŘIVINKOVÁ","Alžběta","7.B",285,null,"Jilemnice  11.06.21",626.04000000000008,null,0,0,0]
["53.","LEŠÁKOVÁ","Lenka","7.B",0,null,0,0,null,0,0,0]
["54.","NYKLÍČKOVÁ","Adéla","7.B",325,null,"Jilemnice  11.06.21",695.6,null,0,0,0]
["55.","PLŮCHOVÁ","Petra","7.B",225,null,"Jilemnice  11.06.21",521.70000000000005,null,0,0,0]
["56.","PODZIMKOVÁ","Eliška","7.B",190,null,"Jilemnice  11.06.21",460.83500000000004,null,0,0,0]
["57.","RUTKAYOVÁ","Klára","7.B",0,null,0,0,null,0,0,0]
["58.","SEIDLOVÁ","Zuzana","7.B",284,null,"Jilemnice  11.06.21",624.30100000000004,null,0,0,0]
["59.","TOMÁŠOVÁ","Sára","7.B",197,null,"Jilemnice  11.06.21",473.00800000000004,null,0,0,0]
["60.","VANCLOVÁ","Barbora","7.B",278,null,"Jilemnice  11.06.21",613.86700000000008,null,0,0,0]
["61.","VOTOČKOVÁ","Veronika","7.B",255,null,"Jilemnice  11.06.21",573.87,null,0,0,0]
["62.","HARTIGOVÁ","Anna","8.A",337,null,"Jilemnice  23.09.21",716.46800000000007,null,0,0,0]
["63.","HONCŮ","Rozálie","8.A",391,null,"Jilemnice  23.09.21",810.37400000000002,null,0,0,0]
["64.","CHALOUPSKÁ","Lucie","8.A",380,null,"Jilemnice  23.09.21",791.245,null,320,0,0]
["65.","KŘÍŽKOVÁ","Anna","8.A",278,null,"Jilemnice  23.09.21",613.86700000000008,null,0,0,0]
["66.",{"$f":"B166","v":"LUKEŠOVÁ"},"Kristýna","8.A",341,null,"Jilemnice  23.09.21",723.42400000000009,null,0,0,0]
["67.","MOTLÍKOVÁ","Eliška","8.A",327,null,"Jilemnice  23.09.21",699.07800000000009,null,0,0,0]
["68.","POHOŘELÁ","Amálie","8.A",0,null,0,0,null,0,0,0]
["69.","POLÁČKOVÁ","Natálie","8.A",0,null,0,0,null,0,0,0]
["70.","ŘEHOŘKOVÁ","Lucie","8.A",353,null,"Jilemnice  23.09.21",744.29200000000003,null,0,0,0]
["71.","SKÁLOVÁ","Alena","8.A",312,null,"Jilemnice  23.09.21",672.99300000000005,null,0,0,0]
["72.","VÁVROVÁ ","Aneta","8.A",377,null,"Jilemnice  23.09.21",786.02800000000002,null,0,0,0]
["73.","ZELINKOVÁ","Klára","8.A",344,null,"Jilemnice  23.09.21",728.64100000000008,null,0,0,0]
["74.","JUNGOVÁ ","Lucie","9.A",0,null,0,0,null,0,0,318]
["75.","KŘIVÁNKOVÁ ","Linda","9.A",0,null,0,0,null,0,0,258]
["76.","KUBÁTOVÁ","Lucie","9.A",0,null,0,0,null,0,0,0]
["77.","ŠIMŮNKOVÁ ","Nikola","9.A",0,null,0,0,null,0,0,262]
["78.","ŠMÍDOVÁ","Kristýna","9.A",0,null,0,0,null,0,0,220]
["79.","VOTOČKOVÁ ","Nikola","9.A",0,null,0,0,null,0,0,350]
["80.","VYHLASOVÁ","Lenka","9.A",0,null,0,0,null,0,0,0]
["81.","BÖHMOVÁ","Diana","9.B",0,null,0,0,null,0,0,260]
["82.",{"$f":"B182","v":"HOUDOVÁ"},"Tereza","9.B",0,null,0,0,null,0,0,301]
["83.","JANÍKOVÁ","Kristýna","9.B",0,null,0,0,null,0,0,0]
["84.","KUŽELOVÁ","Ela","9.B",0,null,0,0,null,356,0,351]
["85.","MATERNOVÁ","Lucie","9.B",0,null,0,0,null,0,0,210]
["86.","OPOČENSKÁ","Matylda","9.B",0,null,0,0,null,0,0,293]
["87.","PIŠTOROVÁ","Karolína","9.B",0,null,0,0,null,0,0,337]
["88.","POKORNÝ","Anna","9.B",0,null,0,0,null,0,0,220]
["89.","SUCHÁNKOVÁ","Michaela","9.B",0,null,0,0,null,0,0,190]
["90.","ŠUBÍKOVÁ ","Štěpánka","9.B",0,null,0,0,null,0,0,280]
["91.","VANCLOVÁ","Pavlína","9.B",0,null,0,0,null,0,0,290]
[]
[]
[]
[]
[]
[null,"ERBENOVÁ","Sára","6.A",253,null,"Jilemnice  23.09.21",{"$f":"IF(E101=0,0,IF(E101>0,(E101+75)*1.739))","v":570.39200000000005}]
[null,"HOFMANOVÁ ","Nicol","6.A",297,null,"Jilemnice  23.09.21",{"$f":"IF(E102=0,0,IF(E102>0,(E102+75)*1.739))","v":646.90800000000002}]
[null,"HOLEŠOVSKÁ","Aneta","6.A",283,null,"Jilemnice  23.09.21",{"$f":"IF(E103=0,0,IF(E103>0,(E103+75)*1.739))","v":622.56200000000001}]
[null,"HOLUBCOVÁ","Alena","6.A",290,null,"Jilemnice  23.09.21",{"$f":"IF(E104=0,0,IF(E104>0,(E104+75)*1.739))","v":634.73500000000001}]
[null,"KOHOUTOVÁ","Anna","6.A",227,null,"Jilemnice  23.09.21",{"$f":"IF(E105=0,0,IF(E105>0,(E105+75)*1.739))","v":525.178}]
[null,"KRAUSOVÁ","Anežka","6.A",{"$f":"E202","v":0},null,null,{"$f":"IF(E106=0,0,IF(E106>0,(E106+75)*1.739))","v":0}]
[null,"KUŽELOVÁ","Apoléna","6.A",274,null,"Jilemnice  23.09.21",{"$f":"IF(E107=0,0,IF(E107>0,(E107+75)*1.739))","v":606.91100000000006}]
[null,"MORÁVKOVÁ","Lucie","6.A",220,null,"Jilemnice  23.09.21",{"$f":"IF(E108=0,0,IF(E108>0,(E108+75)*1.739))","v":513.005}]
[null,"SKLENÁROVÁ","Eliška","6.A",{"$f":"E205","v":0},null,null,{"$f":"IF(E109=0,0,IF(E109>0,(E109+75)*1.739))","v":0}]
[null,"ŠTOLFOVÁ","Tereza","6.A",{"$f":"E206","v":0},null,null,{"$f":"IF(E110=0,0,IF(E110>0,(E110+75)*1.739))","v":0}]
[null,"ŠUBÍKOVÁ","Klára","6.A",310,null,"Jilemnice  23.09.21",{"$f":"IF(E111=0,0,IF(E111>0,(E111+75)*1.739))","v":669.51499999999999}]
[null,"TULÁČKOVÁ","Natálie","6.A",257,null,"Jilemnice  23.09.21",{"$f":"IF(E112=0,0,IF(E112>0,(E112+75)*1.739))","v":577.34800000000007}]
[null,"VOJTÍŠKOVÁ","Ella","6.A",304,null,"Jilemnice  23.09.21",{"$f":"IF(E113=0,0,IF(E113>0,(E113+75)*1.739))","v":659.08100000000002}]
[null,"DRUGÁČOVÁ","Kristinka","6.B",307,null,"Jilemnice  23.09.21",{"$f":"IF(E114=0,0,IF(E114>0,(E114+75)*1.739))","v":664.298}]
[null,"FAJSTAVROVÁ","Karolína","6.B",290,null,"Jilemnice  23.09.21",{"$f":"IF(E115=0,0,IF(E115>0,(E115+75)*1.739))","v":634.73500000000001}]
[null,"FAJSTAVROVÁ","Magdaléna","6.B",{"$f":"E212","v":0},null,null,{"$f":"IF(E116=0,0,IF(E116>0,(E116+75)*1.739))","v":0}]
[null,"HLAVATÁ","Anna","6.B",291,null,"Jilemnice  23.09.21",{"$f":"IF(E117=0,0,IF(E117>0,(E117+75)*1.739))","v":636.47400000000005}]
[null,"JINDROVÁ","Barbora","6.B",295,null,"Jilemnice  23.09.21",{"$f":"IF(E118=0,0,IF(E118>0,(E118+75)*1.739))","v":643.43000000000006}]
[null,"MAŘASOVÁ","Vendula","6.B",240,null,"Jilemnice  23.09.21",{"$f":"IF(E119=0,0,IF(E119>0,(E119+75)*1.739))","v":547.78500000000008}]
[null,"PETŘÍČKOVÁ","Natálie","6.B",313,null,"Jilemnice  23.09.21",{"$f":"IF(E120=0,0,IF(E120>0,(E120+75)*1.739))","v":674.73200000000008}]
[null,"PETŘÍKOVÁ","Adéla","6.B",192,null,"Jilemnice  23.09.21",{"$f":"IF(E121=0,0,IF(E121>0,(E121+75)*1.739))","v":464.31300000000005}]
[null,"REGÁLOVÁ","Karolína","6.B",291,null,"Jilemnice  23.09.21",{"$f":"IF(E122=0,0,IF(E122>0,(E122+75)*1.739))","v":636.47400000000005}]
[null,"RIEGROVÁ","Magdaléna","6.B",{"$f":"E219","v":0},null,null,{"$f":"IF(E123=0,0,IF(E123>0,(E123+75)*1.739))","v":0}]
[null,"RYBENSKÁ","Sabina","6.B",260,null,"Jilemnice  23.09.21",{"$f":"IF(E124=0,0,IF(E124>0,(E124+75)*1.739))","v":582.56500000000005}]
[null,"STEINEROVÁ","Barbora","6.B",288,null,"Jilemnice  23.09.21",{"$f":"IF(E125=0,0,IF(E125>0,(E125+75)*1.739))","v":631.25700000000006}]
[null,"TOMEŠOVÁ","Barbora","6.B",218,null,"Jilemnice  23.09.21",{"$f":"IF(E126=0,0,IF(E126>0,(E126+75)*1.739))","v":509.52700000000004}]
[null,"VOHNOUTOVÁ","Aneta","6.B",{"$f":"E223","v":0},null,null,{"$f":"IF(E127=0,0,IF(E127>0,(E127+75)*1.739))","v":0}]
[null,"HAVLÍKOVÁ","Michaela","7.A",290,null,"Jilemnice  11.06.21",{"$f":"IF(E128=0,0,IF(E128>0,(E128+75)*1.739))","v":634.73500000000001},null,237]
[null,"HOLUBCOVÁ","Sára","7.A",361,null,"Jilemnice  11.06.21",{"$f":"IF(E129=0,0,IF(E129>0,(E129+75)*1.739))","v":758.20400000000006},null,327]
[null,"HONCŮ","Tereza","7.A",341,null,"Jilemnice  11.06.21",{"$f":"IF(E130=0,0,IF(E130>0,(E130+75)*1.739))","v":723.42400000000009},null,280]
[null,"HORÁČKOVÁ","Kateřina","7.A",359,null,"Jilemnice  11.06.21",{"$f":"IF(E131=0,0,IF(E131>0,(E131+75)*1.739))","v":754.726},null,293]
[null,"JOUDALOVÁ","Daniela","7.A",{"$f":"E228","v":0},null,null,{"$f":"IF(E132=0,0,IF(E132>0,(E132+75)*1.739))","v":0}]
[null,"KLÍMOVÁ","Anna","7.A",{"$f":"E229","v":0},null,null,{"$f":"IF(E133=0,0,IF(E133>0,(E133+75)*1.739))","v":0},null,277]
[null,"KOHOUTOVÁ","Veronika","7.A",374,null,"Jilemnice  11.06.21",{"$f":"IF(E134=0,0,IF(E134>0,(E134+75)*1.739))","v":780.81100000000004},null,323]
[null,"KOVÁŘOVÁ","Viktorie","7.A",340,null,"Jilemnice  11.06.21",{"$f":"IF(E135=0,0,IF(E135>0,(E135+75)*1.739))","v":721.68500000000006},null,279]
[null,"KYNČLOVÁ","Anna","7.A",366,null,"Jilemnice  11.06.21",{"$f":"IF(E136=0,0,IF(E136>0,(E136+75)*1.739))","v":766.899},null,292]
[null,"MATOUŠOVÁ","Tereza","7.A",350,null,"Jilemnice  11.06.21",{"$f":"IF(E137=0,0,IF(E137>0,(E137+75)*1.739))","v":739.07500000000005},null,260]
[null,"MAZÁNKOVÁ","Zuzana","7.A",312,null,"Jilemnice  11.06.21",{"$f":"IF(E138=0,0,IF(E138>0,(E138+75)*1.739))","v":672.99300000000005},null,241]
[null,"MORKESOVÁ","Sabrina","7.A",366,null,"Jilemnice  11.06.21",{"$f":"IF(E139=0,0,IF(E139>0,(E139+75)*1.739))","v":766.899},null,350]
[null,"POHOŘALÁ","Alžběta","7.A",347,null,"Jilemnice  11.06.21",{"$f":"IF(E140=0,0,IF(E140>0,(E140+75)*1.739))","v":733.85800000000006},null,323]
[null,"SCHOLZOVÁ","Laura","7.A",{"$f":"E237","v":0},null,null,{"$f":"IF(E141=0,0,IF(E141>0,(E141+75)*1.739))","v":0},null,225]
[null,"VÁCLAVÍKOVÁ","Valerie","7.A",352,null,"Jilemnice  11.06.21",{"$f":"IF(E142=0,0,IF(E142>0,(E142+75)*1.739))","v":742.553},null,310]
[null,"ZAPADLOVÁ","Emma","7.A",344,null,"Jilemnice  11.06.21",{"$f":"IF(E143=0,0,IF(E143>0,(E143+75)*1.739))","v":728.64100000000008}]
[null,"ŽIŠKOVÁ","Mia","7.A",342,null,"Jilemnice  11.06.21",{"$f":"IF(E144=0,0,IF(E144>0,(E144+75)*1.739))","v":725.16300000000001}]
[null,"FARSKÁ","Tereza","7.B",null,null,null,{"$f":"IF(E145=0,0,IF(E145>0,(E145+75)*1.739))","v":0}]
[null,"FEIXOVÁ","Rozálie","7.B",250,null,"Jilemnice  11.06.21",{"$f":"IF(E146=0,0,IF(E146>0,(E146+75)*1.739))","v":565.17500000000007}]
[null,"FIŠEROVÁ","Michaela","7.B",243,null,"Jilemnice  11.06.21",{"$f":"IF(E147=0,0,IF(E147>0,(E147+75)*1.739))","v":553.00200000000007}]
[null,"HAVLÍČKOVÁ","Kristýna","7.B",235,null,"Jilemnice  11.06.21",{"$f":"IF(E148=0,0,IF(E148>0,(E148+75)*1.739))","v":539.09}]
[null,"JODASOVÁ","Nikola","7.B",325,null,"Jilemnice  11.06.21",{"$f":"IF(E149=0,0,IF(E149>0,(E149+75)*1.739))","v":695.6},null,319]
[null,"KADAVÁ","Nikola","7.B",{"$f":"E246","v":0},null,null,{"$f":"IF(E150=0,0,IF(E150>0,(E150+75)*1.739))","v":0}]
[null,"KRAFKOVÁ","Lucie","7.B",234,null,"Jilemnice  11.06.21",{"$f":"IF(E151=0,0,IF(E151>0,(E151+75)*1.739))","v":537.351}]
[null,"KŘIVINKOVÁ","Alžběta","7.B",285,null,"Jilemnice  11.06.21",{"$f":"IF(E152=0,0,IF(E152>0,(E152+75)*1.739))","v":626.04000000000008}]
[null,"LEŠÁKOVÁ","Lenka","7.B",{"$f":"E249","v":0},null,null,{"$f":"IF(E153=0,0,IF(E153>0,(E153+75)*1.739))","v":0}]
[null,"NYKLÍČKOVÁ","Adéla","7.B",325,null,"Jilemnice  11.06.21",{"$f":"IF(E154=0,0,IF(E154>0,(E154+75)*1.739))","v":695.6}]
[null,"PLŮCHOVÁ","Petra","7.B",225,null,"Jilemnice  11.06.21",{"$f":"IF(E155=0,0,IF(E155>0,(E155+75)*1.739))","v":521.70000000000005}]
[null,"PODZIMKOVÁ","Eliška","7.B",190,null,"Jilemnice  11.06.21",{"$f":"IF(E156=0,0,IF(E156>0,(E156+75)*1.739))","v":460.83500000000004}]
[null,"RUTKAYOVÁ","Klára","7.B",{"$f":"E253","v":0},null,null,{"$f":"IF(E157=0,0,IF(E157>0,(E157+75)*1.739))","v":0}]
[null,"SEIDLOVÁ","Zuzana","7.B",284,null,"Jilemnice  11.06.21",{"$f":"IF(E158=0,0,IF(E158>0,(E158+75)*1.739))","v":624.30100000000004}]
[null,"TOMÁŠOVÁ","Sára","7.B",197,null,"Jilemnice  11.06.21",{"$f":"IF(E159=0,0,IF(E159>0,(E159+75)*1.739))","v":473.00800000000004}]
[null,"VANCLOVÁ","Barbora","7.B",278,null,"Jilemnice  11.06.21",{"$f":"IF(E160=0,0,IF(E160>0,(E160+75)*1.739))","v":613.86700000000008}]
[null,"VOTOČKOVÁ","Veronika","7.B",255,null,"Jilemnice  11.06.21",{"$f":"IF(E161=0,0,IF(E161>0,(E161+75)*1.739))","v":573.87}]
[null,"HARTIGOVÁ","Anna","8.A",337,null,"Jilemnice  23.09.21",{"$f":"IF(E162=0,0,IF(E162>0,(E162+75)*1.739))","v":716.46800000000007}]
[null,"HONCŮ","Rozálie","8.A",391,null,"Jilemnice  23.09.21",{"$f":"IF(E163=0,0,IF(E163>0,(E163+75)*1.739))","v":810.37400000000002}]
[null,"CHALOUPSKÁ","Lucie","8.A",380,null,"Jilemnice  23.09.21",{"$f":"IF(E164=0,0,IF(E164>0,(E164+75)*1.739))","v":791.245},null,320]
[null,"KŘÍŽKOVÁ","Anna","8.A",278,null,"Jilemnice  23.09.21",{"$f":"IF(E165=0,0,IF(E165>0,(E165+75)*1.739))","v":613.86700000000008}]
[null,"LUKEŠOVÁ","Kristýna","8.A",341,null,"Jilemnice  23.09.21",{"$f":"IF(E166=0,0,IF(E166>0,(E166+75)*1.739))","v":723.42400000000009}]
[null,"MOTLÍKOVÁ","Eliška","8.A",327,null,"Jilemnice  23.09.21",{"$f":"IF(E167=0,0,IF(E167>0,(E167+75)*1.739))","v":699.07800000000009}]
[null,"POHOŘELÁ","Amálie","8.A",{"$f":"E264","v":0},null,null,{"$f":"IF(E168=0,0,IF(E168>0,(E168+75)*1.739))","v":0}]
[null,"POLÁČKOVÁ","Natálie","8.A",{"$f":"E265","v":0},null,null,{"$f":"IF(E169=0,0,IF(E169>0,(E169+75)*1.739))","v":0}]
[null,"ŘEHOŘKOVÁ","Lucie","8.A",353,null,"Jilemnice  23.09.21",{"$f":"IF(E170=0,0,IF(E170>0,(E170+75)*1.739))","v":744.29200000000003}]
[null,"SKÁLOVÁ","Alena","8.A",312,null,"Jilemnice  23.09.21",{"$f":"IF(E171=0,0,IF(E171>0,(E171+75)*1.739))","v":672.99300000000005}]
[null,"VÁVROVÁ ","Aneta","8.A",377,null,"Jilemnice  23.09.21",{"$f":"IF(E172=0,0,IF(E172>0,(E172+75)*1.739))","v":786.02800000000002}]
[null,"ZELINKOVÁ","Klára","8.A",344,null,"Jilemnice  23.09.21",{"$f":"IF(E173=0,0,IF(E173>0,(E173+75)*1.739))","v":728.64100000000008}]
[null,"JUNGOVÁ ","Lucie","9.A",{"$f":"E270","v":0},null,null,{"$f":"IF(E174=0,0,IF(E174>0,(E174+75)*1.739))","v":0},null,null,null,318]
[null,"KŘIVÁNKOVÁ ","Linda","9.A",{"$f":"E271","v":0},null,null,{"$f":"IF(E175=0,0,IF(E175>0,(E175+75)*1.739))","v":0},null,null,null,258]
[null,"KUBÁTOVÁ","Lucie","9.A",{"$f":"E272","v":0},null,null,{"$f":"IF(E176=0,0,IF(E176>0,(E176+75)*1.739))","v":0}]
[null,"ŠIMŮNKOVÁ ","Nikola","9.A",{"$f":"E273","v":0},null,null,{"$f":"IF(E177=0,0,IF(E177>0,(E177+75)*1.739))","v":0},null,null,null,262]
[null,"ŠMÍDOVÁ","Kristýna","9.A",{"$f":"E274","v":0},null,null,{"$f":"IF(E178=0,0,IF(E178>0,(E178+75)*1.739))","v":0},null,null,null,220]
[null,"VOTOČKOVÁ ","Nikola","9.A",{"$f":"E275","v":0},null,null,{"$f":"IF(E179=0,0,IF(E179>0,(E179+75)*1.739))","v":0},null,null,null,350]
[null,"VYHLASOVÁ","Lenka","9.A",{"$f":"E276","v":0},null,null,{"$f":"IF(E180=0,0,IF(E180>0,(E180+75)*1.739))","v":0}]
[null,"BÖHMOVÁ","Diana","9.B",{"$f":"E277","v":0},null,null,{"$f":"IF(E181=0,0,IF(E181>0,(E181+75)*1.739))","v":0},null,null,null,260]
[null,"HOUDOVÁ","Tereza","9.B",{"$f":"E278","v":0},null,null,{"$f":"IF(E182=0,0,IF(E182>0,(E182+75)*1.739))","v":0},null,null,null,301]
[null,"JANÍKOVÁ","Kristýna","9.B",{"$f":"E279","v":0}]
[null,"KUŽELOVÁ","Ela","9.B",{"$f":"E280","v":0},null,null,{"$f":"IF(E184=0,0,IF(E184>0,(E184+75)*1.739))","v":0},null,356,null,351]
[null,"MATERNOVÁ","Lucie","9.B",{"$f":"E281","v":0},null,null,{"$f":"IF(E185=0,0,IF(E185>0,(E185+75)*1.739))","v":0},null,null,null,210]
[null,"OPOČENSKÁ","Matylda","9.B",{"$f":"E282","v":0},null,null,{"$f":"IF(E186=0,0,IF(E186>0,(E186+75)*1.739))","v":0},null,null,null,293]
[null,"PIŠTOROVÁ","Karolína","9.B",{"$f":"E283","v":0},null,null,{"$f":"IF(E187=0,0,IF(E187>0,(E187+75)*1.739))","v":0},null,null,null,337]
[null,"POKORNÝ","Anna","9.B",{"$f":"E284","v":0},null,null,{"$f":"IF(E188=0,0,IF(E188>0,(E188+75)*1.739))","v":0},null,null,null,220]
[null,"SUCHÁNKOVÁ","Michaela","9.B",{"$f":"E285","v":0},null,null,{"$f":"IF(E189=0,0,IF(E189>0,(E189+75)*1.739))","v":0},null,null,null,190]
[null,"ŠUBÍKOVÁ ","Štěpánka","9.B",{"$f":"E286","v":0},null,null,{"$f":"IF(E190=0,0,IF(E190>0,(E190+75)*1.739))","v":0},null,null,null,280]
[null,"VANCLOVÁ","Pavlína","9.B",{"$f":"E287","v":0},null,null,{"$f":"IF(E191=0,0,IF(E191>0,(E191+75)*1.739))","v":0},null,null,null,290]

{"sheet":"Dvýš","index":11,"n_rows":191,"n_cols":12,"rows_kept":191,"cut":false,"hidden":false,"merged":[]}
[null,null,"VÝKONY  2020 - 2021",null,null,null,"VÝŠKA","DĚVČATA  6. -  9.  ROČ."]
[null,null,null,null,null,null,null,null,null,null,"stav  k ",{"$f":"TODAY()","v":"2021-06-28"}]
[null,null,null,null,null,null,null,"   BODY",null,"   19 - 20   ","   18 - 19   ","   17 - 18   "]
[]
["1.",{"$f":"B101","v":"ERBENOVÁ"},{"$f":"C101","v":"Sára"},"6.A",0,null,0,0,null,0,0,0]
["2.",{"$f":"B102","v":"HOFMANOVÁ "},"Nicol","6.A",0,null,0,0,null,0,0,0]
["3.","HOLEŠOVSKÁ","Aneta","6.A",0,null,0,0,null,0,0,0]
["4.","HOLUBCOVÁ","Alena","6.A",0,null,0,0,null,0,0,0]
["5.","KOHOUTOVÁ","Anna","6.A",0,null,0,0,null,0,0,0]
["6.","KRAUSOVÁ","Anežka","6.A",0,null,0,0,null,0,0,0]
["7.","KUŽELOVÁ","Apoléna","6.A",0,null,0,0,null,0,0,0]
["8.","MORÁVKOVÁ","Lucie","6.A",0,null,0,0,null,0,0,0]
["9.","SKLENÁROVÁ","Eliška","6.A",0,null,0,0,null,0,0,0]
["10.","ŠTOLFOVÁ","Tereza","6.A",0,null,0,0,null,0,0,0]
["11.","ŠUBÍKOVÁ","Klára","6.A",0,null,0,0,null,0,0,0]
["12.","TULÁČKOVÁ","Natálie","6.A",0,null,0,0,null,0,0,0]
["13.","VOJTÍŠKOVÁ","Ella","6.A",0,null,0,0,null,0,0,0]
["14.","DRUGÁČOVÁ","Kristinka","6.B",0,null,0,0,null,0,0,0]
["15.","FAJSTAVROVÁ","Karolína","6.B",0,null,0,0,null,0,0,0]
["16.","FAJSTAVROVÁ","Magdaléna","6.B",0,null,0,0,null,0,0,0]
["17.","HLAVATÁ","Anna","6.B",0,null,0,0,null,0,0,0]
["18.",{"$f":"B118","v":"JINDROVÁ"},"Barbora","6.B",0,null,0,0,null,0,0,0]
["19.","MAŘASOVÁ","Vendula","6.B",0,null,0,0,null,0,0,0]
["20.","PETŘÍČKOVÁ","Natálie","6.B",0,null,0,0,null,0,0,0]
["21.","PETŘÍKOVÁ","Adéla","6.B",0,null,0,0,null,0,0,0]
["22.","REGÁLOVÁ","Karolína","6.B",0,null,0,0,null,0,0,0]
["23.","RIEGROVÁ","Magdaléna","6.B",0,null,0,0,null,0,0,0]
["24.","RYBENSKÁ","Sabina","6.B",0,null,0,0,null,0,0,0]
["25.","STEINEROVÁ","Barbora","6.B",0,null,0,0,null,0,0,0]
["26.","TOMEŠOVÁ","Barbora","6.B",0,null,0,0,null,0,0,0]
["27.","VOHNOUTOVÁ","Aneta","6.B",0,null,0,0,null,0,0,0]
["28.","HAVLÍKOVÁ","Michaela","7.A",0,null,0,0,null,0,0,0]
["29.","HOLUBCOVÁ","Sára","7.A",0,null,0,0,null,0,0,0]
["30.","HONCŮ","Tereza","7.A",0,null,0,0,null,0,0,0]
["31.","HORÁČKOVÁ","Kateřina","7.A",0,null,0,0,null,0,0,0]
["32.","JOUDALOVÁ","Daniela","7.A",0,null,0,0,null,0,0,0]
["33.","KLÍMOVÁ","Anna","7.A",0,null,0,0,null,0,0,0]
["34.",{"$f":"B134","v":"KOHOUTOVÁ"},"Veronika","7.A",0,null,0,0,null,0,0,0]
["35.","KOVÁŘOVÁ","Viktorie","7.A",0,null,0,0,null,0,0,0]
["36.","KYNČLOVÁ","Anna","7.A",0,null,0,0,null,0,0,0]
["37.","MATOUŠOVÁ","Tereza","7.A",0,null,0,0,null,0,0,0]
["38.","MAZÁNKOVÁ","Zuzana","7.A",0,null,0,0,null,0,0,0]
["39.","MORKESOVÁ","Sabrina","7.A",0,null,0,0,null,0,0,0]
["40.","POHOŘALÁ","Alžběta","7.A",0,null,0,0,null,0,0,0]
["41.","SCHOLZOVÁ","Laura","7.A",0,null,0,0,null,0,0,0]
["42.","VÁCLAVÍKOVÁ","Valerie","7.A",0,null,0,0,null,0,0,0]
["43.","ZAPADLOVÁ","Emma","7.A",0,null,0,0,null,0,0,0]
["44.","ŽIŠKOVÁ","Mia","7.A",0,null,0,0,null,0,0,0]
["45.","FARSKÁ","Tereza","7.B",0,null,0,0,null,0,0,0]
["46.","FEIXOVÁ","Rozálie","7.B",0,null,0,0,null,0,0,0]
["47.","FIŠEROVÁ","Michaela","7.B",89,null,"Jilemnice  04.06.21",570.5,null,0,0,0]
["48.","HAVLÍČKOVÁ","Kristýna","7.B",0,null,0,0,null,0,0,0]
["49.","JODASOVÁ","Nikola","7.B",0,null,0,0,null,0,0,0]
["50.",{"$f":"B150","v":"KADAVÁ"},"Nikola","7.B",0,null,0,0,null,0,0,0]
["51.","KRAFKOVÁ","Lucie","7.B",0,null,0,0,null,0,0,0]
["52.","KŘIVINKOVÁ","Alžběta","7.B",0,null,0,0,null,0,0,0]
["53.","LEŠÁKOVÁ","Lenka","7.B",0,null,0,0,null,0,0,0]
["54.","NYKLÍČKOVÁ","Adéla","7.B",104,null,"Jilemnice  04.06.21",668,null,0,0,0]
["55.","PLŮCHOVÁ","Petra","7.B",104,null,"Jilemnice  04.06.21",668,null,0,0,0]
["56.","PODZIMKOVÁ","Eliška","7.B",93,null,"Jilemnice  04.06.21",596.5,null,0,0,0]
["57.","RUTKAYOVÁ","Klára","7.B",0,null,0,0,null,0,0,0]
["58.","SEIDLOVÁ","Zuzana","7.B",99,null,"Jilemnice  04.06.21",635.5,null,0,0,0]
["59.","TOMÁŠOVÁ","Sára","7.B",0,null,0,0,null,0,0,0]
["60.","VANCLOVÁ","Barbora","7.B",99,null,"Jilemnice  04.06.21",635.5,null,0,0,0]
["61.","VOTOČKOVÁ","Veronika","7.B",0,null,0,0,null,0,0,0]
["62.","HARTIGOVÁ","Anna","8.A",0,null,0,0,null,0,0,0]
["63.","HONCŮ","Rozálie","8.A",0,null,0,0,null,110,0,0]
["64.","CHALOUPSKÁ","Lucie","8.A",0,null,0,0,null,0,0,0]
["65.","KŘÍŽKOVÁ","Anna","8.A",0,null,0,0,null,0,0,0]
["66.",{"$f":"B166","v":"LUKEŠOVÁ"},"Kristýna","8.A",0,null,0,0,null,0,0,0]
["67.","MOTLÍKOVÁ","Eliška","8.A",0,null,0,0,null,0,0,0]
["68.","POHOŘELÁ","Amálie","8.A",0,null,0,0,null,0,0,0]
["69.","POLÁČKOVÁ","Natálie","8.A",0,null,0,0,null,0,0,0]
["70.","ŘEHOŘKOVÁ","Lucie","8.A",0,null,0,0,null,0,0,0]
["71.","SKÁLOVÁ","Alena","8.A",0,null,0,0,null,0,0,0]
["72.","VÁVROVÁ ","Aneta","8.A",0,null,0,0,null,0,0,0]
["73.","ZELINKOVÁ","Klára","8.A",0,null,0,0,null,105,0,0]
["74.","JUNGOVÁ ","Lucie","9.A",0,null,0,0,null,0,125,115]
["75.","KŘIVÁNKOVÁ ","Linda","9.A",0,null,0,0,null,0,93,95]
["76.","KUBÁTOVÁ","Lucie","9.A",0,null,0,0,null,0,100,105]
["77.","ŠIMŮNKOVÁ ","Nikola","9.A",0,null,0,0,null,0,100,100]
["78.","ŠMÍDOVÁ","Kristýna","9.A",0,null,0,0,null,0,0,0]
["79.","VOTOČKOVÁ ","Nikola","9.A",0,null,0,0,null,115,115,105]
["80.","VYHLASOVÁ","Lenka","9.A",0,null,0,0,null,0,93,95]
["81.","BÖHMOVÁ","Diana","9.B",0,null,0,0,null,0,93,95]
["82.",{"$f":"B182","v":"HOUDOVÁ"},"Tereza","9.B",0,null,0,0,null,0,116,110]
["83.","JANÍKOVÁ","Kristýna","9.B",0,null,0,0,null,130,0,0]
["84.","KUŽELOVÁ","Ela","9.B",0,null,0,0,null,0,107,105]
["85.","MATERNOVÁ","Lucie","9.B",0,null,0,0,null,0,93,80]
["86.","OPOČENSKÁ","Matylda","9.B",0,null,0,0,null,0,0,0]
["87.","PIŠTOROVÁ","Karolína","9.B",0,null,0,0,null,0,115,95]
["88.","POKORNÝ","Anna","9.B",0,null,0,0,null,0,93,80]
["89.","SUCHÁNKOVÁ","Michaela","9.B",0,null,0,0,null,0,93,80]
["90.","ŠUBÍKOVÁ ","Štěpánka","9.B",0,null,0,0,null,0,100,105]
["91.","VANCLOVÁ","Pavlína","9.B",0,null,0,0,null,0,0,105]
[]
[]
[]
[]
[]
[null,"ERBENOVÁ","Sára","6.A",null,null,null,{"$f":"IF(E101=0,0,(IF(E101>0,E101*5*1.3-8)))","v":0}]
[null,"HOFMANOVÁ ","Nicol","6.A",null,null,null,{"$f":"IF(E102=0,0,(IF(E102>0,E102*5*1.3-8)))","v":0}]
[null,"HOLEŠOVSKÁ","Aneta","6.A",null,null,null,{"$f":"IF(E103=0,0,(IF(E103>0,E103*5*1.3-8)))","v":0}]
[null,"HOLUBCOVÁ","Alena","6.A",null,null,null,{"$f":"IF(E104=0,0,(IF(E104>0,E104*5*1.3-8)))","v":0}]
[null,"KOHOUTOVÁ","Anna","6.A",null,null,null,{"$f":"IF(E105=0,0,(IF(E105>0,E105*5*1.3-8)))","v":0}]
[null,"KRAUSOVÁ","Anežka","6.A",null,null,null,{"$f":"IF(E106=0,0,(IF(E106>0,E106*5*1.3-8)))","v":0}]
[null,"KUŽELOVÁ","Apoléna","6.A",null,null,null,{"$f":"IF(E107=0,0,(IF(E107>0,E107*5*1.3-8)))","v":0}]
[null,"MORÁVKOVÁ","Lucie","6.A",null,null,null,{"$f":"IF(E108=0,0,(IF(E108>0,E108*5*1.3-8)))","v":0}]
[null,"SKLENÁROVÁ","Eliška","6.A",null,null,null,{"$f":"IF(E109=0,0,(IF(E109>0,E109*5*1.3-8)))","v":0}]
[null,"ŠTOLFOVÁ","Tereza","6.A",null,null,null,{"$f":"IF(E110=0,0,(IF(E110>0,E110*5*1.3-8)))","v":0}]
[null,"ŠUBÍKOVÁ","Klára","6.A",null,null,null,{"$f":"IF(E111=0,0,(IF(E111>0,E111*5*1.3-8)))","v":0}]
[null,"TULÁČKOVÁ","Natálie","6.A",null,null,null,{"$f":"IF(E112=0,0,(IF(E112>0,E112*5*1.3-8)))","v":0}]
[null,"VOJTÍŠKOVÁ","Ella","6.A",null,null,null,{"$f":"IF(E113=0,0,(IF(E113>0,E113*5*1.3-8)))","v":0}]
[null,"DRUGÁČOVÁ","Kristinka","6.B",null,null,null,{"$f":"IF(E114=0,0,(IF(E114>0,E114*5*1.3-8)))","v":0}]
[null,"FAJSTAVROVÁ","Karolína","6.B",null,null,null,{"$f":"IF(E115=0,0,(IF(E115>0,E115*5*1.3-8)))","v":0}]
[null,"FAJSTAVROVÁ","Magdaléna","6.B",null,null,null,{"$f":"IF(E116=0,0,(IF(E116>0,E116*5*1.3-8)))","v":0}]
[null,"HLAVATÁ","Anna","6.B",null,null,null,{"$f":"IF(E117=0,0,(IF(E117>0,E117*5*1.3-8)))","v":0}]
[null,"JINDROVÁ","Barbora","6.B",null,null,null,{"$f":"IF(E118=0,0,(IF(E118>0,E118*5*1.3-8)))","v":0}]
[null,"MAŘASOVÁ","Vendula","6.B",null,null,null,{"$f":"IF(E119=0,0,(IF(E119>0,E119*5*1.3-8)))","v":0}]
[null,"PETŘÍČKOVÁ","Natálie","6.B",null,null,null,{"$f":"IF(E120=0,0,(IF(E120>0,E120*5*1.3-8)))","v":0}]
[null,"PETŘÍKOVÁ","Adéla","6.B",null,null,null,{"$f":"IF(E121=0,0,(IF(E121>0,E121*5*1.3-8)))","v":0}]
[null,"REGÁLOVÁ","Karolína","6.B",null,null,null,{"$f":"IF(E122=0,0,(IF(E122>0,E122*5*1.3-8)))","v":0}]
[null,"RIEGROVÁ","Magdaléna","6.B",null,null,null,{"$f":"IF(E123=0,0,(IF(E123>0,E123*5*1.3-8)))","v":0}]
[null,"RYBENSKÁ","Sabina","6.B",null,null,null,{"$f":"IF(E124=0,0,(IF(E124>0,E124*5*1.3-8)))","v":0}]
[null,"STEINEROVÁ","Barbora","6.B",null,null,null,{"$f":"IF(E125=0,0,(IF(E125>0,E125*5*1.3-8)))","v":0}]
[null,"TOMEŠOVÁ","Barbora","6.B",null,null,null,{"$f":"IF(E126=0,0,(IF(E126>0,E126*5*1.3-8)))","v":0}]
[null,"VOHNOUTOVÁ","Aneta","6.B",null,null,null,{"$f":"IF(E127=0,0,(IF(E127>0,E127*5*1.3-8)))","v":0}]
[null,"HAVLÍKOVÁ","Michaela","7.A",null,null,null,{"$f":"IF(E128=0,0,(IF(E128>0,E128*5*1.3-8)))","v":0}]
[null,"HOLUBCOVÁ","Sára","7.A",null,null,null,{"$f":"IF(E129=0,0,(IF(E129>0,E129*5*1.3-8)))","v":0}]
[null,"HONCŮ","Tereza","7.A",null,null,null,{"$f":"IF(E130=0,0,(IF(E130>0,E130*5*1.3-8)))","v":0}]
[null,"HORÁČKOVÁ","Kateřina","7.A",null,null,null,{"$f":"IF(E131=0,0,(IF(E131>0,E131*5*1.3-8)))","v":0}]
[null,"JOUDALOVÁ","Daniela","7.A",null,null,null,{"$f":"IF(E132=0,0,(IF(E132>0,E132*5*1.3-8)))","v":0}]
[null,"KLÍMOVÁ","Anna","7.A",null,null,null,{"$f":"IF(E133=0,0,(IF(E133>0,E133*5*1.3-8)))","v":0}]
[null,"KOHOUTOVÁ","Veronika","7.A",null,null,null,{"$f":"IF(E134=0,0,(IF(E134>0,E134*5*1.3-8)))","v":0}]
[null,"KOVÁŘOVÁ","Viktorie","7.A",null,null,null,{"$f":"IF(E135=0,0,(IF(E135>0,E135*5*1.3-8)))","v":0}]
[null,"KYNČLOVÁ","Anna","7.A",null,null,null,{"$f":"IF(E136=0,0,(IF(E136>0,E136*5*1.3-8)))","v":0}]
[null,"MATOUŠOVÁ","Tereza","7.A",null,null,null,{"$f":"IF(E137=0,0,(IF(E137>0,E137*5*1.3-8)))","v":0}]
[null,"MAZÁNKOVÁ","Zuzana","7.A",null,null,null,{"$f":"IF(E138=0,0,(IF(E138>0,E138*5*1.3-8)))","v":0}]
[null,"MORKESOVÁ","Sabrina","7.A",null,null,null,{"$f":"IF(E139=0,0,(IF(E139>0,E139*5*1.3-8)))","v":0}]
[null,"POHOŘALÁ","Alžběta","7.A",null,null,null,{"$f":"IF(E140=0,0,(IF(E140>0,E140*5*1.3-8)))","v":0}]
[null,"SCHOLZOVÁ","Laura","7.A",null,null,null,{"$f":"IF(E141=0,0,(IF(E141>0,E141*5*1.3-8)))","v":0}]
[null,"VÁCLAVÍKOVÁ","Valerie","7.A",null,null,null,{"$f":"IF(E142=0,0,(IF(E142>0,E142*5*1.3-8)))","v":0}]
[null,"ZAPADLOVÁ","Emma","7.A",null,null,null,{"$f":"IF(E143=0,0,(IF(E143>0,E143*5*1.3-8)))","v":0}]
[null,"ŽIŠKOVÁ","Mia","7.A",null,null,null,{"$f":"IF(E144=0,0,(IF(E144>0,E144*5*1.3-8)))","v":0}]
[null,"FARSKÁ","Tereza","7.B",null,null,null,{"$f":"IF(E145=0,0,(IF(E145>0,E145*5*1.3-8)))","v":0}]
[null,"FEIXOVÁ","Rozálie","7.B",null,null,null,{"$f":"IF(E146=0,0,(IF(E146>0,E146*5*1.3-8)))","v":0}]
[null,"FIŠEROVÁ","Michaela","7.B",89,null,"Jilemnice  04.06.21",{"$f":"IF(E147=0,0,(IF(E147>0,E147*5*1.3-8)))","v":570.5}]
[null,"HAVLÍČKOVÁ","Kristýna","7.B",null,null,null,{"$f":"IF(E148=0,0,(IF(E148>0,E148*5*1.3-8)))","v":0}]
[null,"JODASOVÁ","Nikola","7.B",null,null,null,{"$f":"IF(E149=0,0,(IF(E149>0,E149*5*1.3-8)))","v":0}]
[null,"KADAVÁ","Nikola","7.B",null,null,null,{"$f":"IF(E150=0,0,(IF(E150>0,E150*5*1.3-8)))","v":0}]
[null,"KRAFKOVÁ","Lucie","7.B",null,null,null,{"$f":"IF(E151=0,0,(IF(E151>0,E151*5*1.3-8)))","v":0}]
[null,"KŘIVINKOVÁ","Alžběta","7.B",null,null,null,{"$f":"IF(E152=0,0,(IF(E152>0,E152*5*1.3-8)))","v":0}]
[null,"LEŠÁKOVÁ","Lenka","7.B",null,null,null,{"$f":"IF(E153=0,0,(IF(E153>0,E153*5*1.3-8)))","v":0}]
[null,"NYKLÍČKOVÁ","Adéla","7.B",104,null,"Jilemnice  04.06.21",{"$f":"IF(E154=0,0,(IF(E154>0,E154*5*1.3-8)))","v":668}]
[null,"PLŮCHOVÁ","Petra","7.B",104,null,"Jilemnice  04.06.21",{"$f":"IF(E155=0,0,(IF(E155>0,E155*5*1.3-8)))","v":668}]
[null,"PODZIMKOVÁ","Eliška","7.B",93,null,"Jilemnice  04.06.21",{"$f":"IF(E156=0,0,(IF(E156>0,E156*5*1.3-8)))","v":596.5}]
[null,"RUTKAYOVÁ","Klára","7.B",null,null,null,{"$f":"IF(E157=0,0,(IF(E157>0,E157*5*1.3-8)))","v":0}]
[null,"SEIDLOVÁ","Zuzana","7.B",99,null,"Jilemnice  04.06.21",{"$f":"IF(E158=0,0,(IF(E158>0,E158*5*1.3-8)))","v":635.5}]
[null,"TOMÁŠOVÁ","Sára","7.B",null,null,null,{"$f":"IF(E159=0,0,(IF(E159>0,E159*5*1.3-8)))","v":0}]
[null,"VANCLOVÁ","Barbora","7.B",99,null,"Jilemnice  04.06.21",{"$f":"IF(E160=0,0,(IF(E160>0,E160*5*1.3-8)))","v":635.5}]
[null,"VOTOČKOVÁ","Veronika","7.B",null,null,null,{"$f":"IF(E161=0,0,(IF(E161>0,E161*5*1.3-8)))","v":0}]
[null,"HARTIGOVÁ","Anna","8.A",null,null,null,{"$f":"IF(E162=0,0,(IF(E162>0,E162*5*1.3-8)))","v":0}]
[null,"HONCŮ","Rozálie","8.A",null,null,null,{"$f":"IF(E163=0,0,(IF(E163>0,E163*5*1.3-8)))","v":0},null,110]
[null,"CHALOUPSKÁ","Lucie","8.A",null,null,null,{"$f":"IF(E164=0,0,(IF(E164>0,E164*5*1.3-8)))","v":0}]
[null,"KŘÍŽKOVÁ","Anna","8.A",null,null,null,{"$f":"IF(E165=0,0,(IF(E165>0,E165*5*1.3-8)))","v":0}]
[null,"LUKEŠOVÁ","Kristýna","8.A",null,null,null,{"$f":"IF(E166=0,0,(IF(E166>0,E166*5*1.3-8)))","v":0}]
[null,"MOTLÍKOVÁ","Eliška","8.A",null,null,null,{"$f":"IF(E167=0,0,(IF(E167>0,E167*5*1.3-8)))","v":0}]
[null,"POHOŘELÁ","Amálie","8.A",null,null,null,{"$f":"IF(E168=0,0,(IF(E168>0,E168*5*1.3-8)))","v":0}]
[null,"POLÁČKOVÁ","Natálie","8.A",null,null,null,{"$f":"IF(E169=0,0,(IF(E169>0,E169*5*1.3-8)))","v":0}]
[null,"ŘEHOŘKOVÁ","Lucie","8.A",null,null,null,{"$f":"IF(E170=0,0,(IF(E170>0,E170*5*1.3-8)))","v":0}]
[null,"SKÁLOVÁ","Alena","8.A",null,null,null,{"$f":"IF(E171=0,0,(IF(E171>0,E171*5*1.3-8)))","v":0}]
[null,"VÁVROVÁ ","Aneta","8.A",null,null,null,{"$f":"IF(E172=0,0,(IF(E172>0,E172*5*1.3-8)))","v":0}]
[null,"ZELINKOVÁ","Klára","8.A",null,null,null,{"$f":"IF(E173=0,0,(IF(E173>0,E173*5*1.3-8)))","v":0},null,105]
[null,"JUNGOVÁ ","Lucie","9.A",null,null,null,{"$f":"IF(E174=0,0,(IF(E174>0,E174*5*1.3-8)))","v":0},null,null,125,115]
[null,"KŘIVÁNKOVÁ ","Linda","9.A",null,null,null,{"$f":"IF(E175=0,0,(IF(E175>0,E175*5*1.3-8)))","v":0},null,null,93,95]
[null,"KUBÁTOVÁ","Lucie","9.A",null,null,null,{"$f":"IF(E176=0,0,(IF(E176>0,E176*5*1.3-8)))","v":0},null,null,100,105]
[null,"ŠIMŮNKOVÁ ","Nikola","9.A",null,null,null,{"$f":"IF(E177=0,0,(IF(E177>0,E177*5*1.3-8)))","v":0},null,null,100,100]
[null,"ŠMÍDOVÁ","Kristýna","9.A",null,null,null,{"$f":"IF(E178=0,0,(IF(E178>0,E178*5*1.3-8)))","v":0}]
[null,"VOTOČKOVÁ ","Nikola","9.A",null,null,null,{"$f":"IF(E179=0,0,(IF(E179>0,E179*5*1.3-8)))","v":0},null,115,115,105]
[null,"VYHLASOVÁ","Lenka","9.A",null,null,null,{"$f":"IF(E180=0,0,(IF(E180>0,E180*5*1.3-8)))","v":0},null,null,93,95]
[null,"BÖHMOVÁ","Diana","9.B",null,null,null,{"$f":"IF(E181=0,0,(IF(E181>0,E181*5*1.3-8)))","v":0},null,null,93,95]
[null,"HOUDOVÁ","Tereza","9.B",null,null,null,{"$f":"IF(E182=0,0,(IF(E182>0,E182*5*1.3-8)))","v":0},null,null,116,110]
[null,"JANÍKOVÁ","Kristýna","9.B",null,null,null,{"$f":"IF(E183=0,0,(IF(E183>0,E183*5*1.3-8)))","v":0},null,130]
[null,"KUŽELOVÁ","Ela","9.B",null,null,null,{"$f":"IF(E184=0,0,(IF(E184>0,E184*5*1.3-8)))","v":0},null,null,107,105]
[null,"MATERNOVÁ","Lucie","9.B",null,null,null,{"$f":"IF(E185=0,0,(IF(E185>0,E185*5*1.3-8)))","v":0},null,null,93,80]
[null,"OPOČENSKÁ","Matylda","9.B",null,null,null,{"$f":"IF(E186=0,0,(IF(E186>0,E186*5*1.3-8)))","v":0}]
[null,"PIŠTOROVÁ","Karolína","9.B",null,null,null,{"$f":"IF(E187=0,0,(IF(E187>0,E187*5*1.3-8)))","v":0},null,null,115,95]
[null,"POKORNÝ","Anna","9.B",null,null,null,{"$f":"IF(E188=0,0,(IF(E188>0,E188*5*1.3-8)))","v":0},null,null,93,80]
[null,"SUCHÁNKOVÁ","Michaela","9.B",null,null,null,{"$f":"IF(E189=0,0,(IF(E189>0,E189*5*1.3-8)))","v":0},null,null,93,80]
[null,"ŠUBÍKOVÁ ","Štěpánka","9.B",null,null,null,{"$f":"IF(E190=0,0,(IF(E190>0,E190*5*1.3-8)))","v":0},null,null,100,105]
[null,"VANCLOVÁ","Pavlína","9.B",null,null,null,{"$f":"IF(E191=0,0,(IF(E191>0,E191*5*1.3-8)))","v":0},null,null,null,105]

{"sheet":"Dmíč","index":12,"n_rows":191,"n_cols":12,"rows_kept":191,"cut":false,"hidden":false,"merged":[]}
[null,null,"VÝKONY  2020 - 2021",null,null,null,"MÍČEK","DĚVČATA  6. -  9.  ROČ."]
[null,null,null,null,null,null,null,null,null,null,"stav  k ",{"$f":"TODAY()","v":44375}]
[null,null,null,null,null,null,null,"   BODY",null,"   19 - 20   ","   18 - 19   ","   17 - 18   "]
[]
["1.",{"$f":"B101","v":"ERBENOVÁ"},{"$f":"C101","v":"Sára"},"6.A",17.5,null,"Jilemnice  07.06.21",321.5,null,0,0,0]
["2.",{"$f":"B102","v":"HOFMANOVÁ "},"Nicol","6.A",15.5,null,"Jilemnice  07.06.21",285.10000000000002,null,0,0,0]
["3.","HOLEŠOVSKÁ","Aneta","6.A",22.6,null,"Jilemnice  22.09.20",414.32,null,0,0,0]
["4.","HOLUBCOVÁ","Alena","6.A",29,null,"Jilemnice  07.06.21",530.80000000000007,null,0,0,0]
["5.","KOHOUTOVÁ","Anna","6.A",13,null,"Jilemnice  07.06.21",239.6,null,0,0,0]
["6.","KRAUSOVÁ","Anežka","6.A",0,null,0,0,null,0,0,0]
["7.","KUŽELOVÁ","Apoléna","6.A",18.399999999999999,null,"Jilemnice  22.09.20",337.88,null,0,0,0]
["8.","MORÁVKOVÁ","Lucie","6.A",20.9,null,"Jilemnice  22.09.20",383.38,null,0,0,0]
["9.","SKLENÁROVÁ","Eliška","6.A",0,null,0,0,null,0,0,0]
["10.","ŠTOLFOVÁ","Tereza","6.A",14,null,"Jilemnice  07.06.21",257.8,null,0,0,0]
["11.","ŠUBÍKOVÁ","Klára","6.A",13,null,"Jilemnice  07.06.21",239.6,null,0,0,0]
["12.","TULÁČKOVÁ","Natálie","6.A",17.8,null,"Jilemnice  22.09.20",326.96000000000004,null,0,0,0]
["13.","VOJTÍŠKOVÁ","Ella","6.A",24.6,null,"Jilemnice  22.09.20",450.72,null,0,0,0]
["14.","DRUGÁČOVÁ","Kristinka","6.B",16.5,null,"Jilemnice  07.06.21",303.3,null,0,0,0]
["15.","FAJSTAVROVÁ","Karolína","6.B",22.4,null,"Jilemnice  22.09.20",410.68,null,0,0,0]
["16.","FAJSTAVROVÁ","Magdaléna","6.B",29,null,"Jilemnice  22.09.20",530.80000000000007,null,0,0,0]
["17.","HLAVATÁ","Anna","6.B",0,null," ",0,null,0,0,0]
["18.",{"$f":"B118","v":"JINDROVÁ"},"Barbora","6.B",12,null,"Jilemnice  22.09.20",221.4,null,0,0,0]
["19.","MAŘASOVÁ","Vendula","6.B",13,null,"Jilemnice  22.09.20",239.6,null,0,0,0]
["20.","PETŘÍČKOVÁ","Natálie","6.B",21.8,null,"Jilemnice  22.09.20",399.76,null,0,0,0]
["21.","PETŘÍKOVÁ","Adéla","6.B",11,null,"Jilemnice  07.06.21",203.20000000000002,null,0,0,0]
["22.","REGÁLOVÁ","Karolína","6.B",23.2,null,"Jilemnice  22.09.20",425.24,null,0,0,0]
["23.","RIEGROVÁ","Magdaléna","6.B",15.5,null,"Jilemnice  07.06.21",285.10000000000002,null,0,0,0]
["24.","RYBENSKÁ","Sabina","6.B",12.6,null,"Jilemnice  22.09.20",232.32000000000002,null,0,0,0]
["25.","STEINEROVÁ","Barbora","6.B",24.4,null,"Jilemnice  22.09.20",447.08000000000004,null,0,0,0]
["26.","TOMEŠOVÁ","Barbora","6.B",16.2,null,"Jilemnice  22.09.20",297.84000000000003,null,0,0,0]
["27.","VOHNOUTOVÁ","Aneta","6.B",29,null,"Jilemnice  22.09.20",530.80000000000007,null,0,0,0]
["28.","HAVLÍKOVÁ","Michaela","7.A",0,null,0,0,null,10.5,0,0]
["29.","HOLUBCOVÁ","Sára","7.A",25,null,"Jilemnice  07.06.21",458,null,0,0,0]
["30.","HONCŮ","Tereza","7.A",22,null,"Jilemnice  07.06.21",403.40000000000003,null,18.5,0,0]
["31.","HORÁČKOVÁ","Kateřina","7.A",22,null,"Jilemnice  07.06.21",403.40000000000003,null,21,0,0]
["32.","JOUDALOVÁ","Daniela","7.A",0,null,0,0,null,10,0,0]
["33.","KLÍMOVÁ","Anna","7.A",0,null,0,0,null,17.5,0,0]
["34.",{"$f":"B134","v":"KOHOUTOVÁ"},"Veronika","7.A",29.5,null,"Jilemnice  07.06.21",539.9,null,24,0,0]
["35.","KOVÁŘOVÁ","Viktorie","7.A",19.5,null,"Jilemnice  07.06.21",357.90000000000003,null,17.5,0,0]
["36.","KYNČLOVÁ","Anna","7.A",27.5,null,"Jilemnice  07.06.21",503.5,null,21,0,0]
["37.","MATOUŠOVÁ","Tereza","7.A",20.5,null,"Jilemnice  07.06.21",376.1,null,17.5,0,0]
["38.","MAZÁNKOVÁ","Zuzana","7.A",19,null,"Jilemnice  07.06.21",348.8,null,14.5,0,0]
["39.","MORKESOVÁ","Sabrina","7.A",42,null,"Jilemnice  07.06.21",767.4,null,36.5,0,0]
["40.","POHOŘALÁ","Alžběta","7.A",22.5,null,"Jilemnice  07.06.21",412.5,null,15.5,0,0]
["41.","SCHOLZOVÁ","Laura","7.A",0,null,0,0,null,0,0,0]
["42.","VÁCLAVÍKOVÁ","Valerie","7.A",26.5,null,"Jilemnice  07.06.21",485.3,null,25.5,0,0]
["43.","ZAPADLOVÁ","Emma","7.A",33.5,null,"Jilemnice  07.06.21",612.70000000000005,null,27.5,0,0]
["44.","ŽIŠKOVÁ","Mia","7.A",22.5,null,"Jilemnice  07.06.21",412.5,null,0,0,0]
["45.","FARSKÁ","Tereza","7.B",0,null,0,0,null,0,0,0]
["46.","FEIXOVÁ","Rozálie","7.B",0,null,0,0,null,0,0,0]
["47.","FIŠEROVÁ","Michaela","7.B",0,null,0,0,null,0,0,0]
["48.","HAVLÍČKOVÁ","Kristýna","7.B",0,null,0,0,null,0,0,0]
["49.","JODASOVÁ","Nikola","7.B",0,null,0,0,null,24,0,0]
["50.",{"$f":"B150","v":"KADAVÁ"},"Nikola","7.B",0,null,0,0,null,0,0,0]
["51.","KRAFKOVÁ","Lucie","7.B",0,null,0,0,null,0,0,0]
["52.","KŘIVINKOVÁ","Alžběta","7.B",0,null,0,0,null,0,0,0]
["53.","LEŠÁKOVÁ","Lenka","7.B",0,null,0,0,null,0,0,0]
["54.","NYKLÍČKOVÁ","Adéla","7.B",0,null,0,0,null,0,0,0]
["55.","PLŮCHOVÁ","Petra","7.B",0,null,0,0,null,0,0,0]
["56.","PODZIMKOVÁ","Eliška","7.B",0,null,0,0,null,0,0,0]
["57.","RUTKAYOVÁ","Klára","7.B",0,null,0,0,null,0,0,0]
["58.","SEIDLOVÁ","Zuzana","7.B",0,null,0,0,null,0,0,0]
["59.","TOMÁŠOVÁ","Sára","7.B",0,null,0,0,null,0,0,0]
["60.","VANCLOVÁ","Barbora","7.B",0,null,0,0,null,0,0,0]
["61.","VOTOČKOVÁ","Veronika","7.B",0,null,0,0,null,0,0,0]
["62.","HARTIGOVÁ","Anna","8.A",25,null,"Jilemnice  07.06.21",458,null,0,20.5,0]
["63.","HONCŮ","Rozálie","8.A",27,null,"Jilemnice  07.06.21",494.40000000000003,null,21.5,20,0]
["64.","CHALOUPSKÁ","Lucie","8.A",29,null,"Jilemnice  07.06.21",530.80000000000007,null,0,22,0]
["65.","KŘÍŽKOVÁ","Anna","8.A",25,null,"Jilemnice  07.06.21",458,null,0,17,0]
["66.",{"$f":"B166","v":"LUKEŠOVÁ"},"Kristýna","8.A",22.5,null,"Jilemnice  07.06.21",412.5,null,0,16.5,0]
["67.","MOTLÍKOVÁ","Eliška","8.A",25,null,"Jilemnice  07.06.21",458,null,0,17,0]
["68.","POHOŘELÁ","Amálie","8.A",0,null," ",0,null,0,14.5,0]
["69.","POLÁČKOVÁ","Natálie","8.A",24,null,"Jilemnice  07.06.21",439.8,null,0,18.5,0]
["70.","ŘEHOŘKOVÁ","Lucie","8.A",30.5,null,"Jilemnice  07.06.21",558.1,null,0,29,0]
["71.","SKÁLOVÁ","Alena","8.A",20,null,"Jilemnice  07.06.21",367,null,0,14,0]
["72.","VÁVROVÁ ","Aneta","8.A",24,null,"Jilemnice  07.06.21",439.8,null,0,19.5,0]
["73.","ZELINKOVÁ","Klára","8.A",27,null,"Jilemnice  07.06.21",494.40000000000003,null,22,20,0]
["74.","JUNGOVÁ ","Lucie","9.A",20.5,null,"Jilemnice  07.06.21",376.1,null,19.5,22.5,20]
["75.","KŘIVÁNKOVÁ ","Linda","9.A",15.5,null,"Jilemnice  07.06.21",285.10000000000002,null,15,16,15]
["76.","KUBÁTOVÁ","Lucie","9.A",0,null," ",0,null,20.5,21,21]
["77.","ŠIMŮNKOVÁ ","Nikola","9.A",18,null,"Jilemnice  07.06.21",330.6,null,15,17,15]
["78.","ŠMÍDOVÁ","Kristýna","9.A",20,null,"Jilemnice  07.06.21",367,null,24.5,24,0]
["79.","VOTOČKOVÁ ","Nikola","9.A",29,null,"Jilemnice  07.06.21",530.80000000000007,null,25.12,26,22.5]
["80.","VYHLASOVÁ","Lenka","9.A",0,null," ",0,null,0,23,28.31]
["81.","BÖHMOVÁ","Diana","9.B",19.5,null,"Jilemnice  07.06.21",357.90000000000003,null,0,24.5,22.5]
["82.",{"$f":"B182","v":"HOUDOVÁ"},"Tereza","9.B",0,null," ",0,null,31,30,24.5]
["83.","JANÍKOVÁ","Kristýna","9.B",0,null," ",0,null,32.520000000000003,0,0]
["84.","KUŽELOVÁ","Ela","9.B",0,null," ",0,null,21,22,22.5]
["85.","MATERNOVÁ","Lucie","9.B",14,null,"Jilemnice  07.06.21",257.8,null,13,12.5,13]
["86.","OPOČENSKÁ","Matylda","9.B",0,null," ",0,null,0,15,14]
["87.","PIŠTOROVÁ","Karolína","9.B",20,null,"Jilemnice  07.06.21",367,null,21.5,23,21]
["88.",{"$f":"B188","v":"POKORNÝ"},"Anna","9.B",16.5,null,"Jilemnice  07.06.21",303.3,null,14,13.5,12.5]
["89.",{"$f":"B189","v":"SUCHÁNKOVÁ"},"Michaela","9.B",15,null,"Jilemnice  07.06.21",276,null,15.5,16,15]
["90.","ŠUBÍKOVÁ ","Štěpánka","9.B",17.5,null,"Jilemnice  07.06.21",321.5,null,17.5,17.5,16]
["91.",{"$f":"B191","v":"VANCLOVÁ"},"Pavlína","9.B",23,null,"Jilemnice  07.06.21",421.6,null,21.5,22,20]
[]
[]
[]
[]
[]
[null,"ERBENOVÁ","Sára","6.A",17.5,null,"Jilemnice  07.06.21",{"$f":"IF(E101=0,0,IF(E101>0,E101*10*1.82+3))","v":321.5}]
[null,"HOFMANOVÁ ","Nicol","6.A",15.5,null,"Jilemnice  07.06.21",{"$f":"IF(E102=0,0,IF(E102>0,E102*10*1.82+3))","v":285.10000000000002}]
[null,"HOLEŠOVSKÁ","Aneta","6.A",22.6,null,"Jilemnice  22.09.20",{"$f":"IF(E103=0,0,IF(E103>0,E103*10*1.82+3))","v":414.32}]
[null,"HOLUBCOVÁ","Alena","6.A",29,null,"Jilemnice  07.06.21",{"$f":"IF(E104=0,0,IF(E104>0,E104*10*1.82+3))","v":530.80000000000007}]
[null,"KOHOUTOVÁ","Anna","6.A",13,null,"Jilemnice  07.06.21",{"$f":"IF(E105=0,0,IF(E105>0,E105*10*1.82+3))","v":239.6}]
[null,"KRAUSOVÁ","Anežka","6.A",null,null,null,{"$f":"IF(E106=0,0,IF(E106>0,E106*10*1.82+3))","v":0}]
[null,"KUŽELOVÁ","Apoléna","6.A",18.399999999999999,null,"Jilemnice  22.09.20",{"$f":"IF(E107=0,0,IF(E107>0,E107*10*1.82+3))","v":337.88}]
[null,"MORÁVKOVÁ","Lucie","6.A",20.9,null,"Jilemnice  22.09.20",{"$f":"IF(E108=0,0,IF(E108>0,E108*10*1.82+3))","v":383.38}]
[null,"SKLENÁROVÁ","Eliška","6.A",null,null,null,{"$f":"IF(E109=0,0,IF(E109>0,E109*10*1.82+3))","v":0}]
[null,"ŠTOLFOVÁ","Tereza","6.A",14,null,"Jilemnice  07.06.21",{"$f":"IF(E110=0,0,IF(E110>0,E110*10*1.82+3))","v":257.8}]
[null,"ŠUBÍKOVÁ","Klára","6.A",13,null,"Jilemnice  07.06.21",{"$f":"IF(E111=0,0,IF(E111>0,E111*10*1.82+3))","v":239.6}]
[null,"TULÁČKOVÁ","Natálie","6.A",17.8,null,"Jilemnice  22.09.20",{"$f":"IF(E112=0,0,IF(E112>0,E112*10*1.82+3))","v":326.96000000000004}]
[null,"VOJTÍŠKOVÁ","Ella","6.A",24.6,null,"Jilemnice  22.09.20",{"$f":"IF(E113=0,0,IF(E113>0,E113*10*1.82+3))","v":450.72}]
[null,"DRUGÁČOVÁ","Kristinka","6.B",16.5,null,"Jilemnice  07.06.21",{"$f":"IF(E114=0,0,IF(E114>0,E114*10*1.82+3))","v":303.3}]
[null,"FAJSTAVROVÁ","Karolína","6.B",22.4,null,"Jilemnice  22.09.20",{"$f":"IF(E115=0,0,IF(E115>0,E115*10*1.82+3))","v":410.68}]
[null,"FAJSTAVROVÁ","Magdaléna","6.B",29,null,"Jilemnice  22.09.20",{"$f":"IF(E116=0,0,IF(E116>0,E116*10*1.82+3))","v":530.80000000000007}]
[null,"HLAVATÁ","Anna","6.B",null,null," ",{"$f":"IF(E117=0,0,IF(E117>0,E117*10*1.82+3))","v":0}]
[null,"JINDROVÁ","Barbora","6.B",12,null,"Jilemnice  22.09.20",{"$f":"IF(E118=0,0,IF(E118>0,E118*10*1.82+3))","v":221.4}]
[null,"MAŘASOVÁ","Vendula","6.B",13,null,"Jilemnice  22.09.20",{"$f":"IF(E119=0,0,IF(E119>0,E119*10*1.82+3))","v":239.6}]
[null,"PETŘÍČKOVÁ","Natálie","6.B",21.8,null,"Jilemnice  22.09.20",{"$f":"IF(E120=0,0,IF(E120>0,E120*10*1.82+3))","v":399.76}]
[null,"PETŘÍKOVÁ","Adéla","6.B",11,null,"Jilemnice  07.06.21",{"$f":"IF(E121=0,0,IF(E121>0,E121*10*1.82+3))","v":203.20000000000002}]
[null,"REGÁLOVÁ","Karolína","6.B",23.2,null,"Jilemnice  22.09.20",{"$f":"IF(E122=0,0,IF(E122>0,E122*10*1.82+3))","v":425.24}]
[null,"RIEGROVÁ","Magdaléna","6.B",15.5,null,"Jilemnice  07.06.21",{"$f":"IF(E123=0,0,IF(E123>0,E123*10*1.82+3))","v":285.10000000000002}]
[null,"RYBENSKÁ","Sabina","6.B",12.6,null,"Jilemnice  22.09.20",{"$f":"IF(E124=0,0,IF(E124>0,E124*10*1.82+3))","v":232.32000000000002}]
[null,"STEINEROVÁ","Barbora","6.B",24.4,null,"Jilemnice  22.09.20",{"$f":"IF(E125=0,0,IF(E125>0,E125*10*1.82+3))","v":447.08000000000004}]
[null,"TOMEŠOVÁ","Barbora","6.B",16.2,null,"Jilemnice  22.09.20",{"$f":"IF(E126=0,0,IF(E126>0,E126*10*1.82+3))","v":297.84000000000003}]
[null,"VOHNOUTOVÁ","Aneta","6.B",29,null,"Jilemnice  22.09.20",{"$f":"IF(E127=0,0,IF(E127>0,E127*10*1.82+3))","v":530.80000000000007}]
[null,"HAVLÍKOVÁ","Michaela","7.A",null,null,null,{"$f":"IF(E128=0,0,IF(E128>0,E128*10*1.82+3))","v":0},null,10.5]
[null,"HOLUBCOVÁ","Sára","7.A",25,null,"Jilemnice  07.06.21",{"$f":"IF(E129=0,0,IF(E129>0,E129*10*1.82+3))","v":458}]
[null,"HONCŮ","Tereza","7.A",22,null,"Jilemnice  07.06.21",{"$f":"IF(E130=0,0,IF(E130>0,E130*10*1.82+3))","v":403.40000000000003},null,18.5]
[null,"HORÁČKOVÁ","Kateřina","7.A",22,null,"Jilemnice  07.06.21",{"$f":"IF(E131=0,0,IF(E131>0,E131*10*1.82+3))","v":403.40000000000003},null,21]
[null,"JOUDALOVÁ","Daniela","7.A",null,null,null,{"$f":"IF(E132=0,0,IF(E132>0,E132*10*1.82+3))","v":0},null,10]
[null,"KLÍMOVÁ","Anna","7.A",null,null,null,{"$f":"IF(E133=0,0,IF(E133>0,E133*10*1.82+3))","v":0},null,17.5]
[null,"KOHOUTOVÁ","Veronika","7.A",29.5,null,"Jilemnice  07.06.21",{"$f":"IF(E134=0,0,IF(E134>0,E134*10*1.82+3))","v":539.9},null,24]
[null,"KOVÁŘOVÁ","Viktorie","7.A",19.5,null,"Jilemnice  07.06.21",{"$f":"IF(E135=0,0,IF(E135>0,E135*10*1.82+3))","v":357.90000000000003},null,17.5]
[null,"KYNČLOVÁ","Anna","7.A",27.5,null,"Jilemnice  07.06.21",{"$f":"IF(E136=0,0,IF(E136>0,E136*10*1.82+3))","v":503.5},null,21]
[null,"MATOUŠOVÁ","Tereza","7.A",20.5,null,"Jilemnice  07.06.21",{"$f":"IF(E137=0,0,IF(E137>0,E137*10*1.82+3))","v":376.1},null,17.5]
[null,"MAZÁNKOVÁ","Zuzana","7.A",19,null,"Jilemnice  07.06.21",{"$f":"IF(E138=0,0,IF(E138>0,E138*10*1.82+3))","v":348.8},null,14.5]
[null,"MORKESOVÁ","Sabrina","7.A",42,null,"Jilemnice  07.06.21",{"$f":"IF(E139=0,0,IF(E139>0,E139*10*1.82+3))","v":767.4},null,36.5]
[null,"POHOŘALÁ","Alžběta","7.A",22.5,null,"Jilemnice  07.06.21",{"$f":"IF(E140=0,0,IF(E140>0,E140*10*1.82+3))","v":412.5},null,15.5]
[null,"SCHOLZOVÁ","Laura","7.A",null,null,null,{"$f":"IF(E141=0,0,IF(E141>0,E141*10*1.82+3))","v":0}]
[null,"VÁCLAVÍKOVÁ","Valerie","7.A",26.5,null,"Jilemnice  07.06.21",{"$f":"IF(E142=0,0,IF(E142>0,E142*10*1.82+3))","v":485.3},null,25.5]
[null,"ZAPADLOVÁ","Emma","7.A",33.5,null,"Jilemnice  07.06.21",{"$f":"IF(E143=0,0,IF(E143>0,E143*10*1.82+3))","v":612.70000000000005},null,27.5]
[null,"ŽIŠKOVÁ","Mia","7.A",22.5,null,"Jilemnice  07.06.21",{"$f":"IF(E144=0,0,IF(E144>0,E144*10*1.82+3))","v":412.5}]
[null,"FARSKÁ","Tereza","7.B",null,null,null,{"$f":"IF(E145=0,0,IF(E145>0,E145*10*1.82+3))","v":0}]
[null,"FEIXOVÁ","Rozálie","7.B",null,null,null,{"$f":"IF(E146=0,0,IF(E146>0,E146*10*1.82+3))","v":0}]
[null,"FIŠEROVÁ","Michaela","7.B",null,null,null,{"$f":"IF(E147=0,0,IF(E147>0,E147*10*1.82+3))","v":0}]
[null,"HAVLÍČKOVÁ","Kristýna","7.B",null,null,null,{"$f":"IF(E148=0,0,IF(E148>0,E148*10*1.82+3))","v":0}]
[null,"JODASOVÁ","Nikola","7.B",null,null,null,{"$f":"IF(E149=0,0,IF(E149>0,E149*10*1.82+3))","v":0},null,24]
[null,"KADAVÁ","Nikola","7.B",null,null,null,{"$f":"IF(E150=0,0,IF(E150>0,E150*10*1.82+3))","v":0}]
[null,"KRAFKOVÁ","Lucie","7.B",null,null,null,{"$f":"IF(E151=0,0,IF(E151>0,E151*10*1.82+3))","v":0}]
[null,"KŘIVINKOVÁ","Alžběta","7.B",null,null,null,{"$f":"IF(E152=0,0,IF(E152>0,E152*10*1.82+3))","v":0}]
[null,"LEŠÁKOVÁ","Lenka","7.B",null,null,null,{"$f":"IF(E153=0,0,IF(E153>0,E153*10*1.82+3))","v":0}]
[null,"NYKLÍČKOVÁ","Adéla","7.B",null,null,null,{"$f":"IF(E154=0,0,IF(E154>0,E154*10*1.82+3))","v":0}]
[null,"PLŮCHOVÁ","Petra","7.B",null,null,null,{"$f":"IF(E155=0,0,IF(E155>0,E155*10*1.82+3))","v":0}]
[null,"PODZIMKOVÁ","Eliška","7.B",null,null,null,{"$f":"IF(E156=0,0,IF(E156>0,E156*10*1.82+3))","v":0}]
[null,"RUTKAYOVÁ","Klára","7.B",null,null,null,{"$f":"IF(E157=0,0,IF(E157>0,E157*10*1.82+3))","v":0}]
[null,"SEIDLOVÁ","Zuzana","7.B",null,null,null,{"$f":"IF(E158=0,0,IF(E158>0,E158*10*1.82+3))","v":0}]
[null,"TOMÁŠOVÁ","Sára","7.B",null,null,null,{"$f":"IF(E159=0,0,IF(E159>0,E159*10*1.82+3))","v":0}]
[null,"VANCLOVÁ","Barbora","7.B",null,null,null,{"$f":"IF(E160=0,0,IF(E160>0,E160*10*1.82+3))","v":0}]
[null,"VOTOČKOVÁ","Veronika","7.B",null,null,null,{"$f":"IF(E161=0,0,IF(E161>0,E161*10*1.82+3))","v":0}]
[null,"HARTIGOVÁ","Anna","8.A",25,null,"Jilemnice  07.06.21",{"$f":"IF(E162=0,0,IF(E162>0,E162*10*1.82+3))","v":458},null,null,20.5]
[null,"HONCŮ","Rozálie","8.A",27,null,"Jilemnice  07.06.21",{"$f":"IF(E163=0,0,IF(E163>0,E163*10*1.82+3))","v":494.40000000000003},null,21.5,20]
[null,"CHALOUPSKÁ","Lucie","8.A",29,null,"Jilemnice  07.06.21",{"$f":"IF(E164=0,0,IF(E164>0,E164*10*1.82+3))","v":530.80000000000007},null,null,22]
[null,"KŘÍŽKOVÁ","Anna","8.A",25,null,"Jilemnice  07.06.21",{"$f":"IF(E165=0,0,IF(E165>0,E165*10*1.82+3))","v":458},null,null,17]
[null,"LUKEŠOVÁ","Kristýna","8.A",22.5,null,"Jilemnice  07.06.21",{"$f":"IF(E166=0,0,IF(E166>0,E166*10*1.82+3))","v":412.5},null,null,16.5]
[null,"MOTLÍKOVÁ","Eliška","8.A",25,null,"Jilemnice  07.06.21",{"$f":"IF(E167=0,0,IF(E167>0,E167*10*1.82+3))","v":458},null,null,17]
[null,"POHOŘELÁ","Amálie","8.A",null,null," ",{"$f":"IF(E168=0,0,IF(E168>0,E168*10*1.82+3))","v":0},null,null,14.5]
[null,"POLÁČKOVÁ","Natálie","8.A",24,null,"Jilemnice  07.06.21",{"$f":"IF(E169=0,0,IF(E169>0,E169*10*1.82+3))","v":439.8},null,null,18.5]
[null,"ŘEHOŘKOVÁ","Lucie","8.A",30.5,null,"Jilemnice  07.06.21",{"$f":"IF(E170=0,0,IF(E170>0,E170*10*1.82+3))","v":558.1},null,null,29]
[null,"SKÁLOVÁ","Alena","8.A",20,null,"Jilemnice  07.06.21",{"$f":"IF(E171=0,0,IF(E171>0,E171*10*1.82+3))","v":367},null,null,14]
[null,"VÁVROVÁ ","Aneta","8.A",24,null,"Jilemnice  07.06.21",{"$f":"IF(E172=0,0,IF(E172>0,E172*10*1.82+3))","v":439.8},null,null,19.5]
[null,"ZELINKOVÁ","Klára","8.A",27,null,"Jilemnice  07.06.21",{"$f":"IF(E173=0,0,IF(E173>0,E173*10*1.82+3))","v":494.40000000000003},null,22,20]
[null,"JUNGOVÁ ","Lucie","9.A",20.5,null,"Jilemnice  07.06.21",{"$f":"IF(E174=0,0,IF(E174>0,E174*10*1.82+3))","v":376.1},null,19.5,22.5,20]
[null,"KŘIVÁNKOVÁ ","Linda","9.A",15.5,null,"Jilemnice  07.06.21",{"$f":"IF(E175=0,0,IF(E175>0,E175*10*1.82+3))","v":285.10000000000002},null,15,16,15]
[null,"KUBÁTOVÁ","Lucie","9.A",null,null," ",{"$f":"IF(E176=0,0,IF(E176>0,E176*10*1.82+3))","v":0},null,20.5,21,21]
[null,"ŠIMŮNKOVÁ ","Nikola","9.A",18,null,"Jilemnice  07.06.21",{"$f":"IF(E177=0,0,IF(E177>0,E177*10*1.82+3))","v":330.6},null,15,17,15]
[null,"ŠMÍDOVÁ","Kristýna","9.A",20,null,"Jilemnice  07.06.21",{"$f":"IF(E178=0,0,IF(E178>0,E178*10*1.82+3))","v":367},null,24.5,24]
[null,"VOTOČKOVÁ ","Nikola","9.A",29,null,"Jilemnice  07.06.21",{"$f":"IF(E179=0,0,IF(E179>0,E179*10*1.82+3))","v":530.80000000000007},null,25.12,26,22.5]
[null,"VYHLASOVÁ","Lenka","9.A",null,null," ",{"$f":"IF(E180=0,0,IF(E180>0,E180*10*1.82+3))","v":0},null,null,23,28.31]
[null,"BÖHMOVÁ","Diana","9.B",19.5,null,"Jilemnice  07.06.21",{"$f":"IF(E181=0,0,IF(E181>0,E181*10*1.82+3))","v":357.90000000000003},null,null,24.5,22.5]
[null,"HOUDOVÁ","Tereza","9.B",null,null," ",{"$f":"IF(E182=0,0,IF(E182>0,E182*10*1.82+3))","v":0},null,31,30,24.5]
[null,"JANÍKOVÁ","Kristýna","9.B",null,null," ",{"$f":"IF(E183=0,0,IF(E183>0,E183*10*1.82+3))","v":0},null,32.520000000000003]
[null,"KUŽELOVÁ","Ela","9.B",null,null," ",{"$f":"IF(E184=0,0,IF(E184>0,E184*10*1.82+3))","v":0},null,21,22,22.5]
[null,"MATERNOVÁ","Lucie","9.B",14,null,"Jilemnice  07.06.21",{"$f":"IF(E185=0,0,IF(E185>0,E185*10*1.82+3))","v":257.8},null,13,12.5,13]
[null,"OPOČENSKÁ","Matylda","9.B",null,null," ",{"$f":"IF(E186=0,0,IF(E186>0,E186*10*1.82+3))","v":0},null,null,15,14]
[null,"PIŠTOROVÁ","Karolína","9.B",20,null,"Jilemnice  07.06.21",{"$f":"IF(E187=0,0,IF(E187>0,E187*10*1.82+3))","v":367},null,21.5,23,21]
[null,"POKORNÝ","Anna","9.B",16.5,null,"Jilemnice  07.06.21",{"$f":"IF(E188=0,0,IF(E188>0,E188*10*1.82+3))","v":303.3},null,14,13.5,12.5]
[null,"SUCHÁNKOVÁ","Michaela","9.B",15,null,"Jilemnice  07.06.21",{"$f":"IF(E189=0,0,IF(E189>0,E189*10*1.82+3))","v":276},null,15.5,16,15]
[null,"ŠUBÍKOVÁ ","Štěpánka","9.B",17.5,null,"Jilemnice  07.06.21",{"$f":"IF(E190=0,0,IF(E190>0,E190*10*1.82+3))","v":321.5},null,17.5,17.5,16]
[null,"VANCLOVÁ","Pavlína","9.B",23,null,"Jilemnice  07.06.21",{"$f":"IF(E191=0,0,IF(E191>0,E191*10*1.82+3))","v":421.6},null,21.5,22,20]

{"sheet":"Dkou","index":13,"n_rows":191,"n_cols":12,"rows_kept":191,"cut":false,"hidden":false,"merged":[]}
[null,null,"VÝKONY   2020 - 2021",null,null,null,"KOULE","DĚVČATA  6. -  9.  ROČ."]
[null,null,null,null,null,null,null,null,null,null,"stav  k ",{"$f":"TODAY()","v":44375}]
[null,null,null,null,null,null,null,"   BODY",null,"   19 - 20   ","   18 - 19   ","   17 - 18   "]
[]
["1.",{"$f":"B101","v":"ERBENOVÁ"},{"$f":"C101","v":"Sára"},"6.A",3.41,null,"Jilemnice  09.06.21",325.33333333333331,null,0,0,0]
["2.",{"$f":"B102","v":"HOFMANOVÁ "},"Nicol","6.A",4.47,null,"Jilemnice  09.06.21",419.55555555555549,null,0,0,0]
["3.","HOLEŠOVSKÁ","Aneta","6.A",0,null,0,0,null,0,0,0]
["4.","HOLUBCOVÁ","Alena","6.A",6.21,null,"Jilemnice  09.06.21",574.22222222222217,null,0,0,0]
["5.","KOHOUTOVÁ","Anna","6.A",2.82,null,"Jilemnice  09.06.21",272.88888888888886,null,0,0,0]
["6.","KRAUSOVÁ","Anežka","6.A",0,null,0,0,null,0,0,0]
["7.","KUŽELOVÁ","Apoléna","6.A",0,null,0,0,null,0,0,0]
["8.","MORÁVKOVÁ","Lucie","6.A",0,null,0,0,null,0,0,0]
["9.","SKLENÁROVÁ","Eliška","6.A",0,null,0,0,null,0,0,0]
["10.","ŠTOLFOVÁ","Tereza","6.A",3.05,null,"Jilemnice  09.06.21",293.33333333333331,null,0,0,0]
["11.","ŠUBÍKOVÁ","Klára","6.A",3.85,null,"Jilemnice  09.06.21",364.44444444444446,null,0,0,0]
["12.","TULÁČKOVÁ","Natálie","6.A",0,null,0,0,null,0,0,0]
["13.","VOJTÍŠKOVÁ","Ella","6.A",0,null,0,0,null,0,0,0]
["14.","DRUGÁČOVÁ","Kristinka","6.B",4,null,"Jilemnice  09.06.21",377.77777777777777,null,0,0,0]
["15.","FAJSTAVROVÁ","Karolína","6.B",0,null,0,0,null,0,0,0]
["16.","FAJSTAVROVÁ","Magdaléna","6.B",0,null,0,0,null,0,0,0]
["17.","HLAVATÁ","Anna","6.B",0,null,0,0,null,0,0,0]
["18.",{"$f":"B118","v":"JINDROVÁ"},"Barbora","6.B",0,null,0,0,null,0,0,0]
["19.","MAŘASOVÁ","Vendula","6.B",0,null,0,0,null,0,0,0]
["20.","PETŘÍČKOVÁ","Natálie","6.B",0,null,0,0,null,0,0,0]
["21.","PETŘÍKOVÁ","Adéla","6.B",3.73,null,"Jilemnice  09.06.21",353.77777777777777,null,0,0,0]
["22.","REGÁLOVÁ","Karolína","6.B",0,null,0,0,null,0,0,0]
["23.","RIEGROVÁ","Magdaléna","6.B",2.64,null,"Jilemnice  09.06.21",256.88888888888891,null,0,0,0]
["24.","RYBENSKÁ","Sabina","6.B",0,null,0,0,null,0,0,0]
["25.","STEINEROVÁ","Barbora","6.B",0,null,0,0,null,0,0,0]
["26.","TOMEŠOVÁ","Barbora","6.B",0,null,0,0,null,0,0,0]
["27.","VOHNOUTOVÁ","Aneta","6.B",0,null,0,0,null,0,0,0]
["28.","HAVLÍKOVÁ","Michaela","7.A",2.61,null,"Jilemnice  02.10.20",254.2222222222222,null,0,0,0]
["29.","HOLUBCOVÁ","Sára","7.A",4.04,null,"Jilemnice  02.10.20",381.33333333333331,null,3.1,0,0]
["30.","HONCŮ","Tereza","7.A",3.76,null,"Jilemnice  02.10.20",356.4444444444444,null,2.62,0,0]
["31.","HORÁČKOVÁ","Kateřina","7.A",5.5,null,"Jilemnice  02.10.20",511.11111111111109,null,4.9000000000000004,0,0]
["32.","JOUDALOVÁ","Daniela","7.A",3.85,null,"Jilemnice  02.10.20",364.44444444444446,null,2.87,0,0]
["33.","KLÍMOVÁ","Anna","7.A",4.5,null,"Jilemnice  02.10.20",422.22222222222223,null,4.4400000000000004,0,0]
["34.",{"$f":"B134","v":"KOHOUTOVÁ"},"Veronika","7.A",5.31,null,"Jilemnice  02.10.20",494.22222222222217,null,3.57,0,0]
["35.","KOVÁŘOVÁ","Viktorie","7.A",3.94,null,"Jilemnice  02.10.20",372.4444444444444,null,3.16,0,0]
["36.","KYNČLOVÁ","Anna","7.A",3.46,null,"Jilemnice  02.10.20",329.77777777777777,null,2.46,0,0]
["37.","MATOUŠOVÁ","Tereza","7.A",4.6100000000000003,null,"Jilemnice  02.10.20",432,null,3.51,0,0]
["38.","MAZÁNKOVÁ","Zuzana","7.A",4.5,null,"Jilemnice  02.10.20",422.22222222222223,null,3.66,0,0]
["39.","MORKESOVÁ","Sabrina","7.A",6.62,null,"Jilemnice  02.10.20",610.66666666666663,null,5.65,0,0]
["40.","POHOŘALÁ","Alžběta","7.A",4.26,null,"Jilemnice  02.10.20",400.8888888888888,null,3.78,0,0]
["41.","SCHOLZOVÁ","Laura","7.A",3.08,null,"Jilemnice  02.10.20",295.99999999999994,null,2.75,0,0]
["42.","VÁCLAVÍKOVÁ","Valerie","7.A",5.92,null,"Jilemnice  02.10.20",548.44444444444446,null,5.56,0,0]
["43.","ZAPADLOVÁ","Emma","7.A",4.26,null,"Jilemnice  02.10.20",400.8888888888888,null,5.08,0,0]
["44.","ŽIŠKOVÁ","Mia","7.A",0,null,0,0,null,3.84,0,0]
["45.","FARSKÁ","Tereza","7.B",0,null,0,0,null,2.2000000000000002,0,0]
["46.","FEIXOVÁ","Rozálie","7.B",0,null,0,0,null,2.8,0,0]
["47.","FIŠEROVÁ","Michaela","7.B",0,null,0,0,null,4.1500000000000004,0,0]
["48.","HAVLÍČKOVÁ","Kristýna","7.B",0,null,0,0,null,3.75,0,0]
["49.","JODASOVÁ","Nikola","7.B",0,null,0,0,null,4.8,0,0]
["50.",{"$f":"B150","v":"KADAVÁ"},"Nikola","7.B",0,null,0,0,null,3.79,0,0]
["51.","KRAFKOVÁ","Lucie","7.B",0,null,0,0,null,0,0,0]
["52.","KŘIVINKOVÁ","Alžběta","7.B",0,null,0,0,null,5.15,0,0]
["53.","LEŠÁKOVÁ","Lenka","7.B",0,null,0,0,null,3.23,0,0]
["54.","NYKLÍČKOVÁ","Adéla","7.B",0,null,0,0,null,4.28,0,0]
["55.","PLŮCHOVÁ","Petra","7.B",0,null,0,0,null,5.53,0,0]
["56.","PODZIMKOVÁ","Eliška","7.B",0,null,0,0,null,2.4,0,0]
["57.","RUTKAYOVÁ","Klára","7.B",0,null,0,0,null,4.3099999999999996,0,0]
["58.","SEIDLOVÁ","Zuzana","7.B",0,null,0,0,null,5.9,0,0]
["59.","TOMÁŠOVÁ","Sára","7.B",0,null,0,0,null,4.8,0,0]
["60.","VANCLOVÁ","Barbora","7.B",0,null,0,0,null,3.98,0,0]
["61.","VOTOČKOVÁ","Veronika","7.B",0,null,0,0,null,0,0,0]
["62.","HARTIGOVÁ","Anna","8.A",6.81,null,"Jilemnice  09.06.21",627.55555555555554,null,0,5.16,0]
["63.","HONCŮ","Rozálie","8.A",7.1,null,"Jilemnice  09.06.21",653.33333333333337,null,0,5.34,0]
["64.","CHALOUPSKÁ","Lucie","8.A",7.18,null,"Jilemnice  09.06.21",660.44444444444446,null,0,5.18,0]
["65.","KŘÍŽKOVÁ","Anna","8.A",5.8,null,"Jilemnice  09.06.21",537.77777777777771,null,0,4,0]
["66.",{"$f":"B166","v":"LUKEŠOVÁ"},"Kristýna","8.A",5.6,null,"Jilemnice  09.06.21",520,null,0,4.37,0]
["67.","MOTLÍKOVÁ","Eliška","8.A",6.39,null,"Jilemnice  09.06.21",590.22222222222229,null,0,5.3,0]
["68.","POHOŘELÁ","Amálie","8.A",5.9,null,"Jilemnice  09.06.21",546.66666666666663,null,0,4.55,0]
["69.","POLÁČKOVÁ","Natálie","8.A",3.6,null,"Jilemnice  09.06.21",342.22222222222223,null,0,2.73,0]
["70.","ŘEHOŘKOVÁ","Lucie","8.A",7.5,null,"Jilemnice  09.06.21",688.88888888888891,null,0,6.03,0]
["71.","SKÁLOVÁ","Alena","8.A",7.5,null,"Jilemnice  09.06.21",688.88888888888891,null,0,4.17,0]
["72.","VÁVROVÁ ","Aneta","8.A",5.5,null,"Jilemnice  09.06.21",511.11111111111109,null,0,3.8,0]
["73.","ZELINKOVÁ","Klára","8.A",6.74,null,"Jilemnice  09.06.21",621.33333333333337,null,0,5.5,0]
["74.","JUNGOVÁ ","Lucie","9.A",4.95,null,"Jilemnice  16.06.21",462.22222222222223,null,4.5,4.55,4.4400000000000004]
["75.","KŘIVÁNKOVÁ ","Linda","9.A",6.1,null,"Jilemnice  16.06.21",564.44444444444446,null,6.25,5.81,4.8499999999999996]
["76.","KUBÁTOVÁ","Lucie","9.A",0,null,"  ",0,null,4.9000000000000004,4.5199999999999996,3.54]
["77.","ŠIMŮNKOVÁ ","Nikola","9.A",5.0599999999999996,null,"Jilemnice  16.06.21",471.99999999999994,null,4.54,5.2,4.4400000000000004]
["78.","ŠMÍDOVÁ","Kristýna","9.A",6.32,null,"Jilemnice  16.06.21",584,null,5.82,5.35,0]
["79.","VOTOČKOVÁ ","Nikola","9.A",6.08,null,"Jilemnice  16.06.21",562.66666666666663,null,5.63,5.5,4.22]
["80.","VYHLASOVÁ","Lenka","9.A",6.64,null,"Jilemnice  16.06.21",612.44444444444434,null,6.54,6.39,6.12]
["81.","BÖHMOVÁ","Diana","9.B",5.66,null,"Jilemnice  16.06.21",525.33333333333337,null,0,5.46,2.37]
["82.",{"$f":"B182","v":"HOUDOVÁ"},"Tereza","9.B",0,null," ",0,null,6.7,5.3,5.45]
["83.","JANÍKOVÁ","Kristýna","9.B",6.9,null,"Jilemnice  16.06.21",635.55555555555554,null,6.7,0,0]
["84.","KUŽELOVÁ","Ela","9.B",6.14,null,"Jilemnice  16.06.21",568,null,5.77,5.7,4.97]
["85.","MATERNOVÁ","Lucie","9.B",3.94,null,"Jilemnice  16.06.21",372.4444444444444,null,3.94,4.16,2.77]
["86.","OPOČENSKÁ","Matylda","9.B",0,null," ",0,null,0,0,0]
["87.","PIŠTOROVÁ","Karolína","9.B",0,null," ",0,null,5.2,5.18,3.1]
["88.","POKORNÝ","Anna","9.B",6.23,null,"Jilemnice  16.06.21",576.00000000000011,null,4.04,4.08,3]
["89.","SUCHÁNKOVÁ","Michaela","9.B",5.9,null,"Jilemnice  16.06.21",546.66666666666663,null,4.22,3.86,3.24]
["90.","ŠUBÍKOVÁ ","Štěpánka","9.B",5,null,"Jilemnice  16.06.21",466.66666666666663,null,0,4.37,3.68]
["91.","VANCLOVÁ","Pavlína","9.B",7.9,null,"Jilemnice  16.06.21",724.44444444444446,null,7.48,7.05,6.05]
[]
[]
[]
[]
[]
[null,"ERBENOVÁ","Sára","6.A",3.41,null,"Jilemnice  09.06.21",{"$f":"IF(E101=0,0,IF(E101>0,(40*E101+10)/0.45))","v":325.33333333333331}]
[null,"HOFMANOVÁ ","Nicol","6.A",4.47,null,"Jilemnice  09.06.21",{"$f":"IF(E102=0,0,IF(E102>0,(40*E102+10)/0.45))","v":419.55555555555549}]
[null,"HOLEŠOVSKÁ","Aneta","6.A",null,null,null,{"$f":"IF(E103=0,0,IF(E103>0,(40*E103+10)/0.45))","v":0}]
[null,"HOLUBCOVÁ","Alena","6.A",6.21,null,"Jilemnice  09.06.21",{"$f":"IF(E104=0,0,IF(E104>0,(40*E104+10)/0.45))","v":574.22222222222217}]
[null,"KOHOUTOVÁ","Anna","6.A",2.82,null,"Jilemnice  09.06.21",{"$f":"IF(E105=0,0,IF(E105>0,(40*E105+10)/0.45))","v":272.88888888888886}]
[null,"KRAUSOVÁ","Anežka","6.A",null,null,null,{"$f":"IF(E106=0,0,IF(E106>0,(40*E106+10)/0.45))","v":0}]
[null,"KUŽELOVÁ","Apoléna","6.A",null,null,null,{"$f":"IF(E107=0,0,IF(E107>0,(40*E107+10)/0.45))","v":0}]
[null,"MORÁVKOVÁ","Lucie","6.A",null,null,null,{"$f":"IF(E108=0,0,IF(E108>0,(40*E108+10)/0.45))","v":0}]
[null,"SKLENÁROVÁ","Eliška","6.A",null,null,null,{"$f":"IF(E109=0,0,IF(E109>0,(40*E109+10)/0.45))","v":0}]
[null,"ŠTOLFOVÁ","Tereza","6.A",3.05,null,"Jilemnice  09.06.21",{"$f":"IF(E110=0,0,IF(E110>0,(40*E110+10)/0.45))","v":293.33333333333331}]
[null,"ŠUBÍKOVÁ","Klára","6.A",3.85,null,"Jilemnice  09.06.21",{"$f":"IF(E111=0,0,IF(E111>0,(40*E111+10)/0.45))","v":364.44444444444446}]
[null,"TULÁČKOVÁ","Natálie","6.A",null,null,null,{"$f":"IF(E112=0,0,IF(E112>0,(40*E112+10)/0.45))","v":0}]
[null,"VOJTÍŠKOVÁ","Ella","6.A",null,null,null,{"$f":"IF(E113=0,0,IF(E113>0,(40*E113+10)/0.45))","v":0}]
[null,"DRUGÁČOVÁ","Kristinka","6.B",4,null,"Jilemnice  09.06.21",{"$f":"IF(E114=0,0,IF(E114>0,(40*E114+10)/0.45))","v":377.77777777777777}]
[null,"FAJSTAVROVÁ","Karolína","6.B",null,null,null,{"$f":"IF(E115=0,0,IF(E115>0,(40*E115+10)/0.45))","v":0}]
[null,"FAJSTAVROVÁ","Magdaléna","6.B",null,null,null,{"$f":"IF(E116=0,0,IF(E116>0,(40*E116+10)/0.45))","v":0}]
[null,"HLAVATÁ","Anna","6.B",null,null,null,{"$f":"IF(E117=0,0,IF(E117>0,(40*E117+10)/0.45))","v":0}]
[null,"JINDROVÁ","Barbora","6.B",null,null,null,{"$f":"IF(E118=0,0,IF(E118>0,(40*E118+10)/0.45))","v":0}]
[null,"MAŘASOVÁ","Vendula","6.B",null,null,null,{"$f":"IF(E119=0,0,IF(E119>0,(40*E119+10)/0.45))","v":0}]
[null,"PETŘÍČKOVÁ","Natálie","6.B",null,null,null,{"$f":"IF(E120=0,0,IF(E120>0,(40*E120+10)/0.45))","v":0}]
[null,"PETŘÍKOVÁ","Adéla","6.B",3.73,null,"Jilemnice  09.06.21",{"$f":"IF(E121=0,0,IF(E121>0,(40*E121+10)/0.45))","v":353.77777777777777}]
[null,"REGÁLOVÁ","Karolína","6.B",null,null,null,{"$f":"IF(E122=0,0,IF(E122>0,(40*E122+10)/0.45))","v":0}]
[null,"RIEGROVÁ","Magdaléna","6.B",2.64,null,"Jilemnice  09.06.21",{"$f":"IF(E123=0,0,IF(E123>0,(40*E123+10)/0.45))","v":256.88888888888891}]
[null,"RYBENSKÁ","Sabina","6.B",null,null,null,{"$f":"IF(E124=0,0,IF(E124>0,(40*E124+10)/0.45))","v":0}]
[null,"STEINEROVÁ","Barbora","6.B",null,null,null,{"$f":"IF(E125=0,0,IF(E125>0,(40*E125+10)/0.45))","v":0}]
[null,"TOMEŠOVÁ","Barbora","6.B",null,null,null,{"$f":"IF(E126=0,0,IF(E126>0,(40*E126+10)/0.45))","v":0}]
[null,"VOHNOUTOVÁ","Aneta","6.B",null,null,null,{"$f":"IF(E127=0,0,IF(E127>0,(40*E127+10)/0.45))","v":0}]
[null,"HAVLÍKOVÁ","Michaela","7.A",2.61,null,"Jilemnice  02.10.20",{"$f":"IF(E128=0,0,IF(E128>0,(40*E128+10)/0.45))","v":254.2222222222222}]
[null,"HOLUBCOVÁ","Sára","7.A",4.04,null,"Jilemnice  02.10.20",{"$f":"IF(E129=0,0,IF(E129>0,(40*E129+10)/0.45))","v":381.33333333333331},null,3.1]
[null,"HONCŮ","Tereza","7.A",3.76,null,"Jilemnice  02.10.20",{"$f":"IF(E130=0,0,IF(E130>0,(40*E130+10)/0.45))","v":356.4444444444444},null,2.62]
[null,"HORÁČKOVÁ","Kateřina","7.A",5.5,null,"Jilemnice  02.10.20",{"$f":"IF(E131=0,0,IF(E131>0,(40*E131+10)/0.45))","v":511.11111111111109},null,4.9000000000000004]
[null,"JOUDALOVÁ","Daniela","7.A",3.85,null,"Jilemnice  02.10.20",{"$f":"IF(E132=0,0,IF(E132>0,(40*E132+10)/0.45))","v":364.44444444444446},null,2.87]
[null,"KLÍMOVÁ","Anna","7.A",4.5,null,"Jilemnice  02.10.20",{"$f":"IF(E133=0,0,IF(E133>0,(40*E133+10)/0.45))","v":422.22222222222223},null,4.4400000000000004]
[null,"KOHOUTOVÁ","Veronika","7.A",5.31,null,"Jilemnice  02.10.20",{"$f":"IF(E134=0,0,IF(E134>0,(40*E134+10)/0.45))","v":494.22222222222217},null,3.57]
[null,"KOVÁŘOVÁ","Viktorie","7.A",3.94,null,"Jilemnice  02.10.20",{"$f":"IF(E135=0,0,IF(E135>0,(40*E135+10)/0.45))","v":372.4444444444444},null,3.16]
[null,"KYNČLOVÁ","Anna","7.A",3.46,null,"Jilemnice  02.10.20",{"$f":"IF(E136=0,0,IF(E136>0,(40*E136+10)/0.45))","v":329.77777777777777},null,2.46]
[null,"MATOUŠOVÁ","Tereza","7.A",4.6100000000000003,null,"Jilemnice  02.10.20",{"$f":"IF(E137=0,0,IF(E137>0,(40*E137+10)/0.45))","v":432},null,3.51]
[null,"MAZÁNKOVÁ","Zuzana","7.A",4.5,null,"Jilemnice  02.10.20",{"$f":"IF(E138=0,0,IF(E138>0,(40*E138+10)/0.45))","v":422.22222222222223},null,3.66]
[null,"MORKESOVÁ","Sabrina","7.A",6.62,null,"Jilemnice  02.10.20",{"$f":"IF(E139=0,0,IF(E139>0,(40*E139+10)/0.45))","v":610.66666666666663},null,5.65]
[null,"POHOŘALÁ","Alžběta","7.A",4.26,null,"Jilemnice  02.10.20",{"$f":"IF(E140=0,0,IF(E140>0,(40*E140+10)/0.45))","v":400.8888888888888},null,3.78]
[null,"SCHOLZOVÁ","Laura","7.A",3.08,null,"Jilemnice  02.10.20",{"$f":"IF(E141=0,0,IF(E141>0,(40*E141+10)/0.45))","v":295.99999999999994},null,2.75]
[null,"VÁCLAVÍKOVÁ","Valerie","7.A",5.92,null,"Jilemnice  02.10.20",{"$f":"IF(E142=0,0,IF(E142>0,(40*E142+10)/0.45))","v":548.44444444444446},null,5.56]
[null,"ZAPADLOVÁ","Emma","7.A",4.26,null,"Jilemnice  02.10.20",{"$f":"IF(E143=0,0,IF(E143>0,(40*E143+10)/0.45))","v":400.8888888888888},null,5.08]
[null,"ŽIŠKOVÁ","Mia","7.A",null,null,null,{"$f":"IF(E144=0,0,IF(E144>0,(40*E144+10)/0.45))","v":0},null,3.84]
[null,"FARSKÁ","Tereza","7.B",null,null,null,{"$f":"IF(E145=0,0,IF(E145>0,(40*E145+10)/0.45))","v":0},null,2.2000000000000002]
[null,"FEIXOVÁ","Rozálie","7.B",null,null,null,{"$f":"IF(E146=0,0,IF(E146>0,(40*E146+10)/0.45))","v":0},null,2.8]
[null,"FIŠEROVÁ","Michaela","7.B",null,null,null,{"$f":"IF(E147=0,0,IF(E147>0,(40*E147+10)/0.45))","v":0},null,4.1500000000000004]
[null,"HAVLÍČKOVÁ","Kristýna","7.B",null,null,null,{"$f":"IF(E148=0,0,IF(E148>0,(40*E148+10)/0.45))","v":0},null,3.75]
[null,"JODASOVÁ","Nikola","7.B",null,null,null,{"$f":"IF(E149=0,0,IF(E149>0,(40*E149+10)/0.45))","v":0},null,4.8]
[null,"KADAVÁ","Nikola","7.B",null,null,null,{"$f":"IF(E150=0,0,IF(E150>0,(40*E150+10)/0.45))","v":0},null,3.79]
[null,"KRAFKOVÁ","Lucie","7.B",null,null,null,{"$f":"IF(E151=0,0,IF(E151>0,(40*E151+10)/0.45))","v":0}]
[null,"KŘIVINKOVÁ","Alžběta","7.B",null,null,null,{"$f":"IF(E152=0,0,IF(E152>0,(40*E152+10)/0.45))","v":0},null,5.15]
[null,"LEŠÁKOVÁ","Lenka","7.B",null,null,null,{"$f":"IF(E153=0,0,IF(E153>0,(40*E153+10)/0.45))","v":0},null,3.23]
[null,"NYKLÍČKOVÁ","Adéla","7.B",null,null,null,{"$f":"IF(E154=0,0,IF(E154>0,(40*E154+10)/0.45))","v":0},null,4.28]
[null,"PLŮCHOVÁ","Petra","7.B",null,null,null,{"$f":"IF(E155=0,0,IF(E155>0,(40*E155+10)/0.45))","v":0},null,5.53]
[null,"PODZIMKOVÁ","Eliška","7.B",null,null,null,{"$f":"IF(E156=0,0,IF(E156>0,(40*E156+10)/0.45))","v":0},null,2.4]
[null,"RUTKAYOVÁ","Klára","7.B",null,null,null,{"$f":"IF(E157=0,0,IF(E157>0,(40*E157+10)/0.45))","v":0},null,4.3099999999999996]
[null,"SEIDLOVÁ","Zuzana","7.B",null,null,null,{"$f":"IF(E158=0,0,IF(E158>0,(40*E158+10)/0.45))","v":0},null,5.9]
[null,"TOMÁŠOVÁ","Sára","7.B",null,null,null,{"$f":"IF(E159=0,0,IF(E159>0,(40*E159+10)/0.45))","v":0},null,4.8]
[null,"VANCLOVÁ","Barbora","7.B",null,null,null,{"$f":"IF(E160=0,0,IF(E160>0,(40*E160+10)/0.45))","v":0},null,3.98]
[null,"VOTOČKOVÁ","Veronika","7.B",null,null,null,{"$f":"IF(E161=0,0,IF(E161>0,(40*E161+10)/0.45))","v":0}]
[null,"HARTIGOVÁ","Anna","8.A",6.81,null,"Jilemnice  09.06.21",{"$f":"IF(E162=0,0,IF(E162>0,(40*E162+10)/0.45))","v":627.55555555555554},null,null,5.16]
[null,"HONCŮ","Rozálie","8.A",7.1,null,"Jilemnice  09.06.21",{"$f":"IF(E163=0,0,IF(E163>0,(40*E163+10)/0.45))","v":653.33333333333337},null,null,5.34]
[null,"CHALOUPSKÁ","Lucie","8.A",7.18,null,"Jilemnice  09.06.21",{"$f":"IF(E164=0,0,IF(E164>0,(40*E164+10)/0.45))","v":660.44444444444446},null,null,5.18]
[null,"KŘÍŽKOVÁ","Anna","8.A",5.8,null,"Jilemnice  09.06.21",{"$f":"IF(E165=0,0,IF(E165>0,(40*E165+10)/0.45))","v":537.77777777777771},null,null,4]
[null,"LUKEŠOVÁ","Kristýna","8.A",5.6,null,"Jilemnice  09.06.21",{"$f":"IF(E166=0,0,IF(E166>0,(40*E166+10)/0.45))","v":520},null,null,4.37]
[null,"MOTLÍKOVÁ","Eliška","8.A",6.39,null,"Jilemnice  09.06.21",{"$f":"IF(E167=0,0,IF(E167>0,(40*E167+10)/0.45))","v":590.22222222222229},null,null,5.3]
[null,"POHOŘELÁ","Amálie","8.A",5.9,null,"Jilemnice  09.06.21",{"$f":"IF(E168=0,0,IF(E168>0,(40*E168+10)/0.45))","v":546.66666666666663},null,null,4.55]
[null,"POLÁČKOVÁ","Natálie","8.A",3.6,null,"Jilemnice  09.06.21",{"$f":"IF(E169=0,0,IF(E169>0,(40*E169+10)/0.45))","v":342.22222222222223},null,null,2.73]
[null,"ŘEHOŘKOVÁ","Lucie","8.A",7.5,null,"Jilemnice  09.06.21",{"$f":"IF(E170=0,0,IF(E170>0,(40*E170+10)/0.45))","v":688.88888888888891},null,null,6.03]
[null,"SKÁLOVÁ","Alena","8.A",7.5,null,"Jilemnice  09.06.21",{"$f":"IF(E171=0,0,IF(E171>0,(40*E171+10)/0.45))","v":688.88888888888891},null,null,4.17]
[null,"VÁVROVÁ ","Aneta","8.A",5.5,null,"Jilemnice  09.06.21",{"$f":"IF(E172=0,0,IF(E172>0,(40*E172+10)/0.45))","v":511.11111111111109},null,null,3.8]
[null,"ZELINKOVÁ","Klára","8.A",6.74,null,"Jilemnice  09.06.21",{"$f":"IF(E173=0,0,IF(E173>0,(40*E173+10)/0.45))","v":621.33333333333337},null,null,5.5]
[null,"JUNGOVÁ ","Lucie","9.A",4.95,null,"Jilemnice  16.06.21",{"$f":"IF(E174=0,0,IF(E174>0,(40*E174+10)/0.45))","v":462.22222222222223},null,4.5,4.55,4.4400000000000004]
[null,"KŘIVÁNKOVÁ ","Linda","9.A",6.1,null,"Jilemnice  16.06.21",{"$f":"IF(E175=0,0,IF(E175>0,(40*E175+10)/0.45))","v":564.44444444444446},null,6.25,5.81,4.8499999999999996]
[null,"KUBÁTOVÁ","Lucie","9.A",null,null,"  ",{"$f":"IF(E176=0,0,IF(E176>0,(40*E176+10)/0.45))","v":0},null,4.9000000000000004,4.5199999999999996,3.54]
[null,"ŠIMŮNKOVÁ ","Nikola","9.A",5.0599999999999996,null,"Jilemnice  16.06.21",{"$f":"IF(E177=0,0,IF(E177>0,(40*E177+10)/0.45))","v":471.99999999999994},null,4.54,5.2,4.4400000000000004]
[null,"ŠMÍDOVÁ","Kristýna","9.A",6.32,null,"Jilemnice  16.06.21",{"$f":"IF(E178=0,0,IF(E178>0,(40*E178+10)/0.45))","v":584},null,5.82,5.35]
[null,"VOTOČKOVÁ ","Nikola","9.A",6.08,null,"Jilemnice  16.06.21",{"$f":"IF(E179=0,0,IF(E179>0,(40*E179+10)/0.45))","v":562.66666666666663},null,5.63,5.5,4.22]
[null,"VYHLASOVÁ","Lenka","9.A",6.64,null,"Jilemnice  16.06.21",{"$f":"IF(E180=0,0,IF(E180>0,(40*E180+10)/0.45))","v":612.44444444444434},null,6.54,6.39,6.12]
[null,"BÖHMOVÁ","Diana","9.B",5.66,null,"Jilemnice  16.06.21",{"$f":"IF(E181=0,0,IF(E181>0,(40*E181+10)/0.45))","v":525.33333333333337},null,null,5.46,2.37]
[null,"HOUDOVÁ","Tereza","9.B",null,null," ",{"$f":"IF(E182=0,0,IF(E182>0,(40*E182+10)/0.45))","v":0},null,6.7,5.3,5.45]
[null,"JANÍKOVÁ","Kristýna","9.B",6.9,null,"Jilemnice  16.06.21",{"$f":"IF(E183=0,0,IF(E183>0,(40*E183+10)/0.45))","v":635.55555555555554},null,6.7]
[null,"KUŽELOVÁ","Ela","9.B",6.14,null,"Jilemnice  16.06.21",{"$f":"IF(E184=0,0,IF(E184>0,(40*E184+10)/0.45))","v":568},null,5.77,5.7,4.97]
[null,"MATERNOVÁ","Lucie","9.B",3.94,null,"Jilemnice  16.06.21",{"$f":"IF(E185=0,0,IF(E185>0,(40*E185+10)/0.45))","v":372.4444444444444},null,3.94,4.16,2.77]
[null,"OPOČENSKÁ","Matylda","9.B",null,null," ",{"$f":"IF(E186=0,0,IF(E186>0,(40*E186+10)/0.45))","v":0}]
[null,"PIŠTOROVÁ","Karolína","9.B",null,null," ",{"$f":"IF(E187=0,0,IF(E187>0,(40*E187+10)/0.45))","v":0},null,5.2,5.18,3.1]
[null,"POKORNÝ","Anna","9.B",6.23,null,"Jilemnice  16.06.21",{"$f":"IF(E188=0,0,IF(E188>0,(40*E188+10)/0.45))","v":576.00000000000011},null,4.04,4.08,3]
[null,"SUCHÁNKOVÁ","Michaela","9.B",5.9,null,"Jilemnice  16.06.21",{"$f":"IF(E189=0,0,IF(E189>0,(40*E189+10)/0.45))","v":546.66666666666663},null,4.22,3.86,3.24]
[null,"ŠUBÍKOVÁ ","Štěpánka","9.B",5,null,"Jilemnice  16.06.21",{"$f":"IF(E190=0,0,IF(E190>0,(40*E190+10)/0.45))","v":466.66666666666663},null,null,4.37,3.68]
[null,"VANCLOVÁ","Pavlína","9.B",7.9,null,"Jilemnice  16.06.21",{"$f":"IF(E191=0,0,IF(E191>0,(40*E191+10)/0.45))","v":724.44444444444446},null,7.48,7.05,6.05]

{"sheet":"Dčlu","index":14,"n_rows":191,"n_cols":12,"rows_kept":191,"cut":false,"hidden":false,"merged":[]}
[null,null,"VÝKONY   2020 - 2021",null,null,null,"ČLUNEK","DĚVČATA  6. -  9.  ROČ."]
[null,null,null,null,null,null,null,null,null,null,"stav  k ",{"$f":"TODAY()","v":44375}]
[null,null,null,null,null,null,null,"   BODY",null,"   19 - 20   ","   18 - 19   ","   17 - 18   "]
[]
["1.",{"$f":"B101","v":"ERBENOVÁ"},{"$f":"C101","v":"Sára"},"6.A",0,null,0,0,null,0,0,0]
["2.",{"$f":"B102","v":"HOFMANOVÁ "},"Nicol","6.A",12.25,null,"Jilemnice  14.06.21",606.79776690367351,null,0,0,0]
["3.","HOLEŠOVSKÁ","Aneta","6.A",0,null,0,0,null,0,0,0]
["4.","HOLUBCOVÁ","Alena","6.A",11.03,null,"Jilemnice  14.06.21",680.42888189513451,null,0,0,0]
["5.","KOHOUTOVÁ","Anna","6.A",13.62,null,"Jilemnice  14.06.21",539.83698467963779,null,0,0,0]
["6.","KRAUSOVÁ","Anežka","6.A",11.7,null,"Jilemnice  14.06.21",638.09124869544166,null,0,0,0]
["7.","KUŽELOVÁ","Apoléna","6.A",0,null,0,0,null,0,0,0]
["8.","MORÁVKOVÁ","Lucie","6.A",0,null,0,0,null,0,0,0]
["9.","SKLENÁROVÁ","Eliška","6.A",0,null,0,0,null,0,0,0]
["10.","ŠTOLFOVÁ","Tereza","6.A",11.97,null,"Jilemnice  14.06.21",622.36964301058197,null,0,0,0]
["11.","ŠUBÍKOVÁ","Klára","6.A",11.62,null,"Jilemnice  14.06.21",642.88981107314976,null,0,0,0]
["12.","TULÁČKOVÁ","Natálie","6.A",0,null,0,0,null,0,0,0]
["13.","VOJTÍŠKOVÁ","Ella","6.A",0,null,0,0,null,0,0,0]
["14.","DRUGÁČOVÁ","Kristinka","6.B",10.84,null,"Jilemnice  14.06.21",693.38759734963094,null,0,0,0]
["15.","FAJSTAVROVÁ","Karolína","6.B",0,null,0,0,null,0,0,0]
["16.","FAJSTAVROVÁ","Magdaléna","6.B",0,null,0,0,null,0,0,0]
["17.","HLAVATÁ","Anna","6.B",11.8,null,"Jilemnice  14.06.21",632.18454373474572,null,0,0,0]
["18.",{"$f":"B118","v":"JINDROVÁ"},"Barbora","6.B",0,null,0,0,null,0,0,0]
["19.","MAŘASOVÁ","Vendula","6.B",0,null,0,0,null,0,0,0]
["20.","PETŘÍČKOVÁ","Natálie","6.B",0,null,0,0,null,0,0,0]
["21.","PETŘÍKOVÁ","Adéla","6.B",12.88,null,"Jilemnice  14.06.21",574.23646618555904,null,0,0,0]
["22.","REGÁLOVÁ","Karolína","6.B",0,null,0,0,null,0,0,0]
["23.","RIEGROVÁ","Magdaléna","6.B",12.61,null,"Jilemnice  14.06.21",587.79291573116575,null,0,0,0]
["24.","RYBENSKÁ","Sabina","6.B",0,null,0,0,null,0,0,0]
["25.","STEINEROVÁ","Barbora","6.B",0,null,0,0,null,0,0,0]
["26.","TOMEŠOVÁ","Barbora","6.B",0,null,0,0,null,0,0,0]
["27.","VOHNOUTOVÁ","Aneta","6.B",0,null,0,0,null,0,0,0]
["28.","HAVLÍKOVÁ","Michaela","7.A",11.13,null,"Jilemnice  07.06.21",673.78621506169497,null,12.46,0,0]
["29.","HOLUBCOVÁ","Sára","7.A",10.65,null,"Jilemnice  07.06.21",706.8086895057902,null,10.87,0,0]
["30.","HONCŮ","Tereza","7.A",0,null,0,0,null,11.63,0,0]
["31.","HORÁČKOVÁ","Kateřina","7.A",10.83,null,"Jilemnice  07.06.21",694.08223034502919,null,10.96,0,0]
["32.","JOUDALOVÁ","Daniela","7.A",0,null,0,0,null,14.45,0,0]
["33.","KLÍMOVÁ","Anna","7.A",11.3,null,"Jilemnice  07.06.21",662.76350304454274,null,11.46,0,0]
["34.",{"$f":"B134","v":"KOHOUTOVÁ"},"Veronika","7.A",10.81,null,"Jilemnice  07.06.21",695.47535183811272,null,10.88,0,0]
["35.","KOVÁŘOVÁ","Viktorie","7.A",10.85,null,"Jilemnice  07.06.21",692.69424478371741,null,12,0,0]
["36.","KYNČLOVÁ","Anna","7.A",10.08,null,"Jilemnice  07.06.21",750.10768920006615,null,10.8,0,0]
["37.","MATOUŠOVÁ","Tereza","7.A",11.86,null,"Jilemnice  07.06.21",628.68833219814508,null,12.46,0,0]
["38.","MAZÁNKOVÁ","Zuzana","7.A",0,null,0,0,null,12.51,0,0]
["39.","MORKESOVÁ","Sabrina","7.A",10.16,null,"Jilemnice  07.06.21",743.73755041371385,null,10.82,0,0]
["40.","POHOŘALÁ","Alžběta","7.A",10.75,null,"Jilemnice  07.06.21",699.68581856465107,null,11.52,0,0]
["41.","SCHOLZOVÁ","Laura","7.A",11.73,null,"Jilemnice  07.06.21",636.30866254362036,null,12.75,0,0]
["42.","VÁCLAVÍKOVÁ","Valerie","7.A",10.97,null,"Jilemnice  07.06.21",684.47261289911864,null,0,0,0]
["43.","ZAPADLOVÁ","Emma","7.A",10.88,null,"Jilemnice  07.06.21",690.62183435692396,null,12.18,0,0]
["44.","ŽIŠKOVÁ","Mia","7.A",0,null,0,0,null,11.37,0,0]
["45.","FARSKÁ","Tereza","7.B",0,null,0,0,null,0,0,0]
["46.","FEIXOVÁ","Rozálie","7.B",0,null,0,0,null,0,0,0]
["47.","FIŠEROVÁ","Michaela","7.B",0,null,0,0,null,0,0,0]
["48.","HAVLÍČKOVÁ","Kristýna","7.B",0,null,0,0,null,0,0,0]
["49.","JODASOVÁ","Nikola","7.B",0,null,0,0,null,0,0,0]
["50.",{"$f":"B150","v":"KADAVÁ"},"Nikola","7.B",0,null,0,0,null,0,0,0]
["51.","KRAFKOVÁ","Lucie","7.B",0,null,0,0,null,0,0,0]
["52.","KŘIVINKOVÁ","Alžběta","7.B",0,null,0,0,null,0,0,0]
["53.","LEŠÁKOVÁ","Lenka","7.B",0,null,0,0,null,0,0,0]
["54.","NYKLÍČKOVÁ","Adéla","7.B",0,null,0,0,null,0,0,0]
["55.","PLŮCHOVÁ","Petra","7.B",0,null,0,0,null,0,0,0]
["56.","PODZIMKOVÁ","Eliška","7.B",0,null,0,0,null,0,0,0]
["57.","RUTKAYOVÁ","Klára","7.B",0,null,0,0,null,0,0,0]
["58.","SEIDLOVÁ","Zuzana","7.B",0,null,0,0,null,0,0,0]
["59.","TOMÁŠOVÁ","Sára","7.B",0,null,0,0,null,0,0,0]
["60.","VANCLOVÁ","Barbora","7.B",0,null,0,0,null,0,0,0]
["61.","VOTOČKOVÁ","Veronika","7.B",0,null,0,0,null,0,0,0]
["62.","HARTIGOVÁ","Anna","8.A",0,null," ",0,null,0,11.41,0]
["63.","HONCŮ","Rozálie","8.A",10.29,null,"Jilemnice  14.06.21",733.59732948850012,null,0,10.9,0]
["64.","CHALOUPSKÁ","Lucie","8.A",10.72,null,"Jilemnice  14.06.21",701.80872646175362,null,0,11.37,0]
["65.","KŘÍŽKOVÁ","Anna","8.A",11.32,null,"Jilemnice  14.06.21",661.48847929946976,null,0,12.79,0]
["66.",{"$f":"B166","v":"LUKEŠOVÁ"},"Kristýna","8.A",10.83,null,"Jilemnice  14.06.21",694.08223034502919,null,0,11.42,0]
["67.","MOTLÍKOVÁ","Eliška","8.A",10.92,null,"Jilemnice  14.06.21",687.87633336416366,null,0,11.59,0]
["68.","POHOŘELÁ","Amálie","8.A",11.17,null,"Jilemnice  14.06.21",671.16245086571166,null,0,12.03,0]
["69.","POLÁČKOVÁ","Natálie","8.A",13.04,null,"Jilemnice  14.06.21",566.46792136528632,null,0,13.36,0]
["70.","ŘEHOŘKOVÁ","Lucie","8.A",10.37,null,"Jilemnice  14.06.21",727.48356080070721,null,0,12.83,0]
["71.","SKÁLOVÁ","Alena","8.A",11.83,null,"Jilemnice  14.06.21",630.43200490025367,null,0,12.8,0]
["72.","VÁVROVÁ ","Aneta","8.A",0,null," ",0,null,0,11.91,0]
["73.","ZELINKOVÁ","Klára","8.A",11.13,null,"Jilemnice  14.06.21",673.78621506169497,null,0,11.77,0]
["74.","JUNGOVÁ ","Lucie","9.A",11.13,null,"Jilemnice  14.06.21",673.78621506169497,null,0,11.46,12.38]
["75.","KŘIVÁNKOVÁ ","Linda","9.A",11.69,null,"Jilemnice  14.06.21",638.68747725434832,null,0,12.27,12.67]
["76.","KUBÁTOVÁ","Lucie","9.A",0,null," ",0,null,0,12.12,11.88]
["77.","ŠIMŮNKOVÁ ","Nikola","9.A",12.44,null,"Jilemnice  14.06.21",596.63035824785641,null,0,11.89,13.13]
["78.","ŠMÍDOVÁ","Kristýna","9.A",12.99,null,"Jilemnice  14.06.21",568.87503398280717,null,0,13.02,15.84]
["79.","VOTOČKOVÁ ","Nikola","9.A",10.73,null,"Jilemnice  14.06.21",701.09977151009628,null,0,11.62,11.77]
["80.","VYHLASOVÁ","Lenka","9.A",14.1,null,"Jilemnice  14.06.21",519.45445118699763,null,0,13.16,13.84]
["81.","BÖHMOVÁ","Diana","9.B",11.39,null,"Jilemnice  14.06.21",657.06115804243473,null,0,11.45,12.88]
["82.",{"$f":"B182","v":"HOUDOVÁ"},"Tereza","9.B",0,null," ",0,null,0,0,12.19]
["83.","JANÍKOVÁ","Kristýna","9.B",0,null," ",0,null,0,0,0]
["84.","KUŽELOVÁ","Ela","9.B",10.8,null,"Jilemnice  14.06.21",696.17384747561709,null,0,10.91,12.18]
["85.","MATERNOVÁ","Lucie","9.B",11.66,null,"Jilemnice  14.06.21",640.48229907404232,null,0,11.35,12.16]
["86.","OPOČENSKÁ","Matylda","9.B",0,null," ",0,null,0,0,13.01]
["87.","PIŠTOROVÁ","Karolína","9.B",10.92,null,"Jilemnice  14.06.21",687.87633336416366,null,0,10.74,12.04]
["88.","POKORNÝ","Anna","9.B",0,null," ",0,null,0,0,13.04]
["89.","SUCHÁNKOVÁ","Michaela","9.B",14.14,null,"Jilemnice  14.06.21",517.81837088189536,null,0,14.04,14.86]
["90.","ŠUBÍKOVÁ ","Štěpánka","9.B",10.85,null,"Jilemnice  14.06.21",692.69424478371741,null,0,11.14,12.84]
["91.","VANCLOVÁ","Pavlína","9.B",11.43,null,"Jilemnice  14.06.21",654.55560740478279,null,0,11.8,14.06]
[]
[]
[]
[]
[]
[null,"ERBENOVÁ","Sára","6.A",null,null,null,{"$f":"IF(E101=0,0,IF(E101>0,((1000 - 321 / E101 + 340 / E101*2 - 16600 / E101*3 + 32190000000 / E101*4)/15000000-62)*0.95))","v":0}]
[null,"HOFMANOVÁ ","Nicol","6.A",12.25,null,"Jilemnice  14.06.21",{"$f":"IF(E102=0,0,IF(E102>0,((1000 - 321 / E102 + 340 / E102*2 - 16600 / E102*3 + 32190000000 / E102*4)/15000000-62)*0.95))","v":606.79776690367351}]
[null,"HOLEŠOVSKÁ","Aneta","6.A",null,null,null,{"$f":"IF(E103=0,0,IF(E103>0,((1000 - 321 / E103 + 340 / E103*2 - 16600 / E103*3 + 32190000000 / E103*4)/15000000-62)*0.95))","v":0}]
[null,"HOLUBCOVÁ","Alena","6.A",11.03,null,"Jilemnice  14.06.21",{"$f":"IF(E104=0,0,IF(E104>0,((1000 - 321 / E104 + 340 / E104*2 - 16600 / E104*3 + 32190000000 / E104*4)/15000000-62)*0.95))","v":680.42888189513451}]
[null,"KOHOUTOVÁ","Anna","6.A",13.62,null,"Jilemnice  14.06.21",{"$f":"IF(E105=0,0,IF(E105>0,((1000 - 321 / E105 + 340 / E105*2 - 16600 / E105*3 + 32190000000 / E105*4)/15000000-62)*0.95))","v":539.83698467963779}]
[null,"KRAUSOVÁ","Anežka","6.A",11.7,null,"Jilemnice  14.06.21",{"$f":"IF(E106=0,0,IF(E106>0,((1000 - 321 / E106 + 340 / E106*2 - 16600 / E106*3 + 32190000000 / E106*4)/15000000-62)*0.95))","v":638.09124869544166}]
[null,"KUŽELOVÁ","Apoléna","6.A",null,null,null,{"$f":"IF(E107=0,0,IF(E107>0,((1000 - 321 / E107 + 340 / E107*2 - 16600 / E107*3 + 32190000000 / E107*4)/15000000-62)*0.95))","v":0}]
[null,"MORÁVKOVÁ","Lucie","6.A",null,null,null,{"$f":"IF(E108=0,0,IF(E108>0,((1000 - 321 / E108 + 340 / E108*2 - 16600 / E108*3 + 32190000000 / E108*4)/15000000-62)*0.95))","v":0}]
[null,"SKLENÁROVÁ","Eliška","6.A",null,null,null,{"$f":"IF(E109=0,0,IF(E109>0,((1000 - 321 / E109 + 340 / E109*2 - 16600 / E109*3 + 32190000000 / E109*4)/15000000-62)*0.95))","v":0}]
[null,"ŠTOLFOVÁ","Tereza","6.A",11.97,null,"Jilemnice  14.06.21",{"$f":"IF(E110=0,0,IF(E110>0,((1000 - 321 / E110 + 340 / E110*2 - 16600 / E110*3 + 32190000000 / E110*4)/15000000-62)*0.95))","v":622.36964301058197}]
[null,"ŠUBÍKOVÁ","Klára","6.A",11.62,null,"Jilemnice  14.06.21",{"$f":"IF(E111=0,0,IF(E111>0,((1000 - 321 / E111 + 340 / E111*2 - 16600 / E111*3 + 32190000000 / E111*4)/15000000-62)*0.95))","v":642.88981107314976}]
[null,"TULÁČKOVÁ","Natálie","6.A",null,null,null,{"$f":"IF(E112=0,0,IF(E112>0,((1000 - 321 / E112 + 340 / E112*2 - 16600 / E112*3 + 32190000000 / E112*4)/15000000-62)*0.95))","v":0}]
[null,"VOJTÍŠKOVÁ","Ella","6.A",null,null,null,{"$f":"IF(E113=0,0,IF(E113>0,((1000 - 321 / E113 + 340 / E113*2 - 16600 / E113*3 + 32190000000 / E113*4)/15000000-62)*0.95))","v":0}]
[null,"DRUGÁČOVÁ","Kristinka","6.B",10.84,null,"Jilemnice  14.06.21",{"$f":"IF(E114=0,0,IF(E114>0,((1000 - 321 / E114 + 340 / E114*2 - 16600 / E114*3 + 32190000000 / E114*4)/15000000-62)*0.95))","v":693.38759734963094}]
[null,"FAJSTAVROVÁ","Karolína","6.B",null,null,null,{"$f":"IF(E115=0,0,IF(E115>0,((1000 - 321 / E115 + 340 / E115*2 - 16600 / E115*3 + 32190000000 / E115*4)/15000000-62)*0.95))","v":0}]
[null,"FAJSTAVROVÁ","Magdaléna","6.B",null,null,null,{"$f":"IF(E116=0,0,IF(E116>0,((1000 - 321 / E116 + 340 / E116*2 - 16600 / E116*3 + 32190000000 / E116*4)/15000000-62)*0.95))","v":0}]
[null,"HLAVATÁ","Anna","6.B",11.8,null,"Jilemnice  14.06.21",{"$f":"IF(E117=0,0,IF(E117>0,((1000 - 321 / E117 + 340 / E117*2 - 16600 / E117*3 + 32190000000 / E117*4)/15000000-62)*0.95))","v":632.18454373474572}]
[null,"JINDROVÁ","Barbora","6.B",null,null,null,{"$f":"IF(E118=0,0,IF(E118>0,((1000 - 321 / E118 + 340 / E118*2 - 16600 / E118*3 + 32190000000 / E118*4)/15000000-62)*0.95))","v":0}]
[null,"MAŘASOVÁ","Vendula","6.B",null,null,null,{"$f":"IF(E119=0,0,IF(E119>0,((1000 - 321 / E119 + 340 / E119*2 - 16600 / E119*3 + 32190000000 / E119*4)/15000000-62)*0.95))","v":0}]
[null,"PETŘÍČKOVÁ","Natálie","6.B",null,null,null,{"$f":"IF(E120=0,0,IF(E120>0,((1000 - 321 / E120 + 340 / E120*2 - 16600 / E120*3 + 32190000000 / E120*4)/15000000-62)*0.95))","v":0}]
[null,"PETŘÍKOVÁ","Adéla","6.B",12.88,null,"Jilemnice  14.06.21",{"$f":"IF(E121=0,0,IF(E121>0,((1000 - 321 / E121 + 340 / E121*2 - 16600 / E121*3 + 32190000000 / E121*4)/15000000-62)*0.95))","v":574.23646618555904}]
[null,"REGÁLOVÁ","Karolína","6.B",null,null,null,{"$f":"IF(E122=0,0,IF(E122>0,((1000 - 321 / E122 + 340 / E122*2 - 16600 / E122*3 + 32190000000 / E122*4)/15000000-62)*0.95))","v":0}]
[null,"RIEGROVÁ","Magdaléna","6.B",12.61,null,"Jilemnice  14.06.21",{"$f":"IF(E123=0,0,IF(E123>0,((1000 - 321 / E123 + 340 / E123*2 - 16600 / E123*3 + 32190000000 / E123*4)/15000000-62)*0.95))","v":587.79291573116575}]
[null,"RYBENSKÁ","Sabina","6.B",null,null,null,{"$f":"IF(E124=0,0,IF(E124>0,((1000 - 321 / E124 + 340 / E124*2 - 16600 / E124*3 + 32190000000 / E124*4)/15000000-62)*0.95))","v":0}]
[null,"STEINEROVÁ","Barbora","6.B",null,null,null,{"$f":"IF(E125=0,0,IF(E125>0,((1000 - 321 / E125 + 340 / E125*2 - 16600 / E125*3 + 32190000000 / E125*4)/15000000-62)*0.95))","v":0}]
[null,"TOMEŠOVÁ","Barbora","6.B",null,null,null,{"$f":"IF(E126=0,0,IF(E126>0,((1000 - 321 / E126 + 340 / E126*2 - 16600 / E126*3 + 32190000000 / E126*4)/15000000-62)*0.95))","v":0}]
[null,"VOHNOUTOVÁ","Aneta","6.B",null,null,null,{"$f":"IF(E127=0,0,IF(E127>0,((1000 - 321 / E127 + 340 / E127*2 - 16600 / E127*3 + 32190000000 / E127*4)/15000000-62)*0.95))","v":0}]
[null,"HAVLÍKOVÁ","Michaela","7.A",11.13,null,"Jilemnice  07.06.21",{"$f":"IF(E128=0,0,IF(E128>0,((1000 - 321 / E128 + 340 / E128*2 - 16600 / E128*3 + 32190000000 / E128*4)/15000000-62)*0.95))","v":673.78621506169497},null,12.46]
[null,"HOLUBCOVÁ","Sára","7.A",10.65,null,"Jilemnice  07.06.21",{"$f":"IF(E129=0,0,IF(E129>0,((1000 - 321 / E129 + 340 / E129*2 - 16600 / E129*3 + 32190000000 / E129*4)/15000000-62)*0.95))","v":706.8086895057902},null,10.87]
[null,"HONCŮ","Tereza","7.A",null,null,null,{"$f":"IF(E130=0,0,IF(E130>0,((1000 - 321 / E130 + 340 / E130*2 - 16600 / E130*3 + 32190000000 / E130*4)/15000000-62)*0.95))","v":0},null,11.63]
[null,"HORÁČKOVÁ","Kateřina","7.A",10.83,null,"Jilemnice  07.06.21",{"$f":"IF(E131=0,0,IF(E131>0,((1000 - 321 / E131 + 340 / E131*2 - 16600 / E131*3 + 32190000000 / E131*4)/15000000-62)*0.95))","v":694.08223034502919},null,10.96]
[null,"JOUDALOVÁ","Daniela","7.A",null,null,null,{"$f":"IF(E132=0,0,IF(E132>0,((1000 - 321 / E132 + 340 / E132*2 - 16600 / E132*3 + 32190000000 / E132*4)/15000000-62)*0.95))","v":0},null,14.45]
[null,"KLÍMOVÁ","Anna","7.A",11.3,null,"Jilemnice  07.06.21",{"$f":"IF(E133=0,0,IF(E133>0,((1000 - 321 / E133 + 340 / E133*2 - 16600 / E133*3 + 32190000000 / E133*4)/15000000-62)*0.95))","v":662.76350304454274},null,11.46]
[null,"KOHOUTOVÁ","Veronika","7.A",10.81,null,"Jilemnice  07.06.21",{"$f":"IF(E134=0,0,IF(E134>0,((1000 - 321 / E134 + 340 / E134*2 - 16600 / E134*3 + 32190000000 / E134*4)/15000000-62)*0.95))","v":695.47535183811272},null,10.88]
[null,"KOVÁŘOVÁ","Viktorie","7.A",10.85,null,"Jilemnice  07.06.21",{"$f":"IF(E135=0,0,IF(E135>0,((1000 - 321 / E135 + 340 / E135*2 - 16600 / E135*3 + 32190000000 / E135*4)/15000000-62)*0.95))","v":692.69424478371741},null,12]
[null,"KYNČLOVÁ","Anna","7.A",10.08,null,"Jilemnice  07.06.21",{"$f":"IF(E136=0,0,IF(E136>0,((1000 - 321 / E136 + 340 / E136*2 - 16600 / E136*3 + 32190000000 / E136*4)/15000000-62)*0.95))","v":750.10768920006615},null,10.8]
[null,"MATOUŠOVÁ","Tereza","7.A",11.86,null,"Jilemnice  07.06.21",{"$f":"IF(E137=0,0,IF(E137>0,((1000 - 321 / E137 + 340 / E137*2 - 16600 / E137*3 + 32190000000 / E137*4)/15000000-62)*0.95))","v":628.68833219814508},null,12.46]
[null,"MAZÁNKOVÁ","Zuzana","7.A",null,null,null,{"$f":"IF(E138=0,0,IF(E138>0,((1000 - 321 / E138 + 340 / E138*2 - 16600 / E138*3 + 32190000000 / E138*4)/15000000-62)*0.95))","v":0},null,12.51]
[null,"MORKESOVÁ","Sabrina","7.A",10.16,null,"Jilemnice  07.06.21",{"$f":"IF(E139=0,0,IF(E139>0,((1000 - 321 / E139 + 340 / E139*2 - 16600 / E139*3 + 32190000000 / E139*4)/15000000-62)*0.95))","v":743.73755041371385},null,10.82]
[null,"POHOŘALÁ","Alžběta","7.A",10.75,null,"Jilemnice  07.06.21",{"$f":"IF(E140=0,0,IF(E140>0,((1000 - 321 / E140 + 340 / E140*2 - 16600 / E140*3 + 32190000000 / E140*4)/15000000-62)*0.95))","v":699.68581856465107},null,11.52]
[null,"SCHOLZOVÁ","Laura","7.A",11.73,null,"Jilemnice  07.06.21",{"$f":"IF(E141=0,0,IF(E141>0,((1000 - 321 / E141 + 340 / E141*2 - 16600 / E141*3 + 32190000000 / E141*4)/15000000-62)*0.95))","v":636.30866254362036},null,12.75]
[null,"VÁCLAVÍKOVÁ","Valerie","7.A",10.97,null,"Jilemnice  07.06.21",{"$f":"IF(E142=0,0,IF(E142>0,((1000 - 321 / E142 + 340 / E142*2 - 16600 / E142*3 + 32190000000 / E142*4)/15000000-62)*0.95))","v":684.47261289911864}]
[null,"ZAPADLOVÁ","Emma","7.A",10.88,null,"Jilemnice  07.06.21",{"$f":"IF(E143=0,0,IF(E143>0,((1000 - 321 / E143 + 340 / E143*2 - 16600 / E143*3 + 32190000000 / E143*4)/15000000-62)*0.95))","v":690.62183435692396},null,12.18]
[null,"ŽIŠKOVÁ","Mia","7.A",null,null,null,{"$f":"IF(E144=0,0,IF(E144>0,((1000 - 321 / E144 + 340 / E144*2 - 16600 / E144*3 + 32190000000 / E144*4)/15000000-62)*0.95))","v":0},null,11.37]
[null,"FARSKÁ","Tereza","7.B",null,null,null,{"$f":"IF(E145=0,0,IF(E145>0,((1000 - 321 / E145 + 340 / E145*2 - 16600 / E145*3 + 32190000000 / E145*4)/15000000-62)*0.95))","v":0}]
[null,"FEIXOVÁ","Rozálie","7.B",null,null,null,{"$f":"IF(E146=0,0,IF(E146>0,((1000 - 321 / E146 + 340 / E146*2 - 16600 / E146*3 + 32190000000 / E146*4)/15000000-62)*0.95))","v":0}]
[null,"FIŠEROVÁ","Michaela","7.B",null,null,null,{"$f":"IF(E147=0,0,IF(E147>0,((1000 - 321 / E147 + 340 / E147*2 - 16600 / E147*3 + 32190000000 / E147*4)/15000000-62)*0.95))","v":0}]
[null,"HAVLÍČKOVÁ","Kristýna","7.B",null,null,null,{"$f":"IF(E148=0,0,IF(E148>0,((1000 - 321 / E148 + 340 / E148*2 - 16600 / E148*3 + 32190000000 / E148*4)/15000000-62)*0.95))","v":0}]
[null,"JODASOVÁ","Nikola","7.B",null,null,null,{"$f":"IF(E149=0,0,IF(E149>0,((1000 - 321 / E149 + 340 / E149*2 - 16600 / E149*3 + 32190000000 / E149*4)/15000000-62)*0.95))","v":0}]
[null,"KADAVÁ","Nikola","7.B",null,null,null,{"$f":"IF(E150=0,0,IF(E150>0,((1000 - 321 / E150 + 340 / E150*2 - 16600 / E150*3 + 32190000000 / E150*4)/15000000-62)*0.95))","v":0}]
[null,"KRAFKOVÁ","Lucie","7.B",null,null,null,{"$f":"IF(E151=0,0,IF(E151>0,((1000 - 321 / E151 + 340 / E151*2 - 16600 / E151*3 + 32190000000 / E151*4)/15000000-62)*0.95))","v":0}]
[null,"KŘIVINKOVÁ","Alžběta","7.B",null,null,null,{"$f":"IF(E152=0,0,IF(E152>0,((1000 - 321 / E152 + 340 / E152*2 - 16600 / E152*3 + 32190000000 / E152*4)/15000000-62)*0.95))","v":0}]
[null,"LEŠÁKOVÁ","Lenka","7.B",null,null,null,{"$f":"IF(E153=0,0,IF(E153>0,((1000 - 321 / E153 + 340 / E153*2 - 16600 / E153*3 + 32190000000 / E153*4)/15000000-62)*0.95))","v":0}]
[null,"NYKLÍČKOVÁ","Adéla","7.B",null,null,null,{"$f":"IF(E154=0,0,IF(E154>0,((1000 - 321 / E154 + 340 / E154*2 - 16600 / E154*3 + 32190000000 / E154*4)/15000000-62)*0.95))","v":0}]
[null,"PLŮCHOVÁ","Petra","7.B",null,null,null,{"$f":"IF(E155=0,0,IF(E155>0,((1000 - 321 / E155 + 340 / E155*2 - 16600 / E155*3 + 32190000000 / E155*4)/15000000-62)*0.95))","v":0}]
[null,"PODZIMKOVÁ","Eliška","7.B",null,null,null,{"$f":"IF(E156=0,0,IF(E156>0,((1000 - 321 / E156 + 340 / E156*2 - 16600 / E156*3 + 32190000000 / E156*4)/15000000-62)*0.95))","v":0}]
[null,"RUTKAYOVÁ","Klára","7.B",null,null,null,{"$f":"IF(E157=0,0,IF(E157>0,((1000 - 321 / E157 + 340 / E157*2 - 16600 / E157*3 + 32190000000 / E157*4)/15000000-62)*0.95))","v":0}]
[null,"SEIDLOVÁ","Zuzana","7.B",null,null,null,{"$f":"IF(E158=0,0,IF(E158>0,((1000 - 321 / E158 + 340 / E158*2 - 16600 / E158*3 + 32190000000 / E158*4)/15000000-62)*0.95))","v":0}]
[null,"TOMÁŠOVÁ","Sára","7.B",null,null,null,{"$f":"IF(E159=0,0,IF(E159>0,((1000 - 321 / E159 + 340 / E159*2 - 16600 / E159*3 + 32190000000 / E159*4)/15000000-62)*0.95))","v":0}]
[null,"VANCLOVÁ","Barbora","7.B",null,null,null,{"$f":"IF(E160=0,0,IF(E160>0,((1000 - 321 / E160 + 340 / E160*2 - 16600 / E160*3 + 32190000000 / E160*4)/15000000-62)*0.95))","v":0}]
[null,"VOTOČKOVÁ","Veronika","7.B",null,null,null,{"$f":"IF(E161=0,0,IF(E161>0,((1000 - 321 / E161 + 340 / E161*2 - 16600 / E161*3 + 32190000000 / E161*4)/15000000-62)*0.95))","v":0}]
[null,"HARTIGOVÁ","Anna","8.A",null,null," ",{"$f":"IF(E162=0,0,IF(E162>0,((1000 - 321 / E162 + 340 / E162*2 - 16600 / E162*3 + 32190000000 / E162*4)/15000000-62)*0.95))","v":0},null,null,11.41]
[null,"HONCŮ","Rozálie","8.A",10.29,null,"Jilemnice  14.06.21",{"$f":"IF(E163=0,0,IF(E163>0,((1000 - 321 / E163 + 340 / E163*2 - 16600 / E163*3 + 32190000000 / E163*4)/15000000-62)*0.95))","v":733.59732948850012},null,null,10.9]
[null,"CHALOUPSKÁ","Lucie","8.A",10.72,null,"Jilemnice  14.06.21",{"$f":"IF(E164=0,0,IF(E164>0,((1000 - 321 / E164 + 340 / E164*2 - 16600 / E164*3 + 32190000000 / E164*4)/15000000-62)*0.95))","v":701.80872646175362},null,null,11.37]
[null,"KŘÍŽKOVÁ","Anna","8.A",11.32,null,"Jilemnice  14.06.21",{"$f":"IF(E165=0,0,IF(E165>0,((1000 - 321 / E165 + 340 / E165*2 - 16600 / E165*3 + 32190000000 / E165*4)/15000000-62)*0.95))","v":661.48847929946976},null,null,12.79]
[null,"LUKEŠOVÁ","Kristýna","8.A",10.83,null,"Jilemnice  14.06.21",{"$f":"IF(E166=0,0,IF(E166>0,((1000 - 321 / E166 + 340 / E166*2 - 16600 / E166*3 + 32190000000 / E166*4)/15000000-62)*0.95))","v":694.08223034502919},null,null,11.42]
[null,"MOTLÍKOVÁ","Eliška","8.A",10.92,null,"Jilemnice  14.06.21",{"$f":"IF(E167=0,0,IF(E167>0,((1000 - 321 / E167 + 340 / E167*2 - 16600 / E167*3 + 32190000000 / E167*4)/15000000-62)*0.95))","v":687.87633336416366},null,null,11.59]
[null,"POHOŘELÁ","Amálie","8.A",11.17,null,"Jilemnice  14.06.21",{"$f":"IF(E168=0,0,IF(E168>0,((1000 - 321 / E168 + 340 / E168*2 - 16600 / E168*3 + 32190000000 / E168*4)/15000000-62)*0.95))","v":671.16245086571166},null,null,12.03]
[null,"POLÁČKOVÁ","Natálie","8.A",13.04,null,"Jilemnice  14.06.21",{"$f":"IF(E169=0,0,IF(E169>0,((1000 - 321 / E169 + 340 / E169*2 - 16600 / E169*3 + 32190000000 / E169*4)/15000000-62)*0.95))","v":566.46792136528632},null,null,13.36]
[null,"ŘEHOŘKOVÁ","Lucie","8.A",10.37,null,"Jilemnice  14.06.21",{"$f":"IF(E170=0,0,IF(E170>0,((1000 - 321 / E170 + 340 / E170*2 - 16600 / E170*3 + 32190000000 / E170*4)/15000000-62)*0.95))","v":727.48356080070721},null,null,12.83]
[null,"SKÁLOVÁ","Alena","8.A",11.83,null,"Jilemnice  14.06.21",{"$f":"IF(E171=0,0,IF(E171>0,((1000 - 321 / E171 + 340 / E171*2 - 16600 / E171*3 + 32190000000 / E171*4)/15000000-62)*0.95))","v":630.43200490025367},null,null,12.8]
[null,"VÁVROVÁ ","Aneta","8.A",null,null," ",{"$f":"IF(E172=0,0,IF(E172>0,((1000 - 321 / E172 + 340 / E172*2 - 16600 / E172*3 + 32190000000 / E172*4)/15000000-62)*0.95))","v":0},null,null,11.91]
[null,"ZELINKOVÁ","Klára","8.A",11.13,null,"Jilemnice  14.06.21",{"$f":"IF(E173=0,0,IF(E173>0,((1000 - 321 / E173 + 340 / E173*2 - 16600 / E173*3 + 32190000000 / E173*4)/15000000-62)*0.95))","v":673.78621506169497},null,null,11.77]
[null,"JUNGOVÁ ","Lucie","9.A",11.13,null,"Jilemnice  14.06.21",{"$f":"IF(E174=0,0,IF(E174>0,((1000 - 321 / E174 + 340 / E174*2 - 16600 / E174*3 + 32190000000 / E174*4)/15000000-62)*0.95))","v":673.78621506169497},null,null,11.46,12.38]
[null,"KŘIVÁNKOVÁ ","Linda","9.A",11.69,null,"Jilemnice  14.06.21",{"$f":"IF(E175=0,0,IF(E175>0,((1000 - 321 / E175 + 340 / E175*2 - 16600 / E175*3 + 32190000000 / E175*4)/15000000-62)*0.95))","v":638.68747725434832},null,null,12.27,12.67]
[null,"KUBÁTOVÁ","Lucie","9.A",null,null," ",{"$f":"IF(E176=0,0,IF(E176>0,((1000 - 321 / E176 + 340 / E176*2 - 16600 / E176*3 + 32190000000 / E176*4)/15000000-62)*0.95))","v":0},null,null,12.12,11.88]
[null,"ŠIMŮNKOVÁ ","Nikola","9.A",12.44,null,"Jilemnice  14.06.21",{"$f":"IF(E177=0,0,IF(E177>0,((1000 - 321 / E177 + 340 / E177*2 - 16600 / E177*3 + 32190000000 / E177*4)/15000000-62)*0.95))","v":596.63035824785641},null,null,11.89,13.13]
[null,"ŠMÍDOVÁ","Kristýna","9.A",12.99,null,"Jilemnice  14.06.21",{"$f":"IF(E178=0,0,IF(E178>0,((1000 - 321 / E178 + 340 / E178*2 - 16600 / E178*3 + 32190000000 / E178*4)/15000000-62)*0.95))","v":568.87503398280717},null,null,13.02,15.84]
[null,"VOTOČKOVÁ ","Nikola","9.A",10.73,null,"Jilemnice  14.06.21",{"$f":"IF(E179=0,0,IF(E179>0,((1000 - 321 / E179 + 340 / E179*2 - 16600 / E179*3 + 32190000000 / E179*4)/15000000-62)*0.95))","v":701.09977151009628},null,null,11.62,11.77]
[null,"VYHLASOVÁ","Lenka","9.A",14.1,null,"Jilemnice  14.06.21",{"$f":"IF(E180=0,0,IF(E180>0,((1000 - 321 / E180 + 340 / E180*2 - 16600 / E180*3 + 32190000000 / E180*4)/15000000-62)*0.95))","v":519.45445118699763},null,null,13.16,13.84]
[null,"BÖHMOVÁ","Diana","9.B",11.39,null,"Jilemnice  14.06.21",{"$f":"IF(E181=0,0,IF(E181>0,((1000 - 321 / E181 + 340 / E181*2 - 16600 / E181*3 + 32190000000 / E181*4)/15000000-62)*0.95))","v":657.06115804243473},null,null,11.45,12.88]
[null,"HOUDOVÁ","Tereza","9.B",null,null," ",{"$f":"IF(E182=0,0,IF(E182>0,((1000 - 321 / E182 + 340 / E182*2 - 16600 / E182*3 + 32190000000 / E182*4)/15000000-62)*0.95))","v":0},null,null,null,12.19]
[null,"JANÍKOVÁ","Kristýna","9.B",null,null," "]
[null,"KUŽELOVÁ","Ela","9.B",10.8,null,"Jilemnice  14.06.21",{"$f":"IF(E184=0,0,IF(E184>0,((1000 - 321 / E184 + 340 / E184*2 - 16600 / E184*3 + 32190000000 / E184*4)/15000000-62)*0.95))","v":696.17384747561709},null,null,10.91,12.18]
[null,"MATERNOVÁ","Lucie","9.B",11.66,null,"Jilemnice  14.06.21",{"$f":"IF(E185=0,0,IF(E185>0,((1000 - 321 / E185 + 340 / E185*2 - 16600 / E185*3 + 32190000000 / E185*4)/15000000-62)*0.95))","v":640.48229907404232},null,null,11.35,12.16]
[null,"OPOČENSKÁ","Matylda","9.B",null,null," ",{"$f":"IF(E186=0,0,IF(E186>0,((1000 - 321 / E186 + 340 / E186*2 - 16600 / E186*3 + 32190000000 / E186*4)/15000000-62)*0.95))","v":0},null,null,null,13.01]
[null,"PIŠTOROVÁ","Karolína","9.B",10.92,null,"Jilemnice  14.06.21",{"$f":"IF(E187=0,0,IF(E187>0,((1000 - 321 / E187 + 340 / E187*2 - 16600 / E187*3 + 32190000000 / E187*4)/15000000-62)*0.95))","v":687.87633336416366},null,null,10.74,12.04]
[null,"POKORNÝ","Anna","9.B",null,null," ",{"$f":"IF(E188=0,0,IF(E188>0,((1000 - 321 / E188 + 340 / E188*2 - 16600 / E188*3 + 32190000000 / E188*4)/15000000-62)*0.95))","v":0},null,null,null,13.04]
[null,"SUCHÁNKOVÁ","Michaela","9.B",14.14,null,"Jilemnice  14.06.21",{"$f":"IF(E189=0,0,IF(E189>0,((1000 - 321 / E189 + 340 / E189*2 - 16600 / E189*3 + 32190000000 / E189*4)/15000000-62)*0.95))","v":517.81837088189536},null,null,14.04,14.86]
[null,"ŠUBÍKOVÁ ","Štěpánka","9.B",10.85,null,"Jilemnice  14.06.21",{"$f":"IF(E190=0,0,IF(E190>0,((1000 - 321 / E190 + 340 / E190*2 - 16600 / E190*3 + 32190000000 / E190*4)/15000000-62)*0.95))","v":692.69424478371741},null,null,11.14,12.84]
[null,"VANCLOVÁ","Pavlína","9.B",11.43,null,"Jilemnice  14.06.21",{"$f":"IF(E191=0,0,IF(E191>0,((1000 - 321 / E191 + 340 / E191*2 - 16600 / E191*3 + 32190000000 / E191*4)/15000000-62)*0.95))","v":654.55560740478279},null,null,11.8,14.06]

{"sheet":"Dls","index":15,"n_rows":191,"n_cols":12,"rows_kept":191,"cut":false,"hidden":false,"merged":[]}
[null,null,"VÝKONY   2020 - 2021",null,null,null,"LEHSED","    DĚVČATA  6. -  9.  ROČ."]
[null,null,null,null,null,null,null,null,null,null,"stav  k ",{"$f":"TODAY()","v":"2021-06-28"}]
[null,null,null,null,null,null,null,"   BODY",null,"   19 - 20   ","   18 - 19   ","   17 - 18   "]
[]
["1.",{"$f":"B101","v":"ERBENOVÁ"},{"$f":"C101","v":"Sára"},"6.A",37,null,"Jilemnice  02.05.21",541.93000000000006,null,0,0,0]
["2.",{"$f":"B102","v":"HOFMANOVÁ "},"Nicol","6.A",26,null,"Jilemnice  14.03.21",389.14,null,0,0,0]
["3.","HOLEŠOVSKÁ","Aneta","6.A",0,null,0,0,null,0,0,0]
["4.","HOLUBCOVÁ","Alena","6.A",0,null,0,0,null,0,0,0]
["5.","KOHOUTOVÁ","Anna","6.A",0,null,0,0,null,0,0,0]
["6.","KRAUSOVÁ","Anežka","6.A",36,null,"Jilemnice  14.03.21",528.04,null,0,0,0]
["7.","KUŽELOVÁ","Apoléna","6.A",0,null,0,0,null,0,0,0]
["8.","MORÁVKOVÁ","Lucie","6.A",43,null,"Jilemnice  28.03.21",625.27,null,0,0,0]
["9.","SKLENÁROVÁ","Eliška","6.A",40,null,"Jilemnice  21.03.21",583.6,null,0,0,0]
["10.","ŠTOLFOVÁ","Tereza","6.A",0,null,0,0,null,0,0,0]
["11.","ŠUBÍKOVÁ","Klára","6.A",0,null,0,0,null,0,0,0]
["12.","TULÁČKOVÁ","Natálie","6.A",46,null,"Jilemnice  14.03.21",666.94,null,0,0,0]
["13.","VOJTÍŠKOVÁ","Ella","6.A",0,null,0,0,null,0,0,0]
["14.","DRUGÁČOVÁ","Kristinka","6.B",28,null,"Jilemnice  14.03.21",416.92,null,0,0,0]
["15.","FAJSTAVROVÁ","Karolína","6.B",20,null,"Jilemnice  11.04.21",305.8,null,0,0,0]
["16.","FAJSTAVROVÁ","Magdaléna","6.B",43,null,"Jilemnice  28.03.21",625.27,null,0,0,0]
["17.","HLAVATÁ","Anna","6.B",0,null,0,0,null,0,0,0]
["18.",{"$f":"B118","v":"JINDROVÁ"},"Barbora","6.B",23,null,"Jilemnice  11.04.21",347.47,null,0,0,0]
["19.","MAŘASOVÁ","Vendula","6.B",0,null,0,0,null,0,0,0]
["20.","PETŘÍČKOVÁ","Natálie","6.B",0,null,0,0,null,0,0,0]
["21.","PETŘÍKOVÁ","Adéla","6.B",22,null,"Jilemnice  11.04.21",333.58000000000004,null,0,0,0]
["22.","REGÁLOVÁ","Karolína","6.B",54,null,"Jilemnice  11.04.21",778.06000000000006,null,0,0,0]
["23.","RIEGROVÁ","Magdaléna","6.B",0,null,0,0,null,0,0,0]
["24.","RYBENSKÁ","Sabina","6.B",0,null,0,0,null,0,0,0]
["25.","STEINEROVÁ","Barbora","6.B",0,null,0,0,null,0,0,0]
["26.","TOMEŠOVÁ","Barbora","6.B",0,null,0,0,null,0,0,0]
["27.","VOHNOUTOVÁ","Aneta","6.B",56,null,"Jilemnice  25.04.21",805.84,null,0,0,0]
["28.","HAVLÍKOVÁ","Michaela","7.A",0,null,0,0,null,0,0,0]
["29.","HOLUBCOVÁ","Sára","7.A",0,null,0,0,null,0,0,0]
["30.",{"$f":"B130","v":"HONCŮ"},"Tereza","7.A",0,null,0,0,null,0,0,0]
["31.",{"$f":"B131","v":"HORÁČKOVÁ"},"Kateřina","7.A",37,null,"Jilemnice  14.03.21",541.93000000000006,null,0,0,0]
["32.","JOUDALOVÁ","Daniela","7.A",0,null,0,0,null,0,0,0]
["33.","KLÍMOVÁ","Anna","7.A",0,null,0,0,null,0,0,0]
["34.","KOHOUTOVÁ","Veronika","7.A",0,null,0,0,null,0,0,0]
["35.","KOVÁŘOVÁ","Viktorie","7.A",40,null,"Jilemnice  14.03.21",583.6,null,0,0,0]
["36.","KYNČLOVÁ","Anna","7.A",51,null,"Jilemnice  21.03.21",736.39,null,0,0,0]
["37.","MATOUŠOVÁ","Tereza","7.A",0,null,0,0,null,0,0,0]
["38.","MAZÁNKOVÁ","Zuzana","7.A",0,null,0,0,null,0,0,0]
["39.","MORKESOVÁ","Sabrina","7.A",37,null,"Jilemnice  11.04.21",541.93000000000006,null,0,0,0]
["40.","POHOŘALÁ","Alžběta","7.A",0,null,0,0,null,0,0,0]
["41.","SCHOLZOVÁ","Laura","7.A",0,null,0,0,null,0,0,0]
["42.","VÁCLAVÍKOVÁ","Valerie","7.A",36,null,"Jilemnice  14.03.21",528.04,null,0,0,0]
["43.","ZAPADLOVÁ","Emma","7.A",33,null,"Jilemnice  11.04.21",486.37,null,0,0,0]
["44.","ŽIŠKOVÁ","Mia","7.A",0,null,0,0,null,0,0,0]
["45.","FARSKÁ","Tereza","7.B",32,null,"Jilemnice  21.03.21",472.48,null,0,0,0]
["46.","FEIXOVÁ","Rozálie","7.B",0,null,0,0,null,0,0,0]
["47.",{"$f":"B147","v":"FIŠEROVÁ"},"Michaela","7.B",0,null,0,0,null,0,0,0]
["48.","HAVLÍČKOVÁ","Kristýna","7.B",0,null,0,0,null,0,0,0]
["49.","JODASOVÁ","Nikola","7.B",0,null,0,0,null,0,0,0]
["50.","KADAVÁ","Nikola","7.B",40,null,"Jilemnice  28.03.21",583.6,null,0,0,0]
["51.","KRAFKOVÁ","Lucie","7.B",0,null,0,0,null,0,0,0]
["52.","KŘIVINKOVÁ","Alžběta","7.B",0,null,0,0,null,0,0,0]
["53.","LEŠÁKOVÁ","Lenka","7.B",0,null,0,0,null,0,0,0]
["54.","NYKLÍČKOVÁ","Adéla","7.B",0,null,0,0,null,0,0,0]
["55.","PLŮCHOVÁ","Petra","7.B",0,null,0,0,null,0,0,0]
["56.","PODZIMKOVÁ","Eliška","7.B",0,null,0,0,null,0,0,0]
["57.","RUTKAYOVÁ","Klára","7.B",40,null,"Jilemnice  21.03.21",583.6,null,0,0,0]
["58.","SEIDLOVÁ","Zuzana","7.B",25,null,"Jilemnice  11.04.21",375.25,null,0,0,0]
["59.","TOMÁŠOVÁ","Sára","7.B",0,null,0,0,null,0,0,0]
["60.","VANCLOVÁ","Barbora","7.B",0,null,0,0,null,0,0,0]
["61.","VOTOČKOVÁ","Veronika","7.B",0,null,0,0,null,0,0,0]
["62.","HARTIGOVÁ","Anna","8.A",0,null,0,0,null,0,41,0]
["63.",{"$f":"B163","v":"HONCŮ"},"Rozálie","8.A",0,null,0,0,null,0,47,0]
["64.","CHALOUPSKÁ","Lucie","8.A",0,null,0,0,null,0,51,0]
["65.","KŘÍŽKOVÁ","Anna","8.A",0,null,0,0,null,0,41,0]
["66.","LUKEŠOVÁ","Kristýna","8.A",0,null,0,0,null,0,48,0]
["67.","MOTLÍKOVÁ","Eliška","8.A",0,null,0,0,null,0,40,0]
["68.","POHOŘELÁ","Amálie","8.A",37,null,"Jilemnice  11.04.21",541.93000000000006,null,0,45,0]
["69.","POLÁČKOVÁ","Natálie","8.A",0,null,0,0,null,0,40,0]
["70.","ŘEHOŘKOVÁ","Lucie","8.A",0,null,0,0,null,0,37,0]
["71.","SKÁLOVÁ","Alena","8.A",0,null,0,0,null,0,0,0]
["72.","VÁVROVÁ ","Aneta","8.A",26,null,"Jilemnice  11.04.21",389.14,null,0,32,0]
["73.","ZELINKOVÁ","Klára","8.A",0,null,0,0,null,0,19,0]
["74.","JUNGOVÁ ","Lucie","9.A",0,null,0,0,null,0,44,0]
["75.","KŘIVÁNKOVÁ ","Linda","9.A",0,null,0,0,null,0,36,0]
["76.","KUBÁTOVÁ","Lucie","9.A",0,null,0,0,null,0,42,34]
["77.","ŠIMŮNKOVÁ ","Nikola","9.A",0,null,0,0,null,0,40,28]
["78.","ŠMÍDOVÁ","Kristýna","9.A",37,null,"Jilemnice  14.03.21",541.93000000000006,null,0,34,24]
["79.",{"$f":"B179","v":"VOTOČKOVÁ "},"Nikola","9.A",0,null,0,0,null,0,28,19]
["80.","VYHLASOVÁ","Lenka","9.A",0,null,0,0,null,0,37,17]
["81.","BÖHMOVÁ","Diana","9.B",0,null,0,0,null,0,41,43]
["82.","HOUDOVÁ","Tereza","9.B",0,null,0,0,null,0,25,0]
["83.","JANÍKOVÁ","Kristýna","9.B",0,null,0,0,null,0,31,37]
["84.","KUŽELOVÁ","Ela","9.B",0,null,0,0,null,0,0,38]
["85.","MATERNOVÁ","Lucie","9.B",0,null,0,0,null,0,0,0]
["86.","OPOČENSKÁ","Matylda","9.B",0,null,0,0,null,0,49,32]
["87.","PIŠTOROVÁ","Karolína","9.B",0,null,0,0,null,0,35,30]
["88.","POKORNÝ","Anna","9.B",43,null,"Jilemnice  11.04.21",625.27,null,0,0,0]
["89.","SUCHÁNKOVÁ","Michaela","9.B",0,null,0,0,null,0,50,39]
["90.","ŠUBÍKOVÁ ","Štěpánka","9.B",0,null,0,0,null,0,0,31]
["91.","VANCLOVÁ","Pavlína","9.B",0,null,0,0,null,0,25,38]
[]
[]
[]
[]
[]
[null,"ERBENOVÁ","Sára","6.A",37,null,"Jilemnice  02.05.21",{"$f":"IF(E101=0,0,IF(E101>0,(E101*13.89+28)))","v":541.93000000000006}]
[null,"HOFMANOVÁ ","Nicol","6.A",26,null,"Jilemnice  14.03.21",{"$f":"IF(E102=0,0,IF(E102>0,(E102*13.89+28)))","v":389.14}]
[null,"HOLEŠOVSKÁ","Aneta","6.A",null,null,null,{"$f":"IF(E103=0,0,IF(E103>0,(E103*13.89+28)))","v":0}]
[null,"HOLUBCOVÁ","Alena","6.A",null,null,null,{"$f":"IF(E104=0,0,IF(E104>0,(E104*13.89+28)))","v":0}]
[null,"KOHOUTOVÁ","Anna","6.A",null,null,null,{"$f":"IF(E105=0,0,IF(E105>0,(E105*13.89+28)))","v":0}]
[null,"KRAUSOVÁ","Anežka","6.A",36,null,"Jilemnice  14.03.21",{"$f":"IF(E106=0,0,IF(E106>0,(E106*13.89+28)))","v":528.04}]
[null,"KUŽELOVÁ","Apoléna","6.A",null,null,null,{"$f":"IF(E107=0,0,IF(E107>0,(E107*13.89+28)))","v":0}]
[null,"MORÁVKOVÁ","Lucie","6.A",43,null,"Jilemnice  28.03.21",{"$f":"IF(E108=0,0,IF(E108>0,(E108*13.89+28)))","v":625.27}]
[null,"SKLENÁROVÁ","Eliška","6.A",40,null,"Jilemnice  21.03.21",{"$f":"IF(E109=0,0,IF(E109>0,(E109*13.89+28)))","v":583.6}]
[null,"ŠTOLFOVÁ","Tereza","6.A",null,null,null,{"$f":"IF(E110=0,0,IF(E110>0,(E110*13.89+28)))","v":0}]
[null,"ŠUBÍKOVÁ","Klára","6.A",null,null,null,{"$f":"IF(E111=0,0,IF(E111>0,(E111*13.89+28)))","v":0}]
[null,"TULÁČKOVÁ","Natálie","6.A",46,null,"Jilemnice  14.03.21",{"$f":"IF(E112=0,0,IF(E112>0,(E112*13.89+28)))","v":666.94}]
[null,"VOJTÍŠKOVÁ","Ella","6.A",null,null,null,{"$f":"IF(E113=0,0,IF(E113>0,(E113*13.89+28)))","v":0}]
[null,"DRUGÁČOVÁ","Kristinka","6.B",28,null,"Jilemnice  14.03.21",{"$f":"IF(E114=0,0,IF(E114>0,(E114*13.89+28)))","v":416.92}]
[null,"FAJSTAVROVÁ","Karolína","6.B",20,null,"Jilemnice  11.04.21",{"$f":"IF(E115=0,0,IF(E115>0,(E115*13.89+28)))","v":305.8}]
[null,"FAJSTAVROVÁ","Magdaléna","6.B",43,null,"Jilemnice  28.03.21",{"$f":"IF(E116=0,0,IF(E116>0,(E116*13.89+28)))","v":625.27}]
[null,"HLAVATÁ","Anna","6.B",null,null,null,{"$f":"IF(E117=0,0,IF(E117>0,(E117*13.89+28)))","v":0}]
[null,"JINDROVÁ","Barbora","6.B",23,null,"Jilemnice  11.04.21",{"$f":"IF(E118=0,0,IF(E118>0,(E118*13.89+28)))","v":347.47}]
[null,"MAŘASOVÁ","Vendula","6.B",null,null,null,{"$f":"IF(E119=0,0,IF(E119>0,(E119*13.89+28)))","v":0}]
[null,"PETŘÍČKOVÁ","Natálie","6.B",null,null,null,{"$f":"IF(E120=0,0,IF(E120>0,(E120*13.89+28)))","v":0}]
[null,"PETŘÍKOVÁ","Adéla","6.B",22,null,"Jilemnice  11.04.21",{"$f":"IF(E121=0,0,IF(E121>0,(E121*13.89+28)))","v":333.58000000000004}]
[null,"REGÁLOVÁ","Karolína","6.B",54,null,"Jilemnice  11.04.21",{"$f":"IF(E122=0,0,IF(E122>0,(E122*13.89+28)))","v":778.06000000000006}]
[null,"RIEGROVÁ","Magdaléna","6.B",null,null,null,{"$f":"IF(E123=0,0,IF(E123>0,(E123*13.89+28)))","v":0}]
[null,"RYBENSKÁ","Sabina","6.B",null,null,null,{"$f":"IF(E124=0,0,IF(E124>0,(E124*13.89+28)))","v":0}]
[null,"STEINEROVÁ","Barbora","6.B",null,null,null,{"$f":"IF(E125=0,0,IF(E125>0,(E125*13.89+28)))","v":0}]
[null,"TOMEŠOVÁ","Barbora","6.B",null,null,null,{"$f":"IF(E126=0,0,IF(E126>0,(E126*13.89+28)))","v":0}]
[null,"VOHNOUTOVÁ","Aneta","6.B",56,null,"Jilemnice  25.04.21",{"$f":"IF(E127=0,0,IF(E127>0,(E127*13.89+28)))","v":805.84}]
[null,"HAVLÍKOVÁ","Michaela","7.A",null,null,null,{"$f":"IF(E128=0,0,IF(E128>0,(E128*13.89+28)))","v":0}]
[null,"HOLUBCOVÁ","Sára","7.A",null,null,null,{"$f":"IF(E129=0,0,IF(E129>0,(E129*13.89+28)))","v":0}]
[null,"HONCŮ","Tereza","7.A",null,null,null,{"$f":"IF(E130=0,0,IF(E130>0,(E130*13.89+28)))","v":0}]
[null,"HORÁČKOVÁ","Kateřina","7.A",37,null,"Jilemnice  14.03.21",{"$f":"IF(E131=0,0,IF(E131>0,(E131*13.89+28)))","v":541.93000000000006}]
[null,"JOUDALOVÁ","Daniela","7.A",null,null,null,{"$f":"IF(E132=0,0,IF(E132>0,(E132*13.89+28)))","v":0}]
[null,"KLÍMOVÁ","Anna","7.A",null,null,null,{"$f":"IF(E133=0,0,IF(E133>0,(E133*13.89+28)))","v":0}]
[null,"KOHOUTOVÁ","Veronika","7.A",null,null,null,{"$f":"IF(E134=0,0,IF(E134>0,(E134*13.89+28)))","v":0}]
[null,"KOVÁŘOVÁ","Viktorie","7.A",40,null,"Jilemnice  14.03.21",{"$f":"IF(E135=0,0,IF(E135>0,(E135*13.89+28)))","v":583.6}]
[null,"KYNČLOVÁ","Anna","7.A",51,null,"Jilemnice  21.03.21",{"$f":"IF(E136=0,0,IF(E136>0,(E136*13.89+28)))","v":736.39}]
[null,"MATOUŠOVÁ","Tereza","7.A",null,null,null,{"$f":"IF(E137=0,0,IF(E137>0,(E137*13.89+28)))","v":0}]
[null,"MAZÁNKOVÁ","Zuzana","7.A",null,null,null,{"$f":"IF(E138=0,0,IF(E138>0,(E138*13.89+28)))","v":0}]
[null,"MORKESOVÁ","Sabrina","7.A",37,null,"Jilemnice  11.04.21",{"$f":"IF(E139=0,0,IF(E139>0,(E139*13.89+28)))","v":541.93000000000006}]
[null,"POHOŘALÁ","Alžběta","7.A",null,null,null,{"$f":"IF(E140=0,0,IF(E140>0,(E140*13.89+28)))","v":0}]
[null,"SCHOLZOVÁ","Laura","7.A",null,null,null,{"$f":"IF(E141=0,0,IF(E141>0,(E141*13.89+28)))","v":0}]
[null,"VÁCLAVÍKOVÁ","Valerie","7.A",36,null,"Jilemnice  14.03.21",{"$f":"IF(E142=0,0,IF(E142>0,(E142*13.89+28)))","v":528.04}]
[null,"ZAPADLOVÁ","Emma","7.A",33,null,"Jilemnice  11.04.21",{"$f":"IF(E143=0,0,IF(E143>0,(E143*13.89+28)))","v":486.37}]
[null,"ŽIŠKOVÁ","Mia","7.A",null,null,null,{"$f":"IF(E144=0,0,IF(E144>0,(E144*13.89+28)))","v":0}]
[null,"FARSKÁ","Tereza","7.B",32,null,"Jilemnice  21.03.21",{"$f":"IF(E145=0,0,IF(E145>0,(E145*13.89+28)))","v":472.48}]
[null,"FEIXOVÁ","Rozálie","7.B",null,null,null,{"$f":"IF(E146=0,0,IF(E146>0,(E146*13.89+28)))","v":0}]
[null,"FIŠEROVÁ","Michaela","7.B",null,null,null,{"$f":"IF(E147=0,0,IF(E147>0,(E147*13.89+28)))","v":0}]
[null,"HAVLÍČKOVÁ","Kristýna","7.B",null,null,null,{"$f":"IF(E148=0,0,IF(E148>0,(E148*13.89+28)))","v":0}]
[null,"JODASOVÁ","Nikola","7.B",null,null,null,{"$f":"IF(E149=0,0,IF(E149>0,(E149*13.89+28)))","v":0}]
[null,"KADAVÁ","Nikola","7.B",40,null,"Jilemnice  28.03.21",{"$f":"IF(E150=0,0,IF(E150>0,(E150*13.89+28)))","v":583.6}]
[null,"KRAFKOVÁ","Lucie","7.B",null,null,null,{"$f":"IF(E151=0,0,IF(E151>0,(E151*13.89+28)))","v":0}]
[null,"KŘIVINKOVÁ","Alžběta","7.B",null,null,null,{"$f":"IF(E152=0,0,IF(E152>0,(E152*13.89+28)))","v":0}]
[null,"LEŠÁKOVÁ","Lenka","7.B",null,null,null,{"$f":"IF(E153=0,0,IF(E153>0,(E153*13.89+28)))","v":0}]
[null,"NYKLÍČKOVÁ","Adéla","7.B",null,null,null,{"$f":"IF(E154=0,0,IF(E154>0,(E154*13.89+28)))","v":0}]
[null,"PLŮCHOVÁ","Petra","7.B",null,null,null,{"$f":"IF(E155=0,0,IF(E155>0,(E155*13.89+28)))","v":0}]
[null,"PODZIMKOVÁ","Eliška","7.B",null,null,null,{"$f":"IF(E156=0,0,IF(E156>0,(E156*13.89+28)))","v":0}]
[null,"RUTKAYOVÁ","Klára","7.B",40,null,"Jilemnice  21.03.21",{"$f":"IF(E157=0,0,IF(E157>0,(E157*13.89+28)))","v":583.6}]
[null,"SEIDLOVÁ","Zuzana","7.B",25,null,"Jilemnice  11.04.21",{"$f":"IF(E158=0,0,IF(E158>0,(E158*13.89+28)))","v":375.25}]
[null,"TOMÁŠOVÁ","Sára","7.B",null,null,null,{"$f":"IF(E159=0,0,IF(E159>0,(E159*13.89+28)))","v":0}]
[null,"VANCLOVÁ","Barbora","7.B",null,null,null,{"$f":"IF(E160=0,0,IF(E160>0,(E160*13.89+28)))","v":0}]
[null,"VOTOČKOVÁ","Veronika","7.B",null,null,null,{"$f":"IF(E161=0,0,IF(E161>0,(E161*13.89+28)))","v":0}]
[null,"HARTIGOVÁ","Anna","8.A",null,null,null,{"$f":"IF(E162=0,0,IF(E162>0,(E162*13.89+28)))","v":0},null,null,41]
[null,"HONCŮ","Rozálie","8.A",null,null,null,{"$f":"IF(E163=0,0,IF(E163>0,(E163*13.89+28)))","v":0},null,null,47]
[null,"CHALOUPSKÁ","Lucie","8.A",null,null,null,{"$f":"IF(E164=0,0,IF(E164>0,(E164*13.89+28)))","v":0},null,null,51]
[null,"KŘÍŽKOVÁ","Anna","8.A",null,null,null,{"$f":"IF(E165=0,0,IF(E165>0,(E165*13.89+28)))","v":0},null,null,41]
[null,"LUKEŠOVÁ","Kristýna","8.A",null,null,null,{"$f":"IF(E166=0,0,IF(E166>0,(E166*13.89+28)))","v":0},null,null,48]
[null,"MOTLÍKOVÁ","Eliška","8.A",null,null,null,{"$f":"IF(E167=0,0,IF(E167>0,(E167*13.89+28)))","v":0},null,null,40]
[null,"POHOŘELÁ","Amálie","8.A",37,null,"Jilemnice  11.04.21",{"$f":"IF(E168=0,0,IF(E168>0,(E168*13.89+28)))","v":541.93000000000006},null,null,45]
[null,"POLÁČKOVÁ","Natálie","8.A",null,null,null,{"$f":"IF(E169=0,0,IF(E169>0,(E169*13.89+28)))","v":0},null,null,40]
[null,"ŘEHOŘKOVÁ","Lucie","8.A",null,null,null,{"$f":"IF(E170=0,0,IF(E170>0,(E170*13.89+28)))","v":0},null,null,37]
[null,"SKÁLOVÁ","Alena","8.A",null,null,null,{"$f":"IF(E171=0,0,IF(E171>0,(E171*13.89+28)))","v":0}]
[null,"VÁVROVÁ ","Aneta","8.A",26,null,"Jilemnice  11.04.21",{"$f":"IF(E172=0,0,IF(E172>0,(E172*13.89+28)))","v":389.14},null,null,32]
[null,"ZELINKOVÁ","Klára","8.A",null,null,null,{"$f":"IF(E173=0,0,IF(E173>0,(E173*13.89+28)))","v":0},null,null,19]
[null,"JUNGOVÁ ","Lucie","9.A",null,null,null,{"$f":"IF(E174=0,0,IF(E174>0,(E174*13.89+28)))","v":0},null,null,44]
[null,"KŘIVÁNKOVÁ ","Linda","9.A",null,null,null,{"$f":"IF(E175=0,0,IF(E175>0,(E175*13.89+28)))","v":0},null,null,36]
[null,"KUBÁTOVÁ","Lucie","9.A",null,null,null,{"$f":"IF(E176=0,0,IF(E176>0,(E176*13.89+28)))","v":0},null,null,42,34]
[null,"ŠIMŮNKOVÁ ","Nikola","9.A",null,null,null,{"$f":"IF(E177=0,0,IF(E177>0,(E177*13.89+28)))","v":0},null,null,40,28]
[null,"ŠMÍDOVÁ","Kristýna","9.A",37,null,"Jilemnice  14.03.21",{"$f":"IF(E178=0,0,IF(E178>0,(E178*13.89+28)))","v":541.93000000000006},null,null,34,24]
[null,"VOTOČKOVÁ ","Nikola","9.A",null,null,null,{"$f":"IF(E179=0,0,IF(E179>0,(E179*13.89+28)))","v":0},null,null,28,19]
[null,"VYHLASOVÁ","Lenka","9.A",null,null,null,{"$f":"IF(E180=0,0,IF(E180>0,(E180*13.89+28)))","v":0},null,null,37,17]
[null,"BÖHMOVÁ","Diana","9.B",null,null,null,{"$f":"IF(E181=0,0,IF(E181>0,(E181*13.89+28)))","v":0},null,null,41,43]
[null,"HOUDOVÁ","Tereza","9.B",null,null,null,{"$f":"IF(E182=0,0,IF(E182>0,(E182*13.89+28)))","v":0},null,null,25]
[null,"JANÍKOVÁ","Kristýna","9.B",null,null,null,{"$f":"IF(E183=0,0,IF(E183>0,(E183*13.89+28)))","v":0},null,null,31,37]
[null,"KUŽELOVÁ","Ela","9.B",null,null,null,{"$f":"IF(E184=0,0,IF(E184>0,(E184*13.89+28)))","v":0},null,null,null,38]
[null,"MATERNOVÁ","Lucie","9.B"]
[null,"OPOČENSKÁ","Matylda","9.B",null,null,null,{"$f":"IF(E186=0,0,IF(E186>0,(E186*13.89+28)))","v":0},null,null,49,32]
[null,"PIŠTOROVÁ","Karolína","9.B",null,null,null,{"$f":"IF(E187=0,0,IF(E187>0,(E187*13.89+28)))","v":0},null,null,35,30]
[null,"POKORNÝ","Anna","9.B",43,null,"Jilemnice  11.04.21",{"$f":"IF(E188=0,0,IF(E188>0,(E188*13.89+28)))","v":625.27}]
[null,"SUCHÁNKOVÁ","Michaela","9.B",null,null,null,{"$f":"IF(E189=0,0,IF(E189>0,(E189*13.89+28)))","v":0},null,null,50,39]
[null,"ŠUBÍKOVÁ ","Štěpánka","9.B",null,null,null,{"$f":"IF(E190=0,0,IF(E190>0,(E190*13.89+28)))","v":0},null,null,null,31]
[null,"VANCLOVÁ","Pavlína","9.B",null,null,null,{"$f":"IF(E191=0,0,IF(E191>0,(E191*13.89+28)))","v":0},null,null,25,38]

{"sheet":"Dodbíj","index":16,"n_rows":191,"n_cols":12,"rows_kept":191,"cut":false,"hidden":false,"merged":[]}
[null,null,"VÝKONY   2020 - 2021",null,null,null,"ODBÍJENÍ","DĚVČATA  6. -  9.  ROČ."]
[null,null,null,null,null,null,null,null,null,null,"stav  k ",{"$f":"TODAY()","v":"2021-06-28"}]
[null,null,null,null,null,null,null,"   BODY",null,"   19 - 20   ","   18 - 19   ","   17 - 18   "]
[]
["1.",{"$f":"B101","v":"ERBENOVÁ"},{"$f":"C101","v":"Sára"},"6.A",0,null,0,0,null,0,0,0]
["2.",{"$f":"B102","v":"HOFMANOVÁ "},"Nicol","6.A",0,null,0,0,null,0,0,0]
["3.","HOLEŠOVSKÁ","Aneta","6.A",0,null,0,0,null,0,0,0]
["4.","HOLUBCOVÁ","Alena","6.A",0,null,0,0,null,0,0,0]
["5.","KOHOUTOVÁ","Anna","6.A",0,null,0,0,null,0,0,0]
["6.","KRAUSOVÁ","Anežka","6.A",0,null,0,0,null,0,0,0]
["7.","KUŽELOVÁ","Apoléna","6.A",0,null,0,0,null,0,0,0]
["8.","MORÁVKOVÁ","Lucie","6.A",0,null,0,0,null,0,0,0]
["9.","SKLENÁROVÁ","Eliška","6.A",0,null,0,0,null,0,0,0]
["10.","ŠTOLFOVÁ","Tereza","6.A",0,null,0,0,null,0,0,0]
["11.","ŠUBÍKOVÁ","Klára","6.A",0,null,0,0,null,0,0,0]
["12.","TULÁČKOVÁ","Natálie","6.A",0,null,0,0,null,0,0,0]
["13.","VOJTÍŠKOVÁ","Ella","6.A",0,null,0,0,null,0,0,0]
["14.","DRUGÁČOVÁ","Kristinka","6.B",0,null,0,0,null,0,0,0]
["15.","FAJSTAVROVÁ","Karolína","6.B",0,null,0,0,null,0,0,0]
["16.","FAJSTAVROVÁ","Magdaléna","6.B",0,null,0,0,null,0,0,0]
["17.","HLAVATÁ","Anna","6.B",0,null,0,0,null,0,0,0]
["18.",{"$f":"B118","v":"JINDROVÁ"},"Barbora","6.B",0,null,0,0,null,0,0,0]
["19.","MAŘASOVÁ","Vendula","6.B",0,null,0,0,null,0,0,0]
["20.","PETŘÍČKOVÁ","Natálie","6.B",0,null,0,0,null,0,0,0]
["21.","PETŘÍKOVÁ","Adéla","6.B",0,null,0,0,null,0,0,0]
["22.","REGÁLOVÁ","Karolína","6.B",0,null,0,0,null,0,0,0]
["23.","RIEGROVÁ","Magdaléna","6.B",0,null,0,0,null,0,0,0]
["24.","RYBENSKÁ","Sabina","6.B",0,null,0,0,null,0,0,0]
["25.","STEINEROVÁ","Barbora","6.B",0,null,0,0,null,0,0,0]
["26.","TOMEŠOVÁ","Barbora","6.B",0,null,0,0,null,0,0,0]
["27.","VOHNOUTOVÁ","Aneta","6.B",0,null,0,0,null,0,0,0]
["28.","HAVLÍKOVÁ","Michaela","7.A",0,null,0,0,null,3,0,0]
["29.","HOLUBCOVÁ","Sára","7.A",0,null,0,0,null,8,0,0]
["30.","HONCŮ","Tereza","7.A",0,null,0,0,null,6,0,0]
["31.","HORÁČKOVÁ","Kateřina","7.A",0,null,0,0,null,7,0,0]
["32.","JOUDALOVÁ","Daniela","7.A",0,null,0,0,null,0,0,0]
["33.","KLÍMOVÁ","Anna","7.A",0,null,0,0,null,6,0,0]
["34.",{"$f":"B134","v":"KOHOUTOVÁ"},"Veronika","7.A",0,null,0,0,null,6,0,0]
["35.","KOVÁŘOVÁ","Viktorie","7.A",0,null,0,0,null,8,0,0]
["36.","KYNČLOVÁ","Anna","7.A",0,null,0,0,null,10,0,0]
["37.","MATOUŠOVÁ","Tereza","7.A",0,null,0,0,null,9,0,0]
["38.","MAZÁNKOVÁ","Zuzana","7.A",0,null,0,0,null,6,0,0]
["39.","MORKESOVÁ","Sabrina","7.A",0,null,0,0,null,9,0,0]
["40.","POHOŘALÁ","Alžběta","7.A",0,null,0,0,null,11,0,0]
["41.","SCHOLZOVÁ","Laura","7.A",0,null,0,0,null,6,0,0]
["42.","VÁCLAVÍKOVÁ","Valerie","7.A",0,null,0,0,null,11,0,0]
["43.","ZAPADLOVÁ","Emma","7.A",0,null,0,0,null,10,0,0]
["44.","ŽIŠKOVÁ","Mia","7.A",0,null,0,0,null,9,0,0]
["45.","FARSKÁ","Tereza","7.B",0,null,0,0,null,0,0,0]
["46.","FEIXOVÁ","Rozálie","7.B",0,null,0,0,null,0,0,0]
["47.","FIŠEROVÁ","Michaela","7.B",0,null,0,0,null,0,0,0]
["48.","HAVLÍČKOVÁ","Kristýna","7.B",0,null,0,0,null,0,0,0]
["49.","JODASOVÁ","Nikola","7.B",0,null,0,0,null,0,0,0]
["50.",{"$f":"B150","v":"KADAVÁ"},"Nikola","7.B",0,null,0,0,null,0,0,0]
["51.","KRAFKOVÁ","Lucie","7.B",0,null,0,0,null,0,0,0]
["52.","KŘIVINKOVÁ","Alžběta","7.B",0,null,0,0,null,0,0,0]
["53.","LEŠÁKOVÁ","Lenka","7.B",0,null,0,0,null,0,0,0]
["54.","NYKLÍČKOVÁ","Adéla","7.B",0,null,0,0,null,0,0,0]
["55.","PLŮCHOVÁ","Petra","7.B",0,null,0,0,null,0,0,0]
["56.","PODZIMKOVÁ","Eliška","7.B",0,null,0,0,null,0,0,0]
["57.","RUTKAYOVÁ","Klára","7.B",0,null,0,0,null,0,0,0]
["58.","SEIDLOVÁ","Zuzana","7.B",0,null,0,0,null,0,0,0]
["59.","TOMÁŠOVÁ","Sára","7.B",0,null,0,0,null,0,0,0]
["60.","VANCLOVÁ","Barbora","7.B",0,null,0,0,null,0,0,0]
["61.","VOTOČKOVÁ","Veronika","7.B",0,null,0,0,null,0,0,0]
["62.","HARTIGOVÁ","Anna","8.A",21,null,"Jilemnice  26.05.21",63,null,0,19,0]
["63.","HONCŮ","Rozálie","8.A",10,null,"Jilemnice  26.05.21",30,null,0,5,0]
["64.","CHALOUPSKÁ","Lucie","8.A",4,null,"Jilemnice  26.05.21",12,null,0,10,0]
["65.","KŘÍŽKOVÁ","Anna","8.A",12,null,"Jilemnice  26.05.21",36,null,0,10,0]
["66.",{"$f":"B166","v":"LUKEŠOVÁ"},"Kristýna","8.A",10,null,"Jilemnice  26.05.21",30,null,0,5,0]
["67.","MOTLÍKOVÁ","Eliška","8.A",10,null,"Jilemnice  26.05.21",30,null,0,11,0]
["68.","POHOŘELÁ","Amálie","8.A",12,null,"Jilemnice  26.05.21",36,null,0,9,0]
["69.","POLÁČKOVÁ","Natálie","8.A",6,null,"Jilemnice  26.05.21",18,null,0,0,0]
["70.","ŘEHOŘKOVÁ","Lucie","8.A",6,null,"Jilemnice  26.05.21",18,null,0,19,0]
["71.","SKÁLOVÁ","Alena","8.A",4,null,"Jilemnice  26.05.21",12,null,0,4,0]
["72.","VÁVROVÁ ","Aneta","8.A",21,null,"Jilemnice  26.05.21",63,null,0,11,0]
["73.","ZELINKOVÁ","Klára","8.A",10,null,"Jilemnice  26.05.21",30,null,0,10,0]
["74.","JUNGOVÁ ","Lucie","9.A",0,null,0,0,null,0,27,6]
["75.","KŘIVÁNKOVÁ ","Linda","9.A",0,null,0,0,null,0,20,10]
["76.","KUBÁTOVÁ","Lucie","9.A",0,null,0,0,null,0,22,5]
["77.","ŠIMŮNKOVÁ ","Nikola","9.A",0,null,0,0,null,12,22,6]
["78.","ŠMÍDOVÁ","Kristýna","9.A",0,null,0,0,null,10,22,6]
["79.","VOTOČKOVÁ ","Nikola","9.A",0,null,0,0,null,12,19,6]
["80.","VYHLASOVÁ","Lenka","9.A",0,null,0,0,null,0,22,10]
["81.","BÖHMOVÁ","Diana","9.B",8,null,"Jilemnice  10.05.21",24,null,0,7,8]
["82.",{"$f":"B182","v":"HOUDOVÁ"},"Tereza","9.B",0,null,0,0,null,0,27,10]
["83.","JANÍKOVÁ","Kristýna","9.B",0,null,0,0,null,10,0,0]
["84.","KUŽELOVÁ","Ela","9.B",9,null,"Jilemnice  10.05.21",27,null,0,29,7]
["85.","MATERNOVÁ","Lucie","9.B",4,null,"Jilemnice  10.05.21",12,null,0,9,2]
["86.","OPOČENSKÁ","Matylda","9.B",0,null,0,0,null,0,0,0]
["87.","PIŠTOROVÁ","Karolína","9.B",9,null,"Jilemnice  10.05.21",27,null,0,29,17]
["88.","POKORNÝ","Anna","9.B",5,null,"Jilemnice  18.04.21",15,null,0,0,6]
["89.","SUCHÁNKOVÁ","Michaela","9.B",9,null,"Jilemnice  10.05.21",27,null,17,14,8]
["90.","ŠUBÍKOVÁ ","Štěpánka","9.B",9,null,"Jilemnice  10.05.21",27,null,17,7,8]
["91.","VANCLOVÁ","Pavlína","9.B",8,null,"Jilemnice  10.05.21",24,null,17,9,8]
[]
[]
[]
[]
[]
[null,"ERBENOVÁ","Sára","6.A",null,null,null,{"$f":"IF(E101=0,0,IF(E101<101,3*E101,IF(E101>80,300+E101/2.5)))","v":0}]
[null,"HOFMANOVÁ ","Nicol","6.A",null,null,null,{"$f":"IF(E102=0,0,IF(E102<101,3*E102,IF(E102>80,300+E102/2.5)))","v":0}]
[null,"HOLEŠOVSKÁ","Aneta","6.A",null,null,null,{"$f":"IF(E103=0,0,IF(E103<101,3*E103,IF(E103>80,300+E103/2.5)))","v":0}]
[null,"HOLUBCOVÁ","Alena","6.A",null,null,null,{"$f":"IF(E104=0,0,IF(E104<101,3*E104,IF(E104>80,300+E104/2.5)))","v":0}]
[null,"KOHOUTOVÁ","Anna","6.A",null,null,null,{"$f":"IF(E105=0,0,IF(E105<101,3*E105,IF(E105>80,300+E105/2.5)))","v":0}]
[null,"KRAUSOVÁ","Anežka","6.A",null,null,null,{"$f":"IF(E106=0,0,IF(E106<101,3*E106,IF(E106>80,300+E106/2.5)))","v":0}]
[null,"KUŽELOVÁ","Apoléna","6.A",null,null,null,{"$f":"IF(E107=0,0,IF(E107<101,3*E107,IF(E107>80,300+E107/2.5)))","v":0}]
[null,"MORÁVKOVÁ","Lucie","6.A",null,null,null,{"$f":"IF(E108=0,0,IF(E108<101,3*E108,IF(E108>80,300+E108/2.5)))","v":0}]
[null,"SKLENÁROVÁ","Eliška","6.A",null,null,null,{"$f":"IF(E109=0,0,IF(E109<101,3*E109,IF(E109>80,300+E109/2.5)))","v":0}]
[null,"ŠTOLFOVÁ","Tereza","6.A",null,null,null,{"$f":"IF(E110=0,0,IF(E110<101,3*E110,IF(E110>80,300+E110/2.5)))","v":0}]
[null,"ŠUBÍKOVÁ","Klára","6.A",null,null,null,{"$f":"IF(E111=0,0,IF(E111<101,3*E111,IF(E111>80,300+E111/2.5)))","v":0}]
[null,"TULÁČKOVÁ","Natálie","6.A",null,null,null,{"$f":"IF(E112=0,0,IF(E112<101,3*E112,IF(E112>80,300+E112/2.5)))","v":0}]
[null,"VOJTÍŠKOVÁ","Ella","6.A",null,null,null,{"$f":"IF(E113=0,0,IF(E113<101,3*E113,IF(E113>80,300+E113/2.5)))","v":0}]
[null,"DRUGÁČOVÁ","Kristinka","6.B",null,null,null,{"$f":"IF(E114=0,0,IF(E114<101,3*E114,IF(E114>80,300+E114/2.5)))","v":0}]
[null,"FAJSTAVROVÁ","Karolína","6.B",null,null,null,{"$f":"IF(E115=0,0,IF(E115<101,3*E115,IF(E115>80,300+E115/2.5)))","v":0}]
[null,"FAJSTAVROVÁ","Magdaléna","6.B",null,null,null,{"$f":"IF(E116=0,0,IF(E116<101,3*E116,IF(E116>80,300+E116/2.5)))","v":0}]
[null,"HLAVATÁ","Anna","6.B",null,null,null,{"$f":"IF(E117=0,0,IF(E117<101,3*E117,IF(E117>80,300+E117/2.5)))","v":0}]
[null,"JINDROVÁ","Barbora","6.B",null,null,null,{"$f":"IF(E118=0,0,IF(E118<101,3*E118,IF(E118>80,300+E118/2.5)))","v":0}]
[null,"MAŘASOVÁ","Vendula","6.B",null,null,null,{"$f":"IF(E119=0,0,IF(E119<101,3*E119,IF(E119>80,300+E119/2.5)))","v":0}]
[null,"PETŘÍČKOVÁ","Natálie","6.B",null,null,null,{"$f":"IF(E120=0,0,IF(E120<101,3*E120,IF(E120>80,300+E120/2.5)))","v":0}]
[null,"PETŘÍKOVÁ","Adéla","6.B",null,null,null,{"$f":"IF(E121=0,0,IF(E121<101,3*E121,IF(E121>80,300+E121/2.5)))","v":0}]
[null,"REGÁLOVÁ","Karolína","6.B",null,null,null,{"$f":"IF(E122=0,0,IF(E122<101,3*E122,IF(E122>80,300+E122/2.5)))","v":0}]
[null,"RIEGROVÁ","Magdaléna","6.B",null,null,null,{"$f":"IF(E123=0,0,IF(E123<101,3*E123,IF(E123>80,300+E123/2.5)))","v":0}]
[null,"RYBENSKÁ","Sabina","6.B",null,null,null,{"$f":"IF(E124=0,0,IF(E124<101,3*E124,IF(E124>80,300+E124/2.5)))","v":0}]
[null,"STEINEROVÁ","Barbora","6.B",null,null,null,{"$f":"IF(E125=0,0,IF(E125<101,3*E125,IF(E125>80,300+E125/2.5)))","v":0}]
[null,"TOMEŠOVÁ","Barbora","6.B",null,null,null,{"$f":"IF(E126=0,0,IF(E126<101,3*E126,IF(E126>80,300+E126/2.5)))","v":0}]
[null,"VOHNOUTOVÁ","Aneta","6.B",null,null,null,{"$f":"IF(E127=0,0,IF(E127<101,3*E127,IF(E127>80,300+E127/2.5)))","v":0}]
[null,"HAVLÍKOVÁ","Michaela","7.A",null,null,null,{"$f":"IF(E128=0,0,IF(E128<101,3*E128,IF(E128>80,300+E128/2.5)))","v":0},null,3]
[null,"HOLUBCOVÁ","Sára","7.A",null,null,null,{"$f":"IF(E129=0,0,IF(E129<101,3*E129,IF(E129>80,300+E129/2.5)))","v":0},null,8]
[null,"HONCŮ","Tereza","7.A",null,null,null,{"$f":"IF(E130=0,0,IF(E130<101,3*E130,IF(E130>80,300+E130/2.5)))","v":0},null,6]
[null,"HORÁČKOVÁ","Kateřina","7.A",null,null,null,{"$f":"IF(E131=0,0,IF(E131<101,3*E131,IF(E131>80,300+E131/2.5)))","v":0},null,7]
[null,"JOUDALOVÁ","Daniela","7.A",null,null,null,{"$f":"IF(E132=0,0,IF(E132<101,3*E132,IF(E132>80,300+E132/2.5)))","v":0}]
[null,"KLÍMOVÁ","Anna","7.A",null,null,null,{"$f":"IF(E133=0,0,IF(E133<101,3*E133,IF(E133>80,300+E133/2.5)))","v":0},null,6]
[null,"KOHOUTOVÁ","Veronika","7.A",null,null,null,{"$f":"IF(E134=0,0,IF(E134<101,3*E134,IF(E134>80,300+E134/2.5)))","v":0},null,6]
[null,"KOVÁŘOVÁ","Viktorie","7.A",null,null,null,{"$f":"IF(E135=0,0,IF(E135<101,3*E135,IF(E135>80,300+E135/2.5)))","v":0},null,8]
[null,"KYNČLOVÁ","Anna","7.A",null,null,null,{"$f":"IF(E136=0,0,IF(E136<101,3*E136,IF(E136>80,300+E136/2.5)))","v":0},null,10]
[null,"MATOUŠOVÁ","Tereza","7.A",null,null,null,{"$f":"IF(E137=0,0,IF(E137<101,3*E137,IF(E137>80,300+E137/2.5)))","v":0},null,9]
[null,"MAZÁNKOVÁ","Zuzana","7.A",null,null,null,{"$f":"IF(E138=0,0,IF(E138<101,3*E138,IF(E138>80,300+E138/2.5)))","v":0},null,6]
[null,"MORKESOVÁ","Sabrina","7.A",null,null,null,{"$f":"IF(E139=0,0,IF(E139<101,3*E139,IF(E139>80,300+E139/2.5)))","v":0},null,9]
[null,"POHOŘALÁ","Alžběta","7.A",null,null,null,{"$f":"IF(E140=0,0,IF(E140<101,3*E140,IF(E140>80,300+E140/2.5)))","v":0},null,11]
[null,"SCHOLZOVÁ","Laura","7.A",null,null,null,{"$f":"IF(E141=0,0,IF(E141<101,3*E141,IF(E141>80,300+E141/2.5)))","v":0},null,6]
[null,"VÁCLAVÍKOVÁ","Valerie","7.A",null,null,null,{"$f":"IF(E142=0,0,IF(E142<101,3*E142,IF(E142>80,300+E142/2.5)))","v":0},null,11]
[null,"ZAPADLOVÁ","Emma","7.A",null,null,null,{"$f":"IF(E143=0,0,IF(E143<101,3*E143,IF(E143>80,300+E143/2.5)))","v":0},null,10]
[null,"ŽIŠKOVÁ","Mia","7.A",null,null,null,{"$f":"IF(E144=0,0,IF(E144<101,3*E144,IF(E144>80,300+E144/2.5)))","v":0},null,9]
[null,"FARSKÁ","Tereza","7.B",null,null,null,{"$f":"IF(E145=0,0,IF(E145<101,3*E145,IF(E145>80,300+E145/2.5)))","v":0}]
[null,"FEIXOVÁ","Rozálie","7.B",null,null,null,{"$f":"IF(E146=0,0,IF(E146<101,3*E146,IF(E146>80,300+E146/2.5)))","v":0}]
[null,"FIŠEROVÁ","Michaela","7.B",null,null,null,{"$f":"IF(E147=0,0,IF(E147<101,3*E147,IF(E147>80,300+E147/2.5)))","v":0}]
[null,"HAVLÍČKOVÁ","Kristýna","7.B",null,null,null,{"$f":"IF(E148=0,0,IF(E148<101,3*E148,IF(E148>80,300+E148/2.5)))","v":0}]
[null,"JODASOVÁ","Nikola","7.B",null,null,null,{"$f":"IF(E149=0,0,IF(E149<101,3*E149,IF(E149>80,300+E149/2.5)))","v":0}]
[null,"KADAVÁ","Nikola","7.B",null,null,null,{"$f":"IF(E150=0,0,IF(E150<101,3*E150,IF(E150>80,300+E150/2.5)))","v":0}]
[null,"KRAFKOVÁ","Lucie","7.B",null,null,null,{"$f":"IF(E151=0,0,IF(E151<101,3*E151,IF(E151>80,300+E151/2.5)))","v":0}]
[null,"KŘIVINKOVÁ","Alžběta","7.B",null,null,null,{"$f":"IF(E152=0,0,IF(E152<101,3*E152,IF(E152>80,300+E152/2.5)))","v":0}]
[null,"LEŠÁKOVÁ","Lenka","7.B",null,null,null,{"$f":"IF(E153=0,0,IF(E153<101,3*E153,IF(E153>80,300+E153/2.5)))","v":0}]
[null,"NYKLÍČKOVÁ","Adéla","7.B",null,null,null,{"$f":"IF(E154=0,0,IF(E154<101,3*E154,IF(E154>80,300+E154/2.5)))","v":0}]
[null,"PLŮCHOVÁ","Petra","7.B",null,null,null,{"$f":"IF(E155=0,0,IF(E155<101,3*E155,IF(E155>80,300+E155/2.5)))","v":0}]
[null,"PODZIMKOVÁ","Eliška","7.B",null,null,null,{"$f":"IF(E156=0,0,IF(E156<101,3*E156,IF(E156>80,300+E156/2.5)))","v":0}]
[null,"RUTKAYOVÁ","Klára","7.B",null,null,null,{"$f":"IF(E157=0,0,IF(E157<101,3*E157,IF(E157>80,300+E157/2.5)))","v":0}]
[null,"SEIDLOVÁ","Zuzana","7.B",null,null,null,{"$f":"IF(E158=0,0,IF(E158<101,3*E158,IF(E158>80,300+E158/2.5)))","v":0}]
[null,"TOMÁŠOVÁ","Sára","7.B",null,null,null,{"$f":"IF(E159=0,0,IF(E159<101,3*E159,IF(E159>80,300+E159/2.5)))","v":0}]
[null,"VANCLOVÁ","Barbora","7.B",null,null,null,{"$f":"IF(E160=0,0,IF(E160<101,3*E160,IF(E160>80,300+E160/2.5)))","v":0}]
[null,"VOTOČKOVÁ","Veronika","7.B",null,null,null,{"$f":"IF(E161=0,0,IF(E161<101,3*E161,IF(E161>80,300+E161/2.5)))","v":0}]
[null,"HARTIGOVÁ","Anna","8.A",21,null,"Jilemnice  26.05.21",{"$f":"IF(E162=0,0,IF(E162<101,3*E162,IF(E162>80,300+E162/2.5)))","v":63},null,null,19]
[null,"HONCŮ","Rozálie","8.A",10,null,"Jilemnice  26.05.21",{"$f":"IF(E163=0,0,IF(E163<101,3*E163,IF(E163>80,300+E163/2.5)))","v":30},null,null,5]
[null,"CHALOUPSKÁ","Lucie","8.A",4,null,"Jilemnice  26.05.21",{"$f":"IF(E164=0,0,IF(E164<101,3*E164,IF(E164>80,300+E164/2.5)))","v":12},null,null,10]
[null,"KŘÍŽKOVÁ","Anna","8.A",12,null,"Jilemnice  26.05.21",{"$f":"IF(E165=0,0,IF(E165<101,3*E165,IF(E165>80,300+E165/2.5)))","v":36},null,null,10]
[null,"LUKEŠOVÁ","Kristýna","8.A",10,null,"Jilemnice  26.05.21",{"$f":"IF(E166=0,0,IF(E166<101,3*E166,IF(E166>80,300+E166/2.5)))","v":30},null,null,5]
[null,"MOTLÍKOVÁ","Eliška","8.A",10,null,"Jilemnice  26.05.21",{"$f":"IF(E167=0,0,IF(E167<101,3*E167,IF(E167>80,300+E167/2.5)))","v":30},null,null,11]
[null,"POHOŘELÁ","Amálie","8.A",12,null,"Jilemnice  26.05.21",{"$f":"IF(E168=0,0,IF(E168<101,3*E168,IF(E168>80,300+E168/2.5)))","v":36},null,null,9]
[null,"POLÁČKOVÁ","Natálie","8.A",6,null,"Jilemnice  26.05.21",{"$f":"IF(E169=0,0,IF(E169<101,3*E169,IF(E169>80,300+E169/2.5)))","v":18}]
[null,"ŘEHOŘKOVÁ","Lucie","8.A",6,null,"Jilemnice  26.05.21",{"$f":"IF(E170=0,0,IF(E170<101,3*E170,IF(E170>80,300+E170/2.5)))","v":18},null,null,19]
[null,"SKÁLOVÁ","Alena","8.A",4,null,"Jilemnice  26.05.21",{"$f":"IF(E171=0,0,IF(E171<101,3*E171,IF(E171>80,300+E171/2.5)))","v":12},null,null,4]
[null,"VÁVROVÁ ","Aneta","8.A",21,null,"Jilemnice  26.05.21",{"$f":"IF(E172=0,0,IF(E172<101,3*E172,IF(E172>80,300+E172/2.5)))","v":63},null,null,11]
[null,"ZELINKOVÁ","Klára","8.A",10,null,"Jilemnice  26.05.21",{"$f":"IF(E173=0,0,IF(E173<101,3*E173,IF(E173>80,300+E173/2.5)))","v":30},null,null,10]
[null,"JUNGOVÁ ","Lucie","9.A",null,null,null,{"$f":"IF(E174=0,0,IF(E174<101,3*E174,IF(E174>80,300+E174/2.5)))","v":0},null,null,27,6]
[null,"KŘIVÁNKOVÁ ","Linda","9.A",null,null,null,{"$f":"IF(E175=0,0,IF(E175<101,3*E175,IF(E175>80,300+E175/2.5)))","v":0},null,null,20,10]
[null,"KUBÁTOVÁ","Lucie","9.A",null,null,null,{"$f":"IF(E176=0,0,IF(E176<101,3*E176,IF(E176>80,300+E176/2.5)))","v":0},null,null,22,5]
[null,"ŠIMŮNKOVÁ ","Nikola","9.A",null,null,null,{"$f":"IF(E177=0,0,IF(E177<101,3*E177,IF(E177>80,300+E177/2.5)))","v":0},null,12,22,6]
[null,"ŠMÍDOVÁ","Kristýna","9.A",null,null,null,{"$f":"IF(E178=0,0,IF(E178<101,3*E178,IF(E178>80,300+E178/2.5)))","v":0},null,10,22,6]
[null,"VOTOČKOVÁ ","Nikola","9.A",null,null,null,{"$f":"IF(E179=0,0,IF(E179<101,3*E179,IF(E179>80,300+E179/2.5)))","v":0},null,12,19,6]
[null,"VYHLASOVÁ","Lenka","9.A",null,null,null,{"$f":"IF(E180=0,0,IF(E180<101,3*E180,IF(E180>80,300+E180/2.5)))","v":0},null,null,22,10]
[null,"BÖHMOVÁ","Diana","9.B",8,null,"Jilemnice  10.05.21",{"$f":"IF(E181=0,0,IF(E181<101,3*E181,IF(E181>80,300+E181/2.5)))","v":24},null,null,7,8]
[null,"HOUDOVÁ","Tereza","9.B",null,null,null,{"$f":"IF(E182=0,0,IF(E182<101,3*E182,IF(E182>80,300+E182/2.5)))","v":0},null,null,27,10]
[null,"JANÍKOVÁ","Kristýna","9.B",null,null,null,null,null,10]
[null,"KUŽELOVÁ","Ela","9.B",9,null,"Jilemnice  10.05.21",{"$f":"IF(E184=0,0,IF(E184<101,3*E184,IF(E184>80,300+E184/2.5)))","v":27},null,null,29,7]
[null,"MATERNOVÁ","Lucie","9.B",4,null,"Jilemnice  10.05.21",{"$f":"IF(E185=0,0,IF(E185<101,3*E185,IF(E185>80,300+E185/2.5)))","v":12},null,null,9,2]
[null,"OPOČENSKÁ","Matylda","9.B",null,null,null,{"$f":"IF(E186=0,0,IF(E186<101,3*E186,IF(E186>80,300+E186/2.5)))","v":0}]
[null,"PIŠTOROVÁ","Karolína","9.B",9,null,"Jilemnice  10.05.21",{"$f":"IF(E187=0,0,IF(E187<101,3*E187,IF(E187>80,300+E187/2.5)))","v":27},null,null,29,17]
[null,"POKORNÝ","Anna","9.B",5,null,"Jilemnice  18.04.21",{"$f":"IF(E188=0,0,IF(E188<101,3*E188,IF(E188>80,300+E188/2.5)))","v":15},null,null,null,6]
[null,"SUCHÁNKOVÁ","Michaela","9.B",9,null,"Jilemnice  10.05.21",{"$f":"IF(E189=0,0,IF(E189<101,3*E189,IF(E189>80,300+E189/2.5)))","v":27},null,17,14,8]
[null,"ŠUBÍKOVÁ ","Štěpánka","9.B",9,null,"Jilemnice  10.05.21",{"$f":"IF(E190=0,0,IF(E190<101,3*E190,IF(E190>80,300+E190/2.5)))","v":27},null,17,7,8]
[null,"VANCLOVÁ","Pavlína","9.B",8,null,"Jilemnice  10.05.21",{"$f":"IF(E191=0,0,IF(E191<101,3*E191,IF(E191>80,300+E191/2.5)))","v":24},null,17,9,8]

{"sheet":"Dplav","index":17,"n_rows":191,"n_cols":12,"rows_kept":191,"cut":false,"hidden":false,"merged":[]}
[null,null,"VÝKONY   2020 - 2021",null,null,null,"PLAVÁNÍ","   DĚVČATA  6. -  9.  ROČ."]
[null,null,null,null,null,null,null,null,null,null,"stav  k ",{"$f":"TODAY()","v":44375}]
[null,null,null,null,null,null,null,"   BODY",null,"   19 - 20   ","   18 - 19   ","   17 - 18   "]
[]
["1.",{"$f":"B101","v":"ERBENOVÁ"},{"$f":"C101","v":"Sára"},"6.A",0,null,0,0,null,0,0,0]
["2.",{"$f":"B102","v":"HOFMANOVÁ "},"Nicol","6.A",0,null,0,0,null,0,0,0]
["3.","HOLEŠOVSKÁ","Aneta","6.A",0,null,0,0,null,0,0,0]
["4.","HOLUBCOVÁ","Alena","6.A",0,null,0,0,null,0,0,0]
["5.","KOHOUTOVÁ","Anna","6.A",0,null,0,0,null,0,0,0]
["6.","KRAUSOVÁ","Anežka","6.A",0,null,0,0,null,0,0,0]
["7.","KUŽELOVÁ","Apoléna","6.A",0,null,0,0,null,0,0,0]
["8.","MORÁVKOVÁ","Lucie","6.A",0,null,0,0,null,0,0,0]
["9.","SKLENÁROVÁ","Eliška","6.A",0,null,0,0,null,0,0,0]
["10.","ŠTOLFOVÁ","Tereza","6.A",0,null,0,0,null,0,0,0]
["11.","ŠUBÍKOVÁ","Klára","6.A",0,null,0,0,null,0,0,0]
["12.","TULÁČKOVÁ","Natálie","6.A",0,null,0,0,null,0,0,0]
["13.","VOJTÍŠKOVÁ","Ella","6.A",0,null,0,0,null,0,0,0]
["14.","DRUGÁČOVÁ","Kristinka","6.B",0,null,0,0,null,0,0,0]
["15.","FAJSTAVROVÁ","Karolína","6.B",0,null,0,0,null,0,0,0]
["16.","FAJSTAVROVÁ","Magdaléna","6.B",0,null,0,0,null,0,0,0]
["17.","HLAVATÁ","Anna","6.B",0,null,0,0,null,0,0,0]
["18.",{"$f":"B118","v":"JINDROVÁ"},"Barbora","6.B",0,null,0,0,null,0,0,0]
["19.","MAŘASOVÁ","Vendula","6.B",0,null,0,0,null,0,0,0]
["20.","PETŘÍČKOVÁ","Natálie","6.B",0,null,0,0,null,0,0,0]
["21.","PETŘÍKOVÁ","Adéla","6.B",0,null,0,0,null,0,0,0]
["22.","REGÁLOVÁ","Karolína","6.B",0,null,0,0,null,0,0,0]
["23.","RIEGROVÁ","Magdaléna","6.B",0,null,0,0,null,0,0,0]
["24.","RYBENSKÁ","Sabina","6.B",0,null,0,0,null,0,0,0]
["25.","STEINEROVÁ","Barbora","6.B",0,null,0,0,null,0,0,0]
["26.","TOMEŠOVÁ","Barbora","6.B",0,null,0,0,null,0,0,0]
["27.","VOHNOUTOVÁ","Aneta","6.B",0,null,0,0,null,0,0,0]
["28.","HAVLÍKOVÁ","Michaela","7.A",0,null,0,0,null,0,0,0]
["29.","HOLUBCOVÁ","Sára","7.A",0,null,0,0,null,0,0,0]
["30.","HONCŮ","Tereza","7.A",0,null,0,0,null,0,0,0]
["31.","HORÁČKOVÁ","Kateřina","7.A",0,null,0,0,null,0,0,0]
["32.","JOUDALOVÁ","Daniela","7.A",0,null,0,0,null,0,0,0]
["33.","KLÍMOVÁ","Anna","7.A",0,null,0,0,null,0,0,0]
["34.",{"$f":"B134","v":"KOHOUTOVÁ"},"Veronika","7.A",0,null,0,0,null,0,0,0]
["35.","KOVÁŘOVÁ","Viktorie","7.A",0,null,0,0,null,0,0,0]
["36.","KYNČLOVÁ","Anna","7.A",0,null,0,0,null,0,0,0]
["37.","MATOUŠOVÁ","Tereza","7.A",30,null,"Martinice  28.06.21",509.95443449696967,null,26.05,0,0]
["38.","MAZÁNKOVÁ","Zuzana","7.A",0,null,0,0,null,0,0,0]
["39.","MORKESOVÁ","Sabrina","7.A",0,null,0,0,null,0,0,0]
["40.","POHOŘALÁ","Alžběta","7.A",30,null,"Martinice  28.06.21",509.95443449696967,null,0,0,0]
["41.","SCHOLZOVÁ","Laura","7.A",30,null,"Martinice  28.06.21",509.95443449696967,null,0,0,0]
["42.","VÁCLAVÍKOVÁ","Valerie","7.A",30,null,"Martinice  28.06.21",509.95443449696967,null,0,0,0]
["43.","ZAPADLOVÁ","Emma","7.A",30,null,"Martinice  28.06.21",509.95443449696967,null,0,0,0]
["44.","ŽIŠKOVÁ","Mia","7.A",0,null,0,0,null,0,0,0]
["45.","FARSKÁ","Tereza","7.B",0,null,0,0,null,0,0,0]
["46.","FEIXOVÁ","Rozálie","7.B",0,null,0,0,null,0,0,0]
["47.","FIŠEROVÁ","Michaela","7.B",0,null,0,0,null,0,0,0]
["48.","HAVLÍČKOVÁ","Kristýna","7.B",0,null,0,0,null,22.15,0,0]
["49.","JODASOVÁ","Nikola","7.B",0,null,0,0,null,0,0,0]
["50.",{"$f":"B150","v":"KADAVÁ"},"Nikola","7.B",0,null,0,0,null,0,0,0]
["51.","KRAFKOVÁ","Lucie","7.B",0,null,0,0,null,0,0,0]
["52.","KŘIVINKOVÁ","Alžběta","7.B",0,null,0,0,null,0,0,0]
["53.","LEŠÁKOVÁ","Lenka","7.B",0,null,0,0,null,0,0,0]
["54.","NYKLÍČKOVÁ","Adéla","7.B",0,null,0,0,null,0,0,0]
["55.","PLŮCHOVÁ","Petra","7.B",0,null,0,0,null,34.65,0,0]
["56.","PODZIMKOVÁ","Eliška","7.B",0,null,0,0,null,0,0,0]
["57.","RUTKAYOVÁ","Klára","7.B",0,null,0,0,null,0,0,0]
["58.","SEIDLOVÁ","Zuzana","7.B",0,null,0,0,null,0,0,0]
["59.","TOMÁŠOVÁ","Sára","7.B",0,null,0,0,null,0,0,0]
["60.","VANCLOVÁ","Barbora","7.B",0,null,0,0,null,0,0,0]
["61.","VOTOČKOVÁ","Veronika","7.B",0,null,0,0,null,0,0,0]
["62.","HARTIGOVÁ","Anna","8.A",0,null,0,0,null,0,0,0]
["63.","HONCŮ","Rozálie","8.A",0,null,0,0,null,29.45,34.6,0]
["64.","CHALOUPSKÁ","Lucie","8.A",0,null,0,0,null,0,0,0]
["65.","KŘÍŽKOVÁ","Anna","8.A",0,null,0,0,null,0,0,0]
["66.",{"$f":"B166","v":"LUKEŠOVÁ"},"Kristýna","8.A",0,null,0,0,null,23.4,25.7,0]
["67.","MOTLÍKOVÁ","Eliška","8.A",0,null,0,0,null,0,0,0]
["68.","POHOŘELÁ","Amálie","8.A",0,null,0,0,null,0,0,0]
["69.","POLÁČKOVÁ","Natálie","8.A",0,null,0,0,null,0,0,0]
["70.","ŘEHOŘKOVÁ","Lucie","8.A",0,null,0,0,null,0,0,0]
["71.","SKÁLOVÁ","Alena","8.A",0,null,0,0,null,0,0,0]
["72.","VÁVROVÁ ","Aneta","8.A",0,null,0,0,null,0,0,0]
["73.","ZELINKOVÁ","Klára","8.A",0,null,0,0,null,0,0,0]
["74.","JUNGOVÁ ","Lucie","9.A",0,null,0,0,null,0,0,0]
["75.","KŘIVÁNKOVÁ ","Linda","9.A",0,null,0,0,null,0,27.01,24.84]
["76.","KUBÁTOVÁ","Lucie","9.A",0,null,0,0,null,0,0,0]
["77.","ŠIMŮNKOVÁ ","Nikola","9.A",0,null,0,0,null,0,0,34.25]
["78.","ŠMÍDOVÁ","Kristýna","9.A",0,null,0,0,null,0,0,0]
["79.","VOTOČKOVÁ ","Nikola","9.A",0,null,0,0,null,0,0,33.659999999999997]
["80.","VYHLASOVÁ","Lenka","9.A",0,null,0,0,null,0,0,0]
["81.","BÖHMOVÁ","Diana","9.B",30,null,"Martinice  25.06.21",509.95443449696967,null,0,0,38.869999999999997]
["82.",{"$f":"B182","v":"HOUDOVÁ"},"Tereza","9.B",30,null,"Martinice  25.06.21",509.95443449696967,null,25.9,26.2,24.62]
["83.","JANÍKOVÁ","Kristýna","9.B",30,null,"Martinice  25.06.21",509.95443449696967,null,0,0,0]
["84.","KUŽELOVÁ","Ela","9.B",0,null,0,0,null,0,0,0]
["85.","MATERNOVÁ","Lucie","9.B",0,null,0,0,null,0,0,0]
["86.","OPOČENSKÁ","Matylda","9.B",0,null,0,0,null,0,0,0]
["87.","PIŠTOROVÁ","Karolína","9.B",0,null,0,0,null,0,0,28.29]
["88.","POKORNÝ","Anna","9.B",0,null,0,0,null,0,0,0]
["89.","SUCHÁNKOVÁ","Michaela","9.B",0,null,0,0,null,0,0,35.869999999999997]
["90.","ŠUBÍKOVÁ ","Štěpánka","9.B",0,null,0,0,null,0,0,0]
["91.","VANCLOVÁ","Pavlína","9.B",30,null,"Martinice  25.06.21",509.95443449696967,null,0,0,32.97]
[]
[]
[]
[]
[]
[null,"ERBENOVÁ","Sára","6.A",null,null,null,{"$f":"IF(E101=0,0,IF(E101>0,(1000000000 - 313216 /E101 + 34538300 /E101*2 - 1698600000 /E101*3 + 32198000000 /E101*4)/11000000+44))","v":0}]
[null,"HOFMANOVÁ ","Nicol","6.A",null,null,null,{"$f":"IF(E102=0,0,IF(E102>0,(1000000000 - 313216 /E102 + 34538300 /E102*2 - 1698600000 /E102*3 + 32198000000 /E102*4)/11000000+44))","v":0}]
[null,"HOLEŠOVSKÁ","Aneta","6.A",null,null,null,{"$f":"IF(E103=0,0,IF(E103>0,(1000000000 - 313216 /E103 + 34538300 /E103*2 - 1698600000 /E103*3 + 32198000000 /E103*4)/11000000+44))","v":0}]
[null,"HOLUBCOVÁ","Alena","6.A",null,null,null,{"$f":"IF(E104=0,0,IF(E104>0,(1000000000 - 313216 /E104 + 34538300 /E104*2 - 1698600000 /E104*3 + 32198000000 /E104*4)/11000000+44))","v":0}]
[null,"KOHOUTOVÁ","Anna","6.A",null,null,null,{"$f":"IF(E105=0,0,IF(E105>0,(1000000000 - 313216 /E105 + 34538300 /E105*2 - 1698600000 /E105*3 + 32198000000 /E105*4)/11000000+44))","v":0}]
[null,"KRAUSOVÁ","Anežka","6.A",null,null,null,{"$f":"IF(E106=0,0,IF(E106>0,(1000000000 - 313216 /E106 + 34538300 /E106*2 - 1698600000 /E106*3 + 32198000000 /E106*4)/11000000+44))","v":0}]
[null,"KUŽELOVÁ","Apoléna","6.A",null,null,null,{"$f":"IF(E107=0,0,IF(E107>0,(1000000000 - 313216 /E107 + 34538300 /E107*2 - 1698600000 /E107*3 + 32198000000 /E107*4)/11000000+44))","v":0}]
[null,"MORÁVKOVÁ","Lucie","6.A",null,null,null,{"$f":"IF(E108=0,0,IF(E108>0,(1000000000 - 313216 /E108 + 34538300 /E108*2 - 1698600000 /E108*3 + 32198000000 /E108*4)/11000000+44))","v":0}]
[null,"SKLENÁROVÁ","Eliška","6.A",null,null,null,{"$f":"IF(E109=0,0,IF(E109>0,(1000000000 - 313216 /E109 + 34538300 /E109*2 - 1698600000 /E109*3 + 32198000000 /E109*4)/11000000+44))","v":0}]
[null,"ŠTOLFOVÁ","Tereza","6.A",null,null,null,{"$f":"IF(E110=0,0,IF(E110>0,(1000000000 - 313216 /E110 + 34538300 /E110*2 - 1698600000 /E110*3 + 32198000000 /E110*4)/11000000+44))","v":0}]
[null,"ŠUBÍKOVÁ","Klára","6.A",null,null,null,{"$f":"IF(E111=0,0,IF(E111>0,(1000000000 - 313216 /E111 + 34538300 /E111*2 - 1698600000 /E111*3 + 32198000000 /E111*4)/11000000+44))","v":0}]
[null,"TULÁČKOVÁ","Natálie","6.A",null,null,null,{"$f":"IF(E112=0,0,IF(E112>0,(1000000000 - 313216 /E112 + 34538300 /E112*2 - 1698600000 /E112*3 + 32198000000 /E112*4)/11000000+44))","v":0}]
[null,"VOJTÍŠKOVÁ","Ella","6.A",null,null,null,{"$f":"IF(E113=0,0,IF(E113>0,(1000000000 - 313216 /E113 + 34538300 /E113*2 - 1698600000 /E113*3 + 32198000000 /E113*4)/11000000+44))","v":0}]
[null,"DRUGÁČOVÁ","Kristinka","6.B",null,null,null,{"$f":"IF(E114=0,0,IF(E114>0,(1000000000 - 313216 /E114 + 34538300 /E114*2 - 1698600000 /E114*3 + 32198000000 /E114*4)/11000000+44))","v":0}]
[null,"FAJSTAVROVÁ","Karolína","6.B",null,null,null,{"$f":"IF(E115=0,0,IF(E115>0,(1000000000 - 313216 /E115 + 34538300 /E115*2 - 1698600000 /E115*3 + 32198000000 /E115*4)/11000000+44))","v":0}]
[null,"FAJSTAVROVÁ","Magdaléna","6.B",null,null,null,{"$f":"IF(E116=0,0,IF(E116>0,(1000000000 - 313216 /E116 + 34538300 /E116*2 - 1698600000 /E116*3 + 32198000000 /E116*4)/11000000+44))","v":0}]
[null,"HLAVATÁ","Anna","6.B",null,null,null,{"$f":"IF(E117=0,0,IF(E117>0,(1000000000 - 313216 /E117 + 34538300 /E117*2 - 1698600000 /E117*3 + 32198000000 /E117*4)/11000000+44))","v":0}]
[null,"JINDROVÁ","Barbora","6.B",null,null,null,{"$f":"IF(E118=0,0,IF(E118>0,(1000000000 - 313216 /E118 + 34538300 /E118*2 - 1698600000 /E118*3 + 32198000000 /E118*4)/11000000+44))","v":0}]
[null,"MAŘASOVÁ","Vendula","6.B",null,null,null,{"$f":"IF(E119=0,0,IF(E119>0,(1000000000 - 313216 /E119 + 34538300 /E119*2 - 1698600000 /E119*3 + 32198000000 /E119*4)/11000000+44))","v":0}]
[null,"PETŘÍČKOVÁ","Natálie","6.B",null,null,null,{"$f":"IF(E120=0,0,IF(E120>0,(1000000000 - 313216 /E120 + 34538300 /E120*2 - 1698600000 /E120*3 + 32198000000 /E120*4)/11000000+44))","v":0}]
[null,"PETŘÍKOVÁ","Adéla","6.B",null,null,null,{"$f":"IF(E121=0,0,IF(E121>0,(1000000000 - 313216 /E121 + 34538300 /E121*2 - 1698600000 /E121*3 + 32198000000 /E121*4)/11000000+44))","v":0}]
[null,"REGÁLOVÁ","Karolína","6.B",null,null,null,{"$f":"IF(E122=0,0,IF(E122>0,(1000000000 - 313216 /E122 + 34538300 /E122*2 - 1698600000 /E122*3 + 32198000000 /E122*4)/11000000+44))","v":0}]
[null,"RIEGROVÁ","Magdaléna","6.B",null,null,null,{"$f":"IF(E123=0,0,IF(E123>0,(1000000000 - 313216 /E123 + 34538300 /E123*2 - 1698600000 /E123*3 + 32198000000 /E123*4)/11000000+44))","v":0}]
[null,"RYBENSKÁ","Sabina","6.B",null,null,null,{"$f":"IF(E124=0,0,IF(E124>0,(1000000000 - 313216 /E124 + 34538300 /E124*2 - 1698600000 /E124*3 + 32198000000 /E124*4)/11000000+44))","v":0}]
[null,"STEINEROVÁ","Barbora","6.B",null,null,null,{"$f":"IF(E125=0,0,IF(E125>0,(1000000000 - 313216 /E125 + 34538300 /E125*2 - 1698600000 /E125*3 + 32198000000 /E125*4)/11000000+44))","v":0}]
[null,"TOMEŠOVÁ","Barbora","6.B",null,null,null,{"$f":"IF(E126=0,0,IF(E126>0,(1000000000 - 313216 /E126 + 34538300 /E126*2 - 1698600000 /E126*3 + 32198000000 /E126*4)/11000000+44))","v":0}]
[null,"VOHNOUTOVÁ","Aneta","6.B",null,null,null,{"$f":"IF(E127=0,0,IF(E127>0,(1000000000 - 313216 /E127 + 34538300 /E127*2 - 1698600000 /E127*3 + 32198000000 /E127*4)/11000000+44))","v":0}]
[null,"HAVLÍKOVÁ","Michaela","7.A",null,null,null,{"$f":"IF(E128=0,0,IF(E128>0,(1000000000 - 313216 /E128 + 34538300 /E128*2 - 1698600000 /E128*3 + 32198000000 /E128*4)/11000000+44))","v":0}]
[null,"HOLUBCOVÁ","Sára","7.A",null,null,null,{"$f":"IF(E129=0,0,IF(E129>0,(1000000000 - 313216 /E129 + 34538300 /E129*2 - 1698600000 /E129*3 + 32198000000 /E129*4)/11000000+44))","v":0}]
[null,"HONCŮ","Tereza","7.A",null,null,null,{"$f":"IF(E130=0,0,IF(E130>0,(1000000000 - 313216 /E130 + 34538300 /E130*2 - 1698600000 /E130*3 + 32198000000 /E130*4)/11000000+44))","v":0}]
[null,"HORÁČKOVÁ","Kateřina","7.A",null,null,null,{"$f":"IF(E131=0,0,IF(E131>0,(1000000000 - 313216 /E131 + 34538300 /E131*2 - 1698600000 /E131*3 + 32198000000 /E131*4)/11000000+44))","v":0}]
[null,"JOUDALOVÁ","Daniela","7.A",null,null,null,{"$f":"IF(E132=0,0,IF(E132>0,(1000000000 - 313216 /E132 + 34538300 /E132*2 - 1698600000 /E132*3 + 32198000000 /E132*4)/11000000+44))","v":0}]
[null,"KLÍMOVÁ","Anna","7.A",null,null,null,{"$f":"IF(E133=0,0,IF(E133>0,(1000000000 - 313216 /E133 + 34538300 /E133*2 - 1698600000 /E133*3 + 32198000000 /E133*4)/11000000+44))","v":0}]
[null,"KOHOUTOVÁ","Veronika","7.A",null,null,null,{"$f":"IF(E134=0,0,IF(E134>0,(1000000000 - 313216 /E134 + 34538300 /E134*2 - 1698600000 /E134*3 + 32198000000 /E134*4)/11000000+44))","v":0}]
[null,"KOVÁŘOVÁ","Viktorie","7.A",null,null,null,{"$f":"IF(E135=0,0,IF(E135>0,(1000000000 - 313216 /E135 + 34538300 /E135*2 - 1698600000 /E135*3 + 32198000000 /E135*4)/11000000+44))","v":0}]
[null,"KYNČLOVÁ","Anna","7.A",null,null,null,{"$f":"IF(E136=0,0,IF(E136>0,(1000000000 - 313216 /E136 + 34538300 /E136*2 - 1698600000 /E136*3 + 32198000000 /E136*4)/11000000+44))","v":0}]
[null,"MATOUŠOVÁ","Tereza","7.A",30,null,"Martinice  28.06.21",{"$f":"IF(E137=0,0,IF(E137>0,(1000000000 - 313216 /E137 + 34538300 /E137*2 - 1698600000 /E137*3 + 32198000000 /E137*4)/11000000+44))","v":509.95443449696967},null,26.05]
[null,"MAZÁNKOVÁ","Zuzana","7.A",null,null,null,{"$f":"IF(E138=0,0,IF(E138>0,(1000000000 - 313216 /E138 + 34538300 /E138*2 - 1698600000 /E138*3 + 32198000000 /E138*4)/11000000+44))","v":0}]
[null,"MORKESOVÁ","Sabrina","7.A",null,null,null,{"$f":"IF(E139=0,0,IF(E139>0,(1000000000 - 313216 /E139 + 34538300 /E139*2 - 1698600000 /E139*3 + 32198000000 /E139*4)/11000000+44))","v":0}]
[null,"POHOŘALÁ","Alžběta","7.A",30,null,"Martinice  28.06.21",{"$f":"IF(E140=0,0,IF(E140>0,(1000000000 - 313216 /E140 + 34538300 /E140*2 - 1698600000 /E140*3 + 32198000000 /E140*4)/11000000+44))","v":509.95443449696967}]
[null,"SCHOLZOVÁ","Laura","7.A",30,null,"Martinice  28.06.21",{"$f":"IF(E141=0,0,IF(E141>0,(1000000000 - 313216 /E141 + 34538300 /E141*2 - 1698600000 /E141*3 + 32198000000 /E141*4)/11000000+44))","v":509.95443449696967}]
[null,"VÁCLAVÍKOVÁ","Valerie","7.A",30,null,"Martinice  28.06.21",{"$f":"IF(E142=0,0,IF(E142>0,(1000000000 - 313216 /E142 + 34538300 /E142*2 - 1698600000 /E142*3 + 32198000000 /E142*4)/11000000+44))","v":509.95443449696967}]
[null,"ZAPADLOVÁ","Emma","7.A",30,null,"Martinice  28.06.21",{"$f":"IF(E143=0,0,IF(E143>0,(1000000000 - 313216 /E143 + 34538300 /E143*2 - 1698600000 /E143*3 + 32198000000 /E143*4)/11000000+44))","v":509.95443449696967}]
[null,"ŽIŠKOVÁ","Mia","7.A",null,null,null,{"$f":"IF(E144=0,0,IF(E144>0,(1000000000 - 313216 /E144 + 34538300 /E144*2 - 1698600000 /E144*3 + 32198000000 /E144*4)/11000000+44))","v":0}]
[null,"FARSKÁ","Tereza","7.B",null,null,null,{"$f":"IF(E145=0,0,IF(E145>0,(1000000000 - 313216 /E145 + 34538300 /E145*2 - 1698600000 /E145*3 + 32198000000 /E145*4)/11000000+44))","v":0}]
[null,"FEIXOVÁ","Rozálie","7.B",null,null,null,{"$f":"IF(E146=0,0,IF(E146>0,(1000000000 - 313216 /E146 + 34538300 /E146*2 - 1698600000 /E146*3 + 32198000000 /E146*4)/11000000+44))","v":0}]
[null,"FIŠEROVÁ","Michaela","7.B",null,null,null,{"$f":"IF(E147=0,0,IF(E147>0,(1000000000 - 313216 /E147 + 34538300 /E147*2 - 1698600000 /E147*3 + 32198000000 /E147*4)/11000000+44))","v":0}]
[null,"HAVLÍČKOVÁ","Kristýna","7.B",null,null,null,{"$f":"IF(E148=0,0,IF(E148>0,(1000000000 - 313216 /E148 + 34538300 /E148*2 - 1698600000 /E148*3 + 32198000000 /E148*4)/11000000+44))","v":0},null,22.15]
[null,"JODASOVÁ","Nikola","7.B",null,null,null,{"$f":"IF(E149=0,0,IF(E149>0,(1000000000 - 313216 /E149 + 34538300 /E149*2 - 1698600000 /E149*3 + 32198000000 /E149*4)/11000000+44))","v":0}]
[null,"KADAVÁ","Nikola","7.B",null,null,null,{"$f":"IF(E150=0,0,IF(E150>0,(1000000000 - 313216 /E150 + 34538300 /E150*2 - 1698600000 /E150*3 + 32198000000 /E150*4)/11000000+44))","v":0}]
[null,"KRAFKOVÁ","Lucie","7.B",null,null,null,{"$f":"IF(E151=0,0,IF(E151>0,(1000000000 - 313216 /E151 + 34538300 /E151*2 - 1698600000 /E151*3 + 32198000000 /E151*4)/11000000+44))","v":0}]
[null,"KŘIVINKOVÁ","Alžběta","7.B",null,null,null,{"$f":"IF(E152=0,0,IF(E152>0,(1000000000 - 313216 /E152 + 34538300 /E152*2 - 1698600000 /E152*3 + 32198000000 /E152*4)/11000000+44))","v":0}]
[null,"LEŠÁKOVÁ","Lenka","7.B",null,null,null,{"$f":"IF(E153=0,0,IF(E153>0,(1000000000 - 313216 /E153 + 34538300 /E153*2 - 1698600000 /E153*3 + 32198000000 /E153*4)/11000000+44))","v":0}]
[null,"NYKLÍČKOVÁ","Adéla","7.B",null,null,null,{"$f":"IF(E154=0,0,IF(E154>0,(1000000000 - 313216 /E154 + 34538300 /E154*2 - 1698600000 /E154*3 + 32198000000 /E154*4)/11000000+44))","v":0}]
[null,"PLŮCHOVÁ","Petra","7.B",null,null,null,{"$f":"IF(E155=0,0,IF(E155>0,(1000000000 - 313216 /E155 + 34538300 /E155*2 - 1698600000 /E155*3 + 32198000000 /E155*4)/11000000+44))","v":0},null,34.65]
[null,"PODZIMKOVÁ","Eliška","7.B",null,null,null,{"$f":"IF(E156=0,0,IF(E156>0,(1000000000 - 313216 /E156 + 34538300 /E156*2 - 1698600000 /E156*3 + 32198000000 /E156*4)/11000000+44))","v":0}]
[null,"RUTKAYOVÁ","Klára","7.B",null,null,null,{"$f":"IF(E157=0,0,IF(E157>0,(1000000000 - 313216 /E157 + 34538300 /E157*2 - 1698600000 /E157*3 + 32198000000 /E157*4)/11000000+44))","v":0}]
[null,"SEIDLOVÁ","Zuzana","7.B",null,null,null,{"$f":"IF(E158=0,0,IF(E158>0,(1000000000 - 313216 /E158 + 34538300 /E158*2 - 1698600000 /E158*3 + 32198000000 /E158*4)/11000000+44))","v":0}]
[null,"TOMÁŠOVÁ","Sára","7.B",null,null,null,{"$f":"IF(E159=0,0,IF(E159>0,(1000000000 - 313216 /E159 + 34538300 /E159*2 - 1698600000 /E159*3 + 32198000000 /E159*4)/11000000+44))","v":0}]
[null,"VANCLOVÁ","Barbora","7.B",null,null,null,{"$f":"IF(E160=0,0,IF(E160>0,(1000000000 - 313216 /E160 + 34538300 /E160*2 - 1698600000 /E160*3 + 32198000000 /E160*4)/11000000+44))","v":0}]
[null,"VOTOČKOVÁ","Veronika","7.B",null,null,null,{"$f":"IF(E161=0,0,IF(E161>0,(1000000000 - 313216 /E161 + 34538300 /E161*2 - 1698600000 /E161*3 + 32198000000 /E161*4)/11000000+44))","v":0}]
[null,"HARTIGOVÁ","Anna","8.A",null,null,null,{"$f":"IF(E162=0,0,IF(E162>0,(1000000000 - 313216 /E162 + 34538300 /E162*2 - 1698600000 /E162*3 + 32198000000 /E162*4)/11000000+44))","v":0}]
[null,"HONCŮ","Rozálie","8.A",null,null,null,{"$f":"IF(E163=0,0,IF(E163>0,(1000000000 - 313216 /E163 + 34538300 /E163*2 - 1698600000 /E163*3 + 32198000000 /E163*4)/11000000+44))","v":0},null,29.45,34.6]
[null,"CHALOUPSKÁ","Lucie","8.A",null,null,null,{"$f":"IF(E164=0,0,IF(E164>0,(1000000000 - 313216 /E164 + 34538300 /E164*2 - 1698600000 /E164*3 + 32198000000 /E164*4)/11000000+44))","v":0}]
[null,"KŘÍŽKOVÁ","Anna","8.A",null,null,null,{"$f":"IF(E165=0,0,IF(E165>0,(1000000000 - 313216 /E165 + 34538300 /E165*2 - 1698600000 /E165*3 + 32198000000 /E165*4)/11000000+44))","v":0}]
[null,"LUKEŠOVÁ","Kristýna","8.A",null,null,null,{"$f":"IF(E166=0,0,IF(E166>0,(1000000000 - 313216 /E166 + 34538300 /E166*2 - 1698600000 /E166*3 + 32198000000 /E166*4)/11000000+44))","v":0},null,23.4,25.7]
[null,"MOTLÍKOVÁ","Eliška","8.A",null,null,null,{"$f":"IF(E167=0,0,IF(E167>0,(1000000000 - 313216 /E167 + 34538300 /E167*2 - 1698600000 /E167*3 + 32198000000 /E167*4)/11000000+44))","v":0}]
[null,"POHOŘELÁ","Amálie","8.A",null,null,null,{"$f":"IF(E168=0,0,IF(E168>0,(1000000000 - 313216 /E168 + 34538300 /E168*2 - 1698600000 /E168*3 + 32198000000 /E168*4)/11000000+44))","v":0}]
[null,"POLÁČKOVÁ","Natálie","8.A",null,null,null,{"$f":"IF(E169=0,0,IF(E169>0,(1000000000 - 313216 /E169 + 34538300 /E169*2 - 1698600000 /E169*3 + 32198000000 /E169*4)/11000000+44))","v":0}]
[null,"ŘEHOŘKOVÁ","Lucie","8.A",null,null,null,{"$f":"IF(E170=0,0,IF(E170>0,(1000000000 - 313216 /E170 + 34538300 /E170*2 - 1698600000 /E170*3 + 32198000000 /E170*4)/11000000+44))","v":0}]
[null,"SKÁLOVÁ","Alena","8.A",null,null,null,{"$f":"IF(E171=0,0,IF(E171>0,(1000000000 - 313216 /E171 + 34538300 /E171*2 - 1698600000 /E171*3 + 32198000000 /E171*4)/11000000+44))","v":0}]
[null,"VÁVROVÁ ","Aneta","8.A",null,null,null,{"$f":"IF(E172=0,0,IF(E172>0,(1000000000 - 313216 /E172 + 34538300 /E172*2 - 1698600000 /E172*3 + 32198000000 /E172*4)/11000000+44))","v":0}]
[null,"ZELINKOVÁ","Klára","8.A",null,null,null,{"$f":"IF(E173=0,0,IF(E173>0,(1000000000 - 313216 /E173 + 34538300 /E173*2 - 1698600000 /E173*3 + 32198000000 /E173*4)/11000000+44))","v":0}]
[null,"JUNGOVÁ ","Lucie","9.A",null,null,null,{"$f":"IF(E174=0,0,IF(E174>0,(1000000000 - 313216 /E174 + 34538300 /E174*2 - 1698600000 /E174*3 + 32198000000 /E174*4)/11000000+44))","v":0}]
[null,"KŘIVÁNKOVÁ ","Linda","9.A",null,null,null,{"$f":"IF(E175=0,0,IF(E175>0,(1000000000 - 313216 /E175 + 34538300 /E175*2 - 1698600000 /E175*3 + 32198000000 /E175*4)/11000000+44))","v":0},null,null,27.01,24.84]
[null,"KUBÁTOVÁ","Lucie","9.A",null,null,null,{"$f":"IF(E176=0,0,IF(E176>0,(1000000000 - 313216 /E176 + 34538300 /E176*2 - 1698600000 /E176*3 + 32198000000 /E176*4)/11000000+44))","v":0}]
[null,"ŠIMŮNKOVÁ ","Nikola","9.A",null,null,null,{"$f":"IF(E177=0,0,IF(E177>0,(1000000000 - 313216 /E177 + 34538300 /E177*2 - 1698600000 /E177*3 + 32198000000 /E177*4)/11000000+44))","v":0},null,null,null,34.25]
[null,"ŠMÍDOVÁ","Kristýna","9.A",null,null,null,{"$f":"IF(E178=0,0,IF(E178>0,(1000000000 - 313216 /E178 + 34538300 /E178*2 - 1698600000 /E178*3 + 32198000000 /E178*4)/11000000+44))","v":0}]
[null,"VOTOČKOVÁ ","Nikola","9.A",null,null,null,{"$f":"IF(E179=0,0,IF(E179>0,(1000000000 - 313216 /E179 + 34538300 /E179*2 - 1698600000 /E179*3 + 32198000000 /E179*4)/11000000+44))","v":0},null,null,null,33.659999999999997]
[null,"VYHLASOVÁ","Lenka","9.A",null,null,null,{"$f":"IF(E180=0,0,IF(E180>0,(1000000000 - 313216 /E180 + 34538300 /E180*2 - 1698600000 /E180*3 + 32198000000 /E180*4)/11000000+44))","v":0}]
[null,"BÖHMOVÁ","Diana","9.B",30,null,"Martinice  25.06.21",{"$f":"IF(E181=0,0,IF(E181>0,(1000000000 - 313216 /E181 + 34538300 /E181*2 - 1698600000 /E181*3 + 32198000000 /E181*4)/11000000+44))","v":509.95443449696967},null,null,null,38.869999999999997]
[null,"HOUDOVÁ","Tereza","9.B",30,null,"Martinice  25.06.21",{"$f":"IF(E182=0,0,IF(E182>0,(1000000000 - 313216 /E182 + 34538300 /E182*2 - 1698600000 /E182*3 + 32198000000 /E182*4)/11000000+44))","v":509.95443449696967},null,25.9,26.2,24.62]
[null,"JANÍKOVÁ","Kristýna","9.B",30,null,"Martinice  25.06.21",{"$f":"IF(E183=0,0,IF(E183>0,(1000000000 - 313216 /E183 + 34538300 /E183*2 - 1698600000 /E183*3 + 32198000000 /E183*4)/11000000+44))","v":509.95443449696967}]
[null,"KUŽELOVÁ","Ela","9.B",null,null,null,{"$f":"IF(E184=0,0,IF(E184>0,(1000000000 - 313216 /E184 + 34538300 /E184*2 - 1698600000 /E184*3 + 32198000000 /E184*4)/11000000+44))","v":0}]
[null,"MATERNOVÁ","Lucie","9.B",null,null,null,{"$f":"IF(E185=0,0,IF(E185>0,(1000000000 - 313216 /E185 + 34538300 /E185*2 - 1698600000 /E185*3 + 32198000000 /E185*4)/11000000+44))","v":0}]
[null,"OPOČENSKÁ","Matylda","9.B",null,null,null,{"$f":"IF(E186=0,0,IF(E186>0,(1000000000 - 313216 /E186 + 34538300 /E186*2 - 1698600000 /E186*3 + 32198000000 /E186*4)/11000000+44))","v":0}]
[null,"PIŠTOROVÁ","Karolína","9.B",null,null,null,{"$f":"IF(E187=0,0,IF(E187>0,(1000000000 - 313216 /E187 + 34538300 /E187*2 - 1698600000 /E187*3 + 32198000000 /E187*4)/11000000+44))","v":0},null,null,null,28.29]
[null,"POKORNÝ","Anna","9.B",null,null,null,{"$f":"IF(E188=0,0,IF(E188>0,(1000000000 - 313216 /E188 + 34538300 /E188*2 - 1698600000 /E188*3 + 32198000000 /E188*4)/11000000+44))","v":0}]
[null,"SUCHÁNKOVÁ","Michaela","9.B",null,null,null,{"$f":"IF(E189=0,0,IF(E189>0,(1000000000 - 313216 /E189 + 34538300 /E189*2 - 1698600000 /E189*3 + 32198000000 /E189*4)/11000000+44))","v":0},null,null,null,35.869999999999997]
[null,"ŠUBÍKOVÁ ","Štěpánka","9.B",null,null,null,{"$f":"IF(E190=0,0,IF(E190>0,(1000000000 - 313216 /E190 + 34538300 /E190*2 - 1698600000 /E190*3 + 32198000000 /E190*4)/11000000+44))","v":0}]
[null,"VANCLOVÁ","Pavlína","9.B",30,null,"Martinice  25.06.21",{"$f":"IF(E191=0,0,IF(E191>0,(1000000000 - 313216 /E191 + 34538300 /E191*2 - 1698600000 /E191*3 + 32198000000 /E191*4)/11000000+44))","v":509.95443449696967},null,null,null,32.97]

{"sheet":"Dšplh","index":18,"n_rows":191,"n_cols":12,"rows_kept":191,"cut":false,"hidden":false,"merged":[]}
[null,null,"VÝKONY   2020 - 2021",null,null,null,"ŠPLH","DĚVČATA  6. -  9.  ROČ."]
[null,null,null,null,null,null,null,null,null,null,"stav  k ",{"$f":"TODAY()","v":44375}]
[null,null,null,null,null,null,null,"   BODY",null,"   19 - 20   ","   18 - 19   ","   17 - 18   "]
[]
["1.",{"$f":"B101","v":"ERBENOVÁ"},{"$f":"C101","v":"Sára"},"6.A",0,null,0,0,null,0,0,0]
["2.",{"$f":"B102","v":"HOFMANOVÁ "},"Nicol","6.A",0,null,0,0,null,0,0,0]
["3.","HOLEŠOVSKÁ","Aneta","6.A",0,null,0,0,null,0,0,0]
["4.","HOLUBCOVÁ","Alena","6.A",0,null,0,0,null,0,0,0]
["5.","KOHOUTOVÁ","Anna","6.A",0,null,0,0,null,0,0,0]
["6.","KRAUSOVÁ","Anežka","6.A",0,null,0,0,null,0,0,0]
["7.","KUŽELOVÁ","Apoléna","6.A",0,null,0,0,null,0,0,0]
["8.","MORÁVKOVÁ","Lucie","6.A",0,null,0,0,null,0,0,0]
["9.","SKLENÁROVÁ","Eliška","6.A",0,null,0,0,null,0,0,0]
["10.","ŠTOLFOVÁ","Tereza","6.A",0,null,0,0,null,0,0,0]
["11.","ŠUBÍKOVÁ","Klára","6.A",0,null,0,0,null,0,0,0]
["12.","TULÁČKOVÁ","Natálie","6.A",0,null,0,0,null,0,0,0]
["13.","VOJTÍŠKOVÁ","Ella","6.A",0,null,0,0,null,0,0,0]
["14.","DRUGÁČOVÁ","Kristinka","6.B",0,null,0,0,null,0,0,0]
["15.","FAJSTAVROVÁ","Karolína","6.B",0,null,0,0,null,0,0,0]
["16.","FAJSTAVROVÁ","Magdaléna","6.B",0,null,0,0,null,0,0,0]
["17.","HLAVATÁ","Anna","6.B",0,null,0,0,null,0,0,0]
["18.",{"$f":"B118","v":"JINDROVÁ"},"Barbora","6.B",0,null,0,0,null,0,0,0]
["19.","MAŘASOVÁ","Vendula","6.B",0,null,0,0,null,0,0,0]
["20.","PETŘÍČKOVÁ","Natálie","6.B",0,null,0,0,null,0,0,0]
["21.","PETŘÍKOVÁ","Adéla","6.B",0,null,0,0,null,0,0,0]
["22.","REGÁLOVÁ","Karolína","6.B",0,null,0,0,null,0,0,0]
["23.","RIEGROVÁ","Magdaléna","6.B",0,null,0,0,null,0,0,0]
["24.","RYBENSKÁ","Sabina","6.B",0,null,0,0,null,0,0,0]
["25.","STEINEROVÁ","Barbora","6.B",0,null,0,0,null,0,0,0]
["26.","TOMEŠOVÁ","Barbora","6.B",0,null,0,0,null,0,0,0]
["27.","VOHNOUTOVÁ","Aneta","6.B",0,null,0,0,null,0,0,0]
["28.","HAVLÍKOVÁ","Michaela","7.A",0,null,0,0,null,25.69,0,0]
["29.","HOLUBCOVÁ","Sára","7.A",0,null,0,0,null,0,0,0]
["30.","HONCŮ","Tereza","7.A",0,null,0,0,null,0,0,0]
["31.","HORÁČKOVÁ","Kateřina","7.A",0,null,0,0,null,20.13,0,0]
["32.","JOUDALOVÁ","Daniela","7.A",0,null,0,0,null,0,0,0]
["33.","KLÍMOVÁ","Anna","7.A",0,null,0,0,null,0,0,0]
["34.",{"$f":"B134","v":"KOHOUTOVÁ"},"Veronika","7.A",0,null,0,0,null,11.58,0,0]
["35.","KOVÁŘOVÁ","Viktorie","7.A",0,null,0,0,null,9.7899999999999991,0,0]
["36.","KYNČLOVÁ","Anna","7.A",0,null,0,0,null,8.3699999999999992,0,0]
["37.","MATOUŠOVÁ","Tereza","7.A",0,null,0,0,null,0,0,0]
["38.","MAZÁNKOVÁ","Zuzana","7.A",0,null,0,0,null,0,0,0]
["39.","MORKESOVÁ","Sabrina","7.A",0,null,0,0,null,10.89,0,0]
["40.","POHOŘALÁ","Alžběta","7.A",0,null,0,0,null,0,0,0]
["41.","SCHOLZOVÁ","Laura","7.A",0,null,0,0,null,0,0,0]
["42.","VÁCLAVÍKOVÁ","Valerie","7.A",0,null,0,0,null,0,0,0]
["43.","ZAPADLOVÁ","Emma","7.A",0,null,0,0,null,12.01,0,0]
["44.","ŽIŠKOVÁ","Mia","7.A",0,null,0,0,null,0,0,0]
["45.","FARSKÁ","Tereza","7.B",0,null,0,0,null,0,0,0]
["46.","FEIXOVÁ","Rozálie","7.B",0,null,0,0,null,0,0,0]
["47.","FIŠEROVÁ","Michaela","7.B",0,null,0,0,null,0,0,0]
["48.","HAVLÍČKOVÁ","Kristýna","7.B",0,null,0,0,null,0,0,0]
["49.","JODASOVÁ","Nikola","7.B",0,null,0,0,null,0,0,0]
["50.",{"$f":"B150","v":"KADAVÁ"},"Nikola","7.B",0,null,0,0,null,0,0,0]
["51.","KRAFKOVÁ","Lucie","7.B",0,null,0,0,null,0,0,0]
["52.","KŘIVINKOVÁ","Alžběta","7.B",0,null,0,0,null,0,0,0]
["53.","LEŠÁKOVÁ","Lenka","7.B",0,null,0,0,null,0,0,0]
["54.","NYKLÍČKOVÁ","Adéla","7.B",0,null,0,0,null,0,0,0]
["55.","PLŮCHOVÁ","Petra","7.B",0,null,0,0,null,0,0,0]
["56.","PODZIMKOVÁ","Eliška","7.B",0,null,0,0,null,0,0,0]
["57.","RUTKAYOVÁ","Klára","7.B",0,null,0,0,null,0,0,0]
["58.","SEIDLOVÁ","Zuzana","7.B",0,null,0,0,null,0,0,0]
["59.","TOMÁŠOVÁ","Sára","7.B",0,null,0,0,null,0,0,0]
["60.","VANCLOVÁ","Barbora","7.B",0,null,0,0,null,0,0,0]
["61.","VOTOČKOVÁ","Veronika","7.B",0,null,0,0,null,0,0,0]
["62.","HARTIGOVÁ","Anna","8.A",0,null,0,0,null,7.92,6.89,0]
["63.","HONCŮ","Rozálie","8.A",0,null,0,0,null,5.32,5.92,0]
["64.","CHALOUPSKÁ","Lucie","8.A",0,null,0,0,null,0,0,0]
["65.","KŘÍŽKOVÁ","Anna","8.A",0,null,0,0,null,0,11.09,0]
["66.",{"$f":"B166","v":"LUKEŠOVÁ"},"Kristýna","8.A",0,null,0,0,null,7.57,8.85,0]
["67.","MOTLÍKOVÁ","Eliška","8.A",0,null,0,0,null,0,0,0]
["68.","POHOŘELÁ","Amálie","8.A",0,null,0,0,null,0,0,0]
["69.","POLÁČKOVÁ","Natálie","8.A",0,null,0,0,null,0,0,0]
["70.","ŘEHOŘKOVÁ","Lucie","8.A",0,null,0,0,null,0,0,0]
["71.","SKÁLOVÁ","Alena","8.A",0,null,0,0,null,0,0,0]
["72.","VÁVROVÁ ","Aneta","8.A",0,null,0,0,null,7.17,6.79,0]
["73.","ZELINKOVÁ","Klára","8.A",0,null,0,0,null,0,0,0]
["74.","JUNGOVÁ ","Lucie","9.A",0,null,0,0,null,0,0,0]
["75.","KŘIVÁNKOVÁ ","Linda","9.A",0,null,0,0,null,0,25.03,0]
["76.","KUBÁTOVÁ","Lucie","9.A",0,null,0,0,null,0,9.3000000000000007,10.119999999999999]
["77.","ŠIMŮNKOVÁ ","Nikola","9.A",0,null,0,0,null,0,0,0]
["78.","ŠMÍDOVÁ","Kristýna","9.A",0,null,0,0,null,0,0,0]
["79.","VOTOČKOVÁ ","Nikola","9.A",0,null,0,0,null,0,3.64,5.22]
["80.","VYHLASOVÁ","Lenka","9.A",0,null,0,0,null,0,0,0]
["81.","BÖHMOVÁ","Diana","9.B",0,null,0,0,null,0,10.23,9.32]
["82.",{"$f":"B182","v":"HOUDOVÁ"},"Tereza","9.B",0,null,0,0,null,0,0,0]
["83.","JANÍKOVÁ","Kristýna","9.B",0,null,0,0,null,0,8.2200000000000006,13.4]
["84.","KUŽELOVÁ","Ela","9.B",0,null,0,0,null,0,0,16.87]
["85.","MATERNOVÁ","Lucie","9.B",0,null,0,0,null,0,0,0]
["86.","OPOČENSKÁ","Matylda","9.B",0,null,0,0,null,0,16.850000000000001,11.38]
["87.","PIŠTOROVÁ","Karolína","9.B",0,null,0,0,null,0,0,0]
["88.","POKORNÝ","Anna","9.B",0,null,0,0,null,0,0,0]
["89.","SUCHÁNKOVÁ","Michaela","9.B",0,null,0,0,null,0,14.02,13.41]
["90.","ŠUBÍKOVÁ ","Štěpánka","9.B",0,null,0,0,null,0,0,0]
["91.","VANCLOVÁ","Pavlína","9.B",0,null,0,0,null,0,0,0]
[]
[]
[]
[]
[]
[null,"ERBENOVÁ","Sára","6.A",null,null,null,{"$f":"IF(E101=0,0,IF(E101>0,((1000000000-313216/E101+34538300/E101*2-1698600/E101*3+32198000000/E101*4)/60000000+E101*3.9)*1.129+160))","v":0}]
[null,"HOFMANOVÁ ","Nicol","6.A",null,null,null,{"$f":"IF(E102=0,0,IF(E102>0,((1000000000-313216/E102+34538300/E102*2-1698600/E102*3+32198000000/E102*4)/60000000+E102*3.9)*1.129+160))","v":0}]
[null,"HOLEŠOVSKÁ","Aneta","6.A",null,null,null,{"$f":"IF(E103=0,0,IF(E103>0,((1000000000-313216/E103+34538300/E103*2-1698600/E103*3+32198000000/E103*4)/60000000+E103*3.9)*1.129+160))","v":0}]
[null,"HOLUBCOVÁ","Alena","6.A",null,null,null,{"$f":"IF(E104=0,0,IF(E104>0,((1000000000-313216/E104+34538300/E104*2-1698600/E104*3+32198000000/E104*4)/60000000+E104*3.9)*1.129+160))","v":0}]
[null,"KOHOUTOVÁ","Anna","6.A",null,null,null,{"$f":"IF(E105=0,0,IF(E105>0,((1000000000-313216/E105+34538300/E105*2-1698600/E105*3+32198000000/E105*4)/60000000+E105*3.9)*1.129+160))","v":0}]
[null,"KRAUSOVÁ","Anežka","6.A",null,null,null,{"$f":"IF(E106=0,0,IF(E106>0,((1000000000-313216/E106+34538300/E106*2-1698600/E106*3+32198000000/E106*4)/60000000+E106*3.9)*1.129+160))","v":0}]
[null,"KUŽELOVÁ","Apoléna","6.A",null,null,null,{"$f":"IF(E107=0,0,IF(E107>0,((1000000000-313216/E107+34538300/E107*2-1698600/E107*3+32198000000/E107*4)/60000000+E107*3.9)*1.129+160))","v":0}]
[null,"MORÁVKOVÁ","Lucie","6.A",null,null,null,{"$f":"IF(E108=0,0,IF(E108>0,((1000000000-313216/E108+34538300/E108*2-1698600/E108*3+32198000000/E108*4)/60000000+E108*3.9)*1.129+160))","v":0}]
[null,"SKLENÁROVÁ","Eliška","6.A",null,null,null,{"$f":"IF(E109=0,0,IF(E109>0,((1000000000-313216/E109+34538300/E109*2-1698600/E109*3+32198000000/E109*4)/60000000+E109*3.9)*1.129+160))","v":0}]
[null,"ŠTOLFOVÁ","Tereza","6.A",null,null,null,{"$f":"IF(E110=0,0,IF(E110>0,((1000000000-313216/E110+34538300/E110*2-1698600/E110*3+32198000000/E110*4)/60000000+E110*3.9)*1.129+160))","v":0}]
[null,"ŠUBÍKOVÁ","Klára","6.A",null,null,null,{"$f":"IF(E111=0,0,IF(E111>0,((1000000000-313216/E111+34538300/E111*2-1698600/E111*3+32198000000/E111*4)/60000000+E111*3.9)*1.129+160))","v":0}]
[null,"TULÁČKOVÁ","Natálie","6.A",null,null,null,{"$f":"IF(E112=0,0,IF(E112>0,((1000000000-313216/E112+34538300/E112*2-1698600/E112*3+32198000000/E112*4)/60000000+E112*3.9)*1.129+160))","v":0}]
[null,"VOJTÍŠKOVÁ","Ella","6.A",null,null,null,{"$f":"IF(E113=0,0,IF(E113>0,((1000000000-313216/E113+34538300/E113*2-1698600/E113*3+32198000000/E113*4)/60000000+E113*3.9)*1.129+160))","v":0}]
[null,"DRUGÁČOVÁ","Kristinka","6.B",null,null,null,{"$f":"IF(E114=0,0,IF(E114>0,((1000000000-313216/E114+34538300/E114*2-1698600/E114*3+32198000000/E114*4)/60000000+E114*3.9)*1.129+160))","v":0}]
[null,"FAJSTAVROVÁ","Karolína","6.B",null,null,null,{"$f":"IF(E115=0,0,IF(E115>0,((1000000000-313216/E115+34538300/E115*2-1698600/E115*3+32198000000/E115*4)/60000000+E115*3.9)*1.129+160))","v":0}]
[null,"FAJSTAVROVÁ","Magdaléna","6.B",null,null,null,{"$f":"IF(E116=0,0,IF(E116>0,((1000000000-313216/E116+34538300/E116*2-1698600/E116*3+32198000000/E116*4)/60000000+E116*3.9)*1.129+160))","v":0}]
[null,"HLAVATÁ","Anna","6.B",null,null,null,{"$f":"IF(E117=0,0,IF(E117>0,((1000000000-313216/E117+34538300/E117*2-1698600/E117*3+32198000000/E117*4)/60000000+E117*3.9)*1.129+160))","v":0}]
[null,"JINDROVÁ","Barbora","6.B",null,null,null,{"$f":"IF(E118=0,0,IF(E118>0,((1000000000-313216/E118+34538300/E118*2-1698600/E118*3+32198000000/E118*4)/60000000+E118*3.9)*1.129+160))","v":0}]
[null,"MAŘASOVÁ","Vendula","6.B",null,null,null,{"$f":"IF(E119=0,0,IF(E119>0,((1000000000-313216/E119+34538300/E119*2-1698600/E119*3+32198000000/E119*4)/60000000+E119*3.9)*1.129+160))","v":0}]
[null,"PETŘÍČKOVÁ","Natálie","6.B",null,null,null,{"$f":"IF(E120=0,0,IF(E120>0,((1000000000-313216/E120+34538300/E120*2-1698600/E120*3+32198000000/E120*4)/60000000+E120*3.9)*1.129+160))","v":0}]
[null,"PETŘÍKOVÁ","Adéla","6.B",null,null,null,{"$f":"IF(E121=0,0,IF(E121>0,((1000000000-313216/E121+34538300/E121*2-1698600/E121*3+32198000000/E121*4)/60000000+E121*3.9)*1.129+160))","v":0}]
[null,"REGÁLOVÁ","Karolína","6.B",null,null,null,{"$f":"IF(E122=0,0,IF(E122>0,((1000000000-313216/E122+34538300/E122*2-1698600/E122*3+32198000000/E122*4)/60000000+E122*3.9)*1.129+160))","v":0}]
[null,"RIEGROVÁ","Magdaléna","6.B",null,null,null,{"$f":"IF(E123=0,0,IF(E123>0,((1000000000-313216/E123+34538300/E123*2-1698600/E123*3+32198000000/E123*4)/60000000+E123*3.9)*1.129+160))","v":0}]
[null,"RYBENSKÁ","Sabina","6.B",null,null,null,{"$f":"IF(E124=0,0,IF(E124>0,((1000000000-313216/E124+34538300/E124*2-1698600/E124*3+32198000000/E124*4)/60000000+E124*3.9)*1.129+160))","v":0}]
[null,"STEINEROVÁ","Barbora","6.B",null,null,null,{"$f":"IF(E125=0,0,IF(E125>0,((1000000000-313216/E125+34538300/E125*2-1698600/E125*3+32198000000/E125*4)/60000000+E125*3.9)*1.129+160))","v":0}]
[null,"TOMEŠOVÁ","Barbora","6.B",null,null,null,{"$f":"IF(E126=0,0,IF(E126>0,((1000000000-313216/E126+34538300/E126*2-1698600/E126*3+32198000000/E126*4)/60000000+E126*3.9)*1.129+160))","v":0}]
[null,"VOHNOUTOVÁ","Aneta","6.B",null,null,null,{"$f":"IF(E127=0,0,IF(E127>0,((1000000000-313216/E127+34538300/E127*2-1698600/E127*3+32198000000/E127*4)/60000000+E127*3.9)*1.129+160))","v":0}]
[null,"HAVLÍKOVÁ","Michaela","7.A",null,null,null,{"$f":"IF(E128=0,0,IF(E128>0,((1000000000-313216/E128+34538300/E128*2-1698600/E128*3+32198000000/E128*4)/60000000+E128*3.9)*1.129+160))","v":0},null,25.69]
[null,"HOLUBCOVÁ","Sára","7.A",null,null,null,{"$f":"IF(E129=0,0,IF(E129>0,((1000000000-313216/E129+34538300/E129*2-1698600/E129*3+32198000000/E129*4)/60000000+E129*3.9)*1.129+160))","v":0}]
[null,"HONCŮ","Tereza","7.A",null,null,null,{"$f":"IF(E130=0,0,IF(E130>0,((1000000000-313216/E130+34538300/E130*2-1698600/E130*3+32198000000/E130*4)/60000000+E130*3.9)*1.129+160))","v":0}]
[null,"HORÁČKOVÁ","Kateřina","7.A",null,null,null,{"$f":"IF(E131=0,0,IF(E131>0,((1000000000-313216/E131+34538300/E131*2-1698600/E131*3+32198000000/E131*4)/60000000+E131*3.9)*1.129+160))","v":0},null,20.13]
[null,"JOUDALOVÁ","Daniela","7.A",null,null,null,{"$f":"IF(E132=0,0,IF(E132>0,((1000000000-313216/E132+34538300/E132*2-1698600/E132*3+32198000000/E132*4)/60000000+E132*3.9)*1.129+160))","v":0}]
[null,"KLÍMOVÁ","Anna","7.A",null,null,null,{"$f":"IF(E133=0,0,IF(E133>0,((1000000000-313216/E133+34538300/E133*2-1698600/E133*3+32198000000/E133*4)/60000000+E133*3.9)*1.129+160))","v":0}]
[null,"KOHOUTOVÁ","Veronika","7.A",null,null,null,{"$f":"IF(E134=0,0,IF(E134>0,((1000000000-313216/E134+34538300/E134*2-1698600/E134*3+32198000000/E134*4)/60000000+E134*3.9)*1.129+160))","v":0},null,11.58]
[null,"KOVÁŘOVÁ","Viktorie","7.A",null,null,null,{"$f":"IF(E135=0,0,IF(E135>0,((1000000000-313216/E135+34538300/E135*2-1698600/E135*3+32198000000/E135*4)/60000000+E135*3.9)*1.129+160))","v":0},null,9.7899999999999991]
[null,"KYNČLOVÁ","Anna","7.A",null,null,null,{"$f":"IF(E136=0,0,IF(E136>0,((1000000000-313216/E136+34538300/E136*2-1698600/E136*3+32198000000/E136*4)/60000000+E136*3.9)*1.129+160))","v":0},null,8.3699999999999992]
[null,"MATOUŠOVÁ","Tereza","7.A",null,null,null,{"$f":"IF(E137=0,0,IF(E137>0,((1000000000-313216/E137+34538300/E137*2-1698600/E137*3+32198000000/E137*4)/60000000+E137*3.9)*1.129+160))","v":0}]
[null,"MAZÁNKOVÁ","Zuzana","7.A",null,null,null,{"$f":"IF(E138=0,0,IF(E138>0,((1000000000-313216/E138+34538300/E138*2-1698600/E138*3+32198000000/E138*4)/60000000+E138*3.9)*1.129+160))","v":0}]
[null,"MORKESOVÁ","Sabrina","7.A",null,null,null,{"$f":"IF(E139=0,0,IF(E139>0,((1000000000-313216/E139+34538300/E139*2-1698600/E139*3+32198000000/E139*4)/60000000+E139*3.9)*1.129+160))","v":0},null,10.89]
[null,"POHOŘALÁ","Alžběta","7.A",null,null,null,{"$f":"IF(E140=0,0,IF(E140>0,((1000000000-313216/E140+34538300/E140*2-1698600/E140*3+32198000000/E140*4)/60000000+E140*3.9)*1.129+160))","v":0}]
[null,"SCHOLZOVÁ","Laura","7.A",null,null,null,{"$f":"IF(E141=0,0,IF(E141>0,((1000000000-313216/E141+34538300/E141*2-1698600/E141*3+32198000000/E141*4)/60000000+E141*3.9)*1.129+160))","v":0}]
[null,"VÁCLAVÍKOVÁ","Valerie","7.A",null,null,null,{"$f":"IF(E142=0,0,IF(E142>0,((1000000000-313216/E142+34538300/E142*2-1698600/E142*3+32198000000/E142*4)/60000000+E142*3.9)*1.129+160))","v":0}]
[null,"ZAPADLOVÁ","Emma","7.A",null,null,null,{"$f":"IF(E143=0,0,IF(E143>0,((1000000000-313216/E143+34538300/E143*2-1698600/E143*3+32198000000/E143*4)/60000000+E143*3.9)*1.129+160))","v":0},null,12.01]
[null,"ŽIŠKOVÁ","Mia","7.A",null,null,null,{"$f":"IF(E144=0,0,IF(E144>0,((1000000000-313216/E144+34538300/E144*2-1698600/E144*3+32198000000/E144*4)/60000000+E144*3.9)*1.129+160))","v":0}]
[null,"FARSKÁ","Tereza","7.B",null,null,null,{"$f":"IF(E145=0,0,IF(E145>0,((1000000000-313216/E145+34538300/E145*2-1698600/E145*3+32198000000/E145*4)/60000000+E145*3.9)*1.129+160))","v":0}]
[null,"FEIXOVÁ","Rozálie","7.B",null,null,null,{"$f":"IF(E146=0,0,IF(E146>0,((1000000000-313216/E146+34538300/E146*2-1698600/E146*3+32198000000/E146*4)/60000000+E146*3.9)*1.129+160))","v":0}]
[null,"FIŠEROVÁ","Michaela","7.B",null,null,null,{"$f":"IF(E147=0,0,IF(E147>0,((1000000000-313216/E147+34538300/E147*2-1698600/E147*3+32198000000/E147*4)/60000000+E147*3.9)*1.129+160))","v":0}]
[null,"HAVLÍČKOVÁ","Kristýna","7.B",null,null,null,{"$f":"IF(E148=0,0,IF(E148>0,((1000000000-313216/E148+34538300/E148*2-1698600/E148*3+32198000000/E148*4)/60000000+E148*3.9)*1.129+160))","v":0}]
[null,"JODASOVÁ","Nikola","7.B",null,null,null,{"$f":"IF(E149=0,0,IF(E149>0,((1000000000-313216/E149+34538300/E149*2-1698600/E149*3+32198000000/E149*4)/60000000+E149*3.9)*1.129+160))","v":0}]
[null,"KADAVÁ","Nikola","7.B",null,null,null,{"$f":"IF(E150=0,0,IF(E150>0,((1000000000-313216/E150+34538300/E150*2-1698600/E150*3+32198000000/E150*4)/60000000+E150*3.9)*1.129+160))","v":0}]
[null,"KRAFKOVÁ","Lucie","7.B",null,null,null,{"$f":"IF(E151=0,0,IF(E151>0,((1000000000-313216/E151+34538300/E151*2-1698600/E151*3+32198000000/E151*4)/60000000+E151*3.9)*1.129+160))","v":0}]
[null,"KŘIVINKOVÁ","Alžběta","7.B",null,null,null,{"$f":"IF(E152=0,0,IF(E152>0,((1000000000-313216/E152+34538300/E152*2-1698600/E152*3+32198000000/E152*4)/60000000+E152*3.9)*1.129+160))","v":0}]
[null,"LEŠÁKOVÁ","Lenka","7.B",null,null,null,{"$f":"IF(E153=0,0,IF(E153>0,((1000000000-313216/E153+34538300/E153*2-1698600/E153*3+32198000000/E153*4)/60000000+E153*3.9)*1.129+160))","v":0}]
[null,"NYKLÍČKOVÁ","Adéla","7.B",null,null,null,{"$f":"IF(E154=0,0,IF(E154>0,((1000000000-313216/E154+34538300/E154*2-1698600/E154*3+32198000000/E154*4)/60000000+E154*3.9)*1.129+160))","v":0}]
[null,"PLŮCHOVÁ","Petra","7.B",null,null,null,{"$f":"IF(E155=0,0,IF(E155>0,((1000000000-313216/E155+34538300/E155*2-1698600/E155*3+32198000000/E155*4)/60000000+E155*3.9)*1.129+160))","v":0}]
[null,"PODZIMKOVÁ","Eliška","7.B",null,null,null,{"$f":"IF(E156=0,0,IF(E156>0,((1000000000-313216/E156+34538300/E156*2-1698600/E156*3+32198000000/E156*4)/60000000+E156*3.9)*1.129+160))","v":0}]
[null,"RUTKAYOVÁ","Klára","7.B",null,null,null,{"$f":"IF(E157=0,0,IF(E157>0,((1000000000-313216/E157+34538300/E157*2-1698600/E157*3+32198000000/E157*4)/60000000+E157*3.9)*1.129+160))","v":0}]
[null,"SEIDLOVÁ","Zuzana","7.B",null,null,null,{"$f":"IF(E158=0,0,IF(E158>0,((1000000000-313216/E158+34538300/E158*2-1698600/E158*3+32198000000/E158*4)/60000000+E158*3.9)*1.129+160))","v":0}]
[null,"TOMÁŠOVÁ","Sára","7.B",null,null,null,{"$f":"IF(E159=0,0,IF(E159>0,((1000000000-313216/E159+34538300/E159*2-1698600/E159*3+32198000000/E159*4)/60000000+E159*3.9)*1.129+160))","v":0}]
[null,"VANCLOVÁ","Barbora","7.B",null,null,null,{"$f":"IF(E160=0,0,IF(E160>0,((1000000000-313216/E160+34538300/E160*2-1698600/E160*3+32198000000/E160*4)/60000000+E160*3.9)*1.129+160))","v":0}]
[null,"VOTOČKOVÁ","Veronika","7.B",null,null,null,{"$f":"IF(E161=0,0,IF(E161>0,((1000000000-313216/E161+34538300/E161*2-1698600/E161*3+32198000000/E161*4)/60000000+E161*3.9)*1.129+160))","v":0}]
[null,"HARTIGOVÁ","Anna","8.A",null,null,null,{"$f":"IF(E162=0,0,IF(E162>0,((1000000000-313216/E162+34538300/E162*2-1698600/E162*3+32198000000/E162*4)/60000000+E162*3.9)*1.129+160))","v":0},null,7.92,6.89]
[null,"HONCŮ","Rozálie","8.A",null,null,null,{"$f":"IF(E163=0,0,IF(E163>0,((1000000000-313216/E163+34538300/E163*2-1698600/E163*3+32198000000/E163*4)/60000000+E163*3.9)*1.129+160))","v":0},null,5.32,5.92]
[null,"CHALOUPSKÁ","Lucie","8.A",null,null,null,{"$f":"IF(E164=0,0,IF(E164>0,((1000000000-313216/E164+34538300/E164*2-1698600/E164*3+32198000000/E164*4)/60000000+E164*3.9)*1.129+160))","v":0}]
[null,"KŘÍŽKOVÁ","Anna","8.A",null,null,null,{"$f":"IF(E165=0,0,IF(E165>0,((1000000000-313216/E165+34538300/E165*2-1698600/E165*3+32198000000/E165*4)/60000000+E165*3.9)*1.129+160))","v":0},null,null,11.09]
[null,"LUKEŠOVÁ","Kristýna","8.A",null,null,null,{"$f":"IF(E166=0,0,IF(E166>0,((1000000000-313216/E166+34538300/E166*2-1698600/E166*3+32198000000/E166*4)/60000000+E166*3.9)*1.129+160))","v":0},null,7.57,8.85]
[null,"MOTLÍKOVÁ","Eliška","8.A",null,null,null,{"$f":"IF(E167=0,0,IF(E167>0,((1000000000-313216/E167+34538300/E167*2-1698600/E167*3+32198000000/E167*4)/60000000+E167*3.9)*1.129+160))","v":0}]
[null,"POHOŘELÁ","Amálie","8.A",null,null,null,{"$f":"IF(E168=0,0,IF(E168>0,((1000000000-313216/E168+34538300/E168*2-1698600/E168*3+32198000000/E168*4)/60000000+E168*3.9)*1.129+160))","v":0}]
[null,"POLÁČKOVÁ","Natálie","8.A",null,null,null,{"$f":"IF(E169=0,0,IF(E169>0,((1000000000-313216/E169+34538300/E169*2-1698600/E169*3+32198000000/E169*4)/60000000+E169*3.9)*1.129+160))","v":0}]
[null,"ŘEHOŘKOVÁ","Lucie","8.A",null,null,null,{"$f":"IF(E170=0,0,IF(E170>0,((1000000000-313216/E170+34538300/E170*2-1698600/E170*3+32198000000/E170*4)/60000000+E170*3.9)*1.129+160))","v":0}]
[null,"SKÁLOVÁ","Alena","8.A",null,null,null,{"$f":"IF(E171=0,0,IF(E171>0,((1000000000-313216/E171+34538300/E171*2-1698600/E171*3+32198000000/E171*4)/60000000+E171*3.9)*1.129+160))","v":0}]
[null,"VÁVROVÁ ","Aneta","8.A",null,null,null,{"$f":"IF(E172=0,0,IF(E172>0,((1000000000-313216/E172+34538300/E172*2-1698600/E172*3+32198000000/E172*4)/60000000+E172*3.9)*1.129+160))","v":0},null,7.17,6.79]
[null,"ZELINKOVÁ","Klára","8.A",null,null,null,{"$f":"IF(E173=0,0,IF(E173>0,((1000000000-313216/E173+34538300/E173*2-1698600/E173*3+32198000000/E173*4)/60000000+E173*3.9)*1.129+160))","v":0}]
[null,"JUNGOVÁ ","Lucie","9.A",null,null,null,{"$f":"IF(E174=0,0,IF(E174>0,((1000000000-313216/E174+34538300/E174*2-1698600/E174*3+32198000000/E174*4)/60000000+E174*3.9)*1.129+160))","v":0}]
[null,"KŘIVÁNKOVÁ ","Linda","9.A",null,null,null,{"$f":"IF(E175=0,0,IF(E175>0,((1000000000-313216/E175+34538300/E175*2-1698600/E175*3+32198000000/E175*4)/60000000+E175*3.9)*1.129+160))","v":0},null,null,25.03]
[null,"KUBÁTOVÁ","Lucie","9.A",null,null,null,{"$f":"IF(E176=0,0,IF(E176>0,((1000000000-313216/E176+34538300/E176*2-1698600/E176*3+32198000000/E176*4)/60000000+E176*3.9)*1.129+160))","v":0},null,null,9.3000000000000007,10.119999999999999]
[null,"ŠIMŮNKOVÁ ","Nikola","9.A",null,null,null,{"$f":"IF(E177=0,0,IF(E177>0,((1000000000-313216/E177+34538300/E177*2-1698600/E177*3+32198000000/E177*4)/60000000+E177*3.9)*1.129+160))","v":0}]
[null,"ŠMÍDOVÁ","Kristýna","9.A",null,null,null,{"$f":"IF(E178=0,0,IF(E178>0,((1000000000-313216/E178+34538300/E178*2-1698600/E178*3+32198000000/E178*4)/60000000+E178*3.9)*1.129+160))","v":0}]
[null,"VOTOČKOVÁ ","Nikola","9.A",null,null,null,{"$f":"IF(E179=0,0,IF(E179>0,((1000000000-313216/E179+34538300/E179*2-1698600/E179*3+32198000000/E179*4)/60000000+E179*3.9)*1.129+160))","v":0},null,null,3.64,5.22]
[null,"VYHLASOVÁ","Lenka","9.A",null,null,null,{"$f":"IF(E180=0,0,IF(E180>0,((1000000000-313216/E180+34538300/E180*2-1698600/E180*3+32198000000/E180*4)/60000000+E180*3.9)*1.129+160))","v":0}]
[null,"BÖHMOVÁ","Diana","9.B",null,null,null,{"$f":"IF(E181=0,0,IF(E181>0,((1000000000-313216/E181+34538300/E181*2-1698600/E181*3+32198000000/E181*4)/60000000+E181*3.9)*1.129+160))","v":0},null,null,10.23,9.32]
[null,"HOUDOVÁ","Tereza","9.B",null,null,null,{"$f":"IF(E182=0,0,IF(E182>0,((1000000000-313216/E182+34538300/E182*2-1698600/E182*3+32198000000/E182*4)/60000000+E182*3.9)*1.129+160))","v":0}]
[null,"JANÍKOVÁ","Kristýna","9.B",null,null,null,{"$f":"IF(E183=0,0,IF(E183>0,((1000000000-313216/E183+34538300/E183*2-1698600/E183*3+32198000000/E183*4)/60000000+E183*3.9)*1.129+160))","v":0},null,null,8.2200000000000006,13.4]
[null,"KUŽELOVÁ","Ela","9.B",null,null,null,{"$f":"IF(E184=0,0,IF(E184>0,((1000000000-313216/E184+34538300/E184*2-1698600/E184*3+32198000000/E184*4)/60000000+E184*3.9)*1.129+160))","v":0},null,null,null,16.87]
[null,"MATERNOVÁ","Lucie","9.B",null,null,null,{"$f":"IF(E185=0,0,IF(E185>0,((1000000000-313216/E185+34538300/E185*2-1698600/E185*3+32198000000/E185*4)/60000000+E185*3.9)*1.129+160))","v":0}]
[null,"OPOČENSKÁ","Matylda","9.B",null,null,null,{"$f":"IF(E186=0,0,IF(E186>0,((1000000000-313216/E186+34538300/E186*2-1698600/E186*3+32198000000/E186*4)/60000000+E186*3.9)*1.129+160))","v":0},null,null,16.850000000000001,11.38]
[null,"PIŠTOROVÁ","Karolína","9.B",null,null,null,{"$f":"IF(E187=0,0,IF(E187>0,((1000000000-313216/E187+34538300/E187*2-1698600/E187*3+32198000000/E187*4)/60000000+E187*3.9)*1.129+160))","v":0}]
[null,"POKORNÝ","Anna","9.B",null,null,null,{"$f":"IF(E188=0,0,IF(E188>0,((1000000000-313216/E188+34538300/E188*2-1698600/E188*3+32198000000/E188*4)/60000000+E188*3.9)*1.129+160))","v":0}]
[null,"SUCHÁNKOVÁ","Michaela","9.B",null,null,null,{"$f":"IF(E189=0,0,IF(E189>0,((1000000000-313216/E189+34538300/E189*2-1698600/E189*3+32198000000/E189*4)/60000000+E189*3.9)*1.129+160))","v":0},null,null,14.02,13.41]
[null,"ŠUBÍKOVÁ ","Štěpánka","9.B",null,null,null,{"$f":"IF(E190=0,0,IF(E190>0,((1000000000-313216/E190+34538300/E190*2-1698600/E190*3+32198000000/E190*4)/60000000+E190*3.9)*1.129+160))","v":0}]
[null,"VANCLOVÁ","Pavlína","9.B",null,null,null,{"$f":"IF(E191=0,0,IF(E191>0,((1000000000-313216/E191+34538300/E191*2-1698600/E191*3+32198000000/E191*4)/60000000+E191*3.9)*1.129+160))","v":0}]

{"sheet":"Dšvih","index":19,"n_rows":191,"n_cols":12,"rows_kept":191,"cut":false,"hidden":false,"merged":[]}
[null,null,"VÝKONY   2020 - 2021",null,null,null,"ŠVIHADLO","DĚVČATA  6. -  9.  ROČ."]
[null,null,null,null,null,null,null,null,null,null,"stav  k ",{"$f":"TODAY()","v":"2021-06-28"}]
[null,null,null,null,null,null,null,"   BODY",null,"   19 - 20   ","   18 - 19   ","   17 - 18   "]
[]
["1.",{"$f":"B101","v":"ERBENOVÁ"},{"$f":"C101","v":"Sára"},"6.A",38,null,"Jilemnice  18.04.21",174.5,null,0,0,0]
["2.",{"$f":"B102","v":"HOFMANOVÁ "},"Nicol","6.A",61,null,"Jilemnice  28.03.21",318.25,null,0,0,0]
["3.","HOLEŠOVSKÁ","Aneta","6.A",0,null,0,0,null,0,0,0]
["4.","HOLUBCOVÁ","Alena","6.A",0,null,0,0,null,0,0,0]
["5.","KOHOUTOVÁ","Anna","6.A",0,null,0,0,null,0,0,0]
["6.","KRAUSOVÁ","Anežka","6.A",0,null,0,0,null,0,0,0]
["7.","KUŽELOVÁ","Apoléna","6.A",0,null,0,0,null,0,0,0]
["8.","MORÁVKOVÁ","Lucie","6.A",89,null,"Jilemnice  11.04.21",493.25,null,0,0,0]
["9.","SKLENÁROVÁ","Eliška","6.A",49,null,"Jilemnice  21.03.21",243.25,null,0,0,0]
["10.","ŠTOLFOVÁ","Tereza","6.A",0,null,0,0,null,0,0,0]
["11.","ŠUBÍKOVÁ","Klára","6.A",0,null,0,0,null,0,0,0]
["12.","TULÁČKOVÁ","Natálie","6.A",52,null,"Jilemnice  14.03.21",262,null,0,0,0]
["13.","VOJTÍŠKOVÁ","Ella","6.A",143,null,"Jilemnice  11.04.21",830.75,null,0,0,0]
["14.","DRUGÁČOVÁ","Kristinka","6.B",50,null,"Jilemnice  14.03.21",249.5,null,0,0,0]
["15.","FAJSTAVROVÁ","Karolína","6.B",68,null,"Jilemnice  11.04.21",362,null,0,0,0]
["16.","FAJSTAVROVÁ","Magdaléna","6.B",89,null,"Jilemnice  21.03.21",493.25,null,0,0,0]
["17.","HLAVATÁ","Anna","6.B",0,null,0,0,null,0,0,0]
["18.",{"$f":"B118","v":"JINDROVÁ"},"Barbora","6.B",64,null,"Jilemnice  11.04.21",337,null,0,0,0]
["19.","MAŘASOVÁ","Vendula","6.B",0,null,0,0,null,0,0,0]
["20.","PETŘÍČKOVÁ","Natálie","6.B",0,null,0,0,null,0,0,0]
["21.","PETŘÍKOVÁ","Adéla","6.B",30,null,"Jilemnice  11.04.21",124.5,null,0,0,0]
["22.","REGÁLOVÁ","Karolína","6.B",84,null,"Jilemnice  14.03.21",462,null,0,0,0]
["23.","RIEGROVÁ","Magdaléna","6.B",0,null,0,0,null,0,0,0]
["24.","RYBENSKÁ","Sabina","6.B",0,null,0,0,null,0,0,0]
["25.","STEINEROVÁ","Barbora","6.B",0,null,0,0,null,0,0,0]
["26.","TOMEŠOVÁ","Barbora","6.B",0,null,0,0,null,0,0,0]
["27.","VOHNOUTOVÁ","Aneta","6.B",54,null,"Jilemnice  11.04.21",274.5,null,0,0,0]
["28.","HAVLÍKOVÁ","Michaela","7.A",0,null,0,0,null,0,0,0]
["29.","HOLUBCOVÁ","Sára","7.A",68,null,"Jilemnice  14.03.21",362,null,0,0,0]
["30.","HONCŮ","Tereza","7.A",0,null,0,0,null,0,0,0]
["31.","HORÁČKOVÁ","Kateřina","7.A",44,null,"Jilemnice  14.03.21",212,null,0,0,0]
["32.","JOUDALOVÁ","Daniela","7.A",0,null,0,0,null,0,0,0]
["33.","KLÍMOVÁ","Anna","7.A",0,null,0,0,null,0,0,0]
["34.",{"$f":"B134","v":"KOHOUTOVÁ"},"Veronika","7.A",0,null,0,0,null,0,0,0]
["35.","KOVÁŘOVÁ","Viktorie","7.A",0,null,0,0,null,0,0,0]
["36.","KYNČLOVÁ","Anna","7.A",67,null,"Jilemnice  21.03.21",355.75,null,0,0,0]
["37.","MATOUŠOVÁ","Tereza","7.A",60,null,"Jilemnice  14.03.21",312,null,0,0,0]
["38.","MAZÁNKOVÁ","Zuzana","7.A",0,null,0,0,null,0,0,0]
["39.","MORKESOVÁ","Sabrina","7.A",76,null,"Jilemnice  11.04.21",412,null,0,0,0]
["40.","POHOŘALÁ","Alžběta","7.A",0,null,0,0,null,0,0,0]
["41.","SCHOLZOVÁ","Laura","7.A",0,null,0,0,null,0,0,0]
["42.","VÁCLAVÍKOVÁ","Valerie","7.A",56,null,"Jilemnice  21.03.21",287,null,0,0,0]
["43.","ZAPADLOVÁ","Emma","7.A",76,null,"Jilemnice  11.04.21",412,null,0,0,0]
["44.","ŽIŠKOVÁ","Mia","7.A",0,null,0,0,null,0,0,0]
["45.","FARSKÁ","Tereza","7.B",67,null,"Jilemnice  21.03.21",355.75,null,111,0,0]
["46.","FEIXOVÁ","Rozálie","7.B",0,null,0,0,null,0,0,0]
["47.","FIŠEROVÁ","Michaela","7.B",0,null,0,0,null,83,0,0]
["48.","HAVLÍČKOVÁ","Kristýna","7.B",0,null,0,0,null,0,0,0]
["49.","JODASOVÁ","Nikola","7.B",0,null,0,0,null,105,0,0]
["50.",{"$f":"B150","v":"KADAVÁ"},"Nikola","7.B",0,null,0,0,null,24,0,0]
["51.","KRAFKOVÁ","Lucie","7.B",0,null,0,0,null,70,0,0]
["52.","KŘIVINKOVÁ","Alžběta","7.B",0,null,0,0,null,106,0,0]
["53.","LEŠÁKOVÁ","Lenka","7.B",0,null,0,0,null,58,0,0]
["54.","NYKLÍČKOVÁ","Adéla","7.B",0,null,0,0,null,106,0,0]
["55.","PLŮCHOVÁ","Petra","7.B",0,null,0,0,null,88,0,0]
["56.","PODZIMKOVÁ","Eliška","7.B",0,null,0,0,null,109,0,0]
["57.","RUTKAYOVÁ","Klára","7.B",80,null,"Jilemnice  14.03.21",437,null,75,0,0]
["58.","SEIDLOVÁ","Zuzana","7.B",46,null,"Jilemnice  11.04.21",224.5,null,62,0,0]
["59.","TOMÁŠOVÁ","Sára","7.B",0,null,0,0,null,31,0,0]
["60.","VANCLOVÁ","Barbora","7.B",0,null,0,0,null,80,0,0]
["61.","VOTOČKOVÁ","Veronika","7.B",0,null,0,0,null,0,0,0]
["62.","HARTIGOVÁ","Anna","8.A",0,null,0,0,null,107,73,0]
["63.","HONCŮ","Rozálie","8.A",0,null,0,0,null,100,95,0]
["64.","CHALOUPSKÁ","Lucie","8.A",0,null,0,0,null,87,54,0]
["65.","KŘÍŽKOVÁ","Anna","8.A",0,null,0,0,null,100,90,0]
["66.",{"$f":"B166","v":"LUKEŠOVÁ"},"Kristýna","8.A",0,null,0,0,null,91,71,0]
["67.","MOTLÍKOVÁ","Eliška","8.A",0,null,0,0,null,123,115,0]
["68.","POHOŘELÁ","Amálie","8.A",121,null,"Jilemnice  02.05.21",693.25,null,109,82,0]
["69.","POLÁČKOVÁ","Natálie","8.A",0,null,0,0,null,26,49,0]
["70.","ŘEHOŘKOVÁ","Lucie","8.A",0,null,0,0,null,79,63,0]
["71.","SKÁLOVÁ","Alena","8.A",0,null,0,0,null,11,47,0]
["72.","VÁVROVÁ ","Aneta","8.A",85,null,"Jilemnice  11.04.21",468.25,null,0,75,0]
["73.","ZELINKOVÁ","Klára","8.A",0,null,0,0,null,0,0,0]
["74.","JUNGOVÁ ","Lucie","9.A",0,null,0,0,null,0,96,78]
["75.","KŘIVÁNKOVÁ ","Linda","9.A",84,null,"Jilemnice  14.03.21",462,null,0,106,95]
["76.","KUBÁTOVÁ","Lucie","9.A",0,null,0,0,null,0,100,84]
["77.","ŠIMŮNKOVÁ ","Nikola","9.A",0,null,0,0,null,0,62,50]
["78.","ŠMÍDOVÁ","Kristýna","9.A",46,null,"Jilemnice  14.03.21",224.5,null,0,0,56]
["79.","VOTOČKOVÁ ","Nikola","9.A",0,null,0,0,null,0,75,53]
["80.","VYHLASOVÁ","Lenka","9.A",0,null,0,0,null,0,62,67]
["81.","BÖHMOVÁ","Diana","9.B",0,null,0,0,null,0,95,82]
["82.",{"$f":"B182","v":"HOUDOVÁ"},"Tereza","9.B",0,null,0,0,null,0,104,105]
["83.","JANÍKOVÁ","Kristýna","9.B",0,null,0,0,null,0,0,0]
["84.","KUŽELOVÁ","Ela","9.B",0,null,0,0,null,0,112,89]
["85.","MATERNOVÁ","Lucie","9.B",0,null,0,0,null,0,97,75]
["86.","OPOČENSKÁ","Matylda","9.B",0,null,0,0,null,0,0,0]
["87.","PIŠTOROVÁ","Karolína","9.B",0,null,0,0,null,0,94,93]
["88.","POKORNÝ","Anna","9.B",0,null,0,0,null,0,34,32]
["89.","SUCHÁNKOVÁ","Michaela","9.B",0,null,0,0,null,0,63,60]
["90.","ŠUBÍKOVÁ ","Štěpánka","9.B",0,null,0,0,null,0,74,71]
["91.","VANCLOVÁ","Pavlína","9.B",0,null,0,0,null,0,107,101]
[]
[]
[]
[]
[]
[null,"ERBENOVÁ","Sára","6.A",38,null,"Jilemnice  18.04.21",{"$f":"IF(E101=0,0,IF(E101>0,(E101*6.25-63)))","v":174.5}]
[null,"HOFMANOVÁ ","Nicol","6.A",61,null,"Jilemnice  28.03.21",{"$f":"IF(E102=0,0,IF(E102>0,(E102*6.25-63)))","v":318.25}]
[null,"HOLEŠOVSKÁ","Aneta","6.A",null,null,null,{"$f":"IF(E103=0,0,IF(E103>0,(E103*6.25-63)))","v":0}]
[null,"HOLUBCOVÁ","Alena","6.A",null,null,null,{"$f":"IF(E104=0,0,IF(E104>0,(E104*6.25-63)))","v":0}]
[null,"KOHOUTOVÁ","Anna","6.A",null,null,null,{"$f":"IF(E105=0,0,IF(E105>0,(E105*6.25-63)))","v":0}]
[null,"KRAUSOVÁ","Anežka","6.A",null,null,null,{"$f":"IF(E106=0,0,IF(E106>0,(E106*6.25-63)))","v":0}]
[null,"KUŽELOVÁ","Apoléna","6.A",null,null,null,{"$f":"IF(E107=0,0,IF(E107>0,(E107*6.25-63)))","v":0}]
[null,"MORÁVKOVÁ","Lucie","6.A",89,null,"Jilemnice  11.04.21",{"$f":"IF(E108=0,0,IF(E108>0,(E108*6.25-63)))","v":493.25}]
[null,"SKLENÁROVÁ","Eliška","6.A",49,null,"Jilemnice  21.03.21",{"$f":"IF(E109=0,0,IF(E109>0,(E109*6.25-63)))","v":243.25}]
[null,"ŠTOLFOVÁ","Tereza","6.A",null,null,null,{"$f":"IF(E110=0,0,IF(E110>0,(E110*6.25-63)))","v":0}]
[null,"ŠUBÍKOVÁ","Klára","6.A",null,null,null,{"$f":"IF(E111=0,0,IF(E111>0,(E111*6.25-63)))","v":0}]
[null,"TULÁČKOVÁ","Natálie","6.A",52,null,"Jilemnice  14.03.21",{"$f":"IF(E112=0,0,IF(E112>0,(E112*6.25-63)))","v":262}]
[null,"VOJTÍŠKOVÁ","Ella","6.A",143,null,"Jilemnice  11.04.21",{"$f":"IF(E113=0,0,IF(E113>0,(E113*6.25-63)))","v":830.75}]
[null,"DRUGÁČOVÁ","Kristinka","6.B",50,null,"Jilemnice  14.03.21",{"$f":"IF(E114=0,0,IF(E114>0,(E114*6.25-63)))","v":249.5}]
[null,"FAJSTAVROVÁ","Karolína","6.B",68,null,"Jilemnice  11.04.21",{"$f":"IF(E115=0,0,IF(E115>0,(E115*6.25-63)))","v":362}]
[null,"FAJSTAVROVÁ","Magdaléna","6.B",89,null,"Jilemnice  21.03.21",{"$f":"IF(E116=0,0,IF(E116>0,(E116*6.25-63)))","v":493.25}]
[null,"HLAVATÁ","Anna","6.B",null,null,null,{"$f":"IF(E117=0,0,IF(E117>0,(E117*6.25-63)))","v":0}]
[null,"JINDROVÁ","Barbora","6.B",64,null,"Jilemnice  11.04.21",{"$f":"IF(E118=0,0,IF(E118>0,(E118*6.25-63)))","v":337}]
[null,"MAŘASOVÁ","Vendula","6.B",null,null,null,{"$f":"IF(E119=0,0,IF(E119>0,(E119*6.25-63)))","v":0}]
[null,"PETŘÍČKOVÁ","Natálie","6.B",null,null,null,{"$f":"IF(E120=0,0,IF(E120>0,(E120*6.25-63)))","v":0}]
[null,"PETŘÍKOVÁ","Adéla","6.B",30,null,"Jilemnice  11.04.21",{"$f":"IF(E121=0,0,IF(E121>0,(E121*6.25-63)))","v":124.5}]
[null,"REGÁLOVÁ","Karolína","6.B",84,null,"Jilemnice  14.03.21",{"$f":"IF(E122=0,0,IF(E122>0,(E122*6.25-63)))","v":462}]
[null,"RIEGROVÁ","Magdaléna","6.B",null,null,null,{"$f":"IF(E123=0,0,IF(E123>0,(E123*6.25-63)))","v":0}]
[null,"RYBENSKÁ","Sabina","6.B",null,null,null,{"$f":"IF(E124=0,0,IF(E124>0,(E124*6.25-63)))","v":0}]
[null,"STEINEROVÁ","Barbora","6.B",null,null,null,{"$f":"IF(E125=0,0,IF(E125>0,(E125*6.25-63)))","v":0}]
[null,"TOMEŠOVÁ","Barbora","6.B",null,null,null,{"$f":"IF(E126=0,0,IF(E126>0,(E126*6.25-63)))","v":0}]
[null,"VOHNOUTOVÁ","Aneta","6.B",54,null,"Jilemnice  11.04.21",{"$f":"IF(E127=0,0,IF(E127>0,(E127*6.25-63)))","v":274.5}]
[null,"HAVLÍKOVÁ","Michaela","7.A",null,null,null,{"$f":"IF(E128=0,0,IF(E128>0,(E128*6.25-63)))","v":0}]
[null,"HOLUBCOVÁ","Sára","7.A",68,null,"Jilemnice  14.03.21",{"$f":"IF(E129=0,0,IF(E129>0,(E129*6.25-63)))","v":362}]
[null,"HONCŮ","Tereza","7.A",null,null,null,{"$f":"IF(E130=0,0,IF(E130>0,(E130*6.25-63)))","v":0}]
[null,"HORÁČKOVÁ","Kateřina","7.A",44,null,"Jilemnice  14.03.21",{"$f":"IF(E131=0,0,IF(E131>0,(E131*6.25-63)))","v":212}]
[null,"JOUDALOVÁ","Daniela","7.A",null,null,null,{"$f":"IF(E132=0,0,IF(E132>0,(E132*6.25-63)))","v":0}]
[null,"KLÍMOVÁ","Anna","7.A",null,null,null,{"$f":"IF(E133=0,0,IF(E133>0,(E133*6.25-63)))","v":0}]
[null,"KOHOUTOVÁ","Veronika","7.A",null,null,null,{"$f":"IF(E134=0,0,IF(E134>0,(E134*6.25-63)))","v":0}]
[null,"KOVÁŘOVÁ","Viktorie","7.A",null,null,null,{"$f":"IF(E135=0,0,IF(E135>0,(E135*6.25-63)))","v":0}]
[null,"KYNČLOVÁ","Anna","7.A",67,null,"Jilemnice  21.03.21",{"$f":"IF(E136=0,0,IF(E136>0,(E136*6.25-63)))","v":355.75}]
[null,"MATOUŠOVÁ","Tereza","7.A",60,null,"Jilemnice  14.03.21",{"$f":"IF(E137=0,0,IF(E137>0,(E137*6.25-63)))","v":312}]
[null,"MAZÁNKOVÁ","Zuzana","7.A",null,null,null,{"$f":"IF(E138=0,0,IF(E138>0,(E138*6.25-63)))","v":0}]
[null,"MORKESOVÁ","Sabrina","7.A",76,null,"Jilemnice  11.04.21",{"$f":"IF(E139=0,0,IF(E139>0,(E139*6.25-63)))","v":412}]
[null,"POHOŘALÁ","Alžběta","7.A",null,null,null,{"$f":"IF(E140=0,0,IF(E140>0,(E140*6.25-63)))","v":0}]
[null,"SCHOLZOVÁ","Laura","7.A",null,null,null,{"$f":"IF(E141=0,0,IF(E141>0,(E141*6.25-63)))","v":0}]
[null,"VÁCLAVÍKOVÁ","Valerie","7.A",56,null,"Jilemnice  21.03.21",{"$f":"IF(E142=0,0,IF(E142>0,(E142*6.25-63)))","v":287}]
[null,"ZAPADLOVÁ","Emma","7.A",76,null,"Jilemnice  11.04.21",{"$f":"IF(E143=0,0,IF(E143>0,(E143*6.25-63)))","v":412}]
[null,"ŽIŠKOVÁ","Mia","7.A",null,null,null,{"$f":"IF(E144=0,0,IF(E144>0,(E144*6.25-63)))","v":0}]
[null,"FARSKÁ","Tereza","7.B",67,null,"Jilemnice  21.03.21",{"$f":"IF(E145=0,0,IF(E145>0,(E145*6.25-63)))","v":355.75},null,111]
[null,"FEIXOVÁ","Rozálie","7.B",null,null,null,{"$f":"IF(E146=0,0,IF(E146>0,(E146*6.25-63)))","v":0}]
[null,"FIŠEROVÁ","Michaela","7.B",null,null,null,{"$f":"IF(E147=0,0,IF(E147>0,(E147*6.25-63)))","v":0},null,83]
[null,"HAVLÍČKOVÁ","Kristýna","7.B",null,null,null,{"$f":"IF(E148=0,0,IF(E148>0,(E148*6.25-63)))","v":0}]
[null,"JODASOVÁ","Nikola","7.B",null,null,null,{"$f":"IF(E149=0,0,IF(E149>0,(E149*6.25-63)))","v":0},null,105]
[null,"KADAVÁ","Nikola","7.B",null,null,null,{"$f":"IF(E150=0,0,IF(E150>0,(E150*6.25-63)))","v":0},null,24]
[null,"KRAFKOVÁ","Lucie","7.B",null,null,null,{"$f":"IF(E151=0,0,IF(E151>0,(E151*6.25-63)))","v":0},null,70]
[null,"KŘIVINKOVÁ","Alžběta","7.B",null,null,null,{"$f":"IF(E152=0,0,IF(E152>0,(E152*6.25-63)))","v":0},null,106]
[null,"LEŠÁKOVÁ","Lenka","7.B",null,null,null,{"$f":"IF(E153=0,0,IF(E153>0,(E153*6.25-63)))","v":0},null,58]
[null,"NYKLÍČKOVÁ","Adéla","7.B",null,null,null,{"$f":"IF(E154=0,0,IF(E154>0,(E154*6.25-63)))","v":0},null,106]
[null,"PLŮCHOVÁ","Petra","7.B",null,null,null,{"$f":"IF(E155=0,0,IF(E155>0,(E155*6.25-63)))","v":0},null,88]
[null,"PODZIMKOVÁ","Eliška","7.B",null,null,null,{"$f":"IF(E156=0,0,IF(E156>0,(E156*6.25-63)))","v":0},null,109]
[null,"RUTKAYOVÁ","Klára","7.B",80,null,"Jilemnice  14.03.21",{"$f":"IF(E157=0,0,IF(E157>0,(E157*6.25-63)))","v":437},null,75]
[null,"SEIDLOVÁ","Zuzana","7.B",46,null,"Jilemnice  11.04.21",{"$f":"IF(E158=0,0,IF(E158>0,(E158*6.25-63)))","v":224.5},null,62]
[null,"TOMÁŠOVÁ","Sára","7.B",null,null,null,{"$f":"IF(E159=0,0,IF(E159>0,(E159*6.25-63)))","v":0},null,31]
[null,"VANCLOVÁ","Barbora","7.B",null,null,null,{"$f":"IF(E160=0,0,IF(E160>0,(E160*6.25-63)))","v":0},null,80]
[null,"VOTOČKOVÁ","Veronika","7.B",null,null,null,{"$f":"IF(E161=0,0,IF(E161>0,(E161*6.25-63)))","v":0}]
[null,"HARTIGOVÁ","Anna","8.A",null,null,null,{"$f":"IF(E162=0,0,IF(E162>0,(E162*6.25-63)))","v":0},null,107,73]
[null,"HONCŮ","Rozálie","8.A",null,null,null,{"$f":"IF(E163=0,0,IF(E163>0,(E163*6.25-63)))","v":0},null,100,95]
[null,"CHALOUPSKÁ","Lucie","8.A",null,null,null,{"$f":"IF(E164=0,0,IF(E164>0,(E164*6.25-63)))","v":0},null,87,54]
[null,"KŘÍŽKOVÁ","Anna","8.A",null,null,null,{"$f":"IF(E165=0,0,IF(E165>0,(E165*6.25-63)))","v":0},null,100,90]
[null,"LUKEŠOVÁ","Kristýna","8.A",null,null,null,{"$f":"IF(E166=0,0,IF(E166>0,(E166*6.25-63)))","v":0},null,91,71]
[null,"MOTLÍKOVÁ","Eliška","8.A",null,null,null,{"$f":"IF(E167=0,0,IF(E167>0,(E167*6.25-63)))","v":0},null,123,115]
[null,"POHOŘELÁ","Amálie","8.A",121,null,"Jilemnice  02.05.21",{"$f":"IF(E168=0,0,IF(E168>0,(E168*6.25-63)))","v":693.25},null,109,82]
[null,"POLÁČKOVÁ","Natálie","8.A",null,null,null,{"$f":"IF(E169=0,0,IF(E169>0,(E169*6.25-63)))","v":0},null,26,49]
[null,"ŘEHOŘKOVÁ","Lucie","8.A",null,null,null,{"$f":"IF(E170=0,0,IF(E170>0,(E170*6.25-63)))","v":0},null,79,63]
[null,"SKÁLOVÁ","Alena","8.A",null,null,null,{"$f":"IF(E171=0,0,IF(E171>0,(E171*6.25-63)))","v":0},null,11,47]
[null,"VÁVROVÁ ","Aneta","8.A",85,null,"Jilemnice  11.04.21",{"$f":"IF(E172=0,0,IF(E172>0,(E172*6.25-63)))","v":468.25},null,null,75]
[null,"ZELINKOVÁ","Klára","8.A",null,null,null,{"$f":"IF(E173=0,0,IF(E173>0,(E173*6.25-63)))","v":0}]
[null,"JUNGOVÁ ","Lucie","9.A",null,null,null,{"$f":"IF(E174=0,0,IF(E174>0,(E174*6.25-63)))","v":0},null,null,96,78]
[null,"KŘIVÁNKOVÁ ","Linda","9.A",84,null,"Jilemnice  14.03.21",{"$f":"IF(E175=0,0,IF(E175>0,(E175*6.25-63)))","v":462},null,null,106,95]
[null,"KUBÁTOVÁ","Lucie","9.A",null,null,null,{"$f":"IF(E176=0,0,IF(E176>0,(E176*6.25-63)))","v":0},null,null,100,84]
[null,"ŠIMŮNKOVÁ ","Nikola","9.A",null,null,null,{"$f":"IF(E177=0,0,IF(E177>0,(E177*6.25-63)))","v":0},null,null,62,50]
[null,"ŠMÍDOVÁ","Kristýna","9.A",46,null,"Jilemnice  14.03.21",{"$f":"IF(E178=0,0,IF(E178>0,(E178*6.25-63)))","v":224.5},null,null,null,56]
[null,"VOTOČKOVÁ ","Nikola","9.A",null,null,null,{"$f":"IF(E179=0,0,IF(E179>0,(E179*6.25-63)))","v":0},null,null,75,53]
[null,"VYHLASOVÁ","Lenka","9.A",null,null,null,{"$f":"IF(E180=0,0,IF(E180>0,(E180*6.25-63)))","v":0},null,null,62,67]
[null,"BÖHMOVÁ","Diana","9.B",null,null,null,{"$f":"IF(E181=0,0,IF(E181>0,(E181*6.25-63)))","v":0},null,null,95,82]
[null,"HOUDOVÁ","Tereza","9.B",null,null,null,{"$f":"IF(E182=0,0,IF(E182>0,(E182*6.25-63)))","v":0},null,null,104,105]
[null,"JANÍKOVÁ","Kristýna","9.B"]
[null,"KUŽELOVÁ","Ela","9.B",null,null,null,{"$f":"IF(E184=0,0,IF(E184>0,(E184*6.25-63)))","v":0},null,null,112,89]
[null,"MATERNOVÁ","Lucie","9.B",null,null,null,{"$f":"IF(E185=0,0,IF(E185>0,(E185*6.25-63)))","v":0},null,null,97,75]
[null,"OPOČENSKÁ","Matylda","9.B",null,null,null,{"$f":"IF(E186=0,0,IF(E186>0,(E186*6.25-63)))","v":0}]
[null,"PIŠTOROVÁ","Karolína","9.B",null,null,null,{"$f":"IF(E187=0,0,IF(E187>0,(E187*6.25-63)))","v":0},null,null,94,93]
[null,"POKORNÝ","Anna","9.B",null,null,null,{"$f":"IF(E188=0,0,IF(E188>0,(E188*6.25-63)))","v":0},null,null,34,32]
[null,"SUCHÁNKOVÁ","Michaela","9.B",null,null,null,{"$f":"IF(E189=0,0,IF(E189>0,(E189*6.25-63)))","v":0},null,null,63,60]
[null,"ŠUBÍKOVÁ ","Štěpánka","9.B",null,null,null,{"$f":"IF(E190=0,0,IF(E190>0,(E190*6.25-63)))","v":0},null,null,74,71]
[null,"VANCLOVÁ","Pavlína","9.B",null,null,null,{"$f":"IF(E191=0,0,IF(E191>0,(E191*6.25-63)))","v":0},null,null,107,101]

{"sheet":"Dz mís","index":20,"n_rows":191,"n_cols":12,"rows_kept":191,"cut":false,"hidden":false,"merged":[]}
[null,null,"VÝKONY   2020 - 2021",null,null,null,"Z MÍSTA","DĚVČATA  6. -  9.  ROČ."]
[null,null,null,null,null,null,null,null,null,null,"stav  k ",{"$f":"TODAY()","v":"2021-06-28"}]
[null,null,null,null,null,null,null,"   BODY",null,"   19 - 20   ","   18 - 19   ","   17 - 18   "]
[]
["1.",{"$f":"B101","v":"ERBENOVÁ"},{"$f":"C101","v":"Sára"},"6.A",134,null,"Jilemnice  14.06.21",454.22757318224751,null,0,0,0]
["2.",{"$f":"B102","v":"HOFMANOVÁ "},{"$f":"C102","v":"Nicol"},"6.A",180,null,"Jilemnice  14.06.21",670.63172804532587,null,0,0,0]
["3.","HOLEŠOVSKÁ","Aneta","6.A",0,null,0,0,null,0,0,0]
["4.","HOLUBCOVÁ","Alena","6.A",185,null,"Jilemnice  14.06.21",694.15391879131289,null,0,0,0]
["5.","KOHOUTOVÁ","Anna","6.A",0,null,0,0,null,0,0,0]
["6.","KRAUSOVÁ","Anežka","6.A",185,null,"Jilemnice  14.06.21",694.15391879131289,null,0,0,0]
["7.","KUŽELOVÁ","Apoléna","6.A",0,null,0,0,null,0,0,0]
["8.","MORÁVKOVÁ","Lucie","6.A",0,null,0,0,null,0,0,0]
["9.","SKLENÁROVÁ","Eliška","6.A",155,null,"Jilemnice  21.03.21",553.02077431539215,null,0,0,0]
["10.","ŠTOLFOVÁ","Tereza","6.A",142,null,"Jilemnice  14.06.21",491.86307837582638,null,0,0,0]
["11.","ŠUBÍKOVÁ","Klára","6.A",170,null,"Jilemnice  14.06.21",623.58734655335252,null,0,0,0]
["12.","TULÁČKOVÁ","Natálie","6.A",0,null,0,0,null,0,0,0]
["13.","VOJTÍŠKOVÁ","Ella","6.A",158,null,"Jilemnice  11.04.21",567.13408876298399,null,0,0,0]
["14.","DRUGÁČOVÁ","Kristinka","6.B",187,null,"Jilemnice  14.06.21",703.56279508970738,null,0,0,0]
["15.","FAJSTAVROVÁ","Karolína","6.B",103,null,"Jilemnice  11.04.21",308.38999055712941,null,0,0,0]
["16.","FAJSTAVROVÁ","Magdaléna","6.B",191,null,"Jilemnice  28.03.21",722.38054768649681,null,0,0,0]
["17.","HLAVATÁ","Anna","6.B",0,null,0,0,null,0,0,0]
["18.",{"$f":"B118","v":"JINDROVÁ"},"Barbora","6.B",139,null,"Jilemnice  11.04.21",477.74976392823442,null,0,0,0]
["19.","MAŘASOVÁ","Vendula","6.B",0,null,0,0,null,0,0,0]
["20.","PETŘÍČKOVÁ","Natálie","6.B",0,null,0,0,null,0,0,0]
["21.","PETŘÍKOVÁ","Adéla","6.B",160,null,"Jilemnice  11.04.21",576.54296506137871,null,0,0,0]
["22.","REGÁLOVÁ","Karolína","6.B",129,null,"Jilemnice  11.04.21",430.70538243626072,null,0,0,0]
["23.","RIEGROVÁ","Magdaléna","6.B",163,null,"Jilemnice  14.06.21",590.65627950897101,null,0,0,0]
["24.","RYBENSKÁ","Sabina","6.B",0,null,0,0,null,0,0,0]
["25.","STEINEROVÁ","Barbora","6.B",0,null,0,0,null,0,0,0]
["26.","TOMEŠOVÁ","Barbora","6.B",0,null,0,0,null,0,0,0]
["27.","VOHNOUTOVÁ","Aneta","6.B",135,null,"Jilemnice  18.04.21",458.93201133144487,null,0,0,0]
["28.","HAVLÍKOVÁ","Michaela","7.A",0,null,0,0,null,137,0,0]
["29.","HOLUBCOVÁ","Sára","7.A",0,null,0,0,null,177,0,0]
["30.","HONCŮ","Tereza","7.A",0,null,0,0,null,166,0,0]
["31.","HORÁČKOVÁ","Kateřina","7.A",0,null,0,0,null,197,0,0]
["32.","JOUDALOVÁ","Daniela","7.A",0,null,0,0,null,133,0,0]
["33.","KLÍMOVÁ","Anna","7.A",0,null,0,0,null,166,0,0]
["34.",{"$f":"B134","v":"KOHOUTOVÁ"},"Veronika","7.A",0,null,0,0,null,0,0,0]
["35.","KOVÁŘOVÁ","Viktorie","7.A",0,null,0,0,null,179,0,0]
["36.","KYNČLOVÁ","Anna","7.A",0,null,0,0,null,180,0,0]
["37.","MATOUŠOVÁ","Tereza","7.A",0,null,0,0,null,145,0,0]
["38.","MAZÁNKOVÁ","Zuzana","7.A",0,null,0,0,null,140,0,0]
["39.","MORKESOVÁ","Sabrina","7.A",173,null,"Jilemnice  11.04.21",637.70066100094436,null,199,0,0]
["40.","POHOŘALÁ","Alžběta","7.A",0,null,0,0,null,181,0,0]
["41.","SCHOLZOVÁ","Laura","7.A",0,null,0,0,null,128,0,0]
["42.","VÁCLAVÍKOVÁ","Valerie","7.A",139,null,"Jilemnice  21.03.21",477.74976392823442,null,167,0,0]
["43.","ZAPADLOVÁ","Emma","7.A",0,null,0,0,null,170,0,0]
["44.","ŽIŠKOVÁ","Mia","7.A",0,null,0,0,null,181,0,0]
["45.","FARSKÁ","Tereza","7.B",128,null,"Jilemnice  21.03.21",426.00094428706336,null,0,0,0]
["46.","FEIXOVÁ","Rozálie","7.B",0,null,0,0,null,115,0,0]
["47.","FIŠEROVÁ","Michaela","7.B",0,null,0,0,null,154,0,0]
["48.","HAVLÍČKOVÁ","Kristýna","7.B",0,null,0,0,null,0,0,0]
["49.","JODASOVÁ","Nikola","7.B",0,null,0,0,null,149,0,0]
["50.",{"$f":"B150","v":"KADAVÁ"},"Nikola","7.B",0,null,0,0,null,128,0,0]
["51.","KRAFKOVÁ","Lucie","7.B",0,null,0,0,null,0,0,0]
["52.","KŘIVINKOVÁ","Alžběta","7.B",0,null,0,0,null,179,0,0]
["53.","LEŠÁKOVÁ","Lenka","7.B",0,null,0,0,null,135,0,0]
["54.","NYKLÍČKOVÁ","Adéla","7.B",0,null,0,0,null,195,0,0]
["55.","PLŮCHOVÁ","Petra","7.B",0,null,0,0,null,164,0,0]
["56.","PODZIMKOVÁ","Eliška","7.B",0,null,0,0,null,155,0,0]
["57.","RUTKAYOVÁ","Klára","7.B",0,null,0,0,null,165,0,0]
["58.","SEIDLOVÁ","Zuzana","7.B",139,null,"Jilemnice  11.04.21",477.74976392823442,null,150,0,0]
["59.","TOMÁŠOVÁ","Sára","7.B",0,null,0,0,null,121,0,0]
["60.","VANCLOVÁ","Barbora","7.B",0,null,0,0,null,0,0,0]
["61.","VOTOČKOVÁ","Veronika","7.B",0,null,0,0,null,131,0,0]
["62.","HARTIGOVÁ","Anna","8.A",0,null,0,0,null,192,197,0]
["63.","HONCŮ","Rozálie","8.A",0,null,0,0,null,0,207,0]
["64.","CHALOUPSKÁ","Lucie","8.A",0,null,0,0,null,190,187,0]
["65.","KŘÍŽKOVÁ","Anna","8.A",0,null,0,0,null,164,170,0]
["66.",{"$f":"B166","v":"LUKEŠOVÁ"},"Kristýna","8.A",0,null,0,0,null,174,180,0]
["67.","MOTLÍKOVÁ","Eliška","8.A",0,null,0,0,null,0,180,0]
["68.","POHOŘELÁ","Amálie","8.A",180,null,"Jilemnice  11.04.21",670.63172804532587,null,176,168,0]
["69.","POLÁČKOVÁ","Natálie","8.A",0,null,0,0,null,120,125,0]
["70.","ŘEHOŘKOVÁ","Lucie","8.A",0,null,0,0,null,0,182,0]
["71.","SKÁLOVÁ","Alena","8.A",0,null,0,0,null,153,140,0]
["72.","VÁVROVÁ ","Aneta","8.A",206,null,"Jilemnice  11.04.21",792.94711992445718,null,198,198,0]
["73.","ZELINKOVÁ","Klára","8.A",0,null,0,0,null,185,198,0]
["74.","JUNGOVÁ ","Lucie","9.A",0,null,0,0,null,0,210,141]
["75.","KŘIVÁNKOVÁ ","Linda","9.A",0,null,0,0,null,0,178,124]
["76.","KUBÁTOVÁ","Lucie","9.A",0,null,0,0,null,0,150,113]
["77.","ŠIMŮNKOVÁ ","Nikola","9.A",0,null,0,0,null,0,170,113]
["78.","ŠMÍDOVÁ","Kristýna","9.A",127,null,"Jilemnice  14.03.21",421.296506137866,null,0,132,88]
["79.","VOTOČKOVÁ ","Nikola","9.A",0,null,0,0,null,0,180,145]
["80.","VYHLASOVÁ","Lenka","9.A",0,null,0,0,null,0,0,112]
["81.","BÖHMOVÁ","Diana","9.B",0,null,0,0,null,0,162,117]
["82.",{"$f":"B182","v":"HOUDOVÁ"},"Tereza","9.B",0,null,0,0,null,0,184,149]
["83.","JANÍKOVÁ","Kristýna","9.B",0,null,0,0,null,0,0,0]
["84.","KUŽELOVÁ","Ela","9.B",0,null,0,0,null,0,208,160]
["85.","MATERNOVÁ","Lucie","9.B",0,null,0,0,null,0,174,131]
["86.","OPOČENSKÁ","Matylda","9.B",0,null,0,0,null,0,0,0]
["87.","PIŠTOROVÁ","Karolína","9.B",0,null,0,0,null,0,194,151]
["88.","POKORNÝ","Anna","9.B",0,null,0,0,null,0,170,113]
["89.","SUCHÁNKOVÁ","Michaela","9.B",0,null,0,0,null,0,132,102]
["90.","ŠUBÍKOVÁ ","Štěpánka","9.B",0,null,0,0,null,0,176,127]
["91.","VANCLOVÁ","Pavlína","9.B",0,null,0,0,null,0,163,119]
[]
[]
[]
[]
[]
[null,"ERBENOVÁ","Sára","6.A",134,null,"Jilemnice  14.06.21",{"$f":"IF(E101=0,0,IF(E101>0,(E101+75)*4.982/1.059-529))","v":454.22757318224751}]
[null,"HOFMANOVÁ ","Nicol","6.A",180,null,"Jilemnice  14.06.21",{"$f":"IF(E102=0,0,IF(E102>0,(E102+75)*4.982/1.059-529))","v":670.63172804532587}]
[null,"HOLEŠOVSKÁ","Aneta","6.A",null,null,null,{"$f":"IF(E103=0,0,IF(E103>0,(E103+75)*4.982/1.059-529))","v":0}]
[null,"HOLUBCOVÁ","Alena","6.A",185,null,"Jilemnice  14.06.21",{"$f":"IF(E104=0,0,IF(E104>0,(E104+75)*4.982/1.059-529))","v":694.15391879131289}]
[null,"KOHOUTOVÁ","Anna","6.A",null,null,null,{"$f":"IF(E105=0,0,IF(E105>0,(E105+75)*4.982/1.059-529))","v":0}]
[null,"KRAUSOVÁ","Anežka","6.A",185,null,"Jilemnice  14.06.21",{"$f":"IF(E106=0,0,IF(E106>0,(E106+75)*4.982/1.059-529))","v":694.15391879131289}]
[null,"KUŽELOVÁ","Apoléna","6.A",null,null,null,{"$f":"IF(E107=0,0,IF(E107>0,(E107+75)*4.982/1.059-529))","v":0}]
[null,"MORÁVKOVÁ","Lucie","6.A",null,null,null,{"$f":"IF(E108=0,0,IF(E108>0,(E108+75)*4.982/1.059-529))","v":0}]
[null,"SKLENÁROVÁ","Eliška","6.A",155,null,"Jilemnice  21.03.21",{"$f":"IF(E109=0,0,IF(E109>0,(E109+75)*4.982/1.059-529))","v":553.02077431539215}]
[null,"ŠTOLFOVÁ","Tereza","6.A",142,null,"Jilemnice  14.06.21",{"$f":"IF(E110=0,0,IF(E110>0,(E110+75)*4.982/1.059-529))","v":491.86307837582638}]
[null,"ŠUBÍKOVÁ","Klára","6.A",170,null,"Jilemnice  14.06.21",{"$f":"IF(E111=0,0,IF(E111>0,(E111+75)*4.982/1.059-529))","v":623.58734655335252}]
[null,"TULÁČKOVÁ","Natálie","6.A",null,null,null,{"$f":"IF(E112=0,0,IF(E112>0,(E112+75)*4.982/1.059-529))","v":0}]
[null,"VOJTÍŠKOVÁ","Ella","6.A",158,null,"Jilemnice  11.04.21",{"$f":"IF(E113=0,0,IF(E113>0,(E113+75)*4.982/1.059-529))","v":567.13408876298399}]
[null,"DRUGÁČOVÁ","Kristinka","6.B",187,null,"Jilemnice  14.06.21",{"$f":"IF(E114=0,0,IF(E114>0,(E114+75)*4.982/1.059-529))","v":703.56279508970738}]
[null,"FAJSTAVROVÁ","Karolína","6.B",103,null,"Jilemnice  11.04.21",{"$f":"IF(E115=0,0,IF(E115>0,(E115+75)*4.982/1.059-529))","v":308.38999055712941}]
[null,"FAJSTAVROVÁ","Magdaléna","6.B",191,null,"Jilemnice  28.03.21",{"$f":"IF(E116=0,0,IF(E116>0,(E116+75)*4.982/1.059-529))","v":722.38054768649681}]
[null,"HLAVATÁ","Anna","6.B",null,null,null,{"$f":"IF(E117=0,0,IF(E117>0,(E117+75)*4.982/1.059-529))","v":0}]
[null,"JINDROVÁ","Barbora","6.B",139,null,"Jilemnice  11.04.21",{"$f":"IF(E118=0,0,IF(E118>0,(E118+75)*4.982/1.059-529))","v":477.74976392823442}]
[null,"MAŘASOVÁ","Vendula","6.B",null,null,null,{"$f":"IF(E119=0,0,IF(E119>0,(E119+75)*4.982/1.059-529))","v":0}]
[null,"PETŘÍČKOVÁ","Natálie","6.B",null,null,null,{"$f":"IF(E120=0,0,IF(E120>0,(E120+75)*4.982/1.059-529))","v":0}]
[null,"PETŘÍKOVÁ","Adéla","6.B",160,null,"Jilemnice  11.04.21",{"$f":"IF(E121=0,0,IF(E121>0,(E121+75)*4.982/1.059-529))","v":576.54296506137871}]
[null,"REGÁLOVÁ","Karolína","6.B",129,null,"Jilemnice  11.04.21",{"$f":"IF(E122=0,0,IF(E122>0,(E122+75)*4.982/1.059-529))","v":430.70538243626072}]
[null,"RIEGROVÁ","Magdaléna","6.B",163,null,"Jilemnice  14.06.21",{"$f":"IF(E123=0,0,IF(E123>0,(E123+75)*4.982/1.059-529))","v":590.65627950897101}]
[null,"RYBENSKÁ","Sabina","6.B",null,null,null,{"$f":"IF(E124=0,0,IF(E124>0,(E124+75)*4.982/1.059-529))","v":0}]
[null,"STEINEROVÁ","Barbora","6.B",null,null,null,{"$f":"IF(E125=0,0,IF(E125>0,(E125+75)*4.982/1.059-529))","v":0}]
[null,"TOMEŠOVÁ","Barbora","6.B",null,null,null,{"$f":"IF(E126=0,0,IF(E126>0,(E126+75)*4.982/1.059-529))","v":0}]
[null,"VOHNOUTOVÁ","Aneta","6.B",135,null,"Jilemnice  18.04.21",{"$f":"IF(E127=0,0,IF(E127>0,(E127+75)*4.982/1.059-529))","v":458.93201133144487}]
[null,"HAVLÍKOVÁ","Michaela","7.A",null,null,null,{"$f":"IF(E128=0,0,IF(E128>0,(E128+75)*4.982/1.059-529))","v":0},null,137]
[null,"HOLUBCOVÁ","Sára","7.A",null,null,null,{"$f":"IF(E129=0,0,IF(E129>0,(E129+75)*4.982/1.059-529))","v":0},null,177]
[null,"HONCŮ","Tereza","7.A",null,null,null,{"$f":"IF(E130=0,0,IF(E130>0,(E130+75)*4.982/1.059-529))","v":0},null,166]
[null,"HORÁČKOVÁ","Kateřina","7.A",null,null,null,{"$f":"IF(E131=0,0,IF(E131>0,(E131+75)*4.982/1.059-529))","v":0},null,197]
[null,"JOUDALOVÁ","Daniela","7.A",null,null,null,{"$f":"IF(E132=0,0,IF(E132>0,(E132+75)*4.982/1.059-529))","v":0},null,133]
[null,"KLÍMOVÁ","Anna","7.A",null,null,null,{"$f":"IF(E133=0,0,IF(E133>0,(E133+75)*4.982/1.059-529))","v":0},null,166]
[null,"KOHOUTOVÁ","Veronika","7.A",null,null,null,{"$f":"IF(E134=0,0,IF(E134>0,(E134+75)*4.982/1.059-529))","v":0}]
[null,"KOVÁŘOVÁ","Viktorie","7.A",null,null,null,{"$f":"IF(E135=0,0,IF(E135>0,(E135+75)*4.982/1.059-529))","v":0},null,179]
[null,"KYNČLOVÁ","Anna","7.A",null,null,null,{"$f":"IF(E136=0,0,IF(E136>0,(E136+75)*4.982/1.059-529))","v":0},null,180]
[null,"MATOUŠOVÁ","Tereza","7.A",null,null,null,{"$f":"IF(E137=0,0,IF(E137>0,(E137+75)*4.982/1.059-529))","v":0},null,145]
[null,"MAZÁNKOVÁ","Zuzana","7.A",null,null,null,{"$f":"IF(E138=0,0,IF(E138>0,(E138+75)*4.982/1.059-529))","v":0},null,140]
[null,"MORKESOVÁ","Sabrina","7.A",173,null,"Jilemnice  11.04.21",{"$f":"IF(E139=0,0,IF(E139>0,(E139+75)*4.982/1.059-529))","v":637.70066100094436},null,199]
[null,"POHOŘALÁ","Alžběta","7.A",null,null,null,{"$f":"IF(E140=0,0,IF(E140>0,(E140+75)*4.982/1.059-529))","v":0},null,181]
[null,"SCHOLZOVÁ","Laura","7.A",null,null,null,{"$f":"IF(E141=0,0,IF(E141>0,(E141+75)*4.982/1.059-529))","v":0},null,128]
[null,"VÁCLAVÍKOVÁ","Valerie","7.A",139,null,"Jilemnice  21.03.21",{"$f":"IF(E142=0,0,IF(E142>0,(E142+75)*4.982/1.059-529))","v":477.74976392823442},null,167]
[null,"ZAPADLOVÁ","Emma","7.A",null,null,null,{"$f":"IF(E143=0,0,IF(E143>0,(E143+75)*4.982/1.059-529))","v":0},null,170]
[null,"ŽIŠKOVÁ","Mia","7.A",null,null,null,{"$f":"IF(E144=0,0,IF(E144>0,(E144+75)*4.982/1.059-529))","v":0},null,181]
[null,"FARSKÁ","Tereza","7.B",128,null,"Jilemnice  21.03.21",{"$f":"IF(E145=0,0,IF(E145>0,(E145+75)*4.982/1.059-529))","v":426.00094428706336}]
[null,"FEIXOVÁ","Rozálie","7.B",null,null,null,{"$f":"IF(E146=0,0,IF(E146>0,(E146+75)*4.982/1.059-529))","v":0},null,115]
[null,"FIŠEROVÁ","Michaela","7.B",null,null,null,{"$f":"IF(E147=0,0,IF(E147>0,(E147+75)*4.982/1.059-529))","v":0},null,154]
[null,"HAVLÍČKOVÁ","Kristýna","7.B",null,null,null,{"$f":"IF(E148=0,0,IF(E148>0,(E148+75)*4.982/1.059-529))","v":0}]
[null,"JODASOVÁ","Nikola","7.B",null,null,null,{"$f":"IF(E149=0,0,IF(E149>0,(E149+75)*4.982/1.059-529))","v":0},null,149]
[null,"KADAVÁ","Nikola","7.B",null,null,null,{"$f":"IF(E150=0,0,IF(E150>0,(E150+75)*4.982/1.059-529))","v":0},null,128]
[null,"KRAFKOVÁ","Lucie","7.B",null,null,null,{"$f":"IF(E151=0,0,IF(E151>0,(E151+75)*4.982/1.059-529))","v":0}]
[null,"KŘIVINKOVÁ","Alžběta","7.B",null,null,null,{"$f":"IF(E152=0,0,IF(E152>0,(E152+75)*4.982/1.059-529))","v":0},null,179]
[null,"LEŠÁKOVÁ","Lenka","7.B",null,null,null,{"$f":"IF(E153=0,0,IF(E153>0,(E153+75)*4.982/1.059-529))","v":0},null,135]
[null,"NYKLÍČKOVÁ","Adéla","7.B",null,null,null,{"$f":"IF(E154=0,0,IF(E154>0,(E154+75)*4.982/1.059-529))","v":0},null,195]
[null,"PLŮCHOVÁ","Petra","7.B",null,null,null,{"$f":"IF(E155=0,0,IF(E155>0,(E155+75)*4.982/1.059-529))","v":0},null,164]
[null,"PODZIMKOVÁ","Eliška","7.B",null,null,null,{"$f":"IF(E156=0,0,IF(E156>0,(E156+75)*4.982/1.059-529))","v":0},null,155]
[null,"RUTKAYOVÁ","Klára","7.B",null,null,null,{"$f":"IF(E157=0,0,IF(E157>0,(E157+75)*4.982/1.059-529))","v":0},null,165]
[null,"SEIDLOVÁ","Zuzana","7.B",139,null,"Jilemnice  11.04.21",{"$f":"IF(E158=0,0,IF(E158>0,(E158+75)*4.982/1.059-529))","v":477.74976392823442},null,150]
[null,"TOMÁŠOVÁ","Sára","7.B",null,null,null,{"$f":"IF(E159=0,0,IF(E159>0,(E159+75)*4.982/1.059-529))","v":0},null,121]
[null,"VANCLOVÁ","Barbora","7.B",null,null,null,{"$f":"IF(E160=0,0,IF(E160>0,(E160+75)*4.982/1.059-529))","v":0}]
[null,"VOTOČKOVÁ","Veronika","7.B",null,null,null,{"$f":"IF(E161=0,0,IF(E161>0,(E161+75)*4.982/1.059-529))","v":0},null,131]
[null,"HARTIGOVÁ","Anna","8.A",null,null,null,{"$f":"IF(E162=0,0,IF(E162>0,(E162+75)*4.982/1.059-529))","v":0},null,192,197]
[null,"HONCŮ","Rozálie","8.A",null,null,null,{"$f":"IF(E163=0,0,IF(E163>0,(E163+75)*4.982/1.059-529))","v":0},null,null,207]
[null,"CHALOUPSKÁ","Lucie","8.A",null,null,null,{"$f":"IF(E164=0,0,IF(E164>0,(E164+75)*4.982/1.059-529))","v":0},null,190,187]
[null,"KŘÍŽKOVÁ","Anna","8.A",null,null,null,{"$f":"IF(E165=0,0,IF(E165>0,(E165+75)*4.982/1.059-529))","v":0},null,164,170]
[null,"LUKEŠOVÁ","Kristýna","8.A",null,null,null,{"$f":"IF(E166=0,0,IF(E166>0,(E166+75)*4.982/1.059-529))","v":0},null,174,180]
[null,"MOTLÍKOVÁ","Eliška","8.A",null,null,null,{"$f":"IF(E167=0,0,IF(E167>0,(E167+75)*4.982/1.059-529))","v":0},null,null,180]
[null,"POHOŘELÁ","Amálie","8.A",180,null,"Jilemnice  11.04.21",{"$f":"IF(E168=0,0,IF(E168>0,(E168+75)*4.982/1.059-529))","v":670.63172804532587},null,176,168]
[null,"POLÁČKOVÁ","Natálie","8.A",null,null,null,{"$f":"IF(E169=0,0,IF(E169>0,(E169+75)*4.982/1.059-529))","v":0},null,120,125]
[null,"ŘEHOŘKOVÁ","Lucie","8.A",null,null,null,{"$f":"IF(E170=0,0,IF(E170>0,(E170+75)*4.982/1.059-529))","v":0},null,null,182]
[null,"SKÁLOVÁ","Alena","8.A",null,null,null,{"$f":"IF(E171=0,0,IF(E171>0,(E171+75)*4.982/1.059-529))","v":0},null,153,140]
[null,"VÁVROVÁ ","Aneta","8.A",206,null,"Jilemnice  11.04.21",{"$f":"IF(E172=0,0,IF(E172>0,(E172+75)*4.982/1.059-529))","v":792.94711992445718},null,198,198]
[null,"ZELINKOVÁ","Klára","8.A",null,null,null,{"$f":"IF(E173=0,0,IF(E173>0,(E173+75)*4.982/1.059-529))","v":0},null,185,198]
[null,"JUNGOVÁ ","Lucie","9.A",null,null,null,{"$f":"IF(E174=0,0,IF(E174>0,(E174+75)*4.982/1.059-529))","v":0},null,null,210,141]
[null,"KŘIVÁNKOVÁ ","Linda","9.A",null,null,null,{"$f":"IF(E175=0,0,IF(E175>0,(E175+75)*4.982/1.059-529))","v":0},null,null,178,124]
[null,"KUBÁTOVÁ","Lucie","9.A",null,null,null,{"$f":"IF(E176=0,0,IF(E176>0,(E176+75)*4.982/1.059-529))","v":0},null,null,150,113]
[null,"ŠIMŮNKOVÁ ","Nikola","9.A",null,null,null,{"$f":"IF(E177=0,0,IF(E177>0,(E177+75)*4.982/1.059-529))","v":0},null,null,170,113]
[null,"ŠMÍDOVÁ","Kristýna","9.A",127,null,"Jilemnice  14.03.21",{"$f":"IF(E178=0,0,IF(E178>0,(E178+75)*4.982/1.059-529))","v":421.296506137866},null,null,132,88]
[null,"VOTOČKOVÁ ","Nikola","9.A",null,null,null,{"$f":"IF(E179=0,0,IF(E179>0,(E179+75)*4.982/1.059-529))","v":0},null,null,180,145]
[null,"VYHLASOVÁ","Lenka","9.A",null,null,null,{"$f":"IF(E180=0,0,IF(E180>0,(E180+75)*4.982/1.059-529))","v":0},null,null,null,112]
[null,"BÖHMOVÁ","Diana","9.B",null,null,null,{"$f":"IF(E181=0,0,IF(E181>0,(E181+75)*4.982/1.059-529))","v":0},null,null,162,117]
[null,"HOUDOVÁ","Tereza","9.B",null,null,null,{"$f":"IF(E182=0,0,IF(E182>0,(E182+75)*4.982/1.059-529))","v":0},null,null,184,149]
[null,"JANÍKOVÁ","Kristýna","9.B"]
[null,"KUŽELOVÁ","Ela","9.B",null,null,null,{"$f":"IF(E184=0,0,IF(E184>0,(E184+75)*4.982/1.059-529))","v":0},null,null,208,160]
[null,"MATERNOVÁ","Lucie","9.B",null,null,null,{"$f":"IF(E185=0,0,IF(E185>0,(E185+75)*4.982/1.059-529))","v":0},null,null,174,131]
[null,"OPOČENSKÁ","Matylda","9.B",null,null,null,{"$f":"IF(E186=0,0,IF(E186>0,(E186+75)*4.982/1.059-529))","v":0}]
[null,"PIŠTOROVÁ","Karolína","9.B",null,null,null,{"$f":"IF(E187=0,0,IF(E187>0,(E187+75)*4.982/1.059-529))","v":0},null,null,194,151]
[null,"POKORNÝ","Anna","9.B",null,null,null,{"$f":"IF(E188=0,0,IF(E188>0,(E188+75)*4.982/1.059-529))","v":0},null,null,170,113]
[null,"SUCHÁNKOVÁ","Michaela","9.B",null,null,null,{"$f":"IF(E189=0,0,IF(E189>0,(E189+75)*4.982/1.059-529))","v":0},null,null,132,102]
[null,"ŠUBÍKOVÁ ","Štěpánka","9.B",null,null,null,{"$f":"IF(E190=0,0,IF(E190>0,(E190+75)*4.982/1.059-529))","v":0},null,null,176,127]
[null,"VANCLOVÁ","Pavlína","9.B",null,null,null,{"$f":"IF(E191=0,0,IF(E191>0,(E191+75)*4.982/1.059-529))","v":0},null,null,163,119]

{"sheet":"Drepre","index":21,"n_rows":94,"n_cols":22,"rows_kept":94,"cut":false,"hidden":false,"merged":[]}
[]
[null,null,null,null,null,"OF","OF","OF ","OKRSEK",null,"OF","KF","okrsek","OF","OF","of BASK "," KF","OF","JIL ","OF ","štaf","DOH"]
[null,null,null,null,"CELKEM","4boj","přespole","PLAV","FLORB","   ŠTAF","FLORB","PLAV","kopaná","fotbal","and 1","8.-9.","bask","VOLEJ","laťka","PoRo"]
[null,"ERBENOVÁ","Sára","6.A",{"$f":"SUM(F4:V4)","v":0}]
[null,"HOFMANOVÁ ","Nicol","6.A",0]
[null,"HOLEŠOVSKÁ","Aneta","6.A",0]
[null,"HOLUBCOVÁ","Alena","6.A",0]
[null,"KOHOUTOVÁ","Anna","6.A",0]
[null,"KRAUSOVÁ","Anežka","6.A",0]
[null,"KUŽELOVÁ","Apoléna","6.A",0]
[null,"MORÁVKOVÁ","Lucie","6.A",0]
[null,"SKLENÁROVÁ","Eliška","6.A",0]
[null,"ŠTOLFOVÁ","Tereza","6.A",0]
[null,"ŠUBÍKOVÁ","Klára","6.A",0]
[null,"TULÁČKOVÁ","Natálie","6.A",0]
[null,"VOJTÍŠKOVÁ","Ella","6.A",0]
[null,"DRUGÁČOVÁ","Kristinka","6.B",0]
[null,"FAJSTAVROVÁ","Karolína","6.B",0]
[null,"FAJSTAVROVÁ","Magdaléna","6.B",0]
[null,"HLAVATÁ","Anna","6.B",0]
[null,"JINDROVÁ","Barbora","6.B",0]
[null,"MAŘASOVÁ","Vendula","6.B",0]
[null,"PETŘÍČKOVÁ","Natálie","6.B",0]
[null,"PETŘÍKOVÁ","Adéla","6.B",0]
[null,"REGÁLOVÁ","Karolína","6.B",0]
[null,"RIEGROVÁ","Magdaléna","6.B",0]
[null,"RYBENSKÁ","Sabina","6.B",0]
[null,"STEINEROVÁ","Barbora","6.B",0]
[null,"TOMEŠOVÁ","Barbora","6.B",0]
[null,"VOHNOUTOVÁ","Aneta","6.B",0]
[null,"HAVLÍKOVÁ","Michaela","7.A",0]
[null,"HOLUBCOVÁ","Sára","7.A",0]
[null,"HONCŮ","Tereza","7.A",0]
[null,"HORÁČKOVÁ","Kateřina","7.A",0]
[null,"JOUDALOVÁ","Daniela","7.A",0]
[null,"KLÍMOVÁ","Anna","7.A",0]
[null,"KOHOUTOVÁ","Veronika","7.A",0]
[null,"KOVÁŘOVÁ","Viktorie","7.A",0]
[null,"KYNČLOVÁ","Anna","7.A",0]
[null,"MATOUŠOVÁ","Tereza","7.A",0]
[null,"MAZÁNKOVÁ","Zuzana","7.A",0]
[null,"MORKESOVÁ","Sabrina","7.A",0]
[null,"POHOŘALÁ","Alžběta","7.A",0]
[null,"SCHOLZOVÁ","Laura","7.A",0]
[null,"VÁCLAVÍKOVÁ","Valerie","7.A",0]
[null,"ZAPADLOVÁ","Emma","7.A",0]
[null,"ŽIŠKOVÁ","Mia","7.A",0]
[null,"FARSKÁ","Tereza","7.B",0]
[null,"FEIXOVÁ","Rozálie","7.B",0]
[null,"FIŠEROVÁ","Michaela","7.B",0]
[null,"HAVLÍČKOVÁ","Kristýna","7.B",0]
[null,"JODASOVÁ","Nikola","7.B",0]
[null,"KADAVÁ","Nikola","7.B",0]
[null,"KRAFKOVÁ","Lucie","7.B",0]
[null,"KŘIVINKOVÁ","Alžběta","7.B",0]
[null,"LEŠÁKOVÁ","Lenka","7.B",0]
[null,"NYKLÍČKOVÁ","Adéla","7.B",0]
[null,"PLŮCHOVÁ","Petra","7.B",0]
[null,"PODZIMKOVÁ","Eliška","7.B",0]
[null,"RUTKAYOVÁ","Klára","7.B",0]
[null,"SEIDLOVÁ","Zuzana","7.B",0]
[null,"TOMÁŠOVÁ","Sára","7.B",0]
[null,"VANCLOVÁ","Barbora","7.B",0]
[null,"VOTOČKOVÁ","Veronika","7.B",0]
[null,"HARTIGOVÁ","Anna","8.A",0]
[null,"HONCŮ","Rozálie","8.A",0]
[null,"CHALOUPSKÁ","Lucie","8.A",0]
[null,"KŘÍŽKOVÁ","Anna","8.A",{"$f":"SUM(F68:V68)","v":0}]
[null,"LUKEŠOVÁ","Kristýna","8.A",0]
[null,"MOTLÍKOVÁ","Eliška","8.A",0]
[null,"POHOŘELÁ","Amálie","8.A",0]
[null,"POLÁČKOVÁ","Natálie","8.A",0]
[null,"ŘEHOŘKOVÁ","Lucie","8.A",0]
[null,"SKÁLOVÁ","Alena","8.A",0]
[null,"VÁVROVÁ ","Aneta","8.A",0]
[null,"ZELINKOVÁ","Klára","8.A",0]
[null,"JUNGOVÁ ","Lucie","9.A",0]
[null,"KŘIVÁNKOVÁ ","Linda","9.A",0]
[null,"KUBÁTOVÁ","Lucie","9.A",0]
[null,"ŠIMŮNKOVÁ ","Nikola","9.A",0]
[null,"ŠMÍDOVÁ","Kristýna","9.A",{"$f":"SUM(F81:V81)","v":0}]
[null,"VOTOČKOVÁ ","Nikola","9.A",{"$f":"SUM(F82:V82)","v":0}]
[null,"VYHLASOVÁ","Lenka","9.A",{"$f":"SUM(F83:V83)","v":0}]
[null,"BÖHMOVÁ","Diana","9.B"]
[null,"HOUDOVÁ","Tereza","9.B"]
[null,"JANÍKOVÁ","Kristýna","9.B"]
[null,"KUŽELOVÁ","Ela","9.B"]
[null,"MATERNOVÁ","Lucie","9.B"]
[null,"OPOČENSKÁ","Matylda","9.B"]
[null,"PIŠTOROVÁ","Karolína","9.B"]
[null,"POKORNÝ","Anna","9.B"]
[null,"SUCHÁNKOVÁ","Michaela","9.B"]
[null,"ŠUBÍKOVÁ ","Štěpánka","9.B"]
[null,"VANCLOVÁ","Pavlína","9.B"]

{"sheet":"Drekordy","index":22,"n_rows":37,"n_cols":15,"rows_kept":37,"cut":false,"hidden":false,"merged":[]}
["REKORDY SPORTOVCE ŠKOLY",null,null,null,null,null,null,"6.  ročník",null,"REKORDY SPORTOVCE ŠKOLY",null,null,null,null,"7.  ročník"]
[" ",null,null,null,null,null,null,{"$f":"TODAY()","v":"2021-06-28"},null,null,null,null,null,null,{"$f":"TODAY()","v":"2021-06-28"}]
["   60  m",null,null,"PRCHLÍKOVÁ","Lenka",8.6,null,"Turnov 08.06.11",null,"   60  m","HOLCOVÁ","Kristina",8.3000000000000007,null,"Turnov 29.05.07"]
[" 300  m",null,null,"JUNGOVÁ ","Lucie","00:00:53.350",null,"Jilemnice 05.06.18",null," 300  m","JUNGOVÁ ","Lucie","00:00:51.060",null,"Jilemnice  22.10.18"]
[" 800  m",null,null,"NOVÁKOVÁ","Lucie","00:02:52.700",null,"Turnov 11.06.10",null," 800  m","TROJANOVÁ","Hana","00:02:38.890",null,"Turnov 14.06.13"]
["dálka",null,null,"MÁČKOVÁ","Pavla",409," ","Jilemnice 18.06.09"," ","dálka","HOLCOVÁ","Kristina",448,null,"Turnov 10.05.07"]
["výška",null,null,"MÁČKOVÁ","Pavla",135,null,"Turnov 16.06.09",null,"výška","SVOBODOVÁ","Kristýna",135,null,"Jilemnice 26.04.12"]
["míček",null,null,"SPROSTÁ","Karolína",44,null,"Turnov 18.05.09",null,"míček","SPROSTÁ","Karolína",46,null,"Jilemnice 08.10.09"]
["koule  3",null,null,"MAREŠOVÁ","Tereza",6.85,null,"Jilemnice 13.06.07",null,"koule  3","MENDŘICKÁ","Marta",9.0399999999999991,null,"Jilemnice 28.04.10"]
["člunk. běh",null,null,"NECHANICKÁ","Natálie",10.65,null,"Jilemnice 13.02.15",null,"člunk. běh","RYŠAVÁ","Kateřina",10.130000000000001,null,"Jilemnice 13.11.15"]
["lehsedy",null,null,"ŠUPOVÁ","Nikola",60,null,"Jilemnice 30.03.15",null,"lehsedy","MÁČKOVÁ","Pavla",55,null,"Jilemnice 22.04.10"]
["odbíjení",null,null,"HRUBÁ","Martina",280,null,"Jilemnice 03.12.09",null,"odbíjení","MÁČKOVÁ","Denisa",649,null,"Jilemnice 07.04.10"]
[null,null,null," ",null,null,null,null,null,null,"MÁČKOVÁ","Pavla",649,null,"Jilemnice 07.04.10"]
["plavání 25 m",null,null,"RYPLOVÁ","Adéla",15.4,null,"Jilemnice 21.12.06",null,"plavání 25 m","MÁČKOVÁ","Denisa",15.3,null,"Jilemnice 12.04.10"]
["šplh",null,null,"URBANOVÁ","Nikola",4.7300000000000004,null,"Jilemnice 15.04.13",null,"šplh","VOTOČKOVÁ ","Nikola",3.64,null,"Jilemnice  06.05.19"]
["švihadlo",null,null,"PRCHLÍKOVÁ","Lenka",165,null,"Jilemnice 07.03.11",null,"švihadlo","PRCHLÍKOVÁ","Lenka",154,null,"Jilemnice 08.03.12"]
["z místa",null,null,"HONCŮ","Rozálie",207,null,"Jilemnice 05.06.19",null,"z místa","JANATOVÁ","Nikola",225,null,"Jilemnice 26.05.16"]
[]
["REKORDY SPORTOVCE ŠKOLY",null,null,null,null,null,null,"8.  ročník",null,"REKORDY SPORTOVCE ŠKOLY",null,null,null,null,"9.  ročník"]
[null,null,null,null,null,null,null,{"$f":"TODAY()","v":"2021-06-28"},null,null,null,null,null,null,{"$f":"TODAY()","v":"2021-06-28"}]
["   60  m",null,null,"HOLCOVÁ","Kristina",8.1,null,"Turnov 13.05.08",null,"   60  m","PAVLOUSKOVÁ","Lenka",8.3000000000000007,null,"Turnov 19.05.10"]
[null,null,null,null,null,null,null,null,null,null,"HOLCOVÁ","Kristina",8.3000000000000007,null,"Turnov 07.05.09"]
[" 300  m",null,null,"FRKOVÁ","Dita","00:00:47.200",null,"Turnov 11.06.10",null," 300  m","VRBINIAKOVÁ","Šárka","00:00:47.500",null,"Turnov 16.06.09"]
[" 800  m",null,null,"TROJANOVÁ","Hana","00:02:35.300",null,"Turnov 14.05.14",null," 800  m","TROJANOVÁ","Hana","00:02:31.570",null,"Turnov 13.05.15"]
["dálka",null,null,"PRCHLÍKOVÁ","Lenka",463,null,"Jablonné vP.27.05.13",null,"dálka","HOLCOVÁ","Kristina",481,null,"Jilemnice 26.09.08"]
["výška",null,null,"KAVANOVÁ","Michaela",143,null,"Turnov 21.09.17",null,"výška","HOFMANOVÁ","Tereza",135,null,"Turnov 13.05.10"]
[null,null,null,null,null,null,null,null,null,null,"VRBINIAKOVÁ","Šárka",135,null,"Turnov 02.06.09"]
["míček",null,null,"MÁČKOVÁ","Denisa",46.5,null,"Jilemnice 07.10.10",null,"míček","SPROSTÁ","Karolína",48,null,"Jilemnice 05.10.11"]
["koule  3",null,null,"HOLCOVÁ","Kristina",8.75,null,"Jilemnice 31.10.07",null,"koule  3","HOLCOVÁ","Kristina",9.15,null,"Jilemnice 29.09.08"]
["člunk. běh",null,null,"PRCHLÍKOVÁ","Lenka",10.17,null,"Jilemnice 07.12.12",null,"člunk. běh","PRCHLÍKOVÁ","Lenka",9.98,null,"Jilemnice 22.11.13"]
["lehsedy",null,null,"MÁČKOVÁ","Pavla",56,null,"Jilemnice 20.10.10",null,"lehsedy","RYŠAVÁ","Kateřina",57,null,"Jilemnice 17.05.18"]
["odbíjení",null,null,"MÁČKOVÁ","Denisa",2043,null,"Jilemnice 07.03.11",null,"odbíjení","OUTOLNÁ","Kateřina",1598,null,"Jilemnice 03.05.10"]
[null,null,null,"MÁČKOVÁ","Pavla",2043,null,"Jilemnice 07.03.11",null,null,"PAVLOUSKOVÁ","Lenka",1598,null,"Jilemnice 03.05.10"]
["plavání 25 m",null,null,"RYPLOVÁ","Adéla",15.6,null,"Jilemnice 18.12.08",null,"plavání 25 m","ŠÍROVÁ","Lucie",16.2,null,"Jilemnice 18.12.08"]
["šplh",null,null,"URBANOVÁ","Nikola",4.42,null,"Jilemnice 27.02.15",null,"šplh","NOSKOVÁ","Gabriela",4.13,null,"Jilemnice 24.02.12"]
["švihadlo",null,null,"JOHANOVÁ","Adéla",171,null,"Jilemnice 03.03.14",null,"švihadlo","JOHANOVÁ","Adéla",170,null,"Jilemnice 28.05.15"]
["z místa",null,null,"JEČNÁ","Klára",225,null,"Jilemnice 29.05.17",null,"z místa","HOLCOVÁ","Kristina",223,null,"Jilemnice 12.01.09"]