{"text_format":"1","workbook":"xlsx","n_sheets":42,"sheets":["HOME","TVOJE","TVOJE2","FOTO","CH15","ROČ","VÝK","60","300","1000","DÁLKA","VÝŠKA","MÍČEK","KOULE","OŠTĚP","ČLUNEK","LEHSED","ODBÍJENÍ","PLAVÁNÍ","SHYBY","ŠPLH","ŠVIHADLO","Z MÍSTA","REPRE","rekordy","Dvýk","D60","D300","D800","Ddál","Dvýš","Dmíč","Dkou","Dčlu","Dls","Dodbíj","Dplav","Dšplh","Dšvih","Dz mís","Drepre","Drekordy"],"not_rendered":{"charts":0,"images":0,"macros":1,"external_links":0,"defined_names":4,"comments":0,"pivot_tables":0},"unopened":[],"bounds":{"document_bytes":16777216,"sheet_cells":100000,"rows_first":2000,"rows_last":500,"rows_between":2000,"halvings":0,"cell_chars":16384,"cell_head_chars":4096},"cells_cut":0,"cells_raw":0,"read":"whole","date_system":"1900"}

{"sheet":"HOME","index":0,"n_rows":25,"n_cols":2,"rows_kept":25,"cut":false,"hidden":false,"merged":[[0,0,0,3],[8,1,8,3]]}
["CHLAPCI"]
[]
[]
[]
[]
[]
[]
[]
[null,"DISCIPLÍNY"]
[]
[]
[]
[]
[]
[]
[]
[]
[]
[]
[]
[]
[]
[]
[]
[null," "]

{"sheet":"TVOJE","index":1,"n_rows":2,"n_cols":21,"rows_kept":2,"cut":false,"hidden":false,"merged":[]}
[]
[null,"6.A",null,null,"6.B",null,null,"7.A",null,null,"7.B",null,null,null,"8.A",null,null,"9.A",null,null,"9.B"]

{"sheet":"TVOJE2","index":2,"n_rows":34,"n_cols":11,"rows_kept":34,"cut":false,"hidden":false,"merged":[]}
[]
[]
[null,null,null,"výkon",null,"místo","body",null,"19  - 20","18  - 19","17 - 18"]
[null,null,"60 m"]
[]
[null,null,"300 m"]
[]
[null,null,"1000 m"]
[]
[null,null,"dálka"]
[]
[null,null,"výška"]
[]
[null,null,"míček"]
[]
[null,null,"koule"]
[]
[null,null,"oštěp"]
[]
[null,null,"člunek"]
[]
[null,null,"lehsed"]
[]
[null,null,"odbíjení"]
[]
[null,null,"plavání"]
[]
[null,null,"shyby"]
[]
[null,null,"šplh"]
[]
[null,null,"švihadlo"]
[]
[" ",null,"z místa"]

{"sheet":"FOTO","index":3,"n_rows":20,"n_cols":6,"rows_kept":20,"cut":false,"hidden":false,"merged":[[1,1,1,2]]}
[]
[null,"PRO  ZOBRAZENÍ  FOTOGRAFIÍ  JE  TŘEBA  PŘÍSTUP  K  INTERNETU"]
[]
[]
[null,null,null,null,"DALŠÍ  SPORTOVNÍ  AKCE"]
[]
[null,2020,"VYHLÁŠENÍ  SE  NEUSKUTEČNILO",null,"10.12.2019  OF  FLORBAL  STARŠÍ ŽÁCI","13.11.2019  OF  PLAVÁNÍ    JILEMNICE"]
[null,null,null,null,"19.12.2019  OF  FLORBAL ML.ŽÁCI  JIL.","25.9.2019   JILEMNICKÉ  ŠTAFETY"]
[null,null,null,null,"24. 9.2019  OF  ČTYŘBOJ   TURNOV"]
[]
[null,2019,"VYHLÁŠENÍ  SPORTOVCE  ŠKOLY     13. ROČNÍK",null,"6. 12. 2018  OF  FLORBAL  6.-7. ROČ","14.11.2018  OF  PLAVÁNÍ  JILEMNICE"]
[null,null,null,null,"26. 9.2018  OF  ČTYŘBOJ  TURNOV"]
[null,2018,"VYHLÁŠENÍ  SPORTOVCE  ŠKOLY     12. ROČNÍK"]
[]
[null,2017,"VYHLÁŠENÍ  SPORTOVCE  ŠKOLY     11. ROČNÍK"]
[]
[null,2016,"VYHLÁŠENÍ  SPORTOVCE  ŠKOLY     10. ROČNÍK",null,"11. 5. 2016  POHÁR  ROZHLASU  TURNOV"]
[]
[]
[null,null,"průběžně budu přídávat další"]

{"sheet":"CH15","index":4,"n_rows":124,"n_cols":21,"rows_kept":124,"cut":false,"hidden":false,"merged":[]}
[" ",null,"T O P     1 5",null,null,null,null,null,null,null,null,null,null,null,null,null,null,null,"stav  k ",null,{"$f":"TODAY()","v":"2021-06-28"}]
[]
[null,null,null,null,null,"60  m  ","300m","1000m","dálka","výška","míček","koule","člunek","lehsed","odbíjení ","plavání","šplh","švihadlo","z místa"," REPRE","       CELKEM"]
[]
["1.",{"$f":"B35","v":"BOUKAL"},"Jakub","6.A",null,608.69491792993631,357.22765869265402,0,474.24,0,175,548.33333333333337,663.75750277853604,0,96,0,0,0,0,0,2923.2534127344597]
["2.",{"$f":"B36","v":"DEMČUK"},"Ilja","6.A",null,686.34545338248847,582.97354979907107,0,572.05200000000002,571.16000000000008,250,515.55555555555554,0,312.5,120,0,0,0,570,0,4180.5865587371154]
["3.",{"$f":"B37","v":"FAISTAUER"},"Kryštof","6.A",null,767.39454412631574,670.24815200233229,0,653.56200000000001,628.36000000000013,431.25,488.88888888888886,855.67713621721612,512.5,64,0,0,325,627,0,6023.8807212347529]
["4.",{"$f":"B38","v":"FRK"},"Matyáš","6.A",null,602.49749757861639,351.71341527947015,0,529.07399999999996,411,0,0,639.17207931259259,0,112,0,0,0,0,0,2645.4569921706789]
["5.",{"$f":"B39","v":"HUBÁLOVSKÝ"},"Marek","6.A",null,657.40403930008745,442.95197096797983,0,678.75599999999997,485.36000000000007,325,413.88888888888886,680.22974607752508,0,64,0,0,0,0,0,3747.5906452344807]
["6.",{"$f":"B40","v":"MAŘAS"},"Dominik","6.A",null,647.6364406529209,379.63195540069046,0,545.37599999999998,0,275,517.22222222222217,639.17207931259259,0,88,0,0,0,691.6,0,3783.6386975884257]
["7.",{"$f":"B41","v":"MAŤÁTKO"},"Jakub","6.A",null,585.16210532221385,331.67809691936748,0,0,0,250,435.55555555555554,475.3264719866242,0,80,0,0,0,0,0,2157.7222297837611]
["8.",{"$f":"B42","v":"MERY"},"Luboš","6.A",null,657.40403930008745,407.18435863112518,0,0,456.76000000000005,0,0,663.75750277853604,325,32,0,0,112.5,566.19999999999993,0,3220.8059007097481]
["9.",{"$f":"B43","v":"NOVOTNÝ"},"Matěj","6.A",null,680.6211833211679,0,0,527.59199999999998,439.6,362.5,0,722.34433299021953,0,0,0,0,0,0,0,2732.6575163113876]
["10.",{"$f":"B44","v":"ŘEHOŘEK"},"Vojtěch","6.A",null,635.14833634228182,440.45590757293235,0,549.822,485.36000000000007,500,507.22222222222223,0,350,112,0,0,0,554.79999999999995,0,4134.8084661374369]
["11.",{"$f":"B45","v":"ŠÍR"},"Matyáš","6.A",null,655.04600777003475,465.74966141503035,0,530.55600000000004,479.64000000000004,250,379.44444444444446,603.03986398763539,475,88,0,0,237.5,600.4,0,4764.3759776171446]
["12.",{"$f":"B46","v":"TORÁČ"},"Tomáš","6.A",null,387.77198810715856,110.15266988294343,0,0,0,156.25,427.22222222222223,372.89289796975345,0,96,0,0,0,0,0,1550.2897781820777]
["13.",{"$f":"B47","v":"ULLMAN"},"Šimon","6.A",null,790.10110775599128,690.35992248257389,0,634.29600000000005,439.6,306.25,0,788.23865689925674,0,48,0,0,0,0,0,3696.8456871378221]
["14.",{"$f":"B48","v":"VÁCLAVÍK"},"Ondřej","6.A",null,681.65339755027424,609.18116023719892,0,569.08799999999997,542.56000000000006,450,488.88888888888886,755.1114192063493,0,0,0,0,0,0,0,4096.4828658827109]
["15.",{"$f":"B49","v":"AUERSWALD"},"Daniel","6.B",null,741.70760052578362,594.29908907741935,0,626.88599999999997,628.36000000000013,312.5,473.88888888888886,761.82264087384772,0,152,0,0,187.5,0,0,4478.9642193659392]
[]
[]
[]
[]
[]
[]
[]
[]
[]
[]
[]
[]
[]
[]
[null,null,null,null,null,"60  m  ","300m","1000m","dálka","výška","míček","koule","člunek","lehsed","odbíjení ","plavání","šplh","švihadlo","z místa"," REPRE","   CELKEM"]
[null,{"$f":"'60'!B101","v":"BOUKAL"},{"$f":"'60'!C101","v":"Jakub"},{"$f":"'60'!D101","v":"6.A"},null,{"$f":"'60'!H101","v":608.69491792993631},{"$f":"'300'!H100","v":357.22765869265402},{"$f":"'1000'!H101","v":0},{"$f":"DÁLKA!H101","v":474.24},{"$f":"VÝŠKA!H101","v":0},{"$f":"MÍČEK!H101","v":175},{"$f":"KOULE!H101","v":548.33333333333337},{"$f":"ČLUNEK!H101","v":663.75750277853604},{"$f":"LEHSED!H101","v":0},{"$f":"ODBÍJENÍ!H101","v":96},{"$f":"PLAVÁNÍ!H101","v":0},{"$f":"ŠPLH!H101","v":0},{"$f":"ŠVIHADLO!H101","v":0},{"$f":"'Z MÍSTA'!H101","v":0},{"$f":"REPRE!E4","v":0},{"$f":"SUM(F35:T35)","v":2923.2534127344597}]
[null,{"$f":"'60'!B102","v":"DEMČUK"},{"$f":"'60'!C102","v":"Ilja"},{"$f":"'60'!D102","v":"6.A"},null,{"$f":"'60'!H102","v":686.34545338248847},{"$f":"'300'!H101","v":582.97354979907107},{"$f":"'1000'!H102","v":0},{"$f":"DÁLKA!H102","v":572.05200000000002},{"$f":"VÝŠKA!H102","v":571.16000000000008},{"$f":"MÍČEK!H102","v":250},{"$f":"KOULE!H102","v":515.55555555555554},{"$f":"ČLUNEK!H102","v":0},{"$f":"LEHSED!H102","v":312.5},{"$f":"ODBÍJENÍ!H102","v":120},{"$f":"PLAVÁNÍ!H102","v":0},{"$f":"ŠPLH!H102","v":0},{"$f":"ŠVIHADLO!H102","v":0},{"$f":"'Z MÍSTA'!H102","v":570},{"$f":"REPRE!E5","v":0},4180.5865587371154]
[null,{"$f":"'60'!B103","v":"FAISTAUER"},{"$f":"'60'!C103","v":"Kryštof"},{"$f":"'60'!D103","v":"6.A"},null,{"$f":"'60'!H103","v":767.39454412631574},{"$f":"'300'!H102","v":670.24815200233229},{"$f":"'1000'!H103","v":0},{"$f":"DÁLKA!H103","v":653.56200000000001},{"$f":"VÝŠKA!H103","v":628.36000000000013},{"$f":"MÍČEK!H103","v":431.25},{"$f":"KOULE!H103","v":488.88888888888886},{"$f":"ČLUNEK!H103","v":855.67713621721612},{"$f":"LEHSED!H103","v":512.5},{"$f":"ODBÍJENÍ!H103","v":64},{"$f":"PLAVÁNÍ!H103","v":0},{"$f":"ŠPLH!H103","v":0},{"$f":"ŠVIHADLO!H103","v":325},{"$f":"'Z MÍSTA'!H103","v":627},{"$f":"REPRE!E6","v":0},6023.8807212347529]
[null,{"$f":"'60'!B104","v":"FRK"},{"$f":"'60'!C104","v":"Matyáš"},{"$f":"'60'!D104","v":"6.A"},null,{"$f":"'60'!H104","v":602.49749757861639},{"$f":"'300'!H103","v":351.71341527947015},{"$f":"'1000'!H104","v":0},{"$f":"DÁLKA!H104","v":529.07399999999996},{"$f":"VÝŠKA!H104","v":411},{"$f":"MÍČEK!H104","v":0},{"$f":"KOULE!H104","v":0},{"$f":"ČLUNEK!H104","v":639.17207931259259},{"$f":"LEHSED!H104","v":0},{"$f":"ODBÍJENÍ!H104","v":112},{"$f":"PLAVÁNÍ!H104","v":0},{"$f":"ŠPLH!H104","v":0},{"$f":"ŠVIHADLO!H104","v":0},{"$f":"'Z MÍSTA'!H104","v":0},{"$f":"REPRE!E7","v":0},2645.4569921706789]
[null,{"$f":"'60'!B105","v":"HUBÁLOVSKÝ"},{"$f":"'60'!C105","v":"Marek"},{"$f":"'60'!D105","v":"6.A"},null,{"$f":"'60'!H105","v":657.40403930008745},{"$f":"'300'!H104","v":442.95197096797983},{"$f":"'1000'!H105","v":0},{"$f":"DÁLKA!H105","v":678.75599999999997},{"$f":"VÝŠKA!H105","v":485.36000000000007},{"$f":"MÍČEK!H105","v":325},{"$f":"KOULE!H105","v":413.88888888888886},{"$f":"ČLUNEK!H105","v":680.22974607752508},{"$f":"LEHSED!H105","v":0},{"$f":"ODBÍJENÍ!H105","v":64},{"$f":"PLAVÁNÍ!H105","v":0},{"$f":"ŠPLH!H105","v":0},{"$f":"ŠVIHADLO!H105","v":0},{"$f":"'Z MÍSTA'!H105","v":0},{"$f":"REPRE!E8","v":0},3747.5906452344807]
[null,{"$f":"'60'!B106","v":"MAŘAS"},{"$f":"'60'!C106","v":"Dominik"},{"$f":"'60'!D106","v":"6.A"},null,{"$f":"'60'!H106","v":647.6364406529209},{"$f":"'300'!H105","v":379.63195540069046},{"$f":"'1000'!H106","v":0},{"$f":"DÁLKA!H106","v":545.37599999999998},{"$f":"VÝŠKA!H106","v":0},{"$f":"MÍČEK!H106","v":275},{"$f":"KOULE!H106","v":517.22222222222217},{"$f":"ČLUNEK!H106","v":639.17207931259259},{"$f":"LEHSED!H106","v":0},{"$f":"ODBÍJENÍ!H106","v":88},{"$f":"PLAVÁNÍ!H106","v":0},{"$f":"ŠPLH!H106","v":0},{"$f":"ŠVIHADLO!H106","v":0},{"$f":"'Z MÍSTA'!H106","v":691.6},{"$f":"REPRE!E9","v":0},3783.6386975884257]
[null,{"$f":"'60'!B107","v":"MAŤÁTKO"},{"$f":"'60'!C107","v":"Jakub"},{"$f":"'60'!D107","v":"6.A"},null,{"$f":"'60'!H107","v":585.16210532221385},{"$f":"'300'!H106","v":331.67809691936748},{"$f":"'1000'!H107","v":0},{"$f":"DÁLKA!H107","v":0},{"$f":"VÝŠKA!H107","v":0},{"$f":"MÍČEK!H107","v":250},{"$f":"KOULE!H107","v":435.55555555555554},{"$f":"ČLUNEK!H107","v":475.3264719866242},{"$f":"LEHSED!H107","v":0},{"$f":"ODBÍJENÍ!H107","v":80},{"$f":"PLAVÁNÍ!H107","v":0},{"$f":"ŠPLH!H107","v":0},{"$f":"ŠVIHADLO!H107","v":0},{"$f":"'Z MÍSTA'!H107","v":0},{"$f":"REPRE!E10","v":0},2157.7222297837611]
[null,{"$f":"'60'!B108","v":"MERY"},{"$f":"'60'!C108","v":"Luboš"},{"$f":"'60'!D108","v":"6.A"},null,{"$f":"'60'!H108","v":657.40403930008745},{"$f":"'300'!H107","v":407.18435863112518},{"$f":"'1000'!H108","v":0},{"$f":"DÁLKA!H108","v":0},{"$f":"VÝŠKA!H108","v":456.76000000000005},{"$f":"MÍČEK!H108","v":0},{"$f":"KOULE!H108","v":0},{"$f":"ČLUNEK!H108","v":663.75750277853604},{"$f":"LEHSED!H108","v":325},{"$f":"ODBÍJENÍ!H108","v":32},{"$f":"PLAVÁNÍ!H108","v":0},{"$f":"ŠPLH!H108","v":0},{"$f":"ŠVIHADLO!H108","v":112.5},{"$f":"'Z MÍSTA'!H108","v":566.19999999999993},{"$f":"REPRE!E11","v":0},3220.8059007097481]
[null,{"$f":"'60'!B109","v":"NOVOTNÝ"},{"$f":"'60'!C109","v":"Matěj"},{"$f":"'60'!D109","v":"6.A"},null,{"$f":"'60'!H109","v":680.6211833211679},{"$f":"'300'!H108","v":0},{"$f":"'1000'!H109","v":0},{"$f":"DÁLKA!H109","v":527.59199999999998},{"$f":"VÝŠKA!H109","v":439.6},{"$f":"MÍČEK!H109","v":362.5},{"$f":"KOULE!H109","v":0},{"$f":"ČLUNEK!H109","v":722.34433299021953},{"$f":"LEHSED!H109","v":0},{"$f":"ODBÍJENÍ!H109","v":0},{"$f":"PLAVÁNÍ!H109","v":0},{"$f":"ŠPLH!H109","v":0},{"$f":"ŠVIHADLO!H109","v":0},{"$f":"'Z MÍSTA'!H109","v":0},{"$f":"REPRE!E12","v":0},2732.6575163113876]
[null,{"$f":"'60'!B110","v":"ŘEHOŘEK"},{"$f":"'60'!C110","v":"Vojtěch"},{"$f":"'60'!D110","v":"6.A"},null,{"$f":"'60'!H110","v":635.14833634228182},{"$f":"'300'!H109","v":440.45590757293235},{"$f":"'1000'!H110","v":0},{"$f":"DÁLKA!H110","v":549.822},{"$f":"VÝŠKA!H110","v":485.36000000000007},{"$f":"MÍČEK!H110","v":500},{"$f":"KOULE!H110","v":507.22222222222223},{"$f":"ČLUNEK!H110","v":0},{"$f":"LEHSED!H110","v":350},{"$f":"ODBÍJENÍ!H110","v":112},{"$f":"PLAVÁNÍ!H110","v":0},{"$f":"ŠPLH!H110","v":0},{"$f":"ŠVIHADLO!H110","v":0},{"$f":"'Z MÍSTA'!H110","v":554.79999999999995},{"$f":"REPRE!E13","v":0},4134.8084661374369]
[null,{"$f":"'60'!B111","v":"ŠÍR"},{"$f":"'60'!C111","v":"Matyáš"},{"$f":"'60'!D111","v":"6.A"},null,{"$f":"'60'!H111","v":655.04600777003475},{"$f":"'300'!H110","v":465.74966141503035},{"$f":"'1000'!H111","v":0},{"$f":"DÁLKA!H111","v":530.55600000000004},{"$f":"VÝŠKA!H111","v":479.64000000000004},{"$f":"MÍČEK!H111","v":250},{"$f":"KOULE!H111","v":379.44444444444446},{"$f":"ČLUNEK!H111","v":603.03986398763539},{"$f":"LEHSED!H111","v":475},{"$f":"ODBÍJENÍ!H111","v":88},{"$f":"PLAVÁNÍ!H111","v":0},{"$f":"ŠPLH!H111","v":0},{"$f":"ŠVIHADLO!H111","v":237.5},{"$f":"'Z MÍSTA'!H111","v":600.4},{"$f":"REPRE!E14","v":0},4764.3759776171446]
[null,{"$f":"'60'!B112","v":"TORÁČ"},{"$f":"'60'!C112","v":"Tomáš"},{"$f":"'60'!D112","v":"6.A"},null,{"$f":"'60'!H112","v":387.77198810715856},{"$f":"'300'!H111","v":110.15266988294343},{"$f":"'1000'!H112","v":0},{"$f":"DÁLKA!H112","v":0},{"$f":"VÝŠKA!H112","v":0},{"$f":"MÍČEK!H112","v":156.25},{"$f":"KOULE!H112","v":427.22222222222223},{"$f":"ČLUNEK!H112","v":372.89289796975345},{"$f":"LEHSED!H112","v":0},{"$f":"ODBÍJENÍ!H112","v":96},{"$f":"PLAVÁNÍ!H112","v":0},{"$f":"ŠPLH!H112","v":0},{"$f":"ŠVIHADLO!H112","v":0},{"$f":"'Z MÍSTA'!H112","v":0},{"$f":"REPRE!E15","v":0},1550.2897781820777]
[null,{"$f":"'60'!B113","v":"ULLMAN"},{"$f":"'60'!C113","v":"Šimon"},{"$f":"'60'!D113","v":"6.A"},null,{"$f":"'60'!H113","v":790.10110775599128},{"$f":"'300'!H112","v":690.35992248257389},{"$f":"'1000'!H113","v":0},{"$f":"DÁLKA!H113","v":634.29600000000005},{"$f":"VÝŠKA!H113","v":439.6},{"$f":"MÍČEK!H113","v":306.25},{"$f":"KOULE!H113","v":0},{"$f":"ČLUNEK!H113","v":788.23865689925674},{"$f":"LEHSED!H113","v":0},{"$f":"ODBÍJENÍ!H113","v":48},{"$f":"PLAVÁNÍ!H113","v":0},{"$f":"ŠPLH!H113","v":0},{"$f":"ŠVIHADLO!H113","v":0},{"$f":"'Z MÍSTA'!H113","v":0},{"$f":"REPRE!E16","v":0},3696.8456871378221]
[null,{"$f":"'60'!B114","v":"VÁCLAVÍK"},{"$f":"'60'!C114","v":"Ondřej"},{"$f":"'60'!D114","v":"6.A"},null,{"$f":"'60'!H114","v":681.65339755027424},{"$f":"'300'!H113","v":609.18116023719892},{"$f":"'1000'!H114","v":0},{"$f":"DÁLKA!H114","v":569.08799999999997},{"$f":"VÝŠKA!H114","v":542.56000000000006},{"$f":"MÍČEK!H114","v":450},{"$f":"KOULE!H114","v":488.88888888888886},{"$f":"ČLUNEK!H114","v":755.1114192063493},{"$f":"LEHSED!H114","v":0},{"$f":"ODBÍJENÍ!H114","v":0},{"$f":"PLAVÁNÍ!H114","v":0},{"$f":"ŠPLH!H114","v":0},{"$f":"ŠVIHADLO!H114","v":0},{"$f":"'Z MÍSTA'!H114","v":0},{"$f":"REPRE!E17","v":0},4096.4828658827109]
[null,{"$f":"'60'!B115","v":"AUERSWALD"},{"$f":"'60'!C115","v":"Daniel"},{"$f":"'60'!D115","v":"6.B"},null,{"$f":"'60'!H115","v":741.70760052578362},{"$f":"'300'!H114","v":594.29908907741935},{"$f":"'1000'!H115","v":0},{"$f":"DÁLKA!H115","v":626.88599999999997},{"$f":"VÝŠKA!H115","v":628.36000000000013},{"$f":"MÍČEK!H115","v":312.5},{"$f":"KOULE!H115","v":473.88888888888886},{"$f":"ČLUNEK!H115","v":761.82264087384772},{"$f":"LEHSED!H115","v":0},{"$f":"ODBÍJENÍ!H115","v":152},{"$f":"PLAVÁNÍ!H115","v":0},{"$f":"ŠPLH!H115","v":0},{"$f":"ŠVIHADLO!H115","v":187.5},{"$f":"'Z MÍSTA'!H115","v":0},{"$f":"REPRE!E18","v":0},4478.9642193659392]
[null,{"$f":"'60'!B116","v":"BODLÁK"},{"$f":"'60'!C116","v":"Vladimír"},{"$f":"'60'!D116","v":"6.B"},null,{"$f":"'60'!H116","v":853.5742752324195},{"$f":"'300'!H115","v":881.77710427784405},{"$f":"'1000'!H116","v":0},{"$f":"DÁLKA!H116","v":0},{"$f":"VÝŠKA!H116","v":628.36000000000013},{"$f":"MÍČEK!H116","v":0},{"$f":"KOULE!H116","v":735.55555555555554},{"$f":"ČLUNEK!H116","v":923.6308112729796},{"$f":"LEHSED!H116","v":662.5},{"$f":"ODBÍJENÍ!H116","v":0},{"$f":"PLAVÁNÍ!H116","v":0},{"$f":"ŠPLH!H116","v":0},{"$f":"ŠVIHADLO!H116","v":312.5},{"$f":"'Z MÍSTA'!H116","v":114},{"$f":"REPRE!E19","v":0},5111.8977463387992]
[null,{"$f":"'60'!B117","v":"BUDÍN"},{"$f":"'60'!C117","v":"Martin"},{"$f":"'60'!D117","v":"6.B"},null,{"$f":"'60'!H117","v":707.61072363288713},{"$f":"'300'!H116","v":613.09700998092637},{"$f":"'1000'!H117","v":0},{"$f":"DÁLKA!H117","v":595.76400000000001},{"$f":"VÝŠKA!H117","v":513.96},{"$f":"MÍČEK!H117","v":387.5},{"$f":"KOULE!H117","v":393.33333333333331},{"$f":"ČLUNEK!H117","v":780.32150748188769},{"$f":"LEHSED!H117","v":375},{"$f":"ODBÍJENÍ!H117","v":72},{"$f":"PLAVÁNÍ!H117","v":0},{"$f":"ŠPLH!H117","v":0},{"$f":"ŠVIHADLO!H117","v":500},{"$f":"'Z MÍSTA'!H117","v":570},{"$f":"REPRE!E20","v":0},5508.586574429035]
[null,{"$f":"'60'!B118","v":"DVOŘÁK"},{"$f":"'60'!C118","v":"Dominik"},{"$f":"'60'!D118","v":"6.B"},null,{"$f":"'60'!H118","v":651.31558557093422},{"$f":"'300'!H117","v":0},{"$f":"'1000'!H118","v":0},{"$f":"DÁLKA!H118","v":477.20400000000001},{"$f":"VÝŠKA!H118","v":411},{"$f":"MÍČEK!H118","v":0},{"$f":"KOULE!H118","v":0},{"$f":"ČLUNEK!H118","v":707.77734601954637},{"$f":"LEHSED!H118","v":0},{"$f":"ODBÍJENÍ!H118","v":0},{"$f":"PLAVÁNÍ!H118","v":0},{"$f":"ŠPLH!H118","v":0},{"$f":"ŠVIHADLO!H118","v":0},{"$f":"'Z MÍSTA'!H118","v":0},{"$f":"REPRE!E21","v":0},2247.2969315904807]
[null,{"$f":"'60'!B119","v":"FIŠERA"},{"$f":"'60'!C119","v":"Vojtěch"},{"$f":"'60'!D119","v":"6.B"},null,{"$f":"'60'!H119","v":708.74407750957857},{"$f":"'300'!H118","v":632.86261664426138},{"$f":"'1000'!H119","v":0},{"$f":"DÁLKA!H119","v":589.83600000000001},{"$f":"VÝŠKA!H119","v":542.56000000000006},{"$f":"MÍČEK!H119","v":237.5},{"$f":"KOULE!H119","v":500},{"$f":"ČLUNEK!H119","v":733.43523229642585},{"$f":"LEHSED!H119","v":325},{"$f":"ODBÍJENÍ!H119","v":96},{"$f":"PLAVÁNÍ!H119","v":0},{"$f":"ŠPLH!H119","v":0},{"$f":"ŠVIHADLO!H119","v":568.75},{"$f":"'Z MÍSTA'!H119","v":494},{"$f":"REPRE!E22","v":0},5428.6879264502659]
[null,{"$f":"'60'!B120","v":"JINDŘIŠEK"},{"$f":"'60'!C120","v":"Vít"},{"$f":"'60'!D120","v":"6.B"},null,{"$f":"'60'!H120","v":821.61552670467506},{"$f":"'300'!H119","v":0},{"$f":"'1000'!H120","v":0},{"$f":"DÁLKA!H120","v":675.79200000000003},{"$f":"VÝŠKA!H120","v":439.6},{"$f":"MÍČEK!H120","v":525},{"$f":"KOULE!H120","v":0},{"$f":"ČLUNEK!H120","v":825.91374580729428},{"$f":"LEHSED!H120","v":500},{"$f":"ODBÍJENÍ!H120","v":224},{"$f":"PLAVÁNÍ!H120","v":0},{"$f":"ŠPLH!H120","v":0},{"$f":"ŠVIHADLO!H120","v":350},{"$f":"'Z MÍSTA'!H120","v":760},{"$f":"REPRE!E23","v":0},5121.9212725119687]
[null,{"$f":"'60'!B121","v":"JIROUŠ"},{"$f":"'60'!C121","v":"Matouš"},{"$f":"'60'!D121","v":"6.B"},null,{"$f":"'60'!H121","v":729.91350884920632},{"$f":"'300'!H120","v":0},{"$f":"'1000'!H121","v":0},{"$f":"DÁLKA!H121","v":638.74199999999996},{"$f":"VÝŠKA!H121","v":439.6},{"$f":"MÍČEK!H121","v":350},{"$f":"KOULE!H121","v":468.88888888888886},{"$f":"ČLUNEK!H121","v":819.68099260312442},{"$f":"LEHSED!H121","v":312.5},{"$f":"ODBÍJENÍ!H121","v":152},{"$f":"PLAVÁNÍ!H121","v":0},{"$f":"ŠPLH!H121","v":0},{"$f":"ŠVIHADLO!H121","v":250},{"$f":"'Z MÍSTA'!H121","v":760},{"$f":"REPRE!E24","v":0},4921.3253903412196]
[null,{"$f":"'60'!B122","v":"KERLE"},{"$f":"'60'!C122","v":"Marek"},{"$f":"'60'!D122","v":"6.B"},null,{"$f":"'60'!H122","v":697.60227154135328},{"$f":"'300'!H121","v":685.9413855191259},{"$f":"'1000'!H122","v":0},{"$f":"DÁLKA!H122","v":586.87199999999996},{"$f":"VÝŠKA!H122","v":571.16000000000008},{"$f":"MÍČEK!H122","v":0},{"$f":"KOULE!H122","v":542.22222222222217},{"$f":"ČLUNEK!H122","v":794.22813569272967},{"$f":"LEHSED!H122","v":600},{"$f":"ODBÍJENÍ!H122","v":176},{"$f":"PLAVÁNÍ!H122","v":0},{"$f":"ŠPLH!H122","v":0},{"$f":"ŠVIHADLO!H122","v":231.25},{"$f":"'Z MÍSTA'!H122","v":600.4},{"$f":"REPRE!E25","v":0},5485.67601497543]
[null,{"$f":"'60'!B123","v":"LUKEŠ"},{"$f":"'60'!C123","v":"Jakub"},{"$f":"'60'!D123","v":"6.B"},null,{"$f":"'60'!H123","v":719.14309641325542},{"$f":"'300'!H122","v":680.65443244729283},{"$f":"'1000'!H123","v":0},{"$f":"DÁLKA!H123","v":561.678},{"$f":"VÝŠKA!H123","v":542.56000000000006},{"$f":"MÍČEK!H123","v":262.5},{"$f":"KOULE!H123","v":470.55555555555554},{"$f":"ČLUNEK!H123","v":822.7911821996903},{"$f":"LEHSED!H123","v":375},{"$f":"ODBÍJENÍ!H123","v":96},{"$f":"PLAVÁNÍ!H123","v":0},{"$f":"ŠPLH!H123","v":0},{"$f":"ŠVIHADLO!H123","v":406.25},{"$f":"'Z MÍSTA'!H123","v":722},{"$f":"REPRE!E26","v":0},5659.1322666157939]
[null,{"$f":"'60'!B124","v":"OTT"},{"$f":"'60'!C124","v":"Matyáš"},{"$f":"'60'!D124","v":"6.B"},null,{"$f":"'60'!H124","v":678.56801538181821},{"$f":"'300'!H123","v":478.9375550137355},{"$f":"'1000'!H124","v":0},{"$f":"DÁLKA!H124","v":566.12400000000002},{"$f":"VÝŠKA!H124","v":542.56000000000006},{"$f":"MÍČEK!H124","v":362.5},{"$f":"KOULE!H124","v":427.77777777777777},{"$f":"ČLUNEK!H124","v":762.78587780442331},{"$f":"LEHSED!H124","v":0},{"$f":"ODBÍJENÍ!H124","v":88},{"$f":"PLAVÁNÍ!H124","v":0},{"$f":"ŠPLH!H124","v":0},{"$f":"ŠVIHADLO!H124","v":0},{"$f":"'Z MÍSTA'!H124","v":0},{"$f":"REPRE!E27","v":0},3907.2532259777549]
[null,{"$f":"'60'!B125","v":"POKORNÝ"},{"$f":"'60'!C125","v":"Matyáš"},{"$f":"'60'!D125","v":"6.B"},null,{"$f":"'60'!H125","v":808.19778178970921},{"$f":"'300'!H124","v":809.65765948527405},{"$f":"'1000'!H125","v":0},{"$f":"DÁLKA!H125","v":0},{"$f":"VÝŠKA!H125","v":571.16000000000008},{"$f":"MÍČEK!H125","v":537.5},{"$f":"KOULE!H125","v":461.11111111111109},{"$f":"ČLUNEK!H125","v":882.13528896690059},{"$f":"LEHSED!H125","v":0},{"$f":"ODBÍJENÍ!H125","v":176},{"$f":"PLAVÁNÍ!H125","v":0},{"$f":"ŠPLH!H125","v":0},{"$f":"ŠVIHADLO!H125","v":0},{"$f":"'Z MÍSTA'!H125","v":0},{"$f":"REPRE!E28","v":0},4245.7618413529954]
[null,{"$f":"'60'!B126","v":"POLÁČEK"},{"$f":"'60'!C126","v":"Matyáš"},{"$f":"'60'!D126","v":"6.B"},null,{"$f":"'60'!H126","v":654.57686416013928},{"$f":"'300'!H125","v":421.95834938069231},{"$f":"'1000'!H126","v":0},{"$f":"DÁLKA!H126","v":529.07399999999996},{"$f":"VÝŠKA!H126","v":513.96},{"$f":"MÍČEK!H126","v":425},{"$f":"KOULE!H126","v":502.77777777777777},{"$f":"ČLUNEK!H126","v":687.25683131707922},{"$f":"LEHSED!H126","v":0},{"$f":"ODBÍJENÍ!H126","v":80},{"$f":"PLAVÁNÍ!H126","v":0},{"$f":"ŠPLH!H126","v":0},{"$f":"ŠVIHADLO!H126","v":0},{"$f":"'Z MÍSTA'!H126","v":0},{"$f":"REPRE!E29","v":0},3814.6038226356886]
[null,{"$f":"'60'!B127","v":"SOUKUP"},{"$f":"'60'!C127","v":"Patrik"},{"$f":"'60'!D127","v":"6.B"},null,{"$f":"'60'!H127","v":729.30507127849353},{"$f":"'300'!H126","v":686.49155394383092},{"$f":"'1000'!H127","v":0},{"$f":"DÁLKA!H127","v":603.17399999999998},{"$f":"VÝŠKA!H127","v":542.56000000000006},{"$f":"MÍČEK!H127","v":375},{"$f":"KOULE!H127","v":472.22222222222223},{"$f":"ČLUNEK!H127","v":845.985323149946},{"$f":"LEHSED!H127","v":337.5},{"$f":"ODBÍJENÍ!H127","v":88},{"$f":"PLAVÁNÍ!H127","v":0},{"$f":"ŠPLH!H127","v":0},{"$f":"ŠVIHADLO!H127","v":593.75},{"$f":"'Z MÍSTA'!H127","v":760},{"$f":"REPRE!E30","v":0},6033.9881705944927]
[null,{"$f":"'60'!B128","v":"VALENTA"},{"$f":"'60'!C128","v":"Jakub"},{"$f":"'60'!D128","v":"6.B"},null,{"$f":"'60'!H128","v":720.32111027343751},{"$f":"'300'!H127","v":0},{"$f":"'1000'!H128","v":0},{"$f":"DÁLKA!H128","v":0},{"$f":"VÝŠKA!H128","v":628.36000000000013},{"$f":"MÍČEK!H128","v":325},{"$f":"KOULE!H128","v":455.55555555555554},{"$f":"ČLUNEK!H128","v":810.42346895015305},{"$f":"LEHSED!H128","v":612.5},{"$f":"ODBÍJENÍ!H128","v":0},{"$f":"PLAVÁNÍ!H128","v":0},{"$f":"ŠPLH!H128","v":0},{"$f":"ŠVIHADLO!H128","v":475},{"$f":"'Z MÍSTA'!H128","v":0},{"$f":"REPRE!E31","v":0},4027.1601347791466]
[null,{"$f":"'60'!B129","v":"VRBATA"},{"$f":"'60'!C129","v":"Dominik"},{"$f":"'60'!D129","v":"6.B"},null,{"$f":"'60'!H129","v":719.73152870243905},{"$f":"'300'!H128","v":621.1903985445233},{"$f":"'1000'!H129","v":0},{"$f":"DÁLKA!H129","v":613.548},{"$f":"VÝŠKA!H129","v":571.16000000000008},{"$f":"MÍČEK!H129","v":431.25},{"$f":"KOULE!H129","v":497.22222222222223},{"$f":"ČLUNEK!H129","v":822.7911821996903},{"$f":"LEHSED!H129","v":0},{"$f":"ODBÍJENÍ!H129","v":72},{"$f":"PLAVÁNÍ!H129","v":0},{"$f":"ŠPLH!H129","v":0},{"$f":"ŠVIHADLO!H129","v":0},{"$f":"'Z MÍSTA'!H129","v":0},{"$f":"REPRE!E32","v":0},4348.8933316688745]
[null,{"$f":"'60'!B130","v":"FEJKL"},{"$f":"'60'!C130","v":"Jan"},{"$f":"'60'!D130","v":"7.A"},null,{"$f":"'60'!H130","v":793.05122201312906},{"$f":"'300'!H129","v":0},{"$f":"'1000'!H130","v":0},{"$f":"DÁLKA!H130","v":800.28},{"$f":"VÝŠKA!H130","v":788.5200000000001},{"$f":"MÍČEK!H130","v":612.5},{"$f":"KOULE!H130","v":603.88888888888891},{"$f":"ČLUNEK!H130","v":0},{"$f":"LEHSED!H130","v":712.5},{"$f":"ODBÍJENÍ!H130","v":144},{"$f":"PLAVÁNÍ!H130","v":436.95443449696967},{"$f":"ŠPLH!H130","v":0},{"$f":"ŠVIHADLO!H130","v":262.5},{"$f":"'Z MÍSTA'!H130","v":760},{"$f":"REPRE!E33","v":0},5914.1945453989883]
[null,{"$f":"'60'!B131","v":"KOTYK"},{"$f":"'60'!C131","v":"Tadeáš"},{"$f":"'60'!D131","v":"7.A"},null,{"$f":"'60'!H131","v":694.34095039252338},{"$f":"'300'!H130","v":0},{"$f":"'1000'!H131","v":0},{"$f":"DÁLKA!H131","v":549.822},{"$f":"VÝŠKA!H131","v":582.60000000000014},{"$f":"MÍČEK!H131","v":250},{"$f":"KOULE!H131","v":510.55555555555554},{"$f":"ČLUNEK!H131","v":0},{"$f":"LEHSED!H131","v":437.5},{"$f":"ODBÍJENÍ!H131","v":56},{"$f":"PLAVÁNÍ!H131","v":0},{"$f":"ŠPLH!H131","v":0},{"$f":"ŠVIHADLO!H131","v":125},{"$f":"'Z MÍSTA'!H131","v":228},{"$f":"REPRE!E34","v":0},3433.8185059480793]
[null,{"$f":"'60'!B132","v":"KRAUSE"},{"$f":"'60'!C132","v":"Tadeáš"},{"$f":"'60'!D132","v":"7.A"},null,{"$f":"'60'!H132","v":726.88333358341561},{"$f":"'300'!H131","v":0},{"$f":"'1000'!H132","v":0},{"$f":"DÁLKA!H132","v":640.22400000000005},{"$f":"VÝŠKA!H132","v":611.20000000000005},{"$f":"MÍČEK!H132","v":368.75},{"$f":"KOULE!H132","v":478.88888888888886},{"$f":"ČLUNEK!H132","v":0},{"$f":"LEHSED!H132","v":675},{"$f":"ODBÍJENÍ!H132","v":144},{"$f":"PLAVÁNÍ!H132","v":0},{"$f":"ŠPLH!H132","v":0},{"$f":"ŠVIHADLO!H132","v":756.25},{"$f":"'Z MÍSTA'!H132","v":763.8},{"$f":"REPRE!E35","v":0},5164.9962224723049]
[null,{"$f":"'60'!B133","v":"LEŠÁK"},{"$f":"'60'!C133","v":"Martin"},{"$f":"'60'!D133","v":"7.A"},null,{"$f":"'60'!H133","v":685.296059724011},{"$f":"'300'!H132","v":0},{"$f":"'1000'!H133","v":0},{"$f":"DÁLKA!H133","v":0},{"$f":"VÝŠKA!H133","v":548.28000000000009},{"$f":"MÍČEK!H133","v":318.75},{"$f":"KOULE!H133","v":501.66666666666663},{"$f":"ČLUNEK!H133","v":0},{"$f":"LEHSED!H133","v":187.5},{"$f":"ODBÍJENÍ!H133","v":56},{"$f":"PLAVÁNÍ!H133","v":0},{"$f":"ŠPLH!H133","v":0},{"$f":"ŠVIHADLO!H133","v":187.5},{"$f":"'Z MÍSTA'!H133","v":0},{"$f":"REPRE!E36","v":0},{"$f":"SUM(F67:T67)","v":2484.9927263906775}]
[null,{"$f":"'60'!B134","v":"NECHANICKÝ"},{"$f":"'60'!C134","v":"David"},{"$f":"'60'!D134","v":"7.A"},null,{"$f":"'60'!H134","v":757.26924033160617},{"$f":"'300'!H133","v":0},{"$f":"'1000'!H134","v":0},{"$f":"DÁLKA!H134","v":660.97199999999998},{"$f":"VÝŠKA!H134","v":639.80000000000007},{"$f":"MÍČEK!H134","v":387.5},{"$f":"KOULE!H134","v":0},{"$f":"ČLUNEK!H134","v":0},{"$f":"LEHSED!H134","v":0},{"$f":"ODBÍJENÍ!H134","v":176},{"$f":"PLAVÁNÍ!H134","v":436.95443449696967},{"$f":"ŠPLH!H134","v":0},{"$f":"ŠVIHADLO!H134","v":0},{"$f":"'Z MÍSTA'!H134","v":0},{"$f":"REPRE!E37","v":0},3058.4956748285758]
[null,{"$f":"'60'!B135","v":"ŘEHOŘEK"},{"$f":"'60'!C135","v":"Jan"},{"$f":"'60'!D135","v":"7.A"},null,{"$f":"'60'!H135","v":763.98410148691096},{"$f":"'300'!H134","v":0},{"$f":"'1000'!H135","v":0},{"$f":"DÁLKA!H135","v":647.63400000000001},{"$f":"VÝŠKA!H135","v":668.4},{"$f":"MÍČEK!H135","v":525},{"$f":"KOULE!H135","v":460},{"$f":"ČLUNEK!H135","v":0},{"$f":"LEHSED!H135","v":325},{"$f":"ODBÍJENÍ!H135","v":336},{"$f":"PLAVÁNÍ!H135","v":436.95443449696967},{"$f":"ŠPLH!H135","v":0},{"$f":"ŠVIHADLO!H135","v":718.75},{"$f":"'Z MÍSTA'!H135","v":0},{"$f":"REPRE!E38","v":0},4881.7225359838803]
[null,{"$f":"'60'!B136","v":"SOUKUP"},{"$f":"'60'!C136","v":"Ondřej"},{"$f":"'60'!D136","v":"7.A"},null,{"$f":"'60'!H136","v":734.82481691999999},{"$f":"'300'!H135","v":0},{"$f":"'1000'!H136","v":0},{"$f":"DÁLKA!H136","v":576.49800000000005},{"$f":"VÝŠKA!H136","v":582.60000000000014},{"$f":"MÍČEK!H136","v":0},{"$f":"KOULE!H136","v":0},{"$f":"ČLUNEK!H136","v":0},{"$f":"LEHSED!H136","v":587.5},{"$f":"ODBÍJENÍ!H136","v":176},{"$f":"PLAVÁNÍ!H136","v":0},{"$f":"ŠPLH!H136","v":0},{"$f":"ŠVIHADLO!H136","v":0},{"$f":"'Z MÍSTA'!H136","v":0},{"$f":"REPRE!E39","v":0},2657.4228169200005]
[null,{"$f":"'60'!B137","v":"SPANILÝ"},{"$f":"'60'!C137","v":"David"},{"$f":"'60'!D137","v":"7.A"},null,{"$f":"'60'!H137","v":747.45389481632651},{"$f":"'300'!H136","v":0},{"$f":"'1000'!H137","v":0},{"$f":"DÁLKA!H137","v":0},{"$f":"VÝŠKA!H137","v":0},{"$f":"MÍČEK!H137","v":587.5},{"$f":"KOULE!H137","v":481.66666666666663},{"$f":"ČLUNEK!H137","v":0},{"$f":"LEHSED!H137","v":675},{"$f":"ODBÍJENÍ!H137","v":336},{"$f":"PLAVÁNÍ!H137","v":436.95443449696967},{"$f":"ŠPLH!H137","v":0},{"$f":"ŠVIHADLO!H137","v":662.5},{"$f":"'Z MÍSTA'!H137","v":752.4},{"$f":"REPRE!E40","v":0},4679.4749959799628]
[null,{"$f":"'60'!B138","v":"ČADAN"},{"$f":"'60'!C138","v":"Benjamín"},{"$f":"'60'!D138","v":"7.B"},null,{"$f":"'60'!H138","v":0},{"$f":"'300'!H137","v":0},{"$f":"'1000'!H138","v":0},{"$f":"DÁLKA!H138","v":603.17399999999998},{"$f":"VÝŠKA!H138","v":605.48},{"$f":"MÍČEK!H138","v":325},{"$f":"KOULE!H138","v":466.66666666666663},{"$f":"ČLUNEK!H138","v":0},{"$f":"LEHSED!H138","v":0},{"$f":"ODBÍJENÍ!H138","v":80},{"$f":"PLAVÁNÍ!H138","v":0},{"$f":"ŠPLH!H138","v":0},{"$f":"ŠVIHADLO!H138","v":0},{"$f":"'Z MÍSTA'!H138","v":0},{"$f":"REPRE!E41","v":0},2080.3206666666665]
[null,{"$f":"'60'!B139","v":"ČERNÝ"},{"$f":"'60'!C139","v":"Michal"},{"$f":"'60'!D139","v":"7.B"},null,{"$f":"'60'!H139","v":713.32125185328186},{"$f":"'300'!H138","v":0},{"$f":"'1000'!H139","v":0},{"$f":"DÁLKA!H139","v":529.07399999999996},{"$f":"VÝŠKA!H139","v":548.28000000000009},{"$f":"MÍČEK!H139","v":493.75},{"$f":"KOULE!H139","v":463.88888888888886},{"$f":"ČLUNEK!H139","v":0},{"$f":"LEHSED!H139","v":0},{"$f":"ODBÍJENÍ!H139","v":120},{"$f":"PLAVÁNÍ!H139","v":0},{"$f":"ŠPLH!H139","v":0},{"$f":"ŠVIHADLO!H139","v":0},{"$f":"'Z MÍSTA'!H139","v":0},{"$f":"REPRE!E42","v":0},2868.3141407421708]
[null,{"$f":"'60'!B140","v":"DOLEJŠÍ"},{"$f":"'60'!C140","v":"David"},{"$f":"'60'!D140","v":"7.B"},null,{"$f":"'60'!H140","v":673.49983506306307},{"$f":"'300'!H139","v":0},{"$f":"'1000'!H140","v":0},{"$f":"DÁLKA!H140","v":560.19600000000003},{"$f":"VÝŠKA!H140","v":639.80000000000007},{"$f":"MÍČEK!H140","v":262.5},{"$f":"KOULE!H140","v":516.66666666666663},{"$f":"ČLUNEK!H140","v":0},{"$f":"LEHSED!H140","v":562.5},{"$f":"ODBÍJENÍ!H140","v":64},{"$f":"PLAVÁNÍ!H140","v":0},{"$f":"ŠPLH!H140","v":0},{"$f":"ŠVIHADLO!H140","v":362.5},{"$f":"'Z MÍSTA'!H140","v":577.6},{"$f":"REPRE!E43","v":0},4219.2625017297296]
[null,{"$f":"'60'!B141","v":"NOVÁK"},{"$f":"'60'!C141","v":"Matěj"},{"$f":"'60'!D141","v":"7.B"},null,{"$f":"'60'!H141","v":707.0456704106972},{"$f":"'300'!H140","v":0},{"$f":"'1000'!H141","v":0},{"$f":"DÁLKA!H141","v":588.35400000000004},{"$f":"VÝŠKA!H141","v":582.60000000000014},{"$f":"MÍČEK!H141","v":381.25},{"$f":"KOULE!H141","v":463.33333333333331},{"$f":"ČLUNEK!H141","v":0},{"$f":"LEHSED!H141","v":0},{"$f":"ODBÍJENÍ!H141","v":64},{"$f":"PLAVÁNÍ!H141","v":0},{"$f":"ŠPLH!H141","v":0},{"$f":"ŠVIHADLO!H141","v":425},{"$f":"'Z MÍSTA'!H141","v":642.19999999999993},{"$f":"REPRE!E44","v":0},3853.7830037440303]
[null,{"$f":"'60'!B142","v":"POVAŽANEC"},{"$f":"'60'!C142","v":"Martin"},{"$f":"'60'!D142","v":"7.B"},null,{"$f":"'60'!H142","v":743.61137618661257},{"$f":"'300'!H141","v":0},{"$f":"'1000'!H142","v":0},{"$f":"DÁLKA!H142","v":660.97199999999998},{"$f":"VÝŠKA!H142","v":611.20000000000005},{"$f":"MÍČEK!H142","v":506.25},{"$f":"KOULE!H142","v":645},{"$f":"ČLUNEK!H142","v":0},{"$f":"LEHSED!H142","v":0},{"$f":"ODBÍJENÍ!H142","v":64},{"$f":"PLAVÁNÍ!H142","v":0},{"$f":"ŠPLH!H142","v":0},{"$f":"ŠVIHADLO!H142","v":0},{"$f":"'Z MÍSTA'!H142","v":0},{"$f":"REPRE!E45","v":0},3231.0333761866123]
[null,{"$f":"'60'!B143","v":"RICHTER"},{"$f":"'60'!C143","v":"Jakub"},{"$f":"'60'!D143","v":"7.B"},null,{"$f":"'60'!H143","v":0},{"$f":"'300'!H142","v":0},{"$f":"'1000'!H143","v":0},{"$f":"DÁLKA!H143","v":0},{"$f":"VÝŠKA!H143","v":0},{"$f":"MÍČEK!H143","v":287.5},{"$f":"KOULE!H143","v":0},{"$f":"ČLUNEK!H143","v":0},{"$f":"LEHSED!H143","v":250},{"$f":"ODBÍJENÍ!H143","v":0},{"$f":"PLAVÁNÍ!H143","v":0},{"$f":"ŠPLH!H143","v":0},{"$f":"ŠVIHADLO!H143","v":0},{"$f":"'Z MÍSTA'!H143","v":0},{"$f":"REPRE!E46","v":0},537.5]
[null,{"$f":"'60'!B144","v":"ROZUMEK"},{"$f":"'60'!C144","v":"Adam"},{"$f":"'60'!D144","v":"7.B"},null,{"$f":"'60'!H144","v":0},{"$f":"'300'!H143","v":0},{"$f":"'1000'!H144","v":0},{"$f":"DÁLKA!H144","v":515.73599999999999},{"$f":"VÝŠKA!H144","v":548.28000000000009},{"$f":"MÍČEK!H144","v":475},{"$f":"KOULE!H144","v":595.55555555555554},{"$f":"ČLUNEK!H144","v":0},{"$f":"LEHSED!H144","v":0},{"$f":"ODBÍJENÍ!H144","v":208},{"$f":"PLAVÁNÍ!H144","v":0},{"$f":"ŠPLH!H144","v":0},{"$f":"ŠVIHADLO!H144","v":0},{"$f":"'Z MÍSTA'!H144","v":0},{"$f":"REPRE!E47","v":0},2342.5715555555557]
[null,{"$f":"'60'!B145","v":"VALENTA"},{"$f":"'60'!C145","v":"František"},{"$f":"'60'!D145","v":"7.B"},null,{"$f":"'60'!H145","v":682.68939278388279},{"$f":"'300'!H144","v":0},{"$f":"'1000'!H145","v":0},{"$f":"DÁLKA!H145","v":515.73599999999999},{"$f":"VÝŠKA!H145","v":582.60000000000014},{"$f":"MÍČEK!H145","v":250},{"$f":"KOULE!H145","v":513.33333333333337},{"$f":"ČLUNEK!H145","v":0},{"$f":"LEHSED!H145","v":0},{"$f":"ODBÍJENÍ!H145","v":120},{"$f":"PLAVÁNÍ!H145","v":0},{"$f":"ŠPLH!H145","v":0},{"$f":"ŠVIHADLO!H145","v":0},{"$f":"'Z MÍSTA'!H145","v":0},{"$f":"REPRE!E48","v":0},2664.3587261172161]
[null,{"$f":"'60'!B146","v":"ZAPLATÍLEK"},{"$f":"'60'!C146","v":"Josef"},{"$f":"'60'!D146","v":"7.B"},null,{"$f":"'60'!H146","v":733.58963764471059},{"$f":"'300'!H145","v":0},{"$f":"'1000'!H146","v":0},{"$f":"DÁLKA!H146","v":0},{"$f":"VÝŠKA!H146","v":582.60000000000014},{"$f":"MÍČEK!H146","v":450},{"$f":"KOULE!H146","v":467.22222222222223},{"$f":"ČLUNEK!H146","v":0},{"$f":"LEHSED!H146","v":0},{"$f":"ODBÍJENÍ!H146","v":208},{"$f":"PLAVÁNÍ!H146","v":0},{"$f":"ŠPLH!H146","v":0},{"$f":"ŠVIHADLO!H146","v":0},{"$f":"'Z MÍSTA'!H146","v":0},{"$f":"REPRE!E49","v":0},2441.4118598669329]
[null,{"$f":"'60'!B147","v":"ERBEN"},{"$f":"'60'!C147","v":"Viktor"},{"$f":"'60'!D147","v":"8.A"},null,{"$f":"'60'!H147","v":709.31238439117942},{"$f":"'300'!H146","v":520.97744533078219},{"$f":"'1000'!H147","v":0},{"$f":"DÁLKA!H147","v":0},{"$f":"VÝŠKA!H147","v":605.48},{"$f":"MÍČEK!H147","v":262.5},{"$f":"KOULE!H147","v":490.55555555555554},{"$f":"ČLUNEK!H147","v":767.61913662886002},{"$f":"LEHSED!H147","v":350},{"$f":"ODBÍJENÍ!H147","v":232},{"$f":"PLAVÁNÍ!H147","v":0},{"$f":"ŠPLH!H147","v":0},{"$f":"ŠVIHADLO!H147","v":0},{"$f":"'Z MÍSTA'!H147","v":623.19999999999993},{"$f":"REPRE!E50","v":0},4561.6445219063771]
[null,{"$f":"'60'!B148","v":"FRANC"},{"$f":"'60'!C148","v":"Daniel"},{"$f":"'60'!D148","v":"8.A"},null,{"$f":"'60'!H148","v":673.49983506306307},{"$f":"'300'!H147","v":0},{"$f":"'1000'!H148","v":0},{"$f":"DÁLKA!H148","v":564.64199999999994},{"$f":"VÝŠKA!H148","v":605.48},{"$f":"MÍČEK!H148","v":325},{"$f":"KOULE!H148","v":0},{"$f":"ČLUNEK!H148","v":679.35523936763025},{"$f":"LEHSED!H148","v":0},{"$f":"ODBÍJENÍ!H148","v":104},{"$f":"PLAVÁNÍ!H148","v":0},{"$f":"ŠPLH!H148","v":0},{"$f":"ŠVIHADLO!H148","v":0},{"$f":"'Z MÍSTA'!H148","v":600.4},{"$f":"REPRE!E51","v":0},3552.3770744306935]
[null,{"$f":"'60'!B149","v":"JINDŘIŠEK"},{"$f":"'60'!C149","v":"Matyáš"},{"$f":"'60'!D149","v":"8.A"},null,{"$f":"'60'!H149","v":0},{"$f":"'300'!H148","v":743.75072176931212},{"$f":"'1000'!H149","v":0},{"$f":"DÁLKA!H149","v":0},{"$f":"VÝŠKA!H149","v":628.36000000000013},{"$f":"MÍČEK!H149","v":0},{"$f":"KOULE!H149","v":643.88888888888891},{"$f":"ČLUNEK!H149","v":873.21399850009198},{"$f":"LEHSED!H149","v":512.5},{"$f":"ODBÍJENÍ!H149","v":224},{"$f":"PLAVÁNÍ!H149","v":0},{"$f":"ŠPLH!H149","v":0},{"$f":"ŠVIHADLO!H149","v":493.75},{"$f":"'Z MÍSTA'!H149","v":779},{"$f":"REPRE!E52","v":0},4898.4636091582934]
[null,{"$f":"'60'!B150","v":"KOLAČNÝ"},{"$f":"'60'!C150","v":"Štěpán"},{"$f":"'60'!D150","v":"8.A"},null,{"$f":"'60'!H150","v":692.18698037243951},{"$f":"'300'!H149","v":454.71741921226044},{"$f":"'1000'!H150","v":0},{"$f":"DÁLKA!H150","v":566.12400000000002},{"$f":"VÝŠKA!H150","v":548.28000000000009},{"$f":"MÍČEK!H150","v":312.5},{"$f":"KOULE!H150","v":600.55555555555554},{"$f":"ČLUNEK!H150","v":794.22813569272967},{"$f":"LEHSED!H150","v":537.5},{"$f":"ODBÍJENÍ!H150","v":152},{"$f":"PLAVÁNÍ!H150","v":0},{"$f":"ŠPLH!H150","v":0},{"$f":"ŠVIHADLO!H150","v":0},{"$f":"'Z MÍSTA'!H150","v":684},{"$f":"REPRE!E53","v":0},5342.0920908329854]
[null,{"$f":"'60'!B151","v":"KRISTAN"},{"$f":"'60'!C151","v":"Jáchym"},{"$f":"'60'!D151","v":"8.A"},null,{"$f":"'60'!H151","v":541.0170445879121},{"$f":"'300'!H150","v":259.34357530173838},{"$f":"'1000'!H151","v":0},{"$f":"DÁLKA!H151","v":0},{"$f":"VÝŠKA!H151","v":485.36000000000007},{"$f":"MÍČEK!H151","v":187.5},{"$f":"KOULE!H151","v":372.22222222222223},{"$f":"ČLUNEK!H151","v":500.08272907977994},{"$f":"LEHSED!H151","v":0},{"$f":"ODBÍJENÍ!H151","v":96},{"$f":"PLAVÁNÍ!H151","v":0},{"$f":"ŠPLH!H151","v":0},{"$f":"ŠVIHADLO!H151","v":0},{"$f":"'Z MÍSTA'!H151","v":440.79999999999995},{"$f":"REPRE!E54","v":0},2882.3255711916527]
[null,{"$f":"'60'!B152","v":"NGUYEN"},{"$f":"'60'!C152","v":"David"},{"$f":"'60'!D152","v":"8.A"},null,{"$f":"'60'!H152","v":0},{"$f":"'300'!H151","v":0},{"$f":"'1000'!H152","v":0},{"$f":"DÁLKA!H152","v":0},{"$f":"VÝŠKA!H152","v":628.36000000000013},{"$f":"MÍČEK!H152","v":456.25},{"$f":"KOULE!H152","v":0},{"$f":"ČLUNEK!H152","v":876.54728539957136},{"$f":"LEHSED!H152","v":0},{"$f":"ODBÍJENÍ!H152","v":232},{"$f":"PLAVÁNÍ!H152","v":0},{"$f":"ŠPLH!H152","v":0},{"$f":"ŠVIHADLO!H152","v":0},{"$f":"'Z MÍSTA'!H152","v":874},{"$f":"REPRE!E55","v":0},3067.1572853995713]
[null,{"$f":"'60'!B153","v":"NOVOTNÝ"},{"$f":"'60'!C153","v":"Jan"},{"$f":"'60'!D153","v":"8.A"},null,{"$f":"'60'!H153","v":772.22992250265111},{"$f":"'300'!H152","v":809.19392737638987},{"$f":"'1000'!H153","v":0},{"$f":"DÁLKA!H153","v":662.45399999999995},{"$f":"VÝŠKA!H153","v":628.36000000000013},{"$f":"MÍČEK!H153","v":337.5},{"$f":"KOULE!H153","v":0},{"$f":"ČLUNEK!H153","v":865.49230109793598},{"$f":"LEHSED!H153","v":0},{"$f":"ODBÍJENÍ!H153","v":128},{"$f":"PLAVÁNÍ!H153","v":0},{"$f":"ŠPLH!H153","v":0},{"$f":"ŠVIHADLO!H153","v":0},{"$f":"'Z MÍSTA'!H153","v":0},{"$f":"REPRE!E56","v":0},4203.2301509769768]
[null,{"$f":"'60'!B154","v":"RÁB"},{"$f":"'60'!C154","v":"Adam"},{"$f":"'60'!D154","v":"8.A"},null,{"$f":"'60'!H154","v":625.32083697119344},{"$f":"'300'!H153","v":436.64032597157518},{"$f":"'1000'!H154","v":0},{"$f":"DÁLKA!H154","v":532.03800000000001},{"$f":"VÝŠKA!H154","v":508.24},{"$f":"MÍČEK!H154","v":318.75},{"$f":"KOULE!H154","v":611.66666666666663},{"$f":"ČLUNEK!H154","v":705.07324626159379},{"$f":"LEHSED!H154","v":0},{"$f":"ODBÍJENÍ!H154","v":96},{"$f":"PLAVÁNÍ!H154","v":0},{"$f":"ŠPLH!H154","v":0},{"$f":"ŠVIHADLO!H154","v":0},{"$f":"'Z MÍSTA'!H154","v":615.6},{"$f":"REPRE!E57","v":0},4449.3290758710291]
[null,{"$f":"'60'!B155","v":"REPASKÝ"},{"$f":"'60'!C155","v":"Jakub"},{"$f":"'60'!D155","v":"8.A"},null,{"$f":"'60'!H155","v":823.22836219428575},{"$f":"'300'!H154","v":765.54819227621533},{"$f":"'1000'!H155","v":0},{"$f":"DÁLKA!H155","v":0},{"$f":"VÝŠKA!H155","v":628.36000000000013},{"$f":"MÍČEK!H155","v":631.25},{"$f":"KOULE!H155","v":667.77777777777771},{"$f":"ČLUNEK!H155","v":916.55477960473399},{"$f":"LEHSED!H155","v":612.5},{"$f":"ODBÍJENÍ!H155","v":584},{"$f":"PLAVÁNÍ!H155","v":0},{"$f":"ŠPLH!H155","v":0},{"$f":"ŠVIHADLO!H155","v":912.5},{"$f":"'Z MÍSTA'!H155","v":809.4},{"$f":"REPRE!E58","v":0},7351.1191118530132]
[null,{"$f":"'60'!B156","v":"SKÁLA"},{"$f":"'60'!C156","v":"Jan"},{"$f":"'60'!D156","v":"8.A"},null,{"$f":"'60'!H156","v":823.22836219428575},{"$f":"'300'!H155","v":743.34024352376105},{"$f":"'1000'!H156","v":0},{"$f":"DÁLKA!H156","v":715.80600000000004},{"$f":"VÝŠKA!H156","v":628.36000000000013},{"$f":"MÍČEK!H156","v":375},{"$f":"KOULE!H156","v":688.33333333333337},{"$f":"ČLUNEK!H156","v":818.64699163860814},{"$f":"LEHSED!H156","v":0},{"$f":"ODBÍJENÍ!H156","v":120},{"$f":"PLAVÁNÍ!H156","v":0},{"$f":"ŠPLH!H156","v":0},{"$f":"ŠVIHADLO!H156","v":0},{"$f":"'Z MÍSTA'!H156","v":809.4},{"$f":"REPRE!E59","v":0},5722.1149306899879]
[null,{"$f":"'60'!B157","v":"ŠPULÁK"},{"$f":"'60'!C157","v":"Jakub"},{"$f":"'60'!D157","v":"8.A"},null,{"$f":"'60'!H157","v":747.45389481632651},{"$f":"'300'!H156","v":656.94073295988505},{"$f":"'1000'!H157","v":0},{"$f":"DÁLKA!H157","v":626.88599999999997},{"$f":"VÝŠKA!H157","v":628.36000000000013},{"$f":"MÍČEK!H157","v":562.5},{"$f":"KOULE!H157","v":661.66666666666663},{"$f":"ČLUNEK!H157","v":787.24474403557201},{"$f":"LEHSED!H157","v":337.5},{"$f":"ODBÍJENÍ!H157","v":144},{"$f":"PLAVÁNÍ!H157","v":0},{"$f":"ŠPLH!H157","v":0},{"$f":"ŠVIHADLO!H157","v":212.5},{"$f":"'Z MÍSTA'!H157","v":737.19999999999993},{"$f":"REPRE!E60","v":0},6102.2520384784502]
[null,{"$f":"'60'!B158","v":"VALENTA"},{"$f":"'60'!C158","v":"Tomáš"},{"$f":"'60'!D158","v":"8.A"},null,{"$f":"'60'!H158","v":872.50955613691929},{"$f":"'300'!H157","v":901.01884227829623},{"$f":"'1000'!H158","v":0},{"$f":"DÁLKA!H158","v":829.92},{"$f":"VÝŠKA!H158","v":628.36000000000013},{"$f":"MÍČEK!H158","v":662.5},{"$f":"KOULE!H158","v":766.66666666666663},{"$f":"ČLUNEK!H158","v":900.29761989277756},{"$f":"LEHSED!H158","v":612.5},{"$f":"ODBÍJENÍ!H158","v":584},{"$f":"PLAVÁNÍ!H158","v":0},{"$f":"ŠPLH!H158","v":0},{"$f":"ŠVIHADLO!H158","v":887.5},{"$f":"'Z MÍSTA'!H158","v":889.19999999999993},{"$f":"REPRE!E61","v":0},8534.4726849746603]
[null,{"$f":"'60'!B159","v":"VANCL"},{"$f":"'60'!C159","v":"Jiří"},{"$f":"'60'!D159","v":"8.A"},null,{"$f":"'60'!H159","v":757.93445738589196},{"$f":"'300'!H158","v":616.41237100857279},{"$f":"'1000'!H159","v":0},{"$f":"DÁLKA!H159","v":0},{"$f":"VÝŠKA!H159","v":605.48},{"$f":"MÍČEK!H159","v":387.5},{"$f":"KOULE!H159","v":583.88888888888891},{"$f":"ČLUNEK!H159","v":818.64699163860814},{"$f":"LEHSED!H159","v":0},{"$f":"ODBÍJENÍ!H159","v":256},{"$f":"PLAVÁNÍ!H159","v":0},{"$f":"ŠPLH!H159","v":0},{"$f":"ŠVIHADLO!H159","v":0},{"$f":"'Z MÍSTA'!H159","v":771.4},{"$f":"REPRE!E62","v":0},4797.2627089219623]
[null,{"$f":"'60'!B160","v":"VAŠÍČEK"},{"$f":"'60'!C160","v":"David"},{"$f":"'60'!D160","v":"8.A"},null,{"$f":"'60'!H160","v":0},{"$f":"'300'!H159","v":0},{"$f":"'1000'!H160","v":0},{"$f":"DÁLKA!H160","v":628.36799999999994},{"$f":"VÝŠKA!H160","v":0},{"$f":"MÍČEK!H160","v":406.25},{"$f":"KOULE!H160","v":0},{"$f":"ČLUNEK!H160","v":0},{"$f":"LEHSED!H160","v":0},{"$f":"ODBÍJENÍ!H160","v":248},{"$f":"PLAVÁNÍ!H160","v":0},{"$f":"ŠPLH!H160","v":0},{"$f":"ŠVIHADLO!H160","v":0},{"$f":"'Z MÍSTA'!H160","v":794.19999999999993},{"$f":"REPRE!E63","v":0},2076.8179999999998]
[null,{"$f":"'60'!B161","v":"ZOUHAR"},{"$f":"'60'!C161","v":"Ondřej"},{"$f":"'60'!D161","v":"8.A"},null,{"$f":"'60'!H161","v":819.21001922727271},{"$f":"'300'!H160","v":786.93469153005503},{"$f":"'1000'!H161","v":0},{"$f":"DÁLKA!H161","v":663.93600000000004},{"$f":"VÝŠKA!H161","v":605.48},{"$f":"MÍČEK!H161","v":437.5},{"$f":"KOULE!H161","v":520.55555555555554},{"$f":"ČLUNEK!H161","v":862.20664456486031},{"$f":"LEHSED!H161","v":0},{"$f":"ODBÍJENÍ!H161","v":248},{"$f":"PLAVÁNÍ!H161","v":0},{"$f":"ŠPLH!H161","v":0},{"$f":"ŠVIHADLO!H161","v":0},{"$f":"'Z MÍSTA'!H161","v":786.59999999999991},{"$f":"REPRE!E64","v":0},5730.4229108777436]
[null,{"$f":"'60'!B162","v":"ZUZÁNEK"},{"$f":"'60'!C162","v":"Filip"},{"$f":"'60'!D162","v":"8.A"},null,{"$f":"'60'!H162","v":732.35937940239046},{"$f":"'300'!H161","v":622.79411738408749},{"$f":"'1000'!H162","v":0},{"$f":"DÁLKA!H162","v":0},{"$f":"VÝŠKA!H162","v":628.36000000000013},{"$f":"MÍČEK!H162","v":306.25},{"$f":"KOULE!H162","v":533.33333333333337},{"$f":"ČLUNEK!H162","v":845.985323149946},{"$f":"LEHSED!H162","v":0},{"$f":"ODBÍJENÍ!H162","v":256},{"$f":"PLAVÁNÍ!H162","v":0},{"$f":"ŠPLH!H162","v":0},{"$f":"ŠVIHADLO!H162","v":0},{"$f":"'Z MÍSTA'!H162","v":725.8},{"$f":"REPRE!E65","v":0},4650.8821532697575]
[null,{"$f":"'60'!B163","v":"BRUMLICH"},{"$f":"'60'!C163","v":"Jan"},{"$f":"'60'!D163","v":"9.A"},null,{"$f":"'60'!H163","v":0},{"$f":"'300'!H162","v":785.37876083716401},{"$f":"'1000'!H163","v":0},{"$f":"DÁLKA!H163","v":0},{"$f":"VÝŠKA!H163","v":742.7600000000001},{"$f":"MÍČEK!H163","v":725},{"$f":"KOULE!H163","v":842.77777777777771},{"$f":"ČLUNEK!H163","v":0},{"$f":"LEHSED!H163","v":0},{"$f":"ODBÍJENÍ!H163","v":328},{"$f":"PLAVÁNÍ!H163","v":436.95443449696967},{"$f":"ŠPLH!H163","v":0},{"$f":"ŠVIHADLO!H163","v":0},{"$f":"'Z MÍSTA'!H163","v":0},{"$f":"REPRE!E66","v":0},3860.8709731119116]
[null,{"$f":"'60'!B164","v":"BUCHAR"},{"$f":"'60'!C164","v":"Jiří"},{"$f":"'60'!D164","v":"9.A"},null,{"$f":"'60'!H164","v":811.30878305617966},{"$f":"'300'!H163","v":772.2220729043479},{"$f":"'1000'!H164","v":0},{"$f":"DÁLKA!H164","v":726.18},{"$f":"VÝŠKA!H164","v":714.16000000000008},{"$f":"MÍČEK!H164","v":406.25},{"$f":"KOULE!H164","v":0},{"$f":"ČLUNEK!H164","v":0},{"$f":"LEHSED!H164","v":0},{"$f":"ODBÍJENÍ!H164","v":328},{"$f":"PLAVÁNÍ!H164","v":0},{"$f":"ŠPLH!H164","v":0},{"$f":"ŠVIHADLO!H164","v":0},{"$f":"'Z MÍSTA'!H164","v":0},{"$f":"REPRE!E67","v":0},3758.1208559605275]
[null,{"$f":"'60'!B165","v":"FAISTAUER"},{"$f":"'60'!C165","v":"Jiří"},{"$f":"'60'!D165","v":"9.A"},null,{"$f":"'60'!H165","v":0},{"$f":"'300'!H164","v":0},{"$f":"'1000'!H165","v":0},{"$f":"DÁLKA!H165","v":714.32399999999996},{"$f":"VÝŠKA!H165","v":656.96},{"$f":"MÍČEK!H165","v":550},{"$f":"KOULE!H165","v":600},{"$f":"ČLUNEK!H165","v":0},{"$f":"LEHSED!H165","v":0},{"$f":"ODBÍJENÍ!H165","v":0},{"$f":"PLAVÁNÍ!H165","v":0},{"$f":"ŠPLH!H165","v":0},{"$f":"ŠVIHADLO!H165","v":0},{"$f":"'Z MÍSTA'!H165","v":0},{"$f":"REPRE!E68","v":0},{"$f":"SUM(F99:T99)","v":2521.2840000000001}]
[null,{"$f":"'60'!B166","v":"FAISTAUER"},{"$f":"'60'!C166","v":"Roman"},{"$f":"'60'!D166","v":"9.A"},null,{"$f":"'60'!H166","v":863.37296729468608},{"$f":"'300'!H165","v":696.12591623434332},{"$f":"'1000'!H166","v":0},{"$f":"DÁLKA!H166","v":723.21600000000001},{"$f":"VÝŠKA!H166","v":685.56000000000006},{"$f":"MÍČEK!H166","v":650},{"$f":"KOULE!H166","v":728.33333333333337},{"$f":"ČLUNEK!H166","v":0},{"$f":"LEHSED!H166","v":0},{"$f":"ODBÍJENÍ!H166","v":248},{"$f":"PLAVÁNÍ!H166","v":0},{"$f":"ŠPLH!H166","v":0},{"$f":"ŠVIHADLO!H166","v":0},{"$f":"'Z MÍSTA'!H166","v":0},{"$f":"REPRE!E69","v":0},4594.6082168623625]
[null,{"$f":"'60'!B167","v":"FAJSTAVR"},{"$f":"'60'!C167","v":"Jakub"},{"$f":"'60'!D167","v":"9.A"},null,{"$f":"'60'!H167","v":802.05855534368072},{"$f":"'300'!H166","v":650.08180552976455},{"$f":"'1000'!H167","v":0},{"$f":"DÁLKA!H167","v":678.75599999999997},{"$f":"VÝŠKA!H167","v":611.20000000000005},{"$f":"MÍČEK!H167","v":0},{"$f":"KOULE!H167","v":735},{"$f":"ČLUNEK!H167","v":0},{"$f":"LEHSED!H167","v":600},{"$f":"ODBÍJENÍ!H167","v":0},{"$f":"PLAVÁNÍ!H167","v":511.96350321454543},{"$f":"ŠPLH!H167","v":0},{"$f":"ŠVIHADLO!H167","v":412.5},{"$f":"'Z MÍSTA'!H167","v":459.79999999999995},{"$f":"REPRE!E70","v":0},5461.3598640879909]
[null,{"$f":"'60'!B168","v":"FARSKÝ"},{"$f":"'60'!C168","v":"Vojtěch"},{"$f":"'60'!D168","v":"9.A"},null,{"$f":"'60'!H168","v":810.52841405162735},{"$f":"'300'!H167","v":0},{"$f":"'1000'!H168","v":0},{"$f":"DÁLKA!H168","v":748.41},{"$f":"VÝŠKA!H168","v":777.08},{"$f":"MÍČEK!H168","v":675},{"$f":"KOULE!H168","v":682.77777777777771},{"$f":"ČLUNEK!H168","v":0},{"$f":"LEHSED!H168","v":0},{"$f":"ODBÍJENÍ!H168","v":642},{"$f":"PLAVÁNÍ!H168","v":0},{"$f":"ŠPLH!H168","v":0},{"$f":"ŠVIHADLO!H168","v":0},{"$f":"'Z MÍSTA'!H168","v":0},{"$f":"REPRE!E71","v":0},4335.796191829405]
[null,{"$f":"'60'!B169","v":"HOLUBEC"},{"$f":"'60'!C169","v":"Lukáš"},{"$f":"'60'!D169","v":"9.A"},null,{"$f":"'60'!H169","v":0},{"$f":"'300'!H168","v":0},{"$f":"'1000'!H169","v":0},{"$f":"DÁLKA!H169","v":601.69200000000001},{"$f":"VÝŠKA!H169","v":628.36000000000013},{"$f":"MÍČEK!H169","v":437.5},{"$f":"KOULE!H169","v":646.11111111111109},{"$f":"ČLUNEK!H169","v":0},{"$f":"LEHSED!H169","v":0},{"$f":"ODBÍJENÍ!H169","v":120},{"$f":"PLAVÁNÍ!H169","v":0},{"$f":"ŠPLH!H169","v":0},{"$f":"ŠVIHADLO!H169","v":0},{"$f":"'Z MÍSTA'!H169","v":0},{"$f":"REPRE!E72","v":0},2433.663111111111]
[null,{"$f":"'60'!B170","v":"CHAROUZ"},{"$f":"'60'!C170","v":"Vojtěch"},{"$f":"'60'!D170","v":"9.A"},null,{"$f":"'60'!H170","v":802.05855534368072},{"$f":"'300'!H169","v":715.57906906727692},{"$f":"'1000'!H170","v":0},{"$f":"DÁLKA!H170","v":711.36},{"$f":"VÝŠKA!H170","v":725.6},{"$f":"MÍČEK!H170","v":375},{"$f":"KOULE!H170","v":611.11111111111109},{"$f":"ČLUNEK!H170","v":0},{"$f":"LEHSED!H170","v":0},{"$f":"ODBÍJENÍ!H170","v":152},{"$f":"PLAVÁNÍ!H170","v":0},{"$f":"ŠPLH!H170","v":0},{"$f":"ŠVIHADLO!H170","v":0},{"$f":"'Z MÍSTA'!H170","v":0},{"$f":"REPRE!E73","v":0},4092.7087355220683]
[null,{"$f":"'60'!B171","v":"IACCHERI"},{"$f":"'60'!C171","v":"Carlo"},{"$f":"'60'!D171","v":"9.A"},null,{"$f":"'60'!H171","v":783.556436806904},{"$f":"'300'!H170","v":680.29189583740799},{"$f":"'1000'!H171","v":0},{"$f":"DÁLKA!H171","v":613.548},{"$f":"VÝŠKA!H171","v":628.36000000000013},{"$f":"MÍČEK!H171","v":0},{"$f":"KOULE!H171","v":670},{"$f":"ČLUNEK!H171","v":0},{"$f":"LEHSED!H171","v":0},{"$f":"ODBÍJENÍ!H171","v":0},{"$f":"PLAVÁNÍ!H171","v":436.95443449696967},{"$f":"ŠPLH!H171","v":0},{"$f":"ŠVIHADLO!H171","v":0},{"$f":"'Z MÍSTA'!H171","v":703},{"$f":"REPRE!E74","v":0},4515.7107671412814]
[null,{"$f":"'60'!B172","v":"JOHN"},{"$f":"'60'!C172","v":"Adrian"},{"$f":"'60'!D172","v":"9.A"},null,{"$f":"'60'!H172","v":553.02317579096052},{"$f":"'300'!H171","v":0},{"$f":"'1000'!H172","v":0},{"$f":"DÁLKA!H172","v":419.40600000000001},{"$f":"VÝŠKA!H172","v":399.56000000000006},{"$f":"MÍČEK!H172","v":250},{"$f":"KOULE!H172","v":501.11111111111109},{"$f":"ČLUNEK!H172","v":0},{"$f":"LEHSED!H172","v":375},{"$f":"ODBÍJENÍ!H172","v":128},{"$f":"PLAVÁNÍ!H172","v":0},{"$f":"ŠPLH!H172","v":0},{"$f":"ŠVIHADLO!H172","v":0},{"$f":"'Z MÍSTA'!H172","v":0},{"$f":"REPRE!E75","v":0},2626.1002869020713]
[null,{"$f":"'60'!B173","v":"KRČÍK"},{"$f":"'60'!C173","v":"Matthew"},{"$f":"'60'!D173","v":"9.A"},null,{"$f":"'60'!H173","v":780.68831033297522},{"$f":"'300'!H172","v":0},{"$f":"'1000'!H173","v":0},{"$f":"DÁLKA!H173","v":631.33199999999999},{"$f":"VÝŠKA!H173","v":656.96},{"$f":"MÍČEK!H173","v":0},{"$f":"KOULE!H173","v":632.22222222222217},{"$f":"ČLUNEK!H173","v":0},{"$f":"LEHSED!H173","v":0},{"$f":"ODBÍJENÍ!H173","v":0},{"$f":"PLAVÁNÍ!H173","v":511.96350321454543},{"$f":"ŠPLH!H173","v":0},{"$f":"ŠVIHADLO!H173","v":0},{"$f":"'Z MÍSTA'!H173","v":0},{"$f":"REPRE!E76","v":0},3213.1660357697428]
[null,{"$f":"'60'!B174","v":"KRESAN"},{"$f":"'60'!C174","v":"Vojtěch"},{"$f":"'60'!D174","v":"9.A"},null,{"$f":"'60'!H174","v":770.14885509513726},{"$f":"'300'!H173","v":0},{"$f":"'1000'!H174","v":0},{"$f":"DÁLKA!H174","v":609.10199999999998},{"$f":"VÝŠKA!H174","v":611.20000000000005},{"$f":"MÍČEK!H174","v":331.25},{"$f":"KOULE!H174","v":660},{"$f":"ČLUNEK!H174","v":0},{"$f":"LEHSED!H174","v":0},{"$f":"ODBÍJENÍ!H174","v":80},{"$f":"PLAVÁNÍ!H174","v":436.95443449696967},{"$f":"ŠPLH!H174","v":0},{"$f":"ŠVIHADLO!H174","v":0},{"$f":"'Z MÍSTA'!H174","v":0},{"$f":"REPRE!E77","v":0},3498.6552895921068]
[null,{"$f":"'60'!B175","v":"LÁNSKÝ"},{"$f":"'60'!C175","v":"Vojtěch"},{"$f":"'60'!D175","v":"9.A"},null,{"$f":"'60'!H175","v":0},{"$f":"'300'!H174","v":316.55356292813383},{"$f":"'1000'!H175","v":0},{"$f":"DÁLKA!H175","v":0},{"$f":"VÝŠKA!H175","v":525.40000000000009},{"$f":"MÍČEK!H175","v":268.75},{"$f":"KOULE!H175","v":650},{"$f":"ČLUNEK!H175","v":0},{"$f":"LEHSED!H175","v":0},{"$f":"ODBÍJENÍ!H175","v":120},{"$f":"PLAVÁNÍ!H175","v":0},{"$f":"ŠPLH!H175","v":0},{"$f":"ŠVIHADLO!H175","v":0},{"$f":"'Z MÍSTA'!H175","v":0},{"$f":"REPRE!E78","v":0},1880.703562928134]
[null,{"$f":"'60'!B176","v":"LEŠÁK"},{"$f":"'60'!C176","v":"Lukáš"},{"$f":"'60'!D176","v":"9.A"},null,{"$f":"'60'!H176","v":641.76450035683945},{"$f":"'300'!H175","v":0},{"$f":"'1000'!H176","v":0},{"$f":"DÁLKA!H176","v":471.27600000000001},{"$f":"VÝŠKA!H176","v":582.60000000000014},{"$f":"MÍČEK!H176","v":287.5},{"$f":"KOULE!H176","v":541.66666666666663},{"$f":"ČLUNEK!H176","v":0},{"$f":"LEHSED!H176","v":0},{"$f":"ODBÍJENÍ!H176","v":0},{"$f":"PLAVÁNÍ!H176","v":0},{"$f":"ŠPLH!H176","v":0},{"$f":"ŠVIHADLO!H176","v":0},{"$f":"'Z MÍSTA'!H176","v":0},{"$f":"REPRE!E79","v":0},2524.8071670235063]
[null,{"$f":"'60'!B177","v":"RYPL"},{"$f":"'60'!C177","v":"Matyáš"},{"$f":"'60'!D177","v":"9.A"},null,{"$f":"'60'!H177","v":814.44787462753959},{"$f":"'300'!H176","v":815.72152736938256},{"$f":"'1000'!H177","v":0},{"$f":"DÁLKA!H177","v":727.66200000000003},{"$f":"VÝŠKA!H177","v":656.96},{"$f":"MÍČEK!H177","v":325},{"$f":"KOULE!H177","v":554.44444444444446},{"$f":"ČLUNEK!H177","v":0},{"$f":"LEHSED!H177","v":687.5},{"$f":"ODBÍJENÍ!H177","v":152},{"$f":"PLAVÁNÍ!H177","v":511.96350321454543},{"$f":"ŠPLH!H177","v":0},{"$f":"ŠVIHADLO!H177","v":0},{"$f":"'Z MÍSTA'!H177","v":0},{"$f":"REPRE!E80","v":0},5245.6993496559116]
[null,{"$f":"'60'!B178","v":"VU TRAN DINH "},{"$f":"'60'!C178","v":"Lukas"},{"$f":"'60'!D178","v":"9.A"},null,{"$f":"'60'!H178","v":783.556436806904},{"$f":"'300'!H177","v":0},{"$f":"'1000'!H178","v":0},{"$f":"DÁLKA!H178","v":669.86400000000003},{"$f":"VÝŠKA!H178","v":0},{"$f":"MÍČEK!H178","v":506.25},{"$f":"KOULE!H178","v":691.11111111111109},{"$f":"ČLUNEK!H178","v":0},{"$f":"LEHSED!H178","v":0},{"$f":"ODBÍJENÍ!H178","v":0},{"$f":"PLAVÁNÍ!H178","v":436.95443449696967},{"$f":"ŠPLH!H178","v":0},{"$f":"ŠVIHADLO!H178","v":0},{"$f":"'Z MÍSTA'!H178","v":0},{"$f":"REPRE!E81","v":0},3087.7359824149848]
[null,{"$f":"'60'!B179","v":"DUFEK"},{"$f":"'60'!C179","v":"Matyáš"},{"$f":"'60'!D179","v":"9.B"},null,{"$f":"'60'!H179","v":0},{"$f":"'300'!H178","v":0},{"$f":"'1000'!H179","v":0},{"$f":"DÁLKA!H179","v":0},{"$f":"VÝŠKA!H179","v":525.40000000000009},{"$f":"MÍČEK!H179","v":362.5},{"$f":"KOULE!H179","v":0},{"$f":"ČLUNEK!H179","v":0},{"$f":"LEHSED!H179","v":0},{"$f":"ODBÍJENÍ!H179","v":168},{"$f":"PLAVÁNÍ!H179","v":0},{"$f":"ŠPLH!H179","v":0},{"$f":"ŠVIHADLO!H179","v":0},{"$f":"'Z MÍSTA'!H179","v":0},{"$f":"REPRE!E82","v":0},1055.9000000000001]
[null,{"$f":"'60'!B180","v":"JEŽEK"},{"$f":"'60'!C180","v":"Jonáš"},{"$f":"'60'!D180","v":"9.B"},null,{"$f":"'60'!H180","v":828.93181672811056},{"$f":"'300'!H179","v":0},{"$f":"'1000'!H180","v":0},{"$f":"DÁLKA!H180","v":0},{"$f":"VÝŠKA!H180","v":611.20000000000005},{"$f":"MÍČEK!H180","v":562.5},{"$f":"KOULE!H180","v":653.88888888888891},{"$f":"ČLUNEK!H180","v":0},{"$f":"LEHSED!H180","v":0},{"$f":"ODBÍJENÍ!H180","v":679.6},{"$f":"PLAVÁNÍ!H180","v":436.95443449696967},{"$f":"ŠPLH!H180","v":0},{"$f":"ŠVIHADLO!H180","v":0},{"$f":"'Z MÍSTA'!H180","v":0},{"$f":"REPRE!E83","v":0},3773.0751401139687]
[null,{"$f":"'60'!B181","v":"JEŽEK"},{"$f":"'60'!C181","v":"Mikuláš"},{"$f":"'60'!D181","v":"9.B"},null,{"$f":"'60'!H181","v":0},{"$f":"'300'!H180","v":0},{"$f":"'1000'!H181","v":0},{"$f":"DÁLKA!H181","v":0},{"$f":"VÝŠKA!H181","v":714.16000000000008},{"$f":"MÍČEK!H181","v":562.5},{"$f":"KOULE!H181","v":0},{"$f":"ČLUNEK!H181","v":0},{"$f":"LEHSED!H181","v":0},{"$f":"ODBÍJENÍ!H181","v":0},{"$f":"PLAVÁNÍ!H181","v":436.95443449696967},{"$f":"ŠPLH!H181","v":0},{"$f":"ŠVIHADLO!H181","v":0},{"$f":"'Z MÍSTA'!H181","v":0},{"$f":"REPRE!E84","v":0},1713.6144344969698]
[null,{"$f":"'60'!B182","v":"NECHANICKÝ"},{"$f":"'60'!C182","v":"Michal"},{"$f":"'60'!D182","v":"9.B"},null,{"$f":"'60'!H182","v":814.44787462753959},{"$f":"'300'!H181","v":0},{"$f":"'1000'!H182","v":0},{"$f":"DÁLKA!H182","v":681.72},{"$f":"VÝŠKA!H182","v":651.24000000000012},{"$f":"MÍČEK!H182","v":487.5},{"$f":"KOULE!H182","v":574.44444444444446},{"$f":"ČLUNEK!H182","v":0},{"$f":"LEHSED!H182","v":325},{"$f":"ODBÍJENÍ!H182","v":668.4},{"$f":"PLAVÁNÍ!H182","v":0},{"$f":"ŠPLH!H182","v":0},{"$f":"ŠVIHADLO!H182","v":531.25},{"$f":"'Z MÍSTA'!H182","v":501.59999999999997},{"$f":"REPRE!E85","v":0},5235.6023190719843]
[null,{"$f":"'60'!B183","v":"PAULÍČEK"},{"$f":"'60'!C183","v":"Jakub"},{"$f":"'60'!D183","v":"9.B"},null,{"$f":"'60'!H183","v":802.05855534368072},{"$f":"'300'!H182","v":0},{"$f":"'1000'!H183","v":0},{"$f":"DÁLKA!H183","v":0},{"$f":"VÝŠKA!H183","v":742.7600000000001},{"$f":"MÍČEK!H183","v":475},{"$f":"KOULE!H183","v":0},{"$f":"ČLUNEK!H183","v":0},{"$f":"LEHSED!H183","v":0},{"$f":"ODBÍJENÍ!H183","v":96},{"$f":"PLAVÁNÍ!H183","v":0},{"$f":"ŠPLH!H183","v":0},{"$f":"ŠVIHADLO!H183","v":0},{"$f":"'Z MÍSTA'!H183","v":0},{"$f":"REPRE!E86","v":0},2115.8185553436806]
[null,{"$f":"'60'!B184","v":"POHOŘALÝ"},{"$f":"'60'!C184","v":"Jakub"},{"$f":"'60'!D184","v":"9.B"},null,{"$f":"'60'!H184","v":887.60201610972581},{"$f":"'300'!H183","v":0},{"$f":"'1000'!H184","v":0},{"$f":"DÁLKA!H184","v":770.64},{"$f":"VÝŠKA!H184","v":742.7600000000001},{"$f":"MÍČEK!H184","v":568.75},{"$f":"KOULE!H184","v":762.22222222222217},{"$f":"ČLUNEK!H184","v":0},{"$f":"LEHSED!H184","v":0},{"$f":"ODBÍJENÍ!H184","v":576},{"$f":"PLAVÁNÍ!H184","v":0},{"$f":"ŠPLH!H184","v":0},{"$f":"ŠVIHADLO!H184","v":0},{"$f":"'Z MÍSTA'!H184","v":0},{"$f":"REPRE!E87","v":0},4307.9742383319481]
[null,{"$f":"'60'!B185","v":"POSPÍCHAL"},{"$f":"'60'!C185","v":"Daniel"},{"$f":"'60'!D185","v":"9.B"},null,{"$f":"'60'!H185","v":799.78432808839784},{"$f":"'300'!H184","v":0},{"$f":"'1000'!H185","v":0},{"$f":"DÁLKA!H185","v":687.64800000000002},{"$f":"VÝŠKA!H185","v":582.60000000000014},{"$f":"MÍČEK!H185","v":0},{"$f":"KOULE!H185","v":683.88888888888891},{"$f":"ČLUNEK!H185","v":0},{"$f":"LEHSED!H185","v":0},{"$f":"ODBÍJENÍ!H185","v":248},{"$f":"PLAVÁNÍ!H185","v":0},{"$f":"ŠPLH!H185","v":0},{"$f":"ŠVIHADLO!H185","v":0},{"$f":"'Z MÍSTA'!H185","v":0},{"$f":"REPRE!E88","v":0},3001.9212169772863]
[null,{"$f":"'60'!B186","v":"SOUKUP"},{"$f":"'60'!C186","v":"Lukáš"},{"$f":"'60'!D186","v":"9.B"},null,{"$f":"'60'!H186","v":799.78432808839784},{"$f":"'300'!H185","v":0},{"$f":"'1000'!H186","v":0},{"$f":"DÁLKA!H186","v":739.51800000000003},{"$f":"VÝŠKA!H186","v":656.96},{"$f":"MÍČEK!H186","v":487.5},{"$f":"KOULE!H186","v":743.88888888888891},{"$f":"ČLUNEK!H186","v":0},{"$f":"LEHSED!H186","v":0},{"$f":"ODBÍJENÍ!H186","v":679.6},{"$f":"PLAVÁNÍ!H186","v":0},{"$f":"ŠPLH!H186","v":0},{"$f":"ŠVIHADLO!H186","v":0},{"$f":"'Z MÍSTA'!H186","v":0},{"$f":"REPRE!E89","v":0},4107.2512169772872]
[null,{"$f":"'60'!B187","v":"VANCL"},{"$f":"'60'!C187","v":"Jan"},{"$f":"'60'!D187","v":"9.B"},null,{"$f":"'60'!H187","v":866.09068717575758},{"$f":"'300'!H186","v":0},{"$f":"'1000'!H187","v":0},{"$f":"DÁLKA!H187","v":739.51800000000003},{"$f":"VÝŠKA!H187","v":799.96},{"$f":"MÍČEK!H187","v":775},{"$f":"KOULE!H187","v":838.88888888888891},{"$f":"ČLUNEK!H187","v":0},{"$f":"LEHSED!H187","v":0},{"$f":"ODBÍJENÍ!H187","v":272},{"$f":"PLAVÁNÍ!H187","v":436.95443449696967},{"$f":"ŠPLH!H187","v":0},{"$f":"ŠVIHADLO!H187","v":0},{"$f":"'Z MÍSTA'!H187","v":0},{"$f":"REPRE!E90","v":0},4728.4120105616166]
[null,{"$f":"'60'!B188","v":"VANCL"},{"$f":"'60'!C188","v":"Lukáš"},{"$f":"'60'!D188","v":"9.B"},null,{"$f":"'60'!H188","v":834.72801036004648},{"$f":"'300'!H187","v":754.32772727410929},{"$f":"'1000'!H188","v":0},{"$f":"DÁLKA!H188","v":726.18},{"$f":"VÝŠKA!H188","v":799.96},{"$f":"MÍČEK!H188","v":662.5},{"$f":"KOULE!H188","v":924.44444444444446},{"$f":"ČLUNEK!H188","v":0},{"$f":"LEHSED!H188","v":0},{"$f":"ODBÍJENÍ!H188","v":576},{"$f":"PLAVÁNÍ!H188","v":436.95443449696967},{"$f":"ŠPLH!H188","v":0},{"$f":"ŠVIHADLO!H188","v":0},{"$f":"'Z MÍSTA'!H188","v":0},{"$f":"REPRE!E91","v":0},5715.0946165755704]
[null,{"$f":"'60'!B189","v":"VAŠÍK"},{"$f":"'60'!C189","v":"Jiří"},{"$f":"'60'!D189","v":"9.B"},null,{"$f":"'60'!H189","v":794.53598346491231},{"$f":"'300'!H188","v":0},{"$f":"'1000'!H189","v":0},{"$f":"DÁLKA!H189","v":674.31},{"$f":"VÝŠKA!H189","v":628.36000000000013},{"$f":"MÍČEK!H189","v":450},{"$f":"KOULE!H189","v":626.66666666666663},{"$f":"ČLUNEK!H189","v":0},{"$f":"LEHSED!H189","v":0},{"$f":"ODBÍJENÍ!H189","v":120},{"$f":"PLAVÁNÍ!H189","v":0},{"$f":"ŠPLH!H189","v":0},{"$f":"ŠVIHADLO!H189","v":0},{"$f":"'Z MÍSTA'!H189","v":0},{"$f":"REPRE!E92","v":0},3293.8726501315791]
[null,{"$f":"'60'!B190","v":"VOHNOUT"},{"$f":"'60'!C190","v":"Zdeněk"},{"$f":"'60'!D190","v":"9.B"},null,{"$f":"'60'!H190","v":919.66859340259748},{"$f":"'300'!H189","v":962.98282421535555},{"$f":"'1000'!H190","v":0},{"$f":"DÁLKA!H190","v":835.84799999999996},{"$f":"VÝŠKA!H190","v":782.80000000000007},{"$f":"MÍČEK!H190","v":618.75},{"$f":"KOULE!H190","v":717.77777777777771},{"$f":"ČLUNEK!H190","v":0},{"$f":"LEHSED!H190","v":0},{"$f":"ODBÍJENÍ!H190","v":642},{"$f":"PLAVÁNÍ!H190","v":0},{"$f":"ŠPLH!H190","v":0},{"$f":"ŠVIHADLO!H190","v":0},{"$f":"'Z MÍSTA'!H190","v":0},{"$f":"REPRE!E93","v":0},5479.8271953957301]

{"sheet":"ROČ","index":5,"n_rows":210,"n_cols":23,"rows_kept":210,"cut":false,"hidden":false,"merged":[]}
[null,null,"CELKOVÉ   VÝSLEDKY  ",null,null,null,null,null,null,null,null,null,null,null,null,null,null,null,null,null,null,null,{"$f":"TODAY()","v":"2021-06-28"}]
[]
[null,"6. ročník",null,null,null,"   60  m  ","   300m","  1000m","   dálka","   výška","   míček","   koule","   oštěp","  člunek","  lehsed","odbíjení ","  plavání","    shyby","    šplh","švihadlo","z místa"," REPRE","          CELKEM"]
[]
["1.",{"$f":"B121","v":"BOUKAL"},{"$f":"C121","v":"Jakub"},"6.A",null,608.69491792993631,357.22765869265402,0,474.24,0,175,548.33333333333337,{"$f":"M121","v":0},663.75750277853604,0,96,0,0,0,0,0,0,2923.2534127344597]
["2.",{"$f":"B122","v":"DEMČUK"},"Ilja","6.A",null,{"$f":"F122","v":686.34545338248847},582.97354979907107,0,572.05200000000002,571.16000000000008,250,515.55555555555554,0,0,312.5,120,0,0,0,0,570,0,{"$f":"W122","v":4180.5865587371154}]
["3.",{"$f":"B123","v":"FAISTAUER"},"Kryštof","6.A",null,{"$f":"F123","v":767.39454412631574},670.24815200233229,0,653.56200000000001,628.36000000000013,431.25,488.88888888888886,0,855.67713621721612,512.5,64,0,0,0,325,627,0,6023.8807212347529]
["4.",{"$f":"B124","v":"FRK"},"Matyáš","6.A",null,{"$f":"F124","v":602.49749757861639},351.71341527947015,0,529.07399999999996,411,0,0,0,639.17207931259259,0,112,0,0,0,0,0,0,2645.4569921706789]
["5.",{"$f":"B125","v":"HUBÁLOVSKÝ"},"Marek","6.A",null,{"$f":"F125","v":657.40403930008745},442.95197096797983,0,678.75599999999997,485.36000000000007,325,413.88888888888886,0,680.22974607752508,0,64,0,0,0,0,0,0,3747.5906452344807]
["6.",{"$f":"B126","v":"MAŘAS"},"Dominik","6.A",null,{"$f":"F126","v":647.6364406529209},379.63195540069046,0,545.37599999999998,0,275,517.22222222222217,0,639.17207931259259,0,88,0,0,0,0,691.6,0,3783.6386975884257]
["7.",{"$f":"B127","v":"MAŤÁTKO"},"Jakub","6.A",null,{"$f":"F127","v":585.16210532221385},331.67809691936748,0,0,0,250,435.55555555555554,0,475.3264719866242,0,80,0,0,0,0,0,0,2157.7222297837611]
["8.",{"$f":"B128","v":"MERY"},"Luboš","6.A",null,{"$f":"F128","v":657.40403930008745},407.18435863112518,0,0,456.76000000000005,0,0,0,663.75750277853604,325,32,0,0,0,112.5,566.19999999999993,0,3220.8059007097481]
["9.",{"$f":"B129","v":"NOVOTNÝ"},"Matěj","6.A",null,{"$f":"F129","v":680.6211833211679},0,0,527.59199999999998,439.6,362.5,0,0,722.34433299021953,0,0,0,0,0,0,0,0,2732.6575163113876]
["10.",{"$f":"B130","v":"ŘEHOŘEK"},"Vojtěch","6.A",null,{"$f":"F130","v":635.14833634228182},440.45590757293235,0,549.822,485.36000000000007,500,507.22222222222223,0,0,350,112,0,0,0,0,554.79999999999995,0,4134.8084661374369]
["11.",{"$f":"B131","v":"ŠÍR"},"Matyáš","6.A",null,{"$f":"F131","v":655.04600777003475},465.74966141503035,0,530.55600000000004,479.64000000000004,250,379.44444444444446,0,603.03986398763539,475,88,0,0,0,237.5,600.4,0,4764.3759776171446]
["12.",{"$f":"B132","v":"TORÁČ"},"Tomáš","6.A",null,{"$f":"F132","v":387.77198810715856},110.15266988294343,0,0,0,156.25,427.22222222222223,0,372.89289796975345,0,96,0,0,0,0,0,0,1550.2897781820777]
["13.",{"$f":"B133","v":"ULLMAN"},"Šimon","6.A",null,{"$f":"F133","v":790.10110775599128},690.35992248257389,0,634.29600000000005,439.6,306.25,0,0,788.23865689925674,0,48,0,0,0,0,0,0,3696.8456871378221]
["14.",{"$f":"B134","v":"VÁCLAVÍK"},"Ondřej","6.A",null,{"$f":"F134","v":681.65339755027424},609.18116023719892,0,569.08799999999997,542.56000000000006,450,488.88888888888886,0,755.1114192063493,0,0,0,0,0,0,0,0,4096.4828658827109]
["15.",{"$f":"B135","v":"AUERSWALD"},"Daniel","6.B",null,{"$f":"F135","v":741.70760052578362},594.29908907741935,0,626.88599999999997,628.36000000000013,312.5,473.88888888888886,0,761.82264087384772,0,152,0,0,0,187.5,0,0,4478.9642193659392]
["16.",{"$f":"B136","v":"BODLÁK"},"Vladimír","6.B",null,{"$f":"F136","v":853.5742752324195},881.77710427784405,0,0,628.36000000000013,0,735.55555555555554,0,923.6308112729796,662.5,0,0,0,0,312.5,114,0,5111.8977463387992]
["17.",{"$f":"B137","v":"BUDÍN"},"Martin","6.B",null,{"$f":"F137","v":707.61072363288713},613.09700998092637,0,595.76400000000001,513.96,387.5,393.33333333333331,0,780.32150748188769,375,72,0,0,0,500,570,0,5508.586574429035]
["18.",{"$f":"B138","v":"DVOŘÁK"},"Dominik","6.B",null,{"$f":"F138","v":651.31558557093422},0,0,477.20400000000001,411,0,0,0,707.77734601954637,0,0,0,0,0,0,0,0,2247.2969315904807]
["19.",{"$f":"B139","v":"FIŠERA"},"Vojtěch","6.B",null,{"$f":"F139","v":708.74407750957857},632.86261664426138,0,589.83600000000001,542.56000000000006,237.5,500,0,733.43523229642585,325,96,0,0,0,568.75,494,0,5428.6879264502659]
["20.",{"$f":"B140","v":"JINDŘIŠEK"},"Vít","6.B",null,{"$f":"F140","v":821.61552670467506},0,0,675.79200000000003,439.6,525,0,0,825.91374580729428,500,224,0,0,0,350,760,0,5121.9212725119687]
["21.",{"$f":"B141","v":"JIROUŠ"},"Matouš","6.B",null,{"$f":"F141","v":729.91350884920632},0,0,638.74199999999996,439.6,350,468.88888888888886,0,819.68099260312442,312.5,152,0,0,0,250,760,0,4921.3253903412196]
["22.",{"$f":"B142","v":"KERLE"},"Marek","6.B",null,{"$f":"F142","v":697.60227154135328},685.9413855191259,0,586.87199999999996,571.16000000000008,0,542.22222222222217,0,794.22813569272967,600,176,0,0,0,231.25,600.4,0,5485.67601497543]
["23.",{"$f":"B143","v":"LUKEŠ"},"Jakub","6.B",null,{"$f":"F143","v":719.14309641325542},680.65443244729283,0,561.678,542.56000000000006,262.5,470.55555555555554,0,822.7911821996903,375,96,0,0,0,406.25,722,0,5659.1322666157939]
["24.",{"$f":"B144","v":"OTT"},"Matyáš","6.B",null,{"$f":"F144","v":678.56801538181821},478.9375550137355,0,566.12400000000002,542.56000000000006,362.5,427.77777777777777,0,762.78587780442331,0,88,0,0,0,0,0,0,3907.2532259777549]
["25.",{"$f":"B145","v":"POKORNÝ"},"Matyáš","6.B",null,{"$f":"F145","v":808.19778178970921},809.65765948527405,0,0,571.16000000000008,537.5,461.11111111111109,0,882.13528896690059,0,176,0,0,0,0,0,0,4245.7618413529954]
["26.",{"$f":"B146","v":"POLÁČEK"},"Matyáš","6.B",null,{"$f":"F146","v":654.57686416013928},421.95834938069231,0,529.07399999999996,513.96,425,502.77777777777777,0,687.25683131707922,0,80,0,0,0,0,0,0,3814.6038226356886]
["27.",{"$f":"B147","v":"SOUKUP"},"Patrik","6.B",null,{"$f":"F147","v":729.30507127849353},686.49155394383092,0,603.17399999999998,542.56000000000006,375,472.22222222222223,0,845.985323149946,337.5,88,0,0,0,593.75,760,0,6033.9881705944927]
["28.",{"$f":"B148","v":"VALENTA"},"Jakub","6.B",null,{"$f":"F148","v":720.32111027343751},0,0,0,628.36000000000013,325,455.55555555555554,0,810.42346895015305,612.5,0,0,0,0,475,0,0,4027.1601347791466]
["29.","VRBATA","Dominik","6.B",null,719.73152870243905,621.1903985445233,0,613.548,571.16000000000008,431.25,497.22222222222223,0,822.7911821996903,0,72,0,0,0,0,0,0,4348.8933316688745]
[]
[null,null,"CELKOVÉ   VÝSLEDKY  ",null,null,null,null,null,null,null,null,null,null,null,null,null,null,null,null,null,null,null,{"$f":"TODAY()","v":"2021-06-28"}]
[]
[null,"7. ročník",null,null,null,"   60  m  ","   300m","  1000m","   dálka","   výška","   míček","   koule",null,"  člunek","  lehsed","odbíjení ","  plavání",null,"    šplh","švihadlo","z místa"," REPRE","          CELKEM"]
[]
["1.",{"$f":"B150","v":"FEJKL"},{"$f":"C150","v":"Jan"},{"$f":"D150","v":"7.A"},null,{"$f":"F150","v":793.05122201312906},0,0,800.28,788.5200000000001,612.5,603.88888888888891,0,0,712.5,144,436.95443449696967,0,0,262.5,760,0,5914.1945453989883]
["2.",{"$f":"B151","v":"KOTYK"},"Tadeáš","7.A",null,{"$f":"F151","v":694.34095039252338},0,0,549.822,582.60000000000014,250,510.55555555555554,0,0,437.5,56,0,0,0,125,228,0,3433.8185059480793]
["3.",{"$f":"B152","v":"KRAUSE"},"Tadeáš","7.A",null,{"$f":"F152","v":726.88333358341561},0,0,640.22400000000005,611.20000000000005,368.75,478.88888888888886,0,0,675,144,0,0,0,756.25,763.8,0,5164.9962224723049]
["4.",{"$f":"B153","v":"LEŠÁK"},"Martin","7.A",null,{"$f":"F153","v":685.296059724011},0,0,0,548.28000000000009,318.75,501.66666666666663,0,0,187.5,56,0,0,0,187.5,0,0,2484.9927263906775]
["5.",{"$f":"B154","v":"NECHANICKÝ"},"David","7.A",null,{"$f":"F154","v":757.26924033160617},0,0,660.97199999999998,639.80000000000007,387.5,0,0,0,0,176,436.95443449696967,0,0,0,0,0,3058.4956748285758]
["6.",{"$f":"B155","v":"ŘEHOŘEK"},"Jan","7.A",null,{"$f":"F155","v":763.98410148691096},0,0,647.63400000000001,668.4,525,460,0,0,325,336,436.95443449696967,0,0,718.75,0,0,4881.7225359838803]
["7.",{"$f":"B156","v":"SOUKUP"},"Ondřej","7.A",null,{"$f":"F156","v":734.82481691999999},0,0,576.49800000000005,582.60000000000014,0,0,0,0,587.5,176,0,0,0,0,0,0,2657.4228169200005]
["8.",{"$f":"B157","v":"SPANILÝ"},"David","7.A",null,{"$f":"F157","v":747.45389481632651},0,0,0,0,587.5,481.66666666666663,0,0,675,336,436.95443449696967,0,0,662.5,752.4,0,4679.4749959799628]
["9.",{"$f":"B158","v":"ČADAN"},"Benjamín","7.B",null,{"$f":"F158","v":0},0,0,603.17399999999998,605.48,325,466.66666666666663,0,0,0,80,0,0,0,0,0,0,2080.3206666666665]
["10.",{"$f":"B159","v":"ČERNÝ"},"Michal","7.B",null,{"$f":"F159","v":713.32125185328186},0,0,529.07399999999996,548.28000000000009,493.75,463.88888888888886,0,0,0,120,0,0,0,0,0,0,2868.3141407421708]
["11.",{"$f":"B160","v":"DOLEJŠÍ"},"David","7.B",null,{"$f":"F160","v":673.49983506306307},0,0,560.19600000000003,639.80000000000007,262.5,516.66666666666663,0,0,562.5,64,0,0,0,362.5,577.6,0,4219.2625017297296]
["12.",{"$f":"B161","v":"NOVÁK"},"Matěj","7.B",null,{"$f":"F161","v":707.0456704106972},0,0,588.35400000000004,582.60000000000014,381.25,463.33333333333331,0,0,0,64,0,0,0,425,642.19999999999993,0,3853.7830037440303]
["13.",{"$f":"B162","v":"POVAŽANEC"},"Martin","7.B",null,{"$f":"F162","v":743.61137618661257},0,0,660.97199999999998,611.20000000000005,506.25,645,0,0,0,64,0,0,0,0,0,0,3231.0333761866123]
["14.",{"$f":"B163","v":"RICHTER"},"Jakub","7.B",null,{"$f":"F163","v":0},0,0,0,0,287.5,0,0,0,250,0,0,0,0,0,0,0,537.5]
["15.",{"$f":"B164","v":"ROZUMEK"},"Adam","7.B",null,{"$f":"F164","v":0},0,0,515.73599999999999,548.28000000000009,475,595.55555555555554,0,0,0,208,0,0,0,0,0,0,2342.5715555555557]
["16.",{"$f":"B165","v":"VALENTA"},{"$f":"C165","v":"František"},{"$f":"D165","v":"7.B"},null,{"$f":"F165","v":682.68939278388279},0,0,515.73599999999999,582.60000000000014,250,513.33333333333337,0,0,0,120,0,0,0,0,0,0,{"$f":"W165","v":2664.3587261172161}]
["17.",{"$f":"B166","v":"ZAPLATÍLEK"},"Josef","7.B",null,{"$f":"F166","v":733.58963764471059},0,0,0,582.60000000000014,450,467.22222222222223,0,0,0,208,0,0,0,0,0,0,2441.4118598669329]
[]
[]
[" ",null,"CELKOVÉ   VÝSLEDKY  ",null,null,null,null,null,null,null,null,null,null,null,null,null,null,null,null,null,null,null,{"$f":"W35","v":"2021-06-28"}]
[]
[null,"8. ročník",null,null,null,"   60  m  ","   300m","  1000m","   dálka","   výška","   míček","   koule",null,"  člunek","  lehsed","odbíjení ","  plavání",null,"    šplh","švihadlo","z místa"," REPRE","          CELKEM"]
[]
["1.",{"$f":"B167","v":"ERBEN"},{"$f":"C167","v":"Viktor"},{"$f":"D167","v":"8.A"},null,{"$f":"F167","v":709.31238439117942},520.97744533078219,0,0,605.48,262.5,490.55555555555554,0,767.61913662886002,350,232,0,0,0,0,623.19999999999993,0,4561.6445219063771]
["2.",{"$f":"B168","v":"FRANC"},{"$f":"C168","v":"Daniel"},"8.A",null,{"$f":"F168","v":673.49983506306307},0,0,564.64199999999994,605.48,325,0,0,679.35523936763025,0,104,0,0,0,0,600.4,0,3552.3770744306935]
["3.",{"$f":"B169","v":"JINDŘIŠEK"},"Matyáš","8.A",null,{"$f":"F169","v":0},743.75072176931212,0,0,628.36000000000013,0,643.88888888888891,0,873.21399850009198,512.5,224,0,0,0,493.75,779,0,4898.4636091582934]
["4.",{"$f":"B170","v":"KOLAČNÝ"},"Štěpán","8.A",null,{"$f":"F170","v":692.18698037243951},454.71741921226044,0,566.12400000000002,548.28000000000009,312.5,600.55555555555554,0,794.22813569272967,537.5,152,0,0,0,0,684,0,5342.0920908329854]
["5.",{"$f":"B171","v":"KRISTAN"},"Jáchym","8.A",null,{"$f":"F171","v":541.0170445879121},259.34357530173838,0,0,485.36000000000007,187.5,372.22222222222223,0,500.08272907977994,0,96,0,0,0,0,440.79999999999995,0,2882.3255711916527]
["6.",{"$f":"B172","v":"NGUYEN"},"David","8.A",null,{"$f":"F172","v":0},0,0,0,628.36000000000013,456.25,0,0,876.54728539957136,0,232,0,0,0,0,874,0,3067.1572853995713]
["7.",{"$f":"B173","v":"NOVOTNÝ"},"Jan","8.A",null,{"$f":"F173","v":772.22992250265111},809.19392737638987,0,662.45399999999995,628.36000000000013,337.5,0,0,865.49230109793598,0,128,0,0,0,0,0,0,4203.2301509769768]
["8.",{"$f":"B174","v":"RÁB"},"Adam","8.A",null,{"$f":"F174","v":625.32083697119344},436.64032597157518,0,532.03800000000001,508.24,318.75,611.66666666666663,0,705.07324626159379,0,96,0,0,0,0,615.6,0,4449.3290758710291]
["9.",{"$f":"B175","v":"REPASKÝ"},"Jakub","8.A",null,{"$f":"F175","v":823.22836219428575},765.54819227621533,0,0,628.36000000000013,631.25,667.77777777777771,0,916.55477960473399,612.5,584,0,0,0,912.5,809.4,0,7351.1191118530132]
["10.",{"$f":"B176","v":"SKÁLA"},"Jan","8.A",null,{"$f":"F176","v":823.22836219428575},743.34024352376105,0,715.80600000000004,628.36000000000013,375,688.33333333333337,0,818.64699163860814,0,120,0,0,0,0,809.4,0,5722.1149306899879]
["11.",{"$f":"B177","v":"ŠPULÁK"},"Jakub","8.A",null,{"$f":"F177","v":747.45389481632651},656.94073295988505,0,626.88599999999997,628.36000000000013,562.5,661.66666666666663,0,787.24474403557201,337.5,144,0,0,0,212.5,737.19999999999993,0,6102.2520384784502]
["12.",{"$f":"B178","v":"VALENTA"},"Tomáš","8.A",null,{"$f":"F178","v":872.50955613691929},901.01884227829623,0,829.92,628.36000000000013,662.5,766.66666666666663,0,900.29761989277756,612.5,584,0,0,0,887.5,889.19999999999993,0,8534.4726849746603]
["13.",{"$f":"B179","v":"VANCL"},"Jiří","8.A",null,{"$f":"F179","v":757.93445738589196},616.41237100857279,0,0,605.48,387.5,583.88888888888891,0,818.64699163860814,0,256,0,0,0,0,771.4,0,4797.2627089219623]
["14.",{"$f":"B180","v":"VAŠÍČEK"},"David","8.A",null,{"$f":"F180","v":0},0,0,628.36799999999994,0,406.25,0,0,0,0,248,0,0,0,0,794.19999999999993,0,2076.8179999999998]
["15.",{"$f":"B181","v":"ZOUHAR"},"Ondřej","8.A",null,{"$f":"F181","v":819.21001922727271},786.93469153005503,0,663.93600000000004,605.48,437.5,520.55555555555554,0,862.20664456486031,0,248,0,0,0,0,786.59999999999991,0,5730.4229108777436]
["16.",{"$f":"B182","v":"ZUZÁNEK"},"Filip","8.A",null,{"$f":"F182","v":732.35937940239046},622.79411738408749,0,0,628.36000000000013,306.25,533.33333333333337,0,845.985323149946,0,256,0,0,0,0,725.8,0,4650.8821532697575]
[]
[]
[null,null,"CELKOVÉ   VÝSLEDKY  "]
[]
[null,"9. ročník",null,null,null,"   60  m  ","   300m","  1000m","   dálka","   výška","   míček","   koule",null,"  člunek","  lehsed","odbíjení ","  plavání",null,"    šplh","švihadlo","z místa"," REPRE","          CELKEM"]
[]
["1.",{"$f":"B183","v":"BRUMLICH"},{"$f":"C183","v":"Jan"},{"$f":"D183","v":"9.A"},null,{"$f":"F183","v":0},785.37876083716401,0,0,742.7600000000001,725,842.77777777777771,0,0,0,328,436.95443449696967,0,0,0,0,0,3860.8709731119116]
["2.",{"$f":"B184","v":"BUCHAR"},"Jiří","9.A",null,{"$f":"F184","v":811.30878305617966},772.2220729043479,0,726.18,714.16000000000008,406.25,0,0,0,0,328,0,0,0,0,0,0,3758.1208559605275]
["3.",{"$f":"B185","v":"FAISTAUER"},"Jiří","9.A",null,{"$f":"F185","v":0},0,0,714.32399999999996,656.96,550,600,0,0,0,0,0,0,0,0,0,0,2521.2840000000001]
["4.",{"$f":"B186","v":"FAISTAUER"},"Roman","9.A",null,{"$f":"F186","v":863.37296729468608},696.12591623434332,0,723.21600000000001,685.56000000000006,650,728.33333333333337,0,0,0,248,0,0,0,0,0,0,4594.6082168623625]
["5.",{"$f":"B187","v":"FAJSTAVR"},"Jakub","9.A",null,{"$f":"F187","v":802.05855534368072},650.08180552976455,0,678.75599999999997,611.20000000000005,0,735,0,0,600,0,511.96350321454543,0,0,412.5,459.79999999999995,0,5461.3598640879909]
["6.",{"$f":"B188","v":"FARSKÝ"},"Vojtěch","9.A",null,{"$f":"F188","v":810.52841405162735},0,0,748.41,777.08,675,682.77777777777771,0,0,0,642,0,0,0,0,0,0,4335.796191829405]
["7.",{"$f":"B189","v":"HOLUBEC"},"Lukáš","9.A",null,{"$f":"F189","v":0},0,0,601.69200000000001,628.36000000000013,437.5,646.11111111111109,0,0,0,120,0,0,0,0,0,0,2433.663111111111]
["8.",{"$f":"B190","v":"CHAROUZ"},"Vojtěch","9.A",null,{"$f":"F190","v":802.05855534368072},715.57906906727692,0,711.36,725.6,375,611.11111111111109,0,0,0,152,0,0,0,0,0,0,4092.7087355220683]
["9.",{"$f":"B191","v":"IACCHERI"},"Carlo","9.A",null,{"$f":"F191","v":783.556436806904},680.29189583740799,0,613.548,628.36000000000013,0,670,0,0,0,0,436.95443449696967,0,0,0,703,0,4515.7107671412814]
["10.",{"$f":"B192","v":"JOHN"},"Adrian","9.A",null,{"$f":"F192","v":553.02317579096052},0,0,419.40600000000001,399.56000000000006,250,501.11111111111109,0,0,375,128,0,0,0,0,0,0,2626.1002869020713]
["11.",{"$f":"B193","v":"KRČÍK"},"Matthew","9.A",null,{"$f":"F193","v":780.68831033297522},0,0,631.33199999999999,656.96,0,632.22222222222217,0,0,0,0,511.96350321454543,0,0,0,0,0,3213.1660357697428]
["12.",{"$f":"B194","v":"KRESAN"},"Vojtěch","9.A",null,{"$f":"F194","v":770.14885509513726},0,0,609.10199999999998,611.20000000000005,331.25,660,0,0,0,80,436.95443449696967,0,0,0,0,0,3498.6552895921068]
["13.",{"$f":"B195","v":"LÁNSKÝ"},"Vojtěch","9.A",null,{"$f":"F195","v":0},316.55356292813383,0,0,525.40000000000009,268.75,650,0,0,0,120,0,0,0,0,0,0,1880.703562928134]
["14.",{"$f":"B196","v":"LEŠÁK"},"Lukáš","9.A",null,{"$f":"F196","v":641.76450035683945},0,0,471.27600000000001,582.60000000000014,287.5,541.66666666666663,0,0,0,0,0,0,0,0,0,0,2524.8071670235063]
["15.",{"$f":"B197","v":"RYPL"},"Matyáš","9.A",null,{"$f":"F197","v":814.44787462753959},815.72152736938256,0,727.66200000000003,656.96,325,554.44444444444446,0,0,687.5,152,511.96350321454543,0,0,0,0,0,5245.6993496559116]
["16.",{"$f":"B198","v":"VU TRAN DINH "},"Lukas","9.A",null,{"$f":"F198","v":783.556436806904},0,0,669.86400000000003,0,506.25,691.11111111111109,0,0,0,0,436.95443449696967,0,0,0,0,0,3087.7359824149848]
["17.",{"$f":"B199","v":"DUFEK"},"Matyáš","9.B",null,{"$f":"F199","v":0},0,0,0,525.40000000000009,362.5,0,0,0,0,168,0,0,0,0,0,0,1055.9000000000001]
["18.",{"$f":"B200","v":"JEŽEK"},"Jonáš","9.B",null,{"$f":"F200","v":828.93181672811056},0,0,0,611.20000000000005,562.5,653.88888888888891,0,0,0,679.6,436.95443449696967,0,0,0,0,0,3773.0751401139687]
["19.",{"$f":"B201","v":"JEŽEK"},"Mikuláš","9.B",null,{"$f":"F201","v":0},0,0,0,714.16000000000008,562.5,0,0,0,0,0,436.95443449696967,0,0,0,0,0,1713.6144344969698]
["20.",{"$f":"B202","v":"NECHANICKÝ"},"Michal","9.B",null,{"$f":"F202","v":814.44787462753959},0,0,681.72,651.24000000000012,487.5,574.44444444444446,0,0,325,668.4,0,0,0,531.25,501.59999999999997,0,5235.6023190719843]
["21.",{"$f":"B203","v":"PAULÍČEK"},"Jakub","9.B",null,{"$f":"F203","v":802.05855534368072},0,0,0,742.7600000000001,475,0,0,0,0,96,0,0,0,0,0,0,2115.8185553436806]
["22.",{"$f":"B204","v":"POHOŘALÝ"},"Jakub","9.B",null,{"$f":"F204","v":887.60201610972581},0,0,770.64,742.7600000000001,568.75,762.22222222222217,0,0,0,576,0,0,0,0,0,0,4307.9742383319481]
["23.",{"$f":"B205","v":"POSPÍCHAL"},"Daniel","9.B",null,{"$f":"F205","v":799.78432808839784},0,0,687.64800000000002,582.60000000000014,0,683.88888888888891,0,0,0,248,0,0,0,0,0,0,3001.9212169772863]
["24.",{"$f":"B206","v":"SOUKUP"},"Lukáš","9.B",null,{"$f":"F206","v":799.78432808839784},0,0,739.51800000000003,656.96,487.5,743.88888888888891,0,0,0,679.6,0,0,0,0,0,0,4107.2512169772872]
["25.",{"$f":"B207","v":"VANCL"},"Jan","9.B",null,{"$f":"F207","v":866.09068717575758},0,0,739.51800000000003,799.96,775,838.88888888888891,0,0,0,272,436.95443449696967,0,0,0,0,0,4728.4120105616166]
["26.",{"$f":"B208","v":"VANCL"},"Lukáš","9.B",null,{"$f":"F208","v":834.72801036004648},754.32772727410929,0,726.18,799.96,662.5,924.44444444444446,0,0,0,576,436.95443449696967,0,0,0,0,0,5715.0946165755704]
["27.",{"$f":"B209","v":"VAŠÍK"},"Jiří","9.B",null,{"$f":"F209","v":794.53598346491231},0,0,674.31,628.36000000000013,450,626.66666666666663,0,0,0,120,0,0,0,0,0,0,3293.8726501315791]
["28.",{"$f":"B210","v":"VOHNOUT"},{"$f":"C210","v":"Zdeněk"},{"$f":"D210","v":"9.B"},null,{"$f":"F210","v":919.66859340259748},962.98282421535555,0,835.84799999999996,782.80000000000007,618.75,717.77777777777771,0,0,0,642,0,0,0,0,0,0,5479.8271953957301]
[]
[]
[]
[]
[]
[]
[]
[]
[null,null,null,null,null,"60  m  ","300m","1000m","dálka","výška","míček","koule","oštěp","člunek","lehsed","odbíjení ","plavání","shyby","šplh","švihadlo","z místa"," REPRE","   CELKEM"]
[null,{"$f":"'60'!B101","v":"BOUKAL"},{"$f":"'60'!C101","v":"Jakub"},{"$f":"'60'!D101","v":"6.A"},null,{"$f":"'60'!H101","v":608.69491792993631},{"$f":"'300'!H100","v":357.22765869265402},{"$f":"'1000'!H101","v":0},{"$f":"DÁLKA!H101","v":474.24},{"$f":"VÝŠKA!H101","v":0},{"$f":"MÍČEK!H101","v":175},{"$f":"KOULE!H101","v":548.33333333333337},{"$f":"OŠTĚP!H101","v":0},{"$f":"ČLUNEK!H101","v":663.75750277853604},{"$f":"LEHSED!H101","v":0},{"$f":"ODBÍJENÍ!H101","v":96},{"$f":"PLAVÁNÍ!H101","v":0},{"$f":"SHYBY!H101","v":0},{"$f":"ŠPLH!H101","v":0},{"$f":"ŠVIHADLO!H101","v":0},{"$f":"'Z MÍSTA'!H101","v":0},{"$f":"REPRE!E4","v":0},{"$f":"SUM(F121:V121)","v":2923.2534127344597}]
[null,{"$f":"'60'!B102","v":"DEMČUK"},{"$f":"'60'!C102","v":"Ilja"},{"$f":"'60'!D102","v":"6.A"},null,{"$f":"'60'!H102","v":686.34545338248847},{"$f":"'300'!H101","v":582.97354979907107},{"$f":"'1000'!H102","v":0},{"$f":"DÁLKA!H102","v":572.05200000000002},{"$f":"VÝŠKA!H102","v":571.16000000000008},{"$f":"MÍČEK!H102","v":250},{"$f":"KOULE!H102","v":515.55555555555554},{"$f":"OŠTĚP!H102","v":0},{"$f":"ČLUNEK!H102","v":0},{"$f":"LEHSED!H102","v":312.5},{"$f":"ODBÍJENÍ!H102","v":120},{"$f":"PLAVÁNÍ!H102","v":0},{"$f":"SHYBY!H102","v":0},{"$f":"ŠPLH!H102","v":0},{"$f":"ŠVIHADLO!H102","v":0},{"$f":"'Z MÍSTA'!H102","v":570},{"$f":"REPRE!E5","v":0},{"$f":"SUM(F122:V122)","v":4180.5865587371154}]
[null,{"$f":"'60'!B103","v":"FAISTAUER"},{"$f":"'60'!C103","v":"Kryštof"},{"$f":"'60'!D103","v":"6.A"},null,{"$f":"'60'!H103","v":767.39454412631574},{"$f":"'300'!H102","v":670.24815200233229},{"$f":"'1000'!H103","v":0},{"$f":"DÁLKA!H103","v":653.56200000000001},{"$f":"VÝŠKA!H103","v":628.36000000000013},{"$f":"MÍČEK!H103","v":431.25},{"$f":"KOULE!H103","v":488.88888888888886},{"$f":"OŠTĚP!H103","v":0},{"$f":"ČLUNEK!H103","v":855.67713621721612},{"$f":"LEHSED!H103","v":512.5},{"$f":"ODBÍJENÍ!H103","v":64},{"$f":"PLAVÁNÍ!H103","v":0},{"$f":"SHYBY!H103","v":0},{"$f":"ŠPLH!H103","v":0},{"$f":"ŠVIHADLO!H103","v":325},{"$f":"'Z MÍSTA'!H103","v":627},{"$f":"REPRE!E6","v":0},{"$f":"SUM(F123:V123)","v":6023.8807212347529}]
[null,{"$f":"'60'!B104","v":"FRK"},{"$f":"'60'!C104","v":"Matyáš"},{"$f":"'60'!D104","v":"6.A"},null,{"$f":"'60'!H104","v":602.49749757861639},{"$f":"'300'!H103","v":351.71341527947015},{"$f":"'1000'!H104","v":0},{"$f":"DÁLKA!H104","v":529.07399999999996},{"$f":"VÝŠKA!H104","v":411},{"$f":"MÍČEK!H104","v":0},{"$f":"KOULE!H104","v":0},{"$f":"OŠTĚP!H104","v":0},{"$f":"ČLUNEK!H104","v":639.17207931259259},{"$f":"LEHSED!H104","v":0},{"$f":"ODBÍJENÍ!H104","v":112},{"$f":"PLAVÁNÍ!H104","v":0},{"$f":"SHYBY!H104","v":0},{"$f":"ŠPLH!H104","v":0},{"$f":"ŠVIHADLO!H104","v":0},{"$f":"'Z MÍSTA'!H104","v":0},{"$f":"REPRE!E7","v":0},{"$f":"SUM(F124:V124)","v":2645.4569921706789}]
[null,{"$f":"'60'!B105","v":"HUBÁLOVSKÝ"},{"$f":"'60'!C105","v":"Marek"},{"$f":"'60'!D105","v":"6.A"},null,{"$f":"'60'!H105","v":657.40403930008745},{"$f":"'300'!H104","v":442.95197096797983},{"$f":"'1000'!H105","v":0},{"$f":"DÁLKA!H105","v":678.75599999999997},{"$f":"VÝŠKA!H105","v":485.36000000000007},{"$f":"MÍČEK!H105","v":325},{"$f":"KOULE!H105","v":413.88888888888886},{"$f":"OŠTĚP!H105","v":0},{"$f":"ČLUNEK!H105","v":680.22974607752508},{"$f":"LEHSED!H105","v":0},{"$f":"ODBÍJENÍ!H105","v":64},{"$f":"PLAVÁNÍ!H105","v":0},{"$f":"SHYBY!H105","v":0},{"$f":"ŠPLH!H105","v":0},{"$f":"ŠVIHADLO!H105","v":0},{"$f":"'Z MÍSTA'!H105","v":0},{"$f":"REPRE!E8","v":0},{"$f":"SUM(F125:V125)","v":3747.5906452344807}]
[null,{"$f":"'60'!B106","v":"MAŘAS"},{"$f":"'60'!C106","v":"Dominik"},{"$f":"'60'!D106","v":"6.A"},null,{"$f":"'60'!H106","v":647.6364406529209},{"$f":"'300'!H105","v":379.63195540069046},{"$f":"'1000'!H106","v":0},{"$f":"DÁLKA!H106","v":545.37599999999998},{"$f":"VÝŠKA!H106","v":0},{"$f":"MÍČEK!H106","v":275},{"$f":"KOULE!H106","v":517.22222222222217},{"$f":"OŠTĚP!H106","v":0},{"$f":"ČLUNEK!H106","v":639.17207931259259},{"$f":"LEHSED!H106","v":0},{"$f":"ODBÍJENÍ!H106","v":88},{"$f":"PLAVÁNÍ!H106","v":0},{"$f":"SHYBY!H106","v":0},{"$f":"ŠPLH!H106","v":0},{"$f":"ŠVIHADLO!H106","v":0},{"$f":"'Z MÍSTA'!H106","v":691.6},{"$f":"REPRE!E9","v":0},{"$f":"SUM(F126:V126)","v":3783.6386975884257}]
[null,{"$f":"'60'!B107","v":"MAŤÁTKO"},{"$f":"'60'!C107","v":"Jakub"},{"$f":"'60'!D107","v":"6.A"},null,{"$f":"'60'!H107","v":585.16210532221385},{"$f":"'300'!H106","v":331.67809691936748},{"$f":"'1000'!H107","v":0},{"$f":"DÁLKA!H107","v":0},{"$f":"VÝŠKA!H107","v":0},{"$f":"MÍČEK!H107","v":250},{"$f":"KOULE!H107","v":435.55555555555554},{"$f":"OŠTĚP!H107","v":0},{"$f":"ČLUNEK!H107","v":475.3264719866242},{"$f":"LEHSED!H107","v":0},{"$f":"ODBÍJENÍ!H107","v":80},{"$f":"PLAVÁNÍ!H107","v":0},{"$f":"SHYBY!H107","v":0},{"$f":"ŠPLH!H107","v":0},{"$f":"ŠVIHADLO!H107","v":0},{"$f":"'Z MÍSTA'!H107","v":0},{"$f":"REPRE!E10","v":0},{"$f":"SUM(F127:V127)","v":2157.7222297837611}]
[null,{"$f":"'60'!B108","v":"MERY"},{"$f":"'60'!C108","v":"Luboš"},{"$f":"'60'!D108","v":"6.A"},null,{"$f":"'60'!H108","v":657.40403930008745},{"$f":"'300'!H107","v":407.18435863112518},{"$f":"'1000'!H108","v":0},{"$f":"DÁLKA!H108","v":0},{"$f":"VÝŠKA!H108","v":456.76000000000005},{"$f":"MÍČEK!H108","v":0},{"$f":"KOULE!H108","v":0},{"$f":"OŠTĚP!H108","v":0},{"$f":"ČLUNEK!H108","v":663.75750277853604},{"$f":"LEHSED!H108","v":325},{"$f":"ODBÍJENÍ!H108","v":32},{"$f":"PLAVÁNÍ!H108","v":0},{"$f":"SHYBY!H108","v":0},{"$f":"ŠPLH!H108","v":0},{"$f":"ŠVIHADLO!H108","v":112.5},{"$f":"'Z MÍSTA'!H108","v":566.19999999999993},{"$f":"REPRE!E11","v":0},{"$f":"SUM(F128:V128)","v":3220.8059007097481}]
[null,{"$f":"'60'!B109","v":"NOVOTNÝ"},{"$f":"'60'!C109","v":"Matěj"},{"$f":"'60'!D109","v":"6.A"},null,{"$f":"'60'!H109","v":680.6211833211679},{"$f":"'300'!H108","v":0},{"$f":"'1000'!H109","v":0},{"$f":"DÁLKA!H109","v":527.59199999999998},{"$f":"VÝŠKA!H109","v":439.6},{"$f":"MÍČEK!H109","v":362.5},{"$f":"KOULE!H109","v":0},{"$f":"OŠTĚP!H109","v":0},{"$f":"ČLUNEK!H109","v":722.34433299021953},{"$f":"LEHSED!H109","v":0},{"$f":"ODBÍJENÍ!H109","v":0},{"$f":"PLAVÁNÍ!H109","v":0},{"$f":"SHYBY!H109","v":0},{"$f":"ŠPLH!H109","v":0},{"$f":"ŠVIHADLO!H109","v":0},{"$f":"'Z MÍSTA'!H109","v":0},{"$f":"REPRE!E12","v":0},{"$f":"SUM(F129:V129)","v":2732.6575163113876}]
[null,{"$f":"'60'!B110","v":"ŘEHOŘEK"},{"$f":"'60'!C110","v":"Vojtěch"},{"$f":"'60'!D110","v":"6.A"},null,{"$f":"'60'!H110","v":635.14833634228182},{"$f":"'300'!H109","v":440.45590757293235},{"$f":"'1000'!H110","v":0},{"$f":"DÁLKA!H110","v":549.822},{"$f":"VÝŠKA!H110","v":485.36000000000007},{"$f":"MÍČEK!H110","v":500},{"$f":"KOULE!H110","v":507.22222222222223},{"$f":"OŠTĚP!H110","v":0},{"$f":"ČLUNEK!H110","v":0},{"$f":"LEHSED!H110","v":350},{"$f":"ODBÍJENÍ!H110","v":112},{"$f":"PLAVÁNÍ!H110","v":0},{"$f":"SHYBY!H110","v":0},{"$f":"ŠPLH!H110","v":0},{"$f":"ŠVIHADLO!H110","v":0},{"$f":"'Z MÍSTA'!H110","v":554.79999999999995},{"$f":"REPRE!E13","v":0},{"$f":"SUM(F130:V130)","v":4134.8084661374369}]
[null,{"$f":"'60'!B111","v":"ŠÍR"},{"$f":"'60'!C111","v":"Matyáš"},{"$f":"'60'!D111","v":"6.A"},null,{"$f":"'60'!H111","v":655.04600777003475},{"$f":"'300'!H110","v":465.74966141503035},{"$f":"'1000'!H111","v":0},{"$f":"DÁLKA!H111","v":530.55600000000004},{"$f":"VÝŠKA!H111","v":479.64000000000004},{"$f":"MÍČEK!H111","v":250},{"$f":"KOULE!H111","v":379.44444444444446},{"$f":"OŠTĚP!H111","v":0},{"$f":"ČLUNEK!H111","v":603.03986398763539},{"$f":"LEHSED!H111","v":475},{"$f":"ODBÍJENÍ!H111","v":88},{"$f":"PLAVÁNÍ!H111","v":0},{"$f":"SHYBY!H111","v":0},{"$f":"ŠPLH!H111","v":0},{"$f":"ŠVIHADLO!H111","v":237.5},{"$f":"'Z MÍSTA'!H111","v":600.4},{"$f":"REPRE!E14","v":0},{"$f":"SUM(F131:V131)","v":4764.3759776171446}]
[null,{"$f":"'60'!B112","v":"TORÁČ"},{"$f":"'60'!C112","v":"Tomáš"},{"$f":"'60'!D112","v":"6.A"},null,{"$f":"'60'!H112","v":387.77198810715856},{"$f":"'300'!H111","v":110.15266988294343},{"$f":"'1000'!H112","v":0},{"$f":"DÁLKA!H112","v":0},{"$f":"VÝŠKA!H112","v":0},{"$f":"MÍČEK!H112","v":156.25},{"$f":"KOULE!H112","v":427.22222222222223},{"$f":"OŠTĚP!H112","v":0},{"$f":"ČLUNEK!H112","v":372.89289796975345},{"$f":"LEHSED!H112","v":0},{"$f":"ODBÍJENÍ!H112","v":96},{"$f":"PLAVÁNÍ!H112","v":0},{"$f":"SHYBY!H112","v":0},{"$f":"ŠPLH!H112","v":0},{"$f":"ŠVIHADLO!H112","v":0},{"$f":"'Z MÍSTA'!H112","v":0},{"$f":"REPRE!E15","v":0},{"$f":"SUM(F132:V132)","v":1550.2897781820777}]
[null,{"$f":"'60'!B113","v":"ULLMAN"},{"$f":"'60'!C113","v":"Šimon"},{"$f":"'60'!D113","v":"6.A"},null,{"$f":"'60'!H113","v":790.10110775599128},{"$f":"'300'!H112","v":690.35992248257389},{"$f":"'1000'!H113","v":0},{"$f":"DÁLKA!H113","v":634.29600000000005},{"$f":"VÝŠKA!H113","v":439.6},{"$f":"MÍČEK!H113","v":306.25},{"$f":"KOULE!H113","v":0},{"$f":"OŠTĚP!H113","v":0},{"$f":"ČLUNEK!H113","v":788.23865689925674},{"$f":"LEHSED!H113","v":0},{"$f":"ODBÍJENÍ!H113","v":48},{"$f":"PLAVÁNÍ!H113","v":0},{"$f":"SHYBY!H113","v":0},{"$f":"ŠPLH!H113","v":0},{"$f":"ŠVIHADLO!H113","v":0},{"$f":"'Z MÍSTA'!H113","v":0},{"$f":"REPRE!E16","v":0},{"$f":"SUM(F133:V133)","v":3696.8456871378221}]
[null,{"$f":"'60'!B114","v":"VÁCLAVÍK"},{"$f":"'60'!C114","v":"Ondřej"},{"$f":"'60'!D114","v":"6.A"},null,{"$f":"'60'!H114","v":681.65339755027424},{"$f":"'300'!H113","v":609.18116023719892},{"$f":"'1000'!H114","v":0},{"$f":"DÁLKA!H114","v":569.08799999999997},{"$f":"VÝŠKA!H114","v":542.56000000000006},{"$f":"MÍČEK!H114","v":450},{"$f":"KOULE!H114","v":488.88888888888886},{"$f":"OŠTĚP!H114","v":0},{"$f":"ČLUNEK!H114","v":755.1114192063493},{"$f":"LEHSED!H114","v":0},{"$f":"ODBÍJENÍ!H114","v":0},{"$f":"PLAVÁNÍ!H114","v":0},{"$f":"SHYBY!H114","v":0},{"$f":"ŠPLH!H114","v":0},{"$f":"ŠVIHADLO!H114","v":0},{"$f":"'Z MÍSTA'!H114","v":0},{"$f":"REPRE!E17","v":0},{"$f":"SUM(F134:V134)","v":4096.4828658827109}]
[null,{"$f":"'60'!B115","v":"AUERSWALD"},{"$f":"'60'!C115","v":"Daniel"},{"$f":"'60'!D115","v":"6.B"},null,{"$f":"'60'!H115","v":741.70760052578362},{"$f":"'300'!H114","v":594.29908907741935},{"$f":"'1000'!H115","v":0},{"$f":"DÁLKA!H115","v":626.88599999999997},{"$f":"VÝŠKA!H115","v":628.36000000000013},{"$f":"MÍČEK!H115","v":312.5},{"$f":"KOULE!H115","v":473.88888888888886},{"$f":"OŠTĚP!H115","v":0},{"$f":"ČLUNEK!H115","v":761.82264087384772},{"$f":"LEHSED!H115","v":0},{"$f":"ODBÍJENÍ!H115","v":152},{"$f":"PLAVÁNÍ!H115","v":0},{"$f":"SHYBY!H115","v":0},{"$f":"ŠPLH!H115","v":0},{"$f":"ŠVIHADLO!H115","v":187.5},{"$f":"'Z MÍSTA'!H115","v":0},{"$f":"REPRE!E18","v":0},{"$f":"SUM(F135:V135)","v":4478.9642193659392}]
[null,{"$f":"'60'!B116","v":"BODLÁK"},{"$f":"'60'!C116","v":"Vladimír"},{"$f":"'60'!D116","v":"6.B"},null,{"$f":"'60'!H116","v":853.5742752324195},{"$f":"'300'!H115","v":881.77710427784405},{"$f":"'1000'!H116","v":0},{"$f":"DÁLKA!H116","v":0},{"$f":"VÝŠKA!H116","v":628.36000000000013},{"$f":"MÍČEK!H116","v":0},{"$f":"KOULE!H116","v":735.55555555555554},{"$f":"OŠTĚP!H116","v":0},{"$f":"ČLUNEK!H116","v":923.6308112729796},{"$f":"LEHSED!H116","v":662.5},{"$f":"ODBÍJENÍ!H116","v":0},{"$f":"PLAVÁNÍ!H116","v":0},{"$f":"SHYBY!H116","v":0},{"$f":"ŠPLH!H116","v":0},{"$f":"ŠVIHADLO!H116","v":312.5},{"$f":"'Z MÍSTA'!H116","v":114},{"$f":"REPRE!E19","v":0},{"$f":"SUM(F136:V136)","v":5111.8977463387992}]
[null,{"$f":"'60'!B117","v":"BUDÍN"},{"$f":"'60'!C117","v":"Martin"},{"$f":"'60'!D117","v":"6.B"},null,{"$f":"'60'!H117","v":707.61072363288713},{"$f":"'300'!H116","v":613.09700998092637},{"$f":"'1000'!H117","v":0},{"$f":"DÁLKA!H117","v":595.76400000000001},{"$f":"VÝŠKA!H117","v":513.96},{"$f":"MÍČEK!H117","v":387.5},{"$f":"KOULE!H117","v":393.33333333333331},{"$f":"OŠTĚP!H117","v":0},{"$f":"ČLUNEK!H117","v":780.32150748188769},{"$f":"LEHSED!H117","v":375},{"$f":"ODBÍJENÍ!H117","v":72},{"$f":"PLAVÁNÍ!H117","v":0},{"$f":"SHYBY!H117","v":0},{"$f":"ŠPLH!H117","v":0},{"$f":"ŠVIHADLO!H117","v":500},{"$f":"'Z MÍSTA'!H117","v":570},{"$f":"REPRE!E20","v":0},{"$f":"SUM(F137:V137)","v":5508.586574429035}]
[null,{"$f":"'60'!B118","v":"DVOŘÁK"},{"$f":"'60'!C118","v":"Dominik"},{"$f":"'60'!D118","v":"6.B"},null,{"$f":"'60'!H118","v":651.31558557093422},{"$f":"'300'!H117","v":0},{"$f":"'1000'!H118","v":0},{"$f":"DÁLKA!H118","v":477.20400000000001},{"$f":"VÝŠKA!H118","v":411},{"$f":"MÍČEK!H118","v":0},{"$f":"KOULE!H118","v":0},{"$f":"OŠTĚP!H118","v":0},{"$f":"ČLUNEK!H118","v":707.77734601954637},{"$f":"LEHSED!H118","v":0},{"$f":"ODBÍJENÍ!H118","v":0},{"$f":"PLAVÁNÍ!H118","v":0},{"$f":"SHYBY!H118","v":0},{"$f":"ŠPLH!H118","v":0},{"$f":"ŠVIHADLO!H118","v":0},{"$f":"'Z MÍSTA'!H118","v":0},{"$f":"REPRE!E21","v":0},{"$f":"SUM(F138:V138)","v":2247.2969315904807}]
[null,{"$f":"'60'!B119","v":"FIŠERA"},{"$f":"'60'!C119","v":"Vojtěch"},{"$f":"'60'!D119","v":"6.B"},null,{"$f":"'60'!H119","v":708.74407750957857},{"$f":"'300'!H118","v":632.86261664426138},{"$f":"'1000'!H119","v":0},{"$f":"DÁLKA!H119","v":589.83600000000001},{"$f":"VÝŠKA!H119","v":542.56000000000006},{"$f":"MÍČEK!H119","v":237.5},{"$f":"KOULE!H119","v":500},{"$f":"OŠTĚP!H119","v":0},{"$f":"ČLUNEK!H119","v":733.43523229642585},{"$f":"LEHSED!H119","v":325},{"$f":"ODBÍJENÍ!H119","v":96},{"$f":"PLAVÁNÍ!H119","v":0},{"$f":"SHYBY!H119","v":0},{"$f":"ŠPLH!H119","v":0},{"$f":"ŠVIHADLO!H119","v":568.75},{"$f":"'Z MÍSTA'!H119","v":494},{"$f":"REPRE!E22","v":0},{"$f":"SUM(F139:V139)","v":5428.6879264502659}]
[null,{"$f":"'60'!B120","v":"JINDŘIŠEK"},{"$f":"'60'!C120","v":"Vít"},{"$f":"'60'!D120","v":"6.B"},null,{"$f":"'60'!H120","v":821.61552670467506},{"$f":"'300'!H119","v":0},{"$f":"'1000'!H120","v":0},{"$f":"DÁLKA!H120","v":675.79200000000003},{"$f":"VÝŠKA!H120","v":439.6},{"$f":"MÍČEK!H120","v":525},{"$f":"KOULE!H120","v":0},{"$f":"OŠTĚP!H120","v":0},{"$f":"ČLUNEK!H120","v":825.91374580729428},{"$f":"LEHSED!H120","v":500},{"$f":"ODBÍJENÍ!H120","v":224},{"$f":"PLAVÁNÍ!H120","v":0},{"$f":"SHYBY!H120","v":0},{"$f":"ŠPLH!H120","v":0},{"$f":"ŠVIHADLO!H120","v":350},{"$f":"'Z MÍSTA'!H120","v":760},{"$f":"REPRE!E23","v":0},{"$f":"SUM(F140:V140)","v":5121.9212725119687}]
[null,{"$f":"'60'!B121","v":"JIROUŠ"},{"$f":"'60'!C121","v":"Matouš"},{"$f":"'60'!D121","v":"6.B"},null,{"$f":"'60'!H121","v":729.91350884920632},{"$f":"'300'!H120","v":0},{"$f":"'1000'!H121","v":0},{"$f":"DÁLKA!H121","v":638.74199999999996},{"$f":"VÝŠKA!H121","v":439.6},{"$f":"MÍČEK!H121","v":350},{"$f":"KOULE!H121","v":468.88888888888886},{"$f":"OŠTĚP!H121","v":0},{"$f":"ČLUNEK!H121","v":819.68099260312442},{"$f":"LEHSED!H121","v":312.5},{"$f":"ODBÍJENÍ!H121","v":152},{"$f":"PLAVÁNÍ!H121","v":0},{"$f":"SHYBY!H121","v":0},{"$f":"ŠPLH!H121","v":0},{"$f":"ŠVIHADLO!H121","v":250},{"$f":"'Z MÍSTA'!H121","v":760},{"$f":"REPRE!E24","v":0},{"$f":"SUM(F141:V141)","v":4921.3253903412196}]
[null,{"$f":"'60'!B122","v":"KERLE"},{"$f":"'60'!C122","v":"Marek"},{"$f":"'60'!D122","v":"6.B"},null,{"$f":"'60'!H122","v":697.60227154135328},{"$f":"'300'!H121","v":685.9413855191259},{"$f":"'1000'!H122","v":0},{"$f":"DÁLKA!H122","v":586.87199999999996},{"$f":"VÝŠKA!H122","v":571.16000000000008},{"$f":"MÍČEK!H122","v":0},{"$f":"KOULE!H122","v":542.22222222222217},{"$f":"OŠTĚP!H122","v":0},{"$f":"ČLUNEK!H122","v":794.22813569272967},{"$f":"LEHSED!H122","v":600},{"$f":"ODBÍJENÍ!H122","v":176},{"$f":"PLAVÁNÍ!H122","v":0},{"$f":"SHYBY!H122","v":0},{"$f":"ŠPLH!H122","v":0},{"$f":"ŠVIHADLO!H122","v":231.25},{"$f":"'Z MÍSTA'!H122","v":600.4},{"$f":"REPRE!E25","v":0},{"$f":"SUM(F142:V142)","v":5485.67601497543}]
[null,{"$f":"'60'!B123","v":"LUKEŠ"},{"$f":"'60'!C123","v":"Jakub"},{"$f":"'60'!D123","v":"6.B"},null,{"$f":"'60'!H123","v":719.14309641325542},{"$f":"'300'!H122","v":680.65443244729283},{"$f":"'1000'!H123","v":0},{"$f":"DÁLKA!H123","v":561.678},{"$f":"VÝŠKA!H123","v":542.56000000000006},{"$f":"MÍČEK!H123","v":262.5},{"$f":"KOULE!H123","v":470.55555555555554},{"$f":"OŠTĚP!H123","v":0},{"$f":"ČLUNEK!H123","v":822.7911821996903},{"$f":"LEHSED!H123","v":375},{"$f":"ODBÍJENÍ!H123","v":96},{"$f":"PLAVÁNÍ!H123","v":0},{"$f":"SHYBY!H123","v":0},{"$f":"ŠPLH!H123","v":0},{"$f":"ŠVIHADLO!H123","v":406.25},{"$f":"'Z MÍSTA'!H123","v":722},{"$f":"REPRE!E26","v":0},{"$f":"SUM(F143:V143)","v":5659.1322666157939}]
[null,{"$f":"'60'!B124","v":"OTT"},{"$f":"'60'!C124","v":"Matyáš"},{"$f":"'60'!D124","v":"6.B"},null,{"$f":"'60'!H124","v":678.56801538181821},{"$f":"'300'!H123","v":478.9375550137355},{"$f":"'1000'!H124","v":0},{"$f":"DÁLKA!H124","v":566.12400000000002},{"$f":"VÝŠKA!H124","v":542.56000000000006},{"$f":"MÍČEK!H124","v":362.5},{"$f":"KOULE!H124","v":427.77777777777777},{"$f":"OŠTĚP!H124","v":0},{"$f":"ČLUNEK!H124","v":762.78587780442331},{"$f":"LEHSED!H124","v":0},{"$f":"ODBÍJENÍ!H124","v":88},{"$f":"PLAVÁNÍ!H124","v":0},{"$f":"SHYBY!H124","v":0},{"$f":"ŠPLH!H124","v":0},{"$f":"ŠVIHADLO!H124","v":0},{"$f":"'Z MÍSTA'!H124","v":0},{"$f":"REPRE!E27","v":0},{"$f":"SUM(F144:V144)","v":3907.2532259777549}]
[null,{"$f":"'60'!B125","v":"POKORNÝ"},{"$f":"'60'!C125","v":"Matyáš"},{"$f":"'60'!D125","v":"6.B"},null,{"$f":"'60'!H125","v":808.19778178970921},{"$f":"'300'!H124","v":809.65765948527405},{"$f":"'1000'!H125","v":0},{"$f":"DÁLKA!H125","v":0},{"$f":"VÝŠKA!H125","v":571.16000000000008},{"$f":"MÍČEK!H125","v":537.5},{"$f":"KOULE!H125","v":461.11111111111109},{"$f":"OŠTĚP!H125","v":0},{"$f":"ČLUNEK!H125","v":882.13528896690059},{"$f":"LEHSED!H125","v":0},{"$f":"ODBÍJENÍ!H125","v":176},{"$f":"PLAVÁNÍ!H125","v":0},{"$f":"SHYBY!H125","v":0},{"$f":"ŠPLH!H125","v":0},{"$f":"ŠVIHADLO!H125","v":0},{"$f":"'Z MÍSTA'!H125","v":0},{"$f":"REPRE!E28","v":0},{"$f":"SUM(F145:V145)","v":4245.7618413529954}]
[null,{"$f":"'60'!B126","v":"POLÁČEK"},{"$f":"'60'!C126","v":"Matyáš"},{"$f":"'60'!D126","v":"6.B"},null,{"$f":"'60'!H126","v":654.57686416013928},{"$f":"'300'!H125","v":421.95834938069231},{"$f":"'1000'!H126","v":0},{"$f":"DÁLKA!H126","v":529.07399999999996},{"$f":"VÝŠKA!H126","v":513.96},{"$f":"MÍČEK!H126","v":425},{"$f":"KOULE!H126","v":502.77777777777777},{"$f":"OŠTĚP!H126","v":0},{"$f":"ČLUNEK!H126","v":687.25683131707922},{"$f":"LEHSED!H126","v":0},{"$f":"ODBÍJENÍ!H126","v":80},{"$f":"PLAVÁNÍ!H126","v":0},{"$f":"SHYBY!H126","v":0},{"$f":"ŠPLH!H126","v":0},{"$f":"ŠVIHADLO!H126","v":0},{"$f":"'Z MÍSTA'!H126","v":0},{"$f":"REPRE!E29","v":0},{"$f":"SUM(F146:V146)","v":3814.6038226356886}]
[null,{"$f":"'60'!B127","v":"SOUKUP"},{"$f":"'60'!C127","v":"Patrik"},{"$f":"'60'!D127","v":"6.B"},null,{"$f":"'60'!H127","v":729.30507127849353},{"$f":"'300'!H126","v":686.49155394383092},{"$f":"'1000'!H127","v":0},{"$f":"DÁLKA!H127","v":603.17399999999998},{"$f":"VÝŠKA!H127","v":542.56000000000006},{"$f":"MÍČEK!H127","v":375},{"$f":"KOULE!H127","v":472.22222222222223},{"$f":"OŠTĚP!H127","v":0},{"$f":"ČLUNEK!H127","v":845.985323149946},{"$f":"LEHSED!H127","v":337.5},{"$f":"ODBÍJENÍ!H127","v":88},{"$f":"PLAVÁNÍ!H127","v":0},{"$f":"SHYBY!H127","v":0},{"$f":"ŠPLH!H127","v":0},{"$f":"ŠVIHADLO!H127","v":593.75},{"$f":"'Z MÍSTA'!H127","v":760},{"$f":"REPRE!E30","v":0},{"$f":"SUM(F147:V147)","v":6033.9881705944927}]
[null,{"$f":"'60'!B128","v":"VALENTA"},{"$f":"'60'!C128","v":"Jakub"},{"$f":"'60'!D128","v":"6.B"},null,{"$f":"'60'!H128","v":720.32111027343751},{"$f":"'300'!H127","v":0},{"$f":"'1000'!H128","v":0},{"$f":"DÁLKA!H128","v":0},{"$f":"VÝŠKA!H128","v":628.36000000000013},{"$f":"MÍČEK!H128","v":325},{"$f":"KOULE!H128","v":455.55555555555554},{"$f":"OŠTĚP!H128","v":0},{"$f":"ČLUNEK!H128","v":810.42346895015305},{"$f":"LEHSED!H128","v":612.5},{"$f":"ODBÍJENÍ!H128","v":0},{"$f":"PLAVÁNÍ!H128","v":0},{"$f":"SHYBY!H128","v":0},{"$f":"ŠPLH!H128","v":0},{"$f":"ŠVIHADLO!H128","v":475},{"$f":"'Z MÍSTA'!H128","v":0},{"$f":"REPRE!E31","v":0},{"$f":"SUM(F148:V148)","v":4027.1601347791466}]
[null,{"$f":"'60'!B129","v":"VRBATA"},{"$f":"'60'!C129","v":"Dominik"},{"$f":"'60'!D129","v":"6.B"},null,{"$f":"'60'!H129","v":719.73152870243905},{"$f":"'300'!H128","v":621.1903985445233},{"$f":"'1000'!H129","v":0},{"$f":"DÁLKA!H129","v":613.548},{"$f":"VÝŠKA!H129","v":571.16000000000008},{"$f":"MÍČEK!H129","v":431.25},{"$f":"KOULE!H129","v":497.22222222222223},{"$f":"OŠTĚP!H129","v":0},{"$f":"ČLUNEK!H129","v":822.7911821996903},{"$f":"LEHSED!H129","v":0},{"$f":"ODBÍJENÍ!H129","v":72},{"$f":"PLAVÁNÍ!H129","v":0},{"$f":"SHYBY!H129","v":0},{"$f":"ŠPLH!H129","v":0},{"$f":"ŠVIHADLO!H129","v":0},{"$f":"'Z MÍSTA'!H129","v":0},{"$f":"REPRE!E32","v":0},{"$f":"SUM(F149:V149)","v":4348.8933316688745}]
[null,{"$f":"'60'!B130","v":"FEJKL"},{"$f":"'60'!C130","v":"Jan"},{"$f":"'60'!D130","v":"7.A"},null,{"$f":"'60'!H130","v":793.05122201312906},{"$f":"'300'!H129","v":0},{"$f":"'1000'!H130","v":0},{"$f":"DÁLKA!H130","v":800.28},{"$f":"VÝŠKA!H130","v":788.5200000000001},{"$f":"MÍČEK!H130","v":612.5},{"$f":"KOULE!H130","v":603.88888888888891},{"$f":"OŠTĚP!H130","v":0},{"$f":"ČLUNEK!H130","v":0},{"$f":"LEHSED!H130","v":712.5},{"$f":"ODBÍJENÍ!H130","v":144},{"$f":"PLAVÁNÍ!H130","v":436.95443449696967},{"$f":"SHYBY!H130","v":0},{"$f":"ŠPLH!H130","v":0},{"$f":"ŠVIHADLO!H130","v":262.5},{"$f":"'Z MÍSTA'!H130","v":760},{"$f":"REPRE!E33","v":0},{"$f":"SUM(F150:V150)","v":5914.1945453989883}]
[null,{"$f":"'60'!B131","v":"KOTYK"},{"$f":"'60'!C131","v":"Tadeáš"},{"$f":"'60'!D131","v":"7.A"},null,{"$f":"'60'!H131","v":694.34095039252338},{"$f":"'300'!H130","v":0},{"$f":"'1000'!H131","v":0},{"$f":"DÁLKA!H131","v":549.822},{"$f":"VÝŠKA!H131","v":582.60000000000014},{"$f":"MÍČEK!H131","v":250},{"$f":"KOULE!H131","v":510.55555555555554},{"$f":"OŠTĚP!H131","v":0},{"$f":"ČLUNEK!H131","v":0},{"$f":"LEHSED!H131","v":437.5},{"$f":"ODBÍJENÍ!H131","v":56},{"$f":"PLAVÁNÍ!H131","v":0},{"$f":"SHYBY!H131","v":0},{"$f":"ŠPLH!H131","v":0},{"$f":"ŠVIHADLO!H131","v":125},{"$f":"'Z MÍSTA'!H131","v":228},{"$f":"REPRE!E34","v":0},{"$f":"SUM(F151:V151)","v":3433.8185059480793}]
[null,{"$f":"'60'!B132","v":"KRAUSE"},{"$f":"'60'!C132","v":"Tadeáš"},{"$f":"'60'!D132","v":"7.A"},null,{"$f":"'60'!H132","v":726.88333358341561},{"$f":"'300'!H131","v":0},{"$f":"'1000'!H132","v":0},{"$f":"DÁLKA!H132","v":640.22400000000005},{"$f":"VÝŠKA!H132","v":611.20000000000005},{"$f":"MÍČEK!H132","v":368.75},{"$f":"KOULE!H132","v":478.88888888888886},{"$f":"OŠTĚP!H132","v":0},{"$f":"ČLUNEK!H132","v":0},{"$f":"LEHSED!H132","v":675},{"$f":"ODBÍJENÍ!H132","v":144},{"$f":"PLAVÁNÍ!H132","v":0},{"$f":"SHYBY!H132","v":0},{"$f":"ŠPLH!H132","v":0},{"$f":"ŠVIHADLO!H132","v":756.25},{"$f":"'Z MÍSTA'!H132","v":763.8},{"$f":"REPRE!E35","v":0},{"$f":"SUM(F152:V152)","v":5164.9962224723049}]
[null,{"$f":"'60'!B133","v":"LEŠÁK"},{"$f":"'60'!C133","v":"Martin"},{"$f":"'60'!D133","v":"7.A"},null,{"$f":"'60'!H133","v":685.296059724011},{"$f":"'300'!H132","v":0},{"$f":"'1000'!H133","v":0},{"$f":"DÁLKA!H133","v":0},{"$f":"VÝŠKA!H133","v":548.28000000000009},{"$f":"MÍČEK!H133","v":318.75},{"$f":"KOULE!H133","v":501.66666666666663},{"$f":"OŠTĚP!H133","v":0},{"$f":"ČLUNEK!H133","v":0},{"$f":"LEHSED!H133","v":187.5},{"$f":"ODBÍJENÍ!H133","v":56},{"$f":"PLAVÁNÍ!H133","v":0},{"$f":"SHYBY!H133","v":0},{"$f":"ŠPLH!H133","v":0},{"$f":"ŠVIHADLO!H133","v":187.5},{"$f":"'Z MÍSTA'!H133","v":0},{"$f":"REPRE!E36","v":0},{"$f":"SUM(F153:V153)","v":2484.9927263906775}]
[null,{"$f":"'60'!B134","v":"NECHANICKÝ"},{"$f":"'60'!C134","v":"David"},{"$f":"'60'!D134","v":"7.A"},null,{"$f":"'60'!H134","v":757.26924033160617},{"$f":"'300'!H133","v":0},{"$f":"'1000'!H134","v":0},{"$f":"DÁLKA!H134","v":660.97199999999998},{"$f":"VÝŠKA!H134","v":639.80000000000007},{"$f":"MÍČEK!H134","v":387.5},{"$f":"KOULE!H134","v":0},{"$f":"OŠTĚP!H134","v":0},{"$f":"ČLUNEK!H134","v":0},{"$f":"LEHSED!H134","v":0},{"$f":"ODBÍJENÍ!H134","v":176},{"$f":"PLAVÁNÍ!H134","v":436.95443449696967},{"$f":"SHYBY!H134","v":0},{"$f":"ŠPLH!H134","v":0},{"$f":"ŠVIHADLO!H134","v":0},{"$f":"'Z MÍSTA'!H134","v":0},{"$f":"REPRE!E37","v":0},{"$f":"SUM(F154:V154)","v":3058.4956748285758}]
[null,{"$f":"'60'!B135","v":"ŘEHOŘEK"},{"$f":"'60'!C135","v":"Jan"},{"$f":"'60'!D135","v":"7.A"},null,{"$f":"'60'!H135","v":763.98410148691096},{"$f":"'300'!H134","v":0},{"$f":"'1000'!H135","v":0},{"$f":"DÁLKA!H135","v":647.63400000000001},{"$f":"VÝŠKA!H135","v":668.4},{"$f":"MÍČEK!H135","v":525},{"$f":"KOULE!H135","v":460},{"$f":"OŠTĚP!H135","v":0},{"$f":"ČLUNEK!H135","v":0},{"$f":"LEHSED!H135","v":325},{"$f":"ODBÍJENÍ!H135","v":336},{"$f":"PLAVÁNÍ!H135","v":436.95443449696967},{"$f":"SHYBY!H135","v":0},{"$f":"ŠPLH!H135","v":0},{"$f":"ŠVIHADLO!H135","v":718.75},{"$f":"'Z MÍSTA'!H135","v":0},{"$f":"REPRE!E38","v":0},{"$f":"SUM(F155:V155)","v":4881.7225359838803}]
[null,{"$f":"'60'!B136","v":"SOUKUP"},{"$f":"'60'!C136","v":"Ondřej"},{"$f":"'60'!D136","v":"7.A"},null,{"$f":"'60'!H136","v":734.82481691999999},{"$f":"'300'!H135","v":0},{"$f":"'1000'!H136","v":0},{"$f":"DÁLKA!H136","v":576.49800000000005},{"$f":"VÝŠKA!H136","v":582.60000000000014},{"$f":"MÍČEK!H136","v":0},{"$f":"KOULE!H136","v":0},{"$f":"OŠTĚP!H136","v":0},{"$f":"ČLUNEK!H136","v":0},{"$f":"LEHSED!H136","v":587.5},{"$f":"ODBÍJENÍ!H136","v":176},{"$f":"PLAVÁNÍ!H136","v":0},{"$f":"SHYBY!H136","v":0},{"$f":"ŠPLH!H136","v":0},{"$f":"ŠVIHADLO!H136","v":0},{"$f":"'Z MÍSTA'!H136","v":0},{"$f":"REPRE!E39","v":0},{"$f":"SUM(F156:V156)","v":2657.4228169200005}]
[null,{"$f":"'60'!B137","v":"SPANILÝ"},{"$f":"'60'!C137","v":"David"},{"$f":"'60'!D137","v":"7.A"},null,{"$f":"'60'!H137","v":747.45389481632651},{"$f":"'300'!H136","v":0},{"$f":"'1000'!H137","v":0},{"$f":"DÁLKA!H137","v":0},{"$f":"VÝŠKA!H137","v":0},{"$f":"MÍČEK!H137","v":587.5},{"$f":"KOULE!H137","v":481.66666666666663},{"$f":"OŠTĚP!H137","v":0},{"$f":"ČLUNEK!H137","v":0},{"$f":"LEHSED!H137","v":675},{"$f":"ODBÍJENÍ!H137","v":336},{"$f":"PLAVÁNÍ!H137","v":436.95443449696967},{"$f":"SHYBY!H137","v":0},{"$f":"ŠPLH!H137","v":0},{"$f":"ŠVIHADLO!H137","v":662.5},{"$f":"'Z MÍSTA'!H137","v":752.4},{"$f":"REPRE!E40","v":0},{"$f":"SUM(F157:V157)","v":4679.4749959799628}]
[null,{"$f":"'60'!B138","v":"ČADAN"},{"$f":"'60'!C138","v":"Benjamín"},{"$f":"'60'!D138","v":"7.B"},null,{"$f":"'60'!H138","v":0},{"$f":"'300'!H137","v":0},{"$f":"'1000'!H138","v":0},{"$f":"DÁLKA!H138","v":603.17399999999998},{"$f":"VÝŠKA!H138","v":605.48},{"$f":"MÍČEK!H138","v":325},{"$f":"KOULE!H138","v":466.66666666666663},{"$f":"OŠTĚP!H138","v":0},{"$f":"ČLUNEK!H138","v":0},{"$f":"LEHSED!H138","v":0},{"$f":"ODBÍJENÍ!H138","v":80},{"$f":"PLAVÁNÍ!H138","v":0},{"$f":"SHYBY!H138","v":0},{"$f":"ŠPLH!H138","v":0},{"$f":"ŠVIHADLO!H138","v":0},{"$f":"'Z MÍSTA'!H138","v":0},{"$f":"REPRE!E41","v":0},{"$f":"SUM(F158:V158)","v":2080.3206666666665}]
[null,{"$f":"'60'!B139","v":"ČERNÝ"},{"$f":"'60'!C139","v":"Michal"},{"$f":"'60'!D139","v":"7.B"},null,{"$f":"'60'!H139","v":713.32125185328186},{"$f":"'300'!H138","v":0},{"$f":"'1000'!H139","v":0},{"$f":"DÁLKA!H139","v":529.07399999999996},{"$f":"VÝŠKA!H139","v":548.28000000000009},{"$f":"MÍČEK!H139","v":493.75},{"$f":"KOULE!H139","v":463.88888888888886},{"$f":"OŠTĚP!H139","v":0},{"$f":"ČLUNEK!H139","v":0},{"$f":"LEHSED!H139","v":0},{"$f":"ODBÍJENÍ!H139","v":120},{"$f":"PLAVÁNÍ!H139","v":0},{"$f":"SHYBY!H139","v":0},{"$f":"ŠPLH!H139","v":0},{"$f":"ŠVIHADLO!H139","v":0},{"$f":"'Z MÍSTA'!H139","v":0},{"$f":"REPRE!E42","v":0},{"$f":"SUM(F159:V159)","v":2868.3141407421708}]
[null,{"$f":"'60'!B140","v":"DOLEJŠÍ"},{"$f":"'60'!C140","v":"David"},{"$f":"'60'!D140","v":"7.B"},null,{"$f":"'60'!H140","v":673.49983506306307},{"$f":"'300'!H139","v":0},{"$f":"'1000'!H140","v":0},{"$f":"DÁLKA!H140","v":560.19600000000003},{"$f":"VÝŠKA!H140","v":639.80000000000007},{"$f":"MÍČEK!H140","v":262.5},{"$f":"KOULE!H140","v":516.66666666666663},{"$f":"OŠTĚP!H140","v":0},{"$f":"ČLUNEK!H140","v":0},{"$f":"LEHSED!H140","v":562.5},{"$f":"ODBÍJENÍ!H140","v":64},{"$f":"PLAVÁNÍ!H140","v":0},{"$f":"SHYBY!H140","v":0},{"$f":"ŠPLH!H140","v":0},{"$f":"ŠVIHADLO!H140","v":362.5},{"$f":"'Z MÍSTA'!H140","v":577.6},{"$f":"REPRE!E43","v":0},{"$f":"SUM(F160:V160)","v":4219.2625017297296}]
[null,{"$f":"'60'!B141","v":"NOVÁK"},{"$f":"'60'!C141","v":"Matěj"},{"$f":"'60'!D141","v":"7.B"},null,{"$f":"'60'!H141","v":707.0456704106972},{"$f":"'300'!H140","v":0},{"$f":"'1000'!H141","v":0},{"$f":"DÁLKA!H141","v":588.35400000000004},{"$f":"VÝŠKA!H141","v":582.60000000000014},{"$f":"MÍČEK!H141","v":381.25},{"$f":"KOULE!H141","v":463.33333333333331},{"$f":"OŠTĚP!H141","v":0},{"$f":"ČLUNEK!H141","v":0},{"$f":"LEHSED!H141","v":0},{"$f":"ODBÍJENÍ!H141","v":64},{"$f":"PLAVÁNÍ!H141","v":0},{"$f":"SHYBY!H141","v":0},{"$f":"ŠPLH!H141","v":0},{"$f":"ŠVIHADLO!H141","v":425},{"$f":"'Z MÍSTA'!H141","v":642.19999999999993},{"$f":"REPRE!E44","v":0},{"$f":"SUM(F161:V161)","v":3853.7830037440303}]
[null,{"$f":"'60'!B142","v":"POVAŽANEC"},{"$f":"'60'!C142","v":"Martin"},{"$f":"'60'!D142","v":"7.B"},null,{"$f":"'60'!H142","v":743.61137618661257},{"$f":"'300'!H141","v":0},{"$f":"'1000'!H142","v":0},{"$f":"DÁLKA!H142","v":660.97199999999998},{"$f":"VÝŠKA!H142","v":611.20000000000005},{"$f":"MÍČEK!H142","v":506.25},{"$f":"KOULE!H142","v":645},{"$f":"OŠTĚP!H142","v":0},{"$f":"ČLUNEK!H142","v":0},{"$f":"LEHSED!H142","v":0},{"$f":"ODBÍJENÍ!H142","v":64},{"$f":"PLAVÁNÍ!H142","v":0},{"$f":"SHYBY!H142","v":0},{"$f":"ŠPLH!H142","v":0},{"$f":"ŠVIHADLO!H142","v":0},{"$f":"'Z MÍSTA'!H142","v":0},{"$f":"REPRE!E45","v":0},{"$f":"SUM(F162:V162)","v":3231.0333761866123}]
[null,{"$f":"'60'!B143","v":"RICHTER"},{"$f":"'60'!C143","v":"Jakub"},{"$f":"'60'!D143","v":"7.B"},null,{"$f":"'60'!H143","v":0},{"$f":"'300'!H142","v":0},{"$f":"'1000'!H143","v":0},{"$f":"DÁLKA!H143","v":0},{"$f":"VÝŠKA!H143","v":0},{"$f":"MÍČEK!H143","v":287.5},{"$f":"KOULE!H143","v":0},{"$f":"OŠTĚP!H143","v":0},{"$f":"ČLUNEK!H143","v":0},{"$f":"LEHSED!H143","v":250},{"$f":"ODBÍJENÍ!H143","v":0},{"$f":"PLAVÁNÍ!H143","v":0},{"$f":"SHYBY!H143","v":0},{"$f":"ŠPLH!H143","v":0},{"$f":"ŠVIHADLO!H143","v":0},{"$f":"'Z MÍSTA'!H143","v":0},{"$f":"REPRE!E46","v":0},{"$f":"SUM(F163:V163)","v":537.5}]
[null,{"$f":"'60'!B144","v":"ROZUMEK"},{"$f":"'60'!C144","v":"Adam"},{"$f":"'60'!D144","v":"7.B"},null,{"$f":"'60'!H144","v":0},{"$f":"'300'!H143","v":0},{"$f":"'1000'!H144","v":0},{"$f":"DÁLKA!H144","v":515.73599999999999},{"$f":"VÝŠKA!H144","v":548.28000000000009},{"$f":"MÍČEK!H144","v":475},{"$f":"KOULE!H144","v":595.55555555555554},{"$f":"OŠTĚP!H144","v":0},{"$f":"ČLUNEK!H144","v":0},{"$f":"LEHSED!H144","v":0},{"$f":"ODBÍJENÍ!H144","v":208},{"$f":"PLAVÁNÍ!H144","v":0},{"$f":"SHYBY!H144","v":0},{"$f":"ŠPLH!H144","v":0},{"$f":"ŠVIHADLO!H144","v":0},{"$f":"'Z MÍSTA'!H144","v":0},{"$f":"REPRE!E47","v":0},{"$f":"SUM(F164:V164)","v":2342.5715555555557}]
[null,{"$f":"'60'!B145","v":"VALENTA"},{"$f":"'60'!C145","v":"František"},{"$f":"'60'!D145","v":"7.B"},null,{"$f":"'60'!H145","v":682.68939278388279},{"$f":"'300'!H144","v":0},{"$f":"'1000'!H145","v":0},{"$f":"DÁLKA!H145","v":515.73599999999999},{"$f":"VÝŠKA!H145","v":582.60000000000014},{"$f":"MÍČEK!H145","v":250},{"$f":"KOULE!H145","v":513.33333333333337},{"$f":"OŠTĚP!H145","v":0},{"$f":"ČLUNEK!H145","v":0},{"$f":"LEHSED!H145","v":0},{"$f":"ODBÍJENÍ!H145","v":120},{"$f":"PLAVÁNÍ!H145","v":0},{"$f":"SHYBY!H145","v":0},{"$f":"ŠPLH!H145","v":0},{"$f":"ŠVIHADLO!H145","v":0},{"$f":"'Z MÍSTA'!H145","v":0},{"$f":"REPRE!E48","v":0},{"$f":"SUM(F165:V165)","v":2664.3587261172161}]
[null,{"$f":"'60'!B146","v":"ZAPLATÍLEK"},{"$f":"'60'!C146","v":"Josef"},{"$f":"'60'!D146","v":"7.B"},null,{"$f":"'60'!H146","v":733.58963764471059},{"$f":"'300'!H145","v":0},{"$f":"'1000'!H146","v":0},{"$f":"DÁLKA!H146","v":0},{"$f":"VÝŠKA!H146","v":582.60000000000014},{"$f":"MÍČEK!H146","v":450},{"$f":"KOULE!H146","v":467.22222222222223},{"$f":"OŠTĚP!H146","v":0},{"$f":"ČLUNEK!H146","v":0},{"$f":"LEHSED!H146","v":0},{"$f":"ODBÍJENÍ!H146","v":208},{"$f":"PLAVÁNÍ!H146","v":0},{"$f":"SHYBY!H146","v":0},{"$f":"ŠPLH!H146","v":0},{"$f":"ŠVIHADLO!H146","v":0},{"$f":"'Z MÍSTA'!H146","v":0},{"$f":"REPRE!E49","v":0},{"$f":"SUM(F166:V166)","v":2441.4118598669329}]
[null,{"$f":"'60'!B147","v":"ERBEN"},{"$f":"'60'!C147","v":"Viktor"},{"$f":"'60'!D147","v":"8.A"},null,{"$f":"'60'!H147","v":709.31238439117942},{"$f":"'300'!H146","v":520.97744533078219},{"$f":"'1000'!H147","v":0},{"$f":"DÁLKA!H147","v":0},{"$f":"VÝŠKA!H147","v":605.48},{"$f":"MÍČEK!H147","v":262.5},{"$f":"KOULE!H147","v":490.55555555555554},{"$f":"OŠTĚP!H147","v":0},{"$f":"ČLUNEK!H147","v":767.61913662886002},{"$f":"LEHSED!H147","v":350},{"$f":"ODBÍJENÍ!H147","v":232},{"$f":"PLAVÁNÍ!H147","v":0},{"$f":"SHYBY!H147","v":0},{"$f":"ŠPLH!H147","v":0},{"$f":"ŠVIHADLO!H147","v":0},{"$f":"'Z MÍSTA'!H147","v":623.19999999999993},{"$f":"REPRE!E50","v":0},{"$f":"SUM(F167:V167)","v":4561.6445219063771}]
[null,{"$f":"'60'!B148","v":"FRANC"},{"$f":"'60'!C148","v":"Daniel"},{"$f":"'60'!D148","v":"8.A"},null,{"$f":"'60'!H148","v":673.49983506306307},{"$f":"'300'!H147","v":0},{"$f":"'1000'!H148","v":0},{"$f":"DÁLKA!H148","v":564.64199999999994},{"$f":"VÝŠKA!H148","v":605.48},{"$f":"MÍČEK!H148","v":325},{"$f":"KOULE!H148","v":0},{"$f":"OŠTĚP!H148","v":0},{"$f":"ČLUNEK!H148","v":679.35523936763025},{"$f":"LEHSED!H148","v":0},{"$f":"ODBÍJENÍ!H148","v":104},{"$f":"PLAVÁNÍ!H148","v":0},{"$f":"SHYBY!H148","v":0},{"$f":"ŠPLH!H148","v":0},{"$f":"ŠVIHADLO!H148","v":0},{"$f":"'Z MÍSTA'!H148","v":600.4},{"$f":"REPRE!E51","v":0},{"$f":"SUM(F168:V168)","v":3552.3770744306935}]
[null,{"$f":"'60'!B149","v":"JINDŘIŠEK"},{"$f":"'60'!C149","v":"Matyáš"},{"$f":"'60'!D149","v":"8.A"},null,{"$f":"'60'!H149","v":0},{"$f":"'300'!H148","v":743.75072176931212},{"$f":"'1000'!H149","v":0},{"$f":"DÁLKA!H149","v":0},{"$f":"VÝŠKA!H149","v":628.36000000000013},{"$f":"MÍČEK!H149","v":0},{"$f":"KOULE!H149","v":643.88888888888891},{"$f":"OŠTĚP!H149","v":0},{"$f":"ČLUNEK!H149","v":873.21399850009198},{"$f":"LEHSED!H149","v":512.5},{"$f":"ODBÍJENÍ!H149","v":224},{"$f":"PLAVÁNÍ!H149","v":0},{"$f":"SHYBY!H149","v":0},{"$f":"ŠPLH!H149","v":0},{"$f":"ŠVIHADLO!H149","v":493.75},{"$f":"'Z MÍSTA'!H149","v":779},{"$f":"REPRE!E52","v":0},{"$f":"SUM(F169:V169)","v":4898.4636091582934}]
[null,{"$f":"'60'!B150","v":"KOLAČNÝ"},{"$f":"'60'!C150","v":"Štěpán"},{"$f":"'60'!D150","v":"8.A"},null,{"$f":"'60'!H150","v":692.18698037243951},{"$f":"'300'!H149","v":454.71741921226044},{"$f":"'1000'!H150","v":0},{"$f":"DÁLKA!H150","v":566.12400000000002},{"$f":"VÝŠKA!H150","v":548.28000000000009},{"$f":"MÍČEK!H150","v":312.5},{"$f":"KOULE!H150","v":600.55555555555554},{"$f":"OŠTĚP!H150","v":0},{"$f":"ČLUNEK!H150","v":794.22813569272967},{"$f":"LEHSED!H150","v":537.5},{"$f":"ODBÍJENÍ!H150","v":152},{"$f":"PLAVÁNÍ!H150","v":0},{"$f":"SHYBY!H150","v":0},{"$f":"ŠPLH!H150","v":0},{"$f":"ŠVIHADLO!H150","v":0},{"$f":"'Z MÍSTA'!H150","v":684},{"$f":"REPRE!E53","v":0},{"$f":"SUM(F170:V170)","v":5342.0920908329854}]
[null,{"$f":"'60'!B151","v":"KRISTAN"},{"$f":"'60'!C151","v":"Jáchym"},{"$f":"'60'!D151","v":"8.A"},null,{"$f":"'60'!H151","v":541.0170445879121},{"$f":"'300'!H150","v":259.34357530173838},{"$f":"'1000'!H151","v":0},{"$f":"DÁLKA!H151","v":0},{"$f":"VÝŠKA!H151","v":485.36000000000007},{"$f":"MÍČEK!H151","v":187.5},{"$f":"KOULE!H151","v":372.22222222222223},{"$f":"OŠTĚP!H151","v":0},{"$f":"ČLUNEK!H151","v":500.08272907977994},{"$f":"LEHSED!H151","v":0},{"$f":"ODBÍJENÍ!H151","v":96},{"$f":"PLAVÁNÍ!H151","v":0},{"$f":"SHYBY!H151","v":0},{"$f":"ŠPLH!H151","v":0},{"$f":"ŠVIHADLO!H151","v":0},{"$f":"'Z MÍSTA'!H151","v":440.79999999999995},{"$f":"REPRE!E54","v":0},{"$f":"SUM(F171:V171)","v":2882.3255711916527}]
[null,{"$f":"'60'!B152","v":"NGUYEN"},{"$f":"'60'!C152","v":"David"},{"$f":"'60'!D152","v":"8.A"},null,{"$f":"'60'!H152","v":0},{"$f":"'300'!H151","v":0},{"$f":"'1000'!H152","v":0},{"$f":"DÁLKA!H152","v":0},{"$f":"VÝŠKA!H152","v":628.36000000000013},{"$f":"MÍČEK!H152","v":456.25},{"$f":"KOULE!H152","v":0},{"$f":"OŠTĚP!H152","v":0},{"$f":"ČLUNEK!H152","v":876.54728539957136},{"$f":"LEHSED!H152","v":0},{"$f":"ODBÍJENÍ!H152","v":232},{"$f":"PLAVÁNÍ!H152","v":0},{"$f":"SHYBY!H152","v":0},{"$f":"ŠPLH!H152","v":0},{"$f":"ŠVIHADLO!H152","v":0},{"$f":"'Z MÍSTA'!H152","v":874},{"$f":"REPRE!E55","v":0},{"$f":"SUM(F172:V172)","v":3067.1572853995713}]
[null,{"$f":"'60'!B153","v":"NOVOTNÝ"},{"$f":"'60'!C153","v":"Jan"},{"$f":"'60'!D153","v":"8.A"},null,{"$f":"'60'!H153","v":772.22992250265111},{"$f":"'300'!H152","v":809.19392737638987},{"$f":"'1000'!H153","v":0},{"$f":"DÁLKA!H153","v":662.45399999999995},{"$f":"VÝŠKA!H153","v":628.36000000000013},{"$f":"MÍČEK!H153","v":337.5},{"$f":"KOULE!H153","v":0},{"$f":"OŠTĚP!H153","v":0},{"$f":"ČLUNEK!H153","v":865.49230109793598},{"$f":"LEHSED!H153","v":0},{"$f":"ODBÍJENÍ!H153","v":128},{"$f":"PLAVÁNÍ!H153","v":0},{"$f":"SHYBY!H153","v":0},{"$f":"ŠPLH!H153","v":0},{"$f":"ŠVIHADLO!H153","v":0},{"$f":"'Z MÍSTA'!H153","v":0},{"$f":"REPRE!E56","v":0},{"$f":"SUM(F173:V173)","v":4203.2301509769768}]
[null,{"$f":"'60'!B154","v":"RÁB"},{"$f":"'60'!C154","v":"Adam"},{"$f":"'60'!D154","v":"8.A"},null,{"$f":"'60'!H154","v":625.32083697119344},{"$f":"'300'!H153","v":436.64032597157518},{"$f":"'1000'!H154","v":0},{"$f":"DÁLKA!H154","v":532.03800000000001},{"$f":"VÝŠKA!H154","v":508.24},{"$f":"MÍČEK!H154","v":318.75},{"$f":"KOULE!H154","v":611.66666666666663},{"$f":"OŠTĚP!H154","v":0},{"$f":"ČLUNEK!H154","v":705.07324626159379},{"$f":"LEHSED!H154","v":0},{"$f":"ODBÍJENÍ!H154","v":96},{"$f":"PLAVÁNÍ!H154","v":0},{"$f":"SHYBY!H154","v":0},{"$f":"ŠPLH!H154","v":0},{"$f":"ŠVIHADLO!H154","v":0},{"$f":"'Z MÍSTA'!H154","v":615.6},{"$f":"REPRE!E57","v":0},{"$f":"SUM(F174:V174)","v":4449.3290758710291}]
[null,{"$f":"'60'!B155","v":"REPASKÝ"},{"$f":"'60'!C155","v":"Jakub"},{"$f":"'60'!D155","v":"8.A"},null,{"$f":"'60'!H155","v":823.22836219428575},{"$f":"'300'!H154","v":765.54819227621533},{"$f":"'1000'!H155","v":0},{"$f":"DÁLKA!H155","v":0},{"$f":"VÝŠKA!H155","v":628.36000000000013},{"$f":"MÍČEK!H155","v":631.25},{"$f":"KOULE!H155","v":667.77777777777771},{"$f":"OŠTĚP!H155","v":0},{"$f":"ČLUNEK!H155","v":916.55477960473399},{"$f":"LEHSED!H155","v":612.5},{"$f":"ODBÍJENÍ!H155","v":584},{"$f":"PLAVÁNÍ!H155","v":0},{"$f":"SHYBY!H155","v":0},{"$f":"ŠPLH!H155","v":0},{"$f":"ŠVIHADLO!H155","v":912.5},{"$f":"'Z MÍSTA'!H155","v":809.4},{"$f":"REPRE!E58","v":0},{"$f":"SUM(F175:V175)","v":7351.1191118530132}]
[null,{"$f":"'60'!B156","v":"SKÁLA"},{"$f":"'60'!C156","v":"Jan"},{"$f":"'60'!D156","v":"8.A"},null,{"$f":"'60'!H156","v":823.22836219428575},{"$f":"'300'!H155","v":743.34024352376105},{"$f":"'1000'!H156","v":0},{"$f":"DÁLKA!H156","v":715.80600000000004},{"$f":"VÝŠKA!H156","v":628.36000000000013},{"$f":"MÍČEK!H156","v":375},{"$f":"KOULE!H156","v":688.33333333333337},{"$f":"OŠTĚP!H156","v":0},{"$f":"ČLUNEK!H156","v":818.64699163860814},{"$f":"LEHSED!H156","v":0},{"$f":"ODBÍJENÍ!H156","v":120},{"$f":"PLAVÁNÍ!H156","v":0},{"$f":"SHYBY!H156","v":0},{"$f":"ŠPLH!H156","v":0},{"$f":"ŠVIHADLO!H156","v":0},{"$f":"'Z MÍSTA'!H156","v":809.4},{"$f":"REPRE!E59","v":0},{"$f":"SUM(F176:V176)","v":5722.1149306899879}]
[null,{"$f":"'60'!B157","v":"ŠPULÁK"},{"$f":"'60'!C157","v":"Jakub"},{"$f":"'60'!D157","v":"8.A"},null,{"$f":"'60'!H157","v":747.45389481632651},{"$f":"'300'!H156","v":656.94073295988505},{"$f":"'1000'!H157","v":0},{"$f":"DÁLKA!H157","v":626.88599999999997},{"$f":"VÝŠKA!H157","v":628.36000000000013},{"$f":"MÍČEK!H157","v":562.5},{"$f":"KOULE!H157","v":661.66666666666663},{"$f":"OŠTĚP!H157","v":0},{"$f":"ČLUNEK!H157","v":787.24474403557201},{"$f":"LEHSED!H157","v":337.5},{"$f":"ODBÍJENÍ!H157","v":144},{"$f":"PLAVÁNÍ!H157","v":0},{"$f":"SHYBY!H157","v":0},{"$f":"ŠPLH!H157","v":0},{"$f":"ŠVIHADLO!H157","v":212.5},{"$f":"'Z MÍSTA'!H157","v":737.19999999999993},{"$f":"REPRE!E60","v":0},{"$f":"SUM(F177:V177)","v":6102.2520384784502}]
[null,{"$f":"'60'!B158","v":"VALENTA"},{"$f":"'60'!C158","v":"Tomáš"},{"$f":"'60'!D158","v":"8.A"},null,{"$f":"'60'!H158","v":872.50955613691929},{"$f":"'300'!H157","v":901.01884227829623},{"$f":"'1000'!H158","v":0},{"$f":"DÁLKA!H158","v":829.92},{"$f":"VÝŠKA!H158","v":628.36000000000013},{"$f":"MÍČEK!H158","v":662.5},{"$f":"KOULE!H158","v":766.66666666666663},{"$f":"OŠTĚP!H158","v":0},{"$f":"ČLUNEK!H158","v":900.29761989277756},{"$f":"LEHSED!H158","v":612.5},{"$f":"ODBÍJENÍ!H158","v":584},{"$f":"PLAVÁNÍ!H158","v":0},{"$f":"SHYBY!H158","v":0},{"$f":"ŠPLH!H158","v":0},{"$f":"ŠVIHADLO!H158","v":887.5},{"$f":"'Z MÍSTA'!H158","v":889.19999999999993},{"$f":"REPRE!E61","v":0},{"$f":"SUM(F178:V178)","v":8534.4726849746603}]
[null,{"$f":"'60'!B159","v":"VANCL"},{"$f":"'60'!C159","v":"Jiří"},{"$f":"'60'!D159","v":"8.A"},null,{"$f":"'60'!H159","v":757.93445738589196},{"$f":"'300'!H158","v":616.41237100857279},{"$f":"'1000'!H159","v":0},{"$f":"DÁLKA!H159","v":0},{"$f":"VÝŠKA!H159","v":605.48},{"$f":"MÍČEK!H159","v":387.5},{"$f":"KOULE!H159","v":583.88888888888891},{"$f":"OŠTĚP!H159","v":0},{"$f":"ČLUNEK!H159","v":818.64699163860814},{"$f":"LEHSED!H159","v":0},{"$f":"ODBÍJENÍ!H159","v":256},{"$f":"PLAVÁNÍ!H159","v":0},{"$f":"SHYBY!H159","v":0},{"$f":"ŠPLH!H159","v":0},{"$f":"ŠVIHADLO!H159","v":0},{"$f":"'Z MÍSTA'!H159","v":771.4},{"$f":"REPRE!E62","v":0},{"$f":"SUM(F179:V179)","v":4797.2627089219623}]
[null,{"$f":"'60'!B160","v":"VAŠÍČEK"},{"$f":"'60'!C160","v":"David"},{"$f":"'60'!D160","v":"8.A"},null,{"$f":"'60'!H160","v":0},{"$f":"'300'!H159","v":0},{"$f":"'1000'!H160","v":0},{"$f":"DÁLKA!H160","v":628.36799999999994},{"$f":"VÝŠKA!H160","v":0},{"$f":"MÍČEK!H160","v":406.25},{"$f":"KOULE!H160","v":0},{"$f":"OŠTĚP!H160","v":0},{"$f":"ČLUNEK!H160","v":0},{"$f":"LEHSED!H160","v":0},{"$f":"ODBÍJENÍ!H160","v":248},{"$f":"PLAVÁNÍ!H160","v":0},{"$f":"SHYBY!H160","v":0},{"$f":"ŠPLH!H160","v":0},{"$f":"ŠVIHADLO!H160","v":0},{"$f":"'Z MÍSTA'!H160","v":794.19999999999993},{"$f":"REPRE!E63","v":0},{"$f":"SUM(F180:V180)","v":2076.8179999999998}]
[null,{"$f":"'60'!B161","v":"ZOUHAR"},{"$f":"'60'!C161","v":"Ondřej"},{"$f":"'60'!D161","v":"8.A"},null,{"$f":"'60'!H161","v":819.21001922727271},{"$f":"'300'!H160","v":786.93469153005503},{"$f":"'1000'!H161","v":0},{"$f":"DÁLKA!H161","v":663.93600000000004},{"$f":"VÝŠKA!H161","v":605.48},{"$f":"MÍČEK!H161","v":437.5},{"$f":"KOULE!H161","v":520.55555555555554},{"$f":"OŠTĚP!H161","v":0},{"$f":"ČLUNEK!H161","v":862.20664456486031},{"$f":"LEHSED!H161","v":0},{"$f":"ODBÍJENÍ!H161","v":248},{"$f":"PLAVÁNÍ!H161","v":0},{"$f":"SHYBY!H161","v":0},{"$f":"ŠPLH!H161","v":0},{"$f":"ŠVIHADLO!H161","v":0},{"$f":"'Z MÍSTA'!H161","v":786.59999999999991},{"$f":"REPRE!E64","v":0},{"$f":"SUM(F181:V181)","v":5730.4229108777436}]
[null,{"$f":"'60'!B162","v":"ZUZÁNEK"},{"$f":"'60'!C162","v":"Filip"},{"$f":"'60'!D162","v":"8.A"},null,{"$f":"'60'!H162","v":732.35937940239046},{"$f":"'300'!H161","v":622.79411738408749},{"$f":"'1000'!H162","v":0},{"$f":"DÁLKA!H162","v":0},{"$f":"VÝŠKA!H162","v":628.36000000000013},{"$f":"MÍČEK!H162","v":306.25},{"$f":"KOULE!H162","v":533.33333333333337},{"$f":"OŠTĚP!H162","v":0},{"$f":"ČLUNEK!H162","v":845.985323149946},{"$f":"LEHSED!H162","v":0},{"$f":"ODBÍJENÍ!H162","v":256},{"$f":"PLAVÁNÍ!H162","v":0},{"$f":"SHYBY!H162","v":0},{"$f":"ŠPLH!H162","v":0},{"$f":"ŠVIHADLO!H162","v":0},{"$f":"'Z MÍSTA'!H162","v":725.8},{"$f":"REPRE!E65","v":0},{"$f":"SUM(F182:V182)","v":4650.8821532697575}]
[null,{"$f":"'60'!B163","v":"BRUMLICH"},{"$f":"'60'!C163","v":"Jan"},{"$f":"'60'!D163","v":"9.A"},null,{"$f":"'60'!H163","v":0},{"$f":"'300'!H162","v":785.37876083716401},{"$f":"'1000'!H163","v":0},{"$f":"DÁLKA!H163","v":0},{"$f":"VÝŠKA!H163","v":742.7600000000001},{"$f":"MÍČEK!H163","v":725},{"$f":"KOULE!H163","v":842.77777777777771},{"$f":"OŠTĚP!H163","v":0},{"$f":"ČLUNEK!H163","v":0},{"$f":"LEHSED!H163","v":0},{"$f":"ODBÍJENÍ!H163","v":328},{"$f":"PLAVÁNÍ!H163","v":436.95443449696967},{"$f":"SHYBY!H163","v":0},{"$f":"ŠPLH!H163","v":0},{"$f":"ŠVIHADLO!H163","v":0},{"$f":"'Z MÍSTA'!H163","v":0},{"$f":"REPRE!E66","v":0},{"$f":"SUM(F183:V183)","v":3860.8709731119116}]
[null,{"$f":"'60'!B164","v":"BUCHAR"},{"$f":"'60'!C164","v":"Jiří"},{"$f":"'60'!D164","v":"9.A"},null,{"$f":"'60'!H164","v":811.30878305617966},{"$f":"'300'!H163","v":772.2220729043479},{"$f":"'1000'!H164","v":0},{"$f":"DÁLKA!H164","v":726.18},{"$f":"VÝŠKA!H164","v":714.16000000000008},{"$f":"MÍČEK!H164","v":406.25},{"$f":"KOULE!H164","v":0},{"$f":"OŠTĚP!H164","v":0},{"$f":"ČLUNEK!H164","v":0},{"$f":"LEHSED!H164","v":0},{"$f":"ODBÍJENÍ!H164","v":328},{"$f":"PLAVÁNÍ!H164","v":0},{"$f":"SHYBY!H164","v":0},{"$f":"ŠPLH!H164","v":0},{"$f":"ŠVIHADLO!H164","v":0},{"$f":"'Z MÍSTA'!H164","v":0},{"$f":"REPRE!E67","v":0},{"$f":"SUM(F184:V184)","v":3758.1208559605275}]
[null,{"$f":"'60'!B165","v":"FAISTAUER"},{"$f":"'60'!C165","v":"Jiří"},{"$f":"'60'!D165","v":"9.A"},null,{"$f":"'60'!H165","v":0},{"$f":"'300'!H164","v":0},{"$f":"'1000'!H165","v":0},{"$f":"DÁLKA!H165","v":714.32399999999996},{"$f":"VÝŠKA!H165","v":656.96},{"$f":"MÍČEK!H165","v":550},{"$f":"KOULE!H165","v":600},{"$f":"OŠTĚP!H165","v":0},{"$f":"ČLUNEK!H165","v":0},{"$f":"LEHSED!H165","v":0},{"$f":"ODBÍJENÍ!H165","v":0},{"$f":"PLAVÁNÍ!H165","v":0},{"$f":"SHYBY!H165","v":0},{"$f":"ŠPLH!H165","v":0},{"$f":"ŠVIHADLO!H165","v":0},{"$f":"'Z MÍSTA'!H165","v":0},{"$f":"REPRE!E68","v":0},{"$f":"SUM(F185:V185)","v":2521.2840000000001}]
[null,{"$f":"'60'!B166","v":"FAISTAUER"},{"$f":"'60'!C166","v":"Roman"},{"$f":"'60'!D166","v":"9.A"},null,{"$f":"'60'!H166","v":863.37296729468608},{"$f":"'300'!H165","v":696.12591623434332},{"$f":"'1000'!H166","v":0},{"$f":"DÁLKA!H166","v":723.21600000000001},{"$f":"VÝŠKA!H166","v":685.56000000000006},{"$f":"MÍČEK!H166","v":650},{"$f":"KOULE!H166","v":728.33333333333337},{"$f":"OŠTĚP!H166","v":0},{"$f":"ČLUNEK!H166","v":0},{"$f":"LEHSED!H166","v":0},{"$f":"ODBÍJENÍ!H166","v":248},{"$f":"PLAVÁNÍ!H166","v":0},{"$f":"SHYBY!H166","v":0},{"$f":"ŠPLH!H166","v":0},{"$f":"ŠVIHADLO!H166","v":0},{"$f":"'Z MÍSTA'!H166","v":0},{"$f":"REPRE!E69","v":0},{"$f":"SUM(F186:V186)","v":4594.6082168623625}]
[null,{"$f":"'60'!B167","v":"FAJSTAVR"},{"$f":"'60'!C167","v":"Jakub"},{"$f":"'60'!D167","v":"9.A"},null,{"$f":"'60'!H167","v":802.05855534368072},{"$f":"'300'!H166","v":650.08180552976455},{"$f":"'1000'!H167","v":0},{"$f":"DÁLKA!H167","v":678.75599999999997},{"$f":"VÝŠKA!H167","v":611.20000000000005},{"$f":"MÍČEK!H167","v":0},{"$f":"KOULE!H167","v":735},{"$f":"OŠTĚP!H167","v":0},{"$f":"ČLUNEK!H167","v":0},{"$f":"LEHSED!H167","v":600},{"$f":"ODBÍJENÍ!H167","v":0},{"$f":"PLAVÁNÍ!H167","v":511.96350321454543},{"$f":"SHYBY!H167","v":0},{"$f":"ŠPLH!H167","v":0},{"$f":"ŠVIHADLO!H167","v":412.5},{"$f":"'Z MÍSTA'!H167","v":459.79999999999995},{"$f":"REPRE!E70","v":0},{"$f":"SUM(F187:V187)","v":5461.3598640879909}]
[null,{"$f":"'60'!B168","v":"FARSKÝ"},{"$f":"'60'!C168","v":"Vojtěch"},{"$f":"'60'!D168","v":"9.A"},null,{"$f":"'60'!H168","v":810.52841405162735},{"$f":"'300'!H167","v":0},{"$f":"'1000'!H168","v":0},{"$f":"DÁLKA!H168","v":748.41},{"$f":"VÝŠKA!H168","v":777.08},{"$f":"MÍČEK!H168","v":675},{"$f":"KOULE!H168","v":682.77777777777771},{"$f":"OŠTĚP!H168","v":0},{"$f":"ČLUNEK!H168","v":0},{"$f":"LEHSED!H168","v":0},{"$f":"ODBÍJENÍ!H168","v":642},{"$f":"PLAVÁNÍ!H168","v":0},{"$f":"SHYBY!H168","v":0},{"$f":"ŠPLH!H168","v":0},{"$f":"ŠVIHADLO!H168","v":0},{"$f":"'Z MÍSTA'!H168","v":0},{"$f":"REPRE!E71","v":0},{"$f":"SUM(F188:V188)","v":4335.796191829405}]
[null,{"$f":"'60'!B169","v":"HOLUBEC"},{"$f":"'60'!C169","v":"Lukáš"},{"$f":"'60'!D169","v":"9.A"},null,{"$f":"'60'!H169","v":0},{"$f":"'300'!H168","v":0},{"$f":"'1000'!H169","v":0},{"$f":"DÁLKA!H169","v":601.69200000000001},{"$f":"VÝŠKA!H169","v":628.36000000000013},{"$f":"MÍČEK!H169","v":437.5},{"$f":"KOULE!H169","v":646.11111111111109},{"$f":"OŠTĚP!H169","v":0},{"$f":"ČLUNEK!H169","v":0},{"$f":"LEHSED!H169","v":0},{"$f":"ODBÍJENÍ!H169","v":120},{"$f":"PLAVÁNÍ!H169","v":0},{"$f":"SHYBY!H169","v":0},{"$f":"ŠPLH!H169","v":0},{"$f":"ŠVIHADLO!H169","v":0},{"$f":"'Z MÍSTA'!H169","v":0},{"$f":"REPRE!E72","v":0},{"$f":"SUM(F189:V189)","v":2433.663111111111}]
[null,{"$f":"'60'!B170","v":"CHAROUZ"},{"$f":"'60'!C170","v":"Vojtěch"},{"$f":"'60'!D170","v":"9.A"},null,{"$f":"'60'!H170","v":802.05855534368072},{"$f":"'300'!H169","v":715.57906906727692},{"$f":"'1000'!H170","v":0},{"$f":"DÁLKA!H170","v":711.36},{"$f":"VÝŠKA!H170","v":725.6},{"$f":"MÍČEK!H170","v":375},{"$f":"KOULE!H170","v":611.11111111111109},{"$f":"OŠTĚP!H170","v":0},{"$f":"ČLUNEK!H170","v":0},{"$f":"LEHSED!H170","v":0},{"$f":"ODBÍJENÍ!H170","v":152},{"$f":"PLAVÁNÍ!H170","v":0},{"$f":"SHYBY!H170","v":0},{"$f":"ŠPLH!H170","v":0},{"$f":"ŠVIHADLO!H170","v":0},{"$f":"'Z MÍSTA'!H170","v":0},{"$f":"REPRE!E73","v":0},{"$f":"SUM(F190:V190)","v":4092.7087355220683}]
[null,{"$f":"'60'!B171","v":"IACCHERI"},{"$f":"'60'!C171","v":"Carlo"},{"$f":"'60'!D171","v":"9.A"},null,{"$f":"'60'!H171","v":783.556436806904},{"$f":"'300'!H170","v":680.29189583740799},{"$f":"'1000'!H171","v":0},{"$f":"DÁLKA!H171","v":613.548},{"$f":"VÝŠKA!H171","v":628.36000000000013},{"$f":"MÍČEK!H171","v":0},{"$f":"KOULE!H171","v":670},{"$f":"OŠTĚP!H171","v":0},{"$f":"ČLUNEK!H171","v":0},{"$f":"LEHSED!H171","v":0},{"$f":"ODBÍJENÍ!H171","v":0},{"$f":"PLAVÁNÍ!H171","v":436.95443449696967},{"$f":"SHYBY!H171","v":0},{"$f":"ŠPLH!H171","v":0},{"$f":"ŠVIHADLO!H171","v":0},{"$f":"'Z MÍSTA'!H171","v":703},{"$f":"REPRE!E74","v":0},{"$f":"SUM(F191:V191)","v":4515.7107671412814}]
[null,{"$f":"'60'!B172","v":"JOHN"},{"$f":"'60'!C172","v":"Adrian"},{"$f":"'60'!D172","v":"9.A"},null,{"$f":"'60'!H172","v":553.02317579096052},{"$f":"'300'!H171","v":0},{"$f":"'1000'!H172","v":0},{"$f":"DÁLKA!H172","v":419.40600000000001},{"$f":"VÝŠKA!H172","v":399.56000000000006},{"$f":"MÍČEK!H172","v":250},{"$f":"KOULE!H172","v":501.11111111111109},{"$f":"OŠTĚP!H172","v":0},{"$f":"ČLUNEK!H172","v":0},{"$f":"LEHSED!H172","v":375},{"$f":"ODBÍJENÍ!H172","v":128},{"$f":"PLAVÁNÍ!H172","v":0},{"$f":"SHYBY!H172","v":0},{"$f":"ŠPLH!H172","v":0},{"$f":"ŠVIHADLO!H172","v":0},{"$f":"'Z MÍSTA'!H172","v":0},{"$f":"REPRE!E75","v":0},{"$f":"SUM(F192:V192)","v":2626.1002869020713}]
[null,{"$f":"'60'!B173","v":"KRČÍK"},{"$f":"'60'!C173","v":"Matthew"},{"$f":"'60'!D173","v":"9.A"},null,{"$f":"'60'!H173","v":780.68831033297522},{"$f":"'300'!H172","v":0},{"$f":"'1000'!H173","v":0},{"$f":"DÁLKA!H173","v":631.33199999999999},{"$f":"VÝŠKA!H173","v":656.96},{"$f":"MÍČEK!H173","v":0},{"$f":"KOULE!H173","v":632.22222222222217},{"$f":"OŠTĚP!H173","v":0},{"$f":"ČLUNEK!H173","v":0},{"$f":"LEHSED!H173","v":0},{"$f":"ODBÍJENÍ!H173","v":0},{"$f":"PLAVÁNÍ!H173","v":511.96350321454543},{"$f":"SHYBY!H173","v":0},{"$f":"ŠPLH!H173","v":0},{"$f":"ŠVIHADLO!H173","v":0},{"$f":"'Z MÍSTA'!H173","v":0},{"$f":"REPRE!E76","v":0},{"$f":"SUM(F193:V193)","v":3213.1660357697428}]
[null,{"$f":"'60'!B174","v":"KRESAN"},{"$f":"'60'!C174","v":"Vojtěch"},{"$f":"'60'!D174","v":"9.A"},null,{"$f":"'60'!H174","v":770.14885509513726},{"$f":"'300'!H173","v":0},{"$f":"'1000'!H174","v":0},{"$f":"DÁLKA!H174","v":609.10199999999998},{"$f":"VÝŠKA!H174","v":611.20000000000005},{"$f":"MÍČEK!H174","v":331.25},{"$f":"KOULE!H174","v":660},{"$f":"OŠTĚP!H174","v":0},{"$f":"ČLUNEK!H174","v":0},{"$f":"LEHSED!H174","v":0},{"$f":"ODBÍJENÍ!H174","v":80},{"$f":"PLAVÁNÍ!H174","v":436.95443449696967},{"$f":"SHYBY!H174","v":0},{"$f":"ŠPLH!H174","v":0},{"$f":"ŠVIHADLO!H174","v":0},{"$f":"'Z MÍSTA'!H174","v":0},{"$f":"REPRE!E77","v":0},{"$f":"SUM(F194:V194)","v":3498.6552895921068}]
[null,{"$f":"'60'!B175","v":"LÁNSKÝ"},{"$f":"'60'!C175","v":"Vojtěch"},{"$f":"'60'!D175","v":"9.A"},null,{"$f":"'60'!H175","v":0},{"$f":"'300'!H174","v":316.55356292813383},{"$f":"'1000'!H175","v":0},{"$f":"DÁLKA!H175","v":0},{"$f":"VÝŠKA!H175","v":525.40000000000009},{"$f":"MÍČEK!H175","v":268.75},{"$f":"KOULE!H175","v":650},{"$f":"OŠTĚP!H175","v":0},{"$f":"ČLUNEK!H175","v":0},{"$f":"LEHSED!H175","v":0},{"$f":"ODBÍJENÍ!H175","v":120},{"$f":"PLAVÁNÍ!H175","v":0},{"$f":"SHYBY!H175","v":0},{"$f":"ŠPLH!H175","v":0},{"$f":"ŠVIHADLO!H175","v":0},{"$f":"'Z MÍSTA'!H175","v":0},{"$f":"REPRE!E78","v":0},{"$f":"SUM(F195:V195)","v":1880.703562928134}]
[null,{"$f":"'60'!B176","v":"LEŠÁK"},{"$f":"'60'!C176","v":"Lukáš"},{"$f":"'60'!D176","v":"9.A"},null,{"$f":"'60'!H176","v":641.76450035683945},{"$f":"'300'!H175","v":0},{"$f":"'1000'!H176","v":0},{"$f":"DÁLKA!H176","v":471.27600000000001},{"$f":"VÝŠKA!H176","v":582.60000000000014},{"$f":"MÍČEK!H176","v":287.5},{"$f":"KOULE!H176","v":541.66666666666663},{"$f":"OŠTĚP!H176","v":0},{"$f":"ČLUNEK!H176","v":0},{"$f":"LEHSED!H176","v":0},{"$f":"ODBÍJENÍ!H176","v":0},{"$f":"PLAVÁNÍ!H176","v":0},{"$f":"SHYBY!H176","v":0},{"$f":"ŠPLH!H176","v":0},{"$f":"ŠVIHADLO!H176","v":0},{"$f":"'Z MÍSTA'!H176","v":0},{"$f":"REPRE!E79","v":0},{"$f":"SUM(F196:V196)","v":2524.8071670235063}]
[null,{"$f":"'60'!B177","v":"RYPL"},{"$f":"'60'!C177","v":"Matyáš"},{"$f":"'60'!D177","v":"9.A"},null,{"$f":"'60'!H177","v":814.44787462753959},{"$f":"'300'!H176","v":815.72152736938256},{"$f":"'1000'!H177","v":0},{"$f":"DÁLKA!H177","v":727.66200000000003},{"$f":"VÝŠKA!H177","v":656.96},{"$f":"MÍČEK!H177","v":325},{"$f":"KOULE!H177","v":554.44444444444446},{"$f":"OŠTĚP!H177","v":0},{"$f":"ČLUNEK!H177","v":0},{"$f":"LEHSED!H177","v":687.5},{"$f":"ODBÍJENÍ!H177","v":152},{"$f":"PLAVÁNÍ!H177","v":511.96350321454543},{"$f":"SHYBY!H177","v":0},{"$f":"ŠPLH!H177","v":0},{"$f":"ŠVIHADLO!H177","v":0},{"$f":"'Z MÍSTA'!H177","v":0},{"$f":"REPRE!E80","v":0},{"$f":"SUM(F197:V197)","v":5245.6993496559116}]
[null,{"$f":"'60'!B178","v":"VU TRAN DINH "},{"$f":"'60'!C178","v":"Lukas"},{"$f":"'60'!D178","v":"9.A"},null,{"$f":"'60'!H178","v":783.556436806904},{"$f":"'300'!H177","v":0},{"$f":"'1000'!H178","v":0},{"$f":"DÁLKA!H178","v":669.86400000000003},{"$f":"VÝŠKA!H178","v":0},{"$f":"MÍČEK!H178","v":506.25},{"$f":"KOULE!H178","v":691.11111111111109},{"$f":"OŠTĚP!H178","v":0},{"$f":"ČLUNEK!H178","v":0},{"$f":"LEHSED!H178","v":0},{"$f":"ODBÍJENÍ!H178","v":0},{"$f":"PLAVÁNÍ!H178","v":436.95443449696967},{"$f":"SHYBY!H178","v":0},{"$f":"ŠPLH!H178","v":0},{"$f":"ŠVIHADLO!H178","v":0},{"$f":"'Z MÍSTA'!H178","v":0},{"$f":"REPRE!E81","v":0},{"$f":"SUM(F198:V198)","v":3087.7359824149848}]
[null,{"$f":"'60'!B179","v":"DUFEK"},{"$f":"'60'!C179","v":"Matyáš"},{"$f":"'60'!D179","v":"9.B"},null,{"$f":"'60'!H179","v":0},{"$f":"'300'!H178","v":0},{"$f":"'1000'!H179","v":0},{"$f":"DÁLKA!H179","v":0},{"$f":"VÝŠKA!H179","v":525.40000000000009},{"$f":"MÍČEK!H179","v":362.5},{"$f":"KOULE!H179","v":0},{"$f":"OŠTĚP!H179","v":0},{"$f":"ČLUNEK!H179","v":0},{"$f":"LEHSED!H179","v":0},{"$f":"ODBÍJENÍ!H179","v":168},{"$f":"PLAVÁNÍ!H179","v":0},{"$f":"SHYBY!H179","v":0},{"$f":"ŠPLH!H179","v":0},{"$f":"ŠVIHADLO!H179","v":0},{"$f":"'Z MÍSTA'!H179","v":0},{"$f":"REPRE!E82","v":0},{"$f":"SUM(F199:V199)","v":1055.9000000000001}]
[null,{"$f":"'60'!B180","v":"JEŽEK"},{"$f":"'60'!C180","v":"Jonáš"},{"$f":"'60'!D180","v":"9.B"},null,{"$f":"'60'!H180","v":828.93181672811056},{"$f":"'300'!H179","v":0},{"$f":"'1000'!H180","v":0},{"$f":"DÁLKA!H180","v":0},{"$f":"VÝŠKA!H180","v":611.20000000000005},{"$f":"MÍČEK!H180","v":562.5},{"$f":"KOULE!H180","v":653.88888888888891},{"$f":"OŠTĚP!H180","v":0},{"$f":"ČLUNEK!H180","v":0},{"$f":"LEHSED!H180","v":0},{"$f":"ODBÍJENÍ!H180","v":679.6},{"$f":"PLAVÁNÍ!H180","v":436.95443449696967},{"$f":"SHYBY!H180","v":0},{"$f":"ŠPLH!H180","v":0},{"$f":"ŠVIHADLO!H180","v":0},{"$f":"'Z MÍSTA'!H180","v":0},{"$f":"REPRE!E83","v":0},{"$f":"SUM(F200:V200)","v":3773.0751401139687}]
[null,{"$f":"'60'!B181","v":"JEŽEK"},{"$f":"'60'!C181","v":"Mikuláš"},{"$f":"'60'!D181","v":"9.B"},null,{"$f":"'60'!H181","v":0},{"$f":"'300'!H180","v":0},{"$f":"'1000'!H181","v":0},{"$f":"DÁLKA!H181","v":0},{"$f":"VÝŠKA!H181","v":714.16000000000008},{"$f":"MÍČEK!H181","v":562.5},{"$f":"KOULE!H181","v":0},{"$f":"OŠTĚP!H181","v":0},{"$f":"ČLUNEK!H181","v":0},{"$f":"LEHSED!H181","v":0},{"$f":"ODBÍJENÍ!H181","v":0},{"$f":"PLAVÁNÍ!H181","v":436.95443449696967},{"$f":"SHYBY!H181","v":0},{"$f":"ŠPLH!H181","v":0},{"$f":"ŠVIHADLO!H181","v":0},{"$f":"'Z MÍSTA'!H181","v":0},{"$f":"REPRE!E84","v":0},{"$f":"SUM(F201:V201)","v":1713.6144344969698}]
[null,{"$f":"'60'!B182","v":"NECHANICKÝ"},{"$f":"'60'!C182","v":"Michal"},{"$f":"'60'!D182","v":"9.B"},null,{"$f":"'60'!H182","v":814.44787462753959},{"$f":"'300'!H181","v":0},{"$f":"'1000'!H182","v":0},{"$f":"DÁLKA!H182","v":681.72},{"$f":"VÝŠKA!H182","v":651.24000000000012},{"$f":"MÍČEK!H182","v":487.5},{"$f":"KOULE!H182","v":574.44444444444446},{"$f":"OŠTĚP!H182","v":0},{"$f":"ČLUNEK!H182","v":0},{"$f":"LEHSED!H182","v":325},{"$f":"ODBÍJENÍ!H182","v":668.4},{"$f":"PLAVÁNÍ!H182","v":0},{"$f":"SHYBY!H182","v":0},{"$f":"ŠPLH!H182","v":0},{"$f":"ŠVIHADLO!H182","v":531.25},{"$f":"'Z MÍSTA'!H182","v":501.59999999999997},{"$f":"REPRE!E85","v":0},{"$f":"SUM(F202:V202)","v":5235.6023190719843}]
[null,{"$f":"'60'!B183","v":"PAULÍČEK"},{"$f":"'60'!C183","v":"Jakub"},{"$f":"'60'!D183","v":"9.B"},null,{"$f":"'60'!H183","v":802.05855534368072},{"$f":"'300'!H182","v":0},{"$f":"'1000'!H183","v":0},{"$f":"DÁLKA!H183","v":0},{"$f":"VÝŠKA!H183","v":742.7600000000001},{"$f":"MÍČEK!H183","v":475},{"$f":"KOULE!H183","v":0},{"$f":"OŠTĚP!H183","v":0},{"$f":"ČLUNEK!H183","v":0},{"$f":"LEHSED!H183","v":0},{"$f":"ODBÍJENÍ!H183","v":96},{"$f":"PLAVÁNÍ!H183","v":0},{"$f":"SHYBY!H183","v":0},{"$f":"ŠPLH!H183","v":0},{"$f":"ŠVIHADLO!H183","v":0},{"$f":"'Z MÍSTA'!H183","v":0},{"$f":"REPRE!E86","v":0},{"$f":"SUM(F203:V203)","v":2115.8185553436806}]
[null,{"$f":"'60'!B184","v":"POHOŘALÝ"},{"$f":"'60'!C184","v":"Jakub"},{"$f":"'60'!D184","v":"9.B"},null,{"$f":"'60'!H184","v":887.60201610972581},{"$f":"'300'!H183","v":0},{"$f":"'1000'!H184","v":0},{"$f":"DÁLKA!H184","v":770.64},{"$f":"VÝŠKA!H184","v":742.7600000000001},{"$f":"MÍČEK!H184","v":568.75},{"$f":"KOULE!H184","v":762.22222222222217},{"$f":"OŠTĚP!H184","v":0},{"$f":"ČLUNEK!H184","v":0},{"$f":"LEHSED!H184","v":0},{"$f":"ODBÍJENÍ!H184","v":576},{"$f":"PLAVÁNÍ!H184","v":0},{"$f":"SHYBY!H184","v":0},{"$f":"ŠPLH!H184","v":0},{"$f":"ŠVIHADLO!H184","v":0},{"$f":"'Z MÍSTA'!H184","v":0},{"$f":"REPRE!E87","v":0},{"$f":"SUM(F204:V204)","v":4307.9742383319481}]
[null,{"$f":"'60'!B185","v":"POSPÍCHAL"},{"$f":"'60'!C185","v":"Daniel"},{"$f":"'60'!D185","v":"9.B"},null,{"$f":"'60'!H185","v":799.78432808839784},{"$f":"'300'!H184","v":0},{"$f":"'1000'!H185","v":0},{"$f":"DÁLKA!H185","v":687.64800000000002},{"$f":"VÝŠKA!H185","v":582.60000000000014},{"$f":"MÍČEK!H185","v":0},{"$f":"KOULE!H185","v":683.88888888888891},{"$f":"OŠTĚP!H185","v":0},{"$f":"ČLUNEK!H185","v":0},{"$f":"LEHSED!H185","v":0},{"$f":"ODBÍJENÍ!H185","v":248},{"$f":"PLAVÁNÍ!H185","v":0},{"$f":"SHYBY!H185","v":0},{"$f":"ŠPLH!H185","v":0},{"$f":"ŠVIHADLO!H185","v":0},{"$f":"'Z MÍSTA'!H185","v":0},{"$f":"REPRE!E88","v":0},{"$f":"SUM(F205:V205)","v":3001.9212169772863}]
[null,{"$f":"'60'!B186","v":"SOUKUP"},{"$f":"'60'!C186","v":"Lukáš"},{"$f":"'60'!D186","v":"9.B"},null,{"$f":"'60'!H186","v":799.78432808839784},{"$f":"'300'!H185","v":0},{"$f":"'1000'!H186","v":0},{"$f":"DÁLKA!H186","v":739.51800000000003},{"$f":"VÝŠKA!H186","v":656.96},{"$f":"MÍČEK!H186","v":487.5},{"$f":"KOULE!H186","v":743.88888888888891},{"$f":"OŠTĚP!H186","v":0},{"$f":"ČLUNEK!H186","v":0},{"$f":"LEHSED!H186","v":0},{"$f":"ODBÍJENÍ!H186","v":679.6},{"$f":"PLAVÁNÍ!H186","v":0},{"$f":"SHYBY!H186","v":0},{"$f":"ŠPLH!H186","v":0},{"$f":"ŠVIHADLO!H186","v":0},{"$f":"'Z MÍSTA'!H186","v":0},{"$f":"REPRE!E89","v":0},{"$f":"SUM(F206:V206)","v":4107.2512169772872}]
[null,{"$f":"'60'!B187","v":"VANCL"},{"$f":"'60'!C187","v":"Jan"},{"$f":"'60'!D187","v":"9.B"},null,{"$f":"'60'!H187","v":866.09068717575758},{"$f":"'300'!H186","v":0},{"$f":"'1000'!H187","v":0},{"$f":"DÁLKA!H187","v":739.51800000000003},{"$f":"VÝŠKA!H187","v":799.96},{"$f":"MÍČEK!H187","v":775},{"$f":"KOULE!H187","v":838.88888888888891},{"$f":"OŠTĚP!H187","v":0},{"$f":"ČLUNEK!H187","v":0},{"$f":"LEHSED!H187","v":0},{"$f":"ODBÍJENÍ!H187","v":272},{"$f":"PLAVÁNÍ!H187","v":436.95443449696967},{"$f":"SHYBY!H187","v":0},{"$f":"ŠPLH!H187","v":0},{"$f":"ŠVIHADLO!H187","v":0},{"$f":"'Z MÍSTA'!H187","v":0},{"$f":"REPRE!E90","v":0},{"$f":"SUM(F207:V207)","v":4728.4120105616166}]
[null,{"$f":"'60'!B188","v":"VANCL"},{"$f":"'60'!C188","v":"Lukáš"},{"$f":"'60'!D188","v":"9.B"},null,{"$f":"'60'!H188","v":834.72801036004648},{"$f":"'300'!H187","v":754.32772727410929},{"$f":"'1000'!H188","v":0},{"$f":"DÁLKA!H188","v":726.18},{"$f":"VÝŠKA!H188","v":799.96},{"$f":"MÍČEK!H188","v":662.5},{"$f":"KOULE!H188","v":924.44444444444446},{"$f":"OŠTĚP!H188","v":0},{"$f":"ČLUNEK!H188","v":0},{"$f":"LEHSED!H188","v":0},{"$f":"ODBÍJENÍ!H188","v":576},{"$f":"PLAVÁNÍ!H188","v":436.95443449696967},{"$f":"SHYBY!H188","v":0},{"$f":"ŠPLH!H188","v":0},{"$f":"ŠVIHADLO!H188","v":0},{"$f":"'Z MÍSTA'!H188","v":0},{"$f":"REPRE!E91","v":0},{"$f":"SUM(F208:V208)","v":5715.0946165755704}]
[null,{"$f":"'60'!B189","v":"VAŠÍK"},{"$f":"'60'!C189","v":"Jiří"},{"$f":"'60'!D189","v":"9.B"},null,{"$f":"'60'!H189","v":794.53598346491231},{"$f":"'300'!H188","v":0},{"$f":"'1000'!H189","v":0},{"$f":"DÁLKA!H189","v":674.31},{"$f":"VÝŠKA!H189","v":628.36000000000013},{"$f":"MÍČEK!H189","v":450},{"$f":"KOULE!H189","v":626.66666666666663},{"$f":"OŠTĚP!H189","v":0},{"$f":"ČLUNEK!H189","v":0},{"$f":"LEHSED!H189","v":0},{"$f":"ODBÍJENÍ!H189","v":120},{"$f":"PLAVÁNÍ!H189","v":0},{"$f":"SHYBY!H189","v":0},{"$f":"ŠPLH!H189","v":0},{"$f":"ŠVIHADLO!H189","v":0},{"$f":"'Z MÍSTA'!H189","v":0},{"$f":"REPRE!E92","v":0},{"$f":"SUM(F209:V209)","v":3293.8726501315791}]
[null,{"$f":"'60'!B190","v":"VOHNOUT"},{"$f":"'60'!C190","v":"Zdeněk"},{"$f":"'60'!D190","v":"9.B"},null,{"$f":"'60'!H190","v":919.66859340259748},{"$f":"'300'!H189","v":962.98282421535555},{"$f":"'1000'!H190","v":0},{"$f":"DÁLKA!H190","v":835.84799999999996},{"$f":"VÝŠKA!H190","v":782.80000000000007},{"$f":"MÍČEK!H190","v":618.75},{"$f":"KOULE!H190","v":717.77777777777771},{"$f":"OŠTĚP!H190","v":0},{"$f":"ČLUNEK!H190","v":0},{"$f":"LEHSED!H190","v":0},{"$f":"ODBÍJENÍ!H190","v":642},{"$f":"PLAVÁNÍ!H190","v":0},{"$f":"SHYBY!H190","v":0},{"$f":"ŠPLH!H190","v":0},{"$f":"ŠVIHADLO!H190","v":0},{"$f":"'Z MÍSTA'!H190","v":0},{"$f":"REPRE!E93","v":0},{"$f":"SUM(F210:V210)","v":5479.8271953957301}]

{"sheet":"VÝK","index":6,"n_rows":114,"n_cols":20,"rows_kept":114,"cut":false,"hidden":false,"merged":[]}
[null,"SPORTOVEC  ŠKOLY  2020 - 2021",null,null,null,null,null,null,null,null,"CHLAPCI  6. ROČNÍK",null,null,null,null,null," "]
[]
[null,null,"60  m  ","300m","1000m","dálka","výška","míček","koule","oštěp","člunek","lehsed","odbíjení ","plavání","shyby","šplh","švihadlo","z místa"," REPRE","  BODY"]
[{"$f":"'60'!B101","v":"BOUKAL"},{"$f":"'60'!C101","v":"Jakub"},{"$f":"'60'!E101","v":12.56},{"$f":"'300'!E101","v":"00:01:00.280"},{"$f":"'1000'!E101","v":"00:00:00"},{"$f":"DÁLKA!E101","v":245},{"$f":"VÝŠKA!E101","v":0},{"$f":"MÍČEK!E101","v":14},{"$f":"KOULE!E101","v":6.87},null,{"$f":"ČLUNEK!E101","v":12.21},{"$f":"LEHSED!E101","v":0},{"$f":"ODBÍJENÍ!E101","v":12},{"$f":"PLAVÁNÍ!E101","v":0},null,{"$f":"ŠPLH!E101","v":0},{"$f":"ŠVIHADLO!E101","v":0},{"$f":"'Z MÍSTA'!E101","v":0},{"$f":"REPRE!E4","v":0},{"$f":"ROČ!W121","v":2923.2534127344597}]
[{"$f":"'60'!B102","v":"DEMČUK"},{"$f":"'60'!C102","v":"Ilja"},{"$f":"'60'!E102","v":10.85},{"$f":"'300'!E101","v":"00:01:00.280"},{"$f":"'1000'!E102","v":"00:00:00"},{"$f":"DÁLKA!E102","v":311},{"$f":"VÝŠKA!E102","v":103},{"$f":"MÍČEK!E102","v":20},{"$f":"KOULE!E102","v":6.28},null,{"$f":"ČLUNEK!E102","v":0},{"$f":"LEHSED!E102","v":25},{"$f":"ODBÍJENÍ!E102","v":15},{"$f":"PLAVÁNÍ!E102","v":0},null,{"$f":"ŠPLH!E102","v":0},{"$f":"ŠVIHADLO!E102","v":0},{"$f":"'Z MÍSTA'!E102","v":150},{"$f":"REPRE!E5","v":0},{"$f":"ROČ!W122","v":4180.5865587371154}]
[{"$f":"'60'!B103","v":"FAISTAUER"},{"$f":"'60'!C103","v":"Kryštof"},{"$f":"'60'!E103","v":9.5},{"$f":"'300'!E102","v":"00:00:54.880"},{"$f":"'1000'!E103","v":"00:00:00"},{"$f":"DÁLKA!E103","v":366},{"$f":"VÝŠKA!E103","v":113},{"$f":"MÍČEK!E103","v":34.5},{"$f":"KOULE!E103","v":5.8},null,{"$f":"ČLUNEK!E103","v":10.210000000000001},{"$f":"LEHSED!E103","v":41},{"$f":"ODBÍJENÍ!E103","v":8},{"$f":"PLAVÁNÍ!E103","v":0},null,{"$f":"ŠPLH!E103","v":0},{"$f":"ŠVIHADLO!E103","v":52},{"$f":"'Z MÍSTA'!E103","v":165},{"$f":"REPRE!E6","v":0},{"$f":"ROČ!W123","v":6023.8807212347529}]
[{"$f":"'60'!B104","v":"FRK"},{"$f":"'60'!C104","v":"Matyáš"},{"$f":"'60'!E104","v":12.72},{"$f":"'300'!E103","v":"00:01:21.540"},{"$f":"'1000'!E104","v":"00:00:00"},{"$f":"DÁLKA!E104","v":282},{"$f":"VÝŠKA!E104","v":75},{"$f":"MÍČEK!E104","v":0},{"$f":"KOULE!E104","v":0},null,{"$f":"ČLUNEK!E104","v":12.5},{"$f":"LEHSED!E104","v":0},{"$f":"ODBÍJENÍ!E104","v":14},{"$f":"PLAVÁNÍ!E104","v":0},null,{"$f":"ŠPLH!E104","v":0},{"$f":"ŠVIHADLO!E104","v":0},{"$f":"'Z MÍSTA'!E104","v":0},{"$f":"REPRE!E7","v":0},{"$f":"ROČ!W124","v":2645.4569921706789}]
[{"$f":"'60'!B105","v":"HUBÁLOVSKÝ"},{"$f":"'60'!C105","v":"Marek"},{"$f":"'60'!E105","v":11.43},{"$f":"'300'!E104","v":"00:01:11.580"},{"$f":"'1000'!E105","v":"00:00:00"},{"$f":"DÁLKA!E105","v":383},{"$f":"VÝŠKA!E105","v":88},{"$f":"MÍČEK!E105","v":26},{"$f":"KOULE!E105","v":4.45},null,{"$f":"ČLUNEK!E105","v":12.02},{"$f":"LEHSED!E105","v":0},{"$f":"ODBÍJENÍ!E105","v":8},{"$f":"PLAVÁNÍ!E105","v":0},null,{"$f":"ŠPLH!E105","v":0},{"$f":"ŠVIHADLO!E105","v":0},{"$f":"'Z MÍSTA'!E105","v":0},{"$f":"REPRE!E8","v":0},{"$f":"ROČ!W125","v":3747.5906452344807}]
[{"$f":"'60'!B106","v":"MAŘAS"},{"$f":"'60'!C106","v":"Dominik"},{"$f":"'60'!E106","v":11.64},{"$f":"'300'!E105","v":"00:01:18.210"},{"$f":"'1000'!E106","v":"00:00:00"},{"$f":"DÁLKA!E106","v":293},{"$f":"VÝŠKA!E106","v":0},{"$f":"MÍČEK!E106","v":22},{"$f":"KOULE!E106","v":6.31},null,{"$f":"ČLUNEK!E106","v":12.5},{"$f":"LEHSED!E106","v":0},{"$f":"ODBÍJENÍ!E106","v":11},{"$f":"PLAVÁNÍ!E106","v":0},null,{"$f":"ŠPLH!E106","v":0},{"$f":"ŠVIHADLO!E106","v":0},{"$f":"'Z MÍSTA'!E106","v":182},{"$f":"REPRE!E9","v":0},{"$f":"ROČ!W126","v":3783.6386975884257}]
[{"$f":"'60'!B107","v":"MAŤÁTKO"},{"$f":"'60'!C107","v":"Jakub"},{"$f":"'60'!E107","v":13.19},{"$f":"'300'!E106","v":"00:01:24.110"},{"$f":"'1000'!E107","v":"00:00:00"},{"$f":"DÁLKA!E107","v":0},{"$f":"VÝŠKA!E107","v":0},{"$f":"MÍČEK!E107","v":20},{"$f":"KOULE!E107","v":4.84},null,{"$f":"ČLUNEK!E107","v":14.62},{"$f":"LEHSED!E107","v":0},{"$f":"ODBÍJENÍ!E107","v":10},{"$f":"PLAVÁNÍ!E107","v":0},null,{"$f":"ŠPLH!E107","v":0},{"$f":"ŠVIHADLO!E107","v":0},{"$f":"'Z MÍSTA'!E107","v":0},{"$f":"REPRE!E10","v":0},{"$f":"ROČ!W127","v":2157.7222297837611}]
[{"$f":"'60'!B108","v":"MERY"},{"$f":"'60'!C108","v":"Luboš"},{"$f":"'60'!E108","v":11.43},{"$f":"'300'!E107","v":"00:01:15.180"},{"$f":"'1000'!E108","v":"00:00:00"},{"$f":"DÁLKA!E108","v":0},{"$f":"VÝŠKA!E108","v":83},{"$f":"MÍČEK!E108","v":0},{"$f":"KOULE!E108","v":0},null,{"$f":"ČLUNEK!E108","v":12.21},{"$f":"LEHSED!E108","v":26},{"$f":"ODBÍJENÍ!E108","v":4},{"$f":"PLAVÁNÍ!E108","v":0},null,{"$f":"ŠPLH!E108","v":0},{"$f":"ŠVIHADLO!E108","v":18},{"$f":"'Z MÍSTA'!E108","v":149},{"$f":"REPRE!E11","v":0},{"$f":"ROČ!W128","v":3220.8059007097481}]
[{"$f":"'60'!B109","v":"NOVOTNÝ"},{"$f":"'60'!C109","v":"Matěj"},{"$f":"'60'!E109","v":10.96},{"$f":"'300'!E108","v":"00:00:00"},{"$f":"'1000'!E109","v":"00:00:00"},{"$f":"DÁLKA!E109","v":281},{"$f":"VÝŠKA!E109","v":80},{"$f":"MÍČEK!E109","v":29},{"$f":"KOULE!E109","v":0},null,{"$f":"ČLUNEK!E109","v":11.55},{"$f":"LEHSED!E109","v":0},{"$f":"ODBÍJENÍ!E109","v":0},{"$f":"PLAVÁNÍ!E109","v":0},null,{"$f":"ŠPLH!E109","v":0},{"$f":"ŠVIHADLO!E109","v":0},{"$f":"'Z MÍSTA'!E109","v":0},{"$f":"REPRE!E12","v":0},{"$f":"ROČ!W129","v":2732.6575163113876}]
[{"$f":"'60'!B110","v":"ŘEHOŘEK"},{"$f":"'60'!C110","v":"Vojtěch"},{"$f":"'60'!E110","v":11.92},{"$f":"'300'!E109","v":"00:01:11.820"},{"$f":"'1000'!E110","v":"00:00:00"},{"$f":"DÁLKA!E110","v":296},{"$f":"VÝŠKA!E110","v":88},{"$f":"MÍČEK!E110","v":40},{"$f":"KOULE!E110","v":6.13},null,{"$f":"ČLUNEK!E110","v":0},{"$f":"LEHSED!E110","v":28},{"$f":"ODBÍJENÍ!E110","v":14},{"$f":"PLAVÁNÍ!E110","v":0},null,{"$f":"ŠPLH!E110","v":0},{"$f":"ŠVIHADLO!E110","v":0},{"$f":"'Z MÍSTA'!E110","v":146},{"$f":"REPRE!E13","v":0},{"$f":"ROČ!W130","v":4134.8084661374369}]
[{"$f":"'60'!B111","v":"ŠÍR"},{"$f":"'60'!C111","v":"Matyáš"},{"$f":"'60'!E111","v":11.48},{"$f":"'300'!E110","v":"00:01:09.460"},{"$f":"'1000'!E111","v":"00:00:00"},{"$f":"DÁLKA!E111","v":283},{"$f":"VÝŠKA!E111","v":87},{"$f":"MÍČEK!E111","v":20},{"$f":"KOULE!E111","v":3.83},null,{"$f":"ČLUNEK!E111","v":12.94},{"$f":"LEHSED!E111","v":38},{"$f":"ODBÍJENÍ!E111","v":11},{"$f":"PLAVÁNÍ!E111","v":0},null,{"$f":"ŠPLH!E111","v":0},{"$f":"ŠVIHADLO!E111","v":38},{"$f":"'Z MÍSTA'!E111","v":158},{"$f":"REPRE!E14","v":0},{"$f":"ROČ!W131","v":4764.3759776171446}]
[{"$f":"'60'!B112","v":"TORÁČ"},{"$f":"'60'!C112","v":"Tomáš"},{"$f":"'60'!E112","v":22.77},{"$f":"'300'!E111","v":"00:02:09.100"},{"$f":"'1000'!E112","v":"00:00:00"},{"$f":"DÁLKA!E112","v":0},{"$f":"VÝŠKA!E112","v":0},{"$f":"MÍČEK!E112","v":12.5},{"$f":"KOULE!E112","v":4.6900000000000004},null,{"$f":"ČLUNEK!E112","v":16.09},{"$f":"LEHSED!E112","v":0},{"$f":"ODBÍJENÍ!E112","v":12},{"$f":"PLAVÁNÍ!E112","v":0},null,{"$f":"ŠPLH!E112","v":0},{"$f":"ŠVIHADLO!E112","v":0},{"$f":"'Z MÍSTA'!E112","v":0},{"$f":"REPRE!E15","v":0},{"$f":"ROČ!W132","v":1550.2897781820777}]
[{"$f":"'60'!B113","v":"ULLMAN"},{"$f":"'60'!C113","v":"Šimon"},{"$f":"'60'!E113","v":9.18},{"$f":"'300'!E112","v":"00:00:53.770"},{"$f":"'1000'!E113","v":"00:00:00"},{"$f":"DÁLKA!E113","v":353},{"$f":"VÝŠKA!E113","v":80},{"$f":"MÍČEK!E113","v":24.5},{"$f":"KOULE!E113","v":0},null,{"$f":"ČLUNEK!E113","v":10.86},{"$f":"LEHSED!E113","v":0},{"$f":"ODBÍJENÍ!E113","v":6},{"$f":"PLAVÁNÍ!E113","v":0},null,{"$f":"ŠPLH!E113","v":0},{"$f":"ŠVIHADLO!E113","v":0},{"$f":"'Z MÍSTA'!E113","v":0},{"$f":"REPRE!E16","v":0},{"$f":"ROČ!W133","v":3696.8456871378221}]
[{"$f":"'60'!B114","v":"VÁCLAVÍK"},{"$f":"'60'!C114","v":"Ondřej"},{"$f":"'60'!E114","v":10.94},{"$f":"'300'!E113","v":"00:00:58.550"},{"$f":"'1000'!E114","v":"00:00:00"},{"$f":"DÁLKA!E114","v":309},{"$f":"VÝŠKA!E114","v":98},{"$f":"MÍČEK!E114","v":36},{"$f":"KOULE!E114","v":5.8},null,{"$f":"ČLUNEK!E114","v":11.2},{"$f":"LEHSED!E114","v":0},{"$f":"ODBÍJENÍ!E114","v":0},{"$f":"PLAVÁNÍ!E114","v":0},null,{"$f":"ŠPLH!E114","v":0},{"$f":"ŠVIHADLO!E114","v":0},{"$f":"'Z MÍSTA'!E114","v":0},{"$f":"REPRE!E17","v":0},{"$f":"ROČ!W134","v":4096.4828658827109}]
[{"$f":"'60'!B115","v":"AUERSWALD"},{"$f":"'60'!C115","v":"Daniel"},{"$f":"'60'!E115","v":9.89},{"$f":"'300'!E114","v":"00:00:59.520"},{"$f":"'1000'!E115","v":"00:00:00"},{"$f":"DÁLKA!E115","v":348},{"$f":"VÝŠKA!E115","v":113},{"$f":"MÍČEK!E115","v":25},{"$f":"KOULE!E115","v":5.53},null,{"$f":"ČLUNEK!E115","v":11.13},{"$f":"LEHSED!E115","v":0},{"$f":"ODBÍJENÍ!E115","v":19},{"$f":"PLAVÁNÍ!E115","v":0},null,{"$f":"ŠPLH!E115","v":0},{"$f":"ŠVIHADLO!E115","v":30},{"$f":"'Z MÍSTA'!E115","v":0},{"$f":"REPRE!E18","v":0},{"$f":"ROČ!W135","v":4478.9642193659392}]
[{"$f":"'60'!B116","v":"BODLÁK"},{"$f":"'60'!C116","v":"Vladimír"},{"$f":"'60'!E116","v":8.39},{"$f":"'300'!E115","v":"00:00:45.090"},{"$f":"'1000'!E116","v":"00:00:00"},{"$f":"DÁLKA!E116","v":0},{"$f":"VÝŠKA!E116","v":113},{"$f":"MÍČEK!E116","v":0},{"$f":"KOULE!E116","v":10.24},null,{"$f":"ČLUNEK!E116","v":9.61},{"$f":"LEHSED!E116","v":53},{"$f":"ODBÍJENÍ!E116","v":0},{"$f":"PLAVÁNÍ!E116","v":0},null,{"$f":"ŠPLH!E116","v":0},{"$f":"ŠVIHADLO!E116","v":50},{"$f":"'Z MÍSTA'!E116","v":30},{"$f":"REPRE!E19","v":0},{"$f":"ROČ!W136","v":5111.8977463387992}]
[{"$f":"'60'!B117","v":"BUDÍN"},{"$f":"'60'!C117","v":"Martin"},{"$f":"'60'!E117","v":10.46},{"$f":"'300'!E116","v":"00:00:58.300"},{"$f":"'1000'!E117","v":"00:00:00"},{"$f":"DÁLKA!E117","v":327},{"$f":"VÝŠKA!E117","v":93},{"$f":"MÍČEK!E117","v":31},{"$f":"KOULE!E117","v":4.08},null,{"$f":"ČLUNEK!E117","v":10.94},{"$f":"LEHSED!E117","v":30},{"$f":"ODBÍJENÍ!E117","v":9},{"$f":"PLAVÁNÍ!E117","v":0},null,{"$f":"ŠPLH!E117","v":0},{"$f":"ŠVIHADLO!E117","v":80},{"$f":"'Z MÍSTA'!E117","v":150},{"$f":"REPRE!E20","v":0},{"$f":"ROČ!W137","v":5508.586574429035}]
[{"$f":"'60'!B118","v":"DVOŘÁK"},{"$f":"'60'!C118","v":"Dominik"},{"$f":"'60'!E118","v":11.56},{"$f":"'300'!E117","v":"00:00:00"},{"$f":"'1000'!E118","v":"00:00:00"},{"$f":"DÁLKA!E118","v":247},{"$f":"VÝŠKA!E118","v":75},{"$f":"MÍČEK!E118","v":0},{"$f":"KOULE!E118","v":0},null,{"$f":"ČLUNEK!E118","v":11.71},{"$f":"LEHSED!E118","v":0},{"$f":"ODBÍJENÍ!E118","v":0},{"$f":"PLAVÁNÍ!E118","v":0},null,{"$f":"ŠPLH!E118","v":0},{"$f":"ŠVIHADLO!E118","v":0},{"$f":"'Z MÍSTA'!E118","v":0},{"$f":"REPRE!E21","v":0},{"$f":"ROČ!W138","v":2247.2969315904807}]
[{"$f":"'60'!B119","v":"FIŠERA"},{"$f":"'60'!C119","v":"Vojtěch"},{"$f":"'60'!E119","v":10.44},{"$f":"'300'!E118","v":"00:00:57.070"},{"$f":"'1000'!E119","v":"00:00:00"},{"$f":"DÁLKA!E119","v":323},{"$f":"VÝŠKA!E119","v":98},{"$f":"MÍČEK!E119","v":19},{"$f":"KOULE!E119","v":6},null,{"$f":"ČLUNEK!E119","v":11.43},{"$f":"LEHSED!E119","v":26},{"$f":"ODBÍJENÍ!E119","v":12},{"$f":"PLAVÁNÍ!E119","v":0},null,{"$f":"ŠPLH!E119","v":0},{"$f":"ŠVIHADLO!E119","v":91},{"$f":"'Z MÍSTA'!E119","v":130},{"$f":"REPRE!E22","v":0},{"$f":"ROČ!W139","v":5428.6879264502659}]
[{"$f":"'60'!B120","v":"JINDŘIŠEK"},{"$f":"'60'!C120","v":"Vít"},{"$f":"'60'!E120","v":8.77},{"$f":"'300'!E119","v":"00:00:00"},{"$f":"'1000'!E120","v":"00:00:00"},{"$f":"DÁLKA!E120","v":381},{"$f":"VÝŠKA!E120","v":80},{"$f":"MÍČEK!E120","v":42},{"$f":"KOULE!E120","v":0},null,{"$f":"ČLUNEK!E120","v":10.49},{"$f":"LEHSED!E120","v":40},{"$f":"ODBÍJENÍ!E120","v":28},{"$f":"PLAVÁNÍ!E120","v":0},null,{"$f":"ŠPLH!E120","v":0},{"$f":"ŠVIHADLO!E120","v":56},{"$f":"'Z MÍSTA'!E120","v":200},{"$f":"REPRE!E23","v":0},{"$f":"ROČ!W140","v":5121.9212725119687}]
[{"$f":"'60'!B121","v":"JIROUŠ"},{"$f":"'60'!C121","v":"Matouš"},{"$f":"'60'!E121","v":10.08},{"$f":"'300'!E120","v":"00:00:00"},{"$f":"'1000'!E121","v":"00:00:00"},{"$f":"DÁLKA!E121","v":356},{"$f":"VÝŠKA!E121","v":80},{"$f":"MÍČEK!E121","v":28},{"$f":"KOULE!E121","v":5.44},null,{"$f":"ČLUNEK!E121","v":10.55},{"$f":"LEHSED!E121","v":25},{"$f":"ODBÍJENÍ!E121","v":19},{"$f":"PLAVÁNÍ!E121","v":0},null,{"$f":"ŠPLH!E121","v":0},{"$f":"ŠVIHADLO!E121","v":40},{"$f":"'Z MÍSTA'!E121","v":200},{"$f":"REPRE!E24","v":0},{"$f":"ROČ!W141","v":4921.3253903412196}]
[{"$f":"'60'!B122","v":"KERLE"},{"$f":"'60'!C122","v":"Marek"},{"$f":"'60'!E122","v":10.64},{"$f":"'300'!E121","v":"00:00:54.010"},{"$f":"'1000'!E122","v":"00:00:00"},{"$f":"DÁLKA!E122","v":321},{"$f":"VÝŠKA!E122","v":103},{"$f":"MÍČEK!E122","v":0},{"$f":"KOULE!E122","v":6.76},null,{"$f":"ČLUNEK!E122","v":10.8},{"$f":"LEHSED!E122","v":48},{"$f":"ODBÍJENÍ!E122","v":22},{"$f":"PLAVÁNÍ!E122","v":0},null,{"$f":"ŠPLH!E122","v":0},{"$f":"ŠVIHADLO!E122","v":37},{"$f":"'Z MÍSTA'!E122","v":158},{"$f":"REPRE!E25","v":0},{"$f":"ROČ!W142","v":5485.67601497543}]
[{"$f":"'60'!B123","v":"LUKEŠ"},{"$f":"'60'!C123","v":"Jakub"},{"$f":"'60'!E123","v":10.26},{"$f":"'300'!E122","v":"00:00:54.300"},{"$f":"'1000'!E123","v":"00:00:00"},{"$f":"DÁLKA!E123","v":304},{"$f":"VÝŠKA!E123","v":98},{"$f":"MÍČEK!E123","v":21},{"$f":"KOULE!E123","v":5.47},null,{"$f":"ČLUNEK!E123","v":10.52},{"$f":"LEHSED!E123","v":30},{"$f":"ODBÍJENÍ!E123","v":12},{"$f":"PLAVÁNÍ!E123","v":0},null,{"$f":"ŠPLH!E123","v":0},{"$f":"ŠVIHADLO!E123","v":65},{"$f":"'Z MÍSTA'!E123","v":190},{"$f":"REPRE!E26","v":0},{"$f":"ROČ!W143","v":5659.1322666157939}]
[{"$f":"'60'!B124","v":"OTT"},{"$f":"'60'!C124","v":"Matyáš"},{"$f":"'60'!E124","v":11},{"$f":"'300'!E123","v":"00:01:08.290"},{"$f":"'1000'!E124","v":"00:00:00"},{"$f":"DÁLKA!E124","v":307},{"$f":"VÝŠKA!E124","v":98},{"$f":"MÍČEK!E124","v":29},{"$f":"KOULE!E124","v":4.7},null,{"$f":"ČLUNEK!E124","v":11.12},{"$f":"LEHSED!E124","v":0},{"$f":"ODBÍJENÍ!E124","v":11},{"$f":"PLAVÁNÍ!E124","v":0},null,{"$f":"ŠPLH!E124","v":0},{"$f":"ŠVIHADLO!E124","v":0},{"$f":"'Z MÍSTA'!E124","v":0},{"$f":"REPRE!E27","v":0},{"$f":"ROČ!W144","v":3907.2532259777549}]
[{"$f":"'60'!B125","v":"POKORNÝ"},{"$f":"'60'!C125","v":"Matyáš"},{"$f":"'60'!E125","v":8.94},{"$f":"'300'!E124","v":"00:00:48.010"},{"$f":"'1000'!E125","v":"00:00:00"},{"$f":"DÁLKA!E125","v":0},{"$f":"VÝŠKA!E125","v":103},{"$f":"MÍČEK!E125","v":43},{"$f":"KOULE!E125","v":5.3},null,{"$f":"ČLUNEK!E125","v":9.9700000000000006},{"$f":"LEHSED!E125","v":0},{"$f":"ODBÍJENÍ!E125","v":22},{"$f":"PLAVÁNÍ!E125","v":0},null,{"$f":"ŠPLH!E125","v":0},{"$f":"ŠVIHADLO!E125","v":0},{"$f":"'Z MÍSTA'!E125","v":0},{"$f":"REPRE!E28","v":0},{"$f":"ROČ!W145","v":4245.7618413529954}]
[{"$f":"'60'!B126","v":"POLÁČEK"},{"$f":"'60'!C126","v":"Matyáš"},{"$f":"'60'!E126","v":11.49},{"$f":"'300'!E125","v":"00:01:13.650"},{"$f":"'1000'!E126","v":"00:00:00"},{"$f":"DÁLKA!E126","v":282},{"$f":"VÝŠKA!E126","v":93},{"$f":"MÍČEK!E126","v":34},{"$f":"KOULE!E126","v":6.05},null,{"$f":"ČLUNEK!E126","v":11.94},{"$f":"LEHSED!E126","v":0},{"$f":"ODBÍJENÍ!E126","v":10},{"$f":"PLAVÁNÍ!E126","v":0},null,{"$f":"ŠPLH!E126","v":0},{"$f":"ŠVIHADLO!E126","v":0},{"$f":"'Z MÍSTA'!E126","v":0},{"$f":"REPRE!E29","v":0},{"$f":"ROČ!W146","v":3814.6038226356886}]
[{"$f":"'60'!B127","v":"SOUKUP"},{"$f":"'60'!C127","v":"Patrik"},{"$f":"'60'!E127","v":10.09},{"$f":"'300'!E126","v":"00:00:53.980"},{"$f":"'1000'!E127","v":"00:00:00"},{"$f":"DÁLKA!E127","v":332},{"$f":"VÝŠKA!E127","v":98},{"$f":"MÍČEK!E127","v":30},{"$f":"KOULE!E127","v":5.5},null,{"$f":"ČLUNEK!E127","v":10.3},{"$f":"LEHSED!E127","v":27},{"$f":"ODBÍJENÍ!E127","v":11},{"$f":"PLAVÁNÍ!E127","v":0},null,{"$f":"ŠPLH!E127","v":0},{"$f":"ŠVIHADLO!E127","v":95},{"$f":"'Z MÍSTA'!E127","v":200},{"$f":"REPRE!E30","v":0},{"$f":"ROČ!W147","v":6033.9881705944927}]
[{"$f":"'60'!B128","v":"VALENTA"},{"$f":"'60'!C128","v":"Jakub"},{"$f":"'60'!E128","v":10.24},{"$f":"'300'!E127","v":"00:00:00"},{"$f":"'1000'!E128","v":"00:00:00"},{"$f":"DÁLKA!E128","v":0},{"$f":"VÝŠKA!E128","v":113},{"$f":"MÍČEK!E128","v":26},{"$f":"KOULE!E128","v":5.2},null,{"$f":"ČLUNEK!E128","v":10.64},{"$f":"LEHSED!E128","v":49},{"$f":"ODBÍJENÍ!E128","v":0},{"$f":"PLAVÁNÍ!E128","v":0},null,{"$f":"ŠPLH!E128","v":0},{"$f":"ŠVIHADLO!E128","v":76},{"$f":"'Z MÍSTA'!E128","v":0},{"$f":"REPRE!E31","v":0},{"$f":"ROČ!W148","v":4027.1601347791466}]
[{"$f":"'60'!B129","v":"VRBATA"},{"$f":"'60'!C129","v":"Dominik"},{"$f":"'60'!E129","v":10.25},{"$f":"'300'!E128","v":"00:00:57.790"},{"$f":"'1000'!E129","v":"00:00:00"},{"$f":"DÁLKA!E129","v":339},{"$f":"VÝŠKA!E129","v":103},{"$f":"MÍČEK!E129","v":34.5},{"$f":"KOULE!E129","v":5.95},null,{"$f":"ČLUNEK!E129","v":10.52},{"$f":"LEHSED!E129","v":0},{"$f":"ODBÍJENÍ!E129","v":9},{"$f":"PLAVÁNÍ!E129","v":0},null,{"$f":"ŠPLH!E129","v":0},{"$f":"ŠVIHADLO!E129","v":0},{"$f":"'Z MÍSTA'!E129","v":0},{"$f":"REPRE!E32","v":0},{"$f":"ROČ!W149","v":4348.8933316688745}]
["SPORTOVEC  ŠKOLY  2020 - 2021",null,null,null,null,null,null,null,null,"CHLAPCI  7. ROČNÍK",null,null,null,null,null,null,null,"ZPĚT"]
[]
[null,null,"60  m  ","300m","1000m","dálka","výška","míček","koule","oštěp","člunek","lehsed","odbíjení ","plavání","shyby","šplh","švihadlo","z místa"," REPRE"," BODY"]
[{"$f":"'60'!B130","v":"FEJKL"},{"$f":"'60'!C130","v":"Jan"},{"$f":"'60'!E130","v":9.14},{"$f":"'300'!E129","v":"00:00:00"},{"$f":"'1000'!E130","v":"00:00:00"},{"$f":"DÁLKA!E130","v":465},{"$f":"VÝŠKA!E130","v":141},{"$f":"MÍČEK!E130","v":49},{"$f":"KOULE!E130","v":7.87},{"$f":"OŠTĚP!E130","v":0},{"$f":"ČLUNEK!E130","v":0},{"$f":"LEHSED!E130","v":57},{"$f":"ODBÍJENÍ!E130","v":18},{"$f":"PLAVÁNÍ!E130","v":30},{"$f":"SHYBY!E130","v":0},{"$f":"ŠPLH!E130","v":0},{"$f":"ŠVIHADLO!E130","v":42},{"$f":"'Z MÍSTA'!E130","v":200},{"$f":"REPRE!E33","v":0},{"$f":"ROČ!W150","v":5914.1945453989883}]
[{"$f":"'60'!B131","v":"KOTYK"},{"$f":"'60'!C131","v":"Tadeáš"},{"$f":"'60'!E131","v":10.7},{"$f":"'300'!E130","v":"00:00:00"},{"$f":"'1000'!E131","v":"00:00:00"},{"$f":"DÁLKA!E131","v":296},{"$f":"VÝŠKA!E131","v":105},{"$f":"MÍČEK!E131","v":20},{"$f":"KOULE!E131","v":6.19},{"$f":"OŠTĚP!E131","v":0},{"$f":"ČLUNEK!E131","v":0},{"$f":"LEHSED!E131","v":35},{"$f":"ODBÍJENÍ!E131","v":7},{"$f":"PLAVÁNÍ!E131","v":0},{"$f":"SHYBY!E131","v":0},{"$f":"ŠPLH!E131","v":0},{"$f":"ŠVIHADLO!E131","v":20},{"$f":"'Z MÍSTA'!E131","v":60},{"$f":"REPRE!E34","v":0},{"$f":"ROČ!W151","v":3433.8185059480793}]
[{"$f":"'60'!B132","v":"KRAUSE"},{"$f":"'60'!C132","v":"Tadeáš"},{"$f":"'60'!E132","v":10.130000000000001},{"$f":"'300'!E131","v":"00:00:00"},{"$f":"'1000'!E132","v":"00:00:00"},{"$f":"DÁLKA!E132","v":357},{"$f":"VÝŠKA!E132","v":110},{"$f":"MÍČEK!E132","v":29.5},{"$f":"KOULE!E132","v":5.62},{"$f":"OŠTĚP!E132","v":0},{"$f":"ČLUNEK!E132","v":0},{"$f":"LEHSED!E132","v":54},{"$f":"ODBÍJENÍ!E132","v":18},{"$f":"PLAVÁNÍ!E132","v":0},{"$f":"SHYBY!E132","v":0},{"$f":"ŠPLH!E132","v":0},{"$f":"ŠVIHADLO!E132","v":121},{"$f":"'Z MÍSTA'!E132","v":201},{"$f":"REPRE!E35","v":0},{"$f":"ROČ!W152","v":5164.9962224723049}]
[{"$f":"'60'!B133","v":"LEŠÁK"},{"$f":"'60'!C133","v":"Martin"},{"$f":"'60'!E133","v":10.87},{"$f":"'300'!E132","v":"00:00:00"},{"$f":"'1000'!E133","v":"00:00:00"},{"$f":"DÁLKA!E133","v":0},{"$f":"VÝŠKA!E133","v":99},{"$f":"MÍČEK!E133","v":25.5},{"$f":"KOULE!E133","v":6.03},{"$f":"OŠTĚP!E133","v":0},{"$f":"ČLUNEK!E133","v":0},{"$f":"LEHSED!E133","v":15},{"$f":"ODBÍJENÍ!E133","v":7},{"$f":"PLAVÁNÍ!E133","v":0},{"$f":"SHYBY!E133","v":0},{"$f":"ŠPLH!E133","v":0},{"$f":"ŠVIHADLO!E133","v":30},{"$f":"'Z MÍSTA'!E133","v":0},{"$f":"REPRE!E36","v":0},{"$f":"ROČ!W153","v":2484.9927263906775}]
[{"$f":"'60'!B134","v":"NECHANICKÝ"},{"$f":"'60'!C134","v":"David"},{"$f":"'60'!E134","v":9.65},{"$f":"'300'!E133","v":"00:00:00"},{"$f":"'1000'!E134","v":"00:00:00"},{"$f":"DÁLKA!E134","v":371},{"$f":"VÝŠKA!E134","v":115},{"$f":"MÍČEK!E134","v":31},{"$f":"KOULE!E134","v":0},{"$f":"OŠTĚP!E134","v":0},{"$f":"ČLUNEK!E134","v":0},{"$f":"LEHSED!E134","v":0},{"$f":"ODBÍJENÍ!E134","v":22},{"$f":"PLAVÁNÍ!E134","v":30},{"$f":"SHYBY!E134","v":0},{"$f":"ŠPLH!E134","v":0},{"$f":"ŠVIHADLO!E134","v":0},{"$f":"'Z MÍSTA'!E134","v":0},{"$f":"REPRE!E37","v":0},{"$f":"ROČ!W154","v":3058.4956748285758}]
[{"$f":"'60'!B135","v":"ŘEHOŘEK"},{"$f":"'60'!C135","v":"Jan"},{"$f":"'60'!E135","v":9.5500000000000007},{"$f":"'300'!E134","v":"00:00:00"},{"$f":"'1000'!E135","v":"00:00:00"},{"$f":"DÁLKA!E135","v":362},{"$f":"VÝŠKA!E135","v":120},{"$f":"MÍČEK!E135","v":42},{"$f":"KOULE!E135","v":5.28},{"$f":"OŠTĚP!E135","v":0},{"$f":"ČLUNEK!E135","v":0},{"$f":"LEHSED!E135","v":26},{"$f":"ODBÍJENÍ!E135","v":42},{"$f":"PLAVÁNÍ!E135","v":30},{"$f":"SHYBY!E135","v":0},{"$f":"ŠPLH!E135","v":0},{"$f":"ŠVIHADLO!E135","v":115},{"$f":"'Z MÍSTA'!E135","v":0},{"$f":"REPRE!E38","v":0},{"$f":"ROČ!W155","v":4881.7225359838803}]
[{"$f":"'60'!B136","v":"SOUKUP"},{"$f":"'60'!C136","v":"Ondřej"},{"$f":"'60'!E136","v":10},{"$f":"'300'!E135","v":"00:00:00"},{"$f":"'1000'!E136","v":"00:00:00"},{"$f":"DÁLKA!E136","v":314},{"$f":"VÝŠKA!E136","v":105},{"$f":"MÍČEK!E136","v":0},{"$f":"KOULE!E136","v":0},{"$f":"OŠTĚP!E136","v":0},{"$f":"ČLUNEK!E136","v":0},{"$f":"LEHSED!E136","v":47},{"$f":"ODBÍJENÍ!E136","v":22},{"$f":"PLAVÁNÍ!E136","v":0},{"$f":"SHYBY!E136","v":0},{"$f":"ŠPLH!E136","v":0},{"$f":"ŠVIHADLO!E136","v":0},{"$f":"'Z MÍSTA'!E136","v":0},{"$f":"REPRE!E39","v":0},{"$f":"ROČ!W156","v":2657.4228169200005}]
[{"$f":"'60'!B137","v":"SPANILÝ"},{"$f":"'60'!C137","v":"David"},{"$f":"'60'!E137","v":9.8000000000000007},{"$f":"'300'!E136","v":"00:00:00"},{"$f":"'1000'!E137","v":"00:00:00"},{"$f":"DÁLKA!E137","v":0},{"$f":"VÝŠKA!E137","v":0},{"$f":"MÍČEK!E137","v":47},{"$f":"KOULE!E137","v":5.67},{"$f":"OŠTĚP!E137","v":0},{"$f":"ČLUNEK!E137","v":0},{"$f":"LEHSED!E137","v":54},{"$f":"ODBÍJENÍ!E137","v":42},{"$f":"PLAVÁNÍ!E137","v":30},{"$f":"SHYBY!E137","v":0},{"$f":"ŠPLH!E137","v":0},{"$f":"ŠVIHADLO!E137","v":106},{"$f":"'Z MÍSTA'!E137","v":198},{"$f":"REPRE!E40","v":0},{"$f":"ROČ!W157","v":4679.4749959799628}]
[{"$f":"'60'!B138","v":"ČADAN"},{"$f":"'60'!C138","v":"Benjamín"},{"$f":"'60'!E138","v":0},{"$f":"'300'!E137","v":"00:00:00"},{"$f":"'1000'!E138","v":"00:00:00"},{"$f":"DÁLKA!E138","v":332},{"$f":"VÝŠKA!E138","v":109},{"$f":"MÍČEK!E138","v":26},{"$f":"KOULE!E138","v":5.4},{"$f":"OŠTĚP!E138","v":0},{"$f":"ČLUNEK!E138","v":0},{"$f":"LEHSED!E138","v":0},{"$f":"ODBÍJENÍ!E138","v":10},{"$f":"PLAVÁNÍ!E138","v":0},{"$f":"SHYBY!E138","v":0},{"$f":"ŠPLH!E138","v":0},{"$f":"ŠVIHADLO!E138","v":0},{"$f":"'Z MÍSTA'!E138","v":0},{"$f":"REPRE!E41","v":0},{"$f":"ROČ!W158","v":2080.3206666666665}]
[{"$f":"'60'!B139","v":"ČERNÝ"},{"$f":"'60'!C139","v":"Michal"},{"$f":"'60'!E139","v":10.36},{"$f":"'300'!E138","v":"00:00:00"},{"$f":"'1000'!E139","v":"00:00:00"},{"$f":"DÁLKA!E139","v":282},{"$f":"VÝŠKA!E139","v":99},{"$f":"MÍČEK!E139","v":39.5},{"$f":"KOULE!E139","v":5.35},{"$f":"OŠTĚP!E139","v":0},{"$f":"ČLUNEK!E139","v":0},{"$f":"LEHSED!E139","v":0},{"$f":"ODBÍJENÍ!E139","v":15},{"$f":"PLAVÁNÍ!E139","v":0},{"$f":"SHYBY!E139","v":0},{"$f":"ŠPLH!E139","v":0},{"$f":"ŠVIHADLO!E139","v":0},{"$f":"'Z MÍSTA'!E139","v":0},{"$f":"REPRE!E42","v":0},{"$f":"ROČ!W159","v":2868.3141407421708}]
[{"$f":"'60'!B140","v":"DOLEJŠÍ"},{"$f":"'60'!C140","v":"David"},{"$f":"'60'!E140","v":11.1},{"$f":"'300'!E139","v":"00:00:00"},{"$f":"'1000'!E140","v":"00:00:00"},{"$f":"DÁLKA!E140","v":303},{"$f":"VÝŠKA!E140","v":115},{"$f":"MÍČEK!E140","v":21},{"$f":"KOULE!E140","v":6.3},{"$f":"OŠTĚP!E140","v":0},{"$f":"ČLUNEK!E140","v":0},{"$f":"LEHSED!E140","v":45},{"$f":"ODBÍJENÍ!E140","v":8},{"$f":"PLAVÁNÍ!E140","v":0},{"$f":"SHYBY!E140","v":0},{"$f":"ŠPLH!E140","v":0},{"$f":"ŠVIHADLO!E140","v":58},{"$f":"'Z MÍSTA'!E140","v":152},{"$f":"REPRE!E43","v":0},{"$f":"ROČ!W160","v":4219.2625017297296}]
[{"$f":"'60'!B141","v":"NOVÁK"},{"$f":"'60'!C141","v":"Matěj"},{"$f":"'60'!E141","v":10.47},{"$f":"'300'!E140","v":"00:00:00"},{"$f":"'1000'!E141","v":"00:00:00"},{"$f":"DÁLKA!E141","v":322},{"$f":"VÝŠKA!E141","v":105},{"$f":"MÍČEK!E141","v":30.5},{"$f":"KOULE!E141","v":5.34},{"$f":"OŠTĚP!E141","v":0},{"$f":"ČLUNEK!E141","v":0},{"$f":"LEHSED!E141","v":0},{"$f":"ODBÍJENÍ!E141","v":8},{"$f":"PLAVÁNÍ!E141","v":0},{"$f":"SHYBY!E141","v":0},{"$f":"ŠPLH!E141","v":0},{"$f":"ŠVIHADLO!E141","v":68},{"$f":"'Z MÍSTA'!E141","v":169},{"$f":"REPRE!E44","v":0},{"$f":"ROČ!W161","v":3853.7830037440303}]
[{"$f":"'60'!B142","v":"POVAŽANEC"},{"$f":"'60'!C142","v":"Martin"},{"$f":"'60'!E142","v":9.86},{"$f":"'300'!E141","v":"00:00:00"},{"$f":"'1000'!E142","v":"00:00:00"},{"$f":"DÁLKA!E142","v":371},{"$f":"VÝŠKA!E142","v":110},{"$f":"MÍČEK!E142","v":40.5},{"$f":"KOULE!E142","v":8.61},{"$f":"OŠTĚP!E142","v":0},{"$f":"ČLUNEK!E142","v":0},{"$f":"LEHSED!E142","v":0},{"$f":"ODBÍJENÍ!E142","v":8},{"$f":"PLAVÁNÍ!E142","v":0},{"$f":"SHYBY!E142","v":0},{"$f":"ŠPLH!E142","v":0},{"$f":"ŠVIHADLO!E142","v":0},{"$f":"'Z MÍSTA'!E142","v":0},{"$f":"REPRE!E45","v":0},{"$f":"ROČ!W162","v":3231.0333761866123}]
[{"$f":"'60'!B143","v":"RICHTER"},{"$f":"'60'!C143","v":"Jakub"},{"$f":"'60'!E143","v":0},{"$f":"'300'!E142","v":"00:00:00"},{"$f":"'1000'!E143","v":"00:00:00"},{"$f":"DÁLKA!E143","v":0},{"$f":"VÝŠKA!E143","v":0},{"$f":"MÍČEK!E143","v":23},{"$f":"KOULE!E143","v":0},{"$f":"OŠTĚP!E143","v":0},{"$f":"ČLUNEK!E143","v":0},{"$f":"LEHSED!E143","v":20},{"$f":"ODBÍJENÍ!E143","v":0},{"$f":"PLAVÁNÍ!E143","v":0},{"$f":"SHYBY!E143","v":0},{"$f":"ŠPLH!E143","v":0},{"$f":"ŠVIHADLO!E143","v":0},{"$f":"'Z MÍSTA'!E143","v":0},{"$f":"REPRE!E46","v":0},{"$f":"ROČ!W163","v":537.5}]
[{"$f":"'60'!B144","v":"ROZUMEK"},{"$f":"'60'!C144","v":"Adam"},{"$f":"'60'!E144","v":0},{"$f":"'300'!E143","v":"00:00:00"},{"$f":"'1000'!E144","v":"00:00:00"},{"$f":"DÁLKA!E144","v":273},{"$f":"VÝŠKA!E144","v":99},{"$f":"MÍČEK!E144","v":38},{"$f":"KOULE!E144","v":7.72},{"$f":"OŠTĚP!E144","v":0},{"$f":"ČLUNEK!E144","v":0},{"$f":"LEHSED!E144","v":0},{"$f":"ODBÍJENÍ!E144","v":26},{"$f":"PLAVÁNÍ!E144","v":0},{"$f":"SHYBY!E144","v":0},{"$f":"ŠPLH!E144","v":0},{"$f":"ŠVIHADLO!E144","v":0},{"$f":"'Z MÍSTA'!E144","v":0},{"$f":"REPRE!E47","v":0},{"$f":"ROČ!W164","v":2342.5715555555557}]
[{"$f":"'60'!B145","v":"VALENTA"},{"$f":"'60'!C145","v":"František"},{"$f":"'60'!E145","v":10.92},{"$f":"'300'!E144","v":"00:00:00"},{"$f":"'1000'!E145","v":"00:00:00"},{"$f":"DÁLKA!E145","v":273},{"$f":"VÝŠKA!E145","v":105},{"$f":"MÍČEK!E145","v":20},{"$f":"KOULE!E145","v":6.24},{"$f":"OŠTĚP!E145","v":0},{"$f":"ČLUNEK!E145","v":0},{"$f":"LEHSED!E145","v":0},{"$f":"ODBÍJENÍ!E145","v":15},{"$f":"PLAVÁNÍ!E145","v":0},{"$f":"SHYBY!E145","v":0},{"$f":"ŠPLH!E145","v":0},{"$f":"ŠVIHADLO!E145","v":0},{"$f":"'Z MÍSTA'!E145","v":0},{"$f":"REPRE!E48","v":0},{"$f":"ROČ!W165","v":2664.3587261172161}]
[{"$f":"'60'!B146","v":"ZAPLATÍLEK"},{"$f":"'60'!C146","v":"Josef"},{"$f":"'60'!E146","v":10.02},{"$f":"'300'!E145","v":"00:00:00"},{"$f":"'1000'!E146","v":"00:00:00"},{"$f":"DÁLKA!E146","v":0},{"$f":"VÝŠKA!E146","v":105},{"$f":"MÍČEK!E146","v":36},{"$f":"KOULE!E146","v":5.41},{"$f":"OŠTĚP!E146","v":0},{"$f":"ČLUNEK!E146","v":0},{"$f":"LEHSED!E146","v":0},{"$f":"ODBÍJENÍ!E146","v":26},{"$f":"PLAVÁNÍ!E146","v":0},{"$f":"SHYBY!E146","v":0},{"$f":"ŠPLH!E146","v":0},{"$f":"ŠVIHADLO!E146","v":0},{"$f":"'Z MÍSTA'!E146","v":0},{"$f":"REPRE!E49","v":0},{"$f":"ROČ!W166","v":2441.4118598669329}]
[]
[]
[]
[]
[]
["SPORTOVEC  ŠKOLY  2020 - 2021",null,null,null,null,null,null,null,null,"CHLAPCI  8. ROČNÍK",null,null,null,null,null,null,null,"ZPĚT"]
[]
[null,null,"60  m  ","300m","1000m","dálka","výška","míček","koule","oštěp","člunek","lehsed","odbíjení ","plavání","shyby","šplh","švihadlo","z místa"," REPRE","  BODY"]
[{"$f":"'60'!B147","v":"ERBEN"},{"$f":"'60'!C147","v":"Viktor"},{"$f":"'60'!E147","v":10.43},{"$f":"'300'!E146","v":"00:01:04.810"},{"$f":"'1000'!E147","v":"00:00:00"},{"$f":"DÁLKA!E147","v":0},{"$f":"VÝŠKA!E147","v":109},{"$f":"MÍČEK!E147","v":21},{"$f":"KOULE!E147","v":5.83},{"$f":"OŠTĚP!E147","v":0},{"$f":"ČLUNEK!E147","v":11.07},{"$f":"LEHSED!E147","v":28},{"$f":"ODBÍJENÍ!E147","v":29},{"$f":"PLAVÁNÍ!E147","v":0},{"$f":"SHYBY!H147","v":0},{"$f":"ŠPLH!E147","v":0},{"$f":"ŠVIHADLO!E147","v":0},{"$f":"'Z MÍSTA'!E147","v":164},{"$f":"REPRE!E50","v":0},{"$f":"ROČ!W167","v":4561.6445219063771}]
[{"$f":"'60'!B148","v":"FRANC"},{"$f":"'60'!C148","v":"Daniel"},{"$f":"'60'!E148","v":11.1},{"$f":"'300'!E147","v":"00:00:00"},{"$f":"'1000'!E148","v":"00:00:00"},{"$f":"DÁLKA!E148","v":306},{"$f":"VÝŠKA!E148","v":109},{"$f":"MÍČEK!E148","v":26},{"$f":"KOULE!E148","v":0},{"$f":"OŠTĚP!E148","v":0},{"$f":"ČLUNEK!E148","v":12.03},{"$f":"LEHSED!E148","v":0},{"$f":"ODBÍJENÍ!E148","v":13},{"$f":"PLAVÁNÍ!E148","v":0},{"$f":"SHYBY!H148","v":0},{"$f":"ŠPLH!E148","v":0},{"$f":"ŠVIHADLO!E148","v":0},{"$f":"'Z MÍSTA'!E148","v":158},{"$f":"REPRE!E51","v":0},{"$f":"ROČ!W168","v":3552.3770744306935}]
[{"$f":"'60'!B149","v":"JINDŘIŠEK"},{"$f":"'60'!C149","v":"Matyáš"},{"$f":"'60'!E149","v":0},{"$f":"'300'!E148","v":"00:00:51.030"},{"$f":"'1000'!E149","v":"00:00:00"},{"$f":"DÁLKA!E149","v":0},{"$f":"VÝŠKA!E149","v":113},{"$f":"MÍČEK!E149","v":0},{"$f":"KOULE!E149","v":8.59},{"$f":"OŠTĚP!E149","v":0},{"$f":"ČLUNEK!E149","v":10.050000000000001},{"$f":"LEHSED!E149","v":41},{"$f":"ODBÍJENÍ!E149","v":28},{"$f":"PLAVÁNÍ!E149","v":0},{"$f":"SHYBY!H149","v":0},{"$f":"ŠPLH!E149","v":0},{"$f":"ŠVIHADLO!E149","v":79},{"$f":"'Z MÍSTA'!E149","v":205},{"$f":"REPRE!E52","v":0},{"$f":"ROČ!W169","v":4898.4636091582934}]
[{"$f":"'60'!B150","v":"KOLAČNÝ"},{"$f":"'60'!C150","v":"Štěpán"},{"$f":"'60'!E150","v":10.74},{"$f":"'300'!E149","v":"00:01:10.470"},{"$f":"'1000'!E150","v":"00:00:00"},{"$f":"DÁLKA!E150","v":307},{"$f":"VÝŠKA!E150","v":99},{"$f":"MÍČEK!E150","v":25},{"$f":"KOULE!E150","v":7.81},{"$f":"OŠTĚP!E150","v":0},{"$f":"ČLUNEK!E150","v":10.8},{"$f":"LEHSED!E150","v":43},{"$f":"ODBÍJENÍ!E150","v":19},{"$f":"PLAVÁNÍ!E150","v":0},{"$f":"SHYBY!H150","v":0},{"$f":"ŠPLH!E150","v":0},{"$f":"ŠVIHADLO!E150","v":0},{"$f":"'Z MÍSTA'!E150","v":180},{"$f":"REPRE!E53","v":0},{"$f":"ROČ!W170","v":5342.0920908329854}]
[{"$f":"'60'!B151","v":"KRISTAN"},{"$f":"'60'!C151","v":"Jáchym"},{"$f":"'60'!E151","v":14.56},{"$f":"'300'!E150","v":"00:01:34.910"},{"$f":"'1000'!E151","v":"00:00:00"},{"$f":"DÁLKA!E151","v":0},{"$f":"VÝŠKA!E151","v":88},{"$f":"MÍČEK!E151","v":15},{"$f":"KOULE!E151","v":3.7},{"$f":"OŠTĚP!E151","v":0},{"$f":"ČLUNEK!E151","v":14.28},{"$f":"LEHSED!E151","v":0},{"$f":"ODBÍJENÍ!E151","v":12},{"$f":"PLAVÁNÍ!E151","v":0},{"$f":"SHYBY!H151","v":0},{"$f":"ŠPLH!E151","v":0},{"$f":"ŠVIHADLO!E151","v":0},{"$f":"'Z MÍSTA'!E151","v":116},{"$f":"REPRE!E54","v":0},{"$f":"ROČ!W171","v":2882.3255711916527}]
[{"$f":"'60'!B152","v":"NGUYEN"},{"$f":"'60'!C152","v":"David"},{"$f":"'60'!E152","v":0},{"$f":"'300'!E151","v":"00:00:00"},{"$f":"'1000'!E152","v":"00:00:00"},{"$f":"DÁLKA!E152","v":381},{"$f":"VÝŠKA!E152","v":113},{"$f":"MÍČEK!E152","v":36.5},{"$f":"KOULE!E152","v":5.9},{"$f":"OŠTĚP!E152","v":0},{"$f":"ČLUNEK!E152","v":10.02},{"$f":"LEHSED!E152","v":0},{"$f":"ODBÍJENÍ!E152","v":29},{"$f":"PLAVÁNÍ!E152","v":0},{"$f":"SHYBY!H152","v":0},{"$f":"ŠPLH!E152","v":0},{"$f":"ŠVIHADLO!E152","v":0},{"$f":"'Z MÍSTA'!E152","v":230},{"$f":"REPRE!E55","v":0},{"$f":"ROČ!W172","v":3067.1572853995713}]
[{"$f":"'60'!B153","v":"NOVOTNÝ"},{"$f":"'60'!C153","v":"Jan"},{"$f":"'60'!E153","v":9.43},{"$f":"'300'!E152","v":"00:00:48.030"},{"$f":"'1000'!E153","v":"00:00:00"},{"$f":"DÁLKA!E153","v":372},{"$f":"VÝŠKA!E153","v":113},{"$f":"MÍČEK!E153","v":27},{"$f":"KOULE!E153","v":0},{"$f":"OŠTĚP!E153","v":0},{"$f":"ČLUNEK!E153","v":10.119999999999999},{"$f":"LEHSED!E153","v":0},{"$f":"ODBÍJENÍ!E153","v":16},{"$f":"PLAVÁNÍ!E153","v":0},{"$f":"SHYBY!H153","v":0},{"$f":"ŠPLH!E153","v":0},{"$f":"ŠVIHADLO!E153","v":0},{"$f":"'Z MÍSTA'!E153","v":0},{"$f":"REPRE!E56","v":0},{"$f":"ROČ!W173","v":4203.2301509769768}]
[{"$f":"'60'!B154","v":"RÁB"},{"$f":"'60'!C154","v":"Adam"},{"$f":"'60'!E154","v":12.15},{"$f":"'300'!E153","v":"00:01:12.190"},{"$f":"'1000'!E154","v":"00:00:00"},{"$f":"DÁLKA!E154","v":284},{"$f":"VÝŠKA!E154","v":92},{"$f":"MÍČEK!E154","v":25.5},{"$f":"KOULE!E154","v":8.01},{"$f":"OŠTĚP!E154","v":0},{"$f":"ČLUNEK!E154","v":11.74},{"$f":"LEHSED!E154","v":0},{"$f":"ODBÍJENÍ!E154","v":12},{"$f":"PLAVÁNÍ!E154","v":0},{"$f":"SHYBY!H154","v":0},{"$f":"ŠPLH!E154","v":0},{"$f":"ŠVIHADLO!E154","v":0},{"$f":"'Z MÍSTA'!E154","v":162},{"$f":"REPRE!E57","v":0},{"$f":"ROČ!W174","v":4449.3290758710291}]
[{"$f":"'60'!B155","v":"REPASKÝ"},{"$f":"'60'!C155","v":"Jakub"},{"$f":"'60'!E155","v":8.75},{"$f":"'300'!E154","v":"00:00:49.990"},{"$f":"'1000'!E155","v":"00:00:00"},{"$f":"DÁLKA!E155","v":0},{"$f":"VÝŠKA!E155","v":113},{"$f":"MÍČEK!E155","v":50.5},{"$f":"KOULE!E155","v":9.02},{"$f":"OŠTĚP!E155","v":0},{"$f":"ČLUNEK!E155","v":9.67},{"$f":"LEHSED!E155","v":49},{"$f":"ODBÍJENÍ!E155","v":73},{"$f":"PLAVÁNÍ!E155","v":0},{"$f":"SHYBY!H155","v":0},{"$f":"ŠPLH!E155","v":0},{"$f":"ŠVIHADLO!E155","v":146},{"$f":"'Z MÍSTA'!E155","v":213},{"$f":"REPRE!E58","v":0},{"$f":"ROČ!W175","v":7351.1191118530132}]
[{"$f":"'60'!B156","v":"SKÁLA"},{"$f":"'60'!C156","v":"Jan"},{"$f":"'60'!E156","v":8.75},{"$f":"'300'!E155","v":"00:00:51.050"},{"$f":"'1000'!E156","v":"00:00:00"},{"$f":"DÁLKA!E156","v":408},{"$f":"VÝŠKA!E156","v":113},{"$f":"MÍČEK!E156","v":30},{"$f":"KOULE!E156","v":9.39},{"$f":"OŠTĚP!E156","v":0},{"$f":"ČLUNEK!E156","v":10.56},{"$f":"LEHSED!E156","v":0},{"$f":"ODBÍJENÍ!E156","v":15},{"$f":"PLAVÁNÍ!E156","v":0},{"$f":"SHYBY!H156","v":0},{"$f":"ŠPLH!E156","v":0},{"$f":"ŠVIHADLO!E156","v":0},{"$f":"'Z MÍSTA'!E156","v":213},{"$f":"REPRE!E59","v":0},{"$f":"ROČ!W176","v":5722.1149306899879}]
[{"$f":"'60'!B157","v":"ŠPULÁK"},{"$f":"'60'!C157","v":"Jakub"},{"$f":"'60'!E157","v":9.8000000000000007},{"$f":"'300'!E156","v":"00:00:55.640"},{"$f":"'1000'!E157","v":"00:00:00"},{"$f":"DÁLKA!E157","v":348},{"$f":"VÝŠKA!E157","v":113},{"$f":"MÍČEK!E157","v":45},{"$f":"KOULE!E157","v":8.91},{"$f":"OŠTĚP!E157","v":0},{"$f":"ČLUNEK!E157","v":10.87},{"$f":"LEHSED!E157","v":27},{"$f":"ODBÍJENÍ!E157","v":18},{"$f":"PLAVÁNÍ!E157","v":0},{"$f":"SHYBY!H157","v":0},{"$f":"ŠPLH!E157","v":0},{"$f":"ŠVIHADLO!E157","v":34},{"$f":"'Z MÍSTA'!E157","v":194},{"$f":"REPRE!E60","v":0},{"$f":"ROČ!W177","v":6102.2520384784502}]
[{"$f":"'60'!B158","v":"VALENTA"},{"$f":"'60'!C158","v":"Tomáš"},{"$f":"'60'!E158","v":8.18},{"$f":"'300'!E157","v":"00:00:44.370"},{"$f":"'1000'!E158","v":"00:00:00"},{"$f":"DÁLKA!E158","v":485},{"$f":"VÝŠKA!E158","v":113},{"$f":"MÍČEK!E158","v":53},{"$f":"KOULE!E158","v":10.8},{"$f":"OŠTĚP!E158","v":0},{"$f":"ČLUNEK!E158","v":9.81},{"$f":"LEHSED!E158","v":49},{"$f":"ODBÍJENÍ!E158","v":73},{"$f":"PLAVÁNÍ!E158","v":0},{"$f":"SHYBY!H158","v":0},{"$f":"ŠPLH!E158","v":0},{"$f":"ŠVIHADLO!E158","v":142},{"$f":"'Z MÍSTA'!E158","v":234},{"$f":"REPRE!E61","v":0},{"$f":"ROČ!W178","v":8534.4726849746603}]
[{"$f":"'60'!B159","v":"VANCL"},{"$f":"'60'!C159","v":"Jiří"},{"$f":"'60'!E159","v":9.64},{"$f":"'300'!E158","v":"00:00:58.090"},{"$f":"'1000'!E159","v":"00:00:00"},{"$f":"DÁLKA!E159","v":0},{"$f":"VÝŠKA!E159","v":109},{"$f":"MÍČEK!E159","v":31},{"$f":"KOULE!E159","v":7.51},{"$f":"OŠTĚP!E159","v":0},{"$f":"ČLUNEK!E159","v":10.56},{"$f":"LEHSED!E159","v":0},{"$f":"ODBÍJENÍ!E159","v":32},{"$f":"PLAVÁNÍ!E159","v":0},{"$f":"SHYBY!H159","v":0},{"$f":"ŠPLH!E159","v":0},{"$f":"ŠVIHADLO!E159","v":0},{"$f":"'Z MÍSTA'!E159","v":203},{"$f":"REPRE!E62","v":0},{"$f":"ROČ!W179","v":4797.2627089219623}]
[{"$f":"'60'!B160","v":"VAŠÍČEK"},{"$f":"'60'!C160","v":"David"},{"$f":"'60'!E160","v":0},{"$f":"'300'!E159","v":"00:00:00"},{"$f":"'1000'!E160","v":"00:00:00"},{"$f":"DÁLKA!E160","v":349},{"$f":"VÝŠKA!E160","v":0},{"$f":"MÍČEK!E160","v":32.5},{"$f":"KOULE!E160","v":0},{"$f":"OŠTĚP!E160","v":0},{"$f":"ČLUNEK!E160","v":0},{"$f":"LEHSED!E160","v":0},{"$f":"ODBÍJENÍ!E160","v":31},{"$f":"PLAVÁNÍ!E160","v":0},{"$f":"SHYBY!H160","v":0},{"$f":"ŠPLH!E160","v":0},{"$f":"ŠVIHADLO!E160","v":0},{"$f":"'Z MÍSTA'!E160","v":209},{"$f":"REPRE!E63","v":0},{"$f":"ROČ!W180","v":2076.8179999999998}]
[{"$f":"'60'!B161","v":"ZOUHAR"},{"$f":"'60'!C161","v":"Ondřej"},{"$f":"'60'!E161","v":8.8000000000000007},{"$f":"'300'!E160","v":"00:00:49.010"},{"$f":"'1000'!E161","v":"00:00:00"},{"$f":"DÁLKA!E161","v":373},{"$f":"VÝŠKA!E161","v":109},{"$f":"MÍČEK!E161","v":35},{"$f":"KOULE!E161","v":6.37},{"$f":"OŠTĚP!E161","v":0},{"$f":"ČLUNEK!E161","v":10.15},{"$f":"LEHSED!E161","v":0},{"$f":"ODBÍJENÍ!E161","v":31},{"$f":"PLAVÁNÍ!E161","v":0},{"$f":"SHYBY!H161","v":0},{"$f":"ŠPLH!E161","v":0},{"$f":"ŠVIHADLO!E161","v":0},{"$f":"'Z MÍSTA'!E161","v":207},{"$f":"REPRE!E64","v":0},{"$f":"ROČ!W181","v":5730.4229108777436}]
[{"$f":"'60'!B162","v":"ZUZÁNEK"},{"$f":"'60'!C162","v":"Filip"},{"$f":"'60'!E162","v":10.039999999999999},{"$f":"'300'!E161","v":"00:00:57.690"},{"$f":"'1000'!E162","v":"00:00:00"},{"$f":"DÁLKA!E162","v":0},{"$f":"VÝŠKA!E162","v":113},{"$f":"MÍČEK!E162","v":24.5},{"$f":"KOULE!E162","v":6.6},{"$f":"OŠTĚP!E162","v":0},{"$f":"ČLUNEK!E162","v":10.3},{"$f":"LEHSED!E162","v":0},{"$f":"ODBÍJENÍ!E162","v":32},{"$f":"PLAVÁNÍ!E162","v":0},{"$f":"SHYBY!H162","v":0},{"$f":"ŠPLH!E162","v":0},{"$f":"ŠVIHADLO!E162","v":0},{"$f":"'Z MÍSTA'!E162","v":191},{"$f":"REPRE!E65","v":0},{"$f":"ROČ!W182","v":4650.8821532697575}]
[]
[]
[]
[]
[]
[]
[]
["SPORTOVEC  ŠKOLY  2020 - 2021",null,null,null,null,null,null,null,null,"CHLAPCI  9. ROČNÍK",null,null,null,null,null,null,null,"ZPĚT"]
[]
[null,null,"60  m  ","300m","1000m","dálka","výška","míček","koule","oštěp","člunek","lehsed","odbíjení ","plavání","shyby","šplh","švihadlo","z místa"," REPRE","  BODY"]
[{"$f":"'60'!B163","v":"BRUMLICH"},{"$f":"'60'!C163","v":"Jan"},{"$f":"'60'!E163","v":0},{"$f":"'300'!E162","v":"00:00:49.080"},{"$f":"'1000'!E163","v":"00:00:00"},{"$f":"DÁLKA!E163","v":0},{"$f":"VÝŠKA!E163","v":133},{"$f":"MÍČEK!E163","v":58},{"$f":"KOULE!E163","v":12.17},{"$f":"OŠTĚP!E163","v":0},{"$f":"ČLUNEK!E163","v":0},{"$f":"LEHSED!E163","v":0},{"$f":"ODBÍJENÍ!E163","v":41},{"$f":"PLAVÁNÍ!E163","v":30},{"$f":"SHYBY!E163","v":0},{"$f":"ŠPLH!E163","v":0},{"$f":"ŠVIHADLO!E163","v":0},{"$f":"'Z MÍSTA'!E163","v":0},{"$f":"REPRE!E66","v":0},{"$f":"ROČ!W183","v":3860.8709731119116}]
[{"$f":"'60'!B164","v":"BUCHAR"},{"$f":"'60'!C164","v":"Jiří"},{"$f":"'60'!E164","v":8.9},{"$f":"'300'!E163","v":"00:00:49.680"},{"$f":"'1000'!E164","v":"00:00:00"},{"$f":"DÁLKA!E164","v":415},{"$f":"VÝŠKA!E164","v":128},{"$f":"MÍČEK!E164","v":32.5},{"$f":"KOULE!E164","v":0},{"$f":"OŠTĚP!E164","v":0},{"$f":"ČLUNEK!E164","v":0},{"$f":"LEHSED!E164","v":0},{"$f":"ODBÍJENÍ!E164","v":41},{"$f":"PLAVÁNÍ!E164","v":0},{"$f":"SHYBY!E164","v":0},{"$f":"ŠPLH!E164","v":0},{"$f":"ŠVIHADLO!E164","v":0},{"$f":"'Z MÍSTA'!E164","v":0},{"$f":"REPRE!E67","v":0},{"$f":"ROČ!W184","v":3758.1208559605275}]
[{"$f":"'60'!B165","v":"FAISTAUER"},{"$f":"'60'!C165","v":"Jiří"},{"$f":"'60'!E165","v":0},{"$f":"'300'!E164","v":"00:00:00"},{"$f":"'1000'!E165","v":"00:00:00"},{"$f":"DÁLKA!E165","v":407},{"$f":"VÝŠKA!E165","v":118},{"$f":"MÍČEK!E165","v":44},{"$f":"KOULE!E165","v":7.8},{"$f":"OŠTĚP!E165","v":0},{"$f":"ČLUNEK!E165","v":0},{"$f":"LEHSED!E165","v":0},{"$f":"ODBÍJENÍ!E165","v":0},{"$f":"PLAVÁNÍ!E165","v":0},{"$f":"SHYBY!E165","v":0},{"$f":"ŠPLH!E165","v":0},{"$f":"ŠVIHADLO!E165","v":0},{"$f":"'Z MÍSTA'!E165","v":0},{"$f":"REPRE!E68","v":0},{"$f":"ROČ!W185","v":2521.2840000000001}]
[{"$f":"'60'!B166","v":"FAISTAUER"},{"$f":"'60'!C166","v":"Roman"},{"$f":"'60'!E166","v":8.2799999999999994},{"$f":"'300'!E165","v":"00:00:53.460"},{"$f":"'1000'!E166","v":"00:00:00"},{"$f":"DÁLKA!E166","v":413},{"$f":"VÝŠKA!E166","v":123},{"$f":"MÍČEK!E166","v":52},{"$f":"KOULE!E166","v":10.11},{"$f":"OŠTĚP!E166","v":0},{"$f":"ČLUNEK!E166","v":0},{"$f":"LEHSED!E166","v":0},{"$f":"ODBÍJENÍ!E166","v":31},{"$f":"PLAVÁNÍ!E166","v":0},{"$f":"SHYBY!E166","v":0},{"$f":"ŠPLH!E166","v":0},{"$f":"ŠVIHADLO!E166","v":0},{"$f":"'Z MÍSTA'!E166","v":0},{"$f":"REPRE!E69","v":0},{"$f":"ROČ!W186","v":4594.6082168623625}]
[{"$f":"'60'!B167","v":"FAJSTAVR"},{"$f":"'60'!C167","v":"Jakub"},{"$f":"'60'!E167","v":9.02},{"$f":"'300'!E166","v":"00:00:56.040"},{"$f":"'1000'!E167","v":"00:00:00"},{"$f":"DÁLKA!E167","v":383},{"$f":"VÝŠKA!E167","v":110},{"$f":"MÍČEK!E167","v":0},{"$f":"KOULE!E167","v":10.23},{"$f":"OŠTĚP!E167","v":0},{"$f":"ČLUNEK!E167","v":0},{"$f":"LEHSED!E167","v":48},{"$f":"ODBÍJENÍ!E167","v":0},{"$f":"PLAVÁNÍ!E167","v":25},{"$f":"SHYBY!E167","v":0},{"$f":"ŠPLH!E167","v":0},{"$f":"ŠVIHADLO!E167","v":66},{"$f":"'Z MÍSTA'!E167","v":121},{"$f":"REPRE!E70","v":0},{"$f":"ROČ!W187","v":5461.3598640879909}]
[{"$f":"'60'!B168","v":"FARSKÝ"},{"$f":"'60'!C168","v":"Vojtěch"},{"$f":"'60'!E168","v":8.91},{"$f":"'300'!E167","v":"00:00:00"},{"$f":"'1000'!E168","v":"00:00:00"},{"$f":"DÁLKA!E168","v":430},{"$f":"VÝŠKA!E168","v":139},{"$f":"MÍČEK!E168","v":54},{"$f":"KOULE!E168","v":9.2899999999999991},{"$f":"OŠTĚP!E168","v":0},{"$f":"ČLUNEK!E168","v":0},{"$f":"LEHSED!E168","v":0},{"$f":"ODBÍJENÍ!E168","v":85},{"$f":"PLAVÁNÍ!E168","v":0},{"$f":"SHYBY!E168","v":0},{"$f":"ŠPLH!E168","v":0},{"$f":"ŠVIHADLO!E168","v":0},{"$f":"'Z MÍSTA'!E168","v":0},{"$f":"REPRE!E71","v":0},{"$f":"ROČ!W188","v":4335.796191829405}]
[{"$f":"'60'!B169","v":"HOLUBEC"},{"$f":"'60'!C169","v":"Lukáš"},{"$f":"'60'!E169","v":0},{"$f":"'300'!E168","v":"00:00:00"},{"$f":"'1000'!E169","v":"00:00:00"},{"$f":"DÁLKA!E169","v":331},{"$f":"VÝŠKA!E169","v":113},{"$f":"MÍČEK!E169","v":35},{"$f":"KOULE!E169","v":8.6300000000000008},{"$f":"OŠTĚP!E169","v":0},{"$f":"ČLUNEK!E169","v":0},{"$f":"LEHSED!E169","v":0},{"$f":"ODBÍJENÍ!E169","v":15},{"$f":"PLAVÁNÍ!E169","v":0},{"$f":"SHYBY!E169","v":0},{"$f":"ŠPLH!E169","v":0},{"$f":"ŠVIHADLO!E169","v":0},{"$f":"'Z MÍSTA'!E169","v":0},{"$f":"REPRE!E72","v":0},{"$f":"ROČ!W189","v":2433.663111111111}]
[{"$f":"'60'!B170","v":"CHAROUZ"},{"$f":"'60'!C170","v":"Vojtěch"},{"$f":"'60'!E170","v":9.02},{"$f":"'300'!E169","v":"00:00:52.440"},{"$f":"'1000'!E170","v":"00:00:00"},{"$f":"DÁLKA!E170","v":405},{"$f":"VÝŠKA!E170","v":130},{"$f":"MÍČEK!E170","v":30},{"$f":"KOULE!E170","v":8},{"$f":"OŠTĚP!E170","v":0},{"$f":"ČLUNEK!E170","v":0},{"$f":"LEHSED!E170","v":0},{"$f":"ODBÍJENÍ!E170","v":19},{"$f":"PLAVÁNÍ!E170","v":0},{"$f":"SHYBY!E170","v":0},{"$f":"ŠPLH!E170","v":0},{"$f":"ŠVIHADLO!E170","v":0},{"$f":"'Z MÍSTA'!E170","v":0},{"$f":"REPRE!E73","v":0},{"$f":"ROČ!W190","v":4092.7087355220683}]
[{"$f":"'60'!B171","v":"IACCHERI"},{"$f":"'60'!C171","v":"Carlo"},{"$f":"'60'!E171","v":9.27},{"$f":"'300'!E170","v":"00:00:54.320"},{"$f":"'1000'!E171","v":"00:00:00"},{"$f":"DÁLKA!E171","v":339},{"$f":"VÝŠKA!E171","v":113},{"$f":"MÍČEK!E171","v":0},{"$f":"KOULE!E171","v":9.06},{"$f":"OŠTĚP!E171","v":0},{"$f":"ČLUNEK!E171","v":0},{"$f":"LEHSED!E171","v":0},{"$f":"ODBÍJENÍ!E171","v":0},{"$f":"PLAVÁNÍ!E171","v":30},{"$f":"SHYBY!E171","v":0},{"$f":"ŠPLH!E171","v":0},{"$f":"ŠVIHADLO!E171","v":0},{"$f":"'Z MÍSTA'!E171","v":185},{"$f":"REPRE!E74","v":0},{"$f":"ROČ!W191","v":4515.7107671412814}]
[{"$f":"'60'!B172","v":"JOHN"},{"$f":"'60'!C172","v":"Adrian"},{"$f":"'60'!E172","v":14.16},{"$f":"'300'!E171","v":"00:00:00"},{"$f":"'1000'!E172","v":"00:00:00"},{"$f":"DÁLKA!E172","v":208},{"$f":"VÝŠKA!E172","v":73},{"$f":"MÍČEK!E172","v":20},{"$f":"KOULE!E172","v":6.02},{"$f":"OŠTĚP!E172","v":0},{"$f":"ČLUNEK!E172","v":0},{"$f":"LEHSED!E172","v":30},{"$f":"ODBÍJENÍ!E172","v":16},{"$f":"PLAVÁNÍ!E172","v":0},{"$f":"SHYBY!E172","v":0},{"$f":"ŠPLH!E172","v":0},{"$f":"ŠVIHADLO!E172","v":0},{"$f":"'Z MÍSTA'!E172","v":0},{"$f":"REPRE!E75","v":0},{"$f":"ROČ!W192","v":2626.1002869020713}]
[{"$f":"'60'!B173","v":"KRČÍK"},{"$f":"'60'!C173","v":"Matthew"},{"$f":"'60'!E173","v":9.31},{"$f":"'300'!E172","v":"00:00:00"},{"$f":"'1000'!E173","v":"00:00:00"},{"$f":"DÁLKA!E173","v":351},{"$f":"VÝŠKA!E173","v":118},{"$f":"MÍČEK!E173","v":0},{"$f":"KOULE!E173","v":8.3800000000000008},{"$f":"OŠTĚP!E173","v":0},{"$f":"ČLUNEK!E173","v":0},{"$f":"LEHSED!E173","v":0},{"$f":"ODBÍJENÍ!E173","v":0},{"$f":"PLAVÁNÍ!E173","v":25},{"$f":"SHYBY!E173","v":0},{"$f":"ŠPLH!E173","v":0},{"$f":"ŠVIHADLO!E173","v":0},{"$f":"'Z MÍSTA'!E173","v":0},{"$f":"REPRE!E76","v":0},{"$f":"ROČ!W193","v":3213.1660357697428}]
[{"$f":"'60'!B174","v":"KRESAN"},{"$f":"'60'!C174","v":"Vojtěch"},{"$f":"'60'!E174","v":9.4600000000000009},{"$f":"'300'!E173","v":"00:00:00"},{"$f":"'1000'!E174","v":"00:00:00"},{"$f":"DÁLKA!E174","v":336},{"$f":"VÝŠKA!E174","v":110},{"$f":"MÍČEK!E174","v":26.5},{"$f":"KOULE!E174","v":8.8800000000000008},{"$f":"OŠTĚP!E174","v":0},{"$f":"ČLUNEK!E174","v":0},{"$f":"LEHSED!E174","v":0},{"$f":"ODBÍJENÍ!E174","v":10},{"$f":"PLAVÁNÍ!E174","v":30},{"$f":"SHYBY!E174","v":0},{"$f":"ŠPLH!E174","v":0},{"$f":"ŠVIHADLO!E174","v":0},{"$f":"'Z MÍSTA'!E174","v":0},{"$f":"REPRE!E77","v":0},{"$f":"ROČ!W194","v":3498.6552895921068}]
[{"$f":"'60'!B175","v":"LÁNSKÝ"},{"$f":"'60'!C175","v":"Vojtěch"},{"$f":"'60'!E175","v":0},{"$f":"'300'!E174","v":"00:01:26.160"},{"$f":"'1000'!E175","v":"00:00:00"},{"$f":"DÁLKA!E175","v":0},{"$f":"VÝŠKA!E175","v":95},{"$f":"MÍČEK!E175","v":21.5},{"$f":"KOULE!E175","v":8.6999999999999993},{"$f":"OŠTĚP!E175","v":0},{"$f":"ČLUNEK!E175","v":0},{"$f":"LEHSED!E175","v":0},{"$f":"ODBÍJENÍ!E175","v":15},{"$f":"PLAVÁNÍ!E175","v":0},{"$f":"SHYBY!E175","v":0},{"$f":"ŠPLH!E175","v":0},{"$f":"ŠVIHADLO!E175","v":0},{"$f":"'Z MÍSTA'!E175","v":0},{"$f":"REPRE!E78","v":0},{"$f":"ROČ!W195","v":1880.703562928134}]
[{"$f":"'60'!B176","v":"LEŠÁK"},{"$f":"'60'!C176","v":"Lukáš"},{"$f":"'60'!E176","v":11.77},{"$f":"'300'!E175","v":"00:00:00"},{"$f":"'1000'!E176","v":"00:00:00"},{"$f":"DÁLKA!E176","v":243},{"$f":"VÝŠKA!E176","v":105},{"$f":"MÍČEK!E176","v":23},{"$f":"KOULE!E176","v":6.75},{"$f":"OŠTĚP!E176","v":0},{"$f":"ČLUNEK!E176","v":0},{"$f":"LEHSED!E176","v":0},{"$f":"ODBÍJENÍ!E176","v":0},{"$f":"PLAVÁNÍ!E176","v":0},{"$f":"SHYBY!E176","v":0},{"$f":"ŠPLH!E176","v":0},{"$f":"ŠVIHADLO!E176","v":0},{"$f":"'Z MÍSTA'!E176","v":0},{"$f":"REPRE!E79","v":0},{"$f":"ROČ!W196","v":2524.8071670235063}]
[{"$f":"'60'!B177","v":"RYPL"},{"$f":"'60'!C177","v":"Matyáš"},{"$f":"'60'!E177","v":8.86},{"$f":"'300'!E176","v":"00:00:47.750"},{"$f":"'1000'!E177","v":"00:00:00"},{"$f":"DÁLKA!E177","v":416},{"$f":"VÝŠKA!E177","v":118},{"$f":"MÍČEK!E177","v":26},{"$f":"KOULE!E177","v":6.98},{"$f":"OŠTĚP!E177","v":0},{"$f":"ČLUNEK!E177","v":0},{"$f":"LEHSED!E177","v":55},{"$f":"ODBÍJENÍ!E177","v":19},{"$f":"PLAVÁNÍ!E177","v":25},{"$f":"SHYBY!E177","v":0},{"$f":"ŠPLH!E177","v":0},{"$f":"ŠVIHADLO!E177","v":0},{"$f":"'Z MÍSTA'!E177","v":0},{"$f":"REPRE!E80","v":0},{"$f":"ROČ!W197","v":5245.6993496559116}]
[{"$f":"'60'!B178","v":"VU TRAN DINH "},{"$f":"'60'!C178","v":"Lukas"},{"$f":"'60'!E178","v":9.27},{"$f":"'300'!E177","v":"00:00:00"},{"$f":"'1000'!E178","v":"00:00:00"},{"$f":"DÁLKA!E178","v":377},{"$f":"VÝŠKA!E178","v":0},{"$f":"MÍČEK!E178","v":40.5},{"$f":"KOULE!E178","v":9.44},{"$f":"OŠTĚP!E178","v":0},{"$f":"ČLUNEK!E178","v":0},{"$f":"LEHSED!E178","v":0},{"$f":"ODBÍJENÍ!E178","v":15},{"$f":"PLAVÁNÍ!E178","v":30},{"$f":"SHYBY!E178","v":0},{"$f":"ŠPLH!E178","v":0},{"$f":"ŠVIHADLO!E178","v":0},{"$f":"'Z MÍSTA'!E178","v":0},{"$f":"REPRE!E81","v":0},{"$f":"ROČ!W198","v":3087.7359824149848}]
[{"$f":"'60'!B179","v":"DUFEK"},{"$f":"'60'!C179","v":"Matyáš"},{"$f":"'60'!E179","v":0},{"$f":"'300'!E178","v":"00:00:00"},{"$f":"'1000'!E179","v":"00:00:00"},{"$f":"DÁLKA!E179","v":0},{"$f":"VÝŠKA!E179","v":95},{"$f":"MÍČEK!E179","v":29},{"$f":"KOULE!E179","v":0},{"$f":"OŠTĚP!E179","v":0},{"$f":"ČLUNEK!E179","v":0},{"$f":"LEHSED!E179","v":0},{"$f":"ODBÍJENÍ!E179","v":21},{"$f":"PLAVÁNÍ!E179","v":0},{"$f":"SHYBY!E179","v":0},{"$f":"ŠPLH!E179","v":0},{"$f":"ŠVIHADLO!E179","v":0},{"$f":"'Z MÍSTA'!E179","v":0},{"$f":"REPRE!E82","v":0},{"$f":"ROČ!W199","v":1055.9000000000001}]
[{"$f":"'60'!B180","v":"JEŽEK"},{"$f":"'60'!C180","v":"Jonáš"},{"$f":"'60'!E180","v":8.68},{"$f":"'300'!E179","v":"00:00:00"},{"$f":"'1000'!E180","v":"00:00:00"},{"$f":"DÁLKA!E180","v":0},{"$f":"VÝŠKA!E180","v":110},{"$f":"MÍČEK!E180","v":45},{"$f":"KOULE!E180","v":8.77},{"$f":"OŠTĚP!E180","v":0},{"$f":"ČLUNEK!E180","v":0},{"$f":"LEHSED!E180","v":0},{"$f":"ODBÍJENÍ!E180","v":179},{"$f":"PLAVÁNÍ!E180","v":30},{"$f":"SHYBY!E180","v":0},{"$f":"ŠPLH!E180","v":0},{"$f":"ŠVIHADLO!E180","v":0},{"$f":"'Z MÍSTA'!E180","v":0},{"$f":"REPRE!E83","v":0},{"$f":"ROČ!W200","v":3773.0751401139687}]
[{"$f":"'60'!B181","v":"JEŽEK"},{"$f":"'60'!C181","v":"Mikuláš"},{"$f":"'60'!E181","v":0},{"$f":"'300'!E180","v":"00:00:00"},{"$f":"'1000'!E181","v":"00:00:00"},{"$f":"DÁLKA!E181","v":0},{"$f":"VÝŠKA!E181","v":128},{"$f":"MÍČEK!E181","v":45},{"$f":"KOULE!E181","v":0},{"$f":"OŠTĚP!E181","v":0},{"$f":"ČLUNEK!E181","v":0},{"$f":"LEHSED!E181","v":0},{"$f":"ODBÍJENÍ!E181","v":0},{"$f":"PLAVÁNÍ!E181","v":30},{"$f":"SHYBY!E181","v":0},{"$f":"ŠPLH!E181","v":0},{"$f":"ŠVIHADLO!E181","v":0},{"$f":"'Z MÍSTA'!E181","v":0},{"$f":"REPRE!E84","v":0},{"$f":"ROČ!W201","v":1713.6144344969698}]
[{"$f":"'60'!B182","v":"NECHANICKÝ"},{"$f":"'60'!C182","v":"Michal"},{"$f":"'60'!E182","v":8.86},{"$f":"'300'!E181","v":"00:00:00"},{"$f":"'1000'!E182","v":"00:00:00"},{"$f":"DÁLKA!E182","v":385},{"$f":"VÝŠKA!E182","v":117},{"$f":"MÍČEK!E182","v":39},{"$f":"KOULE!E182","v":7.34},{"$f":"OŠTĚP!E182","v":0},{"$f":"ČLUNEK!E182","v":0},{"$f":"LEHSED!E182","v":26},{"$f":"ODBÍJENÍ!E182","v":151},{"$f":"PLAVÁNÍ!E182","v":0},{"$f":"SHYBY!E182","v":0},{"$f":"ŠPLH!E182","v":0},{"$f":"ŠVIHADLO!E182","v":85},{"$f":"'Z MÍSTA'!E182","v":132},{"$f":"REPRE!E85","v":0},{"$f":"ROČ!W202","v":5235.6023190719843}]
[{"$f":"'60'!B183","v":"PAULÍČEK"},{"$f":"'60'!C183","v":"Jakub"},{"$f":"'60'!E183","v":9.02},{"$f":"'300'!E182","v":"00:00:00"},{"$f":"'1000'!E183","v":"00:00:00"},{"$f":"DÁLKA!E183","v":0},{"$f":"VÝŠKA!E183","v":133},{"$f":"MÍČEK!E183","v":38},{"$f":"KOULE!E183","v":0},{"$f":"OŠTĚP!E183","v":0},{"$f":"ČLUNEK!E183","v":0},{"$f":"LEHSED!E183","v":0},{"$f":"ODBÍJENÍ!E183","v":12},{"$f":"PLAVÁNÍ!E183","v":0},{"$f":"SHYBY!E183","v":0},{"$f":"ŠPLH!E183","v":0},{"$f":"ŠVIHADLO!E183","v":0},{"$f":"'Z MÍSTA'!E183","v":0},{"$f":"REPRE!E86","v":0},{"$f":"ROČ!W203","v":2115.8185553436806}]
[{"$f":"'60'!B184","v":"POHOŘALÝ"},{"$f":"'60'!C184","v":"Jakub"},{"$f":"'60'!E184","v":8.02},{"$f":"'300'!E183","v":"00:00:00"},{"$f":"'1000'!E184","v":"00:00:00"},{"$f":"DÁLKA!E184","v":445},{"$f":"VÝŠKA!E184","v":133},{"$f":"MÍČEK!E184","v":45.5},{"$f":"KOULE!E184","v":10.72},{"$f":"OŠTĚP!E184","v":0},{"$f":"ČLUNEK!E184","v":0},{"$f":"LEHSED!E184","v":0},{"$f":"ODBÍJENÍ!E184","v":72},{"$f":"PLAVÁNÍ!E184","v":0},{"$f":"SHYBY!E184","v":0},{"$f":"ŠPLH!E184","v":0},{"$f":"ŠVIHADLO!E184","v":0},{"$f":"'Z MÍSTA'!E184","v":0},{"$f":"REPRE!E87","v":0},{"$f":"ROČ!W204","v":4307.9742383319481}]
[{"$f":"'60'!B185","v":"POSPÍCHAL"},{"$f":"'60'!C185","v":"Daniel"},{"$f":"'60'!E185","v":9.0500000000000007},{"$f":"'300'!E184","v":"00:00:00"},{"$f":"'1000'!E185","v":"00:00:00"},{"$f":"DÁLKA!E185","v":389},{"$f":"VÝŠKA!E185","v":105},{"$f":"MÍČEK!E185","v":0},{"$f":"KOULE!E185","v":9.31},{"$f":"OŠTĚP!E185","v":0},{"$f":"ČLUNEK!E185","v":0},{"$f":"LEHSED!E185","v":0},{"$f":"ODBÍJENÍ!E185","v":31},{"$f":"PLAVÁNÍ!E185","v":0},{"$f":"SHYBY!E185","v":0},{"$f":"ŠPLH!E185","v":0},{"$f":"ŠVIHADLO!E185","v":0},{"$f":"'Z MÍSTA'!E185","v":0},{"$f":"REPRE!E88","v":0},{"$f":"ROČ!W205","v":3001.9212169772863}]
[{"$f":"'60'!B186","v":"SOUKUP"},{"$f":"'60'!C186","v":"Lukáš"},{"$f":"'60'!E186","v":9.0500000000000007},{"$f":"'300'!E185","v":"00:00:00"},{"$f":"'1000'!E186","v":"00:00:00"},{"$f":"DÁLKA!E186","v":424},{"$f":"VÝŠKA!E186","v":118},{"$f":"MÍČEK!E186","v":39},{"$f":"KOULE!E186","v":10.39},{"$f":"OŠTĚP!E186","v":0},{"$f":"ČLUNEK!E186","v":0},{"$f":"LEHSED!E186","v":0},{"$f":"ODBÍJENÍ!E186","v":179},{"$f":"PLAVÁNÍ!E186","v":0},{"$f":"SHYBY!E186","v":0},{"$f":"ŠPLH!E186","v":0},{"$f":"ŠVIHADLO!E186","v":0},{"$f":"'Z MÍSTA'!E186","v":0},{"$f":"REPRE!E89","v":0},{"$f":"ROČ!W206","v":4107.2512169772872}]
[{"$f":"'60'!B187","v":"VANCL"},{"$f":"'60'!C187","v":"Jan"},{"$f":"'60'!E187","v":8.25},{"$f":"'300'!E186","v":"00:00:00"},{"$f":"'1000'!E187","v":"00:00:00"},{"$f":"DÁLKA!E187","v":424},{"$f":"VÝŠKA!E187","v":143},{"$f":"MÍČEK!E187","v":62},{"$f":"KOULE!E187","v":12.1},{"$f":"OŠTĚP!E187","v":0},{"$f":"ČLUNEK!E187","v":0},{"$f":"LEHSED!E187","v":0},{"$f":"ODBÍJENÍ!E187","v":34},{"$f":"PLAVÁNÍ!E187","v":30},{"$f":"SHYBY!E187","v":0},{"$f":"ŠPLH!E187","v":0},{"$f":"ŠVIHADLO!E187","v":0},{"$f":"'Z MÍSTA'!E187","v":0},{"$f":"REPRE!E90","v":0},{"$f":"ROČ!W207","v":4728.4120105616166}]
[{"$f":"'60'!B188","v":"VANCL"},{"$f":"'60'!C188","v":"Lukáš"},{"$f":"'60'!E188","v":8.61},{"$f":"'300'!E187","v":"00:00:50.520"},{"$f":"'1000'!E188","v":"00:00:00"},{"$f":"DÁLKA!E188","v":415},{"$f":"VÝŠKA!E188","v":143},{"$f":"MÍČEK!E188","v":53},{"$f":"KOULE!E188","v":13.64},{"$f":"OŠTĚP!E188","v":0},{"$f":"ČLUNEK!E188","v":0},{"$f":"LEHSED!E188","v":0},{"$f":"ODBÍJENÍ!E188","v":72},{"$f":"PLAVÁNÍ!E188","v":30},{"$f":"SHYBY!E188","v":0},{"$f":"ŠPLH!E188","v":0},{"$f":"ŠVIHADLO!E188","v":0},{"$f":"'Z MÍSTA'!E188","v":0},{"$f":"REPRE!E91","v":0},{"$f":"ROČ!W208","v":5715.0946165755704}]
[{"$f":"'60'!B189","v":"VAŠÍK"},{"$f":"'60'!C189","v":"Jiří"},{"$f":"'60'!E189","v":9.1199999999999992},{"$f":"'300'!E188","v":"00:00:00"},{"$f":"'1000'!E189","v":"00:00:00"},{"$f":"DÁLKA!E189","v":380},{"$f":"VÝŠKA!E189","v":113},{"$f":"MÍČEK!E189","v":36},{"$f":"KOULE!E189","v":8.2799999999999994},{"$f":"OŠTĚP!E189","v":0},{"$f":"ČLUNEK!E189","v":0},{"$f":"LEHSED!E189","v":0},{"$f":"ODBÍJENÍ!E189","v":15},{"$f":"PLAVÁNÍ!E189","v":0},{"$f":"SHYBY!E189","v":0},{"$f":"ŠPLH!E189","v":0},{"$f":"ŠVIHADLO!E189","v":0},{"$f":"'Z MÍSTA'!E189","v":0},{"$f":"REPRE!E92","v":0},{"$f":"ROČ!W209","v":3293.8726501315791}]
[{"$f":"'60'!B190","v":"VOHNOUT"},{"$f":"'60'!C190","v":"Zdeněk"},{"$f":"'60'!E190","v":7.7},{"$f":"'300'!E189","v":"00:00:42.200"},{"$f":"'1000'!E190","v":"00:00:00"},{"$f":"DÁLKA!E190","v":489},{"$f":"VÝŠKA!E190","v":140},{"$f":"MÍČEK!E190","v":49.5},{"$f":"KOULE!E190","v":9.92},{"$f":"OŠTĚP!E190","v":0},{"$f":"ČLUNEK!E190","v":0},{"$f":"LEHSED!E190","v":0},{"$f":"ODBÍJENÍ!E190","v":85},{"$f":"PLAVÁNÍ!E190","v":0},{"$f":"SHYBY!E190","v":0},{"$f":"ŠPLH!E190","v":0},{"$f":"ŠVIHADLO!E190","v":0},{"$f":"'Z MÍSTA'!E190","v":0},{"$f":"REPRE!E93","v":0},{"$f":"ROČ!W210","v":5479.8271953957301}]

{"sheet":"60","index":7,"n_rows":190,"n_cols":12,"rows_kept":190,"cut":false,"hidden":false,"merged":[]}
[null,null,"VÝKONY  2020 - 2021",null,null,null,"60 M","CHLAPCI  6. -  9.  ROČ."]
[null,"stav  k ",{"$f":"TODAY()","v":"2021-06-28"}]
[null,null,null,null,null,null,null,"BODY",null,"19  - 20","18  - 19","17 - 18"]
["1.",{"$f":"B101","v":"BOUKAL"},"Jakub","6.A",12.56,null,{"$f":"G101","v":"Jilemnice  16.09.20"},608.69491792993631,null,0,0,0]
["2.","DEMČUK","Ilja","6.A",10.85,null,{"$f":"G102","v":"Jilemnice  14.09.20"},686.34545338248847,null,0,0,0]
["3.","FAISTAUER","Kryštof","6.A",9.5,null,{"$f":"G103","v":"Jilemnice  14.09.20"},767.39454412631574,null,0,0,0]
["4.","FRK","Matyáš","6.A",12.72,null,{"$f":"G104","v":"Jilemnice  14.09.20"},602.49749757861639,null,0,0,0]
["5.","HUBÁLOVSKÝ","Marek","6.A",11.43,null,{"$f":"G105","v":"Jilemnice  14.09.20"},657.40403930008745,null,0,0,0]
["6.","MAŘAS","Dominik","6.A",11.64,null,{"$f":"G106","v":"Jilemnice  16.09.20"},647.6364406529209,null,0,0,0]
["7.","MAŤÁTKO","Jakub","6.A",13.19,null,{"$f":"G107","v":"Jilemnice  16.09.20"},585.16210532221385,null,0,0,0]
["8.","MERY",{"$f":"C108","v":"Luboš"},"6.A",11.43,null,{"$f":"G108","v":"Jilemnice  14.09.20"},657.40403930008745,null,0,0,0]
["9.","NOVOTNÝ","Matěj","6.A",10.96,null,{"$f":"G109","v":"Jilemnice  14.09.20"},680.6211833211679,null,0,0,0]
["10.","ŘEHOŘEK","Vojtěch","6.A",11.92,null,{"$f":"G110","v":"Jilemnice  14.09.20"},635.14833634228182,null,0,0,0]
["11.","ŠÍR","Matyáš","6.A",11.48,null,{"$f":"G111","v":"Jilemnice  14.09.20"},655.04600777003475,null,0,0,0]
["12.","TORÁČ","Tomáš","6.A",22.77,null,{"$f":"G112","v":"Jilemnice  16.09.20"},387.77198810715856,null,0,0,0]
["13.","ULLMAN","Šimon","6.A",9.18,null,{"$f":"G113","v":"Jilemnice  14.09.20"},790.10110775599128,null,0,0,0]
["14.","VÁCLAVÍK","Ondřej","6.A",10.94,null,{"$f":"G114","v":"Jilemnice  14.09.20"},681.65339755027424,null,0,0,0]
[null,"AUERSWALD","Daniel","6.B",9.89,null,{"$f":"G115","v":"Jilemnice  14.09.20"},741.70760052578362,null,0,0,0]
["16.","BODLÁK","Vladimír","6.B",8.39,null,{"$f":"G116","v":"Jilemnice  14.09.20"},853.5742752324195,null,0,0,0]
["17.","BUDÍN","Martin","6.B",10.46,null,{"$f":"G117","v":"Jilemnice  14.09.20"},707.61072363288713,null,0,0,0]
["18.","DVOŘÁK","Dominik","6.B",11.56,null,{"$f":"G118","v":"Jilemnice  14.09.20"},651.31558557093422,null,0,0,0]
["19.","FIŠERA","Vojtěch","6.B",10.44,null,{"$f":"G119","v":"Jilemnice  14.09.20"},708.74407750957857,null,0,0,0]
["20.","JINDŘIŠEK","Vít","6.B",8.77,null,{"$f":"G120","v":"Jilemnice  14.09.20"},821.61552670467506,null,0,0,0]
["21.",{"$f":"B121","v":"JIROUŠ"},"Matouš","6.B",10.08,null,{"$f":"G121","v":"Jilemnice  14.09.20"},729.91350884920632,null,0,0,0]
["22.","KERLE","Marek","6.B",10.64,null,{"$f":"G122","v":"Jilemnice  14.09.20"},697.60227154135328,null,0,0,0]
["23.","LUKEŠ","Jakub","6.B",10.26,null,{"$f":"G123","v":"Jilemnice  14.09.20"},719.14309641325542,null,0,0,0]
["24.","OTT","Matyáš","6.B",11,null,{"$f":"G124","v":"Jilemnice  14.09.20"},678.56801538181821,null,0,0,0]
["25.","POKORNÝ","Matyáš","6.B",8.94,null,{"$f":"G125","v":"Jilemnice  14.09.20"},808.19778178970921,null,0,0,0]
["26.","POLÁČEK","Matyáš","6.B",11.49,null,{"$f":"G126","v":"Jilemnice  14.09.20"},654.57686416013928,null,0,0,0]
["27.","SOUKUP","Patrik","6.B",10.09,null,{"$f":"G127","v":"Jilemnice  14.09.20"},729.30507127849353,null,0,0,0]
["28.","VALENTA","Jakub","6.B",10.24,null,{"$f":"G128","v":"Jilemnice  14.09.20"},720.32111027343751,null,0,0,0]
["29.","VRBATA","Dominik","6.B",10.25,null,{"$f":"G129","v":"Jilemnice  14.09.20"},719.73152870243905,null,0,0,0]
["30.","FEJKL","Jan","7.A",9.14,null,{"$f":"G130","v":"Jilemnice  14.09.20"},793.05122201312906,null,9.4499999999999993,0,0]
["31.","KOTYK","Tadeáš","7.A",10.7,null,{"$f":"G131","v":"Jilemnice  14.09.20"},694.34095039252338,null,10.7,0,0]
["32.","KRAUSE","Tadeáš","7.A",10.130000000000001,null,{"$f":"G132","v":"Jilemnice  14.09.20"},726.88333358341561,null,10.34,0,0]
["33.","LEŠÁK","Martin","7.A",10.87,null,{"$f":"G133","v":"Jilemnice  14.09.20"},685.296059724011,null,10.54,0,0]
["34.","NECHANICKÝ","David","7.A",9.65,null,{"$f":"G134","v":"Jilemnice  14.09.20"},757.26924033160617,null,9.42,0,0]
["35.","ŘEHOŘEK","Jan","7.A",9.5500000000000007,null,{"$f":"G135","v":"Jilemnice  14.09.20"},763.98410148691096,null,9.74,0,0]
["36.","SOUKUP","Ondřej","7.A",10,null,{"$f":"G136","v":"Jilemnice  14.09.20"},734.82481691999999,null,10.91,0,0]
["37.","SPANILÝ","David","7.A",9.8000000000000007,null,{"$f":"G137","v":"Jilemnice  14.09.20"},747.45389481632651,null,10.220000000000001,0,0]
["38.","ČADAN","Benjamín","7.B",0,null,{"$f":"G138","v":0},0,null,0,0,0]
["39.","ČERNÝ","Michal","7.B",10.36,null,{"$f":"G139","v":"Jilemnice  14.09.20"},713.32125185328186,null,11.28,0,0]
["40.","DOLEJŠÍ","David","7.B",11.1,null,{"$f":"G140","v":"Jilemnice  14.09.20"},673.49983506306307,null,10.8,0,0]
["41.",{"$f":"B141","v":"NOVÁK"},"Matěj","7.B",10.47,null,{"$f":"G141","v":"Jilemnice  14.09.20"},707.0456704106972,null,10.54,0,0]
["42.","POVAŽANEC","Martin","7.B",9.86,null,{"$f":"G142","v":"Jilemnice  14.09.20"},743.61137618661257,null,11.89,0,0]
["43.","RICHTER","Jakub","7.B",0,null,{"$f":"G143","v":" "},0,null,11.66,0,0]
["44.","ROZUMEK","Adam","7.B",0,null,{"$f":"G144","v":0},0,null,0,0,0]
["45.","VALENTA","František","7.B",10.92,null,{"$f":"G145","v":"Jilemnice  14.09.20"},682.68939278388279,null,11.6,0,0]
["46.","ZAPLATÍLEK","Josef","7.B",10.02,null,{"$f":"G146","v":"Jilemnice  14.09.20"},733.58963764471059,null,10.039999999999999,0,0]
["47.","ERBEN","Viktor","8.A",10.43,null,{"$f":"G147","v":"Jilemnice  23.09.19"},709.31238439117942,null,11.62,12.32,0]
["48.","FRANC","Daniel","8.A",11.1,null,{"$f":"G148","v":"Jilemnice  23.09.20"},673.49983506306307,null,10.48,10.38,0]
["49.","JINDŘIŠEK","Matyáš","8.A",0,null,{"$f":"G149","v":0},0,null,9.8800000000000008,10.38,0]
["50.","KOLAČNÝ","Štěpán","8.A",10.74,null,{"$f":"G150","v":"Jilemnice  23.09.20"},692.18698037243951,null,10.34,10.42,0]
["51.","KRISTAN","Jáchym","8.A",14.56,null,{"$f":"G151","v":"Jilemnice  23.09.20"},541.0170445879121,null,13.78,14.93,0]
["52.","NGUYEN","David","8.A",0,null,{"$f":"G152","v":0},0,null,10.58,0,0]
["53.","NOVOTNÝ","Jan","8.A",9.43,null,{"$f":"G153","v":"Jilemnice  23.09.20"},772.22992250265111,null,9.93,11.65,0]
["54.","RÁB","Adam","8.A",12.15,null,{"$f":"G154","v":"Jilemnice  23.09.20"},625.32083697119344,null,12.58,12.82,0]
["55.","REPASKÝ","Jakub","8.A",8.75,null,{"$f":"G155","v":"Jilemnice  23.09.20"},823.22836219428575,null,9.5299999999999994,0,0]
["56.","SKÁLA","Jan","8.A",8.75,null,{"$f":"G156","v":"Jilemnice  23.09.20"},823.22836219428575,null,0,10.56,0]
["57.","ŠPULÁK","Jakub","8.A",9.8000000000000007,null,{"$f":"G157","v":"Jilemnice  23.09.20"},747.45389481632651,null,10.24,11.9,0]
["58.","VALENTA","Tomáš","8.A",8.18,null,{"$f":"G158","v":"Jilemnice  23.09.20"},872.50955613691929,null,8.7899999999999991,9.09,0]
["59.","VANCL","Jiří","8.A",9.64,null,{"$f":"G159","v":"Jilemnice  23.09.20"},757.93445738589196,null,10.74,10.86,0]
["60.","VAŠÍČEK","David","8.A",0,null,{"$f":"G160","v":0},0,null,9.89,10.4,0]
["61.",{"$f":"B161","v":"ZOUHAR"},"Ondřej","8.A",8.8000000000000007,null,{"$f":"G161","v":"Jilemnice  23.09.20"},819.21001922727271,null,9.3000000000000007,9.8000000000000007,0]
["62.","ZUZÁNEK","Filip","8.A",10.039999999999999,null,{"$f":"G162","v":"Jilemnice  23.09.20"},732.35937940239046,null,10.02,10.58,0]
["63.","BRUMLICH","Jan","9.A",0,null,{"$f":"G163","v":0},0,null,8.5299999999999994,9.59,10.62]
["64.","BUCHAR","Jiří","9.A",8.9,null,{"$f":"G164","v":"Jilemnice  14.09.20"},811.30878305617966,null,9.19,9.1199999999999992,10.49]
["65.","FAISTAUER","Jiří","9.A",0,null,{"$f":"G165","v":0},0,null,8.5399999999999991,10.37,10.38]
["66.","FAISTAUER","Roman","9.A",8.2799999999999994,null,{"$f":"G166","v":"Jilemnice  18.09.20"},863.37296729468608,null,9.73,10.24,10.82]
["67.","FAJSTAVR","Jakub","9.A",9.02,null,{"$f":"G167","v":"Jilemnice  14.09.20"},802.05855534368072,null,9.2799999999999994,10.48,10.38]
["68.","FARSKÝ","Vojtěch","9.A",8.91,null,{"$f":"G168","v":"Jilemnice  14.09.20"},810.52841405162735,null,9.44,9.9600000000000009,10.98]
["69.","HOLUBEC","Lukáš","9.A",0,null,{"$f":"G169","v":0},0,null,11.29,11.07,11.89]
["70.","CHAROUZ","Vojtěch","9.A",9.02,null,{"$f":"G170","v":"Jilemnice  14.09.20"},802.05855534368072,null,9.4,10.67,9.84]
["71.","IACCHERI","Carlo","9.A",9.27,null,{"$f":"G171","v":"Jilemnice  14.09.20"},783.556436806904,null,9.6,11.99,12.12]
["72.","JOHN","Adrian","9.A",14.16,null,{"$f":"G172","v":"Jilemnice  14.09.20"},553.02317579096052,null,12.64,13,13.88]
["73.","KRČÍK","Matthew","9.A",9.31,null,{"$f":"G173","v":"Jilemnice  14.09.20"},780.68831033297522,null,9.76,10.69,10.7]
["74.","KRESAN","Vojtěch","9.A",9.4600000000000009,null,{"$f":"G174","v":"Jilemnice  14.09.20"},770.14885509513726,null,9.6300000000000008,11.24,11.26]
["75.","LÁNSKÝ","Vojtěch","9.A",0,null,{"$f":"G175","v":0},0,null,12.92,14.89,15.54]
["76.","LEŠÁK","Lukáš","9.A",11.77,null,{"$f":"G176","v":"Jilemnice  14.09.20"},641.76450035683945,null,12.2,14.3,14.74]
["77.","RYPL","Matyáš","9.A",8.86,null,{"$f":"G177","v":"Jilemnice  14.09.20"},814.44787462753959,null,9.4499999999999993,10.029999999999999,11.22]
["78.","VU TRAN DINH ","Lukas","9.A",9.27,null,{"$f":"G178","v":"Jilemnice  14.09.20"},783.556436806904,null,9.17,0,0]
["79.","DUFEK","Matyáš","9.B",0,null,{"$f":"G179","v":0},0,null,12.17,10.99,10.44]
["80.","JEŽEK","Jonáš","9.B",8.68,null,{"$f":"G180","v":"Jilemnice  14.09.20"},828.93181672811056,null,8.9700000000000006,0,9.1999999999999993]
["81.",{"$f":"B181","v":"JEŽEK"},"Mikuláš","9.B",0,null,{"$f":"G181","v":0},0,null,8.84,8.8000000000000007,9.68]
["82.","NECHANICKÝ","Michal","9.B",8.86,null,{"$f":"G182","v":"Jilemnice  14.09.20"},814.44787462753959,null,9.09,9.4,9.61]
["83.","PAULÍČEK","Jakub","9.B",9.02,null,{"$f":"G183","v":"Jilemnice  14.09.20"},802.05855534368072,null,9.7899999999999991,0,9.6999999999999993]
["84.","POHOŘALÝ","Jakub","9.B",8.02,null,{"$f":"G184","v":"Jilemnice  14.09.20"},887.60201610972581,null,9.2200000000000006,9.6,10]
["85.","POSPÍCHAL","Daniel","9.B",9.0500000000000007,null,{"$f":"G185","v":"Jilemnice  14.09.20"},799.78432808839784,null,9.0299999999999994,9.56,9.56]
["86.","SOUKUP","Lukáš","9.B",9.0500000000000007,null,{"$f":"G186","v":"Jilemnice  14.09.20"},799.78432808839784,null,9.48,10.45,10.11]
["87.","VANCL","Jan","9.B",8.25,null,{"$f":"G187","v":"Jilemnice  14.09.20"},866.09068717575758,null,9.09,9.6,9.81]
["88.","VANCL","Lukáš","9.B",8.61,null,{"$f":"G188","v":"Jilemnice  14.09.20"},834.72801036004648,null,8.77,9.6,9.6199999999999992]
["89.","VAŠÍK","Jiří","9.B",9.1199999999999992,null,{"$f":"G189","v":"Jilemnice  14.09.20"},794.53598346491231,null,10.19,10.32,11.06]
["90.","VOHNOUT","Zdeněk","9.B",7.7,null,{"$f":"G190","v":"Jilemnice  18.09.20"},919.66859340259748,null,8.09,8.66,8.82]
[]
[]
[]
[" "]
[]
[]
[null,"PŘÍJMENÍ","JMÉNO","TŘÍDA","VÝKON",null,"MÍSTO","BODY",null,"19  - 20","18  - 19","17 - 18"]
[null,"BOUKAL","Jakub","6.A",12.56,null,"Jilemnice  16.09.20",{"$f":"IF(E101=0,0,(1000000000 - 313216 / E101 + 34538300 / E101*2 - 1698600000 / E101*3 + 32198000000 / E101*4)/20000000+66)","v":608.69491792993631}]
[null,"DEMČUK","Ilja","6.A",10.85,null,"Jilemnice  14.09.20",{"$f":"IF(E102=0,0,(1000000000 - 313216 / E102 + 34538300 / E102*2 - 1698600000 / E102*3 + 32198000000 / E102*4)/20000000+66)","v":686.34545338248847}]
[null,"FAISTAUER","Kryštof","6.A",9.5,null,"Jilemnice  14.09.20",{"$f":"IF(E103=0,0,(1000000000 - 313216 / E103 + 34538300 / E103*2 - 1698600000 / E103*3 + 32198000000 / E103*4)/20000000+66)","v":767.39454412631574}]
[null,"FRK","Matyáš","6.A",12.72,null,"Jilemnice  14.09.20",{"$f":"IF(E104=0,0,(1000000000 - 313216 / E104 + 34538300 / E104*2 - 1698600000 / E104*3 + 32198000000 / E104*4)/20000000+66)","v":602.49749757861639}]
[null,"HUBÁLOVSKÝ","Marek","6.A",11.43,null,"Jilemnice  14.09.20",{"$f":"IF(E105=0,0,(1000000000 - 313216 / E105 + 34538300 / E105*2 - 1698600000 / E105*3 + 32198000000 / E105*4)/20000000+66)","v":657.40403930008745}]
[null,"MAŘAS","Dominik","6.A",11.64,null,"Jilemnice  16.09.20",{"$f":"IF(E106=0,0,(1000000000 - 313216 / E106 + 34538300 / E106*2 - 1698600000 / E106*3 + 32198000000 / E106*4)/20000000+66)","v":647.6364406529209}]
[null,"MAŤÁTKO","Jakub","6.A",13.19,null,"Jilemnice  16.09.20",{"$f":"IF(E107=0,0,(1000000000 - 313216 / E107 + 34538300 / E107*2 - 1698600000 / E107*3 + 32198000000 / E107*4)/20000000+66)","v":585.16210532221385}]
[null,"MERY","Luboš","6.A",11.43,null,"Jilemnice  14.09.20",{"$f":"IF(E108=0,0,(1000000000 - 313216 / E108 + 34538300 / E108*2 - 1698600000 / E108*3 + 32198000000 / E108*4)/20000000+66)","v":657.40403930008745}]
[null,"NOVOTNÝ","Matěj","6.A",10.96,null,"Jilemnice  14.09.20",{"$f":"IF(E109=0,0,(1000000000 - 313216 / E109 + 34538300 / E109*2 - 1698600000 / E109*3 + 32198000000 / E109*4)/20000000+66)","v":680.6211833211679}]
[null,"ŘEHOŘEK","Vojtěch","6.A",11.92,null,"Jilemnice  14.09.20",{"$f":"IF(E110=0,0,(1000000000 - 313216 / E110 + 34538300 / E110*2 - 1698600000 / E110*3 + 32198000000 / E110*4)/20000000+66)","v":635.14833634228182}]
[null,"ŠÍR","Matyáš","6.A",11.48,null,"Jilemnice  14.09.20",{"$f":"IF(E111=0,0,(1000000000 - 313216 / E111 + 34538300 / E111*2 - 1698600000 / E111*3 + 32198000000 / E111*4)/20000000+66)","v":655.04600777003475}]
[null,"TORÁČ","Tomáš","6.A",22.77,null,"Jilemnice  16.09.20",{"$f":"IF(E112=0,0,(1000000000 - 313216 / E112 + 34538300 / E112*2 - 1698600000 / E112*3 + 32198000000 / E112*4)/20000000+66)","v":387.77198810715856}]
[null,"ULLMAN","Šimon","6.A",9.18,null,"Jilemnice  14.09.20",{"$f":"IF(E113=0,0,(1000000000 - 313216 / E113 + 34538300 / E113*2 - 1698600000 / E113*3 + 32198000000 / E113*4)/20000000+66)","v":790.10110775599128}]
[null,"VÁCLAVÍK","Ondřej","6.A",10.94,null,"Jilemnice  14.09.20",{"$f":"IF(E114=0,0,(1000000000 - 313216 / E114 + 34538300 / E114*2 - 1698600000 / E114*3 + 32198000000 / E114*4)/20000000+66)","v":681.65339755027424}]
[null,"AUERSWALD","Daniel","6.B",9.89,null,"Jilemnice  14.09.20",{"$f":"IF(E115=0,0,(1000000000 - 313216 / E115 + 34538300 / E115*2 - 1698600000 / E115*3 + 32198000000 / E115*4)/20000000+66)","v":741.70760052578362}]
[null,"BODLÁK","Vladimír","6.B",8.39,null,"Jilemnice  14.09.20",{"$f":"IF(E116=0,0,(1000000000 - 313216 / E116 + 34538300 / E116*2 - 1698600000 / E116*3 + 32198000000 / E116*4)/20000000+66)","v":853.5742752324195}]
[null,"BUDÍN","Martin","6.B",10.46,null,"Jilemnice  14.09.20",{"$f":"IF(E117=0,0,(1000000000 - 313216 / E117 + 34538300 / E117*2 - 1698600000 / E117*3 + 32198000000 / E117*4)/20000000+66)","v":707.61072363288713}]
[null,"DVOŘÁK","Dominik","6.B",11.56,null,"Jilemnice  14.09.20",{"$f":"IF(E118=0,0,(1000000000 - 313216 / E118 + 34538300 / E118*2 - 1698600000 / E118*3 + 32198000000 / E118*4)/20000000+66)","v":651.31558557093422}]
[null,"FIŠERA","Vojtěch","6.B",10.44,null,"Jilemnice  14.09.20",{"$f":"IF(E119=0,0,(1000000000 - 313216 / E119 + 34538300 / E119*2 - 1698600000 / E119*3 + 32198000000 / E119*4)/20000000+66)","v":708.74407750957857}]
[null,"JINDŘIŠEK","Vít","6.B",8.77,null,"Jilemnice  14.09.20",{"$f":"IF(E120=0,0,(1000000000 - 313216 / E120 + 34538300 / E120*2 - 1698600000 / E120*3 + 32198000000 / E120*4)/20000000+66)","v":821.61552670467506}]
[null,"JIROUŠ","Matouš","6.B",10.08,null,"Jilemnice  14.09.20",{"$f":"IF(E121=0,0,(1000000000 - 313216 / E121 + 34538300 / E121*2 - 1698600000 / E121*3 + 32198000000 / E121*4)/20000000+66)","v":729.91350884920632}]
[null,"KERLE","Marek","6.B",10.64,null,"Jilemnice  14.09.20",{"$f":"IF(E122=0,0,(1000000000 - 313216 / E122 + 34538300 / E122*2 - 1698600000 / E122*3 + 32198000000 / E122*4)/20000000+66)","v":697.60227154135328}]
[null,"LUKEŠ","Jakub","6.B",10.26,null,"Jilemnice  14.09.20",{"$f":"IF(E123=0,0,(1000000000 - 313216 / E123 + 34538300 / E123*2 - 1698600000 / E123*3 + 32198000000 / E123*4)/20000000+66)","v":719.14309641325542}]
[null,"OTT","Matyáš","6.B",11,null,"Jilemnice  14.09.20",{"$f":"IF(E124=0,0,(1000000000 - 313216 / E124 + 34538300 / E124*2 - 1698600000 / E124*3 + 32198000000 / E124*4)/20000000+66)","v":678.56801538181821}]
[null,"POKORNÝ","Matyáš","6.B",8.94,null,"Jilemnice  14.09.20",{"$f":"IF(E125=0,0,(1000000000 - 313216 / E125 + 34538300 / E125*2 - 1698600000 / E125*3 + 32198000000 / E125*4)/20000000+66)","v":808.19778178970921}]
[null,"POLÁČEK","Matyáš","6.B",11.49,null,"Jilemnice  14.09.20",{"$f":"IF(E126=0,0,(1000000000 - 313216 / E126 + 34538300 / E126*2 - 1698600000 / E126*3 + 32198000000 / E126*4)/20000000+66)","v":654.57686416013928}]
[null,"SOUKUP","Patrik","6.B",10.09,null,"Jilemnice  14.09.20",{"$f":"IF(E127=0,0,(1000000000 - 313216 / E127 + 34538300 / E127*2 - 1698600000 / E127*3 + 32198000000 / E127*4)/20000000+66)","v":729.30507127849353}]
[null,"VALENTA","Jakub","6.B",10.24,null,"Jilemnice  14.09.20",{"$f":"IF(E128=0,0,(1000000000 - 313216 / E128 + 34538300 / E128*2 - 1698600000 / E128*3 + 32198000000 / E128*4)/20000000+66)","v":720.32111027343751}]
[null,"VRBATA","Dominik","6.B",10.25,null,"Jilemnice  14.09.20",{"$f":"IF(E129=0,0,(1000000000 - 313216 / E129 + 34538300 / E129*2 - 1698600000 / E129*3 + 32198000000 / E129*4)/20000000+66)","v":719.73152870243905}]
[null,"FEJKL","Jan","7.A",9.14,null,"Jilemnice  14.09.20",{"$f":"IF(E130=0,0,(1000000000 - 313216 / E130 + 34538300 / E130*2 - 1698600000 / E130*3 + 32198000000 / E130*4)/20000000+66)","v":793.05122201312906},null,9.4499999999999993]
[null,"KOTYK","Tadeáš","7.A",10.7,null,"Jilemnice  14.09.20",{"$f":"IF(E131=0,0,(1000000000 - 313216 / E131 + 34538300 / E131*2 - 1698600000 / E131*3 + 32198000000 / E131*4)/20000000+66)","v":694.34095039252338},null,10.7]
[null,"KRAUSE","Tadeáš","7.A",10.130000000000001,null,"Jilemnice  14.09.20",{"$f":"IF(E132=0,0,(1000000000 - 313216 / E132 + 34538300 / E132*2 - 1698600000 / E132*3 + 32198000000 / E132*4)/20000000+66)","v":726.88333358341561},null,10.34]
[null,"LEŠÁK","Martin","7.A",10.87,null,"Jilemnice  14.09.20",{"$f":"IF(E133=0,0,(1000000000 - 313216 / E133 + 34538300 / E133*2 - 1698600000 / E133*3 + 32198000000 / E133*4)/20000000+66)","v":685.296059724011},null,10.54]
[null,"NECHANICKÝ","David","7.A",9.65,null,"Jilemnice  14.09.20",{"$f":"IF(E134=0,0,(1000000000 - 313216 / E134 + 34538300 / E134*2 - 1698600000 / E134*3 + 32198000000 / E134*4)/20000000+66)","v":757.26924033160617},null,9.42]
[null,"ŘEHOŘEK","Jan","7.A",9.5500000000000007,null,"Jilemnice  14.09.20",{"$f":"IF(E135=0,0,(1000000000 - 313216 / E135 + 34538300 / E135*2 - 1698600000 / E135*3 + 32198000000 / E135*4)/20000000+66)","v":763.98410148691096},null,9.74]
[null,"SOUKUP","Ondřej","7.A",10,null,"Jilemnice  14.09.20",{"$f":"IF(E136=0,0,(1000000000 - 313216 / E136 + 34538300 / E136*2 - 1698600000 / E136*3 + 32198000000 / E136*4)/20000000+66)","v":734.82481691999999},null,10.91]
[null,"SPANILÝ","David","7.A",9.8000000000000007,null,"Jilemnice  14.09.20",{"$f":"IF(E137=0,0,(1000000000 - 313216 / E137 + 34538300 / E137*2 - 1698600000 / E137*3 + 32198000000 / E137*4)/20000000+66)","v":747.45389481632651},null,10.220000000000001]
[null,"ČADAN","Benjamín","7.B",null,null,null,{"$f":"IF(E138=0,0,(1000000000 - 313216 / E138 + 34538300 / E138*2 - 1698600000 / E138*3 + 32198000000 / E138*4)/20000000+66)","v":0}]
[null,"ČERNÝ","Michal","7.B",10.36,null,"Jilemnice  14.09.20",{"$f":"IF(E139=0,0,(1000000000 - 313216 / E139 + 34538300 / E139*2 - 1698600000 / E139*3 + 32198000000 / E139*4)/20000000+66)","v":713.32125185328186},null,11.28]
[null,"DOLEJŠÍ","David","7.B",11.1,null,"Jilemnice  14.09.20",{"$f":"IF(E140=0,0,(1000000000 - 313216 / E140 + 34538300 / E140*2 - 1698600000 / E140*3 + 32198000000 / E140*4)/20000000+66)","v":673.49983506306307},null,10.8]
[null,"NOVÁK","Matěj","7.B",10.47,null,"Jilemnice  14.09.20",{"$f":"IF(E141=0,0,(1000000000 - 313216 / E141 + 34538300 / E141*2 - 1698600000 / E141*3 + 32198000000 / E141*4)/20000000+66)","v":707.0456704106972},null,10.54]
[null,"POVAŽANEC","Martin","7.B",9.86,null,"Jilemnice  14.09.20",{"$f":"IF(E142=0,0,(1000000000 - 313216 / E142 + 34538300 / E142*2 - 1698600000 / E142*3 + 32198000000 / E142*4)/20000000+66)","v":743.61137618661257},null,11.89]
[null,"RICHTER","Jakub","7.B",null,null," ",{"$f":"IF(E143=0,0,(1000000000 - 313216 / E143 + 34538300 / E143*2 - 1698600000 / E143*3 + 32198000000 / E143*4)/20000000+66)","v":0},null,11.66]
[null,"ROZUMEK","Adam","7.B",null,null,null,{"$f":"IF(E144=0,0,(1000000000 - 313216 / E144 + 34538300 / E144*2 - 1698600000 / E144*3 + 32198000000 / E144*4)/20000000+66)","v":0}]
[null,"VALENTA","František","7.B",10.92,null,"Jilemnice  14.09.20",{"$f":"IF(E145=0,0,(1000000000 - 313216 / E145 + 34538300 / E145*2 - 1698600000 / E145*3 + 32198000000 / E145*4)/20000000+66)","v":682.68939278388279},null,11.6]
[null,"ZAPLATÍLEK","Josef","7.B",10.02,null,"Jilemnice  14.09.20",{"$f":"IF(E146=0,0,(1000000000 - 313216 / E146 + 34538300 / E146*2 - 1698600000 / E146*3 + 32198000000 / E146*4)/20000000+66)","v":733.58963764471059},null,10.039999999999999]
[null,"ERBEN","Viktor","8.A",10.43,null,"Jilemnice  23.09.19",{"$f":"IF(E147=0,0,(1000000000 - 313216 / E147 + 34538300 / E147*2 - 1698600000 / E147*3 + 32198000000 / E147*4)/20000000+66)","v":709.31238439117942},null,11.62,12.32]
[null,"FRANC","Daniel","8.A",11.1,null,"Jilemnice  23.09.20",{"$f":"IF(E148=0,0,(1000000000 - 313216 / E148 + 34538300 / E148*2 - 1698600000 / E148*3 + 32198000000 / E148*4)/20000000+66)","v":673.49983506306307},null,10.48,10.38]
[null,"JINDŘIŠEK","Matyáš","8.A",null,null,null,{"$f":"IF(E149=0,0,(1000000000 - 313216 / E149 + 34538300 / E149*2 - 1698600000 / E149*3 + 32198000000 / E149*4)/20000000+66)","v":0},null,9.8800000000000008,10.38]
[null,"KOLAČNÝ","Štěpán","8.A",10.74,null,"Jilemnice  23.09.20",{"$f":"IF(E150=0,0,(1000000000 - 313216 / E150 + 34538300 / E150*2 - 1698600000 / E150*3 + 32198000000 / E150*4)/20000000+66)","v":692.18698037243951},null,10.34,10.42]
[null,"KRISTAN","Jáchym","8.A",14.56,null,"Jilemnice  23.09.20",{"$f":"IF(E151=0,0,(1000000000 - 313216 / E151 + 34538300 / E151*2 - 1698600000 / E151*3 + 32198000000 / E151*4)/20000000+66)","v":541.0170445879121},null,13.78,14.93]
[null,"NGUYEN","David","8.A",null,null,null,null,null,10.58]
[null,"NOVOTNÝ","Jan","8.A",9.43,null,"Jilemnice  23.09.20",{"$f":"IF(E153=0,0,(1000000000 - 313216 / E153 + 34538300 / E153*2 - 1698600000 / E153*3 + 32198000000 / E153*4)/20000000+66)","v":772.22992250265111},null,9.93,11.65]
[null,"RÁB","Adam","8.A",12.15,null,"Jilemnice  23.09.20",{"$f":"IF(E154=0,0,(1000000000 - 313216 / E154 + 34538300 / E154*2 - 1698600000 / E154*3 + 32198000000 / E154*4)/20000000+66)","v":625.32083697119344},null,12.58,12.82]
[null,"REPASKÝ","Jakub","8.A",8.75,null,"Jilemnice  23.09.20",{"$f":"IF(E155=0,0,(1000000000 - 313216 / E155 + 34538300 / E155*2 - 1698600000 / E155*3 + 32198000000 / E155*4)/20000000+66)","v":823.22836219428575},null,9.5299999999999994]
[null,"SKÁLA","Jan","8.A",8.75,null,"Jilemnice  23.09.20",{"$f":"IF(E156=0,0,(1000000000 - 313216 / E156 + 34538300 / E156*2 - 1698600000 / E156*3 + 32198000000 / E156*4)/20000000+66)","v":823.22836219428575},null,null,10.56]
[null,"ŠPULÁK","Jakub","8.A",9.8000000000000007,null,"Jilemnice  23.09.20",{"$f":"IF(E157=0,0,(1000000000 - 313216 / E157 + 34538300 / E157*2 - 1698600000 / E157*3 + 32198000000 / E157*4)/20000000+66)","v":747.45389481632651},null,10.24,11.9]
[null,"VALENTA","Tomáš","8.A",8.18,null,"Jilemnice  23.09.20",{"$f":"IF(E158=0,0,(1000000000 - 313216 / E158 + 34538300 / E158*2 - 1698600000 / E158*3 + 32198000000 / E158*4)/20000000+66)","v":872.50955613691929},null,8.7899999999999991,9.09]
[null,"VANCL","Jiří","8.A",9.64,null,"Jilemnice  23.09.20",{"$f":"IF(E159=0,0,(1000000000 - 313216 / E159 + 34538300 / E159*2 - 1698600000 / E159*3 + 32198000000 / E159*4)/20000000+66)","v":757.93445738589196},null,10.74,10.86]
[null,"VAŠÍČEK","David","8.A",null,null,null,{"$f":"IF(E160=0,0,(1000000000 - 313216 / E160 + 34538300 / E160*2 - 1698600000 / E160*3 + 32198000000 / E160*4)/20000000+66)","v":0},null,9.89,10.4]
[null,"ZOUHAR","Ondřej","8.A",8.8000000000000007,null,"Jilemnice  23.09.20",{"$f":"IF(E161=0,0,(1000000000 - 313216 / E161 + 34538300 / E161*2 - 1698600000 / E161*3 + 32198000000 / E161*4)/20000000+66)","v":819.21001922727271},null,9.3000000000000007,9.8000000000000007]
[null,"ZUZÁNEK","Filip","8.A",10.039999999999999,null,"Jilemnice  23.09.20",{"$f":"IF(E162=0,0,(1000000000 - 313216 / E162 + 34538300 / E162*2 - 1698600000 / E162*3 + 32198000000 / E162*4)/20000000+66)","v":732.35937940239046},null,10.02,10.58]
[null,"BRUMLICH","Jan","9.A",null,null,null,{"$f":"IF(E163=0,0,(1000000000 - 313216 / E163 + 34538300 / E163*2 - 1698600000 / E163*3 + 32198000000 / E163*4)/20000000+66)","v":0},null,8.5299999999999994,9.59,10.62]
[null,"BUCHAR","Jiří","9.A",8.9,null,"Jilemnice  14.09.20",{"$f":"IF(E164=0,0,(1000000000 - 313216 / E164 + 34538300 / E164*2 - 1698600000 / E164*3 + 32198000000 / E164*4)/20000000+66)","v":811.30878305617966},null,9.19,9.1199999999999992,10.49]
[null,"FAISTAUER","Jiří","9.A",null,null,null,{"$f":"IF(E165=0,0,(1000000000 - 313216 / E165 + 34538300 / E165*2 - 1698600000 / E165*3 + 32198000000 / E165*4)/20000000+66)","v":0},null,8.5399999999999991,10.37,10.38]
[null,"FAISTAUER","Roman","9.A",8.2799999999999994,null,"Jilemnice  18.09.20",{"$f":"IF(E166=0,0,(1000000000 - 313216 / E166 + 34538300 / E166*2 - 1698600000 / E166*3 + 32198000000 / E166*4)/20000000+66)","v":863.37296729468608},null,9.73,10.24,10.82]
[null,"FAJSTAVR","Jakub","9.A",9.02,null,"Jilemnice  14.09.20",{"$f":"IF(E167=0,0,(1000000000 - 313216 / E167 + 34538300 / E167*2 - 1698600000 / E167*3 + 32198000000 / E167*4)/20000000+66)","v":802.05855534368072},null,9.2799999999999994,10.48,10.38]
[null,"FARSKÝ","Vojtěch","9.A",8.91,null,"Jilemnice  14.09.20",{"$f":"IF(E168=0,0,(1000000000 - 313216 / E168 + 34538300 / E168*2 - 1698600000 / E168*3 + 32198000000 / E168*4)/20000000+66)","v":810.52841405162735},null,9.44,9.9600000000000009,10.98]
[null,"HOLUBEC","Lukáš","9.A",null,null,null,{"$f":"IF(E169=0,0,(1000000000 - 313216 / E169 + 34538300 / E169*2 - 1698600000 / E169*3 + 32198000000 / E169*4)/20000000+66)","v":0},null,11.29,11.07,11.89]
[null,"CHAROUZ","Vojtěch","9.A",9.02,null,"Jilemnice  14.09.20",{"$f":"IF(E170=0,0,(1000000000 - 313216 / E170 + 34538300 / E170*2 - 1698600000 / E170*3 + 32198000000 / E170*4)/20000000+66)","v":802.05855534368072},null,9.4,10.67,9.84]
[null,"IACCHERI","Carlo","9.A",9.27,null,"Jilemnice  14.09.20",{"$f":"IF(E171=0,0,(1000000000 - 313216 / E171 + 34538300 / E171*2 - 1698600000 / E171*3 + 32198000000 / E171*4)/20000000+66)","v":783.556436806904},null,9.6,11.99,12.12]
[null,"JOHN","Adrian","9.A",14.16,null,"Jilemnice  14.09.20",{"$f":"IF(E172=0,0,(1000000000 - 313216 / E172 + 34538300 / E172*2 - 1698600000 / E172*3 + 32198000000 / E172*4)/20000000+66)","v":553.02317579096052},null,12.64,13,13.88]
[null,"KRČÍK","Matthew","9.A",9.31,null,"Jilemnice  14.09.20",{"$f":"IF(E173=0,0,(1000000000 - 313216 / E173 + 34538300 / E173*2 - 1698600000 / E173*3 + 32198000000 / E173*4)/20000000+66)","v":780.68831033297522},null,9.76,10.69,10.7]
[null,"KRESAN","Vojtěch","9.A",9.4600000000000009,null,"Jilemnice  14.09.20",{"$f":"IF(E174=0,0,(1000000000 - 313216 / E174 + 34538300 / E174*2 - 1698600000 / E174*3 + 32198000000 / E174*4)/20000000+66)","v":770.14885509513726},null,9.6300000000000008,11.24,11.26]
[null,"LÁNSKÝ","Vojtěch","9.A",null,null,null,{"$f":"IF(E175=0,0,(1000000000 - 313216 / E175 + 34538300 / E175*2 - 1698600000 / E175*3 + 32198000000 / E175*4)/20000000+66)","v":0},null,12.92,14.89,15.54]
[null,"LEŠÁK","Lukáš","9.A",11.77,null,"Jilemnice  14.09.20",{"$f":"IF(E176=0,0,(1000000000 - 313216 / E176 + 34538300 / E176*2 - 1698600000 / E176*3 + 32198000000 / E176*4)/20000000+66)","v":641.76450035683945},null,12.2,14.3,14.74]
[null,"RYPL","Matyáš","9.A",8.86,null,"Jilemnice  14.09.20",{"$f":"IF(E177=0,0,(1000000000 - 313216 / E177 + 34538300 / E177*2 - 1698600000 / E177*3 + 32198000000 / E177*4)/20000000+66)","v":814.44787462753959},null,9.4499999999999993,10.029999999999999,11.22]
[null,"VU TRAN DINH ","Lukas","9.A",9.27,null,"Jilemnice  14.09.20",{"$f":"IF(E178=0,0,(1000000000 - 313216 / E178 + 34538300 / E178*2 - 1698600000 / E178*3 + 32198000000 / E178*4)/20000000+66)","v":783.556436806904},null,9.17]
[null,"DUFEK","Matyáš","9.B",null,null,null,{"$f":"IF(E179=0,0,(1000000000 - 313216 / E179 + 34538300 / E179*2 - 1698600000 / E179*3 + 32198000000 / E179*4)/20000000+66)","v":0},null,12.17,10.99,10.44]
[null,"JEŽEK","Jonáš","9.B",8.68,null,"Jilemnice  14.09.20",{"$f":"IF(E180=0,0,(1000000000 - 313216 / E180 + 34538300 / E180*2 - 1698600000 / E180*3 + 32198000000 / E180*4)/20000000+66)","v":828.93181672811056},null,8.9700000000000006,null,9.1999999999999993]
[null,"JEŽEK","Mikuláš","9.B",null,null,null,{"$f":"IF(E181=0,0,(1000000000 - 313216 / E181 + 34538300 / E181*2 - 1698600000 / E181*3 + 32198000000 / E181*4)/20000000+66)","v":0},null,8.84,8.8000000000000007,9.68]
[null,"NECHANICKÝ","Michal","9.B",8.86,null,"Jilemnice  14.09.20",{"$f":"IF(E182=0,0,(1000000000 - 313216 / E182 + 34538300 / E182*2 - 1698600000 / E182*3 + 32198000000 / E182*4)/20000000+66)","v":814.44787462753959},null,9.09,9.4,9.61]
[null,"PAULÍČEK","Jakub","9.B",9.02,null,"Jilemnice  14.09.20",{"$f":"IF(E183=0,0,(1000000000 - 313216 / E183 + 34538300 / E183*2 - 1698600000 / E183*3 + 32198000000 / E183*4)/20000000+66)","v":802.05855534368072},null,9.7899999999999991,null,9.6999999999999993]
[null,"POHOŘALÝ","Jakub","9.B",8.02,null,"Jilemnice  14.09.20",{"$f":"IF(E184=0,0,(1000000000 - 313216 / E184 + 34538300 / E184*2 - 1698600000 / E184*3 + 32198000000 / E184*4)/20000000+66)","v":887.60201610972581},null,9.2200000000000006,9.6,10]
[null,"POSPÍCHAL","Daniel","9.B",9.0500000000000007,null,"Jilemnice  14.09.20",{"$f":"IF(E185=0,0,(1000000000 - 313216 / E185 + 34538300 / E185*2 - 1698600000 / E185*3 + 32198000000 / E185*4)/20000000+66)","v":799.78432808839784},null,9.0299999999999994,9.56,9.56]
[null,"SOUKUP","Lukáš","9.B",9.0500000000000007,null,"Jilemnice  14.09.20",{"$f":"IF(E186=0,0,(1000000000 - 313216 / E186 + 34538300 / E186*2 - 1698600000 / E186*3 + 32198000000 / E186*4)/20000000+66)","v":799.78432808839784},null,9.48,10.45,10.11]
[null,"VANCL","Jan","9.B",8.25,null,"Jilemnice  14.09.20",{"$f":"IF(E187=0,0,(1000000000 - 313216 / E187 + 34538300 / E187*2 - 1698600000 / E187*3 + 32198000000 / E187*4)/20000000+66)","v":866.09068717575758},null,9.09,9.6,9.81]
[null,"VANCL","Lukáš","9.B",8.61,null,"Jilemnice  14.09.20",{"$f":"IF(E188=0,0,(1000000000 - 313216 / E188 + 34538300 / E188*2 - 1698600000 / E188*3 + 32198000000 / E188*4)/20000000+66)","v":834.72801036004648},null,8.77,9.6,9.6199999999999992]
[null,"VAŠÍK","Jiří","9.B",9.1199999999999992,null,"Jilemnice  14.09.20",{"$f":"IF(E189=0,0,(1000000000 - 313216 / E189 + 34538300 / E189*2 - 1698600000 / E189*3 + 32198000000 / E189*4)/20000000+66)","v":794.53598346491231},null,10.19,10.32,11.06]
[null,"VOHNOUT","Zdeněk","9.B",7.7,null,"Jilemnice  18.09.20",{"$f":"IF(E190=0,0,(1000000000 - 313216 / E190 + 34538300 / E190*2 - 1698600000 / E190*3 + 32198000000 / E190*4)/20000000+66)","v":919.66859340259748},null,8.09,8.66,8.82]

{"sheet":"300","index":8,"n_rows":1048532,"n_cols":12,"rows_kept":4500,"cut":true,"hidden":false,"merged":[],"bounds":{"rows_first":2000,"rows_last":500,"rows_between":2000,"halvings":0}}
[null,null,"VÝKONY  2020 - 2021",null,null,null,"300 M","CHLAPCI  6. -  9.  ROČ."]
[null,"stav  k ",{"$f":"TODAY()","v":"2021-06-28"},null,null,null,null,null,null,"19  - 20","18  - 19","17 - 18"]
[]
["1.",{"$f":"B100","v":"BOUKAL"},{"$f":"C100","v":"Jakub"},"6.A","00:01:20.860",null,"Jilemnice  23.06.21",357.22765869265402,null,"00:00:00","00:00:00","00:00:00"]
["2.",{"$f":"B101","v":"DEMČUK"},"Ilja","6.A","00:01:00.280",null,"Jilemnice  23.06.21",582.97354979907107,null,"00:00:00","00:00:00","00:00:00"]
["3.",{"$f":"B102","v":"FAISTAUER"},"Kryštof","6.A","00:00:54.880",null,"Jilemnice  23.06.21",670.24815200233229,null,"00:00:00","00:00:00","00:00:00"]
["4.",{"$f":"B103","v":"FRK"},"Matyáš","6.A","00:01:21.540",null,"Jilemnice  23.06.21",351.71341527947015,null,"00:00:00","00:00:00","00:00:00"]
["5.",{"$f":"B104","v":"HUBÁLOVSKÝ"},"Marek","6.A","00:01:11.580",null,"Jilemnice  23.06.21",442.95197096797983,null,"00:00:00","00:00:00","00:00:00"]
["6.",{"$f":"B105","v":"MAŘAS"},"Dominik","6.A","00:01:18.210",null,"Jilemnice  23.06.21",379.63195540069046,null,"00:00:00","00:00:00","00:00:00"]
["7.",{"$f":"B106","v":"MAŤÁTKO"},"Jakub","6.A","00:01:24.110",null,"Jilemnice  23.06.21",331.67809691936748,null,"00:00:00","00:00:00","00:00:00"]
["8.",{"$f":"B107","v":"MERY"},"Luboš","6.A","00:01:15.180",null,"Jilemnice  23.06.21",407.18435863112518,null,"00:00:00","00:00:00","00:00:00"]
["9.",{"$f":"B108","v":"NOVOTNÝ"},"Matěj","6.A","00:00:00",null,0,0,null,"00:00:00","00:00:00","00:00:00"]
["10.",{"$f":"B109","v":"ŘEHOŘEK"},"Vojtěch","6.A","00:01:11.820",null,"Jilemnice  23.06.21",440.45590757293235,null,"00:00:00","00:00:00","00:00:00"]
["11.",{"$f":"B110","v":"ŠÍR"},"Matyáš","6.A","00:01:09.460",null,"Jilemnice  23.06.21",465.74966141503035,null,"00:00:00","00:00:00","00:00:00"]
["12.",{"$f":"B111","v":"TORÁČ"},"Tomáš","6.A","00:02:09.100",null,"Jilemnice  23.06.21",110.15266988294343,null,"00:00:00","00:00:00","00:00:00"]
["13.",{"$f":"B112","v":"ULLMAN"},"Šimon","6.A","00:00:53.770",null,"Jilemnice  23.06.21",690.35992248257389,null,"00:00:00","00:00:00","00:00:00"]
["14.",{"$f":"B113","v":"VÁCLAVÍK"},"Ondřej","6.A","00:00:58.550",null,"Jilemnice  23.06.21",609.18116023719892,null,"00:00:00","00:00:00","00:00:00"]
["15.",{"$f":"B114","v":"AUERSWALD"},"Daniel","6.B","00:00:59.520",null,"Jilemnice  23.06.21",594.29908907741935,null,"00:00:00","00:00:00","00:00:00"]
["16.",{"$f":"B115","v":"BODLÁK"},"Vladimír","6.B","00:00:45.090",null,"Jilemnice  23.06.21",881.77710427784405,null,"00:00:00","00:00:00","00:00:00"]
["17.",{"$f":"B116","v":"BUDÍN"},"Martin","6.B","00:00:58.300",null,"Jilemnice  23.06.21",613.09700998092637,null,"00:00:00","00:00:00","00:00:00"]
["18.",{"$f":"B117","v":"DVOŘÁK"},"Dominik","6.B","00:00:00",null,0,0,null,"00:00:00","00:00:00","00:00:00"]
["19.",{"$f":"B118","v":"FIŠERA"},"Vojtěch","6.B","00:00:57.070",null,"Jilemnice  23.06.21",632.86261664426138,null,"00:00:00","00:00:00","00:00:00"]
["20.",{"$f":"B119","v":"JINDŘIŠEK"},"Vít","6.B","00:00:00",null,0,0,null,"00:00:00","00:00:00","00:00:00"]
["21.",{"$f":"B120","v":"JIROUŠ"},"Matouš","6.B","00:00:00",null,0,0,null,"00:00:00","00:00:00","00:00:00"]
["22.",{"$f":"B121","v":"KERLE"},"Marek","6.B","00:00:54.010",null,"Jilemnice  23.06.21",685.9413855191259,null,"00:00:00","00:00:00","00:00:00"]
["23.",{"$f":"B122","v":"LUKEŠ"},"Jakub","6.B","00:00:54.300",null,"Jilemnice  23.06.21",680.65443244729283,null,"00:00:00","00:00:00","00:00:00"]
["24.",{"$f":"B123","v":"OTT"},"Matyáš","6.B","00:01:08.290",null,"Jilemnice  23.06.21",478.9375550137355,null,"00:00:00","00:00:00","00:00:00"]
["25.",{"$f":"B124","v":"POKORNÝ"},"Matyáš","6.B","00:00:48.010",null,"Jilemnice  23.06.21",809.65765948527405,null,"00:00:00","00:00:00","00:00:00"]
["26.",{"$f":"B125","v":"POLÁČEK"},"Matyáš","6.B","00:01:13.650",null,"Jilemnice  23.06.21",421.95834938069231,null,"00:00:00","00:00:00","00:00:00"]
["27.",{"$f":"B126","v":"SOUKUP"},"Patrik","6.B","00:00:53.980",null,"Jilemnice  23.06.21",686.49155394383092,null,"00:00:00","00:00:00","00:00:00"]
["28.",{"$f":"B127","v":"VALENTA"},"Jakub","6.B","00:00:00",null,0,0,null,"00:00:00","00:00:00","00:00:00"]
["29.",{"$f":"B128","v":"VRBATA"},"Dominik","6.B","00:00:57.790",null,"Jilemnice  23.06.21",621.1903985445233,null,"00:00:00","00:00:00","00:00:00"]
["30.",{"$f":"B129","v":"FEJKL"},"Jan","7.A","00:00:00",null,0,0,null,"00:00:54.980","00:00:00","00:00:00"]
["31.",{"$f":"B130","v":"KOTYK"},"Tadeáš","7.A","00:00:00",null,0,0,null,"00:01:18.780","00:00:00","00:00:00"]
["32.",{"$f":"B131","v":"KRAUSE"},"Tadeáš","7.A","00:00:00",null,0,0,null,"00:00:59.500","00:00:00","00:00:00"]
["33.",{"$f":"B132","v":"LEŠÁK"},"Martin","7.A","00:00:00",null,0,0,null,"00:01:15.530","00:00:00","00:00:00"]
["34.",{"$f":"B133","v":"NECHANICKÝ"},"David","7.A","00:00:00",null,0,0,null,"00:00:57.540","00:00:00","00:00:00"]
["35.",{"$f":"B134","v":"ŘEHOŘEK"},"Jan","7.A","00:00:00",null,0,0,null,"00:00:58.500","00:00:00","00:00:00"]
["36.",{"$f":"B135","v":"SOUKUP"},"Ondřej","7.A","00:00:00",null,0,0,null,"00:01:04.170","00:00:00","00:00:00"]
["37.",{"$f":"B136","v":"SPANILÝ"},"David","7.A","00:00:00",null,0,0,null,"00:01:00.950","00:00:00","00:00:00"]
["38.",{"$f":"B137","v":"ČADAN"},"Benjamín","7.B","00:00:00",null,0,0,null,"00:01:14.370","00:00:00","00:00:00"]
["39.",{"$f":"B138","v":"ČERNÝ"},"Michal","7.B","00:00:00",null,0,0,null,"00:01:13.500","00:00:00","00:00:00"]
["40.",{"$f":"B139","v":"DOLEJŠÍ"},"David","7.B","00:00:00",null,0,0,null,"00:01:09.160","00:00:00","00:00:00"]
["41.",{"$f":"B140","v":"NOVÁK"},"Matěj","7.B","00:00:00",null,0,0,null,"00:01:01.550","00:00:00","00:00:00"]
["42.",{"$f":"B141","v":"POVAŽANEC"},"Martin","7.B","00:00:00",null,0,0,null,"00:01:22.800","00:00:00","00:00:00"]
["43.",{"$f":"B142","v":"RICHTER"},"Jakub","7.B","00:00:00",null,0,0,null,"00:01:11.020","00:00:00","00:00:00"]
["44.",{"$f":"B143","v":"ROZUMEK"},"Adam","7.B","00:00:00",null,0,0,null,"00:01:27.170","00:00:00","00:00:00"]
["45.",{"$f":"B144","v":"VALENTA"},"František","7.B","00:00:00",null,0,0,null,"00:01:08.610","00:00:00","00:00:00"]
["46.",{"$f":"B145","v":"ZAPLATÍLEK"},"Josef","7.B","00:00:00",null,0,0,null,"00:01:00.340","00:00:00","00:00:00"]
["47.",{"$f":"B146","v":"ERBEN"},"Viktor","8.A","00:01:04.810",null,"Jilemnice  23.06.21",520.97744533078219,null,"00:01:15.110","00:01:13.140","00:00:00"]
["48.",{"$f":"B147","v":"FRANC"},"Daniel","8.A","00:00:00",null,0,0,null,"00:01:18.570","00:01:14.240","00:00:00"]
["49.",{"$f":"B148","v":"JINDŘIŠEK"},"Matyáš","8.A","00:00:51.030",null,"Jilemnice  23.06.21",743.75072176931212,null,"00:00:54.740","00:01:04.050","00:00:00"]
["50.",{"$f":"B149","v":"KOLAČNÝ"},"Štěpán","8.A","00:01:10.470",null,"Jilemnice  23.06.21",454.71741921226044,null,"00:01:07.170","00:01:08.590","00:00:00"]
["51.",{"$f":"B150","v":"KRISTAN"},"Jáchym","8.A","00:01:34.910",null,{"$f":"G150","v":"Jilemnice  23.06.21"},259.34357530173838,null,{"$f":"J150","v":"00:01:28.170"},"00:01:30.820","00:00:00"]
["52.","NGUYEN","David","8.A","00:00:00",null,0,0,null,"00:00:57.940","00:00:00","00:00:00"]
["53.","NOVOTNÝ","Jan","8.A","00:00:48.030",null,"Jilemnice  23.06.21",809.19392737638987,null,"00:00:54.410","00:01:06.640","00:00:00"]
["54.","RÁB","Adam","8.A","00:01:12.190",null,"Jilemnice  23.06.21",436.64032597157518,null,"00:01:21.770","00:01:26.790","00:00:00"]
["55.","REPASKÝ","Jakub","8.A","00:00:49.990",null,"Jilemnice  23.06.21",765.54819227621533,null,"00:00:00","00:00:00","00:00:00"]
["56.","SKÁLA","Jan","8.A","00:00:51.050",null,"Jilemnice  23.06.21",743.34024352376105,null,"00:00:59.340","00:01:09.240","00:00:00"]
["57.","ŠPULÁK","Jakub","8.A","00:00:55.640",null,"Jilemnice  23.06.21",656.94073295988505,null,"00:01:06.120","00:01:16.460","00:00:00"]
["58.","VALENTA","Tomáš","8.A","00:00:44.370",null,"Jilemnice  23.06.21",901.01884227829623,null,"00:00:49.500","00:00:56.410","00:00:00"]
["59.","VANCL","Jiří","8.A","00:00:58.090",null,"Jilemnice  23.06.21",616.41237100857279,null,"00:01:08.360","00:01:16.720","00:00:00"]
["60.","VAŠÍČEK","David","8.A","00:00:00",null,0,0,null,"00:01:00.980","00:00:57.580","00:00:00"]
["61.","ZOUHAR","Ondřej","8.A","00:00:49.010",null,"Jilemnice  23.06.21",786.93469153005503,null,"00:00:58.200","00:00:58.890","00:00:00"]
["62.","ZUZÁNEK","Filip","8.A","00:00:57.690",null,"Jilemnice  23.06.21",622.79411738408749,null,"00:01:02.210","00:01:07.280","00:00:00"]
["63.","BRUMLICH","Jan","9.A","00:00:49.080",null,"Jilemnice  16.06.21",785.37876083716401,null,"00:00:00","00:00:49.930","00:01:00.480"]
["64.","BUCHAR","Jiří","9.A","00:00:49.680",null,"Jilemnice  16.06.21",772.2220729043479,null,"00:00:00","00:00:53.090","00:00:56.320"]
["65.","FAISTAVER","Jiří","9.A","00:00:00",null,0,0,null,"00:00:00","00:01:06.040","00:01:10.860"]
["66.","FAISTAVER","Roman","9.A","00:00:53.460",null,"Jilemnice  16.06.21",696.12591623434332,null,"00:00:00","00:00:59.160","00:01:03.250"]
["67.","FAJSTAVR","Jakub","9.A","00:00:56.040",null,"Jilemnice  23.06.21",650.08180552976455,null,"00:00:00","00:00:59.140","00:01:06.160"]
["68.","FARSKÝ","Vojtěch","9.A","00:00:00",null,0,0,null,"00:00:00","00:00:58.300","00:01:01.290"]
["69.","HOLUBEC","Lukáš","9.A","00:00:00",null,0,0,null,"00:00:00","00:01:06.500","00:01:08.170"]
["70.","CHAROUZ","Vojtěch","9.A","00:00:52.440",null,"Jilemnice  16.06.21",715.57906906727692,null,"00:00:00","00:00:57.300","00:01:07.350"]
["71.",{"$f":"B170","v":"IACCHERI"},"Carlo","9.A","00:00:54.320",null,{"$f":"G170","v":"Jilemnice  23.06.21"},680.29189583740799,null,{"$f":"J170","v":"00:00:00"},"00:01:08.050","00:01:13.030"]
["72.","JOHN","Adrian","9.A","00:00:00",null,0,0,null,"00:00:00","00:00:00","00:01:35.010"]
["73.","KRČÍK","Matthew","9.A","00:00:00",null,0,0,null,"00:00:00","00:01:09.300","00:01:08.280"]
["74.","KRESAN","Vojtěch","9.A","00:00:00",null,0,0,null,"00:00:00","00:01:15.010","00:01:25.570"]
["75.","LÁNSKÝ","Vojtěch","9.A","00:01:26.160",null,"Jilemnice  23.06.21",316.55356292813383,null,"00:00:00","00:01:48.330","00:01:57.650"]
["76.","LEŠÁK","Lukáš","9.A","00:00:00",null,0,0,null,"00:00:00","00:00:00","00:01:22.570"]
["77.","RYPL","Matyáš","9.A","00:00:47.750",null,"Jilemnice  16.06.21",815.72152736938256,null,"00:00:00","00:00:58.740","00:01:05.060"]
["78.","VU TRAN DINH ","Lukas","9.A","00:00:00",null,0,0,null,"00:00:00","00:00:00","00:01:17.860"]
["79.","DUFEK","Matyáš","9.B","00:00:00",null,0,0,null,"00:00:00","00:01:12.220","00:00:52.470"]
["80.","JEŽEK","Jonáš","9.B","00:00:00",null,0,0,null,"00:00:00","00:00:49.750","00:00:53.770"]
["81.","JEŽEK","Mikuláš","9.B","00:00:00",null,0,0,null,"00:00:00","00:00:53.400","00:00:55.310"]
["82.","NECHANICKÝ","Michal","9.B","00:00:00",null,0,0,null,"00:00:00","00:00:54.040","00:00:57.590"]
["83.","PAULÍČEK","Jakub","9.B","00:00:00",null,0,0,null,"00:00:00","00:00:56.040","00:00:53.450"]
["84.","POHOŘALÝ","Jakub","9.B","00:00:00",null,0,0,null,"00:00:00","00:00:53.040","00:00:58.920"]
["85.","POSPÍCHAL","Daniel","9.B","00:00:00",null,0,0,null,"00:00:00","00:00:56.750","00:01:09.150"]
["86.","SOUKUP","Lukáš","9.B","00:00:00",null,0,0,null,"00:00:00","00:01:00.600","00:01:01.110"]
["87.","VANCL","Jan","9.B","00:00:00",null,0,0,null,"00:00:00","00:00:57.580","00:01:02.690"]
["88.","VANCL","Lukáš","9.B","00:00:50.520",null,"Jilemnice  16.06.21",754.32772727410929,null,"00:00:00","00:00:58.340","00:01:02.500"]
["89.","VAŠÍK","Jiří","9.B","00:00:00",null,0,0,null,"00:00:00","00:00:59.080","00:00:55.390"]
["90.","VOHNOUT","Zdeněk","9.B","00:00:42.200",null,"Jilemnice  16.06.21",962.98282421535555,null,"00:00:00","00:00:49.710","00:00:00"]
[]
[]
[]
[]
[]
[]
[null,"BOUKAL","Jakub","6.A","00:01:20.860",null,"Jilemnice  23.06.21",{"$f":"IF(E100=0,0,(1000000000-313216/E100+34538300/E100*2-1698600000/E100*3+32198000000/E100*4)/200000000000-304)","v":357.22765869265402}]
[null,"DEMČUK","Ilja","6.A","00:01:00.280",null,"Jilemnice  23.06.21",{"$f":"IF(E101=0,0,(1000000000-313216/E101+34538300/E101*2-1698600000/E101*3+32198000000/E101*4)/200000000000-304)","v":582.97354979907107}]
[null,"FAISTAUER","Kryštof","6.A","00:00:54.880",null,"Jilemnice  23.06.21",{"$f":"IF(E102=0,0,(1000000000-313216/E102+34538300/E102*2-1698600000/E102*3+32198000000/E102*4)/200000000000-304)","v":670.24815200233229}]
[null,"FRK","Matyáš","6.A","00:01:21.540",null,"Jilemnice  23.06.21",{"$f":"IF(E103=0,0,(1000000000-313216/E103+34538300/E103*2-1698600000/E103*3+32198000000/E103*4)/200000000000-304)","v":351.71341527947015}]
[null,"HUBÁLOVSKÝ","Marek","6.A","00:01:11.580",null,"Jilemnice  23.06.21",{"$f":"IF(E104=0,0,(1000000000-313216/E104+34538300/E104*2-1698600000/E104*3+32198000000/E104*4)/200000000000-304)","v":442.95197096797983}]
[null,"MAŘAS","Dominik","6.A","00:01:18.210",null,"Jilemnice  23.06.21",{"$f":"IF(E105=0,0,(1000000000-313216/E105+34538300/E105*2-1698600000/E105*3+32198000000/E105*4)/200000000000-304)","v":379.63195540069046}]
[null,"MAŤÁTKO","Jakub","6.A","00:01:24.110",null,"Jilemnice  23.06.21",{"$f":"IF(E106=0,0,(1000000000-313216/E106+34538300/E106*2-1698600000/E106*3+32198000000/E106*4)/200000000000-304)","v":331.67809691936748}]
[null,"MERY","Luboš","6.A","00:01:15.180",null,"Jilemnice  23.06.21",{"$f":"IF(E107=0,0,(1000000000-313216/E107+34538300/E107*2-1698600000/E107*3+32198000000/E107*4)/200000000000-304)","v":407.18435863112518}]
[null,"NOVOTNÝ","Matěj","6.A",null,null,null,{"$f":"IF(E108=0,0,(1000000000-313216/E108+34538300/E108*2-1698600000/E108*3+32198000000/E108*4)/200000000000-304)","v":0}]
[null,"ŘEHOŘEK","Vojtěch","6.A","00:01:11.820",null,"Jilemnice  23.06.21",{"$f":"IF(E109=0,0,(1000000000-313216/E109+34538300/E109*2-1698600000/E109*3+32198000000/E109*4)/200000000000-304)","v":440.45590757293235}]
[null,"ŠÍR","Matyáš","6.A","00:01:09.460",null,"Jilemnice  23.06.21",{"$f":"IF(E110=0,0,(1000000000-313216/E110+34538300/E110*2-1698600000/E110*3+32198000000/E110*4)/200000000000-304)","v":465.74966141503035}]
[null,"TORÁČ","Tomáš","6.A","00:02:09.100",null,"Jilemnice  23.06.21",{"$f":"IF(E111=0,0,(1000000000-313216/E111+34538300/E111*2-1698600000/E111*3+32198000000/E111*4)/200000000000-304)","v":110.15266988294343}]
[null,"ULLMAN","Šimon","6.A","00:00:53.770",null,"Jilemnice  23.06.21",{"$f":"IF(E112=0,0,(1000000000-313216/E112+34538300/E112*2-1698600000/E112*3+32198000000/E112*4)/200000000000-304)","v":690.35992248257389}]
[null,"VÁCLAVÍK","Ondřej","6.A","00:00:58.550",null,"Jilemnice  23.06.21",{"$f":"IF(E113=0,0,(1000000000-313216/E113+34538300/E113*2-1698600000/E113*3+32198000000/E113*4)/200000000000-304)","v":609.18116023719892}]
[null,"AUERSWALD","Daniel","6.B","00:00:59.520",null,"Jilemnice  23.06.21",{"$f":"IF(E114=0,0,(1000000000-313216/E114+34538300/E114*2-1698600000/E114*3+32198000000/E114*4)/200000000000-304)","v":594.29908907741935}]
[null,"BODLÁK","Vladimír","6.B","00:00:45.090",null,"Jilemnice  23.06.21",{"$f":"IF(E115=0,0,(1000000000-313216/E115+34538300/E115*2-1698600000/E115*3+32198000000/E115*4)/200000000000-304)","v":881.77710427784405}]
[null,"BUDÍN","Martin","6.B","00:00:58.300",null,"Jilemnice  23.06.21",{"$f":"IF(E116=0,0,(1000000000-313216/E116+34538300/E116*2-1698600000/E116*3+32198000000/E116*4)/200000000000-304)","v":613.09700998092637}]
[null,"DVOŘÁK","Dominik","6.B",null,null,null,{"$f":"IF(E117=0,0,(1000000000-313216/E117+34538300/E117*2-1698600000/E117*3+32198000000/E117*4)/200000000000-304)","v":0}]
[null,"FIŠERA","Vojtěch","6.B","00:00:57.070",null,"Jilemnice  23.06.21",{"$f":"IF(E118=0,0,(1000000000-313216/E118+34538300/E118*2-1698600000/E118*3+32198000000/E118*4)/200000000000-304)","v":632.86261664426138}]
[null,"JINDŘIŠEK","Vít","6.B",null,null,null,{"$f":"IF(E119=0,0,(1000000000-313216/E119+34538300/E119*2-1698600000/E119*3+32198000000/E119*4)/200000000000-304)","v":0}]
[null,"JIROUŠ","Matouš","6.B",null,null,null,{"$f":"IF(E120=0,0,(1000000000-313216/E120+34538300/E120*2-1698600000/E120*3+32198000000/E120*4)/200000000000-304)","v":0}]
[null,"KERLE","Marek","6.B","00:00:54.010",null,"Jilemnice  23.06.21",{"$f":"IF(E121=0,0,(1000000000-313216/E121+34538300/E121*2-1698600000/E121*3+32198000000/E121*4)/200000000000-304)","v":685.9413855191259}]
[null,"LUKEŠ","Jakub","6.B","00:00:54.300",null,"Jilemnice  23.06.21",{"$f":"IF(E122=0,0,(1000000000-313216/E122+34538300/E122*2-1698600000/E122*3+32198000000/E122*4)/200000000000-304)","v":680.65443244729283}]
[null,"OTT","Matyáš","6.B","00:01:08.290",null,"Jilemnice  23.06.21",{"$f":"IF(E123=0,0,(1000000000-313216/E123+34538300/E123*2-1698600000/E123*3+32198000000/E123*4)/200000000000-304)","v":478.9375550137355}]
[null,"POKORNÝ","Matyáš","6.B","00:00:48.010",null,"Jilemnice  23.06.21",{"$f":"IF(E124=0,0,(1000000000-313216/E124+34538300/E124*2-1698600000/E124*3+32198000000/E124*4)/200000000000-304)","v":809.65765948527405}]
[null,"POLÁČEK","Matyáš","6.B","00:01:13.650",null,"Jilemnice  23.06.21",{"$f":"IF(E125=0,0,(1000000000-313216/E125+34538300/E125*2-1698600000/E125*3+32198000000/E125*4)/200000000000-304)","v":421.95834938069231}]
[null,"SOUKUP","Patrik","6.B","00:00:53.980",null,"Jilemnice  23.06.21",{"$f":"IF(E126=0,0,(1000000000-313216/E126+34538300/E126*2-1698600000/E126*3+32198000000/E126*4)/200000000000-304)","v":686.49155394383092}]
[null,"VALENTA","Jakub","6.B",null,null,null,{"$f":"IF(E127=0,0,(1000000000-313216/E127+34538300/E127*2-1698600000/E127*3+32198000000/E127*4)/200000000000-304)","v":0}]
[null,"VRBATA","Dominik","6.B","00:00:57.790",null,"Jilemnice  23.06.21",{"$f":"IF(E128=0,0,(1000000000-313216/E128+34538300/E128*2-1698600000/E128*3+32198000000/E128*4)/200000000000-304)","v":621.1903985445233}]
[null,"FEJKL","Jan","7.A",null,null,null,{"$f":"IF(E129=0,0,(1000000000-313216/E129+34538300/E129*2-1698600000/E129*3+32198000000/E129*4)/200000000000-304)","v":0},null,"00:00:54.980"]
[null,"KOTYK","Tadeáš","7.A",null,null,null,{"$f":"IF(E130=0,0,(1000000000-313216/E130+34538300/E130*2-1698600000/E130*3+32198000000/E130*4)/200000000000-304)","v":0},null,"00:01:18.780"]
[null,"KRAUSE","Tadeáš","7.A",null,null,null,{"$f":"IF(E131=0,0,(1000000000-313216/E131+34538300/E131*2-1698600000/E131*3+32198000000/E131*4)/200000000000-304)","v":0},null,"00:00:59.500"]
[null,"LEŠÁK","Martin","7.A",null,null,null,{"$f":"IF(E132=0,0,(1000000000-313216/E132+34538300/E132*2-1698600000/E132*3+32198000000/E132*4)/200000000000-304)","v":0},null,"00:01:15.530"]
[null,"NECHANICKÝ","David","7.A",null,null,null,{"$f":"IF(E133=0,0,(1000000000-313216/E133+34538300/E133*2-1698600000/E133*3+32198000000/E133*4)/200000000000-304)","v":0},null,"00:00:57.540"]
[null,"ŘEHOŘEK","Jan","7.A",null,null,null,{"$f":"IF(E134=0,0,(1000000000-313216/E134+34538300/E134*2-1698600000/E134*3+32198000000/E134*4)/200000000000-304)","v":0},null,"00:00:58.500"]
[null,"SOUKUP","Ondřej","7.A",null,null,null,{"$f":"IF(E135=0,0,(1000000000-313216/E135+34538300/E135*2-1698600000/E135*3+32198000000/E135*4)/200000000000-304)","v":0},null,"00:01:04.170"]
[null,"SPANILÝ","David","7.A",null,null,null,{"$f":"IF(E136=0,0,(1000000000-313216/E136+34538300/E136*2-1698600000/E136*3+32198000000/E136*4)/200000000000-304)","v":0},null,"00:01:00.950"]
[null,"ČADAN","Benjamín","7.B",null,null,null,{"$f":"IF(E137=0,0,(1000000000-313216/E137+34538300/E137*2-1698600000/E137*3+32198000000/E137*4)/200000000000-304)","v":0},null,"00:01:14.370"]
[null,"ČERNÝ","Michal","7.B",null,null,null,{"$f":"IF(E138=0,0,(1000000000-313216/E138+34538300/E138*2-1698600000/E138*3+32198000000/E138*4)/200000000000-304)","v":0},null,"00:01:13.500"]
[null,"DOLEJŠÍ","David","7.B",null,null,null,{"$f":"IF(E139=0,0,(1000000000-313216/E139+34538300/E139*2-1698600000/E139*3+32198000000/E139*4)/200000000000-304)","v":0},null,"00:01:09.160"]
[null,"NOVÁK","Matěj","7.B",null,null,null,{"$f":"IF(E140=0,0,(1000000000-313216/E140+34538300/E140*2-1698600000/E140*3+32198000000/E140*4)/200000000000-304)","v":0},null,"00:01:01.550"]
[null,"POVAŽANEC","Martin","7.B",null,null,null,{"$f":"IF(E141=0,0,(1000000000-313216/E141+34538300/E141*2-1698600000/E141*3+32198000000/E141*4)/200000000000-304)","v":0},null,"00:01:22.800"]
[null,"RICHTER","Jakub","7.B",null,null,null,{"$f":"IF(E142=0,0,(1000000000-313216/E142+34538300/E142*2-1698600000/E142*3+32198000000/E142*4)/200000000000-304)","v":0},null,"00:01:11.020"]
[null,"ROZUMEK","Adam","7.B",null,null,null,{"$f":"IF(E143=0,0,(1000000000-313216/E143+34538300/E143*2-1698600000/E143*3+32198000000/E143*4)/200000000000-304)","v":0},null,"00:01:27.170"]
[null,"VALENTA","František","7.B",null,null,null,{"$f":"IF(E144=0,0,(1000000000-313216/E144+34538300/E144*2-1698600000/E144*3+32198000000/E144*4)/200000000000-304)","v":0},null,"00:01:08.610"]
[null,"ZAPLATÍLEK","Josef","7.B",null,null,null,{"$f":"IF(E145=0,0,(1000000000-313216/E145+34538300/E145*2-1698600000/E145*3+32198000000/E145*4)/200000000000-304)","v":0},null,"00:01:00.340"]
[null,"ERBEN","Viktor","8.A","00:01:04.810",null,"Jilemnice  23.06.21",{"$f":"IF(E146=0,0,(1000000000-313216/E146+34538300/E146*2-1698600000/E146*3+32198000000/E146*4)/200000000000-304)","v":520.97744533078219},null,"00:01:15.110","00:01:13.140"]
[null,"FRANC","Daniel","8.A",null,null,null,{"$f":"IF(E147=0,0,(1000000000-313216/E147+34538300/E147*2-1698600000/E147*3+32198000000/E147*4)/200000000000-304)","v":0},null,"00:01:18.570","00:01:14.240"]
[null,"JINDŘIŠEK","Matyáš","8.A","00:00:51.030",null,"Jilemnice  23.06.21",{"$f":"IF(E148=0,0,(1000000000-313216/E148+34538300/E148*2-1698600000/E148*3+32198000000/E148*4)/200000000000-304)","v":743.75072176931212},null,"00:00:54.740","00:01:04.050"]
[null,"KOLAČNÝ","Štěpán","8.A","00:01:10.470",null,"Jilemnice  23.06.21",{"$f":"IF(E149=0,0,(1000000000-313216/E149+34538300/E149*2-1698600000/E149*3+32198000000/E149*4)/200000000000-304)","v":454.71741921226044},null,"00:01:07.170","00:01:08.590"]
[null,"KRISTAN","Jáchym","8.A","00:01:34.910",null,"Jilemnice  23.06.21",{"$f":"IF(E150=0,0,(1000000000-313216/E150+34538300/E150*2-1698600000/E150*3+32198000000/E150*4)/200000000000-304)","v":259.34357530173838},null,"00:01:28.170","00:01:30.820"]
[null,"NGUYEN","David","8.A",null,null,null,{"$f":"IF(E151=0,0,(1000000000-313216/E151+34538300/E151*2-1698600000/E151*3+32198000000/E151*4)/200000000000-304)","v":0},null,"00:00:57.940"]
[null,"NOVOTNÝ","Jan","8.A","00:00:48.030",null,"Jilemnice  23.06.21",{"$f":"IF(E152=0,0,(1000000000-313216/E152+34538300/E152*2-1698600000/E152*3+32198000000/E152*4)/200000000000-304)","v":809.19392737638987},null,"00:00:54.410","00:01:06.640"]
[null,"RÁB","Adam","8.A","00:01:12.190",null,"Jilemnice  23.06.21",{"$f":"IF(E153=0,0,(1000000000-313216/E153+34538300/E153*2-1698600000/E153*3+32198000000/E153*4)/200000000000-304)","v":436.64032597157518},null,"00:01:21.770","00:01:26.790"]
[null,"REPASKÝ","Jakub","8.A","00:00:49.990",null,"Jilemnice  23.06.21",{"$f":"IF(E154=0,0,(1000000000-313216/E154+34538300/E154*2-1698600000/E154*3+32198000000/E154*4)/200000000000-304)","v":765.54819227621533}]
[null,"SKÁLA","Jan","8.A","00:00:51.050",null,"Jilemnice  23.06.21",{"$f":"IF(E155=0,0,(1000000000-313216/E155+34538300/E155*2-1698600000/E155*3+32198000000/E155*4)/200000000000-304)","v":743.34024352376105},null,"00:00:59.340","00:01:09.240"]
[null,"ŠPULÁK","Jakub","8.A","00:00:55.640",null,"Jilemnice  23.06.21",{"$f":"IF(E156=0,0,(1000000000-313216/E156+34538300/E156*2-1698600000/E156*3+32198000000/E156*4)/200000000000-304)","v":656.94073295988505},null,"00:01:06.120","00:01:16.460"]
[null,"VALENTA","Tomáš","8.A","00:00:44.370",null,"Jilemnice  23.06.21",{"$f":"IF(E157=0,0,(1000000000-313216/E157+34538300/E157*2-1698600000/E157*3+32198000000/E157*4)/200000000000-304)","v":901.01884227829623},null,"00:00:49.500","00:00:56.410"]
[null,"VANCL","Jiří","8.A","00:00:58.090",null,"Jilemnice  23.06.21",{"$f":"IF(E158=0,0,(1000000000-313216/E158+34538300/E158*2-1698600000/E158*3+32198000000/E158*4)/200000000000-304)","v":616.41237100857279},null,"00:01:08.360","00:01:16.720"]
[null,"VAŠÍČEK","David","8.A",null,null,null,{"$f":"IF(E159=0,0,(1000000000-313216/E159+34538300/E159*2-1698600000/E159*3+32198000000/E159*4)/200000000000-304)","v":0},null,"00:01:00.980","00:00:57.580"]
[null,"ZOUHAR","Ondřej","8.A","00:00:49.010",null,"Jilemnice  23.06.21",{"$f":"IF(E160=0,0,(1000000000-313216/E160+34538300/E160*2-1698600000/E160*3+32198000000/E160*4)/200000000000-304)","v":786.93469153005503},null,"00:00:58.200","00:00:58.890"]
[null,"ZUZÁNEK","Filip","8.A","00:00:57.690",null,"Jilemnice  23.06.21",{"$f":"IF(E161=0,0,(1000000000-313216/E161+34538300/E161*2-1698600000/E161*3+32198000000/E161*4)/200000000000-304)","v":622.79411738408749},null,"00:01:02.210","00:01:07.280"]
[null,"BRUMLICH","Jan","9.A","00:00:49.080",null,"Jilemnice  16.06.21",{"$f":"IF(E162=0,0,(1000000000-313216/E162+34538300/E162*2-1698600000/E162*3+32198000000/E162*4)/200000000000-304)","v":785.37876083716401},null,null,"00:00:49.930","00:01:00.480"]
[null,"BUCHAR","Jiří","9.A","00:00:49.680",null,"Jilemnice  16.06.21",{"$f":"IF(E163=0,0,(1000000000-313216/E163+34538300/E163*2-1698600000/E163*3+32198000000/E163*4)/200000000000-304)","v":772.2220729043479},null,null,"00:00:53.090","00:00:56.320"]
[null,"FAISTAVER","Jiří","9.A",null,null,null,{"$f":"IF(E164=0,0,(1000000000-313216/E164+34538300/E164*2-1698600000/E164*3+32198000000/E164*4)/200000000000-304)","v":0},null,null,"00:01:06.040","00:01:10.860"]
[null,"FAISTAVER","Roman","9.A","00:00:53.460",null,"Jilemnice  16.06.21",{"$f":"IF(E165=0,0,(1000000000-313216/E165+34538300/E165*2-1698600000/E165*3+32198000000/E165*4)/200000000000-304)","v":696.12591623434332},null,null,"00:00:59.160","00:01:03.250"]
[null,"FAJSTAVR","Jakub","9.A","00:00:56.040",null,"Jilemnice  23.06.21",{"$f":"IF(E166=0,0,(1000000000-313216/E166+34538300/E166*2-1698600000/E166*3+32198000000/E166*4)/200000000000-304)","v":650.08180552976455},null,null,"00:00:59.140","00:01:06.160"]
[null,"FARSKÝ","Vojtěch","9.A",null," ",null,{"$f":"IF(E167=0,0,(1000000000-313216/E167+34538300/E167*2-1698600000/E167*3+32198000000/E167*4)/200000000000-304)","v":0},null,null,"00:00:58.300","00:01:01.290"]
[null,"HOLUBEC","Lukáš","9.A",null,null,null,{"$f":"IF(E168=0,0,(1000000000-313216/E168+34538300/E168*2-1698600000/E168*3+32198000000/E168*4)/200000000000-304)","v":0},null,null,"00:01:06.500","00:01:08.170"]
[null,"CHAROUZ","Vojtěch","9.A","00:00:52.440",null,"Jilemnice  16.06.21",{"$f":"IF(E169=0,0,(1000000000-313216/E169+34538300/E169*2-1698600000/E169*3+32198000000/E169*4)/200000000000-304)","v":715.57906906727692},null,null,"00:00:57.300","00:01:07.350"]
[null,"IACCHERI","Carlo","9.A","00:00:54.320",null,"Jilemnice  23.06.21",{"$f":"IF(E170=0,0,(1000000000-313216/E170+34538300/E170*2-1698600000/E170*3+32198000000/E170*4)/200000000000-304)","v":680.29189583740799},null,null,"00:01:08.050","00:01:13.030"]
[null,"JOHN","Adrian","9.A",null,null,null,{"$f":"IF(E171=0,0,(1000000000-313216/E171+34538300/E171*2-1698600000/E171*3+32198000000/E171*4)/200000000000-304)","v":0},null,null,null,"00:01:35.010"]
[null,"KRČÍK","Matthew","9.A",null,null,null,{"$f":"IF(E172=0,0,(1000000000-313216/E172+34538300/E172*2-1698600000/E172*3+32198000000/E172*4)/200000000000-304)","v":0},null,null,"00:01:09.300","00:01:08.280"]
[null,"KRESAN","Vojtěch","9.A",null,null,null,{"$f":"IF(E173=0,0,(1000000000-313216/E173+34538300/E173*2-1698600000/E173*3+32198000000/E173*4)/200000000000-304)","v":0},null,null,"00:01:15.010","00:01:25.570"]
[null,"LÁNSKÝ","Vojtěch","9.A","00:01:26.160",null,"Jilemnice  23.06.21",{"$f":"IF(E174=0,0,(1000000000-313216/E174+34538300/E174*2-1698600000/E174*3+32198000000/E174*4)/200000000000-304)","v":316.55356292813383},null,null,"00:01:48.330","00:01:57.650"]
[null,"LEŠÁK","Lukáš","9.A",null,null,null,{"$f":"IF(E175=0,0,(1000000000-313216/E175+34538300/E175*2-1698600000/E175*3+32198000000/E175*4)/200000000000-304)","v":0},null,null,null,"00:01:22.570"]
[null,"RYPL","Matyáš","9.A","00:00:47.750",null,"Jilemnice  16.06.21",{"$f":"IF(E176=0,0,(1000000000-313216/E176+34538300/E176*2-1698600000/E176*3+32198000000/E176*4)/200000000000-304)","v":815.72152736938256},null,null,"00:00:58.740","00:01:05.060"]
[null,"VU TRAN DINH ","Lukas","9.A",null,null,null,{"$f":"IF(E177=0,0,(1000000000-313216/E177+34538300/E177*2-1698600000/E177*3+32198000000/E177*4)/200000000000-304)","v":0},null,null,null,"00:01:17.860"]
[null,"DUFEK","Matyáš","9.B",null,null,null,{"$f":"IF(E178=0,0,(1000000000-313216/E178+34538300/E178*2-1698600000/E178*3+32198000000/E178*4)/200000000000-304)","v":0},null,null,"00:01:12.220","00:00:52.470"]
[null,"JEŽEK","Jonáš","9.B",null,null,null,{"$f":"IF(E179=0,0,(1000000000-313216/E179+34538300/E179*2-1698600000/E179*3+32198000000/E179*4)/200000000000-304)","v":0},null,null,"00:00:49.750","00:00:53.770"]
[null,"JEŽEK","Mikuláš","9.B",null,null,null,{"$f":"IF(E180=0,0,(1000000000-313216/E180+34538300/E180*2-1698600000/E180*3+32198000000/E180*4)/200000000000-304)","v":0},null,null,"00:00:53.400","00:00:55.310"]
[null,"NECHANICKÝ","Michal","9.B",null,null,null,{"$f":"IF(E181=0,0,(1000000000-313216/E181+34538300/E181*2-1698600000/E181*3+32198000000/E181*4)/200000000000-304)","v":0},null,null,"00:00:54.040","00:00:57.590"]
[null,"PAULÍČEK","Jakub","9.B",null,null,null,{"$f":"IF(E182=0,0,(1000000000-313216/E182+34538300/E182*2-1698600000/E182*3+32198000000/E182*4)/200000000000-304)","v":0},null,null,"00:00:56.040","00:00:53.450"]
[null,"POHOŘALÝ","Jakub","9.B",null,null,null,{"$f":"IF(E183=0,0,(1000000000-313216/E183+34538300/E183*2-1698600000/E183*3+32198000000/E183*4)/200000000000-304)","v":0},null,null,"00:00:53.040","00:00:58.920"]
[null,"POSPÍCHAL","Daniel","9.B",null,null,null,{"$f":"IF(E184=0,0,(1000000000-313216/E184+34538300/E184*2-1698600000/E184*3+32198000000/E184*4)/200000000000-304)","v":0},null,null,"00:00:56.750","00:01:09.150"]
[null,"SOUKUP","Lukáš","9.B",null,null,null,{"$f":"IF(E185=0,0,(1000000000-313216/E185+34538300/E185*2-1698600000/E185*3+32198000000/E185*4)/200000000000-304)","v":0},null,null,"00:01:00.600","00:01:01.110"]
[null,"VANCL","Jan","9.B",null,null,null,{"$f":"IF(E186=0,0,(1000000000-313216/E186+34538300/E186*2-1698600000/E186*3+32198000000/E186*4)/200000000000-304)","v":0},null,null,"00:00:57.580","00:01:02.690"]
[null,"VANCL","Lukáš","9.B","00:00:50.520",null,"Jilemnice  16.06.21",{"$f":"IF(E187=0,0,(1000000000-313216/E187+34538300/E187*2-1698600000/E187*3+32198000000/E187*4)/200000000000-304)","v":754.32772727410929},null,null,"00:00:58.340","00:01:02.500"]
[null,"VAŠÍK","Jiří","9.B",null,null,null,{"$f":"IF(E188=0,0,(1000000000-313216/E188+34538300/E188*2-1698600000/E188*3+32198000000/E188*4)/200000000000-304)","v":0},null,null,"00:00:59.080","00:00:55.390"]
[null,"VOHNOUT","Zdeněk","9.B","00:00:42.200",null,"Jilemnice  16.06.21",{"$f":"IF(E189=0,0,(1000000000-313216/E189+34538300/E189*2-1698600000/E189*3+32198000000/E189*4)/200000000000-304)","v":962.98282421535555},null,null,"00:00:49.710"]
[null,null,null,null," "]
[]
[]
[]
[]
[]
[]
[]
[]
[]
[]
[]
[]
[]
[]
[]
[]
[]
[]
[]
[]
[]
[]
[]
[]
[]
[]
[]
[]
[]
[]
[]
[]
[]
[]
[]
[]
[]
[]
[]
[]
[]
[]
[]
[]
[]
[]
[]
[]
[]
[]
[]
[]
[]
[]
[]
[]
[]
[]
[]
[]
[]
[]
[]
[]
[]
[]
[]
[]
[]
[]
[]
[]
[]
[]
[]
[]
[]
[]
[]
[]
[]
[]
[]
[]
[]
[]
[]
[]
[]
[]
[]
[]
[]
[]
[]
[]
[]
[]
[]
[]
[]
[]
[]
[]
[]
[]
[]
[]
[]
[]
[]
[]
[]
[]
[]
[]
[]
[]
[]
[]
[]
[]
[]
[]
[]
[]
[]
[]
[]
[]
[]
[]
[]
[]
[]
[]
[]
[]
[]
[]
[]
[]
[]
[]
[]
[]
[]
[]
[]
[]
[]
[]
[]
[]
[]
[]
[]
[]
[]
[]
[]
[]
[]
[]
[]
[]
[]
[]
[]
[]
[]
[]
[]
[]
[]
[]
[]
[]
[]
[]
[]
[]
[]
[]
[]
[]
[]
[]
[]
[]
[]
[]
[]
[]
[]
[]
[]
[]
[]
[]
[]
[]
[]
[]
[]
[]
[]
[]
[]
[]
[]
[]
[]
[]
[]
[]
[]
[]
[]
[]
[]
[]
[]
[]
[]
[]
[]
[]
[]
[]
[]
[]
[]
[]
[]
[]
[]
[]
[]
[]
[]
[]
[]
[]
[]
[]
[]
[]
[]
[]
[]
[]
[]
[]
[]
[]
[]
[]
[]
[]
[]
[]
[]
[]
[]
[]
[]
[]
[]
[]
[]
[]
[]
[]
[]
[]
[]
[]
[]
[]
[]
[]
[]
[]
[]
[]
[]
[]
[]
[]
[]
[]
[]
[]
[]
[]
[]
[]
[]
[]
[]
[]
[]
[]
[]
[]
[]
[]
[]
[]
[]
[]
[]
[]
[]
[]
[]
[]
[]
[]
[]
[]
[]
[]
[]
[]
[]
[]
[]
[]
[]
[]
[]
[]
[]
[]
[]
[]
[]
[]
[]
[]
[]
[]
[]
[]
[]
[]
[]
[]
[]
[]
[]
[]
[]
[]
[]
[]
[]
[]
[]
[]
[]
[]
[]
[]
[]
[]
[]
[]
[]
[]
[]
[]
[]
[]
[]
[]
[]
[]
[]
[]
[]
[]
[]
[]
[]
[]
[]
[]
[]
[]
[]
[]
[]
[]
[]
[]
[]
[]
[]
[]
[]
[]
[]
[]
[]
[]
[]
[]
[]
[]
[]
[]
[]
[]
[]
[]
[]
[]
[]
[]
[]
[]
[]
[]
[]
[]
[]
[]
[]
[]
[]
[]
[]
[]
[]
[]
[]
[]
[]
[]
[]
[]
[]
[]
[]
[]
[]
[]
[]
[]
[]
[]
[]
[]
[]
[]
[]
[]
[]
[]
[]
[]
[]
[]
[]
[]
[]
[]
[]
[]
[]
[]
[]
[]
[]
[]
[]
[]
[]
[]
[]
[]
[]
[]
[]
[]
[]
[]
[]
[]
[]
[]
[]
[]
[]
[]
[]
[]
[]
[]
[]
[]
[]
[]
[]
[]
[]
[]
[]
[]
[]
[]
[]
[]
[]
[]
[]
[]
[]
[]
[]
[]
[]
[]
[]
[]
[]
[]
[]
[]
[]
[]
[]
[]
[]
[]
[]
[]
[]
[]
[]
[]
[]
[]
[]
[]
[]
[]
[]
[]
[]
[]
[]
[]
[]
[]
[]
[]
[]
[]
[]
[]
[]
[]
[]
[]
[]
[]
[]
[]
[]
[]
[]
[]
[]
[]
[]
[]
[]
[]
[]
[]
[]
[]
[]
[]
[]
[]
[]
[]
[]
[]
[]
[]
[]
[]
[]
[]
[]
[]
[]
[]
[]
[]
[]
[]
[]
[]
[]
[]
[]
[]
[]
[]
[]
[]
[]
[]
[]
[]
[]
[]
[]
[]
[]
[]
[]
[]
[]
[]
[]
[]
[]
[]
[]
[]
[]
[]
[]
[]
[]
[]
[]
[]
[]
[]
[]
[]
[]
[]
[]
[]
[]
[]
[]
[]
[]
[]
[]
[]
[]
[]
[]
[]
[]
[]
[]
[]
[]
[]
[]
[]
[]
[]
[]
[]
[]
[]
[]
[]
[]
[]
[]
[]
[]
[]
[]
[]
[]
[]
[]
[]
[]
[]
[]
[]
[]
[]
[]
[]
[]
[]
[]
[]
[]
[]
[]
[]
[]
[]
[]
[]
[]
[]
[]
[]
[]
[]
[]
[]
[]
[]
[]
[]
[]
[]
[]
[]
[]
[]
[]
[]
[]
[]
[]
[]
[]
[]
[]
[]
[]
[]
[]
[]
[]
[]
[]
[]
[]
[]
[]
[]
[]
[]
[]
[]
[]
[]
[]
[]
[]
[]
[]
[]
[]
[]
[]
[]
[]
[]
[]
[]
[]
[]
[]
[]
[]
[]
[]
[]
[]
[]
[]
[]
[]
[]
[]
[]
[]
[]
[]
[]
[]
[]
[]
[]
[]
[]
[]
[]
[]
[]
[]
[]
[]
[]
[]
[]
[]
[]
[]
[]
[]
[]
[]
[]
[]
[]
[]
[]
[]
[]
[]
[]
[]
[]
[]
[]
[]
[]
[]
[]
[]
[]
[]
[]
[]
[]
[]
[]
[]
[]
[]
[]
[]
[]
[]
[]
[]
[]
[]
[]
[]
[]
[]
[]
[]
[]
[]
[]
[]
[]
[]
[]
[]
[]
[]
[]
[]
[]
[]
[]
[]
[]
[]
[]
[]
[]
[]
[]
[]
[]
[]
[]
[]
[]
[]
[]
[]
[]
[]
[]
[]
[]
[]
[]
[]
[]
[]
[]
[]
[]
[]
[]
[]
[]
[]
[]
[]
[]
[]
[]
[]
[]
[]
[]
[]
[]
[]
[]
[]
[]
[]
[]
[]
[]
[]
[]
[]
[]
[]
[]
[]
[]
[]
[]
[]
[]
[]
[]
[]
[]
[]
[]
[]
[]
[]
[]
[]
[]
[]
[]
[]
[]
[]
[]
[]
[]
[]
[]
[]
[]
[]
[]
[]
[]
[]
[]
[]
[]
[]
[]
[]
[]
[]
[]
[]
[]
[]
[]
[]
[]
[]
[]
[]
[]
[]
[]
[]
[]
[]
[]
[]
[]
[]
[]
[]
[]
[]
[]
[]
[]
[]
[]
[]
[]
[]
[]
[]
[]
[]
[]
[]
[]
[]
[]
[]
[]
[]
[]
[]
[]
[]
[]
[]
[]
[]
[]
[]
[]
[]
[]
[]
[]
[]
[]
[]
[]
[]
[]
[]
[]
[]
[]
[]
[]
[]
[]
[]
[]
[]
[]
[]
[]
[]
[]
[]
[]
[]
[]
[]
[]
[]
[]
[]
[]
[]
[]
[]
[]
[]
[]
[]
[]
[]
[]
[]
[]
[]
[]
[]
[]
[]
[]
[]
[]
[]
[]
[]
[]
[]
[]
[]
[]
[]
[]
[]
[]
[]
[]
[]
[]
[]
[]
[]
[]
[]
[]
[]
[]
[]
[]
[]
[]
[]
[]
[]
[]
[]
[]
[]
[]
[]
[]
[]
[]
[]
[]
[]
[]
[]
[]
[]
[]
[]
[]
[]
[]
[]
[]
[]
[]
[]
[]
[]
[]
[]
[]
[]
[]
[]
[]
[]
[]
[]
[]
[]
[]
[]
[]
[]
[]
[]
[]
[]
[]
[]
[]
[]
[]
[]
[]
[]
[]
[]
[]
[]
[]
[]
[]
[]
[]
[]
[]
[]
[]
[]
[]
[]
[]
[]
[]
[]
[]
[]
[]
[]
[]
[]
[]
[]
[]
[]
[]
[]
[]
[]
[]
[]
[]
[]
[]
[]
[]
[]
[]
[]
[]
[]
[]
[]
[]
[]
[]
[]
[]
[]
[]
[]
[]
[]
[]
[]
[]
[]
[]
[]
[]
[]
[]
[]
[]
[]
[]
[]
[]
[]
[]
[]
[]
[]
[]
[]
[]
[]
[]
[]
[]
[]
[]
[]
[]
[]
[]
[]
[]
[]
[]
[]
[]
[]
[]
[]
[]
[]
[]
[]
[]
[]
[]
[]
[]
[]
[]
[]
[]
[]
[]
[]
[]
[]
[]
[]
[]
[]
[]
[]
[]
[]
[]
[]
[]
[]
[]
[]
[]
[]
[]
[]
[]
[]
[]
[]
[]
[]
[]
[]
[]
[]
[]
[]
[]
[]
[]
[]
[]
[]
[]
[]
[]
[]
[]
[]
[]
[]
[]
[]
[]
[]
[]
[]
[]
[]
[]
[]
[]
[]
[]
[]
[]
[]
[]
[]
[]
[]
[]
[]
[]
[]
[]
[]
[]
[]
[]
[]
[]
[]
[]
[]
[]
[]
[]
[]
[]
[]
[]
[]
[]
[]
[]
[]
[]
[]
[]
[]
[]
[]
[]
[]
[]
[]
[]
[]
[]
[]
[]
[]
[]
[]
[]
[]
[]
[]
[]
[]
[]
[]
[]
[]
[]
[]
[]
[]
[]
[]
[]
[]
[]
[]
[]
[]
[]
[]
[]
[]
[]
[]
[]
[]
[]
[]
[]
[]
[]
[]
[]
[]
[]
[]
[]
[]
[]
[]
[]
[]
[]
[]
[]
[]
[]
[]
[]
[]
[]
[]
[]
[]
[]
[]
[]
[]
[]
[]
[]
[]
[]
[]
[]
[]
[]
[]
[]
[]
[]
[]
[]
[]
[]
[]
[]
[]
[]
[]
[]
[]
[]
[]
[]
[]
[]
[]
[]
[]
[]
[]
[]
[]
[]
[]
[]
[]
[]
[]
[]
[]
[]
[]
[]
[]
[]
[]
[]
[]
[]
[]
[]
[]
[]
[]
[]
[]
[]
[]
[]
[]
[]
[]
[]
[]
[]
[]
[]
[]
[]
[]
[]
[]
[]
[]
[]
[]
[]
[]
[]
[]
[]
[]
[]
[]
[]
[]
[]
[]
[]
[]
[]
[]
[]
[]
[]
[]
[]
[]
[]
[]
[]
[]
[]
[]
[]
[]
[]
[]
[]
[]
[]
[]
[]
[]
[]
[]
[]
[]
[]
[]
[]
[]
[]
[]
[]
[]
[]
[]
[]
[]
[]
[]
[]
[]
[]
[]
[]
[]
[]
[]
[]
[]
[]
[]
[]
[]
[]
[]
[]
[]
[]
[]
[]
[]
[]
[]
[]
[]
[]
[]
[]
[]
[]
[]
[]
[]
[]
[]
[]
[]
[]
[]
[]
[]
[]
[]
[]
[]
[]
[]
[]
[]
[]
[]
[]
[]
[]
[]
[]
[]
[]
[]
[]
[]
[]
[]
[]
[]
[]
[]
[]
[]
[]
[]
[]
[]
[]
[]
[]
[]
[]
[]
[]
[]
[]
[]
[]
[]
[]
[]
[]
[]
[]
[]
[]
[]
[]
[]
[]
[]
[]
[]
[]
[]
[]
[]
[]
[]
[]
[]
[]
[]
[]
[]
[]
[]
[]
[]
[]
[]
[]
[]
[]
[]
[]
[]
[]
[]
[]
[]
[]
[]
[]
[]
[]
[]
[]
[]
[]
[]
[]
[]
[]
[]
[]
[]
[]
[]
[]
[]
[]
[]
[]
[]
[]
[]
[]
[]
[]
[]
[]
[]
[]
[]
[]
[]
[]
[]
[]
[]
[]
[]
[]
[]
[]
[]
[]
[]
[]
[]
[]
[]
[]
[]
[]
[]
[]
[]
[]
[]
[]
[]
[]
[]
[]
[]
[]
[]
[]
[]
[]
[]
[]
[]
[]
[]
[]
[]
[]
[]
[]
[]
[]
[]
[]
[]
[]
[]
[]
[]
[]
[]
[]
[]
[]
[]
[]
[]
[]
[]
[]
[]
[]
[]
[]
[]
[]
[]
[]
[]
[]
[]
[]
[]
[]
[]
[]
[]
[]
[]
[]
[]
[]
[]
[]
[]
[]
[]
[]
[]
[]
[]
[]
[]
[]
[]
[]
[]
[]
[]
[]
[]
[]
[]
[]
[]
[]
[]
[]
[]
[]
[]
[]
[]
[]
[]
[]
[]
[]
[]
[]
[]
[]
[]
[]
[]
[]
[]
[]
[]
[]
[]
[]
[]
[]
[]
[]
[]
[]
[]
[]
[]
[]
[]
[]
[]
[]
[]
[]
[]
[]
[]
[]
[]
[]
[]
[]
[]
[]
[]
[]
[]
[]
[]
[]
[]
[]
[]
[]
[]
[]
[]
[]
[]
[]
[]
[]
[]
[]
[]
[]
[]
[]
[]
[]
[]
[]
[]
[]
[]
[]
[]
[]
[]
[]
[]
[]
[]
[]
[]
[]
[]
[]
[]
[]
[]
[]
[]
[]
[]
[]
[]
[]
[]
[]
[]
[]
[]
[]
[]
[]
[]
[]
[]
[]
[]
[]
[]
[]
[]
[]
[]
[]
[]
[]
[]
[]
[]
[]
[]
[]
[]
[]
[]
[]
[]
[]
[]
[]
[]
[]
[]
[]
[]
[]
[]
[]
[]
[]
[]
[]
[]
[]
[]
[]
[]
[]
[]
[]
[]
[]
[]
[]
[]
[]
[]
[]
[]
[]
[]
[]
[]
[]
[]
[]
[]
[]
[]
[]
[]
[]
[]
[]
[]
[]
[]
[]
[]
[]
[]
[]
[]
[]
[]
[]
[]
[]
[]
[]
[]
[]
[]
[]
[]
[]
[]
[]
[]
[]
[]
[]
[]
[]
[]
[]
[]
[]
[]
[]
[]
[]
[]
[]
[]
[]
[]
[]
[]
[]
[]
[]
[]
[]
[]
[]
[]
[]
[]
[]
[]
[]
[]
[]
[]
[]
[]
[]
[]
[]
[]
[]
[]
[]
[]
[]
[]
[]
[]
[]
[]
[]
[]
[]
[]
[]
[]
[]
[]
[]
[]
[]
[]
[]
[]
[]
[]
[]
[]
[]
[]
[]
[]
[]
[]
[]
[]
[]
[]
[]
[]
[]
[]
[]
[]
[]
[]
[]
[]
[]
[]
[]
[]
[]
[]
[]
[]
[]
[]
[]
[]
[]
[]
[]
[]
[]
[]
[]
[]
[]
[]
[]
[]
[]
[]
[]
[]
[]
[]
[]
[]
[]
[]
[]
[]
[]
[]
[]
[]
[]
[]
[]
[]
[]
[]
[]
[]
[]
[]
[]
[]
[]
[]
[]
[]
[]
[]
[]
[]
[]
[]
[]
[]
[]
[]
[]
[]
[]
[]
[]
[]
[]
[]
[]
[]
[]
[]
[]
[]
[]
[]
[]
[]
[]
[]
[]
[]
[]
[]
[]
[]
[]
[]
[]
[]
[]
[]
[]
[]
[]
[]
[]
[]
[]
[]
[]
[]
[]
[]
[]
[]
[]
[]
[]
[]
[]
[]
[]
[]
[]
[]
[]
[]
[]
[]
[]
[]
[]
[]
[]
[]
[]
[]
[]
[]
[]
[]
[]
[]
[]
[]
[]
[]
[]
[]
[]
[]
[]
[]
[]
[]
[]
[]
[]
[]
[]
[]
[]
[]
[]
[]
[]
[]
[]
[]
[]
[]
[]
[]
[]
[]
[]
[]
[]
[]
[]
[]
[]
[]
[]
[]
[]
[]
[]
[]
[]
[]
[]
[]
[]
[]
[]
[]
[]
[]
[]
[]
[]
[]
[]
[]
[]
[]
[]
[]
[]
[]
[]
[]
[]
[]
[]
[]
[]
[]
[]
[]
[]
[]
[]
[]
[]
[]
[]
[]
[]
[]
[]
[]
[]
[]
[]
[]
[]
[]
[]
[]
[]
[]
[]
[]
[]
[]
[]
[]
[]
[]
[]
[]
[]
[]
[]
[]
[]
[]
[]
[]
[]
[]
[]
[]
[]
[]
[]
[]
[]
[]
[]
[]
[]
[]
[]
[]
[]
[]
[]
[]
[]
[]
[]
[]
[]
[]
[]
[]
[]
[]
[]
[]
[]
[]
[]
[]
[]
[]
[]
[]
[]
[]
[]
[]
[]
[]
[]
[]
[]
[]
[]
[]
[]
[]
[]
[]
[]
[]
[]
[]
[]
[]
[]
[]
[]
[]
[]
[]
[]
[]
[]
[]
[]
[]
[]
[]
[]
[]
[]
[]
[]
[]
[]
[]
[]
[]
[]
[]
[]
[]
[]
[]
[]
[]
[]
[]
[]
[]
[]
[]
[]
[]
[]
[]
[]
[]
[]
[]
[]
[]
[]
[]
[]
[]
[]
[]
[]
[]
[]
[]
[]
[]
[]
[]
[]
[]
[]
[]
[]
[]
[]
[]
[]
[]
[]
[]
[]
[]
[]
[]
[]
[]
[]
[]
[]
[]
[]
[]
[]
[]
[]
[]
[]
[]
[]
[]
[]
[]
[]
[]
[]
[]
[]
[]
[]
[]
[]
[]
[]
[]
[]
[]
[]
[]
[]
[]
[]
[]
[]
[]
[]
[]
[]
[]
[]
[]
[]
[]
[]
[]
[]
[]
[]
[]
[]
[]
[]
[]
[]
[]
[]
[]
[]
[]
[]
[]
[]
[]
[]
[]
[]
[]
[]
[]
[]
[]
[]
[]
[]
[]
[]
[]
[]
[]
[]
[]
[]
[]
[]
[]
[]
[]
[]
[]
[]
[]
[]
[]
[]
[]
[]
[]
[]
[]
[]
[]
[]
[]
[]
[]
[]
[]
[]
[]
[]
[]
[]
[]
[]
[]
[]
[]
[]
[]
[]
[]
[]
[]
[]
[]
[]
[]
[]
[]
[]
[]
[]
[]
[]
[]
[]
[]
[]
[]
[]
[]
[]
[]
[]
[]
[]
[]
[]
[]
[]
[]
[]
[]
[]
[]
[]
[]
[]
[]
[]
[]
[]
[]
[]
[]
[]
[]
[]
[]
[]
[]
[]
[]
[]
[]
[]
[]
[]
[]
[]
[]
[]
[]
[]
[]
[]
[]
[]
[]
[]
[]
[]
[]
[]
[]
[]
[]
[]
[]
[]
[]
[]
[]
[]
[]
[]
[]
[]
[]
[]
[]
[]
[]
[]
[]
[]
[]
[]
[]
[]
[]
[]
[]
[]
[]
[]
[]
[]
[]
[]
[]
[]
[]
[]
[]
[]
[]
[]
[]
[]
[]
[]
[]
[]
[]
[]
[]
[]
[]
[]
[]
[]
[]
[]
[]
[]
[]
[]
[]
[]
[]
[]
[]
[]
[]
[]
[]
[]
[]
[]
[]
[]
[]
[]
[]
[]
[]
[]
[]
[]
[]
[]
[]
[]
[]
[]
[]
[]
[]
[]
[]
[]
[]
[]
[]
[]
[]
[]
[]
[]
[]
[]
[]
[]
[]
[]
[]
[]
[]
[]
[]
[]
[]
[]
[]
[]
[]
[]
[]
[]
[]
[]
[]
[]
[]
[]
[]
[]
[]
[]
[]
[]
[]
[]
[]
[]
[]
[]
[]
[]
[]
[]
[]
[]
[]
[]
[]
[]
[]
[]
[]
[]
[]
[]
[]
[]
[]
[]
[]
[]
[]
[]
[]
[]
[]
[]
[]
[]
[]
[]
[]
[]
[]
[]
[]
[]
[]
[]
[]
[]
[]
[]
[]
[]
[]
[]
[]
[]
[]
[]
[]
[]
[]
[]
[]
[]
[]
[]
[]
[]
[]
[]
[]
[]
[]
[]
[]
[]
[]
[]
[]
[]
[]
[]
[]
[]
[]
[]
[]
[]
[]
[]
[]
[]
[]
[]
[]
[]
[]
[]
[]
[]
[]
[]
[]
[]
[]
[]
[]
[]
[]
[]
[]
[]
[]
[]
[]
[]
[]
[]
[]
[]
[]
[]
[]
[]
[]
[]
[]
[]
[]
[]
[]
[]
[]
[]
[]
[]
[]
[]
[]
[]
[]
[]
[]
[]
[]
[]
[]
[]
[]
[]
[]
[]
[]
[]
[]
[]
[]
[]
[]
[]
[]
[]
[]
[]
[]
[]
[]
[]
[]
[]
[]
[]
[]
[]
[]
[]
[]
[]
[]
[]
[]
[]
[]
[]
[]
[]
[]
[]
[]
[]
[]
[]
[]
[]
[]
[]
[]
[]
[]
[]
[]
[]
[]
[]
[]
[]
[]
[]
[]
[]
[]
[]
[]
[]
[]
[]
[]
[]
[]
[]
[]
[]
[]
[]
[]
[]
[]
[]
[]
[]
[]
[]
[]
[]
[]
[]
[]
[]
[]
[]
[]
[]
[]
[]
[]
[]
[]
[]
[]
[]
[]
[]
[]
[]
[]
[]
[]
[]
[]
[]
[]
[]
[]
[]
[]
[]
[]
[]
[]
[]
[]
[]
[]
[]
[]
[]
[]
[]
[]
[]
[]
[]
[]
[]
[]
[]
[]
[]
[]
[]
[]
[]
[]
[]
[]
[]
[]
[]
[]
[]
[]
[]
[]
[]
[]
[]
[]
[]
[]
[]
[]
[]
[]
[]
[]
[]
[]
[]
[]
[]
[]
[]
[]
[]
[]
[]
[]
[]
[]
[]
[]
[]
[]
[]
[]
[]
[]
[]
[]
[]
[]
[]
[]
[]
[]
[]
[]
[]
[]
[]
[]
[]
[]
[]
[]
[]
[]
[]
[]
[]
[]
[]
[]
[]
[]
[]
[]
[]
[]
[]
[]
[]
[]
[]
[]
[]
[]
[]
[]
[]
[]
[]
[]
[]
[]
[]
[]
[]
[]
[]
[]
[]
[]
[]
[]
[]
[]
[]
[]
[]
[]
[]
[]
[]
[]
[]
[]
[]
[]
[]
[]
[]
[]
[]
[]
[]
[]
[]
[]
[]
[]
[]
[]
[]
[]
[]
[]
[]
[]
[]
[]
[]
[]
[]
[]
[]
[]
[]
[]
[]
[]
[]
[]
[]
[]
[]
[]
[]
[]
[]
[]
[]
[]
[]
[]
[]
[]
[]
[]
[]
[]
[]
[]
[]
[]
[]
[]
[]
[]
[]
[]
[]
[]
[]
[]
[]
[]
[]
[]
[]
[]
[]
[]
[]
[]
[]
[]
[]
[]
[]
[]
[]
[]
[]
[]
[]
[]
[]
[]
[]
[]
[]
[]
[]
[]
[]
[]
[]
[]
[]
[]
[]
[]
[]
[]
[]
[]
[]
[]
[]
[]
[]
[]
[]
[]
[]
[]
[]
[]
[]
[]
[]
[]
[]
[]
[]
[]
[]
[]
[]
[]
[]
[]
[]
[]
[]
[]
[]
[]
[]
[]
[]
[]
[]
[]
[]
[]
[]
[]
[]
[]
[]
[]
[]
[]
[]
[]
[]
[]
[]
[]
[]
[]
[]
[]
[]
[]
[]
[]
[]
[]
[]
[]
[]
[]
[]
[]
[]
[]
[]
[]
[]
[]
[]
[]
[]
[]
[]
[]
[]
[]
[]
[]
[]
[]
[]
[]
[]
[]
[]
[]
[]
[]
[]
[]
[]
[]
[]
[]
[]
[]
[]
[]
[]
[]
[]
[]
[]
[]
[]
[]
[]
[]
[]
[]
[]
[]
[]
[]
[]
[]
[]
[]
[]
[]
[]
[]
[]
[]
[]
[]
[]
[]
[]
[]
[]
[]
[]
[]
[]
[]
[]
[]
[]
[]
[]
[]
[]
[]
[]
[]
[]
[]
[]
[]
[]
[]
[]
[]
[]
[]
[]
[]
[]
[]
[]
[]
[]
[]
[]
[]
[]
[]
[]
[]
[]
[]
[]
[]
[]
[]
[]
[]
[]
[]
[]
[]
[]
[]
[]
[]
[]
[]
[]
[]
[]
[]
[]
[]
[]
[]
[]
[]
[]
[]
[]
[]
[]
[]
[]
[]
[]
[]
[]
[]
[]
[]
[]
[]
[]
[]
[]
[]
[]
[]
[]
[]
[]
[]
[]
[]
[]
[]
[]
[]
[]
[]
[]
[]
[]
[]
[]
[]
[]
[]
[]
[]
[]
[]
[]
[]
[]
[]
[]
[]
[]
[]
[]
[]
[]
[]
[]
[]
[]
[]
[]
[]
[]
[]
[]
[]
[]
[]
[]
[]
[]
[]
[]
[]
[]
[]
[]
[]
[]
[]
[]
[]
[]
[]
[]
[]
[]
[]
[]
[]
[]
[]
[]
[]
[]
[]
[]
[]
[]
[]
[]
[]
[]
[]
[]
[]
[]
[]
[]
[]
[]
[]
[]
[]
[]
[]
[]
[]
[]
[]
[]
[]
[]
[]
[]
[]
[]
[]
[]
[]
[]
[]
[]
[]
[]
[]
[]
[]
[]
[]
[]
[]
[]
[]
[]
[]
[]
[]
[]
[]
[]
[]
[]
[]
[]
[]
[]
[]
[]
[]
[]
[]
[]
[]
[]
[]
[]
[]
[]
[]
[]
[]
[]
[]
[]
[]
[]
[]
[]
[]
[]
[]
[]
[]
[]
[]
[]
[]
[]
[]
[]
[]
[]
[]
[]
[]
[]
[]
[]
[]
[]
[]
[]
[]
[]
[]
[]
[]
[]
[]
[]
[]
[]
[]
[]
[]
[]
[]
[]
[]
[]
[]
[]
[]
[]
[]
[]
[]
[]
[]
[]
[]
[]
[]
[]
[]
[]
[]
[]
[]
[]
[]
[]
[]
[]
[]
[]
[]
[]
[]
[]
[]
[]
[]
[]
[]
[]
[]
[]
[]
[]
[]
[]
[]
[]
[]
[]
[]
[]
[]
[]
[]
[]
[]
[]
[]
[]
[]
[]
[]
[]
[]
[]
[]
[]
[]
[]
[]
[]
[]
[]
[]
[]
[]
[]
[]
[]
[]
[]
[]
[]
[]
[]
[]
[]
[]
[]
[]
[]
[]
[]
[]
[]
[]
[]
[]
[]
[]
[]
[]
[]
[]
[]
[]
[]
[]
[]
[]
[]
[]
[]
[]
[]
[]
[]
[]
[]
[]
[]
[]
[]
[]
[]
[]
[]
[]
[]
[]
[]
[]
[]
[]
[]
[]
[]
[]
[]
[]
[]
[]
[]
[]
[]
[]
[]
[]
[]
[]
[]
[]
[]
[]
[]
[]
[]
[]
[]
[]
[]
[]
[]
[]
[]
[]
[]
[]
[]
[]
[]
[]
[]
[]
[]
[]
[]
[]
[]
[]
[]
[]
[]
[]
[]
[]
[]
[]
[]
[]
[]
[]
[]
[]
[]
[]
[]
[]
[]
[]
[]
[]
[]
[]
[]
[]
[]
[]
[]
[]
[]
[]
[]
[]
[]
[]
[]
[]
[]
[]
[]
[]
[]
[]
[]
[]
[]
[]
[]
[]
[]
[]
[]
[]
[]
[]
[]
[]
[]
[]
[]
[]
[]
[]
[]
[]
[]
[]
[]
[]
[]
[]
[]
[]
[]
[]
[]
[]
[]
[]
[]
[]
[]
[]
[]
[]
[]
[]
[]
[]
[]
[]
[]
[]
[]
[]
[]
[]
[]
[]
[]
[]
[]
[]
[]
[]
[]
[]
[]
[]
[]
[]
[]
[]
[]
[]
[]
[]
[]
[]
[]
[]
[]
[]
[]
[]
[]
[]
[]
[]
[]
[]
[]
[]
[]
[]
[]
[]
[]
[]
[]
[]
[]
[]
[]
[]
[]
[]
[]
[]
[]
[]
[]
[]
[]
[]
[]
[]
[]
[]
[]
[]
[]
[]
[]
[]
[]
[]
[]
[]
[]
[]
[]
[]
[]
[]
[]
[]
[]
[]
[]
[]
[]
[]
[]
[]
[]
[]
[]
[]
[]
[]
[]
[]
[]
[]
[]
[]
[]
[]
[]
[]
[]
[]
[]
[]
[]
[]
[]
[]
[]
[]
[]
[]
[]
[]
[]
[]
[]
[]
[]
[]
[]
[]
[]
[]
[]
[]
[]
[]
[]
[]
[]
[]
[]
[]
[]
[]
[]
[]
[]
[]
[]
[]
[]
[]
[]
[]
[]
[]
[]
[]
[]
[]
[]
[]
[]
[]
[]
[]
[]
[]
[]
[]
[]
[]
[]
[]
[]
[]
[]
[]
[]
[]
[]
[]
[null,null,null,null,null,null,"Jilemnice  06.10.14"]

{"sheet":"1000","index":9,"n_rows":190,"n_cols":12,"rows_kept":190,"cut":false,"hidden":false,"merged":[]}
[null,null,"VÝKONY  2020 - 2021",null,null,null,"1000 M","CHLAPCI  6. -  9.  ROČ."]
[null,"stav  k ",{"$f":"TODAY()","v":"2021-06-28"},null,null,null,null,null,null,"19  - 20","18  - 19","17 - 18"]
[]
["1.",{"$f":"B101","v":"BOUKAL"},{"$f":"C101","v":"Jakub"},"6.A",null,0,0,0,null,"00:00:00","00:00:00","00:00:00"]
["2.",{"$f":"B102","v":"DEMČUK"},"Ilja","6.A",null,0,0,0,null,"00:00:00","00:00:00","00:00:00"]
["3.",{"$f":"B103","v":"FAISTAUER"},"Kryštof","6.A",null,0,0,0,null,"00:00:00","00:00:00","00:00:00"]
["4.",{"$f":"B104","v":"FRK"},"Matyáš","6.A",null,0,0,0,null,"00:00:00","00:00:00","00:00:00"]
["5.",{"$f":"B105","v":"HUBÁLOVSKÝ"},"Marek","6.A",null,0,0,0,null,"00:00:00","00:00:00","00:00:00"]
["6.",{"$f":"B106","v":"MAŘAS"},"Dominik","6.A",null,0,0,0,null,"00:00:00","00:00:00","00:00:00"]
["7.",{"$f":"B107","v":"MAŤÁTKO"},"Jakub","6.A",null,0,0,0,null,"00:00:00","00:00:00","00:00:00"]
["8.",{"$f":"B108","v":"MERY"},"Luboš","6.A",null,0,0,0,null,"00:00:00","00:00:00","00:00:00"]
["9.",{"$f":"B109","v":"NOVOTNÝ"},"Matěj","6.A",null,0,0,0,null,"00:00:00","00:00:00","00:00:00"]
["10.",{"$f":"B110","v":"ŘEHOŘEK"},"Vojtěch","6.A",null,0,0,0,null,"00:00:00","00:00:00","00:00:00"]
["11.",{"$f":"B111","v":"ŠÍR"},"Matyáš","6.A",null,0,0,0,null,"00:00:00","00:00:00","00:00:00"]
["12.",{"$f":"B112","v":"TORÁČ"},"Tomáš","6.A",null,0,0,0,null,"00:00:00","00:00:00","00:00:00"]
["13.",{"$f":"B113","v":"ULLMAN"},"Šimon","6.A",null,0,0,0,null,"00:00:00","00:00:00","00:00:00"]
["14.",{"$f":"B114","v":"VÁCLAVÍK"},"Ondřej","6.A",null,0,0,0,null,"00:00:00","00:00:00","00:00:00"]
["15.",{"$f":"B115","v":"AUERSWALD"},"Daniel","6.B",null,0,0,0,null,"00:00:00","00:00:00","00:00:00"]
["16.",{"$f":"B116","v":"BODLÁK"},"Vladimír","6.B",null,0,0,0,null,"00:00:00","00:00:00","00:00:00"]
["17.",{"$f":"B117","v":"BUDINA"},"Martin","6.B",null,0,0,0,null,"00:00:00","00:00:00","00:00:00"]
["18.",{"$f":"B118","v":"DVOŘÁK"},"Dominik","6.B",null,0,0,0,null,"00:00:00","00:00:00","00:00:00"]
["19.",{"$f":"B119","v":"FIŠERA"},"Vojtěch","6.B",null,0,0,0,null,"00:00:00","00:00:00","00:00:00"]
["20.",{"$f":"B120","v":"JINDŘIŠEK"},"Vít","6.B",null,0,0,0,null,"00:00:00","00:00:00","00:00:00"]
["21.",{"$f":"B121","v":"JIROUŠ"},"Matouš","6.B",null,0,0,0,null,"00:00:00","00:00:00","00:00:00"]
["22.",{"$f":"B122","v":"KERLE"},"Marek","6.B",null,0,0,0,null,"00:00:00","00:00:00","00:00:00"]
["23.",{"$f":"B123","v":"LUKEŠ"},"Jakub","6.B",null,0,0,0,null,"00:00:00","00:00:00","00:00:00"]
["24.",{"$f":"B124","v":"OTT"},"Matyáš","6.B",null,0,0,0,null,"00:00:00","00:00:00","00:00:00"]
["25.",{"$f":"B125","v":"POKORNÝ"},"Matyáš","6.B",null,0,0,0,null,"00:00:00","00:00:00","00:00:00"]
["26.",{"$f":"B126","v":"POLÁČEK"},"Matyáš","6.B",null,0,0,0,null,"00:00:00","00:00:00","00:00:00"]
["27.",{"$f":"B127","v":"SOUKUP"},"Patrik","6.B",null,0,0,0,null,"00:00:00","00:00:00","00:00:00"]
["28.",{"$f":"B128","v":"VALENTA"},"Jakub","6.B",null,0,0,0,null,"00:00:00","00:00:00","00:00:00"]
["29.",{"$f":"B129","v":"VRBATA"},"Dominik","6.B",null,0,0,0,null,"00:00:00","00:00:00","00:00:00"]
["30.",{"$f":"B130","v":"FEJKL"},"Jan","7.A",null,0,0,0,null,"00:00:00","00:00:00","00:00:00"]
["31.",{"$f":"B131","v":"KOTYK"},"Tadeáš","7.A",null,0,0,0,null,"00:00:00","00:00:00","00:00:00"]
["32.",{"$f":"B132","v":"KRAUSE"},"Tadeáš","7.A",null,0,0,0,null,"00:00:00","00:00:00","00:00:00"]
["33.",{"$f":"B133","v":"LEŠÁK"},"Martin","7.A",null,0,0,0,null,"00:00:00","00:00:00","00:00:00"]
["34.",{"$f":"B134","v":"NECHANICKÝ"},"David","7.A",null,0,0,0,null,"00:00:00","00:00:00","00:00:00"]
["35.",{"$f":"B135","v":"ŘEHOŘEK"},"Jan","7.A",null,0,0,0,null,"00:00:00","00:00:00","00:00:00"]
["36.",{"$f":"B136","v":"SOUKUP"},"Ondřej","7.A",null,0,0,0,null,"00:00:00","00:00:00","00:00:00"]
["37.",{"$f":"B137","v":"SPANILÝ"},"David","7.A",null,0,0,0,null,"00:00:00","00:00:00","00:00:00"]
["38.",{"$f":"B138","v":"ČADAN"},"Benjamín","7.B",null,0,0,0,null,"00:00:00","00:00:00","00:00:00"]
["39.",{"$f":"B139","v":"ČERNÝ"},"Michal","7.B",null,0,0,0,null,"00:00:00","00:00:00","00:00:00"]
["40.",{"$f":"B140","v":"DOLEJŠÍ"},"David","7.B",null,0,0,0,null,"00:00:00","00:00:00","00:00:00"]
["41.",{"$f":"B141","v":"NOVÁK"},"Matěj","7.B",null,0,0,0,null,"00:00:00","00:00:00","00:00:00"]
["42.",{"$f":"B142","v":"POVAŽANEC"},"Martin","7.B",null,0,0,0,null,"00:00:00","00:00:00","00:00:00"]
["43.",{"$f":"B143","v":"RICHTER"},"Jakub","7.B",null,0,0,0,null,"00:00:00","00:00:00","00:00:00"]
["44.",{"$f":"B144","v":"ROZUMEK"},"Adam","7.B",null,0,0,0,null,"00:00:00","00:00:00","00:00:00"]
["45.",{"$f":"B145","v":"VALENTA"},"František","7.B",null,0,0,0,null,"00:00:00","00:00:00","00:00:00"]
["46.",{"$f":"B146","v":"ZAPLATÍLEK"},"Josef","7.B",null,0,0,0,null,"00:00:00","00:00:00","00:00:00"]
["47.",{"$f":"B147","v":"ERBEN"},"Viktor","8.A",null,0,0,0,null,"00:00:00","00:05:36.210","00:00:00"]
["48.",{"$f":"B148","v":"FRANC"},"Daniel","8.A",null,0,0,0,null,"00:00:00","00:06:39.340","00:00:00"]
["49.",{"$f":"B149","v":"JINDŘIŠEK"},"Matyáš","8.A",null,0,0,0,null,"00:00:00","00:04:05.550","00:00:00"]
["50.",{"$f":"B150","v":"KOLAČNÝ"},"Štěpán","8.A",null,0,0,0,null,"00:00:00","00:04:52.390","00:00:00"]
["51.",{"$f":"B151","v":"KRISTAN"},"Jáchym","8.A",null,0,0,0,null,"00:00:00","00:07:05.290","00:00:00"]
["52.",{"$f":"B152","v":"NGUYEN"},"David","8.A",null,0,0,0,null,"00:00:00","00:00:00","00:00:00"]
["53.",{"$f":"B153","v":"NOVOTNÝ"},"Jan","8.A",null,0,0,0,null,"00:00:00","00:00:00","00:00:00"]
["54.",{"$f":"B154","v":"RÁB"},"Adam","8.A",null,0,0,0,null,"00:00:00","00:07:00.400","00:00:00"]
["55.",{"$f":"B155","v":"REPASKÝ"},"Jakub","8.A",null,0,0,0,null,"00:00:00","00:00:00","00:00:00"]
["56.",{"$f":"B156","v":"SKÁLA"},"Jan","8.A",null,0,0,0,null,"00:00:00","00:04:35.630","00:00:00"]
["57.",{"$f":"B157","v":"ŠPULÁK"},"Jakub","8.A",null,0,0,0,null,"00:00:00","00:06:33.510","00:00:00"]
["58.",{"$f":"B158","v":"VALENTA"},"Tomáš","8.A",null,0,0,0,null,"00:00:00","00:04:14.700","00:00:00"]
["59.",{"$f":"B159","v":"VANCL"},"Jiří","8.A",null,0,0,0,null,"00:00:00","00:06:33.070","00:00:00"]
["60.",{"$f":"B160","v":"VAŠÍČEK"},"David","8.A",null,0,0,0,null,"00:00:00","00:04:03.340","00:00:00"]
["61.",{"$f":"B161","v":"ZOUHAR"},"Ondřej","8.A",null,0,0,0,null,"00:00:00","00:04:44.700","00:00:00"]
["62.",{"$f":"B162","v":"ZUZÁNEK"},"Filip","8.A",null,0,0,0,null,"00:00:00","00:04:52.720","00:00:00"]
["63.",{"$f":"B163","v":"BRUMLICH"},"Jan","9.A",null,0,0,0,null,"00:00:00","00:04:14.700","00:04:25.940"]
["64.",{"$f":"B164","v":"BUCHAR"},"Jiří","9.A",null,0,0,0,null,"00:00:00","00:03:53.340","00:03:52.460"]
["65.",{"$f":"B165","v":"FAISTAVER"},"Jiří","9.A",null,0,0,0,null,"00:00:00","00:05:01.310","00:05:28.600"]
["66.",{"$f":"B166","v":"FAISTAVER"},"Roman","9.A",null,0,0,0,null,"00:00:00","00:04:37.410","00:04:50.690"]
["67.",{"$f":"B167","v":"FAJSTAVR"},"Jakub","9.A",null,0,0,0,null,"00:00:00","00:04:15.810","00:04:30.620"]
["68.",{"$f":"B168","v":"FARSKÝ"},"Vojtěch","9.A",null,0,0,0,null,"00:00:00","00:04:43.710","00:04:21.650"]
["69.",{"$f":"B169","v":"HOLUBEC"},"Lukáš","9.A",null,0,0,0,null,"00:00:00","00:05:06.280","00:05:01.120"]
["70.",{"$f":"B170","v":"CHAROUZ"},"Vojtěch","9.A",null,0,0,0,null,"00:00:00","00:04:52.340","00:04:51.310"]
["71.",{"$f":"B171","v":"IACCHERI"},"Carlo","9.A",null,0,0,0,null,"00:00:00","00:04:38.960","00:04:58.670"]
["72.",{"$f":"B172","v":"JOHN"},"Adrian","9.A",null,0,0,0,null,"00:00:00","00:07:04.790","00:00:00"]
["73.",{"$f":"B173","v":"KRČÍK"},"Matthew","9.A",null,0,0,0,null,"00:00:00","00:04:27.180","00:04:50.150"]
["74.",{"$f":"B174","v":"KRESAN"},"Vojtěch","9.A",null,0,0,0,null,"00:00:00","00:05:43.650","00:06:44.800"]
["75.",{"$f":"B175","v":"LÁNSKÝ"},"Vojtěch","9.A",null,0,0,0,null,"00:00:00","00:00:00","00:08:43.740"]
["76.",{"$f":"B176","v":"LEŠÁK"},"Lukáš","9.A",null,0,0,0,null,"00:00:00","00:06:07.790","00:06:20.780"]
["77.",{"$f":"B177","v":"RYPL"},"Matyáš","9.A",null,0,0,0,null,"00:00:00","00:04:09.760","00:04:42.750"]
["78.",{"$f":"B178","v":"VU TRAN DINH "},"Lukas","9.A",null,0,0,0,null,"00:00:00","00:00:00","00:00:00"]
["79.",{"$f":"B179","v":"DUFEK"},"Matyáš","9.B",null,0,0,0,null,"00:00:00","00:07:39.640","00:05:56.180"]
["80.",{"$f":"B180","v":"JEŽEK"},"Jonáš","9.B",null,0,0,0,null,"00:00:00","00:03:35.190","00:03:42.380"]
["81.",{"$f":"B181","v":"JEŽEK"},"Mikuláš","9.B",null,0,0,0,null,"00:00:00","00:03:48.850","00:03:56.660"]
["82.",{"$f":"B182","v":"NECHANICKÝ"},"Michal","9.B",null,0,0,0,null,"00:00:00","00:03:47.550","00:03:46.270"]
["83.",{"$f":"B183","v":"PAULÍČEK"},"Jakub","9.B",null,0,0,0,null,"00:00:00","00:04:12.600","00:04:27.300"]
["84.",{"$f":"B184","v":"POHOŘALÝ"},"Jakub","9.B",null,0,0,0,null,"00:00:00","00:03:44.300","00:03:49.250"]
["85.",{"$f":"B185","v":"POSPÍCHAL"},"Daniel","9.B",null,0,0,0,null,"00:00:00","00:03:51.920","00:04:11"]
["86.",{"$f":"B186","v":"SOUKUP"},"Lukáš","9.B",null,0,0,0,null,"00:00:00","00:04:45.010","00:04:50.960"]
["87.",{"$f":"B187","v":"VANCL"},"Jan","9.B",null,0,0,0,null,"00:03:42.030","00:04:18.730","00:04:29.680"]
["88.",{"$f":"B188","v":"VANCL"},"Lukáš","9.B",null,0,0,0,null,"00:03:57.460","00:04:21.110","00:04:14.250"]
["89.",{"$f":"B189","v":"VAŠÍK"},"Jiří","9.B",null,0,0,0,null,"00:00:00","00:00:00","00:04:22.590"]
["90.",{"$f":"B190","v":"VOHNOUT"},"Zdeněk","9.B",null,0,0,0,null,"00:03:35.980","00:03:50.700","00:03:58.370"]
[]
[]
[]
[]
[]
[]
[]
[null,"BOUKAL","Jakub","6.A",null,null,null,{"$f":"IF(E101=0,0,(100 - 313216 / E101 + 3453830 / E101*2 - 169860000 / E101*3 + 321980000/ E101*4)/400000000+3)","v":0}]
[null,"DEMČUK","Ilja","6.A",null,null,null,{"$f":"IF(E102=0,0,(100 - 313216 / E102 + 3453830 / E102*2 - 169860000 / E102*3 + 321980000/ E102*4)/400000000+3)","v":0}]
[null,"FAISTAUER","Kryštof","6.A",null,null,null,{"$f":"IF(E103=0,0,(100 - 313216 / E103 + 3453830 / E103*2 - 169860000 / E103*3 + 321980000/ E103*4)/400000000+3)","v":0}]
[null,"FRK","Matyáš","6.A",null,null,null,{"$f":"IF(E104=0,0,(100 - 313216 / E104 + 3453830 / E104*2 - 169860000 / E104*3 + 321980000/ E104*4)/400000000+3)","v":0}]
[null,"HUBÁLOVSKÝ","Marek","6.A",null,null,null,{"$f":"IF(E105=0,0,(100 - 313216 / E105 + 3453830 / E105*2 - 169860000 / E105*3 + 321980000/ E105*4)/400000000+3)","v":0}]
[null,"MAŘAS","Dominik","6.A",null,null,null,{"$f":"IF(E106=0,0,(100 - 313216 / E106 + 3453830 / E106*2 - 169860000 / E106*3 + 321980000/ E106*4)/400000000+3)","v":0}]
[null,"MAŤÁTKO","Jakub","6.A",null,null,null,{"$f":"IF(E107=0,0,(100 - 313216 / E107 + 3453830 / E107*2 - 169860000 / E107*3 + 321980000/ E107*4)/400000000+3)","v":0}]
[null,"MERY","Luboš","6.A",null,null,null,{"$f":"IF(E108=0,0,(100 - 313216 / E108 + 3453830 / E108*2 - 169860000 / E108*3 + 321980000/ E108*4)/400000000+3)","v":0}]
[null,"NOVOTNÝ","Matěj","6.A",null,null,null,{"$f":"IF(E109=0,0,(100 - 313216 / E109 + 3453830 / E109*2 - 169860000 / E109*3 + 321980000/ E109*4)/400000000+3)","v":0}]
[null,"ŘEHOŘEK","Vojtěch","6.A",null,null,null,{"$f":"IF(E110=0,0,(100 - 313216 / E110 + 3453830 / E110*2 - 169860000 / E110*3 + 321980000/ E110*4)/400000000+3)","v":0}]
[null,"ŠÍR","Matyáš","6.A",null,null,null,{"$f":"IF(E111=0,0,(100 - 313216 / E111 + 3453830 / E111*2 - 169860000 / E111*3 + 321980000/ E111*4)/400000000+3)","v":0}]
[null,"TORÁČ","Tomáš","6.A",null,null,null,{"$f":"IF(E112=0,0,(100 - 313216 / E112 + 3453830 / E112*2 - 169860000 / E112*3 + 321980000/ E112*4)/400000000+3)","v":0}]
[null,"ULLMAN","Šimon","6.A",null,null,null,{"$f":"IF(E113=0,0,(100 - 313216 / E113 + 3453830 / E113*2 - 169860000 / E113*3 + 321980000/ E113*4)/400000000+3)","v":0}]
[null,"VÁCLAVÍK","Ondřej","6.A",null,null,null,{"$f":"IF(E114=0,0,(100 - 313216 / E114 + 3453830 / E114*2 - 169860000 / E114*3 + 321980000/ E114*4)/400000000+3)","v":0}]
[null,"AUERSWALD","Daniel","6.B",null,null,null,{"$f":"IF(E115=0,0,(100 - 313216 / E115 + 3453830 / E115*2 - 169860000 / E115*3 + 321980000/ E115*4)/400000000+3)","v":0}]
[null,"BODLÁK","Vladimír","6.B",null,null,null,{"$f":"IF(E116=0,0,(100 - 313216 / E116 + 3453830 / E116*2 - 169860000 / E116*3 + 321980000/ E116*4)/400000000+3)","v":0}]
[null,"BUDINA","Martin","6.B",null,null,null,{"$f":"IF(E117=0,0,(100 - 313216 / E117 + 3453830 / E117*2 - 169860000 / E117*3 + 321980000/ E117*4)/400000000+3)","v":0}]
[null,"DVOŘÁK","Dominik","6.B",null,null,null,{"$f":"IF(E118=0,0,(100 - 313216 / E118 + 3453830 / E118*2 - 169860000 / E118*3 + 321980000/ E118*4)/400000000+3)","v":0}]
[null,"FIŠERA","Vojtěch","6.B",null,null,null,{"$f":"IF(E119=0,0,(100 - 313216 / E119 + 3453830 / E119*2 - 169860000 / E119*3 + 321980000/ E119*4)/400000000+3)","v":0}]
[null,"JINDŘIŠEK","Vít","6.B",null,null,null,{"$f":"IF(E120=0,0,(100 - 313216 / E120 + 3453830 / E120*2 - 169860000 / E120*3 + 321980000/ E120*4)/400000000+3)","v":0}]
[null,"JIROUŠ","Matouš","6.B",null,null,null,{"$f":"IF(E121=0,0,(100 - 313216 / E121 + 3453830 / E121*2 - 169860000 / E121*3 + 321980000/ E121*4)/400000000+3)","v":0}]
[null,"KERLE","Marek","6.B",null,null,null,{"$f":"IF(E122=0,0,(100 - 313216 / E122 + 3453830 / E122*2 - 169860000 / E122*3 + 321980000/ E122*4)/400000000+3)","v":0}]
[null,"LUKEŠ","Jakub","6.B",null,null,null,{"$f":"IF(E123=0,0,(100 - 313216 / E123 + 3453830 / E123*2 - 169860000 / E123*3 + 321980000/ E123*4)/400000000+3)","v":0}]
[null,"OTT","Matyáš","6.B",null,null,null,{"$f":"IF(E124=0,0,(100 - 313216 / E124 + 3453830 / E124*2 - 169860000 / E124*3 + 321980000/ E124*4)/400000000+3)","v":0}]
[null,"POKORNÝ","Matyáš","6.B",null,null,null,{"$f":"IF(E125=0,0,(100 - 313216 / E125 + 3453830 / E125*2 - 169860000 / E125*3 + 321980000/ E125*4)/400000000+3)","v":0}]
[null,"POLÁČEK","Matyáš","6.B",null,null,null,{"$f":"IF(E126=0,0,(100 - 313216 / E126 + 3453830 / E126*2 - 169860000 / E126*3 + 321980000/ E126*4)/400000000+3)","v":0}]
[null,"SOUKUP","Patrik","6.B",null,null,null,{"$f":"IF(E127=0,0,(100 - 313216 / E127 + 3453830 / E127*2 - 169860000 / E127*3 + 321980000/ E127*4)/400000000+3)","v":0}]
[null,"VALENTA","Jakub","6.B",null,null,null,{"$f":"IF(E128=0,0,(100 - 313216 / E128 + 3453830 / E128*2 - 169860000 / E128*3 + 321980000/ E128*4)/400000000+3)","v":0}]
[null,"VRBATA","Dominik","6.B",null,null,null,{"$f":"IF(E129=0,0,(100 - 313216 / E129 + 3453830 / E129*2 - 169860000 / E129*3 + 321980000/ E129*4)/400000000+3)","v":0}]
[null,"FEJKL","Jan","7.A",null,null,null,{"$f":"IF(E130=0,0,(100 - 313216 / E130 + 3453830 / E130*2 - 169860000 / E130*3 + 321980000/ E130*4)/400000000+3)","v":0}]
[null,"KOTYK","Tadeáš","7.A",null,null,null,{"$f":"IF(E131=0,0,(100 - 313216 / E131 + 3453830 / E131*2 - 169860000 / E131*3 + 321980000/ E131*4)/400000000+3)","v":0}]
[null,"KRAUSE","Tadeáš","7.A",null,null,null,{"$f":"IF(E132=0,0,(100 - 313216 / E132 + 3453830 / E132*2 - 169860000 / E132*3 + 321980000/ E132*4)/400000000+3)","v":0}]
[null,"LEŠÁK","Martin","7.A",null,null,null,{"$f":"IF(E133=0,0,(100 - 313216 / E133 + 3453830 / E133*2 - 169860000 / E133*3 + 321980000/ E133*4)/400000000+3)","v":0}]
[null,"NECHANICKÝ","David","7.A",null,null,null,{"$f":"IF(E134=0,0,(100 - 313216 / E134 + 3453830 / E134*2 - 169860000 / E134*3 + 321980000/ E134*4)/400000000+3)","v":0}]
[null,"ŘEHOŘEK","Jan","7.A",null,null,null,{"$f":"IF(E135=0,0,(100 - 313216 / E135 + 3453830 / E135*2 - 169860000 / E135*3 + 321980000/ E135*4)/400000000+3)","v":0}]
[null,"SOUKUP","Ondřej","7.A",null,null,null,{"$f":"IF(E136=0,0,(100 - 313216 / E136 + 3453830 / E136*2 - 169860000 / E136*3 + 321980000/ E136*4)/400000000+3)","v":0}]
[null,"SPANILÝ","David","7.A",null,null,null,{"$f":"IF(E137=0,0,(100 - 313216 / E137 + 3453830 / E137*2 - 169860000 / E137*3 + 321980000/ E137*4)/400000000+3)","v":0}]
[null,"ČADAN","Benjamín","7.B",null,null,null,{"$f":"IF(E138=0,0,(100 - 313216 / E138 + 3453830 / E138*2 - 169860000 / E138*3 + 321980000/ E138*4)/400000000+3)","v":0}]
[null,"ČERNÝ","Michal","7.B",null,null,null,{"$f":"IF(E139=0,0,(100 - 313216 / E139 + 3453830 / E139*2 - 169860000 / E139*3 + 321980000/ E139*4)/400000000+3)","v":0}]
[null,"DOLEJŠÍ","David","7.B",null,null,null,{"$f":"IF(E140=0,0,(100 - 313216 / E140 + 3453830 / E140*2 - 169860000 / E140*3 + 321980000/ E140*4)/400000000+3)","v":0}]
[null,"NOVÁK","Matěj","7.B",null,null,null,{"$f":"IF(E141=0,0,(100 - 313216 / E141 + 3453830 / E141*2 - 169860000 / E141*3 + 321980000/ E141*4)/400000000+3)","v":0}]
[null,"POVAŽANEC","Martin","7.B",null,null,null,{"$f":"IF(E142=0,0,(100 - 313216 / E142 + 3453830 / E142*2 - 169860000 / E142*3 + 321980000/ E142*4)/400000000+3)","v":0}]
[null,"RICHTER","Jakub","7.B",null,null,null,{"$f":"IF(E143=0,0,(100 - 313216 / E143 + 3453830 / E143*2 - 169860000 / E143*3 + 321980000/ E143*4)/400000000+3)","v":0}]
[null,"ROZUMEK","Adam","7.B",null,null,null,{"$f":"IF(E144=0,0,(100 - 313216 / E144 + 3453830 / E144*2 - 169860000 / E144*3 + 321980000/ E144*4)/400000000+3)","v":0}]
[null,"VALENTA","František","7.B",null,null,null,{"$f":"IF(E145=0,0,(100 - 313216 / E145 + 3453830 / E145*2 - 169860000 / E145*3 + 321980000/ E145*4)/400000000+3)","v":0}]
[null,"ZAPLATÍLEK","Josef","7.B",null,null,null,{"$f":"IF(E146=0,0,(100 - 313216 / E146 + 3453830 / E146*2 - 169860000 / E146*3 + 321980000/ E146*4)/400000000+3)","v":0}]
[null,"ERBEN","Viktor","8.A",null,null,null,{"$f":"IF(E147=0,0,(100 - 313216 / E147 + 3453830 / E147*2 - 169860000 / E147*3 + 321980000/ E147*4)/400000000+3)","v":0},null,null,"00:05:36.210"]
[null,"FRANC","Daniel","8.A",null,null,null,{"$f":"IF(E148=0,0,(100 - 313216 / E148 + 3453830 / E148*2 - 169860000 / E148*3 + 321980000/ E148*4)/400000000+3)","v":0},null,null,"00:06:39.340"]
[null,"JINDŘIŠEK","Matyáš","8.A",null,null,null,{"$f":"IF(E149=0,0,(100 - 313216 / E149 + 3453830 / E149*2 - 169860000 / E149*3 + 321980000/ E149*4)/400000000+3)","v":0},null,null,"00:04:05.550"]
[null,"KOLAČNÝ","Štěpán","8.A",null,null,null,{"$f":"IF(E150=0,0,(100 - 313216 / E150 + 3453830 / E150*2 - 169860000 / E150*3 + 321980000/ E150*4)/400000000+3)","v":0},null,null,"00:04:52.390"]
[null,"KRISTAN","Jáchym","8.A",null,null,null,{"$f":"IF(E151=0,0,(100 - 313216 / E151 + 3453830 / E151*2 - 169860000 / E151*3 + 321980000/ E151*4)/400000000+3)","v":0},null,null,"00:07:05.290"]
[null,"NGUYEN","David","8.A"]
[null,"NOVOTNÝ","Jan","8.A",null,null,null,{"$f":"IF(E153=0,0,(100 - 313216 / E153 + 3453830 / E153*2 - 169860000 / E153*3 + 321980000/ E153*4)/400000000+3)","v":0}]
[null,"RÁB","Adam","8.A",null,null,null,{"$f":"IF(E154=0,0,(100 - 313216 / E154 + 3453830 / E154*2 - 169860000 / E154*3 + 321980000/ E154*4)/400000000+3)","v":0},null,null,"00:07:00.400"]
[null,"REPASKÝ","Jakub","8.A",null,null,null,{"$f":"IF(E155=0,0,(100 - 313216 / E155 + 3453830 / E155*2 - 169860000 / E155*3 + 321980000/ E155*4)/400000000+3)","v":0}]
[null,"SKÁLA","Jan","8.A",null,null,null,{"$f":"IF(E156=0,0,(100 - 313216 / E156 + 3453830 / E156*2 - 169860000 / E156*3 + 321980000/ E156*4)/400000000+3)","v":0},null,null,"00:04:35.630"]
[null,"ŠPULÁK","Jakub","8.A",null,null,null,{"$f":"IF(E157=0,0,(100 - 313216 / E157 + 3453830 / E157*2 - 169860000 / E157*3 + 321980000/ E157*4)/400000000+3)","v":0},null,null,"00:06:33.510"]
[null,"VALENTA","Tomáš","8.A",null,null,null,{"$f":"IF(E158=0,0,(100 - 313216 / E158 + 3453830 / E158*2 - 169860000 / E158*3 + 321980000/ E158*4)/400000000+3)","v":0},null,null,"00:04:14.700"]
[null,"VANCL","Jiří","8.A",null,null,null,{"$f":"IF(E159=0,0,(100 - 313216 / E159 + 3453830 / E159*2 - 169860000 / E159*3 + 321980000/ E159*4)/400000000+3)","v":0},null,null,"00:06:33.070"]
[null,"VAŠÍČEK","David","8.A",null,null,null,{"$f":"IF(E160=0,0,(100 - 313216 / E160 + 3453830 / E160*2 - 169860000 / E160*3 + 321980000/ E160*4)/400000000+3)","v":0},null,null,"00:04:03.340"]
[null,"ZOUHAR","Ondřej","8.A",null,null,null,{"$f":"IF(E161=0,0,(100 - 313216 / E161 + 3453830 / E161*2 - 169860000 / E161*3 + 321980000/ E161*4)/400000000+3)","v":0},null,null,"00:04:44.700"]
[null,"ZUZÁNEK","Filip","8.A",null,null,null,{"$f":"IF(E162=0,0,(100 - 313216 / E162 + 3453830 / E162*2 - 169860000 / E162*3 + 321980000/ E162*4)/400000000+3)","v":0},null,null,"00:04:52.720"]
[null,"BRUMLICH","Jan","9.A",null,null,null,{"$f":"IF(E163=0,0,(100 - 313216 / E163 + 3453830 / E163*2 - 169860000 / E163*3 + 321980000/ E163*4)/400000000+3)","v":0},null,null,"00:04:14.700","00:04:25.940"]
[null,"BUCHAR","Jiří","9.A",null,null,null,{"$f":"IF(E164=0,0,(100 - 313216 / E164 + 3453830 / E164*2 - 169860000 / E164*3 + 321980000/ E164*4)/400000000+3)","v":0},null,null,"00:03:53.340","00:03:52.460"]
[null,"FAISTAVER","Jiří","9.A",null,null,null,{"$f":"IF(E165=0,0,(100 - 313216 / E165 + 3453830 / E165*2 - 169860000 / E165*3 + 321980000/ E165*4)/400000000+3)","v":0},null,null,"00:05:01.310","00:05:28.600"]
[null,"FAISTAVER","Roman","9.A",null,null,null,{"$f":"IF(E166=0,0,(100 - 313216 / E166 + 3453830 / E166*2 - 169860000 / E166*3 + 321980000/ E166*4)/400000000+3)","v":0},null,null,"00:04:37.410","00:04:50.690"]
[null,"FAJSTAVR","Jakub","9.A",null,null,null,{"$f":"IF(E167=0,0,(100 - 313216 / E167 + 3453830 / E167*2 - 169860000 / E167*3 + 321980000/ E167*4)/400000000+3)","v":0},null,null,"00:04:15.810","00:04:30.620"]
[null,"FARSKÝ","Vojtěch","9.A",null,null,null,{"$f":"IF(E168=0,0,(100 - 313216 / E168 + 3453830 / E168*2 - 169860000 / E168*3 + 321980000/ E168*4)/400000000+3)","v":0},null,null,"00:04:43.710","00:04:21.650"]
[null,"HOLUBEC","Lukáš","9.A",null,null,null,{"$f":"IF(E169=0,0,(100 - 313216 / E169 + 3453830 / E169*2 - 169860000 / E169*3 + 321980000/ E169*4)/400000000+3)","v":0},null,null,"00:05:06.280","00:05:01.120"]
[null,"CHAROUZ","Vojtěch","9.A",null,null,null,{"$f":"IF(E170=0,0,(100 - 313216 / E170 + 3453830 / E170*2 - 169860000 / E170*3 + 321980000/ E170*4)/400000000+3)","v":0},null,null,"00:04:52.340","00:04:51.310"]
[null,"IACCHERI","Carlo","9.A",null,null,null,{"$f":"IF(E171=0,0,(100 - 313216 / E171 + 3453830 / E171*2 - 169860000 / E171*3 + 321980000/ E171*4)/400000000+3)","v":0},null,null,"00:04:38.960","00:04:58.670"]
[null,"JOHN","Adrian","9.A",null,null,null,{"$f":"IF(E172=0,0,(100 - 313216 / E172 + 3453830 / E172*2 - 169860000 / E172*3 + 321980000/ E172*4)/400000000+3)","v":0},null,null,"00:07:04.790"]
[null,"KRČÍK","Matthew","9.A",null,null,null,{"$f":"IF(E173=0,0,(100 - 313216 / E173 + 3453830 / E173*2 - 169860000 / E173*3 + 321980000/ E173*4)/400000000+3)","v":0},null,null,"00:04:27.180","00:04:50.150"]
[null,"KRESAN","Vojtěch","9.A",null,null,null,{"$f":"IF(E174=0,0,(100 - 313216 / E174 + 3453830 / E174*2 - 169860000 / E174*3 + 321980000/ E174*4)/400000000+3)","v":0},null,null,"00:05:43.650","00:06:44.800"]
[null,"LÁNSKÝ","Vojtěch","9.A",null,null,null,{"$f":"IF(E175=0,0,(100 - 313216 / E175 + 3453830 / E175*2 - 169860000 / E175*3 + 321980000/ E175*4)/400000000+3)","v":0},null,null,null,"00:08:43.740"]
[null,"LEŠÁK","Lukáš","9.A",null,null,null,{"$f":"IF(E176=0,0,(100 - 313216 / E176 + 3453830 / E176*2 - 169860000 / E176*3 + 321980000/ E176*4)/400000000+3)","v":0},null,null,"00:06:07.790","00:06:20.780"]
[null,"RYPL","Matyáš","9.A",null,null,null,{"$f":"IF(E177=0,0,(100 - 313216 / E177 + 3453830 / E177*2 - 169860000 / E177*3 + 321980000/ E177*4)/400000000+3)","v":0},null,null,"00:04:09.760","00:04:42.750"]
[null,"VU TRAN DINH ","Lukas","9.A"]
[null,"DUFEK","Matyáš","9.B",null,null,null,{"$f":"IF(E179=0,0,(100 - 313216 / E179 + 3453830 / E179*2 - 169860000 / E179*3 + 321980000/ E179*4)/400000000+3)","v":0},null,null,"00:07:39.640","00:05:56.180"]
[null,"JEŽEK","Jonáš","9.B",null,null,null,{"$f":"IF(E180=0,0,(100 - 313216 / E180 + 3453830 / E180*2 - 169860000 / E180*3 + 321980000/ E180*4)/400000000+3)","v":0},null,null,"00:03:35.190","00:03:42.380"]
[null,"JEŽEK","Mikuláš","9.B",null,null,null,{"$f":"IF(E181=0,0,(100 - 313216 / E181 + 3453830 / E181*2 - 169860000 / E181*3 + 321980000/ E181*4)/400000000+3)","v":0},null,null,"00:03:48.850","00:03:56.660"]
[null,"NECHANICKÝ","Michal","9.B",null,null,null,{"$f":"IF(E182=0,0,(100 - 313216 / E182 + 3453830 / E182*2 - 169860000 / E182*3 + 321980000/ E182*4)/400000000+3)","v":0},null,null,"00:03:47.550","00:03:46.270"]
[null,"PAULÍČEK","Jakub","9.B",null,null,null,{"$f":"IF(E183=0,0,(100 - 313216 / E183 + 3453830 / E183*2 - 169860000 / E183*3 + 321980000/ E183*4)/400000000+3)","v":0},null,null,"00:04:12.600","00:04:27.300"]
[null,"POHOŘALÝ","Jakub","9.B",null,null,null,{"$f":"IF(E184=0,0,(100 - 313216 / E184 + 3453830 / E184*2 - 169860000 / E184*3 + 321980000/ E184*4)/400000000+3)","v":0},null,null,"00:03:44.300","00:03:49.250"]
[null,"POSPÍCHAL","Daniel","9.B",null,null,null,{"$f":"IF(E185=0,0,(100 - 313216 / E185 + 3453830 / E185*2 - 169860000 / E185*3 + 321980000/ E185*4)/400000000+3)","v":0},null,null,"00:03:51.920","00:04:11"]
[null,"SOUKUP","Lukáš","9.B",null,null,null,{"$f":"IF(E186=0,0,(100 - 313216 / E186 + 3453830 / E186*2 - 169860000 / E186*3 + 321980000/ E186*4)/400000000+3)","v":0},null,null,"00:04:45.010","00:04:50.960"]
[null,"VANCL","Jan","9.B",null,null,null,{"$f":"IF(E187=0,0,(100 - 313216 / E187 + 3453830 / E187*2 - 169860000 / E187*3 + 321980000/ E187*4)/400000000+3)","v":0},null,"00:03:42.030","00:04:18.730","00:04:29.680"]
[null,"VANCL","Lukáš","9.B",null,null,null,{"$f":"IF(E188=0,0,(100 - 313216 / E188 + 3453830 / E188*2 - 169860000 / E188*3 + 321980000/ E188*4)/400000000+3)","v":0},null,"00:03:57.460","00:04:21.110","00:04:14.250"]
[null,"VAŠÍK","Jiří","9.B",null,null,null,{"$f":"IF(E189=0,0,(100 - 313216 / E189 + 3453830 / E189*2 - 169860000 / E189*3 + 321980000/ E189*4)/400000000+3)","v":0},null,null,null,"00:04:22.590"]
[null,"VOHNOUT","Zdeněk","9.B",null,null,null,{"$f":"IF(E190=0,0,(100 - 313216 / E190 + 3453830 / E190*2 - 169860000 / E190*3 + 321980000/ E190*4)/400000000+3)","v":0},null,"00:03:35.980","00:03:50.700","00:03:58.370"]

{"sheet":"DÁLKA","index":10,"n_rows":190,"n_cols":12,"rows_kept":190,"cut":false,"hidden":false,"merged":[]}
[null,null,"VÝKONY  2020 - 2021",null,null,null,"DÁLKA","CHLAPCI  6. -  9.  ROČ."]
[null,"stav  k ",{"$f":"TODAY()","v":"2021-06-28"},null,null,null,null,null,null,"19  - 20","18  - 19","17 - 18"]
[]
["1.",{"$f":"B101","v":"BOUKAL"},{"$f":"C101","v":"Jakub"},"6.A",245,null,"Jilemnice  23.09.20",474.24,null,0,0,0]
["2.",{"$f":"B102","v":"DEMČUK"},"Ilja","6.A",311,null,"Jilemnice  16.09.20",572.05200000000002,null,0,0,0]
["3.",{"$f":"B103","v":"FAISTAUER"},"Kryštof","6.A",366,null,"Jilemnice  16.09.20",653.56200000000001,null,0,0,0]
["4.",{"$f":"B104","v":"FRK"},"Matyáš","6.A",282,null,"Jilemnice  16.09.20",529.07399999999996,null,0,0,0]
["5.",{"$f":"B105","v":"HUBÁLOVSKÝ"},"Marek","6.A",383,null,"Jilemnice  16.09.20",678.75599999999997,null,0,0,0]
["6.",{"$f":"B106","v":"MAŘAS"},"Dominik","6.A",293,null,"Jilemnice  23.09.20",545.37599999999998,null,0,0,0]
["7.",{"$f":"B107","v":"MAŤÁTKO"},"Jakub","6.A",0,null,0,0,null,0,0,0]
["8.",{"$f":"B108","v":"MERY"},"Luboš","6.A",0,null,0,0,null,0,0,0]
["9.",{"$f":"B109","v":"NOVOTNÝ"},"Matěj","6.A",281,null,"Jilemnice  16.09.20",527.59199999999998,null,0,0,0]
["10.",{"$f":"B110","v":"ŘEHOŘEK"},"Vojtěch","6.A",296,null,"Jilemnice  16.09.20",549.822,null,0,0,0]
["11.",{"$f":"B111","v":"ŠÍR"},"Matyáš","6.A",283,null,"Jilemnice  16.09.20",530.55600000000004,null,0,0,0]
["12.",{"$f":"B112","v":"TORÁČ"},"Tomáš","6.A",0,null,0,0,null,0,0,0]
["13.",{"$f":"B113","v":"ULLMAN"},"Šimon","6.A",353,null,"Jilemnice  16.09.20",634.29600000000005,null,0,0,0]
["14.",{"$f":"B114","v":"VÁCLAVÍK"},"Ondřej","6.A",309,null,"Jilemnice  16.09.20",569.08799999999997,null,0,0,0]
["15.",{"$f":"B115","v":"AUERSWALD"},"Daniel","6.B",348,null,"Jilemnice  18.09.20",626.88599999999997,null,0,0,0]
["16.",{"$f":"B116","v":"BODLÁK"},"Vladimír","6.B",0,null,0,0,null,0,0,0]
["17.",{"$f":"B117","v":"BUDÍN"},"Martin","6.B",327,null,"Jilemnice  18.09.20",595.76400000000001,null,0,0,0]
["18.",{"$f":"B118","v":"DVOŘÁK"},"Dominik","6.B",247,null,"Jilemnice  18.09.20",477.20400000000001,null,0,0,0]
["19.",{"$f":"B119","v":"FIŠERA"},"Vojtěch","6.B",323,null,"Jilemnice  18.09.20",589.83600000000001,null,0,0,0]
["20.",{"$f":"B120","v":"JINDŘIŠEK"},"Vít","6.B",381,null,"Jilemnice  18.09.20",675.79200000000003,null,0,0,0]
["21.",{"$f":"B121","v":"JIROUŠ"},"Matouš","6.B",356,null,"Jilemnice  18.09.20",638.74199999999996,null,0,0,0]
["22.",{"$f":"B122","v":"KERLE"},"Marek","6.B",321,null,"Jilemnice  18.09.20",586.87199999999996,null,0,0,0]
["23.",{"$f":"B123","v":"LUKEŠ"},"Jakub","6.B",304,null,"Jilemnice  18.09.20",561.678,null,0,0,0]
["24.",{"$f":"B124","v":"OTT"},"Matyáš","6.B",307,null,"Jilemnice  18.09.20",566.12400000000002,null,0,0,0]
["25.",{"$f":"B125","v":"POKORNÝ"},"Matyáš","6.B",0,null,0,0,null,0,0,0]
["26.",{"$f":"B126","v":"POLÁČEK"},"Matyáš","6.B",282,null,"Jilemnice  18.09.20",529.07399999999996,null,0,0,0]
["27.",{"$f":"B127","v":"SOUKUP"},"Patrik","6.B",332,null,"Jilemnice  18.09.20",603.17399999999998,null,0,0,0]
["28.",{"$f":"B128","v":"VALENTA"},"Jakub","6.B",0,null,0,0,null,0,0,0]
["29.",{"$f":"B129","v":"VRBATA"},"Dominik","6.B",339,null,"Jilemnice  18.09.20",613.548,null,0,0,0]
["30.",{"$f":"B130","v":"FEJKL"},"Jan","7.A",465,null,"Jilemnice  18.09.20",800.28,null,389,0,0]
["31.",{"$f":"B131","v":"KOTYK"},"Tadeáš","7.A",296,null,"Jilemnice  18.09.20",549.822,null,305,0,0]
["32.",{"$f":"B132","v":"KRAUSE"},"Tadeáš","7.A",357,null,"Jilemnice  18.09.20",640.22400000000005,null,324,0,0]
["33.",{"$f":"B133","v":"LEŠÁK"},"Martin","7.A",0,null,0,0,null,307,0,0]
["34.",{"$f":"B134","v":"NECHANICKÝ"},"David","7.A",371,null,"Jilemnice  18.09.20",660.97199999999998,null,356,0,0]
["35.",{"$f":"B135","v":"ŘEHOŘEK"},"Jan","7.A",362,null,"Jilemnice  18.09.20",647.63400000000001,null,333,0,0]
["36.",{"$f":"B136","v":"SOUKUP"},"Ondřej","7.A",314,null,"Jilemnice  18.09.20",576.49800000000005,null,341,0,0]
["37.",{"$f":"B137","v":"SPANILÝ"},"David","7.A",0,null,0,0,null,336,0,0]
["38.",{"$f":"B138","v":"ČADAN"},"Benjamín","7.B",332,null,"Jilemnice  18.09.20",603.17399999999998,null,292,0,0]
["39.",{"$f":"B139","v":"ČERNÝ"},"Michal","7.B",282,null,"Jilemnice  18.09.20",529.07399999999996,null,294,0,0]
["40.",{"$f":"B140","v":"DOLEJŠÍ"},"David","7.B",303,null,"Jilemnice  18.09.20",560.19600000000003,null,287,0,0]
["41.",{"$f":"B141","v":"NOVÁK"},"Matěj","7.B",322,null,"Jilemnice  18.09.20",588.35400000000004,null,306,0,0]
["42.",{"$f":"B142","v":"POVAŽANEC"},"Martin","7.B",371,null,"Jilemnice  18.09.20",660.97199999999998,null,310,0,0]
["43.",{"$f":"B143","v":"RICHTER"},"Jakub","7.B",0,null,0,0,null,266,0,0]
["44.",{"$f":"B144","v":"ROZUMEK"},"Adam","7.B",273,null,"Jilemnice  18.09.20",515.73599999999999,null,238,0,0]
["45.",{"$f":"B145","v":"VALENTA"},"František","7.B",273,null,"Jilemnice  18.09.20",515.73599999999999,null,271,0,0]
["46.",{"$f":"B146","v":"ZAPLATÍLEK"},"Josef","7.B",0,null,0,0,null,333,0,0]
["47.",{"$f":"B147","v":"ERBEN"},"Viktor","8.A",0,null,0,0,null,0,225,0]
["48.",{"$f":"B148","v":"FRANC"},"Daniel","8.A",306,null,"Jilemnice  16.09.20",564.64199999999994,null,0,245,0]
["49.",{"$f":"B149","v":"JINDŘIŠEK"},"Matyáš","8.A",0,null,0,0,null,339,250,0]
["50.",{"$f":"B150","v":"KOLAČNÝ"},"Štěpán","8.A",307,null,"Jilemnice  16.09.20",566.12400000000002,null,308,230,0]
["51.",{"$f":"B151","v":"KRISTAN"},"Jáchym","8.A",0,null,0,0,null,0,175,0]
["52.",{"$f":"B152","v":"NGUYEN"},"David","8.A",381,null,"Jilemnice  16.09.20",0,null,350,0,0]
["53.",{"$f":"B153","v":"NOVOTNÝ"},"Jan","8.A",372,null,"Jilemnice  16.09.20",662.45399999999995,null,390,0,0]
["54.",{"$f":"B154","v":"RÁB"},"Adam","8.A",284,null,"Jilemnice  16.09.20",532.03800000000001,null,283,206,0]
["55.",{"$f":"B155","v":"REPASKÝ"},"Jakub","8.A",0,null,0,0,null,0,315,0]
["56.",{"$f":"B156","v":"SKÁLA"},"Jan","8.A",408,null,"Jilemnice  16.09.20",715.80600000000004,null,321,200,0]
["57.",{"$f":"B157","v":"ŠPULÁK"},"Jakub","8.A",348,null,"Jilemnice  16.09.20",626.88599999999997,null,322,215,0]
["58.",{"$f":"B158","v":"VALENTA"},"Tomáš","8.A",485,null,"Jilemnice  16.09.20",829.92,null,445,345,0]
["59.",{"$f":"B159","v":"VANCL"},"Jiří","8.A",0,null,0,0,null,297,182,0]
["60.",{"$f":"B160","v":"VAŠÍČEK"},"David","8.A",349,null,"Jilemnice  16.09.20",628.36799999999994,null,0,270,0]
["61.",{"$f":"B161","v":"ZOUHAR"},"Ondřej","8.A",373,null,"Jilemnice  16.09.20",663.93600000000004,null,373,305,0]
["62.",{"$f":"B162","v":"ZUZÁNEK"},"Filip","8.A",0,null,0,0,null,324,271,0]
["63.",{"$f":"B163","v":"BRUMLICH"},"Jan","9.A",0,null,0,0,null,383,371,334]
["64.",{"$f":"B164","v":"BUCHAR"},"Jiří","9.A",415,null,"Jilemnice  16.09.20",726.18,null,412,371,322]
["65.",{"$f":"B165","v":"FAISTAVER"},"Jiří","9.A",407,null,"Jilemnice  16.09.20",714.32399999999996,null,373,284,315]
["66.",{"$f":"B166","v":"FAISTAVER"},"Roman","9.A",413,null,"Jilemnice  16.09.20",723.21600000000001,null,460,366,341]
["67.",{"$f":"B167","v":"FAJSTAVR"},"Jakub","9.A",383,null,"Jilemnice  16.09.20",678.75599999999997,null,0,347,277]
["68.",{"$f":"B168","v":"FARSKÝ"},"Vojtěch","9.A",430,null,"Jilemnice  16.09.20",748.41,null,405,360,337]
["69.",{"$f":"B169","v":"HOLUBEC"},"Lukáš","9.A",331,null,"Jilemnice  16.09.20",601.69200000000001,null,0,270,284]
["70.",{"$f":"B170","v":"CHAROUZ"},"Vojtěch","9.A",405,null,"Jilemnice  16.09.20",711.36,null,372,309,292]
["71.",{"$f":"B171","v":"IACCHERI"},"Carlo","9.A",339,null,"Jilemnice  16.09.20",613.548,null,339,0,274]
["72.",{"$f":"B172","v":"JOHN"},"Adrian","9.A",208,null,"Jilemnice  16.09.20",419.40600000000001,null,256,251,170]
["73.",{"$f":"B173","v":"KRČÍK"},"Matthew","9.A",351,null,"Jilemnice  16.09.20",631.33199999999999,null,355,329,289]
["74.",{"$f":"B174","v":"KRESAN"},"Vojtěch","9.A",336,null,"Jilemnice  16.09.20",609.10199999999998,null,339,321,260]
["75.",{"$f":"B175","v":"LÁNSKÝ"},"Vojtěch","9.A",0,null,0,0,null,250,219,151]
["76.",{"$f":"B176","v":"LEŠÁK"},"Lukáš","9.A",243,null,"Jilemnice  16.09.20",471.27600000000001,null,249,0,177]
["77.",{"$f":"B177","v":"RYPL"},"Matyáš","9.A",416,null,"Jilemnice  16.09.20",727.66200000000003,null,375,334,280]
["78.",{"$f":"B178","v":"VU TRAN DINH "},"Lukas","9.A",377,null,"Jilemnice  16.09.20",669.86400000000003,null,370,0,0]
["79.",{"$f":"B179","v":"DUFEK"},"Matyáš","9.B",0,null,0,0,null,0,0,230]
["80.",{"$f":"B180","v":"JEŽEK"},"Jonáš","9.B",0,null,0,0,null,469,393,440]
["81.",{"$f":"B181","v":"JEŽEK"},"Mikuláš","9.B",0,null,0,0,null,443,411,406]
["82.",{"$f":"B182","v":"NECHANICKÝ"},"Michal","9.B",385,null,"Jilemnice  16.09.20",681.72,null,372,380,260]
["83.",{"$f":"B183","v":"PAULÍČEK"},"Jakub","9.B",0,null,0,0,null,392,348,293]
["84.",{"$f":"B184","v":"POHOŘALÝ"},"Jakub","9.B",445,null,"Jilemnice  16.09.20",770.64,null,402,388,338]
["85.",{"$f":"B185","v":"POSPÍCHAL"},"Daniel","9.B",389,null,"Jilemnice  16.09.20",687.64800000000002,null,393,362,351]
["86.",{"$f":"B186","v":"SOUKUP"},"Lukáš","9.B",424,null,"Jilemnice  16.09.20",739.51800000000003,null,412,332,343]
["87.",{"$f":"B187","v":"VANCL"},"Jan","9.B",424,null,"Jilemnice  16.09.20",739.51800000000003,null,443,377,376]
["88.",{"$f":"B188","v":"VANCL"},"Lukáš","9.B",415,null,"Jilemnice  16.09.20",726.18,null,432,410,356]
["89.",{"$f":"B189","v":"VAŠÍK"},"Jiří","9.B",380,null,"Jilemnice  16.09.20",674.31,null,353,324,297]
["90.",{"$f":"B190","v":"VOHNOUT"},"Zdeněk","9.B",489,null,"Jilemnice  16.09.20",835.84799999999996,null,490,432,406]
[]
[]
[]
[]
[]
[]
[]
[null,"BOUKAL","Jakub","6.A",245,null,"Jilemnice  23.09.20",{"$f":"IF(E101=0,0,(E101+75)*1.482)","v":474.24}]
[null,"DEMČUK","Ilja","6.A",311,null,"Jilemnice  16.09.20",{"$f":"IF(E102=0,0,(E102+75)*1.482)","v":572.05200000000002}]
[null,"FAISTAUER","Kryštof","6.A",366,null,"Jilemnice  16.09.20",{"$f":"IF(E103=0,0,(E103+75)*1.482)","v":653.56200000000001}]
[null,"FRK","Matyáš","6.A",282,null,"Jilemnice  16.09.20",{"$f":"IF(E104=0,0,(E104+75)*1.482)","v":529.07399999999996}]
[null,"HUBÁLOVSKÝ","Marek","6.A",383,null,"Jilemnice  16.09.20",{"$f":"IF(E105=0,0,(E105+75)*1.482)","v":678.75599999999997}]
[null,"MAŘAS","Dominik","6.A",293,null,"Jilemnice  23.09.20",{"$f":"IF(E106=0,0,(E106+75)*1.482)","v":545.37599999999998}]
[null,"MAŤÁTKO","Jakub","6.A",null,null,null,{"$f":"IF(E107=0,0,(E107+75)*1.482)","v":0}]
[null,"MERY","Luboš","6.A",null,null,null,{"$f":"IF(E108=0,0,(E108+75)*1.482)","v":0}]
[null,"NOVOTNÝ","Matěj","6.A",281,null,"Jilemnice  16.09.20",{"$f":"IF(E109=0,0,(E109+75)*1.482)","v":527.59199999999998}]
[null,"ŘEHOŘEK","Vojtěch","6.A",296,null,"Jilemnice  16.09.20",{"$f":"IF(E110=0,0,(E110+75)*1.482)","v":549.822}]
[null,"ŠÍR","Matyáš","6.A",283,null,"Jilemnice  16.09.20",{"$f":"IF(E111=0,0,(E111+75)*1.482)","v":530.55600000000004}]
[null,"TORÁČ","Tomáš","6.A",null,null,null,{"$f":"IF(E112=0,0,(E112+75)*1.482)","v":0}]
[null,"ULLMAN","Šimon","6.A",353,null,"Jilemnice  16.09.20",{"$f":"IF(E113=0,0,(E113+75)*1.482)","v":634.29600000000005}]
[null,"VÁCLAVÍK","Ondřej","6.A",309,null,"Jilemnice  16.09.20",{"$f":"IF(E114=0,0,(E114+75)*1.482)","v":569.08799999999997}]
[null,"AUERSWALD","Daniel","6.B",348,null,"Jilemnice  18.09.20",{"$f":"IF(E115=0,0,(E115+75)*1.482)","v":626.88599999999997}]
[null,"BODLÁK","Vladimír","6.B",null,null,null,{"$f":"IF(E116=0,0,(E116+75)*1.482)","v":0}]
[null,"BUDÍN","Martin","6.B",327,null,"Jilemnice  18.09.20",{"$f":"IF(E117=0,0,(E117+75)*1.482)","v":595.76400000000001}]
[null,"DVOŘÁK","Dominik","6.B",247,null,"Jilemnice  18.09.20",{"$f":"IF(E118=0,0,(E118+75)*1.482)","v":477.20400000000001}]
[null,"FIŠERA","Vojtěch","6.B",323,null,"Jilemnice  18.09.20",{"$f":"IF(E119=0,0,(E119+75)*1.482)","v":589.83600000000001}]
[null,"JINDŘIŠEK","Vít","6.B",381,null,"Jilemnice  18.09.20",{"$f":"IF(E120=0,0,(E120+75)*1.482)","v":675.79200000000003}]
[null,"JIROUŠ","Matouš","6.B",356,null,"Jilemnice  18.09.20",{"$f":"IF(E121=0,0,(E121+75)*1.482)","v":638.74199999999996}]
[null,"KERLE","Marek","6.B",321,null,"Jilemnice  18.09.20",{"$f":"IF(E122=0,0,(E122+75)*1.482)","v":586.87199999999996}]
[null,"LUKEŠ","Jakub","6.B",304,null,"Jilemnice  18.09.20",{"$f":"IF(E123=0,0,(E123+75)*1.482)","v":561.678}]
[null,"OTT","Matyáš","6.B",307,null,"Jilemnice  18.09.20",{"$f":"IF(E124=0,0,(E124+75)*1.482)","v":566.12400000000002}]
[null,"POKORNÝ","Matyáš","6.B",null,null,null,{"$f":"IF(E125=0,0,(E125+75)*1.482)","v":0}]
[null,"POLÁČEK","Matyáš","6.B",282,null,"Jilemnice  18.09.20",{"$f":"IF(E126=0,0,(E126+75)*1.482)","v":529.07399999999996}]
[null,"SOUKUP","Patrik","6.B",332,null,"Jilemnice  18.09.20",{"$f":"IF(E127=0,0,(E127+75)*1.482)","v":603.17399999999998}]
[null,"VALENTA","Jakub","6.B",null,null,null,{"$f":"IF(E128=0,0,(E128+75)*1.482)","v":0}]
[null,"VRBATA","Dominik","6.B",339,null,"Jilemnice  18.09.20",{"$f":"IF(E129=0,0,(E129+75)*1.482)","v":613.548}]
[null,"FEJKL","Jan","7.A",465,null,"Jilemnice  18.09.20",{"$f":"IF(E130=0,0,(E130+75)*1.482)","v":800.28},null,389]
[null,"KOTYK","Tadeáš","7.A",296,null,"Jilemnice  18.09.20",{"$f":"IF(E131=0,0,(E131+75)*1.482)","v":549.822},null,305]
[null,"KRAUSE","Tadeáš","7.A",357,null,"Jilemnice  18.09.20",{"$f":"IF(E132=0,0,(E132+75)*1.482)","v":640.22400000000005},null,324]
[null,"LEŠÁK","Martin","7.A",null,null,null,{"$f":"IF(E133=0,0,(E133+75)*1.482)","v":0},null,307]
[null,"NECHANICKÝ","David","7.A",371,null,"Jilemnice  18.09.20",{"$f":"IF(E134=0,0,(E134+75)*1.482)","v":660.97199999999998},null,356]
[null,"ŘEHOŘEK","Jan","7.A",362,null,"Jilemnice  18.09.20",{"$f":"IF(E135=0,0,(E135+75)*1.482)","v":647.63400000000001},null,333]
[null,"SOUKUP","Ondřej","7.A",314,null,"Jilemnice  18.09.20",{"$f":"IF(E136=0,0,(E136+75)*1.482)","v":576.49800000000005},null,341]
[null,"SPANILÝ","David","7.A",null,null,null,{"$f":"IF(E137=0,0,(E137+75)*1.482)","v":0},null,336]
[null,"ČADAN","Benjamín","7.B",332,null,"Jilemnice  18.09.20",{"$f":"IF(E138=0,0,(E138+75)*1.482)","v":603.17399999999998},null,292]
[null,"ČERNÝ","Michal","7.B",282,null,"Jilemnice  18.09.20",{"$f":"IF(E139=0,0,(E139+75)*1.482)","v":529.07399999999996},null,294]
[null,"DOLEJŠÍ","David","7.B",303,null,"Jilemnice  18.09.20",{"$f":"IF(E140=0,0,(E140+75)*1.482)","v":560.19600000000003},null,287]
[null,"NOVÁK","Matěj","7.B",322,null,"Jilemnice  18.09.20",{"$f":"IF(E141=0,0,(E141+75)*1.482)","v":588.35400000000004},null,306]
[null,"POVAŽANEC","Martin","7.B",371,null,"Jilemnice  18.09.20",{"$f":"IF(E142=0,0,(E142+75)*1.482)","v":660.97199999999998},null,310]
[null,"RICHTER","Jakub","7.B",null,null,null,{"$f":"IF(E143=0,0,(E143+75)*1.482)","v":0},null,266]
[null,"ROZUMEK","Adam","7.B",273,null,"Jilemnice  18.09.20",{"$f":"IF(E144=0,0,(E144+75)*1.482)","v":515.73599999999999},null,238]
[null,"VALENTA","František","7.B",273,null,"Jilemnice  18.09.20",{"$f":"IF(E145=0,0,(E145+75)*1.482)","v":515.73599999999999},null,271]
[null,"ZAPLATÍLEK","Josef","7.B",null,null,null,{"$f":"IF(E146=0,0,(E146+75)*1.482)","v":0},null,333]
[null,"ERBEN","Viktor","8.A",null,null,null,{"$f":"IF(E147=0,0,(E147+75)*1.482)","v":0},null,null,225]
[null,"FRANC","Daniel","8.A",306,null,"Jilemnice  16.09.20",{"$f":"IF(E148=0,0,(E148+75)*1.482)","v":564.64199999999994},null,null,245]
[null,"JINDŘIŠEK","Matyáš","8.A",null,null,null,{"$f":"IF(E149=0,0,(E149+75)*1.482)","v":0},null,339,250]
[null,"KOLAČNÝ","Štěpán","8.A",307,null,"Jilemnice  16.09.20",{"$f":"IF(E150=0,0,(E150+75)*1.482)","v":566.12400000000002},null,308,230]
[null,"KRISTAN","Jáchym","8.A",null,null,null,{"$f":"IF(E151=0,0,(E151+75)*1.482)","v":0},null,null,175]
[null,"NGUYEN","David","8.A",381,null,"Jilemnice  16.09.20",null,null,350]
[null,"NOVOTNÝ","Jan","8.A",372,null,"Jilemnice  16.09.20",{"$f":"IF(E153=0,0,(E153+75)*1.482)","v":662.45399999999995},null,390]
[null,"RÁB","Adam","8.A",284,null,"Jilemnice  16.09.20",{"$f":"IF(E154=0,0,(E154+75)*1.482)","v":532.03800000000001},null,283,206]
[null,"REPASKÝ","Jakub","8.A",null,null,null,{"$f":"IF(E155=0,0,(E155+75)*1.482)","v":0},null,null,315]
[null,"SKÁLA","Jan","8.A",408,null,"Jilemnice  16.09.20",{"$f":"IF(E156=0,0,(E156+75)*1.482)","v":715.80600000000004},null,321,200]
[null,"ŠPULÁK","Jakub","8.A",348,null,"Jilemnice  16.09.20",{"$f":"IF(E157=0,0,(E157+75)*1.482)","v":626.88599999999997},null,322,215]
[null,"VALENTA","Tomáš","8.A",485,null,"Jilemnice  16.09.20",{"$f":"IF(E158=0,0,(E158+75)*1.482)","v":829.92},null,445,345]
[null,"VANCL","Jiří","8.A",null,null,null,{"$f":"IF(E159=0,0,(E159+75)*1.482)","v":0},null,297,182]
[null,"VAŠÍČEK","David","8.A",349,null,"Jilemnice  16.09.20",{"$f":"IF(E160=0,0,(E160+75)*1.482)","v":628.36799999999994},null,null,270]
[null,"ZOUHAR","Ondřej","8.A",373,null,"Jilemnice  16.09.20",{"$f":"IF(E161=0,0,(E161+75)*1.482)","v":663.93600000000004},null,373,305]
[null,"ZUZÁNEK","Filip","8.A",null,null,null,{"$f":"IF(E162=0,0,(E162+75)*1.482)","v":0},null,324,271]
[null,"BRUMLICH","Jan","9.A",null,null,null,{"$f":"IF(E163=0,0,(E163+75)*1.482)","v":0},null,383,371,334]
[null,"BUCHAR","Jiří","9.A",415,null,"Jilemnice  16.09.20",{"$f":"IF(E164=0,0,(E164+75)*1.482)","v":726.18},null,412,371,322]
[null,"FAISTAVER","Jiří","9.A",407,null,"Jilemnice  16.09.20",{"$f":"IF(E165=0,0,(E165+75)*1.482)","v":714.32399999999996},null,373,284,315]
[null,"FAISTAVER","Roman","9.A",413,null,"Jilemnice  16.09.20",{"$f":"IF(E166=0,0,(E166+75)*1.482)","v":723.21600000000001},null,460,366,341]
[null,"FAJSTAVR","Jakub","9.A",383,null,"Jilemnice  16.09.20",{"$f":"IF(E167=0,0,(E167+75)*1.482)","v":678.75599999999997},null,null,347,277]
[null,"FARSKÝ","Vojtěch","9.A",430,null,"Jilemnice  16.09.20",{"$f":"IF(E168=0,0,(E168+75)*1.482)","v":748.41},null,405,360,337]
[null,"HOLUBEC","Lukáš","9.A",331,null,"Jilemnice  16.09.20",{"$f":"IF(E169=0,0,(E169+75)*1.482)","v":601.69200000000001},null,null,270,284]
[null,"CHAROUZ","Vojtěch","9.A",405,null,"Jilemnice  16.09.20",{"$f":"IF(E170=0,0,(E170+75)*1.482)","v":711.36},null,372,309,292]
[null,"IACCHERI","Carlo","9.A",339,null,"Jilemnice  16.09.20",{"$f":"IF(E171=0,0,(E171+75)*1.482)","v":613.548},null,339,null,274]
[null,"JOHN","Adrian","9.A",208,null,"Jilemnice  16.09.20",{"$f":"IF(E172=0,0,(E172+75)*1.482)","v":419.40600000000001},null,256,251,170]
[null,"KRČÍK","Matthew","9.A",351,null,"Jilemnice  16.09.20",{"$f":"IF(E173=0,0,(E173+75)*1.482)","v":631.33199999999999},null,355,329,289]
[null,"KRESAN","Vojtěch","9.A",336,null,"Jilemnice  16.09.20",{"$f":"IF(E174=0,0,(E174+75)*1.482)","v":609.10199999999998},null,339,321,260]
[null,"LÁNSKÝ","Vojtěch","9.A",null,null,null,{"$f":"IF(E175=0,0,(E175+75)*1.482)","v":0},null,250,219,151]
[null,"LEŠÁK","Lukáš","9.A",243,null,"Jilemnice  16.09.20",{"$f":"IF(E176=0,0,(E176+75)*1.482)","v":471.27600000000001},null,249,null,177]
[null,"RYPL","Matyáš","9.A",416,null,"Jilemnice  16.09.20",{"$f":"IF(E177=0,0,(E177+75)*1.482)","v":727.66200000000003},null,375,334,280]
[null,"VU TRAN DINH ","Lukas","9.A",377,null,"Jilemnice  16.09.20",{"$f":"IF(E178=0,0,(E178+75)*1.482)","v":669.86400000000003},null,370,0,0]
[null,"DUFEK","Matyáš","9.B",null,null,null,{"$f":"IF(E179=0,0,(E179+75)*1.482)","v":0},null,null,null,230]
[null,"JEŽEK","Jonáš","9.B",null,null,null,{"$f":"IF(E180=0,0,(E180+75)*1.482)","v":0},null,469,393,440]
[null,"JEŽEK","Mikuláš","9.B",null,null,null,{"$f":"IF(E181=0,0,(E181+75)*1.482)","v":0},null,443,411,406]
[null,"NECHANICKÝ","Michal","9.B",385,null,"Jilemnice  16.09.20",{"$f":"IF(E182=0,0,(E182+75)*1.482)","v":681.72},null,372,380,260]
[null,"PAULÍČEK","Jakub","9.B",null,null,null,{"$f":"IF(E183=0,0,(E183+75)*1.482)","v":0},null,392,348,293]
[null,"POHOŘALÝ","Jakub","9.B",445,null,"Jilemnice  16.09.20",{"$f":"IF(E184=0,0,(E184+75)*1.482)","v":770.64},null,402,388,338]
[null,"POSPÍCHAL","Daniel","9.B",389,null,"Jilemnice  16.09.20",{"$f":"IF(E185=0,0,(E185+75)*1.482)","v":687.64800000000002},null,393,362,351]
[null,"SOUKUP","Lukáš","9.B",424,null,"Jilemnice  16.09.20",{"$f":"IF(E186=0,0,(E186+75)*1.482)","v":739.51800000000003},null,412,332,343]
[null,"VANCL","Jan","9.B",424,null,"Jilemnice  16.09.20",{"$f":"IF(E187=0,0,(E187+75)*1.482)","v":739.51800000000003},null,443,377,376]
[null,"VANCL","Lukáš","9.B",415,null,"Jilemnice  16.09.20",{"$f":"IF(E188=0,0,(E188+75)*1.482)","v":726.18},null,432,410,356]
[null,"VAŠÍK","Jiří","9.B",380,null,"Jilemnice  16.09.20",{"$f":"IF(E189=0,0,(E189+75)*1.482)","v":674.31},null,353,324,297]
[null,"VOHNOUT","Zdeněk","9.B",489,null,"Jilemnice  16.09.20",{"$f":"IF(E190=0,0,(E190+75)*1.482)","v":835.84799999999996},null,490,432,406]

{"sheet":"VÝŠKA","index":11,"n_rows":190,"n_cols":12,"rows_kept":190,"cut":false,"hidden":false,"merged":[]}
[null,null,"VÝKONY  2020 - 2021",null,null,null,"VÝŠKA","CHLAPCI  6. -  9.  ROČ."]
[null,"stav  k ",{"$f":"TODAY()","v":"2021-06-28"},null,null,null,null,null,null,"19  - 20","18  - 19","17 - 18"]
[]
["1.",{"$f":"B101","v":"BOUKAL"},{"$f":"C101","v":"Jakub"},"6.A",0,null,0,0,null,0,0,0]
["2.",{"$f":"B102","v":"DEMČUK"},"Ilja","6.A",103,null,"Jilemnice  04.06.21",571.16000000000008,null,0,0,0]
["3.",{"$f":"B103","v":"FAISTAUER"},"Kryštof","6.A",113,null,"Jilemnice  04.06.21",628.36000000000013,null,0,0,0]
["4.",{"$f":"B104","v":"FRK"},"Matyáš","6.A",75,null,"Jilemnice  23.09.20",411,null,0,0,0]
["5.",{"$f":"B105","v":"HUBÁLOVSKÝ"},"Marek","6.A",88,null,"Jilemnice  23.09.20",485.36000000000007,null,0,0,0]
["6.",{"$f":"B106","v":"MAŘAS"},"Dominik","6.A",0,null,0,0,null,0,0,0]
["7.",{"$f":"B107","v":"MAŤÁTKO"},"Jakub","6.A",0,null,0,0,null,0,0,0]
["8.",{"$f":"B108","v":"MERY"},"Luboš","6.A",83,null,"Jilemnice  04.06.21",456.76000000000005,null,0,0,0]
["9.",{"$f":"B109","v":"NOVOTNÝ"},"Matěj","6.A",80,null,"Jilemnice  23.09.20",439.6,null,0,0,0]
["10.",{"$f":"B110","v":"ŘEHOŘEK"},"Vojtěch","6.A",88,null,"Jilemnice  04.06.21",485.36000000000007,null,0,0,0]
["11.",{"$f":"B111","v":"ŠÍR"},"Matyáš","6.A",87,null,"Jilemnice  04.06.21",479.64000000000004,null,0,0,0]
["12.",{"$f":"B112","v":"TORÁČ"},"Tomáš","6.A",0,null,0,0,null,0,0,0]
["13.",{"$f":"B113","v":"ULLMAN"},"Šimon","6.A",80,null,"Jilemnice  23.09.20",439.6,null,0,0,0]
["14.",{"$f":"B114","v":"VÁCLAVÍK"},"Ondřej","6.A",98,null,"Jilemnice  04.06.21",542.56000000000006,null,0,0,0]
["15.",{"$f":"B115","v":"AUERSWALD"},"Daniel","6.B",113,null,"Jilemnice  04.06.21",628.36000000000013,null,0,0,0]
["16.",{"$f":"B116","v":"BODLÁK"},"Vladimír","6.B",113,null,"Jilemnice  04.06.21",628.36000000000013,null,0,0,0]
["17.",{"$f":"B117","v":"BUDÍN"},"Martin","6.B",93,null,"Jilemnice  04.06.21",513.96,null,0,0,0]
["18.",{"$f":"B118","v":"DVOŘÁK"},"Dominik","6.B",75,null,"Jilemnice  23.09.20",411,null,0,0,0]
["19.",{"$f":"B119","v":"FIŠERA"},"Vojtěch","6.B",98,null,"Jilemnice  04.06.21",542.56000000000006,null,0,0,0]
["20.",{"$f":"B120","v":"JINDŘIŠEK"},"Vít","6.B",80,null,"Jilemnice  23.09.20",439.6,null,0,0,0]
["21.",{"$f":"B121","v":"JIROUŠ"},"Matouš","6.B",80,null,"Jilemnice  23.09.20",439.6,null,0,0,0]
["22.",{"$f":"B122","v":"KERLE"},"Marek","6.B",103,null,"Jilemnice  04.06.21",571.16000000000008,null,0,0,0]
["23.",{"$f":"B123","v":"LUKEŠ"},"Jakub","6.B",98,null,"Jilemnice  04.06.21",542.56000000000006,null,0,0,0]
["24.",{"$f":"B124","v":"OTT"},"Matyáš","6.B",98,null,"Jilemnice  04.06.21",542.56000000000006,null,0,0,0]
["25.",{"$f":"B125","v":"POKORNÝ"},"Matyáš","6.B",103,null,"Jilemnice  04.06.21",571.16000000000008,null,0,0,0]
["26.",{"$f":"B126","v":"POLÁČEK"},"Matyáš","6.B",93,null,"Jilemnice  04.06.21",513.96,null,0,0,0]
["27.",{"$f":"B127","v":"SOUKUP"},"Patrik","6.B",98,null,"Jilemnice  04.06.21",542.56000000000006,null,0,0,0]
["28.",{"$f":"B128","v":"VALENTA"},"Jakub","6.B",113,null,"Jilemnice  04.06.21",628.36000000000013,null,0,0,0]
["29.",{"$f":"B129","v":"VRBATA"},"Dominik","6.B",103,null,"Jilemnice  04.06.21",571.16000000000008,null,0,0,0]
["30.",{"$f":"B130","v":"FEJKL"},"Jan","7.A",141,null,"Jilemnice  07.06.21",788.5200000000001,null,115,0,0]
["31.",{"$f":"B131","v":"KOTYK"},"Tadeáš","7.A",105,null,"Jilemnice  07.06.21",582.60000000000014,null,0,0,0]
["32.",{"$f":"B132","v":"KRAUSE"},"Tadeáš","7.A",110,null,"Jilemnice  07.06.21",611.20000000000005,null,0,0,0]
["33.",{"$f":"B133","v":"LEŠÁK"},"Martin","7.A",99,null,"Jilemnice  07.06.21",548.28000000000009,null,0,0,0]
["34.",{"$f":"B134","v":"NECHANICKÝ"},"David","7.A",115,null,"Jilemnice  07.06.21",639.80000000000007,null,0,0,0]
["35.",{"$f":"B135","v":"ŘEHOŘEK"},"Jan","7.A",120,null,"Jilemnice  07.06.21",668.4,null,105,0,0]
["36.",{"$f":"B136","v":"SOUKUP"},"Ondřej","7.A",105,null,"Jilemnice  07.06.21",582.60000000000014,null,0,0,0]
["37.",{"$f":"B137","v":"SPANILÝ"},"David","7.A",0,null,0,0,null,0,0,0]
["38.",{"$f":"B138","v":"ČADAN"},"Benjamín","7.B",109,null,"Jilemnice  04.06.21",605.48,null,0,0,0]
["39.",{"$f":"B139","v":"ČERNÝ"},"Michal","7.B",99,null,"Jilemnice  07.06.21",548.28000000000009,null,0,0,0]
["40.",{"$f":"B140","v":"DOLEJŠÍ"},"David","7.B",115,null,"Jilemnice  07.06.21",639.80000000000007,null,0,0,0]
["41.",{"$f":"B141","v":"NOVÁK"},"Matěj","7.B",105,null,"Jilemnice  07.06.21",582.60000000000014,null,0,0,0]
["42.",{"$f":"B142","v":"POVAŽANEC"},"Martin","7.B",110,null,"Jilemnice  23.09.20",611.20000000000005,null,0,0,0]
["43.",{"$f":"B143","v":"RICHTER"},"Jakub","7.B",0,null,0,0,null,0,0,0]
["44.",{"$f":"B144","v":"ROZUMEK"},"Adam","7.B",99,null,"Jilemnice  07.06.21",548.28000000000009,null,0,0,0]
["45.",{"$f":"B145","v":"VALENTA"},"František","7.B",105,null,"Jilemnice  07.06.21",582.60000000000014,null,0,0,0]
["46.",{"$f":"B146","v":"ZAPLATÍLEK"},"Josef","7.B",105,null,"Jilemnice  07.06.21",582.60000000000014,null,0,0,0]
["47.",{"$f":"B147","v":"ERBEN"},"Viktor","8.A",109,null,"Jilemnice  07.06.21",605.48,null,0,90,0]
["48.",{"$f":"B148","v":"FRANC"},"Daniel","8.A",109,null,"Jilemnice  07.06.21",605.48,null,0,90,0]
["49.",{"$f":"B149","v":"JINDŘIŠEK"},"Matyáš","8.A",113,null,"Jilemnice  07.06.21",628.36000000000013,null,0,0,0]
["50.",{"$f":"B150","v":"KOLAČNÝ"},"Štěpán","8.A",99,null,"Jilemnice  07.06.21",548.28000000000009,null,0,105,0]
["51.",{"$f":"B151","v":"KRISTAN"},"Jáchym","8.A",88,null,"Jilemnice  07.06.21",485.36000000000007,null,0,0,0]
["52.",{"$f":"B152","v":"NGUYEN"},"David","8.A",113,null,"Jilemnice  07.06.21",628.36000000000013,null,0,0,0]
["53.",{"$f":"B153","v":"NOVOTNÝ"},"Jan","8.A",113,null,"Jilemnice  07.06.21",628.36000000000013,null,0,100,0]
["54.",{"$f":"B154","v":"RÁB"},"Adam","8.A",92,null,"Jilemnice  07.06.21",508.24,null,0,90,0]
["55.",{"$f":"B155","v":"REPASKÝ"},"Jakub","8.A",113,null,"Jilemnice  07.06.21",628.36000000000013,null,0,110,0]
["56.",{"$f":"B156","v":"SKÁLA"},"Jan","8.A",113,null,"Jilemnice  07.06.21",628.36000000000013,null,0,90,0]
["57.",{"$f":"B157","v":"ŠPULÁK"},"Jakub","8.A",113,null,"Jilemnice  07.06.21",628.36000000000013,null,0,90,0]
["58.",{"$f":"B158","v":"VALENTA"},"Tomáš","8.A",113,null,"Jilemnice  07.06.21",628.36000000000013,null,0,130,0]
["59.",{"$f":"B159","v":"VANCL"},"Jiří","8.A",109,null,"Jilemnice  07.06.21",605.48,null,0,90,0]
["60.",{"$f":"B160","v":"VAŠÍČEK"},"David","8.A",0,null,0,0,null,0,110,0]
["61.",{"$f":"B161","v":"ZOUHAR"},"Ondřej","8.A",109,null,"Jilemnice  07.06.21",605.48,null,0,110,0]
["62.",{"$f":"B162","v":"ZUZÁNEK"},"Filip","8.A",113,null,"Jilemnice  07.06.21",628.36000000000013,null,0,105,0]
["63.",{"$f":"B163","v":"BRUMLICH"},"Jan","9.A",133,null,"Jilemnice  07.06.21",742.7600000000001,null,0,0,105]
["64.",{"$f":"B164","v":"BUCHAR"},"Jiří","9.A",128,null,"Jilemnice  07.06.21",714.16000000000008,null,0,105,95]
["65.",{"$f":"B165","v":"FAISTAVER"},"Jiří","9.A",118,null,"Jilemnice  07.06.21",656.96,null,0,0,105]
["66.",{"$f":"B166","v":"FAISTAVER"},"Roman","9.A",123,null,"Jilemnice  23.09.20",685.56000000000006,null,0,0,110]
["67.",{"$f":"B167","v":"FAJSTAVR"},"Jakub","9.A",110,null,"Jilemnice  23.09.20",611.20000000000005,null,0,0,95]
["68.",{"$f":"B168","v":"FARSKÝ"},"Vojtěch","9.A",{"$f":"E168","v":139},null,"Jilemnice  07.06.21",777.08,null,0,0,105]
["69.","HOLUBEC","Lukáš","9.A",113,null,"Jilemnice  07.06.21",628.36000000000013,null,0,0,100]
["70.",{"$f":"B170","v":"CHAROUZ"},"Vojtěch","9.A",130,null,"Jilemnice  23.09.20",725.6,null,0,0,105]
["71.",{"$f":"B171","v":"IACCHERI"},"Carlo","9.A",113,null,"Jilemnice  07.06.21",628.36000000000013,null,0,0,90]
["72.",{"$f":"B172","v":"JOHN"},"Adrian","9.A",73,null,"Jilemnice  07.06.21",399.56000000000006,null,0,0,0]
["73.",{"$f":"B173","v":"KRČÍK"},"Matthew","9.A",118,null,"Jilemnice  07.06.21",656.96,null,0,0,95]
["74.",{"$f":"B174","v":"KRESAN"},"Vojtěch","9.A",110,null,"Jilemnice  23.09.20",611.20000000000005,null,0,0,75]
["75.",{"$f":"B175","v":"LÁNSKÝ"},"Vojtěch","9.A",95,null,"Jilemnice  23.09.20",525.40000000000009,null,0,0,75]
["76.",{"$f":"B176","v":"LEŠÁK"},"Lukáš","9.A",105,null,"Jilemnice  23.09.20",582.60000000000014,null,0,0,75]
["77.",{"$f":"B177","v":"RYPL"},"Matyáš","9.A",118,null,"Jilemnice  07.06.21",656.96,null,0,0,95]
["78.",{"$f":"B178","v":"VU TRAN DINH "},"Lukas","9.A",0,null,0,0,null,0,0,0]
["79.",{"$f":"B179","v":"DUFEK"},"Matyáš","9.B",95,null,"Jilemnice  23.09.20",525.40000000000009,null,0,0,95]
["80.",{"$f":"B180","v":"JEŽEK"},"Jonáš","9.B",110,null,"Jilemnice  23.09.20",611.20000000000005,null,0,125,110]
["81.",{"$f":"B181","v":"JEŽEK"},"Mikuláš","9.B",128,null,"Jilemnice  07.06.21",714.16000000000008,null,0,125,120]
["82.",{"$f":"B182","v":"NECHANICKÝ"},"Michal","9.B",117,null,"Jilemnice  23.09.20",651.24000000000012,null,0,105,95]
["83.",{"$f":"B183","v":"PAULÍČEK"},"Jakub","9.B",133,null,"Jilemnice  07.06.21",742.7600000000001,null,0,0,100]
["84.",{"$f":"B184","v":"POHOŘALÝ"},"Jakub","9.B",133,null,"Jilemnice  07.06.21",742.7600000000001,null,0,125,118]
["85.",{"$f":"B185","v":"POSPÍCHAL"},"Daniel","9.B",105,null,"Jilemnice  23.09.20",582.60000000000014,null,0,0,100]
["86.",{"$f":"B186","v":"SOUKUP"},"Lukáš","9.B",118,null,"Jilemnice  07.06.21",656.96,null,0,0,100]
["87.",{"$f":"B187","v":"VANCL"},"Jan","9.B",143,null,"Jilemnice  07.06.21",799.96,null,140,0,120]
["88.",{"$f":"B188","v":"VANCL"},"Lukáš","9.B",143,null,"Jilemnice  07.06.21",799.96,null,0,123,115]
["89.",{"$f":"B189","v":"VAŠÍK"},"Jiří","9.B",113,null,"Jilemnice  07.06.21",628.36000000000013,null,0,0,100]
["90.",{"$f":"B190","v":"VOHNOUT"},"Zdeněk","9.B",140,null,"Jilemnice  23.09.20",782.80000000000007,null,0,110,115]
[]
[]
[]
[]
[]
[]
[]
[null,"BOUKAL","Jakub","6.A",null,null,null,{"$f":"IF(E101=0,0,(IF(E101>0,E101*4.4*1.3-18)))","v":0}]
[null,"DEMČUK","Ilja","6.A",103,null,"Jilemnice  04.06.21",{"$f":"IF(E102=0,0,(IF(E102>0,E102*4.4*1.3-18)))","v":571.16000000000008}]
[null,"FAISTAUER","Kryštof","6.A",113,null,"Jilemnice  04.06.21",{"$f":"IF(E103=0,0,(IF(E103>0,E103*4.4*1.3-18)))","v":628.36000000000013}]
[null,"FRK","Matyáš","6.A",75,null,"Jilemnice  23.09.20",{"$f":"IF(E104=0,0,(IF(E104>0,E104*4.4*1.3-18)))","v":411}]
[null,"HUBÁLOVSKÝ","Marek","6.A",88,null,"Jilemnice  23.09.20",{"$f":"IF(E105=0,0,(IF(E105>0,E105*4.4*1.3-18)))","v":485.36000000000007}]
[null,"MAŘAS","Dominik","6.A",null,null,null,{"$f":"IF(E106=0,0,(IF(E106>0,E106*4.4*1.3-18)))","v":0}]
[null,"MAŤÁTKO","Jakub","6.A",null,null,null,{"$f":"IF(E107=0,0,(IF(E107>0,E107*4.4*1.3-18)))","v":0}]
[null,"MERY","Luboš","6.A",83,null,"Jilemnice  04.06.21",{"$f":"IF(E108=0,0,(IF(E108>0,E108*4.4*1.3-18)))","v":456.76000000000005}]
[null,"NOVOTNÝ","Matěj","6.A",80,null,"Jilemnice  23.09.20",{"$f":"IF(E109=0,0,(IF(E109>0,E109*4.4*1.3-18)))","v":439.6}]
[null,"ŘEHOŘEK","Vojtěch","6.A",88,null,"Jilemnice  04.06.21",{"$f":"IF(E110=0,0,(IF(E110>0,E110*4.4*1.3-18)))","v":485.36000000000007}]
[null,"ŠÍR","Matyáš","6.A",87,null,"Jilemnice  04.06.21",{"$f":"IF(E111=0,0,(IF(E111>0,E111*4.4*1.3-18)))","v":479.64000000000004}]
[null,"TORÁČ","Tomáš","6.A",null,null,null,{"$f":"IF(E112=0,0,(IF(E112>0,E112*4.4*1.3-18)))","v":0}]
[null,"ULLMAN","Šimon","6.A",80,null,"Jilemnice  23.09.20",{"$f":"IF(E113=0,0,(IF(E113>0,E113*4.4*1.3-18)))","v":439.6}]
[null,"VÁCLAVÍK","Ondřej","6.A",98,null,"Jilemnice  04.06.21",{"$f":"IF(E114=0,0,(IF(E114>0,E114*4.4*1.3-18)))","v":542.56000000000006}]
[null,"AUERSWALD","Daniel","6.B",113,null,"Jilemnice  04.06.21",{"$f":"IF(E115=0,0,(IF(E115>0,E115*4.4*1.3-18)))","v":628.36000000000013}]
[null,"BODLÁK","Vladimír","6.B",113,null,"Jilemnice  04.06.21",{"$f":"IF(E116=0,0,(IF(E116>0,E116*4.4*1.3-18)))","v":628.36000000000013}]
[null,"BUDÍN","Martin","6.B",93,null,"Jilemnice  04.06.21",{"$f":"IF(E117=0,0,(IF(E117>0,E117*4.4*1.3-18)))","v":513.96}]
[null,"DVOŘÁK","Dominik","6.B",75,null,"Jilemnice  23.09.20",{"$f":"IF(E118=0,0,(IF(E118>0,E118*4.4*1.3-18)))","v":411}]
[null,"FIŠERA","Vojtěch","6.B",98,null,"Jilemnice  04.06.21",{"$f":"IF(E119=0,0,(IF(E119>0,E119*4.4*1.3-18)))","v":542.56000000000006}]
[null,"JINDŘIŠEK","Vít","6.B",80,null,"Jilemnice  23.09.20",{"$f":"IF(E120=0,0,(IF(E120>0,E120*4.4*1.3-18)))","v":439.6}]
[null,"JIROUŠ","Matouš","6.B",80,null,"Jilemnice  23.09.20",{"$f":"IF(E121=0,0,(IF(E121>0,E121*4.4*1.3-18)))","v":439.6}]
[null,"KERLE","Marek","6.B",103,null,"Jilemnice  04.06.21",{"$f":"IF(E122=0,0,(IF(E122>0,E122*4.4*1.3-18)))","v":571.16000000000008}]
[null,"LUKEŠ","Jakub","6.B",98,null,"Jilemnice  04.06.21",{"$f":"IF(E123=0,0,(IF(E123>0,E123*4.4*1.3-18)))","v":542.56000000000006}]
[null,"OTT","Matyáš","6.B",98,null,"Jilemnice  04.06.21",{"$f":"IF(E124=0,0,(IF(E124>0,E124*4.4*1.3-18)))","v":542.56000000000006}]
[null,"POKORNÝ","Matyáš","6.B",103,null,"Jilemnice  04.06.21",{"$f":"IF(E125=0,0,(IF(E125>0,E125*4.4*1.3-18)))","v":571.16000000000008}]
[null,"POLÁČEK","Matyáš","6.B",93,null,"Jilemnice  04.06.21",{"$f":"IF(E126=0,0,(IF(E126>0,E126*4.4*1.3-18)))","v":513.96}]
[null,"SOUKUP","Patrik","6.B",98,null,"Jilemnice  04.06.21",{"$f":"IF(E127=0,0,(IF(E127>0,E127*4.4*1.3-18)))","v":542.56000000000006}]
[null,"VALENTA","Jakub","6.B",113,null,"Jilemnice  04.06.21",{"$f":"IF(E128=0,0,(IF(E128>0,E128*4.4*1.3-18)))","v":628.36000000000013}]
[null,"VRBATA","Dominik","6.B",103,null,"Jilemnice  04.06.21",{"$f":"IF(E129=0,0,(IF(E129>0,E129*4.4*1.3-18)))","v":571.16000000000008}]
[null,"FEJKL","Jan","7.A",141,null,"Jilemnice  07.06.21",{"$f":"IF(E130=0,0,(IF(E130>0,E130*4.4*1.3-18)))","v":788.5200000000001},null,115]
[null,"KOTYK","Tadeáš","7.A",105,null,"Jilemnice  07.06.21",{"$f":"IF(E131=0,0,(IF(E131>0,E131*4.4*1.3-18)))","v":582.60000000000014}]
[null,"KRAUSE","Tadeáš","7.A",110,null,"Jilemnice  07.06.21",{"$f":"IF(E132=0,0,(IF(E132>0,E132*4.4*1.3-18)))","v":611.20000000000005}]
[null,"LEŠÁK","Martin","7.A",99,null,"Jilemnice  07.06.21",{"$f":"IF(E133=0,0,(IF(E133>0,E133*4.4*1.3-18)))","v":548.28000000000009}]
[null,"NECHANICKÝ","David","7.A",115,null,"Jilemnice  07.06.21",{"$f":"IF(E134=0,0,(IF(E134>0,E134*4.4*1.3-18)))","v":639.80000000000007}]
[null,"ŘEHOŘEK","Jan","7.A",120,null,"Jilemnice  07.06.21",{"$f":"IF(E135=0,0,(IF(E135>0,E135*4.4*1.3-18)))","v":668.4},null,105]
[null,"SOUKUP","Ondřej","7.A",105,null,"Jilemnice  07.06.21",{"$f":"IF(E136=0,0,(IF(E136>0,E136*4.4*1.3-18)))","v":582.60000000000014}]
[null,"SPANILÝ","David","7.A",null,null,null,{"$f":"IF(E137=0,0,(IF(E137>0,E137*4.4*1.3-18)))","v":0}]
[null,"ČADAN","Benjamín","7.B",109,null,"Jilemnice  04.06.21",{"$f":"IF(E138=0,0,(IF(E138>0,E138*4.4*1.3-18)))","v":605.48}]
[null,"ČERNÝ","Michal","7.B",99,null,"Jilemnice  07.06.21",{"$f":"IF(E139=0,0,(IF(E139>0,E139*4.4*1.3-18)))","v":548.28000000000009}]
[null,"DOLEJŠÍ","David","7.B",115,null,"Jilemnice  07.06.21",{"$f":"IF(E140=0,0,(IF(E140>0,E140*4.4*1.3-18)))","v":639.80000000000007}]
[null,"NOVÁK","Matěj","7.B",105,null,"Jilemnice  07.06.21",{"$f":"IF(E141=0,0,(IF(E141>0,E141*4.4*1.3-18)))","v":582.60000000000014}]
[null,"POVAŽANEC","Martin","7.B",110,null,"Jilemnice  23.09.20",{"$f":"IF(E142=0,0,(IF(E142>0,E142*4.4*1.3-18)))","v":611.20000000000005}]
[null,"RICHTER","Jakub","7.B",null,null,null,{"$f":"IF(E143=0,0,(IF(E143>0,E143*4.4*1.3-18)))","v":0}]
[null,"ROZUMEK","Adam","7.B",99,null,"Jilemnice  07.06.21",{"$f":"IF(E144=0,0,(IF(E144>0,E144*4.4*1.3-18)))","v":548.28000000000009}]
[null,"VALENTA","František","7.B",105,null,"Jilemnice  07.06.21",{"$f":"IF(E145=0,0,(IF(E145>0,E145*4.4*1.3-18)))","v":582.60000000000014}]
[null,"ZAPLATÍLEK","Josef","7.B",105,null,"Jilemnice  07.06.21",{"$f":"IF(E146=0,0,(IF(E146>0,E146*4.4*1.3-18)))","v":582.60000000000014}]
[null,"ERBEN","Viktor","8.A",109,null,"Jilemnice  07.06.21",{"$f":"IF(E147=0,0,(IF(E147>0,E147*4.4*1.3-18)))","v":605.48},null,null,90]
[null,"FRANC","Daniel","8.A",109,null,"Jilemnice  07.06.21",{"$f":"IF(E148=0,0,(IF(E148>0,E148*4.4*1.3-18)))","v":605.48},null,null,90]
[null,"JINDŘIŠEK","Matyáš","8.A",113,null,"Jilemnice  07.06.21",{"$f":"IF(E149=0,0,(IF(E149>0,E149*4.4*1.3-18)))","v":628.36000000000013}]
[null,"KOLAČNÝ","Štěpán","8.A",99,null,"Jilemnice  07.06.21",{"$f":"IF(E150=0,0,(IF(E150>0,E150*4.4*1.3-18)))","v":548.28000000000009},null,null,105]
[null,"KRISTAN","Jáchym","8.A",88,null,"Jilemnice  07.06.21",{"$f":"IF(E151=0,0,(IF(E151>0,E151*4.4*1.3-18)))","v":485.36000000000007}]
[null,"NGUYEN","David","8.A",113,null,"Jilemnice  07.06.21",{"$f":"IF(E152=0,0,(IF(E152>0,E152*4.4*1.3-18)))","v":628.36000000000013}]
[null,"NOVOTNÝ","Jan","8.A",113,null,"Jilemnice  07.06.21",{"$f":"IF(E153=0,0,(IF(E153>0,E153*4.4*1.3-18)))","v":628.36000000000013},null,null,100]
[null,"RÁB","Adam","8.A",92,null,"Jilemnice  07.06.21",{"$f":"IF(E154=0,0,(IF(E154>0,E154*4.4*1.3-18)))","v":508.24},null,null,90]
[null,"REPASKÝ","Jakub","8.A",113,null,"Jilemnice  07.06.21",{"$f":"IF(E155=0,0,(IF(E155>0,E155*4.4*1.3-18)))","v":628.36000000000013},null,null,110]
[null,"SKÁLA","Jan","8.A",113,null,"Jilemnice  07.06.21",{"$f":"IF(E156=0,0,(IF(E156>0,E156*4.4*1.3-18)))","v":628.36000000000013},null,null,90]
[null,"ŠPULÁK","Jakub","8.A",113,null,"Jilemnice  07.06.21",{"$f":"IF(E157=0,0,(IF(E157>0,E157*4.4*1.3-18)))","v":628.36000000000013},null,null,90]
[null,"VALENTA","Tomáš","8.A",113,null,"Jilemnice  07.06.21",{"$f":"IF(E158=0,0,(IF(E158>0,E158*4.4*1.3-18)))","v":628.36000000000013},null,null,130]
[null,"VANCL","Jiří","8.A",109,null,"Jilemnice  07.06.21",{"$f":"IF(E159=0,0,(IF(E159>0,E159*4.4*1.3-18)))","v":605.48},null,null,90]
[null,"VAŠÍČEK","David","8.A",null,null,null,{"$f":"IF(E160=0,0,(IF(E160>0,E160*4.4*1.3-18)))","v":0},null,null,110]
[null,"ZOUHAR","Ondřej","8.A",109,null,"Jilemnice  07.06.21",{"$f":"IF(E161=0,0,(IF(E161>0,E161*4.4*1.3-18)))","v":605.48},null,null,110]
[null,"ZUZÁNEK","Filip","8.A",113,null,"Jilemnice  07.06.21",{"$f":"IF(E162=0,0,(IF(E162>0,E162*4.4*1.3-18)))","v":628.36000000000013},null,null,105]
[null,"BRUMLICH","Jan","9.A",133,null,"Jilemnice  07.06.21",{"$f":"IF(E163=0,0,(IF(E163>0,E163*4.4*1.3-18)))","v":742.7600000000001},null,null,null,105]
[null,"BUCHAR","Jiří","9.A",128,null,"Jilemnice  07.06.21",{"$f":"IF(E164=0,0,(IF(E164>0,E164*4.4*1.3-18)))","v":714.16000000000008},null,null,105,95]
[null,"FAISTAVER","Jiří","9.A",118,null,"Jilemnice  07.06.21",{"$f":"IF(E165=0,0,(IF(E165>0,E165*4.4*1.3-18)))","v":656.96},null,null,null,105]
[null,"FAISTAVER","Roman","9.A",123,null,"Jilemnice  23.09.20",{"$f":"IF(E166=0,0,(IF(E166>0,E166*4.4*1.3-18)))","v":685.56000000000006},null,null,null,110]
[null,"FAJSTAVR","Jakub","9.A",110,null,"Jilemnice  23.09.20",{"$f":"IF(E167=0,0,(IF(E167>0,E167*4.4*1.3-18)))","v":611.20000000000005},null,null,null,95]
[null,"FARSKÝ","Vojtěch","9.A",139,null,"Jilemnice  07.06.21",{"$f":"IF(E168=0,0,(IF(E168>0,E168*4.4*1.3-18)))","v":777.08},null,null,null,105]
[null,"HOLUBEC","Lukáš","9.A",113,null,"Jilemnice  07.06.21",{"$f":"IF(E169=0,0,(IF(E169>0,E169*4.4*1.3-18)))","v":628.36000000000013},null,null,null,100]
[null,"CHAROUZ","Vojtěch","9.A",130,null,"Jilemnice  23.09.20",{"$f":"IF(E170=0,0,(IF(E170>0,E170*4.4*1.3-18)))","v":725.6},null,null,null,105]
[null,"IACCHERI","Carlo","9.A",113,null,"Jilemnice  07.06.21",{"$f":"IF(E171=0,0,(IF(E171>0,E171*4.4*1.3-18)))","v":628.36000000000013},null,null,null,90]
[null,"JOHN","Adrian","9.A",73,null,"Jilemnice  07.06.21",{"$f":"IF(E172=0,0,(IF(E172>0,E172*4.4*1.3-18)))","v":399.56000000000006}]
[null,"KRČÍK","Matthew","9.A",118,null,"Jilemnice  07.06.21",{"$f":"IF(E173=0,0,(IF(E173>0,E173*4.4*1.3-18)))","v":656.96},null,null,null,95]
[null,"KRESAN","Vojtěch","9.A",110,null,"Jilemnice  23.09.20",{"$f":"IF(E174=0,0,(IF(E174>0,E174*4.4*1.3-18)))","v":611.20000000000005},null,null,null,75]
[null,"LÁNSKÝ","Vojtěch","9.A",95,null,"Jilemnice  23.09.20",{"$f":"IF(E175=0,0,(IF(E175>0,E175*4.4*1.3-18)))","v":525.40000000000009},null,null,null,75]
[null,"LEŠÁK","Lukáš","9.A",105,null,"Jilemnice  23.09.20",{"$f":"IF(E176=0,0,(IF(E176>0,E176*4.4*1.3-18)))","v":582.60000000000014},null,null,null,75]
[null,"RYPL","Matyáš","9.A",118,null,"Jilemnice  07.06.21",{"$f":"IF(E177=0,0,(IF(E177>0,E177*4.4*1.3-18)))","v":656.96},null,null,null,95]
[null,"VU TRAN DINH ","Lukas","9.A",null,null,null,{"$f":"IF(E178=0,0,(IF(E178>0,E178*4.4*1.3-18)))","v":0}]
[null,"DUFEK","Matyáš","9.B",95,null,"Jilemnice  23.09.20",{"$f":"IF(E179=0,0,(IF(E179>0,E179*4.4*1.3-18)))","v":525.40000000000009},null,null,null,95]
[null,"JEŽEK","Jonáš","9.B",110,null,"Jilemnice  23.09.20",{"$f":"IF(E180=0,0,(IF(E180>0,E180*4.4*1.3-18)))","v":611.20000000000005},null,null,125,110]
[null,"JEŽEK","Mikuláš","9.B",128,null,"Jilemnice  07.06.21",{"$f":"IF(E181=0,0,(IF(E181>0,E181*4.4*1.3-18)))","v":714.16000000000008},null,null,125,120]
[null,"NECHANICKÝ","Michal","9.B",117,null,"Jilemnice  23.09.20",{"$f":"IF(E182=0,0,(IF(E182>0,E182*4.4*1.3-18)))","v":651.24000000000012},null,null,105,95]
[null,"PAULÍČEK","Jakub","9.B",133,null,"Jilemnice  07.06.21",{"$f":"IF(E183=0,0,(IF(E183>0,E183*4.4*1.3-18)))","v":742.7600000000001},null,null,null,100]
[null,"POHOŘALÝ","Jakub","9.B",133,null,"Jilemnice  07.06.21",{"$f":"IF(E184=0,0,(IF(E184>0,E184*4.4*1.3-18)))","v":742.7600000000001},null,null,125,118]
[null,"POSPÍCHAL","Daniel","9.B",105,null,"Jilemnice  23.09.20",{"$f":"IF(E185=0,0,(IF(E185>0,E185*4.4*1.3-18)))","v":582.60000000000014},null,null,null,100]
[null,"SOUKUP","Lukáš","9.B",118,null,"Jilemnice  07.06.21",{"$f":"IF(E186=0,0,(IF(E186>0,E186*4.4*1.3-18)))","v":656.96},null,null,null,100]
[null,"VANCL","Jan","9.B",143,null,"Jilemnice  07.06.21",{"$f":"IF(E187=0,0,(IF(E187>0,E187*4.4*1.3-18)))","v":799.96},null,140,null,120]
[null,"VANCL","Lukáš","9.B",143,null,"Jilemnice  07.06.21",{"$f":"IF(E188=0,0,(IF(E188>0,E188*4.4*1.3-18)))","v":799.96},null,null,123,115]
[null,"VAŠÍK","Jiří","9.B",113,null,"Jilemnice  07.06.21",{"$f":"IF(E189=0,0,(IF(E189>0,E189*4.4*1.3-18)))","v":628.36000000000013},null,null,null,100]
[null,"VOHNOUT","Zdeněk","9.B",140,null,"Jilemnice  23.09.20",{"$f":"IF(E190=0,0,(IF(E190>0,E190*4.4*1.3-18)))","v":782.80000000000007},null,null,110,115]

{"sheet":"MÍČEK","index":12,"n_rows":190,"n_cols":12,"rows_kept":190,"cut":false,"hidden":false,"merged":[]}
[null,null,"VÝKONY  2020 - 2021",null,null,null,"MÍČEK","CHLAPCI  6. -  9.  ROČ."]
[null,"stav  k ",{"$f":"TODAY()","v":"2021-06-28"},null,null,null,null,null,null,"19  - 20","18  - 19","17 - 18"]
[]
["1.",{"$f":"B101","v":"BOUKAL"},{"$f":"C101","v":"Jakub"},"6.A",14,null,"Jilemnice  07.06.21",175,null,0,0,0]
["2.",{"$f":"B102","v":"DEMČUK"},"Ilja","6.A",20,null,"Jilemnice  02.10.20",250,null,0,0,0]
["3.",{"$f":"B103","v":"FAISTAUER"},"Kryštof","6.A",34.5,null,"Jilemnice  02.10.20",431.25,null,0,0,0]
["4.",{"$f":"B104","v":"FRK"},"Matyáš","6.A",0,null," ",0,null,0,0,0]
["5.",{"$f":"B105","v":"HUBÁLOVSKÝ"},"Marek","6.A",26,null,"Jilemnice  02.10.20",325,null,0,0,0]
["6.",{"$f":"B106","v":"MAŘAS"},"Dominik","6.A",22,null,"Jilemnice  07.06.21",275,null,0,0,0]
["7.",{"$f":"B107","v":"MAŤÁTKO"},"Jakub","6.A",20,null,"Jilemnice  07.06.21",250,null,0,0,0]
["8.",{"$f":"B108","v":"MERY"},"Luboš","6.A",0,null," ",0,null,0,0,0]
["9.",{"$f":"B109","v":"NOVOTNÝ"},"Matěj","6.A",29,null,"Jilemnice  02.10.20",362.5,null,0,0,0]
["10.",{"$f":"B110","v":"ŘEHOŘEK"},"Vojtěch","6.A",40,null,"Jilemnice  02.10.20",500,null,0,0,0]
["11.",{"$f":"B111","v":"ŠÍR"},"Matyáš","6.A",20,null,"Jilemnice  02.10.20",250,null,0,0,0]
["12.",{"$f":"B112","v":"TORÁČ"},"Tomáš","6.A",12.5,null,"Jilemnice  07.06.21",156.25,null,0,0,0]
["13.",{"$f":"B113","v":"ULLMAN"},"Šimon","6.A",24.5,null,"Jilemnice  02.10.20",306.25,null,0,0,0]
["14.",{"$f":"B114","v":"VÁCLAVÍK"},"Ondřej","6.A",36,null,"Jilemnice  02.10.20",450,null,0,0,0]
["15.",{"$f":"B115","v":"AUERSWALD"},"Daniel","6.B",25,null,"Jilemnice  02.10.20",312.5,null,0,0,0]
["16.",{"$f":"B116","v":"BODLÁK"},"Vladimír","6.B",0,null," ",0,null,0,0,0]
["17.",{"$f":"B117","v":"BUDÍN"},"Martin","6.B",31,null,"Jilemnice  02.10.20",387.5,null,0,0,0]
["18.",{"$f":"B118","v":"DVOŘÁK"},"Dominik","6.B",0,null," ",0,null,0,0,0]
["19.",{"$f":"B119","v":"FIŠERA"},"Vojtěch","6.B",19,null,"Jilemnice  02.10.20",237.5,null,0,0,0]
["20.",{"$f":"B120","v":"JINDŘIŠEK"},"Vít","6.B",42,null,"Jilemnice  02.10.20",525,null,0,0,0]
["21.",{"$f":"B121","v":"JIROUŠ"},"Matouš","6.B",28,null,"Jilemnice  02.10.20",350,null,0,0,0]
["22.",{"$f":"B122","v":"KERLE"},"Marek","6.B",0,null," ",0,null,0,0,0]
["23.",{"$f":"B123","v":"LUKEŠ"},"Jakub","6.B",21,null,"Jilemnice  02.10.20",262.5,null,0,0,0]
["24.",{"$f":"B124","v":"OTT"},"Matyáš","6.B",29,null,"Jilemnice  02.10.20",362.5,null,0,0,0]
["25.",{"$f":"B125","v":"POKORNÝ"},"Matyáš","6.B",43,null,"Jilemnice  02.10.20",537.5,null,0,0,0]
["26.",{"$f":"B126","v":"POLÁČEK"},"Matyáš","6.B",34,null,"Jilemnice  02.10.20",425,null,0,0,0]
["27.",{"$f":"B127","v":"SOUKUP"},"Patrik","6.B",30,null,"Jilemnice  02.10.20",375,null,0,0,0]
["28.",{"$f":"B128","v":"VALENTA"},"Jakub","6.B",26,null,"Jilemnice  02.10.20",325,null,0,0,0]
["29.",{"$f":"B129","v":"VRBATA"},"Dominik","6.B",34.5,null,"Jilemnice  02.10.20",431.25,null,0,0,0]
["30.",{"$f":"B130","v":"FEJKL"},"Jan","7.A",49,null,"Jilemnice  02.10.20",612.5,null,39.5,0,0]
["31.",{"$f":"B131","v":"KOTYK"},"Tadeáš","7.A",20,null,"Jilemnice  02.10.20",250,null,16.5,0,0]
["32.",{"$f":"B132","v":"KRAUSE"},"Tadeáš","7.A",29.5,null,"Jilemnice  02.10.20",368.75,null,25,0,0]
["33.",{"$f":"B133","v":"LEŠÁK"},"Martin","7.A",25.5,null,"Jilemnice  02.10.20",318.75,null,22,0,0]
["34.",{"$f":"B134","v":"NECHANICKÝ"},"David","7.A",31,null,"Jilemnice  02.10.20",387.5,null,29,0,0]
["35.",{"$f":"B135","v":"ŘEHOŘEK"},"Jan","7.A",42,null,"Jilemnice  02.10.20",525,null,41,0,0]
["36.",{"$f":"B136","v":"SOUKUP"},"Ondřej","7.A",0,null,0,0,null,0,0,0]
["37.",{"$f":"B137","v":"SPANILÝ"},"David","7.A",47,null,"Jilemnice  02.10.20",587.5,null,44,0,0]
["38.",{"$f":"B138","v":"ČADAN"},"Benjamín","7.B",26,null,"Jilemnice  02.10.20",325,null,0,0,0]
["39.",{"$f":"B139","v":"ČERNÝ"},"Michal","7.B",39.5,null,"Jilemnice  02.10.20",493.75,null,31,0,0]
["40.",{"$f":"B140","v":"DOLEJŠÍ"},"David","7.B",21,null,"Jilemnice  02.10.20",262.5,null,20,0,0]
["41.",{"$f":"B141","v":"NOVÁK"},"Matěj","7.B",30.5,null,"Jilemnice  02.10.20",381.25,null,28,0,0]
["42.",{"$f":"B142","v":"POVAŽANEC"},"Martin","7.B",40.5,null,"Jilemnice  02.10.20",506.25,null,34,0,0]
["43.",{"$f":"B143","v":"RICHTER"},"Jakub","7.B",23,null,"Jilemnice  02.10.20",287.5,null,19.5,0,0]
["44.",{"$f":"B144","v":"ROZUMEK"},"Adam","7.B",38,null,"Jilemnice  02.10.20",475,null,30.5,0,0]
["45.",{"$f":"B145","v":"VALENTA"},"František","7.B",20,null,"Jilemnice  02.10.20",250,null,20,0,0]
["46.",{"$f":"B146","v":"ZAPLATÍLEK"},"Josef","7.B",36,null,"Jilemnice  02.10.20",450,null,34.5,0,0]
["47.",{"$f":"B147","v":"ERBEN"},"Viktor","8.A",21,null,"Jilemnice  30.09.20",262.5,null,0,14,0]
["48.",{"$f":"B148","v":"FRANC"},"Daniel","8.A",26,null,"Jilemnice  30.09.20",325,null,0,26,0]
["49.",{"$f":"B149","v":"JINDŘIŠEK"},"Matyáš","8.A",0,null,0,0,null,36.5,38,0]
["50.",{"$f":"B150","v":"KOLAČNÝ"},"Štěpán","8.A",25,null,"Jilemnice  30.09.20",312.5,null,0,27,0]
["51.",{"$f":"B151","v":"KRISTAN"},"Jáchym","8.A",15,null,"Jilemnice  30.09.20",187.5,null,0,15.5,0]
["52.",{"$f":"B152","v":"NGUYEN"},"David","8.A",36.5,null,"Jilemnice  30.09.20",456.25,null,0,0,0]
["53.",{"$f":"B153","v":"NOVOTNÝ"},"Jan","8.A",27,null,"Jilemnice  30.09.20",337.5,null,23,20,0]
["54.",{"$f":"B154","v":"RÁB"},"Adam","8.A",25.5,null,"Jilemnice  30.09.20",318.75,null,0,26,0]
["55.",{"$f":"B155","v":"REPASKÝ"},"Jakub","8.A",50.5,null,"Jilemnice  30.09.20",631.25,null,0,43,0]
["56.",{"$f":"B156","v":"SKÁLA"},"Jan","8.A",30,null,"Jilemnice  30.09.20",375,null,0,24,0]
["57.",{"$f":"B157","v":"ŠPULÁK"},"Jakub","8.A",45,null,"Jilemnice  30.09.20",562.5,null,0,32.5,0]
["58.",{"$f":"B158","v":"VALENTA"},"Tomáš","8.A",53,null,"Jilemnice  30.09.20",662.5,null,41,50,0]
["59.",{"$f":"B159","v":"VANCL"},"Jiří","8.A",31,null,"Jilemnice  30.09.20",387.5,null,0,27,0]
["60.",{"$f":"B160","v":"VAŠÍČEK"},"David","8.A",32.5,null,"Jilemnice  30.09.20",406.25,null,0,25,0]
["61.",{"$f":"B161","v":"ZOUHAR"},"Ondřej","8.A",35,null,"Jilemnice  30.09.20",437.5,null,0,28,0]
["62.",{"$f":"B162","v":"ZUZÁNEK"},"Filip","8.A",24.5,null,"Jilemnice  30.09.20",306.25,null,0,25,0]
["63.",{"$f":"B163","v":"BRUMLICH"},"Jan","9.A",58,null,"Jilemnice  30.09.20",725,null,0,54.56,35]
["64.",{"$f":"B164","v":"BUCHAR"},"Jiří","9.A",32.5,null,"Jilemnice  30.09.20",406.25,null,0,31.5,32]
["65.",{"$f":"B165","v":"FAISTAVER"},"Jiří","9.A",44,null,"Jilemnice  30.09.20",550,null,0,33,27]
["66.",{"$f":"B166","v":"FAISTAVER"},"Roman","9.A",52,null,"Jilemnice  30.09.20",650,null,0,53,34]
["67.",{"$f":"B167","v":"FAJSTAVR"},"Jakub","9.A",0,null,0,0,null,0,37,24]
["68.",{"$f":"B168","v":"FARSKÝ"},"Vojtěch","9.A",54,null,"Jilemnice  30.09.20",675,null,0,46,35.5]
["69.",{"$f":"B169","v":"HOLUBEC"},"Lukáš","9.A",35,null,"Jilemnice  30.09.20",437.5,null,0,27,25]
["70.",{"$f":"B170","v":"CHAROUZ"},"Vojtěch","9.A",30,null,"Jilemnice  30.09.20",375,null,0,31.5,24]
["71.",{"$f":"B171","v":"IACCHERI"},"Carlo","9.A",0,null,0,0,null,0,24.5,25.5]
["72.",{"$f":"B172","v":"JOHN"},"Adrian","9.A",20,null,"Jilemnice  30.09.20",250,null,0,19,15]
["73.",{"$f":"B173","v":"KRČÍK"},"Matthew","9.A",0,null,0,0,null,0,35,28]
["74.",{"$f":"B174","v":"KRESAN"},"Vojtěch","9.A",26.5,null,"Jilemnice  30.09.20",331.25,null,0,21,19]
["75.",{"$f":"B175","v":"LÁNSKÝ"},"Vojtěch","9.A",21.5,null,"Jilemnice  30.09.20",268.75,null,0,17,18]
["76.",{"$f":"B176","v":"LEŠÁK"},"Lukáš","9.A",23,null,"Jilemnice  30.09.20",287.5,null,0,20,16]
["77.",{"$f":"B177","v":"RYPL"},"Matyáš","9.A",26,null,"Jilemnice  30.09.20",325,null,0,28,24]
["78.",{"$f":"B178","v":"VU TRAN DINH "},"Lukas","9.A",40.5,null,"Jilemnice  30.09.20",506.25,null,0,0,0]
["79.",{"$f":"B179","v":"DUFEK"},"Matyáš","9.B",29,null,"Jilemnice  30.09.20",362.5,null,0,20.5,23]
["80.",{"$f":"B180","v":"JEŽEK"},"Jonáš","9.B",45,null,"Jilemnice  30.09.20",562.5,null,0,45,42.8]
["81.",{"$f":"B181","v":"JEŽEK"},"Mikuláš","9.B",45,null,"Jilemnice  30.09.20",562.5,null,0,40,34]
["82.",{"$f":"B182","v":"NECHANICKÝ"},"Michal","9.B",39,null,"Jilemnice  30.09.20",487.5,null,0,35,25]
["83.",{"$f":"B183","v":"PAULÍČEK"},"Jakub","9.B",38,null,"Jilemnice  30.09.20",475,null,0,33,0]
["84.",{"$f":"B184","v":"POHOŘALÝ"},"Jakub","9.B",45.5,null,"Jilemnice  30.09.20",568.75,null,0,37,40.5]
["85.",{"$f":"B185","v":"POSPÍCHAL"},"Daniel","9.B",0,null,0,0,null,0,31,30]
["86.",{"$f":"B186","v":"SOUKUP"},"Lukáš","9.B",39,null,"Jilemnice  30.09.20",487.5,null,0,37,35]
["87.",{"$f":"B187","v":"VANCL"},"Jan","9.B",62,null,"Jilemnice  30.09.20",775,null,63.35,57.57,55.6]
["88.",{"$f":"B188","v":"VANCL"},"Lukáš","9.B",53,null,"Jilemnice  30.09.20",662.5,null,0,47,43.23]
["89.",{"$f":"B189","v":"VAŠÍK"},"Jiří","9.B",36,null,"Jilemnice  30.09.20",450,null,0,37.5,29]
["90.",{"$f":"B190","v":"VOHNOUT"},"Zdeněk","9.B",49.5,null,"Jilemnice  30.09.20",618.75,null,46.19,44,33.5]
[]
[]
[]
[]
[]
[]
[]
[null,"BOUKAL","Jakub","6.A",14,null,"Jilemnice  07.06.21",{"$f":"IF(E101=0,0,E101*10*1.25)","v":175}]
[null,"DEMČUK","Ilja","6.A",20,null,"Jilemnice  02.10.20",{"$f":"IF(E102=0,0,E102*10*1.25)","v":250}]
[null,"FAISTAUER","Kryštof","6.A",34.5,null,"Jilemnice  02.10.20",{"$f":"IF(E103=0,0,E103*10*1.25)","v":431.25}]
[null,"FRK","Matyáš","6.A",null,null," ",{"$f":"IF(E104=0,0,E104*10*1.25)","v":0}]
[null,"HUBÁLOVSKÝ","Marek","6.A",26,null,"Jilemnice  02.10.20",{"$f":"IF(E105=0,0,E105*10*1.25)","v":325}]
[null,"MAŘAS","Dominik","6.A",22,null,"Jilemnice  07.06.21",{"$f":"IF(E106=0,0,E106*10*1.25)","v":275}]
[null,"MAŤÁTKO","Jakub","6.A",20,null,"Jilemnice  07.06.21",{"$f":"IF(E107=0,0,E107*10*1.25)","v":250}]
[null,"MERY","Luboš","6.A",null,null," ",{"$f":"IF(E108=0,0,E108*10*1.25)","v":0}]
[null,"NOVOTNÝ","Matěj","6.A",29,null,"Jilemnice  02.10.20",{"$f":"IF(E109=0,0,E109*10*1.25)","v":362.5}]
[null,"ŘEHOŘEK","Vojtěch","6.A",40,null,"Jilemnice  02.10.20",{"$f":"IF(E110=0,0,E110*10*1.25)","v":500}]
[null,"ŠÍR","Matyáš","6.A",20,null,"Jilemnice  02.10.20",{"$f":"IF(E111=0,0,E111*10*1.25)","v":250}]
[null,"TORÁČ","Tomáš","6.A",12.5,null,"Jilemnice  07.06.21",{"$f":"IF(E112=0,0,E112*10*1.25)","v":156.25}]
[null,"ULLMAN","Šimon","6.A",24.5,null,"Jilemnice  02.10.20",{"$f":"IF(E113=0,0,E113*10*1.25)","v":306.25}]
[null,"VÁCLAVÍK","Ondřej","6.A",36,null,"Jilemnice  02.10.20",{"$f":"IF(E114=0,0,E114*10*1.25)","v":450}]
[null,"AUERSWALD","Daniel","6.B",25,null,"Jilemnice  02.10.20",{"$f":"IF(E115=0,0,E115*10*1.25)","v":312.5}]
[null,"BODLÁK","Vladimír","6.B",null,null," ",{"$f":"IF(E116=0,0,E116*10*1.25)","v":0}]
[null,"BUDÍN","Martin","6.B",31,null,"Jilemnice  02.10.20",{"$f":"IF(E117=0,0,E117*10*1.25)","v":387.5}]
[null,"DVOŘÁK","Dominik","6.B",null,null," ",{"$f":"IF(E118=0,0,E118*10*1.25)","v":0}]
[null,"FIŠERA","Vojtěch","6.B",19,null,"Jilemnice  02.10.20",{"$f":"IF(E119=0,0,E119*10*1.25)","v":237.5}]
[null,"JINDŘIŠEK","Vít","6.B",42,null,"Jilemnice  02.10.20",{"$f":"IF(E120=0,0,E120*10*1.25)","v":525}]
[null,"JIROUŠ","Matouš","6.B",28,null,"Jilemnice  02.10.20",{"$f":"IF(E121=0,0,E121*10*1.25)","v":350}]
[null,"KERLE","Marek","6.B",null,null," ",{"$f":"IF(E122=0,0,E122*10*1.25)","v":0}]
[null,"LUKEŠ","Jakub","6.B",21,null,"Jilemnice  02.10.20",{"$f":"IF(E123=0,0,E123*10*1.25)","v":262.5}]
[null,"OTT","Matyáš","6.B",29,null,"Jilemnice  02.10.20",{"$f":"IF(E124=0,0,E124*10*1.25)","v":362.5}]
[null,"POKORNÝ","Matyáš","6.B",43,null,"Jilemnice  02.10.20",{"$f":"IF(E125=0,0,E125*10*1.25)","v":537.5}]
[null,"POLÁČEK","Matyáš","6.B",34,null,"Jilemnice  02.10.20",{"$f":"IF(E126=0,0,E126*10*1.25)","v":425}]
[null,"SOUKUP","Patrik","6.B",30,null,"Jilemnice  02.10.20",{"$f":"IF(E127=0,0,E127*10*1.25)","v":375}]
[null,"VALENTA","Jakub","6.B",26,null,"Jilemnice  02.10.20",{"$f":"IF(E128=0,0,E128*10*1.25)","v":325}]
[null,"VRBATA","Dominik","6.B",34.5,null,"Jilemnice  02.10.20",{"$f":"IF(E129=0,0,E129*10*1.25)","v":431.25}]
[null,"FEJKL","Jan","7.A",49,null,"Jilemnice  02.10.20",{"$f":"IF(E130=0,0,E130*10*1.25)","v":612.5},null,39.5]
[null,"KOTYK","Tadeáš","7.A",20,null,"Jilemnice  02.10.20",{"$f":"IF(E131=0,0,E131*10*1.25)","v":250},null,16.5]
[null,"KRAUSE","Tadeáš","7.A",29.5,null,"Jilemnice  02.10.20",{"$f":"IF(E132=0,0,E132*10*1.25)","v":368.75},null,25]
[null,"LEŠÁK","Martin","7.A",25.5,null,"Jilemnice  02.10.20",{"$f":"IF(E133=0,0,E133*10*1.25)","v":318.75},null,22]
[null,"NECHANICKÝ","David","7.A",31,null,"Jilemnice  02.10.20",{"$f":"IF(E134=0,0,E134*10*1.25)","v":387.5},null,29]
[null,"ŘEHOŘEK","Jan","7.A",42,null,"Jilemnice  02.10.20",{"$f":"IF(E135=0,0,E135*10*1.25)","v":525},null,41]
[null,"SOUKUP","Ondřej","7.A",null,null,null,{"$f":"IF(E136=0,0,E136*10*1.25)","v":0}]
[null,"SPANILÝ","David","7.A",47,null,"Jilemnice  02.10.20",{"$f":"IF(E137=0,0,E137*10*1.25)","v":587.5},null,44]
[null,"ČADAN","Benjamín","7.B",26,null,"Jilemnice  02.10.20",{"$f":"IF(E138=0,0,E138*10*1.25)","v":325}]
[null,"ČERNÝ","Michal","7.B",39.5,null,"Jilemnice  02.10.20",{"$f":"IF(E139=0,0,E139*10*1.25)","v":493.75},null,31]
[null,"DOLEJŠÍ","David","7.B",21,null,"Jilemnice  02.10.20",{"$f":"IF(E140=0,0,E140*10*1.25)","v":262.5},null,20]
[null,"NOVÁK","Matěj","7.B",30.5,null,"Jilemnice  02.10.20",{"$f":"IF(E141=0,0,E141*10*1.25)","v":381.25},null,28]
[null,"POVAŽANEC","Martin","7.B",40.5,null,"Jilemnice  02.10.20",{"$f":"IF(E142=0,0,E142*10*1.25)","v":506.25},null,34]
[null,"RICHTER","Jakub","7.B",23,null,"Jilemnice  02.10.20",{"$f":"IF(E143=0,0,E143*10*1.25)","v":287.5},null,19.5]
[null,"ROZUMEK","Adam","7.B",38,null,"Jilemnice  02.10.20",{"$f":"IF(E144=0,0,E144*10*1.25)","v":475},null,30.5]
[null,"VALENTA","František","7.B",20,null,"Jilemnice  02.10.20",{"$f":"IF(E145=0,0,E145*10*1.25)","v":250},null,20]
[null,"ZAPLATÍLEK","Josef","7.B",36,null,"Jilemnice  02.10.20",{"$f":"IF(E146=0,0,E146*10*1.25)","v":450},null,34.5]
[null,"ERBEN","Viktor","8.A",21,null,"Jilemnice  30.09.20",{"$f":"IF(E147=0,0,E147*10*1.25)","v":262.5},null,null,14]
[null,"FRANC","Daniel","8.A",26,null,"Jilemnice  30.09.20",{"$f":"IF(E148=0,0,E148*10*1.25)","v":325},null,null,26]
[null,"JINDŘIŠEK","Matyáš","8.A",null,null,null,{"$f":"IF(E149=0,0,E149*10*1.25)","v":0},null,36.5,38]
[null,"KOLAČNÝ","Štěpán","8.A",25,null,"Jilemnice  30.09.20",{"$f":"IF(E150=0,0,E150*10*1.25)","v":312.5},null,null,27]
[null,"KRISTAN","Jáchym","8.A",15,null,"Jilemnice  30.09.20",{"$f":"IF(E151=0,0,E151*10*1.25)","v":187.5},null,null,15.5]
[null,"NGUYEN","David","8.A",36.5,null,"Jilemnice  30.09.20",{"$f":"IF(E152=0,0,E152*10*1.25)","v":456.25}]
[null,"NOVOTNÝ","Jan","8.A",27,null,"Jilemnice  30.09.20",{"$f":"IF(E153=0,0,E153*10*1.25)","v":337.5},null,23,20]
[null,"RÁB","Adam","8.A",25.5,null,"Jilemnice  30.09.20",{"$f":"IF(E154=0,0,E154*10*1.25)","v":318.75},null,null,26]
[null,"REPASKÝ","Jakub","8.A",50.5,null,"Jilemnice  30.09.20",{"$f":"IF(E155=0,0,E155*10*1.25)","v":631.25},null,null,43]
[null,"SKÁLA","Jan","8.A",30,null,"Jilemnice  30.09.20",{"$f":"IF(E156=0,0,E156*10*1.25)","v":375},null,null,24]
[null,"ŠPULÁK","Jakub","8.A",45,null,"Jilemnice  30.09.20",{"$f":"IF(E157=0,0,E157*10*1.25)","v":562.5},null,null,32.5]
[null,"VALENTA","Tomáš","8.A",53,null,"Jilemnice  30.09.20",{"$f":"IF(E158=0,0,E158*10*1.25)","v":662.5},null,41,50]
[null,"VANCL","Jiří","8.A",31,null,"Jilemnice  30.09.20",{"$f":"IF(E159=0,0,E159*10*1.25)","v":387.5},null,null,27]
[null,"VAŠÍČEK","David","8.A",32.5,null,"Jilemnice  30.09.20",{"$f":"IF(E160=0,0,E160*10*1.25)","v":406.25},null,null,25]
[null,"ZOUHAR","Ondřej","8.A",35,null,"Jilemnice  30.09.20",{"$f":"IF(E161=0,0,E161*10*1.25)","v":437.5},null,null,28]
[null,"ZUZÁNEK","Filip","8.A",24.5,null,"Jilemnice  30.09.20",{"$f":"IF(E162=0,0,E162*10*1.25)","v":306.25},null,null,25]
[null,"BRUMLICH","Jan","9.A",58,null,"Jilemnice  30.09.20",{"$f":"IF(E163=0,0,E163*10*1.25)","v":725},null,null,54.56,35]
[null,"BUCHAR","Jiří","9.A",32.5,null,"Jilemnice  30.09.20",{"$f":"IF(E164=0,0,E164*10*1.25)","v":406.25},null,null,31.5,32]
[null,"FAISTAVER","Jiří","9.A",44,null,"Jilemnice  30.09.20",{"$f":"IF(E165=0,0,E165*10*1.25)","v":550},null,null,33,27]
[null,"FAISTAVER","Roman","9.A",52,null,"Jilemnice  30.09.20",{"$f":"IF(E166=0,0,E166*10*1.25)","v":650},null,null,53,34]
[null,"FAJSTAVR","Jakub","9.A",null,null,null,{"$f":"IF(E167=0,0,E167*10*1.25)","v":0},null,null,37,24]
[null,"FARSKÝ","Vojtěch","9.A",54,null,"Jilemnice  30.09.20",{"$f":"IF(E168=0,0,E168*10*1.25)","v":675},null,null,46,35.5]
[null,"HOLUBEC","Lukáš","9.A",35,null,"Jilemnice  30.09.20",{"$f":"IF(E169=0,0,E169*10*1.25)","v":437.5},null,null,27,25]
[null,"CHAROUZ","Vojtěch","9.A",30,null,"Jilemnice  30.09.20",{"$f":"IF(E170=0,0,E170*10*1.25)","v":375},null,null,31.5,24]
[null,"IACCHERI","Carlo","9.A",null,null,null,{"$f":"IF(E171=0,0,E171*10*1.25)","v":0},null,null,24.5,25.5]
[null,"JOHN","Adrian","9.A",20,null,"Jilemnice  30.09.20",{"$f":"IF(E172=0,0,E172*10*1.25)","v":250},null,null,19,15]
[null,"KRČÍK","Matthew","9.A",null,null,null,{"$f":"IF(E173=0,0,E173*10*1.25)","v":0},null,null,35,28]
[null,"KRESAN","Vojtěch","9.A",26.5,null,"Jilemnice  30.09.20",{"$f":"IF(E174=0,0,E174*10*1.25)","v":331.25},null,null,21,19]
[null,"LÁNSKÝ","Vojtěch","9.A",21.5,null,"Jilemnice  30.09.20",{"$f":"IF(E175=0,0,E175*10*1.25)","v":268.75},null,null,17,18]
[null,"LEŠÁK","Lukáš","9.A",23,null,"Jilemnice  30.09.20",{"$f":"IF(E176=0,0,E176*10*1.25)","v":287.5},null,null,20,16]
[null,"RYPL","Matyáš","9.A",26,null,"Jilemnice  30.09.20",{"$f":"IF(E177=0,0,E177*10*1.25)","v":325},null,null,28,24]
[null,"VU TRAN DINH ","Lukas","9.A",40.5,null,"Jilemnice  30.09.20",{"$f":"IF(E178=0,0,E178*10*1.25)","v":506.25}]
[null,"DUFEK","Matyáš","9.B",29,null,"Jilemnice  30.09.20",{"$f":"IF(E179=0,0,E179*10*1.25)","v":362.5},null,null,20.5,23]
[null,"JEŽEK","Jonáš","9.B",45,null,"Jilemnice  30.09.20",{"$f":"IF(E180=0,0,E180*10*1.25)","v":562.5},null,null,45,42.8]
[null,"JEŽEK","Mikuláš","9.B",45,null,"Jilemnice  30.09.20",{"$f":"IF(E181=0,0,E181*10*1.25)","v":562.5},null,null,40,34]
[null,"NECHANICKÝ","Michal","9.B",39,null,"Jilemnice  30.09.20",{"$f":"IF(E182=0,0,E182*10*1.25)","v":487.5},null,null,35,25]
[null,"PAULÍČEK","Jakub","9.B",38,null,"Jilemnice  30.09.20",{"$f":"IF(E183=0,0,E183*10*1.25)","v":475},null,null,33]
[null,"POHOŘALÝ","Jakub","9.B",45.5,null,"Jilemnice  30.09.20",{"$f":"IF(E184=0,0,E184*10*1.25)","v":568.75},null,null,37,40.5]
[null,"POSPÍCHAL","Daniel","9.B",null,null,null,{"$f":"IF(E185=0,0,E185*10*1.25)","v":0},null,null,31,30]
[null,"SOUKUP","Lukáš","9.B",39,null,"Jilemnice  30.09.20",{"$f":"IF(E186=0,0,E186*10*1.25)","v":487.5},null,null,37,35]
[null,"VANCL","Jan","9.B",62,null,"Jilemnice  30.09.20",{"$f":"IF(E187=0,0,E187*10*1.25)","v":775},null,63.35,57.57,55.6]
[null,"VANCL","Lukáš","9.B",53,null,"Jilemnice  30.09.20",{"$f":"IF(E188=0,0,E188*10*1.25)","v":662.5},null,null,47,43.23]
[null,"VAŠÍK","Jiří","9.B",36,null,"Jilemnice  30.09.20",{"$f":"IF(E189=0,0,E189*10*1.25)","v":450},null,null,37.5,29]
[null,"VOHNOUT","Zdeněk","9.B",49.5,null,"Jilemnice  30.09.20",{"$f":"IF(E190=0,0,E190*10*1.25)","v":618.75},null,46.19,44,33.5]

{"sheet":"KOULE","index":13,"n_rows":190,"n_cols":12,"rows_kept":190,"cut":false,"hidden":false,"merged":[]}
[null,null,"VÝKONY  2020 - 2021",null,null,null,"KOULE","CHLAPCI  6. -  9.  ROČ."]
[null,"stav  k ",{"$f":"TODAY()","v":"2021-06-28"},null,null,null,null,null,null,"19  - 20","18  - 19","17 - 18"]
[]
["1.",{"$f":"B101","v":"BOUKAL"},{"$f":"C101","v":"Jakub"},"6.A",6.87,null,"Jilemnice  09.06.21",548.33333333333337,null,0,0,0]
["2.",{"$f":"B102","v":"DEMČUK"},"Ilja","6.A",6.28,null,"Jilemnice  31.05.21",515.55555555555554,null,0,0,0]
["3.",{"$f":"B103","v":"FAISTAUER"},"Kryštof","6.A",5.8,null,"Jilemnice  31.05.21",488.88888888888886,null,0,0,0]
["4.",{"$f":"B104","v":"FRK"},"Matyáš","6.A",0,null,0,0,null,0,0,0]
["5.",{"$f":"B105","v":"HUBÁLOVSKÝ"},"Marek","6.A",4.45,null,"Jilemnice  31.05.21",413.88888888888886,null,0,0,0]
["6.",{"$f":"B106","v":"MAŘAS"},"Dominik","6.A",6.31,null,"Jilemnice  31.05.21",517.22222222222217,null,0,0,0]
["7.",{"$f":"B107","v":"MAŤÁTKO"},"Jakub","6.A",4.84,null,"Jilemnice  09.06.21",435.55555555555554,null,0,0,0]
["8.",{"$f":"B108","v":"MERY"},"Luboš","6.A",0,null,0,0,null,0,0,0]
["9.",{"$f":"B109","v":"NOVOTNÝ"},"Matěj","6.A",0,null,0,0,null,0,0,0]
["10.",{"$f":"B110","v":"ŘEHOŘEK"},"Vojtěch","6.A",6.13,null,"Jilemnice  31.05.21",507.22222222222223,null,0,0,0]
["11.",{"$f":"B111","v":"ŠÍR"},"Matyáš","6.A",3.83,null,"Jilemnice  31.05.21",379.44444444444446,null,0,0,0]
["12.",{"$f":"B112","v":"TORÁČ"},"Tomáš","6.A",4.6900000000000004,null,"Jilemnice  09.06.21",427.22222222222223,null,0,0,0]
["13.",{"$f":"B113","v":"ULLMAN"},"Šimon","6.A",0,null," ",0,null,0,0,0]
["14.",{"$f":"B114","v":"VÁCLAVÍK"},"Ondřej","6.A",5.8,null,"Jilemnice  31.05.21",488.88888888888886,null,0,0,0]
["15.",{"$f":"B115","v":"AUERSWALD"},"Daniel","6.B",5.53,null,"Jilemnice  31.05.21",473.88888888888886,null,0,0,0]
["16.",{"$f":"B116","v":"BODLÁK"},"Vladimír","6.B",10.24,null,"Jilemnice  31.05.21",735.55555555555554,null,0,0,0]
["17.",{"$f":"B117","v":"BUDÍN"},"Martin","6.B",4.08,null,"Jilemnice  31.05.21",393.33333333333331,null,0,0,0]
["18.",{"$f":"B118","v":"DVOŘÁK"},"Dominik","6.B",0,null,0,0,null,0,0,0]
["19.",{"$f":"B119","v":"FIŠERA"},"Vojtěch","6.B",6,null,"Jilemnice  31.05.21",500,null,0,0,0]
["20.",{"$f":"B120","v":"JINDŘIŠEK"},"Vít","6.B",0,null,0,0,null,0,0,0]
["21.",{"$f":"B121","v":"JIROUŠ"},"Matouš","6.B",5.44,null,"Jilemnice  31.05.21",468.88888888888886,null,0,0,0]
["22.",{"$f":"B122","v":"KERLE"},"Marek","6.B",6.76,null,"Jilemnice  31.05.21",542.22222222222217,null,0,0,0]
["23.",{"$f":"B123","v":"LUKEŠ"},"Jakub","6.B",5.47,null,"Jilemnice  31.05.21",470.55555555555554,null,0,0,0]
["24.",{"$f":"B124","v":"OTT"},"Matyáš","6.B",4.7,null,{"$f":"G125","v":"Jilemnice  31.05.21"},427.77777777777777,null,0,0,0]
["25.",{"$f":"B125","v":"POKORNÝ"},"Matyáš","6.B",5.3,null,{"$f":"G125","v":"Jilemnice  31.05.21"},461.11111111111109,null,0,0,0]
["26.","POLÁČEK","Matyáš","6.B",6.05,null,"Jilemnice  31.05.21",502.77777777777777,null,0,0,0]
["27.",{"$f":"B127","v":"SOUKUP"},"Patrik","6.B",5.5,null,"Jilemnice  31.05.21",472.22222222222223,null,0,0,0]
["28.",{"$f":"B128","v":"VALENTA"},"Jakub","6.B",5.2,null,"Jilemnice  31.05.21",455.55555555555554,null,0,0,0]
["29.",{"$f":"B129","v":"VRBATA"},"Dominik","6.B",5.95,null,"Jilemnice  31.05.21",497.22222222222223,null,0,0,0]
["30.",{"$f":"B130","v":"FEJKL"},"Jan","7.A",7.87,null,"Jilemnice  31.05.21",603.88888888888891,null,0,0,0]
["31.",{"$f":"B131","v":"KOTYK"},"Tadeáš","7.A",6.19,null,"Jilemnice  31.05.21",510.55555555555554,null,0,0,0]
["32.",{"$f":"B132","v":"KRAUSE"},"Tadeáš","7.A",5.62,null,"Jilemnice  31.05.21",478.88888888888886,null,0,0,0]
["33.",{"$f":"B133","v":"LEŠÁK"},"Martin","7.A",6.03,null,"Jilemnice  31.05.21",501.66666666666663,null,0,0,0]
["34.",{"$f":"B134","v":"NECHANICKÝ"},"David","7.A",0,null,0,0,null,0,0,0]
["35.",{"$f":"B135","v":"ŘEHOŘEK"},"Jan","7.A",5.28,null,"Jilemnice  31.05.21",460,null,0,0,0]
["36.",{"$f":"B136","v":"SOUKUP"},"Ondřej","7.A",0,null,0,0,null,0,0,0]
["37.",{"$f":"B137","v":"SPANILÝ"},"David","7.A",5.67,null,"Jilemnice  31.05.21",481.66666666666663,null,0,0,0]
["38.",{"$f":"B138","v":"ČADAN"},"Benjamín","7.B",5.4,null,"Jilemnice  31.05.21",466.66666666666663,null,0,0,0]
["39.",{"$f":"B139","v":"ČERNÝ"},"Michal","7.B",5.35,null,"Jilemnice  31.05.21",463.88888888888886,null,0,0,0]
["40.",{"$f":"B140","v":"DOLEJŠÍ"},"David","7.B",6.3,null,"Jilemnice  31.05.21",516.66666666666663,null,0,0,0]
["41.",{"$f":"B141","v":"NOVÁK"},"Matěj","7.B",5.34,null,"Jilemnice  31.05.21",463.33333333333331,null,0,0,0]
["42.",{"$f":"B142","v":"POVAŽANEC"},"Martin","7.B",8.61,null,"Jilemnice  31.05.21",645,null,0,0,0]
["43.",{"$f":"B143","v":"RICHTER"},"Jakub","7.B",0,null,0,0,null,0,0,0]
["44.",{"$f":"B144","v":"ROZUMEK"},"Adam","7.B",7.72,null,"Jilemnice  31.05.21",595.55555555555554,null,0,0,0]
["45.",{"$f":"B145","v":"VALENTA"},"František","7.B",6.24,null,"Jilemnice  31.05.21",513.33333333333337,null,0,0,0]
["46.",{"$f":"B146","v":"ZAPLATÍLEK"},"Josef","7.B",5.41,null,"Jilemnice  31.05.21",467.22222222222223,null,0,0,0]
["47.",{"$f":"B147","v":"ERBEN"},"Viktor","8.A",5.83,null,"Jilemnice  31.05.21",490.55555555555554,null,5.6,4.28,0]
["48.",{"$f":"B148","v":"FRANC"},"Daniel","8.A",0,null,0,0,null,4.99,4.88,0]
["49.",{"$f":"B149","v":"JINDŘIŠEK"},"Matyáš","8.A",8.59,null,"Jilemnice  31.05.21",643.88888888888891,null,7,6.28,0]
["50.",{"$f":"B150","v":"KOLAČNÝ"},"Štěpán","8.A",7.81,null,"Jilemnice  31.05.21",600.55555555555554,null,5.67,4.1100000000000003,0]
["51.",{"$f":"B151","v":"KRISTAN"},"Jáchym","8.A",3.7,null,"Jilemnice  31.05.21",372.22222222222223,null,3.57,3.45,0]
["52.",{"$f":"B152","v":"NGUYEN"},"David","8.A",5.9,null,"Jilemnice  31.05.21",0,null,0,0,0]
["53.",{"$f":"B153","v":"NOVOTNÝ"},"Jan","8.A",0,null,0,0,null,6.25,5.5,0]
["54.",{"$f":"B154","v":"RÁB"},"Adam","8.A",8.01,null,"Jilemnice  31.05.21",611.66666666666663,null,5.82,5.62,0]
["55.",{"$f":"B155","v":"REPASKÝ"},"Jakub","8.A",9.02,null,"Jilemnice  31.05.21",667.77777777777771,null,7.76,7.93,0]
["56.",{"$f":"B156","v":"SKÁLA"},"Jan","8.A",9.39,null,"Jilemnice  31.05.21",688.33333333333337,null,7.6,6.43,0]
["57.",{"$f":"B157","v":"ŠPULÁK"},"Jakub","8.A",8.91,null,"Jilemnice  31.05.21",661.66666666666663,null,0,7.3,0]
["58.",{"$f":"B158","v":"VALENTA"},"Tomáš","8.A",10.8,null,"Jilemnice  31.05.21",766.66666666666663,null,8.02,9.07,0]
["59.",{"$f":"B159","v":"VANCL"},"Jiří","8.A",7.51,null,"Jilemnice  31.05.21",583.88888888888891,null,5.95,5.53,0]
["60.",{"$f":"B160","v":"VAŠÍČEK"},"David","8.A",0,null,0,0,null,4.6100000000000003,4.5999999999999996,0]
["61.",{"$f":"B161","v":"ZOUHAR"},"Ondřej","8.A",6.37,null,"Jilemnice  31.05.21",520.55555555555554,null,5.17,4.4400000000000004,0]
["62.",{"$f":"B162","v":"ZUZÁNEK"},"Filip","8.A",6.6,null,"Jilemnice  31.05.21",533.33333333333337,null,6.13,5.45,0]
["63.",{"$f":"B163","v":"BRUMLICH"},"Jan","9.A",12.17,null,"Jilemnice  16.06.21",842.77777777777771,null,10.26,9.32,0]
["64.",{"$f":"B164","v":"BUCHAR"},"Jiří","9.A",0,null," ",0,null,8.08,7.4,6.98]
["65.",{"$f":"B165","v":"FAISTAVER"},"Jiří","9.A",7.8,null,"Jilemnice  31.05.21",600,null,6.78,5.4,5.04]
["66.",{"$f":"B166","v":"FAISTAVER"},"Roman","9.A",10.11,null,"Jilemnice  31.05.21",728.33333333333337,null,9.61,8.26,6.16]
["67.",{"$f":"B167","v":"FAJSTAVR"},"Jakub","9.A",10.23,null,"Jilemnice  31.05.21",735,null,9.09,6.64,7.13]
["68.",{"$f":"B168","v":"FARSKÝ"},"Vojtěch","9.A",9.2899999999999991,null,"Jilemnice  31.05.21",682.77777777777771,null,7.75,7.32,5.7]
["69.",{"$f":"B169","v":"HOLUBEC"},"Lukáš","9.A",8.6300000000000008,null,"Jilemnice  16.06.21",646.11111111111109,null,7.14,6.12,6.06]
["70.",{"$f":"B170","v":"CHAROUZ"},"Vojtěch","9.A",8,null,"Jilemnice  31.05.21",611.11111111111109,null,6.79,0,5.1100000000000003]
["71.",{"$f":"B171","v":"IACCHERI"},"Carlo","9.A",9.06,null,"Jilemnice  16.06.21",670,null,7.04,0,5.24]
["72.",{"$f":"B172","v":"JOHN"},"Adrian","9.A",6.02,null,"Jilemnice  31.05.21",501.11111111111109,null,4.82,0,3.87]
["73.",{"$f":"B173","v":"KRČÍK"},"Matthew","9.A",8.3800000000000008,null,"Jilemnice  16.06.21",632.22222222222217,null,6.56,5.4,4.8]
["74.",{"$f":"B174","v":"KRESAN"},"Vojtěch","9.A",8.8800000000000008,null,"Jilemnice  31.05.21",660,null,6.69,5.86,0]
["75.",{"$f":"B175","v":"LÁNSKÝ"},"Vojtěch","9.A",8.6999999999999993,null,"Jilemnice  31.05.21",650,null,6.92,7.15,5.84]
["76.",{"$f":"B176","v":"LEŠÁK"},"Lukáš","9.A",6.75,null,"Jilemnice  31.05.21",541.66666666666663,null,6.28,4.55,4.9000000000000004]
["77.",{"$f":"B177","v":"RYPL"},"Matyáš","9.A",6.98,null,"Jilemnice  31.05.21",554.44444444444446,null,6.41,5.57,4.3]
["78.",{"$f":"B178","v":"VU TRAN DINH "},"Lukas","9.A",9.44,null,"Jilemnice  16.06.21",691.11111111111109,null,7.04,0,0]
["79.",{"$f":"B179","v":"DUFEK"},"Matyáš","9.B",0,null," ",0,null,6.17,4.95,5.39]
["80.",{"$f":"B180","v":"JEŽEK"},"Jonáš","9.B",8.77,null,"Jilemnice  31.05.21",653.88888888888891,null,7.08,6.29,5.57]
["81.",{"$f":"B181","v":"JEŽEK"},"Mikuláš","9.B",0,null,0,0,null,7.12,5.79,6.06]
["82.",{"$f":"B182","v":"NECHANICKÝ"},"Michal","9.B",7.34,null,"Jilemnice  31.05.21",574.44444444444446,null,6.5,4.8899999999999997,4.78]
["83.",{"$f":"B183","v":"PAULÍČEK"},"Jakub","9.B",0,null,0,0,null,6.8,6.76,0]
["84.",{"$f":"B184","v":"POHOŘALÝ"},"Jakub","9.B",10.72,null,"Jilemnice  16.06.21",762.22222222222217,null,0,5.88,5.32]
["85.",{"$f":"B185","v":"POSPÍCHAL"},"Daniel","9.B",9.31,null,"Jilemnice  31.05.21",683.88888888888891,null,6.94,6.24,6.19]
["86.",{"$f":"B186","v":"SOUKUP"},"Lukáš","9.B",10.39,null,"Jilemnice  16.06.21",743.88888888888891,null,9.06,7.05,7.54]
["87.",{"$f":"B187","v":"VANCL"},"Jan","9.B",12.1,null,"Jilemnice  31.05.21",838.88888888888891,null,10.24,8.8800000000000008,7.9]
["88.",{"$f":"B188","v":"VANCL"},"Lukáš","9.B",13.64,null,"Jilemnice  31.05.21",924.44444444444446,null,10.6,7.62,7.36]
["89.",{"$f":"B189","v":"VAŠÍK"},"Jiří","9.B",8.2799999999999994,null,"Jilemnice  16.06.21",626.66666666666663,null,7.45,0,5.29]
["90.",{"$f":"B190","v":"VOHNOUT"},"Zdeněk","9.B",9.92,null,"Jilemnice  31.05.21",717.77777777777771,null,8.26,6.97,6.24]
[]
[]
[]
[]
[]
[]
[]
[null,"BOUKAL","Jakub","6.A",6.87,null,"Jilemnice  09.06.21",{"$f":"IF(E101=0,0,(25*E101+75)/0.45)","v":548.33333333333337}]
[null,"DEMČUK","Ilja","6.A",6.28,null,"Jilemnice  31.05.21",{"$f":"IF(E102=0,0,(25*E102+75)/0.45)","v":515.55555555555554}]
[null,"FAISTAUER","Kryštof","6.A",5.8,null,"Jilemnice  31.05.21",{"$f":"IF(E103=0,0,(25*E103+75)/0.45)","v":488.88888888888886}]
[null,"FRK","Matyáš","6.A",null,null,null,{"$f":"IF(E104=0,0,(25*E104+75)/0.45)","v":0}]
[null,"HUBÁLOVSKÝ","Marek","6.A",4.45,null,"Jilemnice  31.05.21",{"$f":"IF(E105=0,0,(25*E105+75)/0.45)","v":413.88888888888886}]
[null,"MAŘAS","Dominik","6.A",6.31,null,"Jilemnice  31.05.21",{"$f":"IF(E106=0,0,(25*E106+75)/0.45)","v":517.22222222222217}]
[null,"MAŤÁTKO","Jakub","6.A",4.84,null,"Jilemnice  09.06.21",{"$f":"IF(E107=0,0,(25*E107+75)/0.45)","v":435.55555555555554}]
[null,"MERY","Luboš","6.A",null,null,null,{"$f":"IF(E108=0,0,(25*E108+75)/0.45)","v":0}]
[null,"NOVOTNÝ","Matěj","6.A",null,null,null,{"$f":"IF(E109=0,0,(25*E109+75)/0.45)","v":0}]
[null,"ŘEHOŘEK","Vojtěch","6.A",6.13,null,"Jilemnice  31.05.21",{"$f":"IF(E110=0,0,(25*E110+75)/0.45)","v":507.22222222222223}]
[null,"ŠÍR","Matyáš","6.A",3.83,null,"Jilemnice  31.05.21",{"$f":"IF(E111=0,0,(25*E111+75)/0.45)","v":379.44444444444446}]
[null,"TORÁČ","Tomáš","6.A",4.6900000000000004,null,"Jilemnice  09.06.21",{"$f":"IF(E112=0,0,(25*E112+75)/0.45)","v":427.22222222222223}]
[null,"ULLMAN","Šimon","6.A",0,null," ",{"$f":"IF(E113=0,0,(25*E113+75)/0.45)","v":0}]
[null,"VÁCLAVÍK","Ondřej","6.A",5.8,null,"Jilemnice  31.05.21",{"$f":"IF(E114=0,0,(25*E114+75)/0.45)","v":488.88888888888886}]
[null,"AUERSWALD","Daniel","6.B",5.53,null,"Jilemnice  31.05.21",{"$f":"IF(E115=0,0,(25*E115+75)/0.45)","v":473.88888888888886}]
[null,"BODLÁK","Vladimír","6.B",10.24,null,"Jilemnice  31.05.21",{"$f":"IF(E116=0,0,(25*E116+75)/0.45)","v":735.55555555555554}]
[null,"BUDÍN","Martin","6.B",4.08,null,"Jilemnice  31.05.21",{"$f":"IF(E117=0,0,(25*E117+75)/0.45)","v":393.33333333333331}]
[null,"DVOŘÁK","Dominik","6.B",null,null,null,{"$f":"IF(E118=0,0,(25*E118+75)/0.45)","v":0}]
[null,"FIŠERA","Vojtěch","6.B",6,null,"Jilemnice  31.05.21",{"$f":"IF(E119=0,0,(25*E119+75)/0.45)","v":500}]
[null,"JINDŘIŠEK","Vít","6.B",null,null,null,{"$f":"IF(E120=0,0,(25*E120+75)/0.45)","v":0}]
[null,"JIROUŠ","Matouš","6.B",5.44,null,"Jilemnice  31.05.21",{"$f":"IF(E121=0,0,(25*E121+75)/0.45)","v":468.88888888888886}]
[null,"KERLE","Marek","6.B",6.76,null,"Jilemnice  31.05.21",{"$f":"IF(E122=0,0,(25*E122+75)/0.45)","v":542.22222222222217}]
[null,"LUKEŠ","Jakub","6.B",5.47,null,"Jilemnice  31.05.21",{"$f":"IF(E123=0,0,(25*E123+75)/0.45)","v":470.55555555555554}]
[null,"OTT","Matyáš","6.B",4.7,null,"Jilemnice  31.05.21",{"$f":"IF(E124=0,0,(25*E124+75)/0.45)","v":427.77777777777777}]
[null,"POKORNÝ","Matyáš","6.B",5.3,null,"Jilemnice  31.05.21",{"$f":"IF(E125=0,0,(25*E125+75)/0.45)","v":461.11111111111109}]
[null,"POLÁČEK","Matyáš","6.B",6.05,null,"Jilemnice  31.05.21",{"$f":"IF(E126=0,0,(25*E126+75)/0.45)","v":502.77777777777777}]
[null,"SOUKUP","Patrik","6.B",5.5,null,"Jilemnice  31.05.21",{"$f":"IF(E127=0,0,(25*E127+75)/0.45)","v":472.22222222222223}]
[null,"VALENTA","Jakub","6.B",5.2,null,"Jilemnice  31.05.21",{"$f":"IF(E128=0,0,(25*E128+75)/0.45)","v":455.55555555555554}]
[null,"VRBATA","Dominik","6.B",5.95,null,"Jilemnice  31.05.21",{"$f":"IF(E129=0,0,(25*E129+75)/0.45)","v":497.22222222222223}]
[null,"FEJKL","Jan","7.A",7.87,null,"Jilemnice  31.05.21",{"$f":"IF(E130=0,0,(25*E130+75)/0.45)","v":603.88888888888891}]
[null,"KOTYK","Tadeáš","7.A",6.19,null,"Jilemnice  31.05.21",{"$f":"IF(E131=0,0,(25*E131+75)/0.45)","v":510.55555555555554}]
[null,"KRAUSE","Tadeáš","7.A",5.62,null,"Jilemnice  31.05.21",{"$f":"IF(E132=0,0,(25*E132+75)/0.45)","v":478.88888888888886}]
[null,"LEŠÁK","Martin","7.A",6.03,null,"Jilemnice  31.05.21",{"$f":"IF(E133=0,0,(25*E133+75)/0.45)","v":501.66666666666663}]
[null,"NECHANICKÝ","David","7.A",null,null,null,{"$f":"IF(E134=0,0,(25*E134+75)/0.45)","v":0}]
[null,"ŘEHOŘEK","Jan","7.A",5.28,null,"Jilemnice  31.05.21",{"$f":"IF(E135=0,0,(25*E135+75)/0.45)","v":460}]
[null,"SOUKUP","Ondřej","7.A",null,null,null,{"$f":"IF(E136=0,0,(25*E136+75)/0.45)","v":0}]
[null,"SPANILÝ","David","7.A",5.67,null,"Jilemnice  31.05.21",{"$f":"IF(E137=0,0,(25*E137+75)/0.45)","v":481.66666666666663}]
[null,"ČADAN","Benjamín","7.B",5.4,null,"Jilemnice  31.05.21",{"$f":"IF(E138=0,0,(25*E138+75)/0.45)","v":466.66666666666663}]
[null,"ČERNÝ","Michal","7.B",5.35,null,"Jilemnice  31.05.21",{"$f":"IF(E139=0,0,(25*E139+75)/0.45)","v":463.88888888888886}]
[null,"DOLEJŠÍ","David","7.B",6.3,null,"Jilemnice  31.05.21",{"$f":"IF(E140=0,0,(25*E140+75)/0.45)","v":516.66666666666663}]
[null,"NOVÁK","Matěj","7.B",5.34,null,"Jilemnice  31.05.21",{"$f":"IF(E141=0,0,(25*E141+75)/0.45)","v":463.33333333333331}]
[null,"POVAŽANEC","Martin","7.B",8.61,null,"Jilemnice  31.05.21",{"$f":"IF(E142=0,0,(25*E142+75)/0.45)","v":645}]
[null,"RICHTER","Jakub","7.B",null,null,null,{"$f":"IF(E143=0,0,(25*E143+75)/0.45)","v":0}]
[null,"ROZUMEK","Adam","7.B",7.72,null,"Jilemnice  31.05.21",{"$f":"IF(E144=0,0,(25*E144+75)/0.45)","v":595.55555555555554}]
[null,"VALENTA","František","7.B",6.24,null,"Jilemnice  31.05.21",{"$f":"IF(E145=0,0,(25*E145+75)/0.45)","v":513.33333333333337}]
[null,"ZAPLATÍLEK","Josef","7.B",5.41,null,"Jilemnice  31.05.21",{"$f":"IF(E146=0,0,(25*E146+75)/0.45)","v":467.22222222222223}]
[null,"ERBEN","Viktor","8.A",5.83,null,"Jilemnice  31.05.21",{"$f":"IF(E147=0,0,(25*E147+75)/0.45)","v":490.55555555555554},null,5.6,4.28]
[null,"FRANC","Daniel","8.A",null,null,null,{"$f":"IF(E148=0,0,(25*E148+75)/0.45)","v":0},null,4.99,4.88]
[null,"JINDŘIŠEK","Matyáš","8.A",8.59,null,"Jilemnice  31.05.21",{"$f":"IF(E149=0,0,(25*E149+75)/0.45)","v":643.88888888888891},null,7,6.28]
[null,"KOLAČNÝ","Štěpán","8.A",7.81,null,"Jilemnice  31.05.21",{"$f":"IF(E150=0,0,(25*E150+75)/0.45)","v":600.55555555555554},null,5.67,4.1100000000000003]
[null,"KRISTAN","Jáchym","8.A",3.7,null,"Jilemnice  31.05.21",{"$f":"IF(E151=0,0,(25*E151+75)/0.45)","v":372.22222222222223},null,3.57,3.45]
[null,"NGUYEN","David","8.A",5.9,null,"Jilemnice  31.05.21"]
[null,"NOVOTNÝ","Jan","8.A",null,null,null,{"$f":"IF(E153=0,0,(25*E153+75)/0.45)","v":0},null,6.25,5.5]
[null,"RÁB","Adam","8.A",8.01,null,"Jilemnice  31.05.21",{"$f":"IF(E154=0,0,(25*E154+75)/0.45)","v":611.66666666666663},null,5.82,5.62]
[null,"REPASKÝ","Jakub","8.A",9.02,null,"Jilemnice  31.05.21",{"$f":"IF(E155=0,0,(25*E155+75)/0.45)","v":667.77777777777771},null,7.76,7.93]
[null,"SKÁLA","Jan","8.A",9.39,null,"Jilemnice  31.05.21",{"$f":"IF(E156=0,0,(25*E156+75)/0.45)","v":688.33333333333337},null,7.6,6.43]
[null,"ŠPULÁK","Jakub","8.A",8.91,null,"Jilemnice  31.05.21",{"$f":"IF(E157=0,0,(25*E157+75)/0.45)","v":661.66666666666663},null,null,7.3]
[null,"VALENTA","Tomáš","8.A",10.8,null,"Jilemnice  31.05.21",{"$f":"IF(E158=0,0,(25*E158+75)/0.45)","v":766.66666666666663},null,8.02,9.07]
[null,"VANCL","Jiří","8.A",7.51,null,"Jilemnice  31.05.21",{"$f":"IF(E159=0,0,(25*E159+75)/0.45)","v":583.88888888888891},null,5.95,5.53]
[null,"VAŠÍČEK","David","8.A",null,null,null,{"$f":"IF(E160=0,0,(25*E160+75)/0.45)","v":0},null,4.6100000000000003,4.5999999999999996]
[null,"ZOUHAR","Ondřej","8.A",6.37,null,"Jilemnice  31.05.21",{"$f":"IF(E161=0,0,(25*E161+75)/0.45)","v":520.55555555555554},null,5.17,4.4400000000000004]
[null,"ZUZÁNEK","Filip","8.A",6.6,null,"Jilemnice  31.05.21",{"$f":"IF(E162=0,0,(25*E162+75)/0.45)","v":533.33333333333337},null,6.13,5.45]
[null,"BRUMLICH","Jan","9.A",12.17,null,"Jilemnice  16.06.21",{"$f":"IF(E163=0,0,(25*E163+75)/0.45)","v":842.77777777777771},null,10.26,9.32]
[null,"BUCHAR","Jiří","9.A",null,null," ",{"$f":"IF(E164=0,0,(25*E164+75)/0.45)","v":0},null,8.08,7.4,6.98]
[null,"FAISTAVER","Jiří","9.A",7.8,null,"Jilemnice  31.05.21",{"$f":"IF(E165=0,0,(25*E165+75)/0.45)","v":600},null,6.78,5.4,5.04]
[null,"FAISTAVER","Roman","9.A",10.11,null,"Jilemnice  31.05.21",{"$f":"IF(E166=0,0,(25*E166+75)/0.45)","v":728.33333333333337},null,9.61,8.26,6.16]
[null,"FAJSTAVR","Jakub","9.A",10.23,null,"Jilemnice  31.05.21",{"$f":"IF(E167=0,0,(25*E167+75)/0.45)","v":735},null,9.09,6.64,7.13]
[null,"FARSKÝ","Vojtěch","9.A",9.2899999999999991,null,"Jilemnice  31.05.21",{"$f":"IF(E168=0,0,(25*E168+75)/0.45)","v":682.77777777777771},null,7.75,7.32,5.7]
[null,"HOLUBEC","Lukáš","9.A",8.6300000000000008,null,"Jilemnice  16.06.21",{"$f":"IF(E169=0,0,(25*E169+75)/0.45)","v":646.11111111111109},null,7.14,6.12,6.06]
[null,"CHAROUZ","Vojtěch","9.A",8,null,"Jilemnice  31.05.21",{"$f":"IF(E170=0,0,(25*E170+75)/0.45)","v":611.11111111111109},null,6.79,null,5.1100000000000003]
[null,"IACCHERI","Carlo","9.A",9.06,null,"Jilemnice  16.06.21",{"$f":"IF(E171=0,0,(25*E171+75)/0.45)","v":670},null,7.04,null,5.24]
[null,"JOHN","Adrian","9.A",6.02,null,"Jilemnice  31.05.21",{"$f":"IF(E172=0,0,(25*E172+75)/0.45)","v":501.11111111111109},null,4.82,null,3.87]
[null,"KRČÍK","Matthew","9.A",8.3800000000000008,null,"Jilemnice  16.06.21",{"$f":"IF(E173=0,0,(25*E173+75)/0.45)","v":632.22222222222217},null,6.56,5.4,4.8]
[null,"KRESAN","Vojtěch","9.A",8.8800000000000008,null,"Jilemnice  31.05.21",{"$f":"IF(E174=0,0,(25*E174+75)/0.45)","v":660},null,6.69,5.86]
[null,"LÁNSKÝ","Vojtěch","9.A",8.6999999999999993,null,"Jilemnice  31.05.21",{"$f":"IF(E175=0,0,(25*E175+75)/0.45)","v":650},null,6.92,7.15,5.84]
[null,"LEŠÁK","Lukáš","9.A",6.75,null,"Jilemnice  31.05.21",{"$f":"IF(E176=0,0,(25*E176+75)/0.45)","v":541.66666666666663},null,6.28,4.55,4.9000000000000004]
[null,"RYPL","Matyáš","9.A",6.98,null,"Jilemnice  31.05.21",{"$f":"IF(E177=0,0,(25*E177+75)/0.45)","v":554.44444444444446},null,6.41,5.57,4.3]
[null,"VU TRAN DINH ","Lukas","9.A",9.44,null,"Jilemnice  16.06.21",{"$f":"IF(E178=0,0,(25*E178+75)/0.45)","v":691.11111111111109},null,7.04]
[null,"DUFEK","Matyáš","9.B",null,null," ",{"$f":"IF(E179=0,0,(25*E179+75)/0.45)","v":0},null,6.17,4.95,5.39]
[null,"JEŽEK","Jonáš","9.B",8.77,null,"Jilemnice  31.05.21",{"$f":"IF(E180=0,0,(25*E180+75)/0.45)","v":653.88888888888891},null,7.08,6.29,5.57]
[null,"JEŽEK","Mikuláš","9.B",null,null,null,{"$f":"IF(E181=0,0,(25*E181+75)/0.45)","v":0},null,7.12,5.79,6.06]
[null,"NECHANICKÝ","Michal","9.B",7.34,null,"Jilemnice  31.05.21",{"$f":"IF(E182=0,0,(25*E182+75)/0.45)","v":574.44444444444446},null,6.5,4.8899999999999997,4.78]
[null,"PAULÍČEK","Jakub","9.B",null,null,null,{"$f":"IF(E183=0,0,(25*E183+75)/0.45)","v":0},null,6.8,6.76]
[null,"POHOŘALÝ","Jakub","9.B",10.72,null,"Jilemnice  16.06.21",{"$f":"IF(E184=0,0,(25*E184+75)/0.45)","v":762.22222222222217},null,null,5.88,5.32]
[null,"POSPÍCHAL","Daniel","9.B",9.31,null,"Jilemnice  31.05.21",{"$f":"IF(E185=0,0,(25*E185+75)/0.45)","v":683.88888888888891},null,6.94,6.24,6.19]
[null,"SOUKUP","Lukáš","9.B",10.39,null,"Jilemnice  16.06.21",{"$f":"IF(E186=0,0,(25*E186+75)/0.45)","v":743.88888888888891},null,9.06,7.05,7.54]
[null,"VANCL","Jan","9.B",12.1,null,"Jilemnice  31.05.21",{"$f":"IF(E187=0,0,(25*E187+75)/0.45)","v":838.88888888888891},null,10.24,8.8800000000000008,7.9]
[null,"VANCL","Lukáš","9.B",13.64,null,"Jilemnice  31.05.21",{"$f":"IF(E188=0,0,(25*E188+75)/0.45)","v":924.44444444444446},null,10.6,7.62,7.36]
[null,"VAŠÍK","Jiří","9.B",8.2799999999999994,null,"Jilemnice  16.06.21",{"$f":"IF(E189=0,0,(25*E189+75)/0.45)","v":626.66666666666663},null,7.45,null,5.29]
[null,"VOHNOUT","Zdeněk","9.B",9.92,null,"Jilemnice  31.05.21",{"$f":"IF(E190=0,0,(25*E190+75)/0.45)","v":717.77777777777771},null,8.26,6.97,6.24]

{"sheet":"OŠTĚP","index":14,"n_rows":190,"n_cols":12,"rows_kept":190,"cut":false,"hidden":false,"merged":[]}
[null,null,"VÝKONY  2020 - 2021",null,null,null,"OŠTĚP","CHLAPCI  6. -  9.  ROČ."]
[null,"stav  k ",{"$f":"TODAY()","v":"2021-06-28"},null,null,null,null,null,null,"19  - 20","18  - 19","17 - 18"]
[]
["1.",{"$f":"B101","v":"BOUKAL"},{"$f":"C101","v":"Jakub"},"6.A",0,null,0,0,null,0,0,0]
["2.",{"$f":"B102","v":"DEMČUK"},"Ilja","6.A",0,null,0,0,null,0,0,0]
["3.",{"$f":"B103","v":"FAISTAUER"},"Kryštof","6.A",0,null,0,0,null,0,0,0]
["4.",{"$f":"B104","v":"FRK"},"Matyáš","6.A",0,null,0,0,null,0,0,0]
["5.",{"$f":"B105","v":"HUBÁLOVSKÝ"},"Marek","6.A",0,null,0,0,null,0,0,0]
["6.",{"$f":"B106","v":"MAŘAS"},"Dominik","6.A",0,null,0,0,null,0,0,0]
["7.",{"$f":"B107","v":"MAŤÁTKO"},"Jakub","6.A",0,null,0,0,null,0,0,0]
["8.",{"$f":"B108","v":"MERY"},"Luboš","6.A",0,null,0,0,null,0,0,0]
["9.",{"$f":"B109","v":"NOVOTNÝ"},"Matěj","6.A",0,null,0,0,null,0,0,0]
["10.",{"$f":"B110","v":"ŘEHOŘEK"},"Vojtěch","6.A",0,null,0,0,null,0,0,0]
["11.",{"$f":"B111","v":"ŠÍR"},"Matyáš","6.A",0,null,0,0,null,0,0,0]
["12.",{"$f":"B112","v":"TORÁČ"},"Tomáš","6.A",0,null,0,0,null,0,0,0]
["13.",{"$f":"B113","v":"ULLMAN"},"Šimon","6.A",0,null,0,0,null,0,0,0]
["14.",{"$f":"B114","v":"VÁCLAVÍK"},"Ondřej","6.A",0,null,0,0,null,0,0,0]
["15.",{"$f":"B115","v":"AUERSWALD"},"Daniel","6.B",0,null,0,0,null,0,0,0]
["16.",{"$f":"B116","v":"BODLÁK"},"Vladimír","6.B",0,null,0,0,null,0,0,0]
["17.",{"$f":"B117","v":"BUDÍN"},"Martin","6.B",0,null,0,0,null,0,0,0]
["18.",{"$f":"B118","v":"DVOŘÁK"},"Dominik","6.B",0,null,0,0,null,0,0,0]
["19.",{"$f":"B119","v":"FIŠERA"},"Vojtěch","6.B",0,null,0,0,null,0,0,0]
["20.",{"$f":"B120","v":"JINDŘIŠEK"},"Vít","6.B",0,null,0,0,null,0,0,0]
["21.",{"$f":"B121","v":"JIROUŠ"},"Matouš","6.B",0,null,0,0,null,0,0,0]
["22.",{"$f":"B122","v":"KERLE"},"Marek","6.B",0,null,0,0,null,0,0,0]
["23.",{"$f":"B123","v":"LUKEŠ"},"Jakub","6.B",0,null,0,0,null,0,0,0]
["24.",{"$f":"B124","v":"OTT"},"Matyáš","6.B",0,null,0,0,null,0,0,0]
["25.",{"$f":"B125","v":"POKORNÝ"},"Matyáš","6.B",0,null,0,0,null,0,0,0]
["26.",{"$f":"B126","v":"POLÁČEK"},"Matyáš","6.B",0,null,0,0,null,0,0,0]
["27.",{"$f":"B127","v":"SOUKUP"},"Patrik","6.B",0,null,0,0,null,0,0,0]
["28.",{"$f":"B128","v":"VALENTA"},"Jakub","6.B",0,null,0,0,null,0,0,0]
["29.",{"$f":"B129","v":"VRBATA"},"Dominik","6.B",0,null,0,0,null,0,0,0]
["30.",{"$f":"B130","v":"FEJKL"},"Jan","7.A",0,null,0,0,null,0,0,0]
["31.",{"$f":"B131","v":"KOTYK"},"Tadeáš","7.A",0,null,0,0,null,0,0,0]
["32.",{"$f":"B132","v":"KRAUSE"},"Tadeáš","7.A",0,null,0,0,null,0,0,0]
["33.",{"$f":"B133","v":"LEŠÁK"},"Martin","7.A",0,null,0,0,null,0,0,0]
["34.",{"$f":"B134","v":"NECHANICKÝ"},"David","7.A",0,null,0,0,null,0,0,0]
["35.",{"$f":"B135","v":"ŘEHOŘEK"},"Jan","7.A",0,null,0,0,null,0,0,0]
["36.",{"$f":"B136","v":"SOUKUP"},"Ondřej","7.A",0,null,0,0,null,0,0,0]
["37.",{"$f":"B137","v":"SPANILÝ"},"David","7.A",0,null,0,0,null,0,0,0]
["38.",{"$f":"B138","v":"ČADAN"},"Benjamín","7.B",0,null,0,0,null,0,0,0]
["39.",{"$f":"B139","v":"ČERNÝ"},"Michal","7.B",0,null,0,0,null,0,0,0]
["40.",{"$f":"B140","v":"DOLEJŠÍ"},"David","7.B",0,null,0,0,null,0,0,0]
["41.",{"$f":"B141","v":"NOVÁK"},"Matěj","7.B",0,null,0,0,null,0,0,0]
["42.",{"$f":"B142","v":"POVAŽANEC"},"Martin","7.B",0,null,0,0,null,0,0,0]
["43.",{"$f":"B143","v":"RICHTER"},"Jakub","7.B",0,null,0,0,null,0,0,0]
["44.",{"$f":"B144","v":"ROZUMEK"},"Adam","7.B",0,null,0,0,null,0,0,0]
["45.",{"$f":"B145","v":"VALENTA"},"František","7.B",0,null,0,0,null,0,0,0]
["46.",{"$f":"B146","v":"ZAPLATÍLEK"},"Josef","7.B",0,null,0,0,null,0,0,0]
["47.",{"$f":"B147","v":"ERBEN"},"Viktor","8.A",0,null,0,0,null,0,0,0]
["48.",{"$f":"B148","v":"FRANC"},"Daniel","8.A",0,null,0,0,null,0,0,0]
["49.",{"$f":"B149","v":"JINDŘIŠEK"},"Matyáš","8.A",0,null,0,0,null,0,0,0]
["50.",{"$f":"B150","v":"KOLAČNÝ"},"Štěpán","8.A",0,null,0,0,null,0,0,0]
["51.",{"$f":"B151","v":"KRISTAN"},"Jáchym","8.A",0,null,0,0,null,0,0,0]
["52.",{"$f":"B152","v":"NGUYEN"},"David","8.A",0,null,0,0,null,0,0,0]
["53.",{"$f":"B153","v":"NOVOTNÝ"},"Jan","8.A",0,null,0,0,null,0,0,0]
["54.",{"$f":"B154","v":"RÁB"},"Adam","8.A",0,null,0,0,null,0,0,0]
["55.",{"$f":"B155","v":"REPASKÝ"},"Jakub","8.A",0,null,0,0,null,0,0,0]
["56.",{"$f":"B156","v":"SKÁLA"},"Jan","8.A",0,null,0,0,null,0,0,0]
["57.",{"$f":"B157","v":"ŠPULÁK"},"Jakub","8.A",0,null,0,0,null,0,0,0]
["58.",{"$f":"B158","v":"VALENTA"},"Tomáš","8.A",0,null,0,0,null,0,0,0]
["59.",{"$f":"B159","v":"VANCL"},"Jiří","8.A",0,null,0,0,null,0,0,0]
["60.",{"$f":"B160","v":"VAŠÍČEK"},"David","8.A",0,null,0,0,null,0,0,0]
["61.",{"$f":"B161","v":"ZOUHAR"},"Ondřej","8.A",0,null,0,0,null,0,0,0]
["62.",{"$f":"B162","v":"ZUZÁNEK"},"Filip","8.A",0,null,0,0,null,0,0,0]
["63.",{"$f":"B163","v":"BRUMLICH"},"Jan","9.A",0,null,0,0,null,0,0,0]
["64.",{"$f":"B164","v":"BUCHAR"},"Jiří","9.A",0,null,0,0,null,0,0,0]
["65.",{"$f":"B165","v":"FAISTAVER"},"Jiří","9.A",0,null,0,0,null,0,0,0]
["66.",{"$f":"B166","v":"FAISTAVER"},"Roman","9.A",0,null,0,0,null,0,0,0]
["67.",{"$f":"B167","v":"FAJSTAVR"},"Jakub","9.A",0,null,0,0,null,0,0,0]
["68.",{"$f":"B168","v":"FARSKÝ"},"Vojtěch","9.A",0,null,0,0,null,0,0,0]
["69.",{"$f":"B169","v":"HOLUBEC"},"Lukáš","9.A",0,null,0,0,null,0,0,0]
["70.",{"$f":"B170","v":"CHAROUZ"},"Vojtěch","9.A",0,null,0,0,null,0,0,0]
["71.",{"$f":"B171","v":"IACCHERI"},"Carlo","9.A",0,null,0,0,null,0,0,0]
["72.",{"$f":"B172","v":"JOHN"},"Adrian","9.A",0,null,0,0,null,0,0,0]
["73.",{"$f":"B173","v":"KRČÍK"},"Matthew","9.A",0,null,0,0,null,0,0,0]
["74.",{"$f":"B174","v":"KRESAN"},"Vojtěch","9.A",0,null,0,0,null,0,0,0]
["75.",{"$f":"B175","v":"LÁNSKÝ"},"Vojtěch","9.A",0,null,0,0,null,0,0,0]
["76.",{"$f":"B176","v":"LEŠÁK"},"Lukáš","9.A",0,null,0,0,null,0,0,0]
["77.",{"$f":"B177","v":"RYPL"},"Matyáš","9.A",0,null,0,0,null,0,0,0]
["78.",{"$f":"B178","v":"VU TRAN DINH "},"Lukas","9.A",0,null,0,0,null,0,0,0]
["79.",{"$f":"B179","v":"DUFEK"},"Matyáš","9.B",0,null,0,0,null,0,0,0]
["80.",{"$f":"B180","v":"JEŽEK"},"Jonáš","9.B",0,null,0,0,null,0,0,0]
["81.",{"$f":"B181","v":"JEŽEK"},"Mikuláš","9.B",0,null,0,0,null,0,0,0]
["82.",{"$f":"B182","v":"NECHANICKÝ"},"Michal","9.B",0,null,0,0,null,0,0,0]
["83.",{"$f":"B183","v":"PAULÍČEK"},"Jakub","9.B",0,null,0,0,null,0,0,0]
["84.",{"$f":"B184","v":"POHOŘALÝ"},"Jakub","9.B",0,null,0,0,null,0,0,0]
["85.",{"$f":"B185","v":"POSPÍCHAL"},"Daniel","9.B",0,null,0,0,null,0,0,0]
["86.",{"$f":"B186","v":"SOUKUP"},"Lukáš","9.B",0,null,0,0,null,0,0,0]
["87.",{"$f":"B187","v":"VANCL"},"Jan","9.B",0,null,0,0,null,0,0,0]
["88.",{"$f":"B188","v":"VANCL"},"Lukáš","9.B",0,null,0,0,null,0,0,0]
["89.",{"$f":"B189","v":"VAŠÍK"},"Jiří","9.B",0,null,0,0,null,0,0,0]
["90.",{"$f":"B190","v":"VOHNOUT"},"Zdeněk","9.B",0,null,0,0,null,0,0,0]
[]
[]
[]
[]
[]
[]
[]
[null,"BOUKAL","Jakub","6.A",null,null,null,{"$f":"IF(E101=0,0,E101*10*1.25)*2","v":0}]
[null,"DEMČUK","Ilja","6.A",null,null,null,{"$f":"IF(E102=0,0,E102*10*1.25)*2","v":0}]
[null,"FAISTAUER","Kryštof","6.A",null,null,null,{"$f":"IF(E103=0,0,E103*10*1.25)*2","v":0}]
[null,"FRK","Matyáš","6.A",null,null,null,{"$f":"IF(E104=0,0,E104*10*1.25)*2","v":0}]
[null,"HUBÁLOVSKÝ","Marek","6.A",null,null,null,{"$f":"IF(E105=0,0,E105*10*1.25)*2","v":0}]
[null,"MAŘAS","Dominik","6.A",null,null,null,{"$f":"IF(E106=0,0,E106*10*1.25)*2","v":0}]
[null,"MAŤÁTKO","Jakub","6.A",null,null,null,{"$f":"IF(E107=0,0,E107*10*1.25)*2","v":0}]
[null,"MERY","Luboš","6.A",null,null,null,{"$f":"IF(E108=0,0,E108*10*1.25)*2","v":0}]
[null,"NOVOTNÝ","Matěj","6.A",null,null,null,{"$f":"IF(E109=0,0,E109*10*1.25)*2","v":0}]
[null,"ŘEHOŘEK","Vojtěch","6.A",null,null,null,{"$f":"IF(E110=0,0,E110*10*1.25)*2","v":0}]
[null,"ŠÍR","Matyáš","6.A",null,null,null,{"$f":"IF(E111=0,0,E111*10*1.25)*2","v":0}]
[null,"TORÁČ","Tomáš","6.A",null,null,null,{"$f":"IF(E112=0,0,E112*10*1.25)*2","v":0}]
[null,"ULLMAN","Šimon","6.A",null,null,null,{"$f":"IF(E113=0,0,E113*10*1.25)*2","v":0}]
[null,"VÁCLAVÍK","Ondřej","6.A",null,null,null,{"$f":"IF(E114=0,0,E114*10*1.25)*2","v":0}]
[null,"AUERSWALD","Daniel","6.B",null,null,null,{"$f":"IF(E115=0,0,E115*10*1.25)*2","v":0}]
[null,"BODLÁK","Vladimír","6.B",null,null,null,{"$f":"IF(E116=0,0,E116*10*1.25)*2","v":0}]
[null,"BUDÍN","Martin","6.B",null,null,null,{"$f":"IF(E117=0,0,E117*10*1.25)*2","v":0}]
[null,"DVOŘÁK","Dominik","6.B",null,null,null,{"$f":"IF(E118=0,0,E118*10*1.25)*2","v":0}]
[null,"FIŠERA","Vojtěch","6.B",null,null,null,{"$f":"IF(E119=0,0,E119*10*1.25)*2","v":0}]
[null,"JINDŘIŠEK","Vít","6.B",null,null,null,{"$f":"IF(E120=0,0,E120*10*1.25)*2","v":0}]
[null,"JIROUŠ","Matouš","6.B",null,null,null,{"$f":"IF(E121=0,0,E121*10*1.25)*2","v":0}]
[null,"KERLE","Marek","6.B",null,null,null,{"$f":"IF(E122=0,0,E122*10*1.25)*2","v":0}]
[null,"LUKEŠ","Jakub","6.B",null,null,null,{"$f":"IF(E123=0,0,E123*10*1.25)*2","v":0}]
[null,"OTT","Matyáš","6.B",null,null,null,{"$f":"IF(E124=0,0,E124*10*1.25)*2","v":0}]
[null,"POKORNÝ","Matyáš","6.B",null,null,null,{"$f":"IF(E125=0,0,E125*10*1.25)*2","v":0}]
[null,"POLÁČEK","Matyáš","6.B",null,null,null,{"$f":"IF(E126=0,0,E126*10*1.25)*2","v":0}]
[null,"SOUKUP","Patrik","6.B",null,null,null,{"$f":"IF(E127=0,0,E127*10*1.25)*2","v":0}]
[null,"VALENTA","Jakub","6.B",null,null,null,{"$f":"IF(E128=0,0,E128*10*1.25)*2","v":0}]
[null,"VRBATA","Dominik","6.B",null,null,null,{"$f":"IF(E129=0,0,E129*10*1.25)*2","v":0}]
[null,"FEJKL","Jan","7.A",null,null,null,{"$f":"IF(E130=0,0,E130*10*1.25)*2","v":0}]
[null,"KOTYK","Tadeáš","7.A",null,null,null,{"$f":"IF(E131=0,0,E131*10*1.25)*2","v":0}]
[null,"KRAUSE","Tadeáš","7.A",null,null,null,{"$f":"IF(E132=0,0,E132*10*1.25)*2","v":0}]
[null,"LEŠÁK","Martin","7.A",null,null,null,{"$f":"IF(E133=0,0,E133*10*1.25)*2","v":0}]
[null,"NECHANICKÝ","David","7.A",null,null,null,{"$f":"IF(E134=0,0,E134*10*1.25)*2","v":0}]
[null,"ŘEHOŘEK","Jan","7.A",null,null,null,{"$f":"IF(E135=0,0,E135*10*1.25)*2","v":0}]
[null,"SOUKUP","Ondřej","7.A",null,null,null,{"$f":"IF(E136=0,0,E136*10*1.25)*2","v":0}]
[null,"SPANILÝ","David","7.A",null,null,null,{"$f":"IF(E137=0,0,E137*10*1.25)*2","v":0}]
[null,"ČADAN","Benjamín","7.B",null,null,null,{"$f":"IF(E138=0,0,E138*10*1.25)*2","v":0}]
[null,"ČERNÝ","Michal","7.B",null,null,null,{"$f":"IF(E139=0,0,E139*10*1.25)*2","v":0}]
[null,"DOLEJŠÍ","David","7.B",null,null,null,{"$f":"IF(E140=0,0,E140*10*1.25)*2","v":0}]
[null,"NOVÁK","Matěj","7.B",null,null,null,{"$f":"IF(E141=0,0,E141*10*1.25)*2","v":0}]
[null,"POVAŽANEC","Martin","7.B",null,null,null,{"$f":"IF(E142=0,0,E142*10*1.25)*2","v":0}]
[null,"RICHTER","Jakub","7.B",null,null,null,{"$f":"IF(E143=0,0,E143*10*1.25)*2","v":0}]
[null,"ROZUMEK","Adam","7.B",null,null,null,{"$f":"IF(E144=0,0,E144*10*1.25)*2","v":0}]
[null,"VALENTA","František","7.B",null,null,null,{"$f":"IF(E145=0,0,E145*10*1.25)*2","v":0}]
[null,"ZAPLATÍLEK","Josef","7.B",null,null,null,{"$f":"IF(E146=0,0,E146*10*1.25)*2","v":0}]
[null,"ERBEN","Viktor","8.A",null,null,null,{"$f":"IF(E147=0,0,E147*10*1.25)*2","v":0}]
[null,"FRANC","Daniel","8.A",null,null,null,{"$f":"IF(E148=0,0,E148*10*1.25)*2","v":0}]
[null,"JINDŘIŠEK","Matyáš","8.A",null,null,null,{"$f":"IF(E149=0,0,E149*10*1.25)*2","v":0}]
[null,"KOLAČNÝ","Štěpán","8.A",null,null,null,{"$f":"IF(E150=0,0,E150*10*1.25)*2","v":0}]
[null,"KRISTAN","Jáchym","8.A",null,null,null,{"$f":"IF(E151=0,0,E151*10*1.25)*2","v":0}]
[null,"NGUYEN","David","8.A",null,null,null,{"$f":"IF(E152=0,0,E152*10*1.25)*2","v":0}]
[null,"NOVOTNÝ","Jan","8.A",null,null,null,{"$f":"IF(E153=0,0,E153*10*1.25)*2","v":0}]
[null,"RÁB","Adam","8.A",null,null,null,{"$f":"IF(E154=0,0,E154*10*1.25)*2","v":0}]
[null,"REPASKÝ","Jakub","8.A",null,null,null,{"$f":"IF(E155=0,0,E155*10*1.25)*2","v":0}]
[null,"SKÁLA","Jan","8.A",null,null,null,{"$f":"IF(E156=0,0,E156*10*1.25)*2","v":0}]
[null,"ŠPULÁK","Jakub","8.A",null,null,null,{"$f":"IF(E157=0,0,E157*10*1.25)*2","v":0}]
[null,"VALENTA","Tomáš","8.A",null,null,null,{"$f":"IF(E158=0,0,E158*10*1.25)*2","v":0}]
[null,"VANCL","Jiří","8.A",null,null,null,{"$f":"IF(E159=0,0,E159*10*1.25)*2","v":0}]
[null,"VAŠÍČEK","David","8.A",null,null,null,{"$f":"IF(E160=0,0,E160*10*1.25)*2","v":0}]
[null,"ZOUHAR","Ondřej","8.A",null,null,null,{"$f":"IF(E161=0,0,E161*10*1.25)*2","v":0}]
[null,"ZUZÁNEK","Filip","8.A",null,null,null,{"$f":"IF(E162=0,0,E162*10*1.25)*2","v":0}]
[null,"BRUMLICH","Jan","9.A",null,null,null,{"$f":"IF(E163=0,0,E163*10*1.25)*2","v":0}]
[null,"BUCHAR","Jiří","9.A",null,null,null,{"$f":"IF(E164=0,0,E164*10*1.25)*2","v":0}]
[null,"FAISTAVER","Jiří","9.A",null,null,null,{"$f":"IF(E165=0,0,E165*10*1.25)*2","v":0}]
[null,"FAISTAVER","Roman","9.A",null,null,null,{"$f":"IF(E166=0,0,E166*10*1.25)*2","v":0}]
[null,"FAJSTAVR","Jakub","9.A",null,null,null,{"$f":"IF(E167=0,0,E167*10*1.25)*2","v":0}]
[null,"FARSKÝ","Vojtěch","9.A",null,null,null,{"$f":"IF(E168=0,0,E168*10*1.25)*2","v":0}]
[null,"HOLUBEC","Lukáš","9.A",null,null,null,{"$f":"IF(E169=0,0,E169*10*1.25)*2","v":0}]
[null,"CHAROUZ","Vojtěch","9.A",null,null,null,{"$f":"IF(E170=0,0,E170*10*1.25)*2","v":0}]
[null,"IACCHERI","Carlo","9.A",null,null,null,{"$f":"IF(E171=0,0,E171*10*1.25)*2","v":0}]
[null,"JOHN","Adrian","9.A",null,null,null,{"$f":"IF(E172=0,0,E172*10*1.25)*2","v":0}]
[null,"KRČÍK","Matthew","9.A",null,null,null,{"$f":"IF(E173=0,0,E173*10*1.25)*2","v":0}]
[null,"KRESAN","Vojtěch","9.A",null,null,null,{"$f":"IF(E174=0,0,E174*10*1.25)*2","v":0}]
[null,"LÁNSKÝ","Vojtěch","9.A",null,null,null,{"$f":"IF(E175=0,0,E175*10*1.25)*2","v":0}]
[null,"LEŠÁK","Lukáš","9.A",null,null,null,{"$f":"IF(E176=0,0,E176*10*1.25)*2","v":0}]
[null,"RYPL","Matyáš","9.A",null,null,null,{"$f":"IF(E177=0,0,E177*10*1.25)*2","v":0}]
[null,"VU TRAN DINH ","Lukas","9.A",null,null,null,{"$f":"IF(E178=0,0,E178*10*1.25)*2","v":0}]
[null,"DUFEK","Matyáš","9.B",null,null,null,{"$f":"IF(E179=0,0,E179*10*1.25)*2","v":0}]
[null,"JEŽEK","Jonáš","9.B",null,null,null,{"$f":"IF(E180=0,0,E180*10*1.25)*2","v":0}]
[null,"JEŽEK","Mikuláš","9.B",null,null,null,{"$f":"IF(E181=0,0,E181*10*1.25)*2","v":0}]
[null,"NECHANICKÝ","Michal","9.B",null,null,null,{"$f":"IF(E182=0,0,E182*10*1.25)*2","v":0}]
[null,"PAULÍČEK","Jakub","9.B",null,null,null,{"$f":"IF(E183=0,0,E183*10*1.25)*2","v":0}]
[null,"POHOŘALÝ","Jakub","9.B",null,null,null,{"$f":"IF(E184=0,0,E184*10*1.25)*2","v":0}]
[null,"POSPÍCHAL","Daniel","9.B",null,null,null,{"$f":"IF(E185=0,0,E185*10*1.25)*2","v":0}]
[null,"SOUKUP","Lukáš","9.B",null,null,null,{"$f":"IF(E186=0,0,E186*10*1.25)*2","v":0}]
[null,"VANCL","Jan","9.B",null,null,null,{"$f":"IF(E187=0,0,E187*10*1.25)*2","v":0}]
[null,"VANCL","Lukáš","9.B",null,null,null,{"$f":"IF(E188=0,0,E188*10*1.25)*2","v":0}]
[null,"VAŠÍK","Jiří","9.B",null,null,null,{"$f":"IF(E189=0,0,E189*10*1.25)*2","v":0}]
[null,"VOHNOUT","Zdeněk","9.B",null,null,null,{"$f":"IF(E190=0,0,E190*10*1.25)*2","v":0}]

{"sheet":"ČLUNEK","index":15,"n_rows":190,"n_cols":12,"rows_kept":190,"cut":false,"hidden":false,"merged":[]}
[null,null,"VÝKONY  2020 - 2021",null,null,null,"ČLUNEK","CHLAPCI  6. -  9.  ROČ."]
[null,"stav  k ",{"$f":"TODAY()","v":"2021-06-28"},null,null,null,null,null,null,"19  - 20","18  - 19","17 - 18"]
[]
["1.",{"$f":"B101","v":"BOUKAL"},{"$f":"C101","v":"Jakub"},"6.A",12.21,null,"Jilemnice  14.06.21",663.75750277853604,null,0,0,0]
["2.",{"$f":"B102","v":"DEMČUK"},"Ilja","6.A",0,null,0,0,null,0,0,0]
["3.",{"$f":"B103","v":"FAISTAUER"},"Kryštof","6.A",10.210000000000001,null,"Jilemnice  09.06.21",855.67713621721612,null,0,0,0]
["4.",{"$f":"B104","v":"FRK"},"Matyáš","6.A",12.5,null,"Jilemnice  09.06.21",639.17207931259259,null,0,0,0]
["5.",{"$f":"B105","v":"HUBÁLOVSKÝ"},"Marek","6.A",12.02,null,"Jilemnice  09.06.21",680.22974607752508,null,0,0,0]
["6.",{"$f":"B106","v":"MAŘAS"},"Dominik","6.A",12.5,null,"Jilemnice  14.06.21",639.17207931259259,null,0,0,0]
["7.",{"$f":"B107","v":"MAŤÁTKO"},"Jakub","6.A",14.62,null,"Jilemnice  14.06.21",475.3264719866242,null,0,0,0]
["8.",{"$f":"B108","v":"MERY"},"Luboš","6.A",12.21,null,"Jilemnice  09.06.21",663.75750277853604,null,0,0,0]
["9.",{"$f":"B109","v":"NOVOTNÝ"},"Matěj","6.A",11.55,null,"Jilemnice  09.06.21",722.34433299021953,null,0,0,0]
["10.",{"$f":"B110","v":"ŘEHOŘEK"},"Vojtěch","6.A",0,null," ",0,null,0,0,0]
["11.",{"$f":"B111","v":"ŠÍR"},"Matyáš","6.A",12.94,null,"Jilemnice  09.06.21",603.03986398763539,null,0,0,0]
["12.",{"$f":"B112","v":"TORÁČ"},"Tomáš","6.A",16.09,null,"Jilemnice  14.06.21",372.89289796975345,null,0,0,0]
["13.",{"$f":"B113","v":"ULLMAN"},"Šimon","6.A",10.86,null,"Jilemnice  09.06.21",788.23865689925674,null,0,0,0]
["14.",{"$f":"B114","v":"VÁCLAVÍK"},"Ondřej","6.A",11.2,null,"Jilemnice  09.06.21",755.1114192063493,null,0,0,0]
["15.",{"$f":"B115","v":"AUERSWALD"},"Daniel","6.B",11.13,null,"Jilemnice  09.06.21",761.82264087384772,null,0,0,0]
["16.",{"$f":"B116","v":"BODLÁK"},"Vladimír","6.B",9.61,null,"Jilemnice  09.06.21",923.6308112729796,null,0,0,0]
["17.",{"$f":"B117","v":"BUDÍN"},"Martin","6.B",10.94,null,"Jilemnice  09.06.21",780.32150748188769,null,0,0,0]
["18.",{"$f":"B118","v":"DVOŘÁK"},"Dominik","6.B",11.71,null,"Jilemnice  09.06.21",707.77734601954637,null,0,0,0]
["19.",{"$f":"B119","v":"FIŠERA"},"Vojtěch","6.B",11.43,null,"Jilemnice  09.06.21",733.43523229642585,null,0,0,0]
["20.",{"$f":"B120","v":"JINDŘIŠEK"},"Vít","6.B",10.49,null,"Jilemnice  09.06.21",825.91374580729428,null,0,0,0]
["21.",{"$f":"B121","v":"JIROUŠ"},"Matouš","6.B",10.55,null,"Jilemnice  09.06.21",819.68099260312442,null,0,0,0]
["22.",{"$f":"B122","v":"KERLE"},"Marek","6.B",10.8,null,"Jilemnice  09.06.21",794.22813569272967,null,0,0,0]
["23.",{"$f":"B123","v":"LUKEŠ"},"Jakub","6.B",10.52,null,"Jilemnice  09.06.21",822.7911821996903,null,0,0,0]
["24.",{"$f":"B124","v":"OTT"},"Matyáš","6.B",11.12,null,"Jilemnice  09.06.21",762.78587780442331,null,0,0,0]
["25.",{"$f":"B125","v":"POKORNÝ"},"Matyáš","6.B",9.9700000000000006,null,"Jilemnice  09.06.21",882.13528896690059,null,0,0,0]
["26.",{"$f":"B126","v":"POLÁČEK"},"Matyáš","6.B",11.94,null,"Jilemnice  09.06.21",687.25683131707922,null,0,0,0]
["27.",{"$f":"B127","v":"SOUKUP"},"Patrik","6.B",10.3,null,"Jilemnice  09.06.21",845.985323149946,null,0,0,0]
["28.",{"$f":"B128","v":"VALENTA"},"Jakub","6.B",10.64,null,"Jilemnice  09.06.21",810.42346895015305,null,0,0,0]
["29.",{"$f":"B129","v":"VRBATA"},"Dominik","6.B",10.52,null,"Jilemnice  09.06.21",822.7911821996903,null,0,0,0]
["30.",{"$f":"B130","v":"FEJKL"},"Jan","7.A",0,null,0,0,null,0,0,0]
["31.",{"$f":"B131","v":"KOTYK"},"Tadeáš","7.A",0,null,0,0,null,0,0,0]
["32.",{"$f":"B132","v":"KRAUSE"},"Tadeáš","7.A",0,null,0,0,null,0,0,0]
["33.",{"$f":"B133","v":"LEŠÁK"},"Martin","7.A",0,null,0,0,null,0,0,0]
["34.",{"$f":"B134","v":"NECHANICKÝ"},"David","7.A",0,null,0,0,null,0,0,0]
["35.",{"$f":"B135","v":"ŘEHOŘEK"},"Jan","7.A",0,null,0,0,null,0,0,0]
["36.",{"$f":"B136","v":"SOUKUP"},"Ondřej","7.A",0,null,0,0,null,0,0,0]
["37.",{"$f":"B137","v":"SPANILÝ"},"David","7.A",0,null,0,0,null,0,0,0]
["38.",{"$f":"B138","v":"ČADAN"},"Benjamín","7.B",0,null,0,0,null,0,0,0]
["39.",{"$f":"B139","v":"ČERNÝ"},"Michal","7.B",0,null,0,0,null,0,0,0]
["40.",{"$f":"B140","v":"DOLEJŠÍ"},"David","7.B",0,null,0,0,null,0,0,0]
["41.",{"$f":"B141","v":"NOVÁK"},"Matěj","7.B",0,null,0,0,null,0,0,0]
["42.",{"$f":"B142","v":"POVAŽANEC"},"Martin","7.B",0,null,0,0,null,0,0,0]
["43.",{"$f":"B143","v":"RICHTER"},"Jakub","7.B",0,null,0,0,null,0,0,0]
["44.",{"$f":"B144","v":"ROZUMEK"},"Adam","7.B",0,null,0,0,null,0,0,0]
["45.",{"$f":"B145","v":"VALENTA"},"František","7.B",0,null,0,0,null,0,0,0]
["46.",{"$f":"B146","v":"ZAPLATÍLEK"},"Josef","7.B",0,null,0,0,null,0,0,0]
["47.",{"$f":"B147","v":"ERBEN"},"Viktor","8.A",11.07,null,"Jilemnice  09.06.21",767.61913662886002,null,0,13.48,0]
["48.",{"$f":"B148","v":"FRANC"},"Daniel","8.A",12.03,null,"Jilemnice  09.06.21",679.35523936763025,null,0,12.52,0]
["49.",{"$f":"B149","v":"JINDŘIŠEK"},"Matyáš","8.A",10.050000000000001,null,"Jilemnice  09.06.21",873.21399850009198,null,0,11.49,0]
["50.",{"$f":"B150","v":"KOLAČNÝ"},"Štěpán","8.A",10.8,null,"Jilemnice  09.06.21",794.22813569272967,null,0,11.53,0]
["51.",{"$f":"B151","v":"KRISTAN"},"Jáchym","8.A",14.28,null,"Jilemnice  09.06.21",500.08272907977994,null,0,14.91,0]
["52.",{"$f":"B152","v":"NGUYEN"},"David","8.A",10.02,null,"Jilemnice  09.06.21",876.54728539957136,null,0,0,0]
["53.",{"$f":"B153","v":"NOVOTNÝ"},"Jan","8.A",10.119999999999999,null,"Jilemnice  09.06.21",865.49230109793598,null,0,12.18,0]
["54.",{"$f":"B154","v":"RÁB"},"Adam","8.A",11.74,null,"Jilemnice  09.06.21",705.07324626159379,null,0,13.32,0]
["55.",{"$f":"B155","v":"REPASKÝ"},"Jakub","8.A",9.67,null,"Jilemnice  09.06.21",916.55477960473399,null,0,10.95,0]
["56.",{"$f":"B156","v":"SKÁLA"},"Jan","8.A",10.56,null,"Jilemnice  09.06.21",818.64699163860814,null,0,11.49,0]
["57.",{"$f":"B157","v":"ŠPULÁK"},"Jakub","8.A",10.87,null,"Jilemnice  09.06.21",787.24474403557201,null,0,0,0]
["58.",{"$f":"B158","v":"VALENTA"},"Tomáš","8.A",9.81,null,"Jilemnice  09.06.21",900.29761989277756,null,0,10.49,0]
["59.",{"$f":"B159","v":"VANCL"},"Jiří","8.A",10.56,null,"Jilemnice  09.06.21",818.64699163860814,null,0,12.48,0]
["60.",{"$f":"B160","v":"VAŠÍČEK"},"David","8.A",0,null," ",0,null,0,11.45,0]
["61.",{"$f":"B161","v":"ZOUHAR"},"Ondřej","8.A",10.15,null,"Jilemnice  09.06.21",862.20664456486031,null,0,10.96,0]
["62.",{"$f":"B162","v":"ZUZÁNEK"},"Filip","8.A",10.3,null,"Jilemnice  09.06.21",845.985323149946,null,0,11.78,0]
["63.",{"$f":"B163","v":"BRUMLICH"},"Jan","9.A",0,null,0,0,null,0,10.77,11.62]
["64.",{"$f":"B164","v":"BUCHAR"},"Jiří","9.A",0,null,0,0,null,0,11.02,11.11]
["65.",{"$f":"B165","v":"FAISTAVER"},"Jiří","9.A",0,null,0,0,null,0,11.56,11.72]
["66.",{"$f":"B166","v":"FAISTAVER"},"Roman","9.A",0,null,0,0,null,0,10.7,10.83]
["67.",{"$f":"B167","v":"FAJSTAVR"},"Jakub","9.A",0,null,0,0,null,0,10.84,11.43]
["68.",{"$f":"B168","v":"FARSKÝ"},"Vojtěch","9.A",0,null,0,0,null,0,10.62,10.99]
["69.",{"$f":"B169","v":"HOLUBEC"},"Lukáš","9.A",0,null,0,0,null,0,11.55,11.64]
["70.",{"$f":"B170","v":"CHAROUZ"},"Vojtěch","9.A",0,null,0,0,null,0,11.02,11.46]
["71.",{"$f":"B171","v":"IACCHERI"},"Carlo","9.A",0,null,0,0,null,0,11.5,11.97]
["72.",{"$f":"B172","v":"JOHN"},"Adrian","9.A",0,null,0,0,null,0,12.3,13.29]
["73.",{"$f":"B173","v":"KRČÍK"},"Matthew","9.A",0,null,0,0,null,0,11.41,12]
["74.",{"$f":"B174","v":"KRESAN"},"Vojtěch","9.A",0,null,0,0,null,0,11.87,11.84]
["75.",{"$f":"B175","v":"LÁNSKÝ"},"Vojtěch","9.A",0,null,0,0,null,0,0,15.12]
["76.",{"$f":"B176","v":"LEŠÁK"},"Lukáš","9.A",0,null,0,0,null,0,13.89,13.62]
["77.",{"$f":"B177","v":"RYPL"},"Matyáš","9.A",0,null,0,0,null,0,10.76,11.13]
["78.",{"$f":"B178","v":"VU TRAN DINH "},"Lukas","9.A",0,null,0,0,null,0,0,0]
["79.",{"$f":"B179","v":"DUFEK"},"Matyáš","9.B",0,null,0,0,null,0,12.15,11.63]
["80.",{"$f":"B180","v":"JEŽEK"},"Jonáš","9.B",0,null,0,0,null,0,9.77,10.210000000000001]
["81.",{"$f":"B181","v":"JEŽEK"},"Mikuláš","9.B",0,null,0,0,null,0,9.7899999999999991,10.09]
["82.",{"$f":"B182","v":"NECHANICKÝ"},"Michal","9.B",0,null,0,0,null,0,10.28,10.69]
["83.",{"$f":"B183","v":"PAULÍČEK"},"Jakub","9.B",0,null,0,0,null,0,10.81,0]
["84.",{"$f":"B184","v":"POHOŘALÝ"},"Jakub","9.B",0,null,0,0,null,0,10.31,10.61]
["85.",{"$f":"B185","v":"POSPÍCHAL"},"Daniel","9.B",0,null,0,0,null,0,10.92,11.2]
["86.",{"$f":"B186","v":"SOUKUP"},"Lukáš","9.B",0,null,0,0,null,0,11.37,11.36]
["87.",{"$f":"B187","v":"VANCL"},"Jan","9.B",0,null,0,0,null,0,10.65,10.9]
["88.",{"$f":"B188","v":"VANCL"},"Lukáš","9.B",0,null,0,0,null,0,10.62,10.66]
["89.",{"$f":"B189","v":"VAŠÍK"},"Jiří","9.B",0,null,0,0,null,0,10.72,11.1]
["90.",{"$f":"B190","v":"VOHNOUT"},"Zdeněk","9.B",0,null,0,0,null,0,10.119999999999999,10.49]
[]
[]
[]
[]
[]
[]
[]
[null,"BOUKAL","Jakub","6.A",12.21,null,"Jilemnice  14.06.21",{"$f":"IF(E101=0,0,(((1000-313216/E101+34538300/E101*2-1698600000/E101*3+32198000000/E101*4)/13500000)-E101*E101+62))","v":663.75750277853604}]
[null,"DEMČUK","Ilja","6.A",null,null,null,{"$f":"IF(E102=0,0,(((1000-313216/E102+34538300/E102*2-1698600000/E102*3+32198000000/E102*4)/13500000)-E102*E102+62))","v":0}]
[null,"FAISTAUER","Kryštof","6.A",10.210000000000001,null,"Jilemnice  09.06.21",{"$f":"IF(E103=0,0,(((1000-313216/E103+34538300/E103*2-1698600000/E103*3+32198000000/E103*4)/13500000)-E103*E103+62))","v":855.67713621721612}]
[null,"FRK","Matyáš","6.A",12.5,null,"Jilemnice  09.06.21",{"$f":"IF(E104=0,0,(((1000-313216/E104+34538300/E104*2-1698600000/E104*3+32198000000/E104*4)/13500000)-E104*E104+62))","v":639.17207931259259}]
[null,"HUBÁLOVSKÝ","Marek","6.A",12.02,null,"Jilemnice  09.06.21",{"$f":"IF(E105=0,0,(((1000-313216/E105+34538300/E105*2-1698600000/E105*3+32198000000/E105*4)/13500000)-E105*E105+62))","v":680.22974607752508}]
[null,"MAŘAS","Dominik","6.A",12.5,null,"Jilemnice  14.06.21",{"$f":"IF(E106=0,0,(((1000-313216/E106+34538300/E106*2-1698600000/E106*3+32198000000/E106*4)/13500000)-E106*E106+62))","v":639.17207931259259}]
[null,"MAŤÁTKO","Jakub","6.A",14.62,null,"Jilemnice  14.06.21",{"$f":"IF(E107=0,0,(((1000-313216/E107+34538300/E107*2-1698600000/E107*3+32198000000/E107*4)/13500000)-E107*E107+62))","v":475.3264719866242}]
[null,"MERY","Luboš","6.A",12.21,null,"Jilemnice  09.06.21",{"$f":"IF(E108=0,0,(((1000-313216/E108+34538300/E108*2-1698600000/E108*3+32198000000/E108*4)/13500000)-E108*E108+62))","v":663.75750277853604}]
[null,"NOVOTNÝ","Matěj","6.A",11.55,null,"Jilemnice  09.06.21",{"$f":"IF(E109=0,0,(((1000-313216/E109+34538300/E109*2-1698600000/E109*3+32198000000/E109*4)/13500000)-E109*E109+62))","v":722.34433299021953}]
[null,"ŘEHOŘEK","Vojtěch","6.A",null,null," ",{"$f":"IF(E110=0,0,(((1000-313216/E110+34538300/E110*2-1698600000/E110*3+32198000000/E110*4)/13500000)-E110*E110+62))","v":0}]
[null,"ŠÍR","Matyáš","6.A",12.94,null,"Jilemnice  09.06.21",{"$f":"IF(E111=0,0,(((1000-313216/E111+34538300/E111*2-1698600000/E111*3+32198000000/E111*4)/13500000)-E111*E111+62))","v":603.03986398763539}]
[null,"TORÁČ","Tomáš","6.A",16.09,null,"Jilemnice  14.06.21",{"$f":"IF(E112=0,0,(((1000-313216/E112+34538300/E112*2-1698600000/E112*3+32198000000/E112*4)/13500000)-E112*E112+62))","v":372.89289796975345}]
[null,"ULLMAN","Šimon","6.A",10.86,null,"Jilemnice  09.06.21",{"$f":"IF(E113=0,0,(((1000-313216/E113+34538300/E113*2-1698600000/E113*3+32198000000/E113*4)/13500000)-E113*E113+62))","v":788.23865689925674}]
[null,"VÁCLAVÍK","Ondřej","6.A",11.2,null,"Jilemnice  09.06.21",{"$f":"IF(E114=0,0,(((1000-313216/E114+34538300/E114*2-1698600000/E114*3+32198000000/E114*4)/13500000)-E114*E114+62))","v":755.1114192063493}]
[null,"AUERSWALD","Daniel","6.B",11.13,null,"Jilemnice  09.06.21",{"$f":"IF(E115=0,0,(((1000-313216/E115+34538300/E115*2-1698600000/E115*3+32198000000/E115*4)/13500000)-E115*E115+62))","v":761.82264087384772}]
[null,"BODLÁK","Vladimír","6.B",9.61,null,"Jilemnice  09.06.21",{"$f":"IF(E116=0,0,(((1000-313216/E116+34538300/E116*2-1698600000/E116*3+32198000000/E116*4)/13500000)-E116*E116+62))","v":923.6308112729796}]
[null,"BUDÍN","Martin","6.B",10.94,null,"Jilemnice  09.06.21",{"$f":"IF(E117=0,0,(((1000-313216/E117+34538300/E117*2-1698600000/E117*3+32198000000/E117*4)/13500000)-E117*E117+62))","v":780.32150748188769}]
[null,"DVOŘÁK","Dominik","6.B",11.71,null,"Jilemnice  09.06.21",{"$f":"IF(E118=0,0,(((1000-313216/E118+34538300/E118*2-1698600000/E118*3+32198000000/E118*4)/13500000)-E118*E118+62))","v":707.77734601954637}]
[null,"FIŠERA","Vojtěch","6.B",11.43,null,"Jilemnice  09.06.21",{"$f":"IF(E119=0,0,(((1000-313216/E119+34538300/E119*2-1698600000/E119*3+32198000000/E119*4)/13500000)-E119*E119+62))","v":733.43523229642585}]
[null,"JINDŘIŠEK","Vít","6.B",10.49,null,"Jilemnice  09.06.21",{"$f":"IF(E120=0,0,(((1000-313216/E120+34538300/E120*2-1698600000/E120*3+32198000000/E120*4)/13500000)-E120*E120+62))","v":825.91374580729428}]
[null,"JIROUŠ","Matouš","6.B",10.55,null,"Jilemnice  09.06.21",{"$f":"IF(E121=0,0,(((1000-313216/E121+34538300/E121*2-1698600000/E121*3+32198000000/E121*4)/13500000)-E121*E121+62))","v":819.68099260312442}]
[null,"KERLE","Marek","6.B",10.8,null,"Jilemnice  09.06.21",{"$f":"IF(E122=0,0,(((1000-313216/E122+34538300/E122*2-1698600000/E122*3+32198000000/E122*4)/13500000)-E122*E122+62))","v":794.22813569272967}]
[null,"LUKEŠ","Jakub","6.B",10.52,null,"Jilemnice  09.06.21",{"$f":"IF(E123=0,0,(((1000-313216/E123+34538300/E123*2-1698600000/E123*3+32198000000/E123*4)/13500000)-E123*E123+62))","v":822.7911821996903}]
[null,"OTT","Matyáš","6.B",11.12,null,"Jilemnice  09.06.21",{"$f":"IF(E124=0,0,(((1000-313216/E124+34538300/E124*2-1698600000/E124*3+32198000000/E124*4)/13500000)-E124*E124+62))","v":762.78587780442331}]
[null,"POKORNÝ","Matyáš","6.B",9.9700000000000006,null,"Jilemnice  09.06.21",{"$f":"IF(E125=0,0,(((1000-313216/E125+34538300/E125*2-1698600000/E125*3+32198000000/E125*4)/13500000)-E125*E125+62))","v":882.13528896690059}]
[null,"POLÁČEK","Matyáš","6.B",11.94,null,"Jilemnice  09.06.21",{"$f":"IF(E126=0,0,(((1000-313216/E126+34538300/E126*2-1698600000/E126*3+32198000000/E126*4)/13500000)-E126*E126+62))","v":687.25683131707922}]
[null,"SOUKUP","Patrik","6.B",10.3,null,"Jilemnice  09.06.21",{"$f":"IF(E127=0,0,(((1000-313216/E127+34538300/E127*2-1698600000/E127*3+32198000000/E127*4)/13500000)-E127*E127+62))","v":845.985323149946}]
[null,"VALENTA","Jakub","6.B",10.64,null,"Jilemnice  09.06.21",{"$f":"IF(E128=0,0,(((1000-313216/E128+34538300/E128*2-1698600000/E128*3+32198000000/E128*4)/13500000)-E128*E128+62))","v":810.42346895015305}]
[null,"VRBATA","Dominik","6.B",10.52,null,"Jilemnice  09.06.21",{"$f":"IF(E129=0,0,(((1000-313216/E129+34538300/E129*2-1698600000/E129*3+32198000000/E129*4)/13500000)-E129*E129+62))","v":822.7911821996903}]
[null,"FEJKL","Jan","7.A",null,null,null,{"$f":"IF(E130=0,0,(((1000-313216/E130+34538300/E130*2-1698600000/E130*3+32198000000/E130*4)/13500000)-E130*E130+62))","v":0}]
[null,"KOTYK","Tadeáš","7.A",null,null,null,{"$f":"IF(E131=0,0,(((1000-313216/E131+34538300/E131*2-1698600000/E131*3+32198000000/E131*4)/13500000)-E131*E131+62))","v":0}]
[null,"KRAUSE","Tadeáš","7.A",null,null,null,{"$f":"IF(E132=0,0,(((1000-313216/E132+34538300/E132*2-1698600000/E132*3+32198000000/E132*4)/13500000)-E132*E132+62))","v":0}]
[null,"LEŠÁK","Martin","7.A",null,null,null,{"$f":"IF(E133=0,0,(((1000-313216/E133+34538300/E133*2-1698600000/E133*3+32198000000/E133*4)/13500000)-E133*E133+62))","v":0}]
[null,"NECHANICKÝ","David","7.A",null,null,null,{"$f":"IF(E134=0,0,(((1000-313216/E134+34538300/E134*2-1698600000/E134*3+32198000000/E134*4)/13500000)-E134*E134+62))","v":0}]
[null,"ŘEHOŘEK","Jan","7.A",null,null,null,{"$f":"IF(E135=0,0,(((1000-313216/E135+34538300/E135*2-1698600000/E135*3+32198000000/E135*4)/13500000)-E135*E135+62))","v":0}]
[null,"SOUKUP","Ondřej","7.A",null,null,null,{"$f":"IF(E136=0,0,(((1000-313216/E136+34538300/E136*2-1698600000/E136*3+32198000000/E136*4)/13500000)-E136*E136+62))","v":0}]
[null,"SPANILÝ","David","7.A",null,null,null,{"$f":"IF(E137=0,0,(((1000-313216/E137+34538300/E137*2-1698600000/E137*3+32198000000/E137*4)/13500000)-E137*E137+62))","v":0}]
[null,"ČADAN","Benjamín","7.B",null,null,null,{"$f":"IF(E138=0,0,(((1000-313216/E138+34538300/E138*2-1698600000/E138*3+32198000000/E138*4)/13500000)-E138*E138+62))","v":0}]
[null,"ČERNÝ","Michal","7.B",null,null,null,{"$f":"IF(E139=0,0,(((1000-313216/E139+34538300/E139*2-1698600000/E139*3+32198000000/E139*4)/13500000)-E139*E139+62))","v":0}]
[null,"DOLEJŠÍ","David","7.B",null,null,null,{"$f":"IF(E140=0,0,(((1000-313216/E140+34538300/E140*2-1698600000/E140*3+32198000000/E140*4)/13500000)-E140*E140+62))","v":0}]
[null,"NOVÁK","Matěj","7.B",null,null,null,{"$f":"IF(E141=0,0,(((1000-313216/E141+34538300/E141*2-1698600000/E141*3+32198000000/E141*4)/13500000)-E141*E141+62))","v":0}]
[null,"POVAŽANEC","Martin","7.B",null,null,null,{"$f":"IF(E142=0,0,(((1000-313216/E142+34538300/E142*2-1698600000/E142*3+32198000000/E142*4)/13500000)-E142*E142+62))","v":0}]
[null,"RICHTER","Jakub","7.B",null,null,null,{"$f":"IF(E143=0,0,(((1000-313216/E143+34538300/E143*2-1698600000/E143*3+32198000000/E143*4)/13500000)-E143*E143+62))","v":0}]
[null,"ROZUMEK","Adam","7.B",null,null,null,{"$f":"IF(E144=0,0,(((1000-313216/E144+34538300/E144*2-1698600000/E144*3+32198000000/E144*4)/13500000)-E144*E144+62))","v":0}]
[null,"VALENTA","František","7.B",null,null,null,{"$f":"IF(E145=0,0,(((1000-313216/E145+34538300/E145*2-1698600000/E145*3+32198000000/E145*4)/13500000)-E145*E145+62))","v":0}]
[null,"ZAPLATÍLEK","Josef","7.B",null,null,null,{"$f":"IF(E146=0,0,(((1000-313216/E146+34538300/E146*2-1698600000/E146*3+32198000000/E146*4)/13500000)-E146*E146+62))","v":0}]
[null,"ERBEN","Viktor","8.A",11.07,null,"Jilemnice  09.06.21",{"$f":"IF(E147=0,0,(((1000-313216/E147+34538300/E147*2-1698600000/E147*3+32198000000/E147*4)/13500000)-E147*E147+62))","v":767.61913662886002},null,null,13.48]
[null,"FRANC","Daniel","8.A",12.03,null,"Jilemnice  09.06.21",{"$f":"IF(E148=0,0,(((1000-313216/E148+34538300/E148*2-1698600000/E148*3+32198000000/E148*4)/13500000)-E148*E148+62))","v":679.35523936763025},null,null,12.52]
[null,"JINDŘIŠEK","Matyáš","8.A",10.050000000000001,null,"Jilemnice  09.06.21",{"$f":"IF(E149=0,0,(((1000-313216/E149+34538300/E149*2-1698600000/E149*3+32198000000/E149*4)/13500000)-E149*E149+62))","v":873.21399850009198},null,null,11.49]
[null,"KOLAČNÝ","Štěpán","8.A",10.8,null,"Jilemnice  09.06.21",{"$f":"IF(E150=0,0,(((1000-313216/E150+34538300/E150*2-1698600000/E150*3+32198000000/E150*4)/13500000)-E150*E150+62))","v":794.22813569272967},null,null,11.53]
[null,"KRISTAN","Jáchym","8.A",14.28,null,"Jilemnice  09.06.21",{"$f":"IF(E151=0,0,(((1000-313216/E151+34538300/E151*2-1698600000/E151*3+32198000000/E151*4)/13500000)-E151*E151+62))","v":500.08272907977994},null,null,14.91]
[null,"NGUYEN","David","8.A",10.02,null,"Jilemnice  09.06.21",{"$f":"IF(E152=0,0,(((1000-313216/E152+34538300/E152*2-1698600000/E152*3+32198000000/E152*4)/13500000)-E152*E152+62))","v":876.54728539957136}]
[null,"NOVOTNÝ","Jan","8.A",10.119999999999999,null,"Jilemnice  09.06.21",{"$f":"IF(E153=0,0,(((1000-313216/E153+34538300/E153*2-1698600000/E153*3+32198000000/E153*4)/13500000)-E153*E153+62))","v":865.49230109793598},null,null,12.18]
[null,"RÁB","Adam","8.A",11.74,null,"Jilemnice  09.06.21",{"$f":"IF(E154=0,0,(((1000-313216/E154+34538300/E154*2-1698600000/E154*3+32198000000/E154*4)/13500000)-E154*E154+62))","v":705.07324626159379},null,null,13.32]
[null,"REPASKÝ","Jakub","8.A",9.67,null,"Jilemnice  09.06.21",{"$f":"IF(E155=0,0,(((1000-313216/E155+34538300/E155*2-1698600000/E155*3+32198000000/E155*4)/13500000)-E155*E155+62))","v":916.55477960473399},null,null,10.95]
[null,"SKÁLA","Jan","8.A",10.56,null,"Jilemnice  09.06.21",{"$f":"IF(E156=0,0,(((1000-313216/E156+34538300/E156*2-1698600000/E156*3+32198000000/E156*4)/13500000)-E156*E156+62))","v":818.64699163860814},null,null,11.49]
[null,"ŠPULÁK","Jakub","8.A",10.87,null,"Jilemnice  09.06.21",{"$f":"IF(E157=0,0,(((1000-313216/E157+34538300/E157*2-1698600000/E157*3+32198000000/E157*4)/13500000)-E157*E157+62))","v":787.24474403557201}]
[null,"VALENTA","Tomáš","8.A",9.81,null,"Jilemnice  09.06.21",{"$f":"IF(E158=0,0,(((1000-313216/E158+34538300/E158*2-1698600000/E158*3+32198000000/E158*4)/13500000)-E158*E158+62))","v":900.29761989277756},null,null,10.49]
[null,"VANCL","Jiří","8.A",10.56,null,"Jilemnice  09.06.21",{"$f":"IF(E159=0,0,(((1000-313216/E159+34538300/E159*2-1698600000/E159*3+32198000000/E159*4)/13500000)-E159*E159+62))","v":818.64699163860814},null,null,12.48]
[null,"VAŠÍČEK","David","8.A",null,null," ",{"$f":"IF(E160=0,0,(((1000-313216/E160+34538300/E160*2-1698600000/E160*3+32198000000/E160*4)/13500000)-E160*E160+62))","v":0},null,null,11.45]
[null,"ZOUHAR","Ondřej","8.A",10.15,null,"Jilemnice  09.06.21",{"$f":"IF(E161=0,0,(((1000-313216/E161+34538300/E161*2-1698600000/E161*3+32198000000/E161*4)/13500000)-E161*E161+62))","v":862.20664456486031},null,null,10.96]
[null,"ZUZÁNEK","Filip","8.A",10.3,null,"Jilemnice  09.06.21",{"$f":"IF(E162=0,0,(((1000-313216/E162+34538300/E162*2-1698600000/E162*3+32198000000/E162*4)/13500000)-E162*E162+62))","v":845.985323149946},null,null,11.78]
[null,"BRUMLICH","Jan","9.A",null,null,null,{"$f":"IF(E163=0,0,(((1000-313216/E163+34538300/E163*2-1698600000/E163*3+32198000000/E163*4)/13500000)-E163*E163+62))","v":0},null,null,10.77,11.62]
[null,"BUCHAR","Jiří","9.A",null,null,null,{"$f":"IF(E164=0,0,(((1000-313216/E164+34538300/E164*2-1698600000/E164*3+32198000000/E164*4)/13500000)-E164*E164+62))","v":0},null,null,11.02,11.11]
[null,"FAISTAVER","Jiří","9.A",null,null,null,{"$f":"IF(E165=0,0,(((1000-313216/E165+34538300/E165*2-1698600000/E165*3+32198000000/E165*4)/13500000)-E165*E165+62))","v":0},null,null,11.56,11.72]
[null,"FAISTAVER","Roman","9.A",null,null,null,{"$f":"IF(E166=0,0,(((1000-313216/E166+34538300/E166*2-1698600000/E166*3+32198000000/E166*4)/13500000)-E166*E166+62))","v":0},null,null,10.7,10.83]
[null,"FAJSTAVR","Jakub","9.A",null,null,null,{"$f":"IF(E167=0,0,(((1000-313216/E167+34538300/E167*2-1698600000/E167*3+32198000000/E167*4)/13500000)-E167*E167+62))","v":0},null,null,10.84,11.43]
[null,"FARSKÝ","Vojtěch","9.A",null,null,null,{"$f":"IF(E168=0,0,(((1000-313216/E168+34538300/E168*2-1698600000/E168*3+32198000000/E168*4)/13500000)-E168*E168+62))","v":0},null,null,10.62,10.99]
[null,"HOLUBEC","Lukáš","9.A",null,null,null,{"$f":"IF(E169=0,0,(((1000-313216/E169+34538300/E169*2-1698600000/E169*3+32198000000/E169*4)/13500000)-E169*E169+62))","v":0},null,null,11.55,11.64]
[null,"CHAROUZ","Vojtěch","9.A",null,null,null,{"$f":"IF(E170=0,0,(((1000-313216/E170+34538300/E170*2-1698600000/E170*3+32198000000/E170*4)/13500000)-E170*E170+62))","v":0},null,null,11.02,11.46]
[null,"IACCHERI","Carlo","9.A",null,null,null,{"$f":"IF(E171=0,0,(((1000-313216/E171+34538300/E171*2-1698600000/E171*3+32198000000/E171*4)/13500000)-E171*E171+62))","v":0},null,null,11.5,11.97]
[null,"JOHN","Adrian","9.A",null,null,null,{"$f":"IF(E172=0,0,(((1000-313216/E172+34538300/E172*2-1698600000/E172*3+32198000000/E172*4)/13500000)-E172*E172+62))","v":0},null,null,12.3,13.29]
[null,"KRČÍK","Matthew","9.A",null,null,null,{"$f":"IF(E173=0,0,(((1000-313216/E173+34538300/E173*2-1698600000/E173*3+32198000000/E173*4)/13500000)-E173*E173+62))","v":0},null,null,11.41,12]
[null,"KRESAN","Vojtěch","9.A",null,null,null,{"$f":"IF(E174=0,0,(((1000-313216/E174+34538300/E174*2-1698600000/E174*3+32198000000/E174*4)/13500000)-E174*E174+62))","v":0},null,null,11.87,11.84]
[null,"LÁNSKÝ","Vojtěch","9.A",null,null,null,{"$f":"IF(E175=0,0,(((1000-313216/E175+34538300/E175*2-1698600000/E175*3+32198000000/E175*4)/13500000)-E175*E175+62))","v":0},null,null,null,15.12]
[null,"LEŠÁK","Lukáš","9.A",null,null,null,{"$f":"IF(E176=0,0,(((1000-313216/E176+34538300/E176*2-1698600000/E176*3+32198000000/E176*4)/13500000)-E176*E176+62))","v":0},null,null,13.89,13.62]
[null,"RYPL","Matyáš","9.A",null,null,null,{"$f":"IF(E177=0,0,(((1000-313216/E177+34538300/E177*2-1698600000/E177*3+32198000000/E177*4)/13500000)-E177*E177+62))","v":0},null,null,10.76,11.13]
[null,"VU TRAN DINH ","Lukas","9.A"]
[null,"DUFEK","Matyáš","9.B",null,null,null,{"$f":"IF(E179=0,0,(((1000-313216/E179+34538300/E179*2-1698600000/E179*3+32198000000/E179*4)/13500000)-E179*E179+62))","v":0},null,null,12.15,11.63]
[null,"JEŽEK","Jonáš","9.B",null,null,null,{"$f":"IF(E180=0,0,(((1000-313216/E180+34538300/E180*2-1698600000/E180*3+32198000000/E180*4)/13500000)-E180*E180+62))","v":0},null,null,9.77,10.210000000000001]
[null,"JEŽEK","Mikuláš","9.B",null,null,null,{"$f":"IF(E181=0,0,(((1000-313216/E181+34538300/E181*2-1698600000/E181*3+32198000000/E181*4)/13500000)-E181*E181+62))","v":0},null,null,9.7899999999999991,10.09]
[null,"NECHANICKÝ","Michal","9.B",null,null,null,{"$f":"IF(E182=0,0,(((1000-313216/E182+34538300/E182*2-1698600000/E182*3+32198000000/E182*4)/13500000)-E182*E182+62))","v":0},null,null,10.28,10.69]
[null,"PAULÍČEK","Jakub","9.B",null,null,null,{"$f":"IF(E183=0,0,(((1000-313216/E183+34538300/E183*2-1698600000/E183*3+32198000000/E183*4)/13500000)-E183*E183+62))","v":0},null,null,10.81]
[null,"POHOŘALÝ","Jakub","9.B",null,null,null,{"$f":"IF(E184=0,0,(((1000-313216/E184+34538300/E184*2-1698600000/E184*3+32198000000/E184*4)/13500000)-E184*E184+62))","v":0},null,null,10.31,10.61]
[null,"POSPÍCHAL","Daniel","9.B",null,null,null,{"$f":"IF(E185=0,0,(((1000-313216/E185+34538300/E185*2-1698600000/E185*3+32198000000/E185*4)/13500000)-E185*E185+62))","v":0},null,null,10.92,11.2]
[null,"SOUKUP","Lukáš","9.B",null,null,null,{"$f":"IF(E186=0,0,(((1000-313216/E186+34538300/E186*2-1698600000/E186*3+32198000000/E186*4)/13500000)-E186*E186+62))","v":0},null,null,11.37,11.36]
[null,"VANCL","Jan","9.B",null,null,null,{"$f":"IF(E187=0,0,(((1000-313216/E187+34538300/E187*2-1698600000/E187*3+32198000000/E187*4)/13500000)-E187*E187+62))","v":0},null,null,10.65,10.9]
[null,"VANCL","Lukáš","9.B",null,null,null,{"$f":"IF(E188=0,0,(((1000-313216/E188+34538300/E188*2-1698600000/E188*3+32198000000/E188*4)/13500000)-E188*E188+62))","v":0},null,null,10.62,10.66]
[null,"VAŠÍK","Jiří","9.B",null,null,null,{"$f":"IF(E189=0,0,(((1000-313216/E189+34538300/E189*2-1698600000/E189*3+32198000000/E189*4)/13500000)-E189*E189+62))","v":0},null,null,10.72,11.1]
[null,"VOHNOUT","Zdeněk","9.B",null,null,null,{"$f":"IF(E190=0,0,(((1000-313216/E190+34538300/E190*2-1698600000/E190*3+32198000000/E190*4)/13500000)-E190*E190+62))","v":0},null,null,10.119999999999999,10.49]

{"sheet":"LEHSED","index":16,"n_rows":190,"n_cols":12,"rows_kept":190,"cut":false,"hidden":false,"merged":[]}
[null,null,"VÝKONY  2020 - 2021",null,null,null,"LEHSED","CHLAPCI  6. -  9.  ROČ."]
[null,"stav  k ",{"$f":"TODAY()","v":"2021-06-28"},null,null,null,null,null,null,"19  - 20","18  - 19","17 - 18"]
[]
["1.",{"$f":"B101","v":"BOUKAL"},{"$f":"C101","v":"Jakub"},"6.A",0,null,0,0,null,0,0,0]
["2.",{"$f":"B102","v":"DEMČUK"},"Ilja","6.A",25,null,"Jilemnice  18.04.21",312.5,null,0,0,0]
["3.",{"$f":"B103","v":"FAISTAUER"},"Kryštof","6.A",41,null,"Jilemnice  28.03.21",512.5,null,0,0,0]
["4.",{"$f":"B104","v":"FRK"},"Matyáš","6.A",0,null,0,0,null,0,0,0]
["5.",{"$f":"B105","v":"HUBÁLOVSKÝ"},"Marek","6.A",0,null,0,0,null,0,0,0]
["6.",{"$f":"B106","v":"MAŘAS"},"Dominik","6.A",0,null,0,0,null,0,0,0]
["7.",{"$f":"B107","v":"MAŤÁTKO"},"Jakub","6.A",0,null,0,0,null,0,0,0]
["8.",{"$f":"B108","v":"MERY"},"Luboš","6.A",26,null,"Jilemnice  28.03.21",325,null,0,0,0]
["9.",{"$f":"B109","v":"NOVOTNÝ"},"Matěj","6.A",0,null,0,0,null,0,0,0]
["10.",{"$f":"B110","v":"ŘEHOŘEK"},"Vojtěch","6.A",28,null,"Jilemnice  21.03.21",350,null,0,0,0]
["11.",{"$f":"B111","v":"ŠÍR"},"Matyáš","6.A",38,null,"Jilemnice  18.04.21",475,null,0,0,0]
["12.",{"$f":"B112","v":"TORÁČ"},"Tomáš","6.A",0,null,0,0,null,0,0,0]
["13.",{"$f":"B113","v":"ULLMAN"},"Šimon","6.A",0,null,0,0,null,0,0,0]
["14.",{"$f":"B114","v":"VÁCLAVÍK"},"Ondřej","6.A",0,null,0,0,null,0,0,0]
["15.",{"$f":"B115","v":"AUERSWALD"},"Daniel","6.B",0,null,0,0,null,0,0,0]
["16.",{"$f":"B116","v":"BODLÁK"},"Vladimír","6.B",53,null,"Jilemnice  14.03.21",662.5,null,0,0,0]
["17.",{"$f":"B117","v":"BUDÍN"},"Martin","6.B",30,null,"Jilemnice  11.04.21",375,null,0,0,0]
["18.",{"$f":"B118","v":"DVOŘÁK"},"Dominik","6.B",0,null,0,0,null,0,0,0]
["19.",{"$f":"B119","v":"FIŠERA"},"Vojtěch","6.B",26,null,"Jilemnice  28.03.21",325,null,0,0,0]
["20.",{"$f":"B120","v":"JINDŘIŠEK"},"Vít","6.B",40,null,"Jilemnice  14.03.21",500,null,0,0,0]
["21.",{"$f":"B121","v":"JIROUŠ"},"Matouš","6.B",25,null,"Jilemnice  11.04.21",312.5,null,0,0,0]
["22.",{"$f":"B122","v":"KERLE"},"Marek","6.B",48,null,"Jilemnice  28.03.21",600,null,0,0,0]
["23.",{"$f":"B123","v":"LUKEŠ"},"Jakub","6.B",30,null,"Jilemnice  11.04.21",375,null,0,0,0]
["24.",{"$f":"B124","v":"OTT"},"Matyáš","6.B",0,null,0,0,null,0,0,0]
["25.",{"$f":"B125","v":"POKORNÝ"},"Matyáš","6.B",0,null,0,0,null,0,0,0]
["26.",{"$f":"B126","v":"POLÁČEK"},"Matyáš","6.B",0,null,0,0,null,0,0,0]
["27.",{"$f":"B127","v":"SOUKUP"},"Patrik","6.B",27,null,"Jilemnice  14.03.21",337.5,null,0,0,0]
["28.",{"$f":"B128","v":"VALENTA"},"Jakub","6.B",49,null,"Jilemnice  25.04.21",612.5,null,0,0,0]
["29.",{"$f":"B129","v":"VRBATA"},"Dominik","6.B",0,null,0,0,null,0,0,0]
["30.",{"$f":"B130","v":"FEJKL"},"Jan","7.A",57,null,"Jilemnice  14.03.21",712.5,null,0,0,0]
["31.",{"$f":"B131","v":"KOTYK"},"Tadeáš","7.A",35,null,"Jilemnice  21.03.21",437.5,null,0,0,0]
["32.",{"$f":"B132","v":"KRAUSE"},"Tadeáš","7.A",54,null,"Jilemnice  11.04.21",675,null,0,0,0]
["33.",{"$f":"B133","v":"LEŠÁK"},"Martin","7.A",15,null,"Jilemnice  14.03.21",187.5,null,0,0,0]
["34.",{"$f":"B134","v":"NECHANICKÝ"},"David","7.A",0,null,0,0,null,0,0,0]
["35.",{"$f":"B135","v":"ŘEHOŘEK"},"Jan","7.A",26,null,"Jilemnice  21.03.21",325,null,0,0,0]
["36.",{"$f":"B136","v":"SOUKUP"},"Ondřej","7.A",47,null,"Jilemnice  21.03.21",587.5,null,0,0,0]
["37.",{"$f":"B137","v":"SPANILÝ"},"David","7.A",54,null,"Jilemnice  14.03.21",675,null,0,0,0]
["38.",{"$f":"B138","v":"ČADAN"},"Benjamín","7.B",0,null,0,0,null,0,0,0]
["39.",{"$f":"B139","v":"ČERNÝ"},"Michal","7.B",0,null,0,0,null,0,0,0]
["40.",{"$f":"B140","v":"DOLEJŠÍ"},"David","7.B",45,null,"Jilemnice  11.04.21",562.5,null,0,0,0]
["41.",{"$f":"B141","v":"NOVÁK"},"Matěj","7.B",0,null,0,0,null,0,0,0]
["42.",{"$f":"B142","v":"POVAŽANEC"},"Martin","7.B",0,null,0,0,null,0,0,0]
["43.",{"$f":"B143","v":"RICHTER"},"Jakub","7.B",20,null,"Jilemnice  14.03.21",250,null,0,0,0]
["44.",{"$f":"B144","v":"ROZUMEK"},"Adam","7.B",0,null,0,0,null,0,0,0]
["45.",{"$f":"B145","v":"VALENTA"},"František","7.B",0,null,0,0,null,0,0,0]
["46.",{"$f":"B146","v":"ZAPLATÍLEK"},"Josef","7.B",0,null,0,0,null,0,0,0]
["47.",{"$f":"B147","v":"ERBEN"},"Viktor","8.A",28,null,"Jilemnice  25.04.21",350,null,0,5,0]
["48.",{"$f":"B148","v":"FRANC"},"Daniel","8.A",0,null,0,0,null,0,25,0]
["49.",{"$f":"B149","v":"JINDŘIŠEK"},"Matyáš","8.A",41,null,"Jilemnice  11.04.21",512.5,null,0,40,0]
["50.",{"$f":"B150","v":"KOLAČNÝ"},"Štěpán","8.A",43,null,"Jilemnice  25.04.21",537.5,null,0,38,0]
["51.",{"$f":"B151","v":"KRISTAN"},"Jáchym","8.A",0,null,0,0,null,0,19,0]
["52.",{"$f":"B152","v":"NGUYEN"},"David","8.A",0,null,0,0,null,0,0,0]
["53.",{"$f":"B153","v":"NOVOTNÝ"},"Jan","8.A",0,null,0,0,null,0,43,0]
["54.",{"$f":"B154","v":"RÁB"},"Adam","8.A",0,null,0,0,null,0,26,0]
["55.",{"$f":"B155","v":"REPASKÝ"},"Jakub","8.A",49,null,"Jilemnice  11.04.21",612.5,null,0,41,0]
["56.",{"$f":"B156","v":"SKÁLA"},"Jan","8.A",0,null,0,0,null,0,39,0]
["57.",{"$f":"B157","v":"ŠPULÁK"},"Jakub","8.A",27,null,"Jilemnice  11.04.21",337.5,null,0,0,0]
["58.",{"$f":"B158","v":"VALENTA"},"Tomáš","8.A",49,null,"Jilemnice  11.04.21",612.5,null,0,46,0]
["59.",{"$f":"B159","v":"VANCL"},"Jiří","8.A",0,null,0,0,null,0,40,0]
["60.",{"$f":"B160","v":"VAŠÍČEK"},"David","8.A",0,null,0,0,null,0,37,0]
["61.",{"$f":"B161","v":"ZOUHAR"},"Ondřej","8.A",0,null,0,0,null,0,31,0]
["62.",{"$f":"B162","v":"ZUZÁNEK"},"Filip","8.A",0,null,0,0,null,0,40,0]
["63.",{"$f":"B163","v":"BRUMLICH"},"Jan","9.A",0,null,0,0,null,0,40,38]
["64.",{"$f":"B164","v":"BUCHAR"},"Jiří","9.A",0,null,0,0,null,0,42,44]
["65.",{"$f":"B165","v":"FAISTAVER"},"Jiří","9.A",0,null,0,0,null,0,34,32]
["66.",{"$f":"B166","v":"FAISTAVER"},"Roman","9.A",0,null,0,0,null,0,41,41]
["67.",{"$f":"B167","v":"FAJSTAVR"},"Jakub","9.A",48,null,"Jilemnice  11.04.21",600,null,0,47,40]
["68.",{"$f":"B168","v":"FARSKÝ"},"Vojtěch","9.A",0,null,0,0,null,0,53,46]
["69.",{"$f":"B169","v":"HOLUBEC"},"Lukáš","9.A",0,null,0,0,null,0,42,38]
["70.",{"$f":"B170","v":"CHAROUZ"},"Vojtěch","9.A",0,null,0,0,null,0,48,39]
["71.",{"$f":"B171","v":"IACCHERI"},"Carlo","9.A",0,null,0,0,null,0,42,30]
["72.",{"$f":"B172","v":"JOHN"},"Adrian","9.A",30,null,"Jilemnice  14.03.21",375,null,0,26,25]
["73.",{"$f":"B173","v":"KRČÍK"},"Matthew","9.A",0,null,0,0,null,0,41,39]
["74.",{"$f":"B174","v":"KRESAN"},"Vojtěch","9.A",0,null,0,0,null,0,33,29]
["75.",{"$f":"B175","v":"LÁNSKÝ"},"Vojtěch","9.A",0,null,0,0,null,0,20,3]
["76.",{"$f":"B176","v":"LEŠÁK"},"Lukáš","9.A",0,null,0,0,null,0,34,22]
["77.",{"$f":"B177","v":"RYPL"},"Matyáš","9.A",55,null,"Jilemnice  14.03.21",687.5,null,0,43,42]
["78.",{"$f":"B178","v":"VU TRAN DINH "},"Lukas","9.A",0,null,0,0,null,0,0,0]
["79.",{"$f":"B179","v":"DUFEK"},"Matyáš","9.B",0,null,0,0,null,0,44,31]
["80.",{"$f":"B180","v":"JEŽEK"},"Jonáš","9.B",0,null,0,0,null,0,50,48]
["81.",{"$f":"B181","v":"JEŽEK"},"Mikuláš","9.B",0,null,0,0,null,0,53,0]
["82.",{"$f":"B182","v":"NECHANICKÝ"},"Michal","9.B",26,null,"Jilemnice  11.04.21",325,null,0,56,41]
["83.",{"$f":"B183","v":"PAULÍČEK"},"Jakub","9.B",0,null,0,0,null,0,46,0]
["84.",{"$f":"B184","v":"POHOŘALÝ"},"Jakub","9.B",0,null,0,0,null,0,50,0]
["85.",{"$f":"B185","v":"POSPÍCHAL"},"Daniel","9.B",0,null,0,0,null,0,46,40]
["86.",{"$f":"B186","v":"SOUKUP"},"Lukáš","9.B",0,null,0,0,null,0,52,46]
["87.",{"$f":"B187","v":"VANCL"},"Jan","9.B",0,null,0,0,null,0,43,40]
["88.",{"$f":"B188","v":"VANCL"},"Lukáš","9.B",0,null,0,0,null,0,58,48]
["89.",{"$f":"B189","v":"VAŠÍK"},"Jiří","9.B",0,null,0,0,null,0,42,0]
["90.",{"$f":"B190","v":"VOHNOUT"},"Zdeněk","9.B",0,null,0,0,null,0,50,{"$f":"L190","v":36}]
[]
[]
[]
[]
[]
[]
[]
[null,"BOUKAL","Jakub","6.A",null,null,null,{"$f":"IF(E101=0,0,E101*10*1.25)","v":0}]
[null,"DEMČUK","Ilja","6.A",25,null,"Jilemnice  18.04.21",{"$f":"IF(E102=0,0,E102*10*1.25)","v":312.5}]
[null,"FAISTAUER","Kryštof","6.A",41,null,"Jilemnice  28.03.21",{"$f":"IF(E103=0,0,E103*10*1.25)","v":512.5}]
[null,"FRK","Matyáš","6.A",null,null,null,{"$f":"IF(E104=0,0,E104*10*1.25)","v":0}]
[null,"HUBÁLOVSKÝ","Marek","6.A",null,null,null,{"$f":"IF(E105=0,0,E105*10*1.25)","v":0}]
[null,"MAŘAS","Dominik","6.A",null,null,null,{"$f":"IF(E106=0,0,E106*10*1.25)","v":0}]
[null,"MAŤÁTKO","Jakub","6.A",null,null,null,{"$f":"IF(E107=0,0,E107*10*1.25)","v":0}]
[null,"MERY","Luboš","6.A",26,null,"Jilemnice  28.03.21",{"$f":"IF(E108=0,0,E108*10*1.25)","v":325}]
[null,"NOVOTNÝ","Matěj","6.A",null,null,null,{"$f":"IF(E109=0,0,E109*10*1.25)","v":0}]
[null,"ŘEHOŘEK","Vojtěch","6.A",28,null,"Jilemnice  21.03.21",{"$f":"IF(E110=0,0,E110*10*1.25)","v":350}]
[null,"ŠÍR","Matyáš","6.A",38,null,"Jilemnice  18.04.21",{"$f":"IF(E111=0,0,E111*10*1.25)","v":475}]
[null,"TORÁČ","Tomáš","6.A",null,null,null,{"$f":"IF(E112=0,0,E112*10*1.25)","v":0}]
[null,"ULLMAN","Šimon","6.A",null,null,null,{"$f":"IF(E113=0,0,E113*10*1.25)","v":0}]
[null,"VÁCLAVÍK","Ondřej","6.A",null,null,null,{"$f":"IF(E114=0,0,E114*10*1.25)","v":0}]
[null,"AUERSWALD","Daniel","6.B",null,null,null,{"$f":"IF(E115=0,0,E115*10*1.25)","v":0}]
[null,"BODLÁK","Vladimír","6.B",53,null,"Jilemnice  14.03.21",{"$f":"IF(E116=0,0,E116*10*1.25)","v":662.5}]
[null,"BUDÍN","Martin","6.B",30,null,"Jilemnice  11.04.21",{"$f":"IF(E117=0,0,E117*10*1.25)","v":375}]
[null,"DVOŘÁK","Dominik","6.B",null,null,null,{"$f":"IF(E118=0,0,E118*10*1.25)","v":0}]
[null,"FIŠERA","Vojtěch","6.B",26,null,"Jilemnice  28.03.21",{"$f":"IF(E119=0,0,E119*10*1.25)","v":325}]
[null,"JINDŘIŠEK","Vít","6.B",40,null,"Jilemnice  14.03.21",{"$f":"IF(E120=0,0,E120*10*1.25)","v":500}]
[null,"JIROUŠ","Matouš","6.B",25,null,"Jilemnice  11.04.21",{"$f":"IF(E121=0,0,E121*10*1.25)","v":312.5}]
[null,"KERLE","Marek","6.B",48,null,"Jilemnice  28.03.21",{"$f":"IF(E122=0,0,E122*10*1.25)","v":600}]
[null,"LUKEŠ","Jakub","6.B",30,null,"Jilemnice  11.04.21",{"$f":"IF(E123=0,0,E123*10*1.25)","v":375}]
[null,"OTT","Matyáš","6.B",null,null,null,{"$f":"IF(E124=0,0,E124*10*1.25)","v":0}]
[null,"POKORNÝ","Matyáš","6.B",null,null,null,{"$f":"IF(E125=0,0,E125*10*1.25)","v":0}]
[null,"POLÁČEK","Matyáš","6.B",null,null,null,{"$f":"IF(E126=0,0,E126*10*1.25)","v":0}]
[null,"SOUKUP","Patrik","6.B",27,null,"Jilemnice  14.03.21",{"$f":"IF(E127=0,0,E127*10*1.25)","v":337.5}]
[null,"VALENTA","Jakub","6.B",49,null,"Jilemnice  25.04.21",{"$f":"IF(E128=0,0,E128*10*1.25)","v":612.5}]
[null,"VRBATA","Dominik","6.B",null,null,null,{"$f":"IF(E129=0,0,E129*10*1.25)","v":0}]
[null,"FEJKL","Jan","7.A",57,null,"Jilemnice  14.03.21",{"$f":"IF(E130=0,0,E130*10*1.25)","v":712.5}]
[null,"KOTYK","Tadeáš","7.A",35,null,"Jilemnice  21.03.21",{"$f":"IF(E131=0,0,E131*10*1.25)","v":437.5}]
[null,"KRAUSE","Tadeáš","7.A",54,null,"Jilemnice  11.04.21",{"$f":"IF(E132=0,0,E132*10*1.25)","v":675}]
[null,"LEŠÁK","Martin","7.A",15,null,"Jilemnice  14.03.21",{"$f":"IF(E133=0,0,E133*10*1.25)","v":187.5}]
[null,"NECHANICKÝ","David","7.A",null,null,null,{"$f":"IF(E134=0,0,E134*10*1.25)","v":0}]
[null,"ŘEHOŘEK","Jan","7.A",26,null,"Jilemnice  21.03.21",{"$f":"IF(E135=0,0,E135*10*1.25)","v":325}]
[null,"SOUKUP","Ondřej","7.A",47,null,"Jilemnice  21.03.21",{"$f":"IF(E136=0,0,E136*10*1.25)","v":587.5}]
[null,"SPANILÝ","David","7.A",54,null,"Jilemnice  14.03.21",{"$f":"IF(E137=0,0,E137*10*1.25)","v":675}]
[null,"ČADAN","Benjamín","7.B",null,null,null,{"$f":"IF(E138=0,0,E138*10*1.25)","v":0}]
[null,"ČERNÝ","Michal","7.B",null,null,null,{"$f":"IF(E139=0,0,E139*10*1.25)","v":0}]
[null,"DOLEJŠÍ","David","7.B",45,null,"Jilemnice  11.04.21",{"$f":"IF(E140=0,0,E140*10*1.25)","v":562.5}]
[null,"NOVÁK","Matěj","7.B",null,null,null,{"$f":"IF(E141=0,0,E141*10*1.25)","v":0}]
[null,"POVAŽANEC","Martin","7.B",null,null,null,{"$f":"IF(E142=0,0,E142*10*1.25)","v":0}]
[null,"RICHTER","Jakub","7.B",20,null,"Jilemnice  14.03.21",{"$f":"IF(E143=0,0,E143*10*1.25)","v":250}]
[null,"ROZUMEK","Adam","7.B",null,null,null,{"$f":"IF(E144=0,0,E144*10*1.25)","v":0}]
[null,"VALENTA","František","7.B",null,null,null,{"$f":"IF(E145=0,0,E145*10*1.25)","v":0}]
[null,"ZAPLATÍLEK","Josef","7.B",null,null,null,{"$f":"IF(E146=0,0,E146*10*1.25)","v":0}]
[null,"ERBEN","Viktor","8.A",28,null,"Jilemnice  25.04.21",{"$f":"IF(E147=0,0,E147*10*1.25)","v":350},null,null,5]
[null,"FRANC","Daniel","8.A",null,null,null,{"$f":"IF(E148=0,0,E148*10*1.25)","v":0},null,null,25]
[null,"JINDŘIŠEK","Matyáš","8.A",41,null,"Jilemnice  11.04.21",{"$f":"IF(E149=0,0,E149*10*1.25)","v":512.5},null,null,40]
[null,"KOLAČNÝ","Štěpán","8.A",43,null,"Jilemnice  25.04.21",{"$f":"IF(E150=0,0,E150*10*1.25)","v":537.5},null,null,38]
[null,"KRISTAN","Jáchym","8.A",null,null,null,{"$f":"IF(E151=0,0,E151*10*1.25)","v":0},null,null,19]
[null,"NGUYEN","David","8.A"]
[null,"NOVOTNÝ","Jan","8.A",null,null,null,{"$f":"IF(E153=0,0,E153*10*1.25)","v":0},null,null,43]
[null,"RÁB","Adam","8.A",null,null,null,{"$f":"IF(E154=0,0,E154*10*1.25)","v":0},null,null,26]
[null,"REPASKÝ","Jakub","8.A",49,null,"Jilemnice  11.04.21",{"$f":"IF(E155=0,0,E155*10*1.25)","v":612.5},null,null,41]
[null,"SKÁLA","Jan","8.A",null,null,null,{"$f":"IF(E156=0,0,E156*10*1.25)","v":0},null,null,39]
[null,"ŠPULÁK","Jakub","8.A",27,null,"Jilemnice  11.04.21",{"$f":"IF(E157=0,0,E157*10*1.25)","v":337.5}]
[null,"VALENTA","Tomáš","8.A",49,null,"Jilemnice  11.04.21",{"$f":"IF(E158=0,0,E158*10*1.25)","v":612.5},null,null,46]
[null,"VANCL","Jiří","8.A",null,null,null,{"$f":"IF(E159=0,0,E159*10*1.25)","v":0},null,null,40]
[null,"VAŠÍČEK","David","8.A",null,null,null,{"$f":"IF(E160=0,0,E160*10*1.25)","v":0},null,null,37]
[null,"ZOUHAR","Ondřej","8.A",null,null,null,{"$f":"IF(E161=0,0,E161*10*1.25)","v":0},null,null,31]
[null,"ZUZÁNEK","Filip","8.A",null,null,null,{"$f":"IF(E162=0,0,E162*10*1.25)","v":0},null,null,40]
[null,"BRUMLICH","Jan","9.A",null,null,null,{"$f":"IF(E163=0,0,E163*10*1.25)","v":0},null,null,40,38]
[null,"BUCHAR","Jiří","9.A",null,null,null,{"$f":"IF(E164=0,0,E164*10*1.25)","v":0},null,null,42,44]
[null,"FAISTAVER","Jiří","9.A",null,null,null,{"$f":"IF(E165=0,0,E165*10*1.25)","v":0},null,null,34,32]
[null,"FAISTAVER","Roman","9.A",null,null,null,{"$f":"IF(E166=0,0,E166*10*1.25)","v":0},null,null,41,41]
[null,"FAJSTAVR","Jakub","9.A",48,null,"Jilemnice  11.04.21",{"$f":"IF(E167=0,0,E167*10*1.25)","v":600},null,null,47,40]
[null,"FARSKÝ","Vojtěch","9.A",null,null,null,{"$f":"IF(E168=0,0,E168*10*1.25)","v":0},null,null,53,46]
[null,"HOLUBEC","Lukáš","9.A",null,null,null,{"$f":"IF(E169=0,0,E169*10*1.25)","v":0},null,null,42,38]
[null,"CHAROUZ","Vojtěch","9.A",null,null,null,{"$f":"IF(E170=0,0,E170*10*1.25)","v":0},null,null,48,39]
[null,"IACCHERI","Carlo","9.A",null,null,null,{"$f":"IF(E171=0,0,E171*10*1.25)","v":0},null,null,42,30]
[null,"JOHN","Adrian","9.A",30,null,"Jilemnice  14.03.21",{"$f":"IF(E172=0,0,E172*10*1.25)","v":375},null,null,26,25]
[null,"KRČÍK","Matthew","9.A",null,null,null,{"$f":"IF(E173=0,0,E173*10*1.25)","v":0},null,null,41,39]
[null,"KRESAN","Vojtěch","9.A",null,null,null,{"$f":"IF(E174=0,0,E174*10*1.25)","v":0},null,null,33,29]
[null,"LÁNSKÝ","Vojtěch","9.A",null,null,null,{"$f":"IF(E175=0,0,E175*10*1.25)","v":0},null,null,20,3]
[null,"LEŠÁK","Lukáš","9.A",null,null,null,{"$f":"IF(E176=0,0,E176*10*1.25)","v":0},null,null,34,22]
[null,"RYPL","Matyáš","9.A",55,null,"Jilemnice  14.03.21",{"$f":"IF(E177=0,0,E177*10*1.25)","v":687.5},null,null,43,42]
[null,"VU TRAN DINH ","Lukas","9.A"]
[null,"DUFEK","Matyáš","9.B",null,null,null,{"$f":"IF(E179=0,0,E179*10*1.25)","v":0},null,null,44,31]
[null,"JEŽEK","Jonáš","9.B",null,null,null,{"$f":"IF(E180=0,0,E180*10*1.25)","v":0},null,null,50,48]
[null,"JEŽEK","Mikuláš","9.B",null,null,null,{"$f":"IF(E181=0,0,E181*10*1.25)","v":0},null,null,53]
[null,"NECHANICKÝ","Michal","9.B",26,null,"Jilemnice  11.04.21",{"$f":"IF(E182=0,0,E182*10*1.25)","v":325},null,null,56,41]
[null,"PAULÍČEK","Jakub","9.B",null,null,null,{"$f":"IF(E183=0,0,E183*10*1.25)","v":0},null,null,46]
[null,"POHOŘALÝ","Jakub","9.B",null,null,null,{"$f":"IF(E184=0,0,E184*10*1.25)","v":0},null,null,50]
[null,"POSPÍCHAL","Daniel","9.B",null,null,null,{"$f":"IF(E185=0,0,E185*10*1.25)","v":0},null,null,46,40]
[null,"SOUKUP","Lukáš","9.B",null,null,null,{"$f":"IF(E186=0,0,E186*10*1.25)","v":0},null,null,52,46]
[null,"VANCL","Jan","9.B",null,null,null,{"$f":"IF(E187=0,0,E187*10*1.25)","v":0},null,null,43,40]
[null,"VANCL","Lukáš","9.B",null,null,null,{"$f":"IF(E188=0,0,E188*10*1.25)","v":0},null,null,58,48]
[null,"VAŠÍK","Jiří","9.B",null,null,null,{"$f":"IF(E189=0,0,E189*10*1.25)","v":0},null,null,42]
[null,"VOHNOUT","Zdeněk","9.B",null,null,null,{"$f":"IF(E190=0,0,E190*10*1.25)","v":0},null,null,50,36]

{"sheet":"ODBÍJENÍ","index":17,"n_rows":190,"n_cols":12,"rows_kept":190,"cut":false,"hidden":false,"merged":[]}
[null,null,"VÝKONY  2020 - 2021",null,null,null,"ODBÍJENÍ","CHLAPCI  6. -  9.  ROČ."]
[null,"stav  k ",{"$f":"TODAY()","v":"2021-06-28"},null,null,null,null,null,null,"19  - 20","18  - 19","17 - 18"]
[]
["1.",{"$f":"B101","v":"BOUKAL"},{"$f":"C101","v":"Jakub"},"6.A",12,null,"Jilemnice  21.06.21",96,null,0,0,0]
["2.",{"$f":"B102","v":"DEMČUK"},"Ilja","6.A",15,null,"Jilemnice  18.04.21",120,null,0,0,0]
["3.",{"$f":"B103","v":"FAISTAUER"},"Kryštof","6.A",8,null,"Jilemnice  21.06.21",64,null,0,0,0]
["4.",{"$f":"B104","v":"FRK"},"Matyáš","6.A",14,null,"Jilemnice  21.06.21",112,null,0,0,0]
["5.",{"$f":"B105","v":"HUBÁLOVSKÝ"},"Marek","6.A",8,null,"Jilemnice  21.06.21",64,null,0,0,0]
["6.",{"$f":"B106","v":"MAŘAS"},"Dominik","6.A",11,null,"Jilemnice  21.06.21",88,null,0,0,0]
["7.",{"$f":"B107","v":"MAŤÁTKO"},"Jakub","6.A",10,null,"Jilemnice  21.06.21",80,null,0,0,0]
["8.",{"$f":"B108","v":"MERY"},"Luboš","6.A",4,null,"Jilemnice  21.06.21",32,null,0,0,0]
["9.",{"$f":"B109","v":"NOVOTNÝ"},"Matěj","6.A",0,null," ",0,null,0,0,0]
["10.",{"$f":"B110","v":"ŘEHOŘEK"},"Vojtěch","6.A",14,null,"Jilemnice  21.06.21",112,null,0,0,0]
["11.",{"$f":"B111","v":"ŠÍR"},"Matyáš","6.A",11,null,"Jilemnice  21.06.21",88,null,0,0,0]
["12.",{"$f":"B112","v":"TORÁČ"},"Tomáš","6.A",12,null,"Jilemnice  21.06.21",96,null,0,0,0]
["13.",{"$f":"B113","v":"ULLMAN"},"Šimon","6.A",6,null,"Jilemnice  21.06.21",48,null,0,0,0]
["14.",{"$f":"B114","v":"VÁCLAVÍK"},"Ondřej","6.A",0,null," ",0,null,0,0,0]
["15.",{"$f":"B115","v":"AUERSWALD"},"Daniel","6.B",19,null,"Jilemnice  21.06.21",152,null,0,0,0]
["16.",{"$f":"B116","v":"BODLÁK"},"Vladimír","6.B",0,null," ",0,null,0,0,0]
["17.",{"$f":"B117","v":"BUDÍN"},"Martin","6.B",9,null,"Jilemnice  21.06.21",72,null,0,0,0]
["18.",{"$f":"B118","v":"DVOŘÁK"},"Dominik","6.B",0,null," ",0,null,0,0,0]
["19.",{"$f":"B119","v":"FIŠERA"},"Vojtěch","6.B",12,null,"Jilemnice  21.06.21",96,null,0,0,0]
["20.",{"$f":"B120","v":"JINDŘIŠEK"},"Vít","6.B",28,null,"Jilemnice  25.04.21",224,null,0,0,0]
["21.",{"$f":"B121","v":"JIROUŠ"},"Matouš","6.B",19,null,"Jilemnice  21.06.21",152,null,0,0,0]
["22.",{"$f":"B122","v":"KERLE"},"Marek","6.B",22,null,"Jilemnice  21.06.21",176,null,0,0,0]
["23.",{"$f":"B123","v":"LUKEŠ"},"Jakub","6.B",12,null,"Jilemnice  21.06.21",96,null,0,0,0]
["24.",{"$f":"B124","v":"OTT"},"Matyáš","6.B",11,null,"Jilemnice  21.06.21",88,null,0,0,0]
["25.",{"$f":"B125","v":"POKORNÝ"},"Matyáš","6.B",22,null,"Jilemnice  21.06.21",176,null,0,0,0]
["26.",{"$f":"B126","v":"POLÁČEK"},"Matyáš","6.B",10,null,"Jilemnice  21.06.21",80,null,0,0,0]
["27.",{"$f":"B127","v":"SOUKUP"},"Patrik","6.B",11,null,"Jilemnice  21.06.21",88,null,0,0,0]
["28.",{"$f":"B128","v":"VALENTA"},"Jakub","6.B",0,null," ",0,null,0,0,0]
["29.",{"$f":"B129","v":"VRBATA"},"Dominik","6.B",9,null,"Jilemnice  21.06.21",72,null,0,0,0]
["30.",{"$f":"B130","v":"FEJKL"},"Jan","7.A",18,null,"Jilemnice  21.06.21",144,null,126,0,0]
["31.",{"$f":"B131","v":"KOTYK"},"Tadeáš","7.A",7,null,"Jilemnice  21.06.21",56,null,30,0,0]
["32.",{"$f":"B132","v":"KRAUSE"},"Tadeáš","7.A",18,null,"Jilemnice  21.06.21",144,null,57,0,0]
["33.",{"$f":"B133","v":"LEŠÁK"},"Martin","7.A",7,null,"Jilemnice  21.06.21",56,null,25,0,0]
["34.",{"$f":"B134","v":"NECHANICKÝ"},"David","7.A",22,null,"Jilemnice  21.06.21",176,null,37,0,0]
["35.",{"$f":"B135","v":"ŘEHOŘEK"},"Jan","7.A",42,null,"Jilemnice  21.06.21",336,null,57,0,0]
["36.",{"$f":"B136","v":"SOUKUP"},"Ondřej","7.A",22,null,"Jilemnice  21.06.21",176,null,126,0,0]
["37.",{"$f":"B137","v":"SPANILÝ"},"David","7.A",42,null,"Jilemnice  21.06.21",336,null,49,0,0]
["38.",{"$f":"B138","v":"ČADAN"},"Benjamín","7.B",10,null,"Jilemnice  21.06.21",80,null,15,0,0]
["39.",{"$f":"B139","v":"ČERNÝ"},"Michal","7.B",15,null,"Jilemnice  21.06.21",120,null,25,0,0]
["40.",{"$f":"B140","v":"DOLEJŠÍ"},"David","7.B",8,null,"Jilemnice  21.06.21",64,null,12,0,0]
["41.",{"$f":"B141","v":"NOVÁK"},"Matěj","7.B",8,null,"Jilemnice  21.06.21",64,null,21,0,0]
["42.",{"$f":"B142","v":"POVAŽANEC"},"Martin","7.B",8,null,"Jilemnice  21.06.21",64,null,30,0,0]
["43.",{"$f":"B143","v":"RICHTER"},"Jakub","7.B",0,null," ",0,null,14,0,0]
["44.",{"$f":"B144","v":"ROZUMEK"},"Adam","7.B",26,null,"Jilemnice  21.06.21",208,null,17,0,0]
["45.",{"$f":"B145","v":"VALENTA"},"František","7.B",15,null,"Jilemnice  21.06.21",120,null,17,0,0]
["46.",{"$f":"B146","v":"ZAPLATÍLEK"},"Josef","7.B",26,null,"Jilemnice  21.06.21",208,null,14,0,0]
["47.",{"$f":"B147","v":"ERBEN"},"Viktor","8.A",29,null,{"$f":"G147","v":"Jilemnice  21.06.21"},232,null,27,3,0]
["48.","FRANC","Daniel","8.A",13,null,"Jilemnice  21.06.21",104,null,22,0,0]
["49.",{"$f":"B149","v":"JINDŘIŠEK"},"Matyáš","8.A",28,null,"Jilemnice  25.04.21",224,null,27,15,0]
["50.",{"$f":"B150","v":"KOLAČNÝ"},"Štěpán","8.A",19,null,"Jilemnice  21.06.21",152,null,27,0,0]
["51.",{"$f":"B151","v":"KRISTAN"},"Jáchym","8.A",12,null,"Jilemnice  21.06.21",96,null,10,3,0]
["52.",{"$f":"B152","v":"NGUYEN"},"David","8.A",29,null,"Jilemnice  26.05.21",232,null,28,0,0]
["53.",{"$f":"B153","v":"NOVOTNÝ"},"Jan","8.A",16,null,"Jilemnice  21.06.21",128,null,9,0,0]
["54.",{"$f":"B154","v":"RÁB"},"Adam","8.A",12,null,"Jilemnice  21.06.21",96,null,18,14,0]
["55.",{"$f":"B155","v":"REPASKÝ"},"Jakub","8.A",0," ",{"$f":"G155","v":"Jilemnice  21.06.21"},584,null,69,72,0]
["56.","SKÁLA","Jan","8.A",15,null,"Jilemnice  21.06.21",120,null,20,15,0]
["57.",{"$f":"B157","v":"ŠPULÁK"},"Jakub","8.A",18,null,"Jilemnice  26.05.21",144,null,32,14,0]
["58.",{"$f":"B158","v":"VALENTA"},"Tomáš","8.A",0," ","Jilemnice  21.06.21",584,null,69,72,0]
["59.",{"$f":"B159","v":"VANCL"},"Jiří","8.A",32,null,"Jilemnice  21.06.21",256,null,76,18,0]
["60.",{"$f":"B160","v":"VAŠÍČEK"},"David","8.A",31,null,"Jilemnice  21.06.21",248,null,32,15,0]
["61.",{"$f":"B161","v":"ZOUHAR"},"Ondřej","8.A",31,null,"Jilemnice  21.06.21",248,null,20,15,0]
["62.",{"$f":"B162","v":"ZUZÁNEK"},"Filip","8.A",32,null,"Jilemnice  21.06.21",256,null,76,18,0]
["63.",{"$f":"B163","v":"BRUMLICH"},"Jan","9.A",41,null,"Jilemnice  21.06.21",328,null,0,58,0]
["64.",{"$f":"B164","v":"BUCHAR"},"Jiří","9.A",41,null,"Jilemnice  21.06.21",328,null,0,30,9]
["65.",{"$f":"B165","v":"FAISTAVER"},"Jiří","9.A",0,null,0,0,null,0,12,8]
["66.",{"$f":"B166","v":"FAISTAVER"},"Roman","9.A",31,null,"Jilemnice  21.06.21",248,null,0,29,9]
["67.",{"$f":"B167","v":"FAJSTAVR"},"Jakub","9.A",0,null,0,0,null,0,0,18]
["68.",{"$f":"B168","v":"FARSKÝ"},"Vojtěch","9.A",85,null,"Jilemnice  21.06.21",642,null,0,63,51]
["69.",{"$f":"B169","v":"HOLUBEC"},"Lukáš","9.A",15,null,"Jilemnice  21.06.21",120,null,0,9,9]
["70.",{"$f":"B170","v":"CHAROUZ"},"Vojtěch","9.A",19,null,"Jilemnice  21.06.21",152,null,0,16,13]
["71.",{"$f":"B171","v":"IACCHERI"},"Carlo","9.A",0,null,0,0,null,0,88,9]
["72.",{"$f":"B172","v":"JOHN"},"Adrian","9.A",16,null,"Jilemnice  21.06.21",128,null,0,5,7]
["73.",{"$f":"B173","v":"KRČÍK"},"Matthew","9.A",0,null,0,0,null,0,20,18]
["74.",{"$f":"B174","v":"KRESAN"},"Vojtěch","9.A",10,null,"Jilemnice  21.06.21",80,null,0,8,9]
["75.",{"$f":"B175","v":"LÁNSKÝ"},"Vojtěch","9.A",15,null,"Jilemnice  21.06.21",120,null,0,9,5]
["76.",{"$f":"B176","v":"LEŠÁK"},"Lukáš","9.A",0,null,0,0,null,0,8,8]
["77.",{"$f":"B177","v":"RYPL"},"Matyáš","9.A",19,null,"Jilemnice  21.06.21",152,null,0,19,9]
["78.",{"$f":"B178","v":"VU TRAN DINH "},"Lukas","9.A",15,null,"Jilemnice  21.06.21",0,null,0,0,0]
["79.",{"$f":"B179","v":"DUFEK"},"Matyáš","9.B",21,null,"Jilemnice  21.06.21",168,null,0,15,11]
["80.",{"$f":"B180","v":"JEŽEK"},"Jonáš","9.B",179,null,"Jilemnice  21.06.21",679.6,null,492,250,132]
["81.",{"$f":"B181","v":"JEŽEK"},"Mikuláš","9.B",0,null,0,0,null,0,250,132]
["82.",{"$f":"B182","v":"NECHANICKÝ"},"Michal","9.B",151,null,"Jilemnice  21.06.21",668.4,null,0,37,9]
["83.",{"$f":"B183","v":"PAULÍČEK"},"Jakub","9.B",12,null,"Jilemnice  21.06.21",96,null,0,32,0]
["84.",{"$f":"B184","v":"POHOŘALÝ"},"Jakub","9.B",72,null,"Jilemnice  10.05.21",576,null,104,114,25]
["85.",{"$f":"B185","v":"POSPÍCHAL"},"Daniel","9.B",31,null,"Jilemnice  21.06.21",248,null,0,48,40]
["86.",{"$f":"B186","v":"SOUKUP"},"Lukáš","9.B",179,null,"Jilemnice  21.06.21",679.6,null,0,12,65]
["87.",{"$f":"B187","v":"VANCL"},"Jan","9.B",34,null,"Jilemnice  10.05.21",272,null,492,180,50]
["88.",{"$f":"B188","v":"VANCL"},"Lukáš","9.B",72,null,"Jilemnice  10.05.21",576,null,104,114,51]
["89.",{"$f":"B189","v":"VAŠÍK"},"Jiří","9.B",15,null,"Jilemnice  21.06.21",120,null,0,44,19]
["90.",{"$f":"B190","v":"VOHNOUT"},"Zdeněk","9.B",85,null,"Jilemnice  21.06.21",642,null,0,56,22]
[]
[]
[]
[]
[]
[]
[]
[null,"BOUKAL","Jakub","6.A",12,null,"Jilemnice  21.06.21",{"$f":"IF(E101<=80,E101*8,IF(E101>80,608+0.4*E101,IF(AF101>200,750+0.2*E101)))","v":96}]
[null,"DEMČUK","Ilja","6.A",15,null,"Jilemnice  18.04.21",{"$f":"IF(E102<=80,E102*8,IF(E102>80,608+0.4*E102,IF(AF102>200,750+0.2*E102)))","v":120}]
[null,"FAISTAUER","Kryštof","6.A",8,null,"Jilemnice  21.06.21",{"$f":"IF(E103<=80,E103*8,IF(E103>80,608+0.4*E103,IF(AF103>200,750+0.2*E103)))","v":64}]
[null,"FRK","Matyáš","6.A",14,null,"Jilemnice  21.06.21",{"$f":"IF(E104<=80,E104*8,IF(E104>80,608+0.4*E104,IF(AF104>200,750+0.2*E104)))","v":112}]
[null,"HUBÁLOVSKÝ","Marek","6.A",8,null,"Jilemnice  21.06.21",{"$f":"IF(E105<=80,E105*8,IF(E105>80,608+0.4*E105,IF(AF105>200,750+0.2*E105)))","v":64}]
[null,"MAŘAS","Dominik","6.A",11,null,"Jilemnice  21.06.21",{"$f":"IF(E106<=80,E106*8,IF(E106>80,608+0.4*E106,IF(AF106>200,750+0.2*E106)))","v":88}]
[null,"MAŤÁTKO","Jakub","6.A",10,null,"Jilemnice  21.06.21",{"$f":"IF(E107<=80,E107*8,IF(E107>80,608+0.4*E107,IF(AF107>200,750+0.2*E107)))","v":80}]
[null,"MERY","Luboš","6.A",4,null,"Jilemnice  21.06.21",{"$f":"IF(E108<=80,E108*8,IF(E108>80,608+0.4*E108,IF(AF108>200,750+0.2*E108)))","v":32}]
[null,"NOVOTNÝ","Matěj","6.A",null,null," ",{"$f":"IF(E109<=80,E109*8,IF(E109>80,608+0.4*E109,IF(AF109>200,750+0.2*E109)))","v":0}]
[null,"ŘEHOŘEK","Vojtěch","6.A",14,null,"Jilemnice  21.06.21",{"$f":"IF(E110<=80,E110*8,IF(E110>80,608+0.4*E110,IF(AF110>200,750+0.2*E110)))","v":112}]
[null,"ŠÍR","Matyáš","6.A",11,null,"Jilemnice  21.06.21",{"$f":"IF(E111<=80,E111*8,IF(E111>80,608+0.4*E111,IF(AF111>200,750+0.2*E111)))","v":88}]
[null,"TORÁČ","Tomáš","6.A",12,null,"Jilemnice  21.06.21",{"$f":"IF(E112<=80,E112*8,IF(E112>80,608+0.4*E112,IF(AF112>200,750+0.2*E112)))","v":96}]
[null,"ULLMAN","Šimon","6.A",6,null,"Jilemnice  21.06.21",{"$f":"IF(E113<=80,E113*8,IF(E113>80,608+0.4*E113,IF(AF113>200,750+0.2*E113)))","v":48}]
[null,"VÁCLAVÍK","Ondřej","6.A",null,null," ",{"$f":"IF(E114<=80,E114*8,IF(E114>80,608+0.4*E114,IF(AF114>200,750+0.2*E114)))","v":0}]
[null,"AUERSWALD","Daniel","6.B",19,null,"Jilemnice  21.06.21",{"$f":"IF(E115<=80,E115*8,IF(E115>80,608+0.4*E115,IF(AF115>200,750+0.2*E115)))","v":152}]
[null,"BODLÁK","Vladimír","6.B",null,null," ",{"$f":"IF(E116<=80,E116*8,IF(E116>80,608+0.4*E116,IF(AF116>200,750+0.2*E116)))","v":0}]
[null,"BUDÍN","Martin","6.B",9,null,"Jilemnice  21.06.21",{"$f":"IF(E117<=80,E117*8,IF(E117>80,608+0.4*E117,IF(AF117>200,750+0.2*E117)))","v":72}]
[null,"DVOŘÁK","Dominik","6.B",null,null," ",{"$f":"IF(E118<=80,E118*8,IF(E118>80,608+0.4*E118,IF(AF118>200,750+0.2*E118)))","v":0}]
[null,"FIŠERA","Vojtěch","6.B",12,null,"Jilemnice  21.06.21",{"$f":"IF(E119<=80,E119*8,IF(E119>80,608+0.4*E119,IF(AF119>200,750+0.2*E119)))","v":96}]
[null,"JINDŘIŠEK","Vít","6.B",28,null,"Jilemnice  25.04.21",{"$f":"IF(E120<=80,E120*8,IF(E120>80,608+0.4*E120,IF(AF120>200,750+0.2*E120)))","v":224}]
[null,"JIROUŠ","Matouš","6.B",19,null,"Jilemnice  21.06.21",{"$f":"IF(E121<=80,E121*8,IF(E121>80,608+0.4*E121,IF(AF121>200,750+0.2*E121)))","v":152}]
[null,"KERLE","Marek","6.B",22,null,"Jilemnice  21.06.21",{"$f":"IF(E122<=80,E122*8,IF(E122>80,608+0.4*E122,IF(AF122>200,750+0.2*E122)))","v":176}]
[null,"LUKEŠ","Jakub","6.B",12,null,"Jilemnice  21.06.21",{"$f":"IF(E123<=80,E123*8,IF(E123>80,608+0.4*E123,IF(AF123>200,750+0.2*E123)))","v":96}]
[null,"OTT","Matyáš","6.B",11,null,"Jilemnice  21.06.21",{"$f":"IF(E124<=80,E124*8,IF(E124>80,608+0.4*E124,IF(AF124>200,750+0.2*E124)))","v":88}]
[null,"POKORNÝ","Matyáš","6.B",22,null,"Jilemnice  21.06.21",{"$f":"IF(E125<=80,E125*8,IF(E125>80,608+0.4*E125,IF(AF125>200,750+0.2*E125)))","v":176}]
[null,"POLÁČEK","Matyáš","6.B",10,null,"Jilemnice  21.06.21",{"$f":"IF(E126<=80,E126*8,IF(E126>80,608+0.4*E126,IF(AF126>200,750+0.2*E126)))","v":80}]
[null,"SOUKUP","Patrik","6.B",11,null,"Jilemnice  21.06.21",{"$f":"IF(E127<=80,E127*8,IF(E127>80,608+0.4*E127,IF(AF127>200,750+0.2*E127)))","v":88}]
[null,"VALENTA","Jakub","6.B",null,null," ",{"$f":"IF(E128<=80,E128*8,IF(E128>80,608+0.4*E128,IF(AF128>200,750+0.2*E128)))","v":0}]
[null,"VRBATA","Dominik","6.B",9,null,"Jilemnice  21.06.21",{"$f":"IF(E129<=80,E129*8,IF(E129>80,608+0.4*E129,IF(AF129>200,750+0.2*E129)))","v":72}]
[null,"FEJKL","Jan","7.A",18,null,"Jilemnice  21.06.21",{"$f":"IF(E130<=80,E130*8,IF(E130>80,608+0.4*E130,IF(AF130>200,750+0.2*E130)))","v":144},null,126]
[null,"KOTYK","Tadeáš","7.A",7,null,"Jilemnice  21.06.21",{"$f":"IF(E131<=80,E131*8,IF(E131>80,608+0.4*E131,IF(AF131>200,750+0.2*E131)))","v":56},null,30]
[null,"KRAUSE","Tadeáš","7.A",18,null,"Jilemnice  21.06.21",{"$f":"IF(E132<=80,E132*8,IF(E132>80,608+0.4*E132,IF(AF132>200,750+0.2*E132)))","v":144},null,57]
[null,"LEŠÁK","Martin","7.A",7,null,"Jilemnice  21.06.21",{"$f":"IF(E133<=80,E133*8,IF(E133>80,608+0.4*E133,IF(AF133>200,750+0.2*E133)))","v":56},null,25]
[null,"NECHANICKÝ","David","7.A",22,null,"Jilemnice  21.06.21",{"$f":"IF(E134<=80,E134*8,IF(E134>80,608+0.4*E134,IF(AF134>200,750+0.2*E134)))","v":176},null,37]
[null,"ŘEHOŘEK","Jan","7.A",42,null,"Jilemnice  21.06.21",{"$f":"IF(E135<=80,E135*8,IF(E135>80,608+0.4*E135,IF(AF135>200,750+0.2*E135)))","v":336},null,57]
[null,"SOUKUP","Ondřej","7.A",22,null,"Jilemnice  21.06.21",{"$f":"IF(E136<=80,E136*8,IF(E136>80,608+0.4*E136,IF(AF136>200,750+0.2*E136)))","v":176},null,126]
[null,"SPANILÝ","David","7.A",42,null,"Jilemnice  21.06.21",{"$f":"IF(E137<=80,E137*8,IF(E137>80,608+0.4*E137,IF(AF137>200,750+0.2*E137)))","v":336},null,49]
[null,"ČADAN","Benjamín","7.B",10,null,"Jilemnice  21.06.21",{"$f":"IF(E138<=80,E138*8,IF(E138>80,608+0.4*E138,IF(AF138>200,750+0.2*E138)))","v":80},null,15]
[null,"ČERNÝ","Michal","7.B",15,null,"Jilemnice  21.06.21",{"$f":"IF(E139<=80,E139*8,IF(E139>80,608+0.4*E139,IF(AF139>200,750+0.2*E139)))","v":120},null,25]
[null,"DOLEJŠÍ","David","7.B",8,null,"Jilemnice  21.06.21",{"$f":"IF(E140<=80,E140*8,IF(E140>80,608+0.4*E140,IF(AF140>200,750+0.2*E140)))","v":64},null,12]
[null,"NOVÁK","Matěj","7.B",8,null,"Jilemnice  21.06.21",{"$f":"IF(E141<=80,E141*8,IF(E141>80,608+0.4*E141,IF(AF141>200,750+0.2*E141)))","v":64},null,21]
[null,"POVAŽANEC","Martin","7.B",8,null,"Jilemnice  21.06.21",{"$f":"IF(E142<=80,E142*8,IF(E142>80,608+0.4*E142,IF(AF142>200,750+0.2*E142)))","v":64},null,30]
[null,"RICHTER","Jakub","7.B",null,null," ",{"$f":"IF(E143<=80,E143*8,IF(E143>80,608+0.4*E143,IF(AF143>200,750+0.2*E143)))","v":0},null,14]
[null,"ROZUMEK","Adam","7.B",26,null,"Jilemnice  21.06.21",{"$f":"IF(E144<=80,E144*8,IF(E144>80,608+0.4*E144,IF(AF144>200,750+0.2*E144)))","v":208},null,17]
[null,"VALENTA","František","7.B",15,null,"Jilemnice  21.06.21",{"$f":"IF(E145<=80,E145*8,IF(E145>80,608+0.4*E145,IF(AF145>200,750+0.2*E145)))","v":120},null,17]
[null,"ZAPLATÍLEK","Josef","7.B",26,null,"Jilemnice  21.06.21",{"$f":"IF(E146<=80,E146*8,IF(E146>80,608+0.4*E146,IF(AF146>200,750+0.2*E146)))","v":208},null,14]
[null,"ERBEN","Viktor","8.A",29,null,"Jilemnice  21.06.21",{"$f":"IF(E147<=80,E147*8,IF(E147>80,608+0.4*E147,IF(AF147>200,750+0.2*E147)))","v":232},null,27,3]
[null,"FRANC","Daniel","8.A",13,null,"Jilemnice  21.06.21",{"$f":"IF(E148<=80,E148*8,IF(E148>80,608+0.4*E148,IF(AF148>200,750+0.2*E148)))","v":104},null,22]
[null,"JINDŘIŠEK","Matyáš","8.A",28,null,"Jilemnice  25.04.21",{"$f":"IF(E149<=80,E149*8,IF(E149>80,608+0.4*E149,IF(AF149>200,750+0.2*E149)))","v":224},null,27,15]
[null,"KOLAČNÝ","Štěpán","8.A",19,null,"Jilemnice  21.06.21",{"$f":"IF(E150<=80,E150*8,IF(E150>80,608+0.4*E150,IF(AF150>200,750+0.2*E150)))","v":152},null,27]
[null,"KRISTAN","Jáchym","8.A",12,null,"Jilemnice  21.06.21",{"$f":"IF(E151<=80,E151*8,IF(E151>80,608+0.4*E151,IF(AF151>200,750+0.2*E151)))","v":96},null,10,3]
[null,"NGUYEN","David","8.A",29,null,"Jilemnice  26.05.21",{"$f":"IF(E152<=80,E152*8,IF(E152>80,608+0.4*E152,IF(AF152>200,750+0.2*E152)))","v":232},null,28]
[null,"NOVOTNÝ","Jan","8.A",16,null,"Jilemnice  21.06.21",{"$f":"IF(E153<=80,E153*8,IF(E153>80,608+0.4*E153,IF(AF153>200,750+0.2*E153)))","v":128},null,9]
[null,"RÁB","Adam","8.A",12,null,"Jilemnice  21.06.21",{"$f":"IF(E154<=80,E154*8,IF(E154>80,608+0.4*E154,IF(AF154>200,750+0.2*E154)))","v":96},null,18,14]
[null,"REPASKÝ","Jakub","8.A",73,null,"Jilemnice  21.06.21",{"$f":"IF(E155<=80,E155*8,IF(E155>80,608+0.4*E155,IF(AF155>200,750+0.2*E155)))","v":584},null,69,72]
[null,"SKÁLA","Jan","8.A",15,null,"Jilemnice  21.06.21",{"$f":"IF(E156<=80,E156*8,IF(E156>80,608+0.4*E156,IF(AF156>200,750+0.2*E156)))","v":120},null,20,15]
[null,"ŠPULÁK","Jakub","8.A",18,null,"Jilemnice  26.05.21",{"$f":"IF(E157<=80,E157*8,IF(E157>80,608+0.4*E157,IF(AF157>200,750+0.2*E157)))","v":144},null,32,14]
[null,"VALENTA","Tomáš","8.A",73,null,"Jilemnice  21.06.21",{"$f":"IF(E158<=80,E158*8,IF(E158>80,608+0.4*E158,IF(AF158>200,750+0.2*E158)))","v":584},null,69,72]
[null,"VANCL","Jiří","8.A",32,null,"Jilemnice  21.06.21",{"$f":"IF(E159<=80,E159*8,IF(E159>80,608+0.4*E159,IF(AF159>200,750+0.2*E159)))","v":256},null,76,18]
[null,"VAŠÍČEK","David","8.A",31,null,"Jilemnice  21.06.21",{"$f":"IF(E160<=80,E160*8,IF(E160>80,608+0.4*E160,IF(AF160>200,750+0.2*E160)))","v":248},null,32,15]
[null,"ZOUHAR","Ondřej","8.A",31,null,"Jilemnice  21.06.21",{"$f":"IF(E161<=80,E161*8,IF(E161>80,608+0.4*E161,IF(AF161>200,750+0.2*E161)))","v":248},null,20,15]
[null,"ZUZÁNEK","Filip","8.A",32,null,"Jilemnice  21.06.21",{"$f":"IF(E162<=80,E162*8,IF(E162>80,608+0.4*E162,IF(AF162>200,750+0.2*E162)))","v":256},null,76,18]
[null,"BRUMLICH","Jan","9.A",41,null,"Jilemnice  21.06.21",{"$f":"IF(E163<=80,E163*8,IF(E163>80,608+0.4*E163,IF(AF163>200,750+0.2*E163)))","v":328},null,null,58]
[null,"BUCHAR","Jiří","9.A",41,null,"Jilemnice  21.06.21",{"$f":"IF(E164<=80,E164*8,IF(E164>80,608+0.4*E164,IF(AF164>200,750+0.2*E164)))","v":328},null,null,30,9]
[null,"FAISTAVER","Jiří","9.A",null,null,null,{"$f":"IF(E165<=80,E165*8,IF(E165>80,608+0.4*E165,IF(AF165>200,750+0.2*E165)))","v":0},null,null,12,8]
[null,"FAISTAVER","Roman","9.A",31,null,"Jilemnice  21.06.21",{"$f":"IF(E166<=80,E166*8,IF(E166>80,608+0.4*E166,IF(AF166>200,750+0.2*E166)))","v":248},null,null,29,9]
[null,"FAJSTAVR","Jakub","9.A",null,null,null,{"$f":"IF(E167<=80,E167*8,IF(E167>80,608+0.4*E167,IF(AF167>200,750+0.2*E167)))","v":0},null,null,null,18]
[null,"FARSKÝ","Vojtěch","9.A",85,null,"Jilemnice  21.06.21",{"$f":"IF(E168<=80,E168*8,IF(E168>80,608+0.4*E168,IF(AF168>200,750+0.2*E168)))","v":642},null,null,63,51]
[null,"HOLUBEC","Lukáš","9.A",15,null,"Jilemnice  21.06.21",{"$f":"IF(E169<=80,E169*8,IF(E169>80,608+0.4*E169,IF(AF169>200,750+0.2*E169)))","v":120},null,null,9,9]
[null,"CHAROUZ","Vojtěch","9.A",19,null,"Jilemnice  21.06.21",{"$f":"IF(E170<=80,E170*8,IF(E170>80,608+0.4*E170,IF(AF170>200,750+0.2*E170)))","v":152},null,null,16,13]
[null,"IACCHERI","Carlo","9.A",null,null,null,{"$f":"IF(E171<=80,E171*8,IF(E171>80,608+0.4*E171,IF(AF171>200,750+0.2*E171)))","v":0},null,null,88,9]
[null,"JOHN","Adrian","9.A",16,null,"Jilemnice  21.06.21",{"$f":"IF(E172<=80,E172*8,IF(E172>80,608+0.4*E172,IF(AF172>200,750+0.2*E172)))","v":128},null,null,5,7]
[null,"KRČÍK","Matthew","9.A",null,null,null,{"$f":"IF(E173<=80,E173*8,IF(E173>80,608+0.4*E173,IF(AF174>200,750+0.2*E173)))","v":0},null,null,20,18]
[null,"KRESAN","Vojtěch","9.A",10,null,"Jilemnice  21.06.21",{"$f":"IF(E174<=80,E174*8,IF(E174>80,608+0.4*E174,IF(AF175>200,750+0.2*E174)))","v":80},null,null,8,9]
[null,"LÁNSKÝ","Vojtěch","9.A",15,null,"Jilemnice  21.06.21",{"$f":"IF(E175<=80,E175*8,IF(E175>80,608+0.4*E175,IF(AF176>200,750+0.2*E175)))","v":120},null,null,9,5]
[null,"LEŠÁK","Lukáš","9.A",null,null,null,{"$f":"IF(E176<=80,E176*8,IF(E176>80,608+0.4*E176,IF(AF177>200,750+0.2*E176)))","v":0},null,null,8,8]
[null,"RYPL","Matyáš","9.A",19,null,"Jilemnice  21.06.21",{"$f":"IF(E177<=80,E177*8,IF(E177>80,608+0.4*E177,IF(AF178>200,750+0.2*E177)))","v":152},null,null,19,9]
[null,"VU TRAN DINH ","Lukas","9.A",15,null,"Jilemnice  21.06.21"]
[null,"DUFEK","Matyáš","9.B",21,null,"Jilemnice  21.06.21",{"$f":"IF(E179<=80,E179*8,IF(E179>80,608+0.4*E179,IF(AF180>200,750+0.2*E179)))","v":168},null,null,15,11]
[null,"JEŽEK","Jonáš","9.B",179,null,"Jilemnice  21.06.21",{"$f":"IF(E180<=80,E180*8,IF(E180>80,608+0.4*E180,IF(AF181>200,750+0.2*E180)))","v":679.6},null,492,250,132]
[null,"JEŽEK","Mikuláš","9.B",null,null,null,{"$f":"IF(E181<=80,E181*8,IF(E181>80,608+0.4*E181,IF(AF182>200,750+0.2*E181)))","v":0},null,null,250,132]
[null,"NECHANICKÝ","Michal","9.B",151,null,"Jilemnice  21.06.21",{"$f":"IF(E182<=80,E182*8,IF(E182>80,608+0.4*E182,IF(AF183>200,750+0.2*E182)))","v":668.4},null,null,37,9]
[null,"PAULÍČEK","Jakub","9.B",12,null,"Jilemnice  21.06.21",{"$f":"IF(E183<=80,E183*8,IF(E183>80,608+0.4*E183,IF(AF184>200,750+0.2*E183)))","v":96},null,null,32]
[null,"POHOŘALÝ","Jakub","9.B",72,null,"Jilemnice  10.05.21",{"$f":"IF(E184<=80,E184*8,IF(E184>80,608+0.4*E184,IF(AF185>200,750+0.2*E184)))","v":576},null,104,114,25]
[null,"POSPÍCHAL","Daniel","9.B",31,null,"Jilemnice  21.06.21",{"$f":"IF(E185<=80,E185*8,IF(E185>80,608+0.4*E185,IF(AF186>200,750+0.2*E185)))","v":248},null,null,48,40]
[null,"SOUKUP","Lukáš","9.B",179,null,"Jilemnice  21.06.21",{"$f":"IF(E186<=80,E186*8,IF(E186>80,608+0.4*E186,IF(AF187>200,750+0.2*E186)))","v":679.6},null,null,12,65]
[null,"VANCL","Jan","9.B",34,null,"Jilemnice  10.05.21",{"$f":"IF(E187<=80,E187*8,IF(E187>80,608+0.4*E187,IF(AF188>200,750+0.2*E187)))","v":272},null,492,180,50]
[null,"VANCL","Lukáš","9.B",72,null,"Jilemnice  10.05.21",{"$f":"IF(E188<=80,E188*8,IF(E188>80,608+0.4*E188,IF(AF189>200,750+0.2*E188)))","v":576},null,104,114,51]
[null,"VAŠÍK","Jiří","9.B",15,null,"Jilemnice  21.06.21",{"$f":"IF(E189<=80,E189*8,IF(E189>80,608+0.4*E189,IF(AF190>200,750+0.2*E189)))","v":120},null,null,44,19]
[null,"VOHNOUT","Zdeněk","9.B",85,null,"Jilemnice  21.06.21",{"$f":"IF(E190<=80,E190*8,IF(E190>80,608+0.4*E190,IF(#REF!>200,750+0.2*E190)))","v":642},null,null,56,22]

{"sheet":"PLAVÁNÍ","index":18,"n_rows":190,"n_cols":12,"rows_kept":190,"cut":false,"hidden":false,"merged":[]}
[null,null,"VÝKONY  2020 - 2021",null,null,null,"PLAVÁNÍ","CHLAPCI  6. -  9.  ROČ."]
[null,"stav  k ",{"$f":"TODAY()","v":"2021-06-28"},null,null,null,null,null,null,"19  - 20","18  - 19","17 - 18"]
[]
["1.",{"$f":"B101","v":"BOUKAL"},{"$f":"C101","v":"Jakub"},"6.A",0,null,0,0,null,0,0,0]
["2.",{"$f":"B102","v":"DEMČUK"},"Ilja","6.A",0,null,0,0,null,0,0,0]
["3.",{"$f":"B103","v":"FAISTAUER"},"Kryštof","6.A",0,null,0,0,null,0,0,0]
["4.",{"$f":"B104","v":"FRK"},"Matyáš","6.A",0,null,0,0,null,0,0,0]
["5.",{"$f":"B105","v":"HUBÁLOVSKÝ"},"Marek","6.A",0,null,0,0,null,0,0,0]
["6.",{"$f":"B106","v":"MAŘAS"},"Dominik","6.A",0,null,0,0,null,0,0,0]
["7.",{"$f":"B107","v":"MAŤÁTKO"},"Jakub","6.A",0,null,0,0,null,0,0,0]
["8.",{"$f":"B108","v":"MERY"},"Luboš","6.A",0,null,0,0,null,0,0,0]
["9.",{"$f":"B109","v":"NOVOTNÝ"},"Matěj","6.A",0,null,0,0,null,0,0,0]
["10.",{"$f":"B110","v":"ŘEHOŘEK"},"Vojtěch","6.A",0,null,0,0,null,0,0,0]
["11.",{"$f":"B111","v":"ŠÍR"},"Matyáš","6.A",0,null,0,0,null,0,0,0]
["12.",{"$f":"B112","v":"TORÁČ"},"Tomáš","6.A",0,null,0,0,null,0,0,0]
["13.",{"$f":"B113","v":"ULLMAN"},"Šimon","6.A",0,null,0,0,null,0,0,0]
["14.",{"$f":"B114","v":"VÁCLAVÍK"},"Ondřej","6.A",0,null,0,0,null,0,0,0]
["15.",{"$f":"B115","v":"AUERSWALD"},"Daniel","6.B",0,null,0,0,null,0,0,0]
["16.",{"$f":"B116","v":"BODLÁK"},"Vladimír","6.B",0,null,0,0,null,0,0,0]
["17.",{"$f":"B117","v":"BUDÍN"},"Martin","6.B",0,null,0,0,null,0,0,0]
["18.",{"$f":"B118","v":"DVOŘÁK"},"Dominik","6.B",0,null,0,0,null,0,0,0]
["19.",{"$f":"B119","v":"FIŠERA"},"Vojtěch","6.B",0,null,0,0,null,0,0,0]
["20.",{"$f":"B120","v":"JINDŘIŠEK"},"Vít","6.B",0,null,0,0,null,0,0,0]
["21.",{"$f":"B121","v":"JIROUŠ"},"Matouš","6.B",0,null,0,0,null,0,0,0]
["22.",{"$f":"B122","v":"KERLE"},"Marek","6.B",0,null,0,0,null,0,0,0]
["23.",{"$f":"B123","v":"LUKEŠ"},"Jakub","6.B",0,null,0,0,null,0,0,0]
["24.",{"$f":"B124","v":"OTT"},"Matyáš","6.B",0,null,0,0,null,0,0,0]
["25.",{"$f":"B125","v":"POKORNÝ"},"Matyáš","6.B",0,null,0,0,null,0,0,0]
["26.",{"$f":"B126","v":"POLÁČEK"},"Matyáš","6.B",0,null,0,0,null,0,0,0]
["27.",{"$f":"B127","v":"SOUKUP"},"Patrik","6.B",0,null,0,0,null,0,0,0]
["28.",{"$f":"B128","v":"VALENTA"},"Jakub","6.B",0,null,0,0,null,0,0,0]
["29.",{"$f":"B129","v":"VRBATA"},"Dominik","6.B",0,null,0,0,null,0,0,0]
["30.",{"$f":"B130","v":"FEJKL"},"Jan","7.A",30,null,"Martinice  28.06.21",436.95443449696967,null,33.299999999999997,0,0]
["31.",{"$f":"B131","v":"KOTYK"},"Tadeáš","7.A",0,null,0,0,null,0,0,0]
["32.",{"$f":"B132","v":"KRAUSE"},"Tadeáš","7.A",0,null,0,0,null,30.25,0,0]
["33.",{"$f":"B133","v":"LEŠÁK"},"Martin","7.A",0,null,0,0,null,0,0,0]
["34.",{"$f":"B134","v":"NECHANICKÝ"},"David","7.A",30,null,"Martinice  28.06.21",436.95443449696967,null,0,0,0]
["35.",{"$f":"B135","v":"ŘEHOŘEK"},"Jan","7.A",30,null,"Martinice  28.06.21",436.95443449696967,null,0,0,0]
["36.",{"$f":"B136","v":"SOUKUP"},"Ondřej","7.A",0,null,0,0,null,0,0,0]
["37.",{"$f":"B137","v":"SPANILÝ"},"David","7.A",30,null,"Martinice  28.06.21",436.95443449696967,null,0,0,0]
["38.",{"$f":"B138","v":"ČADAN"},"Benjamín","7.B",0,null,0,0,null,0,0,0]
["39.",{"$f":"B139","v":"ČERNÝ"},"Michal","7.B",0,null,0,0,null,0,0,0]
["40.",{"$f":"B140","v":"DOLEJŠÍ"},"David","7.B",0,null,0,0,null,0,0,0]
["41.",{"$f":"B141","v":"NOVÁK"},"Matěj","7.B",0,null,0,0,null,0,0,0]
["42.",{"$f":"B142","v":"POVAŽANEC"},"Martin","7.B",0,null,0,0,null,0,0,0]
["43.",{"$f":"B143","v":"RICHTER"},"Jakub","7.B",0,null,0,0,null,0,0,0]
["44.",{"$f":"B144","v":"ROZUMEK"},"Adam","7.B",0,null,0,0,null,0,0,0]
["45.",{"$f":"B145","v":"VALENTA"},"František","7.B",0,null,0,0,null,0,0,0]
["46.",{"$f":"B146","v":"ZAPLATÍLEK"},"Josef","7.B",0,null,0,0,null,0,0,0]
["47.",{"$f":"B147","v":"ERBEN"},"Viktor","8.A",0,null,0,0,null,0,0,0]
["48.",{"$f":"B148","v":"FRANC"},"Daniel","8.A",0,null,0,0,null,38.15,0,0]
["49.",{"$f":"B149","v":"JINDŘIŠEK"},"Matyáš","8.A",0,null,0,0,null,0,33.200000000000003,0]
["50.",{"$f":"B150","v":"KOLAČNÝ"},"Štěpán","8.A",0,null,0,0,null,29.45,0,0]
["51.",{"$f":"B151","v":"KRISTAN"},"Jáchym","8.A",0,null,0,0,null,0,0,0]
["52.",{"$f":"B152","v":"NGUYEN"},"David","8.A",0,null,0,0,null,0,0,0]
["53.",{"$f":"B153","v":"NOVOTNÝ"},"Jan","8.A",0,null,0,0,null,33.299999999999997,37.799999999999997,0]
["54.",{"$f":"B154","v":"RÁB"},"Adam","8.A",0,null,0,0,null,0,0,0]
["55.",{"$f":"B155","v":"REPASKÝ"},"Jakub","8.A",0,null,0,0,null,0,0,0]
["56.",{"$f":"B156","v":"SKÁLA"},"Jan","8.A",0,null,0,0,null,27.75,0,0]
["57.",{"$f":"B157","v":"ŠPULÁK"},"Jakub","8.A",0,null,0,0,null,24.9,25.05,0]
["58.",{"$f":"B158","v":"VALENTA"},"Tomáš","8.A",0,null,0,0,null,0,0,0]
["59.",{"$f":"B159","v":"VANCL"},"Jiří","8.A",0,null,0,0,null,0,0,0]
["60.",{"$f":"B160","v":"VAŠÍČEK"},"David","8.A",0,null,0,0,null,0,0,0]
["61.",{"$f":"B161","v":"ZOUHAR"},"Ondřej","8.A",0,null,0,0,null,0,0,0]
["62.",{"$f":"B162","v":"ZUZÁNEK"},"Filip","8.A",0,null,0,0,null,0,0,0]
["63.",{"$f":"B163","v":"BRUMLICH"},"Jan","9.A",30,null,"Martinice  25.06.21",436.95443449696967,null,0,0,0]
["64.",{"$f":"B164","v":"BUCHAR"},"Jiří","9.A",0,null,0,0,null,0,0,0]
["65.",{"$f":"B165","v":"FAISTAVER"},"Jiří","9.A",0,null,0,0,null,0,0,0]
["66.",{"$f":"B166","v":"FAISTAVER"},"Roman","9.A",0,null,0,0,null,0,0,0]
["67.",{"$f":"B167","v":"FAJSTAVR"},"Jakub","9.A",25,null,"Martinice  25.06.21",511.96350321454543,null,21.5,23.45,21.29]
["68.",{"$f":"B168","v":"FARSKÝ"},"Vojtěch","9.A",0,null,0,0,null,19.850000000000001,21.8,21.3]
["69.",{"$f":"B169","v":"HOLUBEC"},"Lukáš","9.A",0,null,0,0,null,0,0,0]
["70.",{"$f":"B170","v":"CHAROUZ"},"Vojtěch","9.A",0,null,0,0,null,19.5,17.64,20.18]
["71.",{"$f":"B171","v":"IACCHERI"},"Carlo","9.A",30,null,"Martinice  25.06.21",436.95443449696967,null,0,32.1,39.65]
["72.",{"$f":"B172","v":"JOHN"},"Adrian","9.A",0,null,0,0,null,0,0,0]
["73.",{"$f":"B173","v":"KRČÍK"},"Matthew","9.A",25,null,"Martinice  25.06.21",511.96350321454543,null,20.85,20,20.16]
["74.",{"$f":"B174","v":"KRESAN"},"Vojtěch","9.A",30,null,"Martinice  25.06.21",436.95443449696967,null,0,0,0]
["75.",{"$f":"B175","v":"LÁNSKÝ"},"Vojtěch","9.A",0,null,0,0,null,0,0,0]
["76.",{"$f":"B176","v":"LEŠÁK"},"Lukáš","9.A",0,null,0,0,null,0,0,0]
["77.",{"$f":"B177","v":"RYPL"},"Matyáš","9.A",25,null,"Martinice  25.06.21",511.96350321454543,null,20.2,18.760000000000002,20.87]
["78.",{"$f":"B178","v":"VU TRAN DINH "},"Lukas","9.A",30,null,"Martinice  25.06.21",436.95443449696967,null,0,0,0]
["79.",{"$f":"B179","v":"DUFEK"},"Matyáš","9.B",0,null,0,0,null,0,0,0]
["80.",{"$f":"B180","v":"JEŽEK"},"Jonáš","9.B",30,null,"Martinice  25.06.21",436.95443449696967,null,0,26.95,0]
["81.",{"$f":"B181","v":"JEŽEK"},"Mikuláš","9.B",30,null,"Martinice  25.06.21",436.95443449696967,null,0,28.12,0]
["82.",{"$f":"B182","v":"NECHANICKÝ"},"Michal","9.B",0,null,0,0,null,0,0,0]
["83.",{"$f":"B183","v":"PAULÍČEK"},"Jakub","9.B",0,null,0,0,null,0,0,0]
["84.",{"$f":"B184","v":"POHOŘALÝ"},"Jakub","9.B",0,null,0,0,null,0,0,0]
["85.",{"$f":"B185","v":"POSPÍCHAL"},"Daniel","9.B",0,null,0,0,null,0,0,0]
["86.",{"$f":"B186","v":"SOUKUP"},"Lukáš","9.B",0,null,0,0,null,0,17.350000000000001,17.989999999999998]
["87.",{"$f":"B187","v":"VANCL"},"Jan","9.B",30,null,"Martinice  25.06.21",436.95443449696967,null,21.45,22.1,0]
["88.",{"$f":"B188","v":"VANCL"},"Lukáš","9.B",30,null,"Martinice  25.06.21",436.95443449696967,null,19.350000000000001,21,0]
["89.",{"$f":"B189","v":"VAŠÍK"},"Jiří","9.B",0,null,0,0,null,0,0,0]
["90.",{"$f":"B190","v":"VOHNOUT"},"Zdeněk","9.B",0,null,0,0,null,0,16.34,16.7]
[]
[]
[]
[]
[]
[]
[]
[null,"BOUKAL","Jakub","6.A",null,null,null,{"$f":"IF(E101=0,0,(1000000000 - 313216 / E101 + 34538300 / E101*2 - 1698600000 / E101*3 + 32198000000 / E101*4)/11000000-29)","v":0}]
[null,"DEMČUK","Ilja","6.A",null,null,null,{"$f":"IF(E102=0,0,(1000000000 - 313216 / E102 + 34538300 / E102*2 - 1698600000 / E102*3 + 32198000000 / E102*4)/11000000-29)","v":0}]
[null,"FAISTAUER","Kryštof","6.A",null,null,null,{"$f":"IF(E103=0,0,(1000000000 - 313216 / E103 + 34538300 / E103*2 - 1698600000 / E103*3 + 32198000000 / E103*4)/11000000-29)","v":0}]
[null,"FRK","Matyáš","6.A",null,null,null,{"$f":"IF(E104=0,0,(1000000000 - 313216 / E104 + 34538300 / E104*2 - 1698600000 / E104*3 + 32198000000 / E104*4)/11000000-29)","v":0}]
[null,"HUBÁLOVSKÝ","Marek","6.A",null,null,null,{"$f":"IF(E105=0,0,(1000000000 - 313216 / E105 + 34538300 / E105*2 - 1698600000 / E105*3 + 32198000000 / E105*4)/11000000-29)","v":0}]
[null,"MAŘAS","Dominik","6.A",null,null,null,{"$f":"IF(E106=0,0,(1000000000 - 313216 / E106 + 34538300 / E106*2 - 1698600000 / E106*3 + 32198000000 / E106*4)/11000000-29)","v":0}]
[null,"MAŤÁTKO","Jakub","6.A",null,null,null,{"$f":"IF(E107=0,0,(1000000000 - 313216 / E107 + 34538300 / E107*2 - 1698600000 / E107*3 + 32198000000 / E107*4)/11000000-29)","v":0}]
[null,"MERY","Luboš","6.A",null,null,null,{"$f":"IF(E108=0,0,(1000000000 - 313216 / E108 + 34538300 / E108*2 - 1698600000 / E108*3 + 32198000000 / E108*4)/11000000-29)","v":0}]
[null,"NOVOTNÝ","Matěj","6.A",null,null,null,{"$f":"IF(E109=0,0,(1000000000 - 313216 / E109 + 34538300 / E109*2 - 1698600000 / E109*3 + 32198000000 / E109*4)/11000000-29)","v":0}]
[null,"ŘEHOŘEK","Vojtěch","6.A",null,null,null,{"$f":"IF(E110=0,0,(1000000000 - 313216 / E110 + 34538300 / E110*2 - 1698600000 / E110*3 + 32198000000 / E110*4)/11000000-29)","v":0}]
[null,"ŠÍR","Matyáš","6.A",null,null,null,{"$f":"IF(E111=0,0,(1000000000 - 313216 / E111 + 34538300 / E111*2 - 1698600000 / E111*3 + 32198000000 / E111*4)/11000000-29)","v":0}]
[null,"TORÁČ","Tomáš","6.A",null,null,null,{"$f":"IF(E112=0,0,(1000000000 - 313216 / E112 + 34538300 / E112*2 - 1698600000 / E112*3 + 32198000000 / E112*4)/11000000-29)","v":0}]
[null,"ULLMAN","Šimon","6.A",null,null,null,{"$f":"IF(E113=0,0,(1000000000 - 313216 / E113 + 34538300 / E113*2 - 1698600000 / E113*3 + 32198000000 / E113*4)/11000000-29)","v":0}]
[null,"VÁCLAVÍK","Ondřej","6.A",null,null,null,{"$f":"IF(E114=0,0,(1000000000 - 313216 / E114 + 34538300 / E114*2 - 1698600000 / E114*3 + 32198000000 / E114*4)/11000000-29)","v":0}]
[null,"AUERSWALD","Daniel","6.B",null,null,null,{"$f":"IF(E115=0,0,(1000000000 - 313216 / E115 + 34538300 / E115*2 - 1698600000 / E115*3 + 32198000000 / E115*4)/11000000-29)","v":0}]
[null,"BODLÁK","Vladimír","6.B",null,null,null,{"$f":"IF(E116=0,0,(1000000000 - 313216 / E116 + 34538300 / E116*2 - 1698600000 / E116*3 + 32198000000 / E116*4)/11000000-29)","v":0}]
[null,"BUDÍN","Martin","6.B",null,null,null,{"$f":"IF(E117=0,0,(1000000000 - 313216 / E117 + 34538300 / E117*2 - 1698600000 / E117*3 + 32198000000 / E117*4)/11000000-29)","v":0}]
[null,"DVOŘÁK","Dominik","6.B",null,null,null,{"$f":"IF(E118=0,0,(1000000000 - 313216 / E118 + 34538300 / E118*2 - 1698600000 / E118*3 + 32198000000 / E118*4)/11000000-29)","v":0}]
[null,"FIŠERA","Vojtěch","6.B",null,null,null,{"$f":"IF(E119=0,0,(1000000000 - 313216 / E119 + 34538300 / E119*2 - 1698600000 / E119*3 + 32198000000 / E119*4)/11000000-29)","v":0}]
[null,"JINDŘIŠEK","Vít","6.B",null,null,null,{"$f":"IF(E120=0,0,(1000000000 - 313216 / E120 + 34538300 / E120*2 - 1698600000 / E120*3 + 32198000000 / E120*4)/11000000-29)","v":0}]
[null,"JIROUŠ","Matouš","6.B",null,null,null,{"$f":"IF(E121=0,0,(1000000000 - 313216 / E121 + 34538300 / E121*2 - 1698600000 / E121*3 + 32198000000 / E121*4)/11000000-29)","v":0}]
[null,"KERLE","Marek","6.B",null,null,null,{"$f":"IF(E122=0,0,(1000000000 - 313216 / E122 + 34538300 / E122*2 - 1698600000 / E122*3 + 32198000000 / E122*4)/11000000-29)","v":0}]
[null,"LUKEŠ","Jakub","6.B",null,null,null,{"$f":"IF(E123=0,0,(1000000000 - 313216 / E123 + 34538300 / E123*2 - 1698600000 / E123*3 + 32198000000 / E123*4)/11000000-29)","v":0}]
[null,"OTT","Matyáš","6.B",null,null,null,{"$f":"IF(E124=0,0,(1000000000 - 313216 / E124 + 34538300 / E124*2 - 1698600000 / E124*3 + 32198000000 / E124*4)/11000000-29)","v":0}]
[null,"POKORNÝ","Matyáš","6.B",null,null,null,{"$f":"IF(E125=0,0,(1000000000 - 313216 / E125 + 34538300 / E125*2 - 1698600000 / E125*3 + 32198000000 / E125*4)/11000000-29)","v":0}]
[null,"POLÁČEK","Matyáš","6.B",null,null,null,{"$f":"IF(E126=0,0,(1000000000 - 313216 / E126 + 34538300 / E126*2 - 1698600000 / E126*3 + 32198000000 / E126*4)/11000000-29)","v":0}]
[null,"SOUKUP","Patrik","6.B",null,null,null,{"$f":"IF(E127=0,0,(1000000000 - 313216 / E127 + 34538300 / E127*2 - 1698600000 / E127*3 + 32198000000 / E127*4)/11000000-29)","v":0}]
[null,"VALENTA","Jakub","6.B",null,null,null,{"$f":"IF(E128=0,0,(1000000000 - 313216 / E128 + 34538300 / E128*2 - 1698600000 / E128*3 + 32198000000 / E128*4)/11000000-29)","v":0}]
[null,"VRBATA","Dominik","6.B",null,null,null,{"$f":"IF(E129=0,0,(1000000000 - 313216 / E129 + 34538300 / E129*2 - 1698600000 / E129*3 + 32198000000 / E129*4)/11000000-29)","v":0}]
[null,"FEJKL","Jan","7.A",30,null,"Martinice  28.06.21",{"$f":"IF(E130=0,0,(1000000000 - 313216 / E130 + 34538300 / E130*2 - 1698600000 / E130*3 + 32198000000 / E130*4)/11000000-29)","v":436.95443449696967},null,33.299999999999997]
[null,"KOTYK","Tadeáš","7.A",null,null,null,{"$f":"IF(E131=0,0,(1000000000 - 313216 / E131 + 34538300 / E131*2 - 1698600000 / E131*3 + 32198000000 / E131*4)/11000000-29)","v":0}]
[null,"KRAUSE","Tadeáš","7.A",null,null,null,{"$f":"IF(E132=0,0,(1000000000 - 313216 / E132 + 34538300 / E132*2 - 1698600000 / E132*3 + 32198000000 / E132*4)/11000000-29)","v":0},null,30.25]
[null,"LEŠÁK","Martin","7.A",null,null,null,{"$f":"IF(E133=0,0,(1000000000 - 313216 / E133 + 34538300 / E133*2 - 1698600000 / E133*3 + 32198000000 / E133*4)/11000000-29)","v":0}]
[null,"NECHANICKÝ","David","7.A",30,null,"Martinice  28.06.21",{"$f":"IF(E134=0,0,(1000000000 - 313216 / E134 + 34538300 / E134*2 - 1698600000 / E134*3 + 32198000000 / E134*4)/11000000-29)","v":436.95443449696967}]
[null,"ŘEHOŘEK","Jan","7.A",30,null,"Martinice  28.06.21",{"$f":"IF(E135=0,0,(1000000000 - 313216 / E135 + 34538300 / E135*2 - 1698600000 / E135*3 + 32198000000 / E135*4)/11000000-29)","v":436.95443449696967}]
[null,"SOUKUP","Ondřej","7.A",null,null,null,{"$f":"IF(E136=0,0,(1000000000 - 313216 / E136 + 34538300 / E136*2 - 1698600000 / E136*3 + 32198000000 / E136*4)/11000000-29)","v":0}]
[null,"SPANILÝ","David","7.A",30,null,"Martinice  28.06.21",{"$f":"IF(E137=0,0,(1000000000 - 313216 / E137 + 34538300 / E137*2 - 1698600000 / E137*3 + 32198000000 / E137*4)/11000000-29)","v":436.95443449696967}]
[null,"ČADAN","Benjamín","7.B",null,null,null,{"$f":"IF(E138=0,0,(1000000000 - 313216 / E138 + 34538300 / E138*2 - 1698600000 / E138*3 + 32198000000 / E138*4)/11000000-29)","v":0}]
[null,"ČERNÝ","Michal","7.B",null,null,null,{"$f":"IF(E139=0,0,(1000000000 - 313216 / E139 + 34538300 / E139*2 - 1698600000 / E139*3 + 32198000000 / E139*4)/11000000-29)","v":0}]
[null,"DOLEJŠÍ","David","7.B",null,null,null,{"$f":"IF(E140=0,0,(1000000000 - 313216 / E140 + 34538300 / E140*2 - 1698600000 / E140*3 + 32198000000 / E140*4)/11000000-29)","v":0}]
[null,"NOVÁK","Matěj","7.B",null,null,null,{"$f":"IF(E141=0,0,(1000000000 - 313216 / E141 + 34538300 / E141*2 - 1698600000 / E141*3 + 32198000000 / E141*4)/11000000-29)","v":0}]
[null,"POVAŽANEC","Martin","7.B",null,null,null,{"$f":"IF(E142=0,0,(1000000000 - 313216 / E142 + 34538300 / E142*2 - 1698600000 / E142*3 + 32198000000 / E142*4)/11000000-29)","v":0}]
[null,"RICHTER","Jakub","7.B",null,null,null,{"$f":"IF(E143=0,0,(1000000000 - 313216 / E143 + 34538300 / E143*2 - 1698600000 / E143*3 + 32198000000 / E143*4)/11000000-29)","v":0}]
[null,"ROZUMEK","Adam","7.B",null,null,null,{"$f":"IF(E144=0,0,(1000000000 - 313216 / E144 + 34538300 / E144*2 - 1698600000 / E144*3 + 32198000000 / E144*4)/11000000-29)","v":0}]
[null,"VALENTA","František","7.B",null,null,null,{"$f":"IF(E145=0,0,(1000000000 - 313216 / E145 + 34538300 / E145*2 - 1698600000 / E145*3 + 32198000000 / E145*4)/11000000-29)","v":0}]
[null,"ZAPLATÍLEK","Josef","7.B",null,null,null,{"$f":"IF(E146=0,0,(1000000000 - 313216 / E146 + 34538300 / E146*2 - 1698600000 / E146*3 + 32198000000 / E146*4)/11000000-29)","v":0}]
[null,"ERBEN","Viktor","8.A",null,null,null,{"$f":"IF(E147=0,0,(1000000000 - 313216 / E147 + 34538300 / E147*2 - 1698600000 / E147*3 + 32198000000 / E147*4)/11000000-29)","v":0}]
[null,"FRANC","Daniel","8.A",null,null,null,{"$f":"IF(E148=0,0,(1000000000 - 313216 / E148 + 34538300 / E148*2 - 1698600000 / E148*3 + 32198000000 / E148*4)/11000000-29)","v":0},null,38.15]
[null,"JINDŘIŠEK","Matyáš","8.A",null,null,null,{"$f":"IF(E149=0,0,(1000000000 - 313216 / E149 + 34538300 / E149*2 - 1698600000 / E149*3 + 32198000000 / E149*4)/11000000-29)","v":0},null,null,33.200000000000003]
[null,"KOLAČNÝ","Štěpán","8.A",null,null,null,{"$f":"IF(E150=0,0,(1000000000 - 313216 / E150 + 34538300 / E150*2 - 1698600000 / E150*3 + 32198000000 / E150*4)/11000000-29)","v":0},null,29.45]
[null,"KRISTAN","Jáchym","8.A",null,null,null,{"$f":"IF(E151=0,0,(1000000000 - 313216 / E151 + 34538300 / E151*2 - 1698600000 / E151*3 + 32198000000 / E151*4)/11000000-29)","v":0}]
[null,"NGUYEN","David","8.A",null,null,null,{"$f":"IF(E152=0,0,(1000000000 - 313216 / E152 + 34538300 / E152*2 - 1698600000 / E152*3 + 32198000000 / E152*4)/11000000-29)","v":0}]
[null,"NOVOTNÝ","Jan","8.A",null,null,null,{"$f":"IF(E153=0,0,(1000000000 - 313216 / E153 + 34538300 / E153*2 - 1698600000 / E153*3 + 32198000000 / E153*4)/11000000-29)","v":0},null,33.299999999999997,37.799999999999997]
[null,"RÁB","Adam","8.A",null,null,null,{"$f":"IF(E154=0,0,(1000000000 - 313216 / E154 + 34538300 / E154*2 - 1698600000 / E154*3 + 32198000000 / E154*4)/11000000-29)","v":0}]
[null,"REPASKÝ","Jakub","8.A",null,null,null,{"$f":"IF(E155=0,0,(1000000000 - 313216 / E155 + 34538300 / E155*2 - 1698600000 / E155*3 + 32198000000 / E155*4)/11000000-29)","v":0}]
[null,"SKÁLA","Jan","8.A",null,null,null,{"$f":"IF(E156=0,0,(1000000000 - 313216 / E156 + 34538300 / E156*2 - 1698600000 / E156*3 + 32198000000 / E156*4)/11000000-29)","v":0},null,27.75]
[null,"ŠPULÁK","Jakub","8.A",null,null,null,{"$f":"IF(E157=0,0,(1000000000 - 313216 / E157 + 34538300 / E157*2 - 1698600000 / E157*3 + 32198000000 / E157*4)/11000000-29)","v":0},null,24.9,25.05]
[null,"VALENTA","Tomáš","8.A",null,null,null,{"$f":"IF(E158=0,0,(1000000000 - 313216 / E158 + 34538300 / E158*2 - 1698600000 / E158*3 + 32198000000 / E158*4)/11000000-29)","v":0}]
[null,"VANCL","Jiří","8.A",null,null,null,{"$f":"IF(E159=0,0,(1000000000 - 313216 / E159 + 34538300 / E159*2 - 1698600000 / E159*3 + 32198000000 / E159*4)/11000000-29)","v":0}]
[null,"VAŠÍČEK","David","8.A",null,null,null,{"$f":"IF(E160=0,0,(1000000000 - 313216 / E160 + 34538300 / E160*2 - 1698600000 / E160*3 + 32198000000 / E160*4)/11000000-29)","v":0}]
[null,"ZOUHAR","Ondřej","8.A",null,null,null,{"$f":"IF(E161=0,0,(1000000000 - 313216 / E161 + 34538300 / E161*2 - 1698600000 / E161*3 + 32198000000 / E161*4)/11000000-29)","v":0}]
[null,"ZUZÁNEK","Filip","8.A",null,null,null,{"$f":"IF(E162=0,0,(1000000000 - 313216 / E162 + 34538300 / E162*2 - 1698600000 / E162*3 + 32198000000 / E162*4)/11000000-29)","v":0}]
[null,"BRUMLICH","Jan","9.A",30,null,"Martinice  25.06.21",{"$f":"IF(E163=0,0,(1000000000 - 313216 / E163 + 34538300 / E163*2 - 1698600000 / E163*3 + 32198000000 / E163*4)/11000000-29)","v":436.95443449696967}]
[null,"BUCHAR","Jiří","9.A",null,null,null,{"$f":"IF(E164=0,0,(1000000000 - 313216 / E164 + 34538300 / E164*2 - 1698600000 / E164*3 + 32198000000 / E164*4)/11000000-29)","v":0}]
[null,"FAISTAVER","Jiří","9.A",null,null,null,{"$f":"IF(E165=0,0,(1000000000 - 313216 / E165 + 34538300 / E165*2 - 1698600000 / E165*3 + 32198000000 / E165*4)/11000000-29)","v":0}]
[null,"FAISTAVER","Roman","9.A",null,null,null,{"$f":"IF(E166=0,0,(1000000000 - 313216 / E166 + 34538300 / E166*2 - 1698600000 / E166*3 + 32198000000 / E166*4)/11000000-29)","v":0}]
[null,"FAJSTAVR","Jakub","9.A",25,null,"Martinice  25.06.21",{"$f":"IF(E167=0,0,(1000000000 - 313216 / E167 + 34538300 / E167*2 - 1698600000 / E167*3 + 32198000000 / E167*4)/11000000-29)","v":511.96350321454543},null,21.5,23.45,21.29]
[null,"FARSKÝ","Vojtěch","9.A",null,null,null,{"$f":"IF(E168=0,0,(1000000000 - 313216 / E168 + 34538300 / E168*2 - 1698600000 / E168*3 + 32198000000 / E168*4)/11000000-29)","v":0},null,19.850000000000001,21.8,21.3]
[null,"HOLUBEC","Lukáš","9.A",null,null,null,{"$f":"IF(E169=0,0,(1000000000 - 313216 / E169 + 34538300 / E169*2 - 1698600000 / E169*3 + 32198000000 / E169*4)/11000000-29)","v":0}]
[null,"CHAROUZ","Vojtěch","9.A",null,null,null,{"$f":"IF(E170=0,0,(1000000000 - 313216 / E170 + 34538300 / E170*2 - 1698600000 / E170*3 + 32198000000 / E170*4)/11000000-29)","v":0},null,19.5,17.64,20.18]
[null,"IACCHERI","Carlo","9.A",30,null,"Martinice  25.06.21",{"$f":"IF(E171=0,0,(1000000000 - 313216 / E171 + 34538300 / E171*2 - 1698600000 / E171*3 + 32198000000 / E171*4)/11000000-29)","v":436.95443449696967},null,null,32.1,39.65]
[null,"JOHN","Adrian","9.A",null,null,null,{"$f":"IF(E172=0,0,(1000000000 - 313216 / E172 + 34538300 / E172*2 - 1698600000 / E172*3 + 32198000000 / E172*4)/11000000-29)","v":0}]
[null,"KRČÍK","Matthew","9.A",25,null,"Martinice  25.06.21",{"$f":"IF(E173=0,0,(1000000000 - 313216 / E173 + 34538300 / E173*2 - 1698600000 / E173*3 + 32198000000 / E173*4)/11000000-29)","v":511.96350321454543},null,20.85,20,20.16]
[null,"KRESAN","Vojtěch","9.A",30,null,"Martinice  25.06.21",{"$f":"IF(E174=0,0,(1000000000 - 313216 / E174 + 34538300 / E174*2 - 1698600000 / E174*3 + 32198000000 / E174*4)/11000000-29)","v":436.95443449696967}]
[null,"LÁNSKÝ","Vojtěch","9.A",null,null,null,{"$f":"IF(E175=0,0,(1000000000 - 313216 / E175 + 34538300 / E175*2 - 1698600000 / E175*3 + 32198000000 / E175*4)/11000000-29)","v":0}]
[null,"LEŠÁK","Lukáš","9.A",null,null,null,{"$f":"IF(E176=0,0,(1000000000 - 313216 / E176 + 34538300 / E176*2 - 1698600000 / E176*3 + 32198000000 / E176*4)/11000000-29)","v":0}]
[null,"RYPL","Matyáš","9.A",25,null,"Martinice  25.06.21",{"$f":"IF(E177=0,0,(1000000000 - 313216 / E177 + 34538300 / E177*2 - 1698600000 / E177*3 + 32198000000 / E177*4)/11000000-29)","v":511.96350321454543},null,20.2,18.760000000000002,20.87]
[null,"VU TRAN DINH ","Lukas","9.A",30,null,"Martinice  25.06.21",{"$f":"IF(E178=0,0,(1000000000 - 313216 / E178 + 34538300 / E178*2 - 1698600000 / E178*3 + 32198000000 / E178*4)/11000000-29)","v":436.95443449696967}]
[null,"DUFEK","Matyáš","9.B",null,null,null,{"$f":"IF(E179=0,0,(1000000000 - 313216 / E179 + 34538300 / E179*2 - 1698600000 / E179*3 + 32198000000 / E179*4)/11000000-29)","v":0}]
[null,"JEŽEK","Jonáš","9.B",30,null,"Martinice  25.06.21",{"$f":"IF(E180=0,0,(1000000000 - 313216 / E180 + 34538300 / E180*2 - 1698600000 / E180*3 + 32198000000 / E180*4)/11000000-29)","v":436.95443449696967},null,null,26.95]
[null,"JEŽEK","Mikuláš","9.B",30,null,"Martinice  25.06.21",{"$f":"IF(E181=0,0,(1000000000 - 313216 / E181 + 34538300 / E181*2 - 1698600000 / E181*3 + 32198000000 / E181*4)/11000000-29)","v":436.95443449696967},null,null,28.12]
[null,"NECHANICKÝ","Michal","9.B",null,null,null,{"$f":"IF(E182=0,0,(1000000000 - 313216 / E182 + 34538300 / E182*2 - 1698600000 / E182*3 + 32198000000 / E182*4)/11000000-29)","v":0}]
[null,"PAULÍČEK","Jakub","9.B",null,null,null,{"$f":"IF(E183=0,0,(1000000000 - 313216 / E183 + 34538300 / E183*2 - 1698600000 / E183*3 + 32198000000 / E183*4)/11000000-29)","v":0}]
[null,"POHOŘALÝ","Jakub","9.B",null,null,null,{"$f":"IF(E184=0,0,(1000000000 - 313216 / E184 + 34538300 / E184*2 - 1698600000 / E184*3 + 32198000000 / E184*4)/11000000-29)","v":0}]
[null,"POSPÍCHAL","Daniel","9.B",null,null,null,{"$f":"IF(E185=0,0,(1000000000 - 313216 / E185 + 34538300 / E185*2 - 1698600000 / E185*3 + 32198000000 / E185*4)/11000000-29)","v":0}]
[null,"SOUKUP","Lukáš","9.B",null,null,null,{"$f":"IF(E186=0,0,(1000000000 - 313216 / E186 + 34538300 / E186*2 - 1698600000 / E186*3 + 32198000000 / E186*4)/11000000-29)","v":0},null,null,17.350000000000001,17.989999999999998]
[null,"VANCL","Jan","9.B",30,null,"Martinice  25.06.21",{"$f":"IF(E187=0,0,(1000000000 - 313216 / E187 + 34538300 / E187*2 - 1698600000 / E187*3 + 32198000000 / E187*4)/11000000-29)","v":436.95443449696967},null,21.45,22.1]
[null,"VANCL","Lukáš","9.B",30,null,"Martinice  25.06.21",{"$f":"IF(E188=0,0,(1000000000 - 313216 / E188 + 34538300 / E188*2 - 1698600000 / E188*3 + 32198000000 / E188*4)/11000000-29)","v":436.95443449696967},null,19.350000000000001,21]
[null,"VAŠÍK","Jiří","9.B",null,null,null,{"$f":"IF(E189=0,0,(1000000000 - 313216 / E189 + 34538300 / E189*2 - 1698600000 / E189*3 + 32198000000 / E189*4)/11000000-29)","v":0}]
[null,"VOHNOUT","Zdeněk","9.B",null,null,null,{"$f":"IF(E190=0,0,(1000000000 - 313216 / E190 + 34538300 / E190*2 - 1698600000 / E190*3 + 32198000000 / E190*4)/11000000-29)","v":0},null,null,16.34,16.7]

{"sheet":"SHYBY","index":19,"n_rows":190,"n_cols":12,"rows_kept":190,"cut":false,"hidden":false,"merged":[]}
[null,null,"VÝKONY  2020 - 2021",null,null,null,"SHYBY","CHLAPCI  6. -  9.  ROČ."]
[null,"stav  k ",{"$f":"TODAY()","v":"2021-06-28"},null,null,null,null,null,null,"19  - 20","18  - 19","17 - 18"]
[]
["1.",{"$f":"B101","v":"BOUKAL"},{"$f":"C101","v":"Jakub"},"6.A",0,null,0,0,null,0,0,0]
["2.",{"$f":"B102","v":"DEMČUK"},"Ilja","6.A",0,null,0,0,null,0,0,0]
["3.",{"$f":"B103","v":"FAISTAUER"},"Kryštof","6.A",0,null,0,0,null,0,0,0]
["4.",{"$f":"B104","v":"FRK"},"Matyáš","6.A",0,null,0,0,null,0,0,0]
["5.",{"$f":"B105","v":"HUBÁLOVSKÝ"},"Marek","6.A",0,null,0,0,null,0,0,0]
["6.",{"$f":"B106","v":"MAŘAS"},"Dominik","6.A",0,null,0,0,null,0,0,0]
["7.",{"$f":"B107","v":"MAŤÁTKO"},"Jakub","6.A",0,null,0,0,null,0,0,0]
["8.",{"$f":"B108","v":"MERY"},"Luboš","6.A",0,null,0,0,null,0,0,0]
["9.",{"$f":"B109","v":"NOVOTNÝ"},"Matěj","6.A",0,null,0,0,null,0,0,0]
["10.",{"$f":"B110","v":"ŘEHOŘEK"},"Vojtěch","6.A",0,null,0,0,null,0,0,0]
["11.",{"$f":"B111","v":"ŠÍR"},"Matyáš","6.A",0,null,0,0,null,0,0,0]
["12.",{"$f":"B112","v":"TORÁČ"},"Tomáš","6.A",0,null,0,0,null,0,0,0]
["13.",{"$f":"B113","v":"ULLMAN"},"Šimon","6.A",0,null,0,0,null,0,0,0]
["14.",{"$f":"B114","v":"VÁCLAVÍK"},"Ondřej","6.A",0,null,0,0,null,0,0,0]
["15.",{"$f":"B115","v":"AUERSWALD"},"Daniel","6.B",0,null,0,0,null,0,0,0]
["16.",{"$f":"B116","v":"BODLÁK"},"Vladimír","6.B",0,null,0,0,null,0,0,0]
["17.",{"$f":"B117","v":"BUDÍN"},"Martin","6.B",0,null,0,0,null,0,0,0]
["18.",{"$f":"B118","v":"DVOŘÁK"},"Dominik","6.B",0,null,0,0,null,0,0,0]
["19.",{"$f":"B119","v":"FIŠERA"},"Vojtěch","6.B",0,null,0,0,null,0,0,0]
["20.",{"$f":"B120","v":"JINDŘIŠEK"},"Vít","6.B",0,null,0,0,null,0,0,0]
["21.",{"$f":"B121","v":"JIROUŠ"},"Matouš","6.B",0,null,0,0,null,0,0,0]
["22.",{"$f":"B122","v":"KERLE"},"Marek","6.B",0,null,0,0,null,0,0,0]
["23.",{"$f":"B123","v":"LUKEŠ"},"Jakub","6.B",0,null,0,0,null,0,0,0]
["24.",{"$f":"B124","v":"OTT"},"Matyáš","6.B",0,null,0,0,null,0,0,0]
["25.",{"$f":"B125","v":"POKORNÝ"},"Matyáš","6.B",0,null,0,0,null,0,0,0]
["26.",{"$f":"B126","v":"POLÁČEK"},"Matyáš","6.B",0,null,0,0,null,0,0,0]
["27.",{"$f":"B127","v":"SOUKUP"},"Patrik","6.B",0,null,0,0,null,0,0,0]
["28.",{"$f":"B128","v":"VALENTA"},"Jakub","6.B",0,null,0,0,null,0,0,0]
["29.",{"$f":"B129","v":"VRBATA"},"Dominik","6.B",0,null,0,0,null,0,0,0]
["30.",{"$f":"B130","v":"FEJKL"},"Jan","7.A",0,null,0,0,null,0,0,0]
["31.",{"$f":"B131","v":"KOTYK"},"Tadeáš","7.A",0,null,0,0,null,0,0,0]
["32.",{"$f":"B132","v":"KRAUSE"},"Tadeáš","7.A",0,null,0,0,null,0,0,0]
["33.",{"$f":"B133","v":"LEŠÁK"},"Martin","7.A",0,null,0,0,null,0,0,0]
["34.",{"$f":"B134","v":"NECHANICKÝ"},"David","7.A",0,null,0,0,null,0,0,0]
["35.",{"$f":"B135","v":"ŘEHOŘEK"},"Jan","7.A",0,null,0,0,null,0,0,0]
["36.",{"$f":"B136","v":"SOUKUP"},"Ondřej","7.A",0,null,0,0,null,0,0,0]
["37.",{"$f":"B137","v":"SPANILÝ"},"David","7.A",0,null,0,0,null,0,0,0]
["38.",{"$f":"B138","v":"ČADAN"},"Benjamín","7.B",0,null,0,0,null,0,0,0]
["39.",{"$f":"B139","v":"ČERNÝ"},"Michal","7.B",0,null,0,0,null,0,0,0]
["40.",{"$f":"B140","v":"DOLEJŠÍ"},"David","7.B",0,null,0,0,null,0,0,0]
["41.",{"$f":"B141","v":"NOVÁK"},"Matěj","7.B",0,null,0,0,null,0,0,0]
["42.",{"$f":"B142","v":"POVAŽANEC"},"Martin","7.B",0,null,0,0,null,0,0,0]
["43.",{"$f":"B143","v":"RICHTER"},"Jakub","7.B",0,null,0,0,null,0,0,0]
["44.",{"$f":"B144","v":"ROZUMEK"},"Adam","7.B",0,null,0,0,null,0,0,0]
["45.",{"$f":"B145","v":"VALENTA"},"František","7.B",0,null,0,0,null,0,0,0]
["46.",{"$f":"B146","v":"ZAPLATÍLEK"},"Josef","7.B",0,null,0,0,null,0,0,0]
["47.",{"$f":"B147","v":"ERBEN"},"Viktor","8.A",0,null,0,0,null,0,0,0]
["48.",{"$f":"B148","v":"FRANC"},"Daniel","8.A",0,null,0,0,null,0,0,0]
["49.",{"$f":"B149","v":"JINDŘIŠEK"},"Matyáš","8.A",0,null,0,0,null,0,0,0]
["50.",{"$f":"B150","v":"KOLAČNÝ"},"Štěpán","8.A",0,null,0,0,null,0,0,0]
["51.",{"$f":"B151","v":"KRISTAN"},"Jáchym","8.A",0,null,0,0,null,0,0,0]
["52.",{"$f":"B152","v":"NGUYEN"},"David","8.A",0,null,0,0,null,0,0,0]
["53.",{"$f":"B153","v":"NOVOTNÝ"},"Jan","8.A",0,null,0,0,null,0,0,0]
["54.",{"$f":"B154","v":"RÁB"},"Adam","8.A",0,null,0,0,null,0,0,0]
["55.",{"$f":"B155","v":"REPASKÝ"},"Jakub","8.A",0,null,0,0,null,0,0,0]
["56.",{"$f":"B156","v":"SKÁLA"},"Jan","8.A",0,null,0,0,null,0,0,0]
["57.",{"$f":"B157","v":"ŠPULÁK"},"Jakub","8.A",0,null,0,0,null,0,0,0]
["58.",{"$f":"B158","v":"VALENTA"},"Tomáš","8.A",0,null,0,0,null,0,0,0]
["59.",{"$f":"B159","v":"VANCL"},"Jiří","8.A",0,null,0,0,null,0,0,0]
["60.",{"$f":"B160","v":"VAŠÍČEK"},"David","8.A",0,null,0,0,null,0,0,0]
["61.",{"$f":"B161","v":"ZOUHAR"},"Ondřej","8.A",0,null,0,0,null,0,0,0]
["62.",{"$f":"B162","v":"ZUZÁNEK"},"Filip","8.A",0,null,0,0,null,0,0,0]
["63.",{"$f":"B163","v":"BRUMLICH"},"Jan","9.A",0,null,0,0,null,1,0,0]
["64.",{"$f":"B164","v":"BUCHAR"},"Jiří","9.A",0,null,0,0,null,5,0,0]
["65.",{"$f":"B165","v":"FAISTAVER"},"Jiří","9.A",0,null,0,0,null,0,0,0]
["66.",{"$f":"B166","v":"FAISTAVER"},"Roman","9.A",0,null,0,0,null,0,1,0]
["67.",{"$f":"B167","v":"FAJSTAVR"},"Jakub","9.A",0,null,0,0,null,2,2,0]
["68.",{"$f":"B168","v":"FARSKÝ"},"Vojtěch","9.A",0,null,0,0,null,4,0,0]
["69.",{"$f":"B169","v":"HOLUBEC"},"Lukáš","9.A",0,null,0,0,null,1,0,0]
["70.",{"$f":"B170","v":"CHAROUZ"},"Vojtěch","9.A",0,null,0,0,null,7,6,0]
["71.",{"$f":"B171","v":"IACCHERI"},"Carlo","9.A",0,null,0,0,null,1,0,0]
["72.",{"$f":"B172","v":"JOHN"},"Adrian","9.A",0,null,0,0,null,0,0,0]
["73.",{"$f":"B173","v":"KRČÍK"},"Matthew","9.A",0,null,0,0,null,0,0,0]
["74.",{"$f":"B174","v":"KRESAN"},"Vojtěch","9.A",0,null,0,0,null,0,0,0]
["75.",{"$f":"B175","v":"LÁNSKÝ"},"Vojtěch","9.A",0,null,0,0,null,0,0,0]
["76.",{"$f":"B176","v":"LEŠÁK"},"Lukáš","9.A",0,null,0,0,null,0,0,0]
["77.",{"$f":"B177","v":"RYPL"},"Matyáš","9.A",0,null,0,0,null,4,0,0]
["78.",{"$f":"B178","v":"VU TRAN DINH "},"Lukas","9.A",0,null,0,0,null,2,9,0]
["79.",{"$f":"B179","v":"DUFEK"},"Matyáš","9.B",0,null,0,0,null,0,2,0]
["80.",{"$f":"B180","v":"JEŽEK"},"Jonáš","9.B",0,null,0,0,null,11,0,0]
["81.",{"$f":"B181","v":"JEŽEK"},"Mikuláš","9.B",0,null,0,0,null,10,12,0]
["82.",{"$f":"B182","v":"NECHANICKÝ"},"Michal","9.B",0,null,0,0,null,9,11,0]
["83.",{"$f":"B183","v":"PAULÍČEK"},"Jakub","9.B",0,null,0,0,null,0,0,0]
["84.",{"$f":"B184","v":"POHOŘALÝ"},"Jakub","9.B",0,null,0,0,null,0,2,0]
["85.",{"$f":"B185","v":"POSPÍCHAL"},"Daniel","9.B",0,null,0,0,null,4,0,0]
["86.",{"$f":"B186","v":"SOUKUP"},"Lukáš","9.B",0,null,0,0,null,0,0,0]
["87.",{"$f":"B187","v":"VANCL"},"Jan","9.B",0,null,0,0,null,6,0,0]
["88.",{"$f":"B188","v":"VANCL"},"Lukáš","9.B",0,null,0,0,null,0,0,0]
["89.",{"$f":"B189","v":"VAŠÍK"},"Jiří","9.B",0,null,0,0,null,5,1,0]
["90.",{"$f":"B190","v":"VOHNOUT"},"Zdeněk","9.B",0,null,0,0,null,10,0,0]
[]
[]
[]
[]
[]
[]
[]
[null,"BOUKAL","Jakub","6.A",null,null,null,{"$f":"IF(E101=0,0,E101*75)","v":0}]
[null,"DEMČUK","Ilja","6.A",null,null,null,{"$f":"IF(E102=0,0,E102*75)","v":0}]
[null,"FAISTAUER","Kryštof","6.A",null,null,null,{"$f":"IF(E103=0,0,E103*75)","v":0}]
[null,"FRK","Matyáš","6.A",null,null,null,{"$f":"IF(E104=0,0,E104*75)","v":0}]
[null,"HUBÁLOVSKÝ","Marek","6.A",null,null,null,{"$f":"IF(E105=0,0,E105*75)","v":0}]
[null,"MAŘAS","Dominik","6.A",null,null,null,{"$f":"IF(E106=0,0,E106*75)","v":0}]
[null,"MAŤÁTKO","Jakub","6.A",null,null,null,{"$f":"IF(E107=0,0,E107*75)","v":0}]
[null,"MERY","Luboš","6.A",null,null,null,{"$f":"IF(E108=0,0,E108*75)","v":0}]
[null,"NOVOTNÝ","Matěj","6.A",null,null,null,{"$f":"IF(E109=0,0,E109*75)","v":0}]
[null,"ŘEHOŘEK","Vojtěch","6.A",null,null,null,{"$f":"IF(E110=0,0,E110*75)","v":0}]
[null,"ŠÍR","Matyáš","6.A",null,null,null,{"$f":"IF(E111=0,0,E111*75)","v":0}]
[null,"TORÁČ","Tomáš","6.A",null,null,null,{"$f":"IF(E112=0,0,E112*75)","v":0}]
[null,"ULLMAN","Šimon","6.A",null,null,null,{"$f":"IF(E113=0,0,E113*75)","v":0}]
[null,"VÁCLAVÍK","Ondřej","6.A",null,null,null,{"$f":"IF(E114=0,0,E114*75)","v":0}]
[null,"AUERSWALD","Daniel","6.B",null,null,null,{"$f":"IF(E115=0,0,E115*75)","v":0}]
[null,"BODLÁK","Vladimír","6.B",null,null,null,{"$f":"IF(E116=0,0,E116*75)","v":0}]
[null,"BUDÍN","Martin","6.B",null,null,null,{"$f":"IF(E117=0,0,E117*75)","v":0}]
[null,"DVOŘÁK","Dominik","6.B",null,null,null,{"$f":"IF(E118=0,0,E118*75)","v":0}]
[null,"FIŠERA","Vojtěch","6.B",null,null,null,{"$f":"IF(E119=0,0,E119*75)","v":0}]
[null,"JINDŘIŠEK","Vít","6.B",null,null,null,{"$f":"IF(E120=0,0,E120*75)","v":0}]
[null,"JIROUŠ","Matouš","6.B",null,null,null,{"$f":"IF(E121=0,0,E121*75)","v":0}]
[null,"KERLE","Marek","6.B",null,null,null,{"$f":"IF(E122=0,0,E122*75)","v":0}]
[null,"LUKEŠ","Jakub","6.B",null,null,null,{"$f":"IF(E123=0,0,E123*75)","v":0}]
[null,"OTT","Matyáš","6.B",null,null,null,{"$f":"IF(E124=0,0,E124*75)","v":0}]
[null,"POKORNÝ","Matyáš","6.B",null,null,null,{"$f":"IF(E125=0,0,E125*75)","v":0}]
[null,"POLÁČEK","Matyáš","6.B",null,null,null,{"$f":"IF(E126=0,0,E126*75)","v":0}]
[null,"SOUKUP","Patrik","6.B",null,null,null,{"$f":"IF(E127=0,0,E127*75)","v":0}]
[null,"VALENTA","Jakub","6.B",null,null,null,{"$f":"IF(E128=0,0,E128*75)","v":0}]
[null,"VRBATA","Dominik","6.B",null,null,null,{"$f":"IF(E129=0,0,E129*75)","v":0}]
[null,"FEJKL","Jan","7.A",null,null,null,{"$f":"IF(E130=0,0,E130*75)","v":0}]
[null,"KOTYK","Tadeáš","7.A",null,null,null,{"$f":"IF(E131=0,0,E131*75)","v":0}]
[null,"KRAUSE","Tadeáš","7.A",null,null,null,{"$f":"IF(E132=0,0,E132*75)","v":0}]
[null,"LEŠÁK","Martin","7.A",null,null,null,{"$f":"IF(E133=0,0,E133*75)","v":0}]
[null,"NECHANICKÝ","David","7.A",null,null,null,{"$f":"IF(E134=0,0,E134*75)","v":0}]
[null,"ŘEHOŘEK","Jan","7.A",null,null,null,{"$f":"IF(E135=0,0,E135*75)","v":0}]
[null,"SOUKUP","Ondřej","7.A",null,null,null,{"$f":"IF(E136=0,0,E136*75)","v":0}]
[null,"SPANILÝ","David","7.A",null,null,null,{"$f":"IF(E137=0,0,E137*75)","v":0}]
[null,"ČADAN","Benjamín","7.B",null,null,null,{"$f":"IF(E138=0,0,E138*75)","v":0}]
[null,"ČERNÝ","Michal","7.B",null,null,null,{"$f":"IF(E139=0,0,E139*75)","v":0}]
[null,"DOLEJŠÍ","David","7.B",null,null,null,{"$f":"IF(E140=0,0,E140*75)","v":0}]
[null,"NOVÁK","Matěj","7.B",null,null,null,{"$f":"IF(E141=0,0,E141*75)","v":0}]
[null,"POVAŽANEC","Martin","7.B",null,null,null,{"$f":"IF(E142=0,0,E142*75)","v":0}]
[null,"RICHTER","Jakub","7.B",null,null,null,{"$f":"IF(E143=0,0,E143*75)","v":0}]
[null,"ROZUMEK","Adam","7.B",null,null,null,{"$f":"IF(E144=0,0,E144*75)","v":0}]
[null,"VALENTA","František","7.B",null,null,null,{"$f":"IF(E145=0,0,E145*75)","v":0}]
[null,"ZAPLATÍLEK","Josef","7.B",null,null,null,{"$f":"IF(E146=0,0,E146*75)","v":0}]
[null,"ERBEN","Viktor","8.A",null,null,null,{"$f":"IF(E147=0,0,E147*75)","v":0}]
[null,"FRANC","Daniel","8.A",null,null,null,{"$f":"IF(E148=0,0,E148*75)","v":0}]
[null,"JINDŘIŠEK","Matyáš","8.A",null,null,null,{"$f":"IF(E149=0,0,E149*75)","v":0}]
[null,"KOLAČNÝ","Štěpán","8.A",null,null,null,{"$f":"IF(E150=0,0,E150*75)","v":0}]
[null,"KRISTAN","Jáchym","8.A",null,null,null,{"$f":"IF(E151=0,0,E151*75)","v":0}]
[null,"NGUYEN","David","8.A",null,null,null,{"$f":"IF(E152=0,0,E152*75)","v":0}]
[null,"NOVOTNÝ","Jan","8.A",null,null,null,{"$f":"IF(E153=0,0,E153*75)","v":0}]
[null,"RÁB","Adam","8.A",null,null,null,{"$f":"IF(E154=0,0,E154*75)","v":0}]
[null,"REPASKÝ","Jakub","8.A",null,null,null,{"$f":"IF(E155=0,0,E155*75)","v":0}]
[null,"SKÁLA","Jan","8.A",null,null,null,{"$f":"IF(E156=0,0,E156*75)","v":0}]
[null,"ŠPULÁK","Jakub","8.A",null,null,null,{"$f":"IF(E157=0,0,E157*75)","v":0}]
[null,"VALENTA","Tomáš","8.A",null,null,null,{"$f":"IF(E158=0,0,E158*75)","v":0}]
[null,"VANCL","Jiří","8.A",null,null,null,{"$f":"IF(E159=0,0,E159*75)","v":0}]
[null,"VAŠÍČEK","David","8.A",null,null,null,{"$f":"IF(E160=0,0,E160*75)","v":0}]
[null,"ZOUHAR","Ondřej","8.A",null,null,null,{"$f":"IF(E161=0,0,E161*75)","v":0}]
[null,"ZUZÁNEK","Filip","8.A",null,null,null,{"$f":"IF(E162=0,0,E162*75)","v":0}]
[null,"BRUMLICH","Jan","9.A",null,null,null,{"$f":"IF(E163=0,0,E163*75)","v":0},null,1]
[null,"BUCHAR","Jiří","9.A",null,null,null,{"$f":"IF(E164=0,0,E164*75)","v":0},null,5]
[null,"FAISTAVER","Jiří","9.A",null,null,null,{"$f":"IF(E165=0,0,E165*75)","v":0}]
[null,"FAISTAVER","Roman","9.A",null,null,null,{"$f":"IF(E166=0,0,E166*75)","v":0},null,null,1]
[null,"FAJSTAVR","Jakub","9.A",null,null,null,{"$f":"IF(E167=0,0,E167*75)","v":0},null,2,2]
[null,"FARSKÝ","Vojtěch","9.A",null,null,null,{"$f":"IF(E168=0,0,E168*75)","v":0},null,4]
[null,"HOLUBEC","Lukáš","9.A",null,null,null,{"$f":"IF(E169=0,0,E169*75)","v":0},null,1]
[null,"CHAROUZ","Vojtěch","9.A",null,null,null,{"$f":"IF(E170=0,0,E170*75)","v":0},null,7,6]
[null,"IACCHERI","Carlo","9.A",null,null,null,{"$f":"IF(E171=0,0,E171*75)","v":0},null,1]
[null,"JOHN","Adrian","9.A",null,null,null,{"$f":"IF(E172=0,0,E172*75)","v":0}]
[null,"KRČÍK","Matthew","9.A",null,null,null,{"$f":"IF(E173=0,0,E173*75)","v":0}]
[null,"KRESAN","Vojtěch","9.A",null,null,null,{"$f":"IF(E174=0,0,E174*75)","v":0}]
[null,"LÁNSKÝ","Vojtěch","9.A",null,null,null,{"$f":"IF(E175=0,0,E175*75)","v":0}]
[null,"LEŠÁK","Lukáš","9.A",null,null,null,{"$f":"IF(E176=0,0,E176*75)","v":0}]
[null,"RYPL","Matyáš","9.A",null,null,null,{"$f":"IF(E177=0,0,E177*75)","v":0},null,4]
[null,"VU TRAN DINH ","Lukas","9.A",null,null,null,{"$f":"IF(E178=0,0,E178*75)","v":0},null,2,9]
[null,"DUFEK","Matyáš","9.B",null,null,null,{"$f":"IF(E179=0,0,E179*75)","v":0},null,null,2]
[null,"JEŽEK","Jonáš","9.B",null,null,null,{"$f":"IF(E180=0,0,E180*75)","v":0},null,11]
[null,"JEŽEK","Mikuláš","9.B",null,null,null,{"$f":"IF(E181=0,0,E181*75)","v":0},null,10,12]
[null,"NECHANICKÝ","Michal","9.B",null,null,null,{"$f":"IF(E182=0,0,E182*75)","v":0},null,9,11]
[null,"PAULÍČEK","Jakub","9.B",null,null,null,{"$f":"IF(E183=0,0,E183*75)","v":0}]
[null,"POHOŘALÝ","Jakub","9.B",null,null,null,{"$f":"IF(E184=0,0,E184*75)","v":0},null,null,2]
[null,"POSPÍCHAL","Daniel","9.B",null,null,null,{"$f":"IF(E185=0,0,E185*75)","v":0},null,4]
[null,"SOUKUP","Lukáš","9.B",null,null,null,{"$f":"IF(E186=0,0,E186*75)","v":0}]
[null,"VANCL","Jan","9.B",null,null,null,{"$f":"IF(E187=0,0,E187*75)","v":0},null,6]
[null,"VANCL","Lukáš","9.B",null,null,null,{"$f":"IF(E188=0,0,E188*75)","v":0}]
[null,"VAŠÍK","Jiří","9.B",null,null,null,{"$f":"IF(E189=0,0,E189*75)","v":0},null,5,1]
[null,"VOHNOUT","Zdeněk","9.B",null,null,null,{"$f":"IF(E190=0,0,E190*75)","v":0},null,10]

{"sheet":"ŠPLH","index":20,"n_rows":190,"n_cols":12,"rows_kept":190,"cut":false,"hidden":false,"merged":[]}
[null,null,"VÝKONY  2020 - 2021",null,null,null,"ŠPLH","CHLAPCI  6. -  9.  ROČ."]
[null,"stav  k ",{"$f":"TODAY()","v":"2021-06-28"},null,null,null,null,null,null,"19  - 20","18  - 19","17 - 18"]
[]
["1.",{"$f":"B101","v":"BOUKAL"},{"$f":"C101","v":"Jakub"},"6.A",0,null,0,0,null,0,0,0]
["2.",{"$f":"B102","v":"DEMČUK"},"Ilja","6.A",0,null,0,0,null,0,0,0]
["3.",{"$f":"B103","v":"FAISTAUER"},"Kryštof","6.A",0,null,0,0,null,0,0,0]
["4.",{"$f":"B104","v":"FRK"},"Matyáš","6.A",0,null,0,0,null,0,0,0]
["5.",{"$f":"B105","v":"HUBÁLOVSKÝ"},"Marek","6.A",0,null,0,0,null,0,0,0]
["6.",{"$f":"B106","v":"MAŘAS"},"Dominik","6.A",0,null,0,0,null,0,0,0]
["7.",{"$f":"B107","v":"MAŤÁTKO"},"Jakub","6.A",0,null,0,0,null,0,0,0]
["8.",{"$f":"B108","v":"MERY"},"Luboš","6.A",0,null,0,0,null,0,0,0]
["9.",{"$f":"B109","v":"NOVOTNÝ"},"Matěj","6.A",0,null,0,0,null,0,0,0]
["10.",{"$f":"B110","v":"ŘEHOŘEK"},"Vojtěch","6.A",0,null,0,0,null,0,0,0]
["11.",{"$f":"B111","v":"ŠÍR"},"Matyáš","6.A",0,null,0,0,null,0,0,0]
["12.",{"$f":"B112","v":"TORÁČ"},"Tomáš","6.A",0,null,0,0,null,0,0,0]
["13.",{"$f":"B113","v":"ULLMAN"},"Šimon","6.A",0,null,0,0,null,0,0,0]
["14.",{"$f":"B114","v":"VÁCLAVÍK"},"Ondřej","6.A",0,null,0,0,null,0,0,0]
["15.",{"$f":"B115","v":"AUERSWALD"},"Daniel","6.B",0,null,0,0,null,0,0,0]
["16.",{"$f":"B116","v":"BODLÁK"},"Vladimír","6.B",0,null,0,0,null,0,0,0]
["17.",{"$f":"B117","v":"BUDÍN"},"Martin","6.B",0,null,0,0,null,0,0,0]
["18.",{"$f":"B118","v":"DVOŘÁK"},"Dominik","6.B",0,null,0,0,null,0,0,0]
["19.",{"$f":"B119","v":"FIŠERA"},"Vojtěch","6.B",0,null,0,0,null,0,0,0]
["20.",{"$f":"B120","v":"JINDŘIŠEK"},"Vít","6.B",0,null,0,0,null,0,0,0]
["21.",{"$f":"B121","v":"JIROUŠ"},"Matouš","6.B",0,null,0,0,null,0,0,0]
["22.",{"$f":"B122","v":"KERLE"},"Marek","6.B",0,null,0,0,null,0,0,0]
["23.",{"$f":"B123","v":"LUKEŠ"},"Jakub","6.B",0,null,0,0,null,0,0,0]
["24.",{"$f":"B124","v":"OTT"},"Matyáš","6.B",0,null,0,0,null,0,0,0]
["25.",{"$f":"B125","v":"POKORNÝ"},"Matyáš","6.B",0,null,0,0,null,0,0,0]
["26.",{"$f":"B126","v":"POLÁČEK"},"Matyáš","6.B",0,null,0,0,null,0,0,0]
["27.",{"$f":"B127","v":"SOUKUP"},"Patrik","6.B",0,null,0,0,null,0,0,0]
["28.",{"$f":"B128","v":"VALENTA"},"Jakub","6.B",0,null,0,0,null,0,0,0]
["29.",{"$f":"B129","v":"VRBATA"},"Dominik","6.B",0,null,0,0,null,0,0,0]
["30.",{"$f":"B130","v":"FEJKL"},"Jan","7.A",0,null,0,0,null,5.94,0,0]
["31.",{"$f":"B131","v":"KOTYK"},"Tadeáš","7.A",0,null,0,0,null,0,0,0]
["32.",{"$f":"B132","v":"KRAUSE"},"Tadeáš","7.A",0,null,0,0,null,10.78,0,0]
["33.",{"$f":"B133","v":"LEŠÁK"},"Martin","7.A",0,null,0,0,null,0,0,0]
["34.",{"$f":"B134","v":"NECHANICKÝ"},"David","7.A",0,null,0,0,null,11.08,0,0]
["35.",{"$f":"B135","v":"ŘEHOŘEK"},"Jan","7.A",0,null,0,0,null,0,0,0]
["36.",{"$f":"B136","v":"SOUKUP"},"Ondřej","7.A",0,null,0,0,null,13.3,0,0]
["37.",{"$f":"B137","v":"SPANILÝ"},"David","7.A",0,null,0,0,null,17.45,0,0]
["38.",{"$f":"B138","v":"ČADAN"},"Benjamín","7.B",0,null,0,0,null,7.88,0,0]
["39.",{"$f":"B139","v":"ČERNÝ"},"Michal","7.B",0,null,0,0,null,0,0,0]
["40.",{"$f":"B140","v":"DOLEJŠÍ"},"David","7.B",0,null,0,0,null,0,0,0]
["41.",{"$f":"B141","v":"NOVÁK"},"Matěj","7.B",0,null,0,0,null,12.86,0,0]
["42.",{"$f":"B142","v":"POVAŽANEC"},"Martin","7.B",0,null,0,0,null,0,0,0]
["43.",{"$f":"B143","v":"RICHTER"},"Jakub","7.B",0,null,0,0,null,0,0,0]
["44.",{"$f":"B144","v":"ROZUMEK"},"Adam","7.B",0,null,0,0,null,0,0,0]
["45.",{"$f":"B145","v":"VALENTA"},"František","7.B",0,null,0,0,null,0,0,0]
["46.",{"$f":"B146","v":"ZAPLATÍLEK"},"Josef","7.B",0,null,0,0,null,0,0,0]
["47.",{"$f":"B147","v":"ERBEN"},"Viktor","8.A",0,null,0,0,null,11.68,0,0]
["48.",{"$f":"B148","v":"FRANC"},"Daniel","8.A",0,null,0,0,null,0,0,0]
["49.",{"$f":"B149","v":"JINDŘIŠEK"},"Matyáš","8.A",0,null,0,0,null,6.23,8.42,0]
["50.",{"$f":"B150","v":"KOLAČNÝ"},"Štěpán","8.A",0,null,0,0,null,0,0,0]
["51.",{"$f":"B151","v":"KRISTAN"},"Jáchym","8.A",0,null,0,0,null,0,0,0]
["52.",{"$f":"B152","v":"NGUYEN"},"David","8.A",0,null,0,0,null,6.26,0,0]
["53.",{"$f":"B153","v":"NOVOTNÝ"},"Jan","8.A",0,null,0,0,null,5.52,8.92,0]
["54.",{"$f":"B154","v":"RÁB"},"Adam","8.A",0,null,0,0,null,0,0,0]
["55.",{"$f":"B155","v":"REPASKÝ"},"Jakub","8.A",0,null,0,0,null,5.67,0,0]
["56.",{"$f":"B156","v":"SKÁLA"},"Jan","8.A",0,null,0,0,null,11.84,11.5,0]
["57.",{"$f":"B157","v":"ŠPULÁK"},"Jakub","8.A",0,null,0,0,null,0,0,0]
["58.",{"$f":"B158","v":"VALENTA"},"Tomáš","8.A",0,null,0,0,null,6.67,9.0399999999999991,0]
["59.",{"$f":"B159","v":"VANCL"},"Jiří","8.A",0,null,0,0,null,0,0,0]
["60.",{"$f":"B160","v":"VAŠÍČEK"},"David","8.A",0,null,0,0,null,15.84,0,0]
["61.",{"$f":"B161","v":"ZOUHAR"},"Ondřej","8.A",0,null,0,0,null,9.0299999999999994,0,0]
["62.",{"$f":"B162","v":"ZUZÁNEK"},"Filip","8.A",0,null,0,0,null,7.94,16.73,0]
["63.",{"$f":"B163","v":"BRUMLICH"},"Jan","9.A",0,null,0,0,null,17.059999999999999,0,0]
["64.",{"$f":"B164","v":"BUCHAR"},"Jiří","9.A",0,null,0,0,null,5.41,0,5.13]
["65.",{"$f":"B165","v":"FAISTAVER"},"Jiří","9.A",0,null,0,0,null,5.56,0,0]
["66.",{"$f":"B166","v":"FAISTAVER"},"Roman","9.A",0,null,0,0,null,5.91,7.68,0]
["67.",{"$f":"B167","v":"FAJSTAVR"},"Jakub","9.A",0,null,0,0,null,9.39,0,0]
["68.",{"$f":"B168","v":"FARSKÝ"},"Vojtěch","9.A",0,null,0,0,null,6.24,0,0]
["69.",{"$f":"B169","v":"HOLUBEC"},"Lukáš","9.A",0,null,0,0,null,0,0,0]
["70.",{"$f":"B170","v":"CHAROUZ"},"Vojtěch","9.A",0,null,0,0,null,5.54,0,7.23]
["71.",{"$f":"B171","v":"IACCHERI"},"Carlo","9.A",0,null,0,0,null,8.24,0,0]
["72.",{"$f":"B172","v":"JOHN"},"Adrian","9.A",0,null,0,0,null,0,0,0]
["73.",{"$f":"B173","v":"KRČÍK"},"Matthew","9.A",0,null,0,0,null,6.49,0,0]
["74.",{"$f":"B174","v":"KRESAN"},"Vojtěch","9.A",0,null,0,0,null,0,0,0]
["75.",{"$f":"B175","v":"LÁNSKÝ"},"Vojtěch","9.A",0,null,0,0,null,0,0,0]
["76.",{"$f":"B176","v":"LEŠÁK"},"Lukáš","9.A",0,null,0,0,null,0,0,0]
["77.",{"$f":"B177","v":"RYPL"},"Matyáš","9.A",0,null,0,0,null,6.43,11.78,0]
["78.",{"$f":"B178","v":"VU TRAN DINH "},"Lukas","9.A",0,null,0,0,null,0,0,0]
["79.",{"$f":"B179","v":"DUFEK"},"Matyáš","9.B",0,null,0,0,null,0,0,0]
["80.",{"$f":"B180","v":"JEŽEK"},"Jonáš","9.B",0,null,0,0,null,4.8600000000000003,4.66,4.87]
["81.",{"$f":"B181","v":"JEŽEK"},"Mikuláš","9.B",0,null,0,0,null,5.68,6.64,8.59]
["82.",{"$f":"B182","v":"NECHANICKÝ"},"Michal","9.B",0,null,0,0,null,6.49,7.38,7.05]
["83.",{"$f":"B183","v":"PAULÍČEK"},"Jakub","9.B",0,null,0,0,null,0,7.23,0]
["84.",{"$f":"B184","v":"POHOŘALÝ"},"Jakub","9.B",0,null,0,0,null,0,0,8.5500000000000007]
["85.",{"$f":"B185","v":"POSPÍCHAL"},"Daniel","9.B",0,null,0,0,null,0,9.5,11.84]
["86.",{"$f":"B186","v":"SOUKUP"},"Lukáš","9.B",0,null,0,0,null,9.3800000000000008,0,0]
["87.",{"$f":"B187","v":"VANCL"},"Jan","9.B",0,null,0,0,null,6.69,0,12.81]
["88.",{"$f":"B188","v":"VANCL"},"Lukáš","9.B",0,null,0,0,null,6.93,0,16.399999999999999]
["89.",{"$f":"B189","v":"VAŠÍK"},"Jiří","9.B",0,null,0,0,null,13.3,0,0]
["90.",{"$f":"B190","v":"VOHNOUT"},"Zdeněk","9.B",0,null,0,0,null,3.71,8.58,7.9]
[]
[]
[]
[]
[]
[]
[]
[null,"BOUKAL","Jakub","6.A",null,null,null,{"$f":"IF(E101=0,0,IF(E101>0,((1000000000-313216/E101+34538300/E101*2-1698600/E101*3+32198000000/E101*4)/60000000+E101*3.9)*1.129))","v":0}]
[null,"DEMČUK","Ilja","6.A",null,null,null,{"$f":"IF(E102=0,0,IF(E102>0,((1000000000-313216/E102+34538300/E102*2-1698600/E102*3+32198000000/E102*4)/60000000+E102*3.9)*1.129))","v":0}]
[null,"FAISTAUER","Kryštof","6.A",null,null,null,{"$f":"IF(E103=0,0,IF(E103>0,((1000000000-313216/E103+34538300/E103*2-1698600/E103*3+32198000000/E103*4)/60000000+E103*3.9)*1.129))","v":0}]
[null,"FRK","Matyáš","6.A",null,null,null,{"$f":"IF(E104=0,0,IF(E104>0,((1000000000-313216/E104+34538300/E104*2-1698600/E104*3+32198000000/E104*4)/60000000+E104*3.9)*1.129))","v":0}]
[null,"HUBÁLOVSKÝ","Marek","6.A",null,null,null,{"$f":"IF(E105=0,0,IF(E105>0,((1000000000-313216/E105+34538300/E105*2-1698600/E105*3+32198000000/E105*4)/60000000+E105*3.9)*1.129))","v":0}]
[null,"MAŘAS","Dominik","6.A",null,null,null,{"$f":"IF(E106=0,0,IF(E106>0,((1000000000-313216/E106+34538300/E106*2-1698600/E106*3+32198000000/E106*4)/60000000+E106*3.9)*1.129))","v":0}]
[null,"MAŤÁTKO","Jakub","6.A",null,null,null,{"$f":"IF(E107=0,0,IF(E107>0,((1000000000-313216/E107+34538300/E107*2-1698600/E107*3+32198000000/E107*4)/60000000+E107*3.9)*1.129))","v":0}]
[null,"MERY","Luboš","6.A",null,null,null,{"$f":"IF(E108=0,0,IF(E108>0,((1000000000-313216/E108+34538300/E108*2-1698600/E108*3+32198000000/E108*4)/60000000+E108*3.9)*1.129))","v":0}]
[null,"NOVOTNÝ","Matěj","6.A",null,null,null,{"$f":"IF(E109=0,0,IF(E109>0,((1000000000-313216/E109+34538300/E109*2-1698600/E109*3+32198000000/E109*4)/60000000+E109*3.9)*1.129))","v":0}]
[null,"ŘEHOŘEK","Vojtěch","6.A",null,null,null,{"$f":"IF(E110=0,0,IF(E110>0,((1000000000-313216/E110+34538300/E110*2-1698600/E110*3+32198000000/E110*4)/60000000+E110*3.9)*1.129))","v":0}]
[null,"ŠÍR","Matyáš","6.A",null,null,null,{"$f":"IF(E111=0,0,IF(E111>0,((1000000000-313216/E111+34538300/E111*2-1698600/E111*3+32198000000/E111*4)/60000000+E111*3.9)*1.129))","v":0}]
[null,"TORÁČ","Tomáš","6.A",null,null,null,{"$f":"IF(E112=0,0,IF(E112>0,((1000000000-313216/E112+34538300/E112*2-1698600/E112*3+32198000000/E112*4)/60000000+E112*3.9)*1.129))","v":0}]
[null,"ULLMAN","Šimon","6.A",null,null,null,{"$f":"IF(E113=0,0,IF(E113>0,((1000000000-313216/E113+34538300/E113*2-1698600/E113*3+32198000000/E113*4)/60000000+E113*3.9)*1.129))","v":0}]
[null,"VÁCLAVÍK","Ondřej","6.A",null,null,null,{"$f":"IF(E114=0,0,IF(E114>0,((1000000000-313216/E114+34538300/E114*2-1698600/E114*3+32198000000/E114*4)/60000000+E114*3.9)*1.129))","v":0}]
[null,"AUERSWALD","Daniel","6.B",null,null,null,{"$f":"IF(E115=0,0,IF(E115>0,((1000000000-313216/E115+34538300/E115*2-1698600/E115*3+32198000000/E115*4)/60000000+E115*3.9)*1.129))","v":0}]
[null,"BODLÁK","Vladimír","6.B",null,null,null,{"$f":"IF(E116=0,0,IF(E116>0,((1000000000-313216/E116+34538300/E116*2-1698600/E116*3+32198000000/E116*4)/60000000+E116*3.9)*1.129))","v":0}]
[null,"BUDÍN","Martin","6.B",null,null,null,{"$f":"IF(E117=0,0,IF(E117>0,((1000000000-313216/E117+34538300/E117*2-1698600/E117*3+32198000000/E117*4)/60000000+E117*3.9)*1.129))","v":0}]
[null,"DVOŘÁK","Dominik","6.B",null,null,null,{"$f":"IF(E118=0,0,IF(E118>0,((1000000000-313216/E118+34538300/E118*2-1698600/E118*3+32198000000/E118*4)/60000000+E118*3.9)*1.129))","v":0}]
[null,"FIŠERA","Vojtěch","6.B",null,null,null,{"$f":"IF(E119=0,0,IF(E119>0,((1000000000-313216/E119+34538300/E119*2-1698600/E119*3+32198000000/E119*4)/60000000+E119*3.9)*1.129))","v":0}]
[null,"JINDŘIŠEK","Vít","6.B",null,null,null,{"$f":"IF(E120=0,0,IF(E120>0,((1000000000-313216/E120+34538300/E120*2-1698600/E120*3+32198000000/E120*4)/60000000+E120*3.9)*1.129))","v":0}]
[null,"JIROUŠ","Matouš","6.B",null,null,null,{"$f":"IF(E121=0,0,IF(E121>0,((1000000000-313216/E121+34538300/E121*2-1698600/E121*3+32198000000/E121*4)/60000000+E121*3.9)*1.129))","v":0}]
[null,"KERLE","Marek","6.B",null,null,null,{"$f":"IF(E122=0,0,IF(E122>0,((1000000000-313216/E122+34538300/E122*2-1698600/E122*3+32198000000/E122*4)/60000000+E122*3.9)*1.129))","v":0}]
[null,"LUKEŠ","Jakub","6.B",null,null,null,{"$f":"IF(E123=0,0,IF(E123>0,((1000000000-313216/E123+34538300/E123*2-1698600/E123*3+32198000000/E123*4)/60000000+E123*3.9)*1.129))","v":0}]
[null,"OTT","Matyáš","6.B",null,null,null,{"$f":"IF(E124=0,0,IF(E124>0,((1000000000-313216/E124+34538300/E124*2-1698600/E124*3+32198000000/E124*4)/60000000+E124*3.9)*1.129))","v":0}]
[null,"POKORNÝ","Matyáš","6.B",null,null,null,{"$f":"IF(E125=0,0,IF(E125>0,((1000000000-313216/E125+34538300/E125*2-1698600/E125*3+32198000000/E125*4)/60000000+E125*3.9)*1.129))","v":0}]
[null,"POLÁČEK","Matyáš","6.B",null,null,null,{"$f":"IF(E126=0,0,IF(E126>0,((1000000000-313216/E126+34538300/E126*2-1698600/E126*3+32198000000/E126*4)/60000000+E126*3.9)*1.129))","v":0}]
[null,"SOUKUP","Patrik","6.B",null,null,null,{"$f":"IF(E127=0,0,IF(E127>0,((1000000000-313216/E127+34538300/E127*2-1698600/E127*3+32198000000/E127*4)/60000000+E127*3.9)*1.129))","v":0}]
[null,"VALENTA","Jakub","6.B",null,null,null,{"$f":"IF(E128=0,0,IF(E128>0,((1000000000-313216/E128+34538300/E128*2-1698600/E128*3+32198000000/E128*4)/60000000+E128*3.9)*1.129))","v":0}]
[null,"VRBATA","Dominik","6.B",null,null,null,{"$f":"IF(E129=0,0,IF(E129>0,((1000000000-313216/E129+34538300/E129*2-1698600/E129*3+32198000000/E129*4)/60000000+E129*3.9)*1.129))","v":0}]
[null,"FEJKL","Jan","7.A",null,null,null,{"$f":"IF(E130=0,0,IF(E130>0,((1000000000-313216/E130+34538300/E130*2-1698600/E130*3+32198000000/E130*4)/60000000+E130*3.9)*1.129))","v":0},null,5.94]
[null,"KOTYK","Tadeáš","7.A",null,null,null,{"$f":"IF(E131=0,0,IF(E131>0,((1000000000-313216/E131+34538300/E131*2-1698600/E131*3+32198000000/E131*4)/60000000+E131*3.9)*1.129))","v":0}]
[null,"KRAUSE","Tadeáš","7.A",null,null,null,{"$f":"IF(E132=0,0,IF(E132>0,((1000000000-313216/E132+34538300/E132*2-1698600/E132*3+32198000000/E132*4)/60000000+E132*3.9)*1.129))","v":0},null,10.78]
[null,"LEŠÁK","Martin","7.A",null,null,null,{"$f":"IF(E133=0,0,IF(E133>0,((1000000000-313216/E133+34538300/E133*2-1698600/E133*3+32198000000/E133*4)/60000000+E133*3.9)*1.129))","v":0}]
[null,"NECHANICKÝ","David","7.A",null,null,null,{"$f":"IF(E134=0,0,IF(E134>0,((1000000000-313216/E134+34538300/E134*2-1698600/E134*3+32198000000/E134*4)/60000000+E134*3.9)*1.129))","v":0},null,11.08]
[null,"ŘEHOŘEK","Jan","7.A",null,null,null,{"$f":"IF(E135=0,0,IF(E135>0,((1000000000-313216/E135+34538300/E135*2-1698600/E135*3+32198000000/E135*4)/60000000+E135*3.9)*1.129))","v":0}]
[null,"SOUKUP","Ondřej","7.A",null,null,null,{"$f":"IF(E136=0,0,IF(E136>0,((1000000000-313216/E136+34538300/E136*2-1698600/E136*3+32198000000/E136*4)/60000000+E136*3.9)*1.129))","v":0},null,13.3]
[null,"SPANILÝ","David","7.A",null,null,null,{"$f":"IF(E137=0,0,IF(E137>0,((1000000000-313216/E137+34538300/E137*2-1698600/E137*3+32198000000/E137*4)/60000000+E137*3.9)*1.129))","v":0},null,17.45]
[null,"ČADAN","Benjamín","7.B",null,null,null,{"$f":"IF(E138=0,0,IF(E138>0,((1000000000-313216/E138+34538300/E138*2-1698600/E138*3+32198000000/E138*4)/60000000+E138*3.9)*1.129))","v":0},null,7.88]
[null,"ČERNÝ","Michal","7.B",null,null,null,{"$f":"IF(E139=0,0,IF(E139>0,((1000000000-313216/E139+34538300/E139*2-1698600/E139*3+32198000000/E139*4)/60000000+E139*3.9)*1.129))","v":0}]
[null,"DOLEJŠÍ","David","7.B",null,null,null,{"$f":"IF(E140=0,0,IF(E140>0,((1000000000-313216/E140+34538300/E140*2-1698600/E140*3+32198000000/E140*4)/60000000+E140*3.9)*1.129))","v":0}]
[null,"NOVÁK","Matěj","7.B",null,null,null,{"$f":"IF(E141=0,0,IF(E141>0,((1000000000-313216/E141+34538300/E141*2-1698600/E141*3+32198000000/E141*4)/60000000+E141*3.9)*1.129))","v":0},null,12.86]
[null,"POVAŽANEC","Martin","7.B",null,null,null,{"$f":"IF(E142=0,0,IF(E142>0,((1000000000-313216/E142+34538300/E142*2-1698600/E142*3+32198000000/E142*4)/60000000+E142*3.9)*1.129))","v":0}]
[null,"RICHTER","Jakub","7.B",null,null,null,{"$f":"IF(E143=0,0,IF(E143>0,((1000000000-313216/E143+34538300/E143*2-1698600/E143*3+32198000000/E143*4)/60000000+E143*3.9)*1.129))","v":0}]
[null,"ROZUMEK","Adam","7.B",null,null,null,{"$f":"IF(E144=0,0,IF(E144>0,((1000000000-313216/E144+34538300/E144*2-1698600/E144*3+32198000000/E144*4)/60000000+E144*3.9)*1.129))","v":0}]
[null,"VALENTA","František","7.B",null,null,null,{"$f":"IF(E145=0,0,IF(E145>0,((1000000000-313216/E145+34538300/E145*2-1698600/E145*3+32198000000/E145*4)/60000000+E145*3.9)*1.129))","v":0}]
[null,"ZAPLATÍLEK","Josef","7.B",null,null,null,{"$f":"IF(E146=0,0,IF(E146>0,((1000000000-313216/E146+34538300/E146*2-1698600/E146*3+32198000000/E146*4)/60000000+E146*3.9)*1.129))","v":0}]
[null,"ERBEN","Viktor","8.A",null,null,null,{"$f":"IF(E147=0,0,IF(E147>0,((1000000000-313216/E147+34538300/E147*2-1698600/E147*3+32198000000/E147*4)/60000000+E147*3.9)*1.129))","v":0},null,11.68]
[null,"FRANC","Daniel","8.A",null,null,null,{"$f":"IF(E148=0,0,IF(E148>0,((1000000000-313216/E148+34538300/E148*2-1698600/E148*3+32198000000/E148*4)/60000000+E148*3.9)*1.129))","v":0}]
[null,"JINDŘIŠEK","Matyáš","8.A",null,null,null,{"$f":"IF(E149=0,0,IF(E149>0,((1000000000-313216/E149+34538300/E149*2-1698600/E149*3+32198000000/E149*4)/60000000+E149*3.9)*1.129))","v":0},null,6.23,8.42]
[null,"KOLAČNÝ","Štěpán","8.A",null,null,null,{"$f":"IF(E150=0,0,IF(E150>0,((1000000000-313216/E150+34538300/E150*2-1698600/E150*3+32198000000/E150*4)/60000000+E150*3.9)*1.129))","v":0}]
[null,"KRISTAN","Jáchym","8.A",null,null,null,{"$f":"IF(E151=0,0,IF(E151>0,((1000000000-313216/E151+34538300/E151*2-1698600/E151*3+32198000000/E151*4)/60000000+E151*3.9)*1.129))","v":0}]
[null,"NGUYEN","David","8.A",null,null,null,{"$f":"IF(E152=0,0,IF(E152>0,((1000000000-313216/E152+34538300/E152*2-1698600/E152*3+32198000000/E152*4)/60000000+E152*3.9)*1.129))","v":0},null,6.26]
[null,"NOVOTNÝ","Jan","8.A",null,null,null,{"$f":"IF(E153=0,0,IF(E153>0,((1000000000-313216/E153+34538300/E153*2-1698600/E153*3+32198000000/E153*4)/60000000+E153*3.9)*1.129))","v":0},null,5.52,8.92]
[null,"RÁB","Adam","8.A",null,null,null,{"$f":"IF(E154=0,0,IF(E154>0,((1000000000-313216/E154+34538300/E154*2-1698600/E154*3+32198000000/E154*4)/60000000+E154*3.9)*1.129))","v":0}]
[null,"REPASKÝ","Jakub","8.A",null,null,null,{"$f":"IF(E155=0,0,IF(E155>0,((1000000000-313216/E155+34538300/E155*2-1698600/E155*3+32198000000/E155*4)/60000000+E155*3.9)*1.129))","v":0},null,5.67]
[null,"SKÁLA","Jan","8.A",null,null,null,{"$f":"IF(E156=0,0,IF(E156>0,((1000000000-313216/E156+34538300/E156*2-1698600/E156*3+32198000000/E156*4)/60000000+E156*3.9)*1.129))","v":0},null,11.84,11.5]
[null,"ŠPULÁK","Jakub","8.A",null,null,null,{"$f":"IF(E157=0,0,IF(E157>0,((1000000000-313216/E157+34538300/E157*2-1698600/E157*3+32198000000/E157*4)/60000000+E157*3.9)*1.129))","v":0}]
[null,"VALENTA","Tomáš","8.A",null,null,null,{"$f":"IF(E158=0,0,IF(E158>0,((1000000000-313216/E158+34538300/E158*2-1698600/E158*3+32198000000/E158*4)/60000000+E158*3.9)*1.129))","v":0},null,6.67,9.0399999999999991]
[null,"VANCL","Jiří","8.A",null,null,null,{"$f":"IF(E159=0,0,IF(E159>0,((1000000000-313216/E159+34538300/E159*2-1698600/E159*3+32198000000/E159*4)/60000000+E159*3.9)*1.129))","v":0}]
[null,"VAŠÍČEK","David","8.A",null,null,null,{"$f":"IF(E160=0,0,IF(E160>0,((1000000000-313216/E160+34538300/E160*2-1698600/E160*3+32198000000/E160*4)/60000000+E160*3.9)*1.129))","v":0},null,15.84]
[null,"ZOUHAR","Ondřej","8.A",null,null,null,{"$f":"IF(E161=0,0,IF(E161>0,((1000000000-313216/E161+34538300/E161*2-1698600/E161*3+32198000000/E161*4)/60000000+E161*3.9)*1.129))","v":0},null,9.0299999999999994]
[null,"ZUZÁNEK","Filip","8.A",null,null,null,{"$f":"IF(E162=0,0,IF(E162>0,((1000000000-313216/E162+34538300/E162*2-1698600/E162*3+32198000000/E162*4)/60000000+E162*3.9)*1.129))","v":0},null,7.94,16.73]
[null,"BRUMLICH","Jan","9.A",null,null,null,{"$f":"IF(E163=0,0,IF(E163>0,((1000000000-313216/E163+34538300/E163*2-1698600/E163*3+32198000000/E163*4)/60000000+E163*3.9)*1.129))","v":0},null,17.059999999999999]
[null,"BUCHAR","Jiří","9.A",null,null,null,{"$f":"IF(E164=0,0,IF(E164>0,((1000000000-313216/E164+34538300/E164*2-1698600/E164*3+32198000000/E164*4)/60000000+E164*3.9)*1.129))","v":0},null,5.41,null,5.13]
[null,"FAISTAVER","Jiří","9.A",null,null,null,{"$f":"IF(E165=0,0,IF(E165>0,((1000000000-313216/E165+34538300/E165*2-1698600/E165*3+32198000000/E165*4)/60000000+E165*3.9)*1.129))","v":0},null,5.56]
[null,"FAISTAVER","Roman","9.A",null,null,null,{"$f":"IF(E166=0,0,IF(E166>0,((1000000000-313216/E166+34538300/E166*2-1698600/E166*3+32198000000/E166*4)/60000000+E166*3.9)*1.129))","v":0},null,5.91,7.68]
[null,"FAJSTAVR","Jakub","9.A",null,null,null,{"$f":"IF(E167=0,0,IF(E167>0,((1000000000-313216/E167+34538300/E167*2-1698600/E167*3+32198000000/E167*4)/60000000+E167*3.9)*1.129))","v":0},null,9.39]
[null,"FARSKÝ","Vojtěch","9.A",null,null,null,{"$f":"IF(E168=0,0,IF(E168>0,((1000000000-313216/E168+34538300/E168*2-1698600/E168*3+32198000000/E168*4)/60000000+E168*3.9)*1.129))","v":0},null,6.24]
[null,"HOLUBEC","Lukáš","9.A",null,null,null,{"$f":"IF(E169=0,0,IF(E169>0,((1000000000-313216/E169+34538300/E169*2-1698600/E169*3+32198000000/E169*4)/60000000+E169*3.9)*1.129))","v":0}]
[null,"CHAROUZ","Vojtěch","9.A",null,null,null,{"$f":"IF(E170=0,0,IF(E170>0,((1000000000-313216/E170+34538300/E170*2-1698600/E170*3+32198000000/E170*4)/60000000+E170*3.9)*1.129))","v":0},null,5.54,null,7.23]
[null,"IACCHERI","Carlo","9.A",null,null,null,{"$f":"IF(E171=0,0,IF(E171>0,((1000000000-313216/E171+34538300/E171*2-1698600/E171*3+32198000000/E171*4)/60000000+E171*3.9)*1.129))","v":0},null,8.24]
[null,"JOHN","Adrian","9.A",null,null,null,{"$f":"IF(E172=0,0,IF(E172>0,((1000000000-313216/E172+34538300/E172*2-1698600/E172*3+32198000000/E172*4)/60000000+E172*3.9)*1.129))","v":0}]
[null,"KRČÍK","Matthew","9.A",null,null,null,{"$f":"IF(E173=0,0,IF(E173>0,((1000000000-313216/E173+34538300/E173*2-1698600/E173*3+32198000000/E173*4)/60000000+E173*3.9)*1.129))","v":0},null,6.49]
[null,"KRESAN","Vojtěch","9.A",null,null,null,{"$f":"IF(E174=0,0,IF(E174>0,((1000000000-313216/E174+34538300/E174*2-1698600/E174*3+32198000000/E174*4)/60000000+E174*3.9)*1.129))","v":0}]
[null,"LÁNSKÝ","Vojtěch","9.A",null,null,null,{"$f":"IF(E175=0,0,IF(E175>0,((1000000000-313216/E175+34538300/E175*2-1698600/E175*3+32198000000/E175*4)/60000000+E175*3.9)*1.129))","v":0}]
[null,"LEŠÁK","Lukáš","9.A",null,null,null,{"$f":"IF(E176=0,0,IF(E176>0,((1000000000-313216/E176+34538300/E176*2-1698600/E176*3+32198000000/E176*4)/60000000+E176*3.9)*1.129))","v":0}]
[null,"RYPL","Matyáš","9.A",null,null,null,{"$f":"IF(E177=0,0,IF(E177>0,((1000000000-313216/E177+34538300/E177*2-1698600/E177*3+32198000000/E177*4)/60000000+E177*3.9)*1.129))","v":0},null,6.43,11.78]
[null,"VU TRAN DINH ","Lukas","9.A",null,null,null,{"$f":"IF(E178=0,0,IF(E178>0,((1000000000-313216/E178+34538300/E178*2-1698600/E178*3+32198000000/E178*4)/60000000+E178*3.9)*1.129))","v":0}]
[null,"DUFEK","Matyáš","9.B",null,null,null,{"$f":"IF(E179=0,0,IF(E179>0,((1000000000-313216/E179+34538300/E179*2-1698600/E179*3+32198000000/E179*4)/60000000+E179*3.9)*1.129))","v":0}]
[null,"JEŽEK","Jonáš","9.B",null,null,null,{"$f":"IF(E180=0,0,IF(E180>0,((1000000000-313216/E180+34538300/E180*2-1698600/E180*3+32198000000/E180*4)/60000000+E180*3.9)*1.129))","v":0},null,4.8600000000000003,4.66,4.87]
[null,"JEŽEK","Mikuláš","9.B",null,null,null,{"$f":"IF(E181=0,0,IF(E181>0,((1000000000-313216/E181+34538300/E181*2-1698600/E181*3+32198000000/E181*4)/60000000+E181*3.9)*1.129))","v":0},null,5.68,6.64,8.59]
[null,"NECHANICKÝ","Michal","9.B",null,null,null,{"$f":"IF(E182=0,0,IF(E182>0,((1000000000-313216/E182+34538300/E182*2-1698600/E182*3+32198000000/E182*4)/60000000+E182*3.9)*1.129))","v":0},null,6.49,7.38,7.05]
[null,"PAULÍČEK","Jakub","9.B",null,null,null,{"$f":"IF(E183=0,0,IF(E183>0,((1000000000-313216/E183+34538300/E183*2-1698600/E183*3+32198000000/E183*4)/60000000+E183*3.9)*1.129))","v":0},null,null,7.23]
[null,"POHOŘALÝ","Jakub","9.B",null,null,null,{"$f":"IF(E184=0,0,IF(E184>0,((1000000000-313216/E184+34538300/E184*2-1698600/E184*3+32198000000/E184*4)/60000000+E184*3.9)*1.129))","v":0},null,null,null,8.5500000000000007]
[null,"POSPÍCHAL","Daniel","9.B",null,null,null,{"$f":"IF(E185=0,0,IF(E185>0,((1000000000-313216/E185+34538300/E185*2-1698600/E185*3+32198000000/E185*4)/60000000+E185*3.9)*1.129))","v":0},null,null,9.5,11.84]
[null,"SOUKUP","Lukáš","9.B",null,null,null,{"$f":"IF(E186=0,0,IF(E186>0,((1000000000-313216/E186+34538300/E186*2-1698600/E186*3+32198000000/E186*4)/60000000+E186*3.9)*1.129))","v":0},null,9.3800000000000008]
[null,"VANCL","Jan","9.B",null,null,null,{"$f":"IF(E187=0,0,IF(E187>0,((1000000000-313216/E187+34538300/E187*2-1698600/E187*3+32198000000/E187*4)/60000000+E187*3.9)*1.129))","v":0},null,6.69,null,12.81]
[null,"VANCL","Lukáš","9.B",null,null,null,{"$f":"IF(E188=0,0,IF(E188>0,((1000000000-313216/E188+34538300/E188*2-1698600/E188*3+32198000000/E188*4)/60000000+E188*3.9)*1.129))","v":0},null,6.93,null,16.399999999999999]
[null,"VAŠÍK","Jiří","9.B",null,null,null,{"$f":"IF(E189=0,0,IF(E189>0,((1000000000-313216/E189+34538300/E189*2-1698600/E189*3+32198000000/E189*4)/60000000+E189*3.9)*1.129))","v":0},null,13.3]
[null,"VOHNOUT","Zdeněk","9.B",null,null,null,{"$f":"IF(E190=0,0,IF(E190>0,((1000000000-313216/E190+34538300/E190*2-1698600/E190*3+32198000000/E190*4)/60000000+E190*3.9)*1.129))","v":0},null,3.71,8.58,7.9]

{"sheet":"ŠVIHADLO","index":21,"n_rows":190,"n_cols":12,"rows_kept":190,"cut":false,"hidden":false,"merged":[]}
[null,null,"VÝKONY  2020 - 2021",null,null,null,"ŠVIHADLO","CHLAPCI  6. -  9.  ROČ."]
[null,"stav  k ",{"$f":"TODAY()","v":"2021-06-28"},null,null,null,null,null,null,"19  - 20","18  - 19","17 - 18"]
[]
["1.",{"$f":"B101","v":"BOUKAL"},{"$f":"C101","v":"Jakub"},"6.A",0,null,0,0,null,0,0,0]
["2.",{"$f":"B102","v":"DEMČUK"},"Ilja","6.A",0,null,0,0,null,0,0,0]
["3.",{"$f":"B103","v":"FAISTAUER"},"Kryštof","6.A",52,null,"Jilemnice  14.03.21",325,null,0,0,0]
["4.",{"$f":"B104","v":"FRK"},"Matyáš","6.A",0,null,0,0,null,0,0,0]
["5.",{"$f":"B105","v":"HUBÁLOVSKÝ"},"Marek","6.A",0,null,0,0,null,0,0,0]
["6.",{"$f":"B106","v":"MAŘAS"},"Dominik","6.A",0,null,0,0,null,0,0,0]
["7.",{"$f":"B107","v":"MAŤÁTKO"},"Jakub","6.A",0,null,0,0,null,0,0,0]
["8.",{"$f":"B108","v":"MERY"},"Luboš","6.A",18,null,"Jilemnice  02.05.21",112.5,null,0,0,0]
["9.",{"$f":"B109","v":"NOVOTNÝ"},"Matěj","6.A",0,null,0,0,null,0,0,0]
["10.",{"$f":"B110","v":"ŘEHOŘEK"},"Vojtěch","6.A",0,null,0,0,null,0,0,0]
["11.",{"$f":"B111","v":"ŠÍR"},"Matyáš","6.A",38,null,"Jilemnice  14.03.21",237.5,null,0,0,0]
["12.",{"$f":"B112","v":"TORÁČ"},"Tomáš","6.A",0,null,0,0,null,0,0,0]
["13.",{"$f":"B113","v":"ULLMAN"},"Šimon","6.A",0,null,0,0,null,0,0,0]
["14.",{"$f":"B114","v":"VÁCLAVÍK"},"Ondřej","6.A",0,null,0,0,null,0,0,0]
["15.",{"$f":"B115","v":"AUERSWALD"},"Daniel","6.B",30,null,"Jilemnice  14.03.21",187.5,null,0,0,0]
["16.",{"$f":"B116","v":"BODLÁK"},"Vladimír","6.B",50,null,"Jilemnice  28.03.21",312.5,null,0,0,0]
["17.",{"$f":"B117","v":"BUDÍN"},"Martin","6.B",80,null,"Jilemnice  11.04.21",500,null,0,0,0]
["18.",{"$f":"B118","v":"DVOŘÁK"},"Dominik","6.B",0,null,0,0,null,0,0,0]
["19.",{"$f":"B119","v":"FIŠERA"},"Vojtěch","6.B",91,null,"Jilemnice  28.03.21",568.75,null,0,0,0]
["20.",{"$f":"B120","v":"JINDŘIŠEK"},"Vít","6.B",56,null,"Jilemnice  25.04.21",350,null,0,0,0]
["21.",{"$f":"B121","v":"JIROUŠ"},"Matouš","6.B",40,null,"Jilemnice  11.04.21",250,null,0,0,0]
["22.",{"$f":"B122","v":"KERLE"},"Marek","6.B",37,null,"Jilemnice  21.03.21",231.25,null,0,0,0]
["23.",{"$f":"B123","v":"LUKEŠ"},"Jakub","6.B",65,null,"Jilemnice  18.04.21",406.25,null,0,0,0]
["24.",{"$f":"B124","v":"OTT"},"Matyáš","6.B",0,null,0,0,null,0,0,0]
["25.",{"$f":"B125","v":"POKORNÝ"},"Matyáš","6.B",0,null,0,0,null,0,0,0]
["26.",{"$f":"B126","v":"POLÁČEK"},"Matyáš","6.B",0,null,0,0,null,0,0,0]
["27.",{"$f":"B127","v":"SOUKUP"},"Patrik","6.B",95,null,"Jilemnice  21.03.21",593.75,null,0,0,0]
["28.",{"$f":"B128","v":"VALENTA"},"Jakub","6.B",76,null,"Jilemnice  25.04.21",475,null,0,0,0]
["29.",{"$f":"B129","v":"VRBATA"},"Dominik","6.B",0,null,0,0,null,0,0,0]
["30.",{"$f":"B130","v":"FEJKL"},"Jan","7.A",42,null,"Jilemnice  14.03.21",262.5,null,0,0,0]
["31.",{"$f":"B131","v":"KOTYK"},"Tadeáš","7.A",20,null,"Jilemnice  21.03.21",125,null,0,0,0]
["32.",{"$f":"B132","v":"KRAUSE"},"Tadeáš","7.A",121,null,"Jilemnice  11.04.21",756.25,null,0,0,0]
["33.",{"$f":"B133","v":"LEŠÁK"},"Martin","7.A",30,null,"Jilemnice  14.03.21",187.5,null,0,0,0]
["34.",{"$f":"B134","v":"NECHANICKÝ"},"David","7.A",0,null,0,0,null,0,0,0]
["35.",{"$f":"B135","v":"ŘEHOŘEK"},"Jan","7.A",115,null,"Jilemnice  11.04.21",718.75,null,0,0,0]
["36.",{"$f":"B136","v":"SOUKUP"},"Ondřej","7.A",0,null,0,0,null,0,0,0]
["37.",{"$f":"B137","v":"SPANILÝ"},"David","7.A",106,null,"Jilemnice  14.03.21",662.5,null,0,0,0]
["38.",{"$f":"B138","v":"ČADAN"},"Benjamín","7.B",0,null,0,0,null,0,0,0]
["39.",{"$f":"B139","v":"ČERNÝ"},"Michal","7.B",0,null,0,0,null,0,0,0]
["40.",{"$f":"B140","v":"DOLEJŠÍ"},"David","7.B",58,null,"Jilemnice  11.04.21",362.5,null,0,0,0]
["41.",{"$f":"B141","v":"NOVÁK"},"Matěj","7.B",68,null,"Jilemnice  14.03.21",425,null,0,0,0]
["42.",{"$f":"B142","v":"POVAŽANEC"},"Martin","7.B",0,null,0,0,null,0,0,0]
["43.",{"$f":"B143","v":"RICHTER"},"Jakub","7.B",0,null,0,0,null,0,0,0]
["44.",{"$f":"B144","v":"ROZUMEK"},"Adam","7.B",0,null,0,0,null,0,0,0]
["45.",{"$f":"B145","v":"VALENTA"},"František","7.B",0,null,0,0,null,0,0,0]
["46.",{"$f":"B146","v":"ZAPLATÍLEK"},"Josef","7.B",0,null,0,0,null,0,0,0]
["47.",{"$f":"B147","v":"ERBEN"},"Viktor","8.A",0,null,0,0,null,68,45,0]
["48.",{"$f":"B148","v":"FRANC"},"Daniel","8.A",0,null,0,0,null,68,28,0]
["49.",{"$f":"B149","v":"JINDŘIŠEK"},"Matyáš","8.A",79,null,"Jilemnice  11.04.21",493.75,null,128,83,0]
["50.",{"$f":"B150","v":"KOLAČNÝ"},"Štěpán","8.A",0,null,0,0,null,82,68,0]
["51.",{"$f":"B151","v":"KRISTAN"},"Jáchym","8.A",0,null,0,0,null,43,26,0]
["52.",{"$f":"B152","v":"NGUYEN"},"David","8.A",0,null,0,0,null,103,0,0]
["53.",{"$f":"B153","v":"NOVOTNÝ"},"Jan","8.A",0,null,0,0,null,0,65,0]
["54.",{"$f":"B154","v":"RÁB"},"Adam","8.A",0,null,0,0,null,61,60,0]
["55.",{"$f":"B155","v":"REPASKÝ"},"Jakub","8.A",146,null,"Jilemnice  11.04.21",912.5,null,145,95,0]
["56.",{"$f":"B156","v":"SKÁLA"},"Jan","8.A",0,null,0,0,null,109,70,0]
["57.",{"$f":"B157","v":"ŠPULÁK"},"Jakub","8.A",34,null,"Jilemnice  11.04.21",212.5,null,52,42,0]
["58.",{"$f":"B158","v":"VALENTA"},"Tomáš","8.A",142,null,"Jilemnice  11.04.21",887.5,null,130,110,0]
["59.",{"$f":"B159","v":"VANCL"},"Jiří","8.A",0,null,0,0,null,94,68,0]
["60.",{"$f":"B160","v":"VAŠÍČEK"},"David","8.A",0,null,0,0,null,73,0,0]
["61.",{"$f":"B161","v":"ZOUHAR"},"Ondřej","8.A",0,null,0,0,null,82,61,0]
["62.",{"$f":"B162","v":"ZUZÁNEK"},"Filip","8.A",0,null,0,0,null,118,70,0]
["63.",{"$f":"B163","v":"BRUMLICH"},"Jan","9.A",0,null,0,0,null,79,73,68]
["64.",{"$f":"B164","v":"BUCHAR"},"Jiří","9.A",0,null,0,0,null,114,81,74]
["65.",{"$f":"B165","v":"FAISTAVER"},"Jiří","9.A",0,null,0,0,null,105,82,71]
["66.",{"$f":"B166","v":"FAISTAVER"},"Roman","9.A",0,null,0,0,null,127,104,79]
["67.",{"$f":"B167","v":"FAJSTAVR"},"Jakub","9.A",66,null,"Jilemnice  11.04.21",412.5,null,75,79,63]
["68.",{"$f":"B168","v":"FARSKÝ"},"Vojtěch","9.A",0,null,0,0,null,109,84,73]
["69.",{"$f":"B169","v":"HOLUBEC"},"Lukáš","9.A",0,null,0,0,null,54,34,34]
["70.",{"$f":"B170","v":"CHAROUZ"},"Vojtěch","9.A",0,null,0,0,null,72,54,48]
["71.",{"$f":"B171","v":"IACCHERI"},"Carlo","9.A",0,null,0,0,null,80,99,50]
["72.",{"$f":"B172","v":"JOHN"},"Adrian","9.A",0,null,0,0,null,45,57,38]
["73.",{"$f":"B173","v":"KRČÍK"},"Matthew","9.A",0,null,0,0,null,110,76,69]
["74.",{"$f":"B174","v":"KRESAN"},"Vojtěch","9.A",0,null,0,0,null,71,42,0]
["75.",{"$f":"B175","v":"LÁNSKÝ"},"Vojtěch","9.A",0,null,0,0,null,38,0,9]
["76.",{"$f":"B176","v":"LEŠÁK"},"Lukáš","9.A",0,null,0,0,null,41,32,19]
["77.",{"$f":"B177","v":"RYPL"},"Matyáš","9.A",0,null,0,0,null,86,82,71]
["78.",{"$f":"B178","v":"VU TRAN DINH "},"Lukas","9.A",0,null,0,0,null,89,0,0]
["79.",{"$f":"B179","v":"DUFEK"},"Matyáš","9.B",0,null,0,0,null,0,30,0]
["80.",{"$f":"B180","v":"JEŽEK"},"Jonáš","9.B",0,null,0,0,null,146,122,115]
["81.",{"$f":"B181","v":"JEŽEK"},"Mikuláš","9.B",0,null,0,0,null,141,133,117]
["82.",{"$f":"B182","v":"NECHANICKÝ"},"Michal","9.B",85,null,"Jilemnice  11.04.21",531.25,null,109,77,60]
["83.",{"$f":"B183","v":"PAULÍČEK"},"Jakub","9.B",0,null,0,0,null,65,65,65]
["84.",{"$f":"B184","v":"POHOŘALÝ"},"Jakub","9.B",0,null,0,0,null,142,115,109]
["85.",{"$f":"B185","v":"POSPÍCHAL"},"Daniel","9.B",0,null,0,0,null,79,94,73]
["86.",{"$f":"B186","v":"SOUKUP"},"Lukáš","9.B",0,null,0,0,null,0,66,0]
["87.",{"$f":"B187","v":"VANCL"},"Jan","9.B",0,null,0,0,null,137,83,89]
["88.",{"$f":"B188","v":"VANCL"},"Lukáš","9.B",0,null,0,0,null,103,85,73]
["89.",{"$f":"B189","v":"VAŠÍK"},"Jiří","9.B",0,null,0,0,null,81,97,105]
["90.",{"$f":"B190","v":"VOHNOUT"},"Zdeněk","9.B",0,null,0,0,null,141,83,0]
[]
[]
[]
[]
[]
[]
[]
[null,"BOUKAL","Jakub","6.A",null,null,null,{"$f":"IF(E101=0,0,E101*6.25)","v":0}]
[null,"DEMČUK","Ilja","6.A",null,null,null,{"$f":"IF(E102=0,0,E102*6.25)","v":0}]
[null,"FAISTAUER","Kryštof","6.A",52,null,"Jilemnice  14.03.21",{"$f":"IF(E103=0,0,E103*6.25)","v":325}]
[null,"FRK","Matyáš","6.A",null,null,null,{"$f":"IF(E104=0,0,E104*6.25)","v":0}]
[null,"HUBÁLOVSKÝ","Marek","6.A",null,null,null,{"$f":"IF(E105=0,0,E105*6.25)","v":0}]
[null,"MAŘAS","Dominik","6.A",null,null,null,{"$f":"IF(E106=0,0,E106*6.25)","v":0}]
[null,"MAŤÁTKO","Jakub","6.A",null,null,null,{"$f":"IF(E107=0,0,E107*6.25)","v":0}]
[null,"MERY","Luboš","6.A",18,null,"Jilemnice  02.05.21",{"$f":"IF(E108=0,0,E108*6.25)","v":112.5}]
[null,"NOVOTNÝ","Matěj","6.A",null,null,null,{"$f":"IF(E109=0,0,E109*6.25)","v":0}]
[null,"ŘEHOŘEK","Vojtěch","6.A",null,null,null,{"$f":"IF(E110=0,0,E110*6.25)","v":0}]
[null,"ŠÍR","Matyáš","6.A",38,null,"Jilemnice  14.03.21",{"$f":"IF(E111=0,0,E111*6.25)","v":237.5}]
[null,"TORÁČ","Tomáš","6.A",null,null,null,{"$f":"IF(E112=0,0,E112*6.25)","v":0}]
[null,"ULLMAN","Šimon","6.A",null,null,null,{"$f":"IF(E113=0,0,E113*6.25)","v":0}]
[null,"VÁCLAVÍK","Ondřej","6.A",null,null,null,{"$f":"IF(E114=0,0,E114*6.25)","v":0}]
[null,"AUERSWALD","Daniel","6.B",30,null,"Jilemnice  14.03.21",{"$f":"IF(E115=0,0,E115*6.25)","v":187.5}]
[null,"BODLÁK","Vladimír","6.B",50,null,"Jilemnice  28.03.21",{"$f":"IF(E116=0,0,E116*6.25)","v":312.5}]
[null,"BUDÍN","Martin","6.B",80,null,"Jilemnice  11.04.21",{"$f":"IF(E117=0,0,E117*6.25)","v":500}]
[null,"DVOŘÁK","Dominik","6.B",null,null,null,{"$f":"IF(E118=0,0,E118*6.25)","v":0}]
[null,"FIŠERA","Vojtěch","6.B",91,null,"Jilemnice  28.03.21",{"$f":"IF(E119=0,0,E119*6.25)","v":568.75}]
[null,"JINDŘIŠEK","Vít","6.B",56,null,"Jilemnice  25.04.21",{"$f":"IF(E120=0,0,E120*6.25)","v":350}]
[null,"JIROUŠ","Matouš","6.B",40,null,"Jilemnice  11.04.21",{"$f":"IF(E121=0,0,E121*6.25)","v":250}]
[null,"KERLE","Marek","6.B",37,null,"Jilemnice  21.03.21",{"$f":"IF(E122=0,0,E122*6.25)","v":231.25}]
[null,"LUKEŠ","Jakub","6.B",65,null,"Jilemnice  18.04.21",{"$f":"IF(E123=0,0,E123*6.25)","v":406.25}]
[null,"OTT","Matyáš","6.B",null,null,null,{"$f":"IF(E124=0,0,E124*6.25)","v":0}]
[null,"POKORNÝ","Matyáš","6.B",null,null,null,{"$f":"IF(E125=0,0,E125*6.25)","v":0}]
[null,"POLÁČEK","Matyáš","6.B",null,null,null,{"$f":"IF(E126=0,0,E126*6.25)","v":0}]
[null,"SOUKUP","Patrik","6.B",95,null,"Jilemnice  21.03.21",{"$f":"IF(E127=0,0,E127*6.25)","v":593.75}]
[null,"VALENTA","Jakub","6.B",76,null,"Jilemnice  25.04.21",{"$f":"IF(E128=0,0,E128*6.25)","v":475}]
[null,"VRBATA","Dominik","6.B",null,null,null,{"$f":"IF(E129=0,0,E129*6.25)","v":0}]
[null,"FEJKL","Jan","7.A",42,null,"Jilemnice  14.03.21",{"$f":"IF(E130=0,0,E130*6.25)","v":262.5}]
[null,"KOTYK","Tadeáš","7.A",20,null,"Jilemnice  21.03.21",{"$f":"IF(E131=0,0,E131*6.25)","v":125}]
[null,"KRAUSE","Tadeáš","7.A",121,null,"Jilemnice  11.04.21",{"$f":"IF(E132=0,0,E132*6.25)","v":756.25}]
[null,"LEŠÁK","Martin","7.A",30,null,"Jilemnice  14.03.21",{"$f":"IF(E133=0,0,E133*6.25)","v":187.5}]
[null,"NECHANICKÝ","David","7.A",null,null,null,{"$f":"IF(E134=0,0,E134*6.25)","v":0}]
[null,"ŘEHOŘEK","Jan","7.A",115,null,"Jilemnice  11.04.21",{"$f":"IF(E135=0,0,E135*6.25)","v":718.75}]
[null,"SOUKUP","Ondřej","7.A",null,null,null,{"$f":"IF(E136=0,0,E136*6.25)","v":0}]
[null,"SPANILÝ","David","7.A",106,null,"Jilemnice  14.03.21",{"$f":"IF(E137=0,0,E137*6.25)","v":662.5}]
[null,"ČADAN","Benjamín","7.B",null,null,null,{"$f":"IF(E138=0,0,E138*6.25)","v":0}]
[null,"ČERNÝ","Michal","7.B",null,null,null,{"$f":"IF(E139=0,0,E139*6.25)","v":0}]
[null,"DOLEJŠÍ","David","7.B",58,null,"Jilemnice  11.04.21",{"$f":"IF(E140=0,0,E140*6.25)","v":362.5}]
[null,"NOVÁK","Matěj","7.B",68,null,"Jilemnice  14.03.21",{"$f":"IF(E141=0,0,E141*6.25)","v":425}]
[null,"POVAŽANEC","Martin","7.B",null,null,null,{"$f":"IF(E142=0,0,E142*6.25)","v":0}]
[null,"RICHTER","Jakub","7.B",null,null,null,{"$f":"IF(E143=0,0,E143*6.25)","v":0}]
[null,"ROZUMEK","Adam","7.B",null,null,null,{"$f":"IF(E144=0,0,E144*6.25)","v":0}]
[null,"VALENTA","František","7.B",null,null,null,{"$f":"IF(E145=0,0,E145*6.25)","v":0}]
[null,"ZAPLATÍLEK","Josef","7.B",null,null,null,{"$f":"IF(E146=0,0,E146*6.25)","v":0}]
[null,"ERBEN","Viktor","8.A",null,null,null,{"$f":"IF(E147=0,0,E147*6.25)","v":0},null,68,45]
[null,"FRANC","Daniel","8.A",null,null,null,{"$f":"IF(E148=0,0,E148*6.25)","v":0},null,68,28]
[null,"JINDŘIŠEK","Matyáš","8.A",79,null,"Jilemnice  11.04.21",{"$f":"IF(E149=0,0,E149*6.25)","v":493.75},null,128,83]
[null,"KOLAČNÝ","Štěpán","8.A",null,null,null,{"$f":"IF(E150=0,0,E150*6.25)","v":0},null,82,68]
[null,"KRISTAN","Jáchym","8.A",null,null,null,{"$f":"IF(E151=0,0,E151*6.25)","v":0},null,43,26]
[null,"NGUYEN","David","8.A",null,null,null,{"$f":"IF(E152=0,0,E152*6.25)","v":0},null,103]
[null,"NOVOTNÝ","Jan","8.A",null,null,null,{"$f":"IF(E153=0,0,E153*6.25)","v":0},null,null,65]
[null,"RÁB","Adam","8.A",null,null,null,{"$f":"IF(E154=0,0,E154*6.25)","v":0},null,61,60]
[null,"REPASKÝ","Jakub","8.A",146,null,"Jilemnice  11.04.21",{"$f":"IF(E155=0,0,E155*6.25)","v":912.5},null,145,95]
[null,"SKÁLA","Jan","8.A",null,null,null,{"$f":"IF(E156=0,0,E156*6.25)","v":0},null,109,70]
[null,"ŠPULÁK","Jakub","8.A",34,null,"Jilemnice  11.04.21",{"$f":"IF(E157=0,0,E157*6.25)","v":212.5},null,52,42]
[null,"VALENTA","Tomáš","8.A",142,null,"Jilemnice  11.04.21",{"$f":"IF(E158=0,0,E158*6.25)","v":887.5},null,130,110]
[null,"VANCL","Jiří","8.A",null,null,null,{"$f":"IF(E159=0,0,E159*6.25)","v":0},null,94,68]
[null,"VAŠÍČEK","David","8.A",null,null,null,{"$f":"IF(E160=0,0,E160*6.25)","v":0},null,73]
[null,"ZOUHAR","Ondřej","8.A",null,null,null,{"$f":"IF(E161=0,0,E161*6.25)","v":0},null,82,61]
[null,"ZUZÁNEK","Filip","8.A",null,null,null,{"$f":"IF(E162=0,0,E162*6.25)","v":0},null,118,70]
[null,"BRUMLICH","Jan","9.A",null,null,null,{"$f":"IF(E163=0,0,E163*6.25)","v":0},null,79,73,68]
[null,"BUCHAR","Jiří","9.A",null,null,null,{"$f":"IF(E164=0,0,E164*6.25)","v":0},null,114,81,74]
[null,"FAISTAVER","Jiří","9.A",null,null,null,{"$f":"IF(E165=0,0,E165*6.25)","v":0},null,105,82,71]
[null,"FAISTAVER","Roman","9.A",null,null,null,{"$f":"IF(E166=0,0,E166*6.25)","v":0},null,127,104,79]
[null,"FAJSTAVR","Jakub","9.A",66,null,"Jilemnice  11.04.21",{"$f":"IF(E167=0,0,E167*6.25)","v":412.5},null,75,79,63]
[null,"FARSKÝ","Vojtěch","9.A",null,null,null,{"$f":"IF(E168=0,0,E168*6.25)","v":0},null,109,84,73]
[null,"HOLUBEC","Lukáš","9.A",null,null,null,{"$f":"IF(E169=0,0,E169*6.25)","v":0},null,54,34,34]
[null,"CHAROUZ","Vojtěch","9.A",null,null,null,{"$f":"IF(E170=0,0,E170*6.25)","v":0},null,72,54,48]
[null,"IACCHERI","Carlo","9.A",null,null,null,{"$f":"IF(E171=0,0,E171*6.25)","v":0},null,80,99,50]
[null,"JOHN","Adrian","9.A",null,null,null,{"$f":"IF(E172=0,0,E172*6.25)","v":0},null,45,57,38]
[null,"KRČÍK","Matthew","9.A",null,null,null,{"$f":"IF(E173=0,0,E173*6.25)","v":0},null,110,76,69]
[null,"KRESAN","Vojtěch","9.A",null,null,null,{"$f":"IF(E174=0,0,E174*6.25)","v":0},null,71,42]
[null,"LÁNSKÝ","Vojtěch","9.A",null,null,null,{"$f":"IF(E175=0,0,E175*6.25)","v":0},null,38,null,9]
[null,"LEŠÁK","Lukáš","9.A",null,null,null,{"$f":"IF(E176=0,0,E176*6.25)","v":0},null,41,32,19]
[null,"RYPL","Matyáš","9.A",null,null,null,{"$f":"IF(E177=0,0,E177*6.25)","v":0},null,86,82,71]
[null,"VU TRAN DINH ","Lukas","9.A",null,null,null,{"$f":"IF(E178=0,0,E178*6.25)","v":0},null,89]
[null,"DUFEK","Matyáš","9.B",null,null,null,{"$f":"IF(E179=0,0,E179*6.25)","v":0},null,null,30]
[null,"JEŽEK","Jonáš","9.B",null,null,null,{"$f":"IF(E180=0,0,E180*6.25)","v":0},null,146,122,115]
[null,"JEŽEK","Mikuláš","9.B",null,null,null,{"$f":"IF(E181=0,0,E181*6.25)","v":0},null,141,133,117]
[null,"NECHANICKÝ","Michal","9.B",85,null,"Jilemnice  11.04.21",{"$f":"IF(E182=0,0,E182*6.25)","v":531.25},null,109,77,60]
[null,"PAULÍČEK","Jakub","9.B",null,null,null,{"$f":"IF(E183=0,0,E183*6.25)","v":0},null,65,65,65]
[null,"POHOŘALÝ","Jakub","9.B",null,null,null,{"$f":"IF(E184=0,0,E184*6.25)","v":0},null,142,115,109]
[null,"POSPÍCHAL","Daniel","9.B",null,null,null,{"$f":"IF(E185=0,0,E185*6.25)","v":0},null,79,94,73]
[null,"SOUKUP","Lukáš","9.B",null,null,null,{"$f":"IF(E186=0,0,E186*6.25)","v":0},null,null,66]
[null,"VANCL","Jan","9.B",null,null,null,{"$f":"IF(E187=0,0,E187*6.25)","v":0},null,137,83,89]
[null,"VANCL","Lukáš","9.B",null,null,null,{"$f":"IF(E188=0,0,E188*6.25)","v":0},null,103,85,73]
[null,"VAŠÍK","Jiří","9.B",null,null,null,{"$f":"IF(E189=0,0,E189*6.25)","v":0},null,81,97,105]
[null,"VOHNOUT","Zdeněk","9.B",null,null,null,{"$f":"IF(E190=0,0,E190*6.25)","v":0},null,141,83]

{"sheet":"Z MÍSTA","index":22,"n_rows":190,"n_cols":12,"rows_kept":190,"cut":false,"hidden":false,"merged":[]}
[null,null,"VÝKONY  2020 - 2021",null,null,null,"Z MÍSTA","CHLAPCI  6. -  9.  ROČ."]
[null,"stav  k ",{"$f":"TODAY()","v":"2021-06-28"},null,null,null,null,null,null,"19  - 20","18  - 19","17 - 18"]
[]
["1.",{"$f":"B101","v":"BOUKAL"},{"$f":"C101","v":"Jakub"},"6.A",0,null,0,0,null,0,0,0]
["2.",{"$f":"B102","v":"DEMČUK"},"Ilja","6.A",150,null,"Jilemnice  18.04.21",570,null,0,0,0]
["3.",{"$f":"B103","v":"FAISTAUER"},"Kryštof","6.A",165,null,"Jilemnice  04.04.21",627,null,0,0,0]
["4.",{"$f":"B104","v":"FRK"},"Matyáš","6.A",0,null,0,0,null,0,0,0]
["5.",{"$f":"B105","v":"HUBÁLOVSKÝ"},"Marek","6.A",0,null,0,0,null,0,0,0]
["6.",{"$f":"B106","v":"MAŘAS"},"Dominik","6.A",182,null,"Jilemnice  11.06.21",691.6,null,0,0,0]
["7.",{"$f":"B107","v":"MAŤÁTKO"},"Jakub","6.A",0,null,0,0,null,0,0,0]
["8.",{"$f":"B108","v":"MERY"},"Luboš","6.A",149,null,"Jilemnice  02.05.21",566.19999999999993,null,0,0,0]
["9.",{"$f":"B109","v":"NOVOTNÝ"},"Matěj","6.A",0,null,0,0,null,0,0,0]
["10.",{"$f":"B110","v":"ŘEHOŘEK"},"Vojtěch","6.A",146,null,"Jilemnice  21.03.21",554.79999999999995,null,0,0,0]
["11.",{"$f":"B111","v":"ŠÍR"},"Matyáš","6.A",158,null,"Jilemnice  21.03.21",600.4,null,0,0,0]
["12.",{"$f":"B112","v":"TORÁČ"},"Tomáš","6.A",0,null,0,0,null,0,0,0]
["13.",{"$f":"B113","v":"ULLMAN"},"Šimon","6.A",0,null,0,0,null,0,0,0]
["14.",{"$f":"B114","v":"VÁCLAVÍK"},"Ondřej","6.A",0,null,0,0,null,0,0,0]
["15.",{"$f":"B115","v":"AUERSWALD"},"Daniel","6.B",0,null,0,0,null,0,0,0]
["16.",{"$f":"B116","v":"BODLÁK"},"Vladimír","6.B",30,null,"Jilemnice  21.03.21",114,null,0,0,0]
["17.",{"$f":"B117","v":"BUDÍN"},"Martin","6.B",150,null,"Jilemnice  11.04.21",570,null,0,0,0]
["18.",{"$f":"B118","v":"DVOŘÁK"},"Dominik","6.B",0,null,0,0,null,0,0,0]
["19.",{"$f":"B119","v":"FIŠERA"},"Vojtěch","6.B",130,null,"Jilemnice  21.03.21",494,null,0,0,0]
["20.",{"$f":"B120","v":"JINDŘIŠEK"},"Vít","6.B",200,null,"Jilemnice  14.03.21",760,null,0,0,0]
["21.",{"$f":"B121","v":"JIROUŠ"},"Matouš","6.B",200,null,"Jilemnice  21.03.21",760,null,0,0,0]
["22.",{"$f":"B122","v":"KERLE"},"Marek","6.B",158,null,"Jilemnice  28.03.21",600.4,null,0,0,0]
["23.",{"$f":"B123","v":"LUKEŠ"},"Jakub","6.B",190,null,"Jilemnice  11.04.21",722,null,0,0,0]
["24.",{"$f":"B124","v":"OTT"},"Matyáš","6.B",0,null,0,0,null,0,0,0]
["25.",{"$f":"B125","v":"POKORNÝ"},"Matyáš","6.B",0,null,0,0,null,0,0,0]
["26.",{"$f":"B126","v":"POLÁČEK"},"Matyáš","6.B",0,null,0,0,null,0,0,0]
["27.",{"$f":"B127","v":"SOUKUP"},"Patrik","6.B",200,null,"Jilemnice  21.03.21",760,null,0,0,0]
["28.",{"$f":"B128","v":"VALENTA"},"Jakub","6.B",0,null,0,0,null,0,0,0]
["29.",{"$f":"B129","v":"VRBATA"},"Dominik","6.B",0,null,0,0,null,0,0,0]
["30.",{"$f":"B130","v":"FEJKL"},"Jan","7.A",200,null,"Jilemnice  14.03.21",760,null,202,0,0]
["31.",{"$f":"B131","v":"KOTYK"},"Tadeáš","7.A",60,null,"Jilemnice  21.03.21",228,null,180,0,0]
["32.",{"$f":"B132","v":"KRAUSE"},"Tadeáš","7.A",201,null,"Jilemnice  14.03.21",763.8,null,185,0,0]
["33.",{"$f":"B133","v":"LEŠÁK"},"Martin","7.A",0,null,0,0,null,148,0,0]
["34.",{"$f":"B134","v":"NECHANICKÝ"},"David","7.A",0,null,0,0,null,195,0,0]
["35.",{"$f":"B135","v":"ŘEHOŘEK"},"Jan","7.A",0,null,0,0,null,195,0,0]
["36.",{"$f":"B136","v":"SOUKUP"},"Ondřej","7.A",0,null,0,0,null,172,0,0]
["37.",{"$f":"B137","v":"SPANILÝ"},"David","7.A",198,null,"Jilemnice  11.04.21",752.4,null,197,0,0]
["38.",{"$f":"B138","v":"ČADAN"},"Benjamín","7.B",0,null,0,0,null,0,0,0]
["39.",{"$f":"B139","v":"ČERNÝ"},"Michal","7.B",0,null,0,0,null,147,0,0]
["40.",{"$f":"B140","v":"DOLEJŠÍ"},"David","7.B",152,null,"Jilemnice  28.03.21",577.6,null,123,0,0]
["41.",{"$f":"B141","v":"NOVÁK"},"Matěj","7.B",169,null,"Jilemnice  14.03.21",642.19999999999993,null,182,0,0]
["42.",{"$f":"B142","v":"POVAŽANEC"},"Martin","7.B",0,null,0,0,null,142,0,0]
["43.",{"$f":"B143","v":"RICHTER"},"Jakub","7.B",0,null,0,0,null,148,0,0]
["44.",{"$f":"B144","v":"ROZUMEK"},"Adam","7.B",0,null,0,0,null,152,0,0]
["45.",{"$f":"B145","v":"VALENTA"},"František","7.B",0,null,0,0,null,139,0,0]
["46.",{"$f":"B146","v":"ZAPLATÍLEK"},"Josef","7.B",0,null,0,0,null,169,0,0]
["47.",{"$f":"B147","v":"ERBEN"},"Viktor","8.A",164,null,"Jilemnice  11.04.21",623.19999999999993,null,179,164,0]
["48.",{"$f":"B148","v":"FRANC"},"Daniel","8.A",158,null,"Jilemnice  26.05.21",600.4,null,174,138,0]
["49.",{"$f":"B149","v":"JINDŘIŠEK"},"Matyáš","8.A",205,null,"Jilemnice  11.04.21",779,null,190,188,0]
["50.",{"$f":"B150","v":"KOLAČNÝ"},"Štěpán","8.A",180,null,"Jilemnice  11.04.21",684,null,182,170,0]
["51.",{"$f":"B151","v":"KRISTAN"},"Jáchym","8.A",116,null,"Jilemnice  26.05.21",440.79999999999995,null,120,125,0]
["52.",{"$f":"B152","v":"NGUYEN"},"David","8.A",230,null,"Jilemnice  26.05.21",874,null,220,0,0]
["53.",{"$f":"B153","v":"NOVOTNÝ"},"Jan","8.A",0,null,0,0,null,192,182,0]
["54.",{"$f":"B154","v":"RÁB"},"Adam","8.A",162,null,"Jilemnice  26.05.21",615.6,null,162,137,0]
["55.",{"$f":"B155","v":"REPASKÝ"},"Jakub","8.A",213,null,"Jilemnice  26.05.21",809.4,null,207,180,0]
["56.",{"$f":"B156","v":"SKÁLA"},"Jan","8.A",213,null,"Jilemnice  26.05.21",809.4,null,220,187,0]
["57.",{"$f":"B157","v":"ŠPULÁK"},"Jakub","8.A",194,null,"Jilemnice  26.05.21",737.19999999999993,null,196,183,0]
["58.",{"$f":"B158","v":"VALENTA"},"Tomáš","8.A",234,null,"Jilemnice  26.05.21",889.19999999999993,null,224,220,0]
["59.",{"$f":"B159","v":"VANCL"},"Jiří","8.A",203,null,"Jilemnice  26.05.21",771.4,null,182,178,0]
["60.",{"$f":"B160","v":"VAŠÍČEK"},"David","8.A",209,null,"Jilemnice  26.05.21",794.19999999999993,null,192,171,0]
["61.",{"$f":"B161","v":"ZOUHAR"},"Ondřej","8.A",207,null,"Jilemnice  26.05.21",786.59999999999991,null,193,179,0]
["62.",{"$f":"B162","v":"ZUZÁNEK"},"Filip","8.A",191,null,"Jilemnice  26.05.21",725.8,null,183,179,0]
["63.",{"$f":"B163","v":"BRUMLICH"},"Jan","9.A",0,null,0,0,null,193,197,147]
["64.",{"$f":"B164","v":"BUCHAR"},"Jiří","9.A",0,null,0,0,null,198,212,178]
["65.",{"$f":"B165","v":"FAISTAVER"},"Jiří","9.A",0,null,0,0,null,190,170,160]
["66.",{"$f":"B166","v":"FAISTAVER"},"Roman","9.A",0,null,0,0,null,251,223,184]
["67.",{"$f":"B167","v":"FAJSTAVR"},"Jakub","9.A",121,null,"Jilemnice  11.04.21",459.79999999999995,null,190,200,167]
["68.",{"$f":"B168","v":"FARSKÝ"},"Vojtěch","9.A",0,null,0,0,null,215,191,196]
["69.",{"$f":"B169","v":"HOLUBEC"},"Lukáš","9.A",0,null,0,0,null,180,168,157]
["70.",{"$f":"B170","v":"CHAROUZ"},"Vojtěch","9.A",0,null,0,0,null,194,176,169]
["71.",{"$f":"B171","v":"IACCHERI"},"Carlo","9.A",185,null,"Jilemnice  14.03.21",703,null,153,162,142]
["72.",{"$f":"B172","v":"JOHN"},"Adrian","9.A",0,null,0,0,null,0,133,123]
["73.",{"$f":"B173","v":"KRČÍK"},"Matthew","9.A",0,null,0,0,null,164,157,160]
["74.",{"$f":"B174","v":"KRESAN"},"Vojtěch","9.A",0,null,0,0,null,160,150,156]
["75.",{"$f":"B175","v":"LÁNSKÝ"},"Vojtěch","9.A",0,null,0,0,null,127,0,0]
["76.",{"$f":"B176","v":"LEŠÁK"},"Lukáš","9.A",0,null,0,0,null,160,115,120]
["77.",{"$f":"B177","v":"RYPL"},"Matyáš","9.A",0,null,0,0,null,182,194,157]
["78.",{"$f":"B178","v":"VU TRAN DINH "},"Lukas","9.A",0,null,0,0,null,195,0,0]
["79.",{"$f":"B179","v":"DUFEK"},"Matyáš","9.B",0,null,0,0,null,152,160,173]
["80.",{"$f":"B180","v":"JEŽEK"},"Jonáš","9.B",0,null,0,0,null,0,203,198]
["81.",{"$f":"B181","v":"JEŽEK"},"Mikuláš","9.B",0,null,0,0,null,216,213,201]
["82.",{"$f":"B182","v":"NECHANICKÝ"},"Michal","9.B",132,null,"Jilemnice  11.04.21",501.59999999999997,null,208,197,162]
["83.",{"$f":"B183","v":"PAULÍČEK"},"Jakub","9.B",0,null,0,0,null,0,200,187]
["84.",{"$f":"B184","v":"POHOŘALÝ"},"Jakub","9.B",0,null,0,0,null,219,202,179]
["85.",{"$f":"B185","v":"POSPÍCHAL"},"Daniel","9.B",0,null,0,0,null,231,219,198]
["86.",{"$f":"B186","v":"SOUKUP"},"Lukáš","9.B",0,null,0,0,null,196,175,173]
["87.",{"$f":"B187","v":"VANCL"},"Jan","9.B",0,null,0,0,null,227,212,188]
["88.",{"$f":"B188","v":"VANCL"},"Lukáš","9.B",0,null,0,0,null,222,210,200]
["89.",{"$f":"B189","v":"VAŠÍK"},"Jiří","9.B",0,null,0,0,null,0,172,169]
["90.",{"$f":"B190","v":"VOHNOUT"},"Zdeněk","9.B",0,null,0,0,null,252,241,211]
[]
[]
[]
[]
[]
[]
[]
[null,"BOUKAL","Jakub","6.A",null,null,null,{"$f":"IF(E101=0,0,(E101*3.8))","v":0}]
[null,"DEMČUK","Ilja","6.A",150,null,"Jilemnice  18.04.21",{"$f":"IF(E102=0,0,(E102*3.8))","v":570}]
[null,"FAISTAUER","Kryštof","6.A",165,null,"Jilemnice  04.04.21",{"$f":"IF(E103=0,0,(E103*3.8))","v":627}]
[null,"FRK","Matyáš","6.A",null,null,null,{"$f":"IF(E104=0,0,(E104*3.8))","v":0}]
[null,"HUBÁLOVSKÝ","Marek","6.A",null,null,null,{"$f":"IF(E105=0,0,(E105*3.8))","v":0}]
[null,"MAŘAS","Dominik","6.A",182,null,"Jilemnice  11.06.21",{"$f":"IF(E106=0,0,(E106*3.8))","v":691.6}]
[null,"MAŤÁTKO","Jakub","6.A",null,null,null,{"$f":"IF(E107=0,0,(E107*3.8))","v":0}]
[null,"MERY","Luboš","6.A",149,null,"Jilemnice  02.05.21",{"$f":"IF(E108=0,0,(E108*3.8))","v":566.19999999999993}]
[null,"NOVOTNÝ","Matěj","6.A",null,null,null,{"$f":"IF(E109=0,0,(E109*3.8))","v":0}]
[null,"ŘEHOŘEK","Vojtěch","6.A",146,null,"Jilemnice  21.03.21",{"$f":"IF(E110=0,0,(E110*3.8))","v":554.79999999999995}]
[null,"ŠÍR","Matyáš","6.A",158,null,"Jilemnice  21.03.21",{"$f":"IF(E111=0,0,(E111*3.8))","v":600.4}]
[null,"TORÁČ","Tomáš","6.A",null,null,null,{"$f":"IF(E112=0,0,(E112*3.8))","v":0}]
[null,"ULLMAN","Šimon","6.A",null,null,null,{"$f":"IF(E113=0,0,(E113*3.8))","v":0}]
[null,"VÁCLAVÍK","Ondřej","6.A",null,null,null,{"$f":"IF(E114=0,0,(E114*3.8))","v":0}]
[null,"AUERSWALD","Daniel","6.B",null,null,null,{"$f":"IF(E115=0,0,(E115*3.8))","v":0}]
[null,"BODLÁK","Vladimír","6.B",30,null,"Jilemnice  21.03.21",{"$f":"IF(E116=0,0,(E116*3.8))","v":114}]
[null,"BUDÍN","Martin","6.B",150,null,"Jilemnice  11.04.21",{"$f":"IF(E117=0,0,(E117*3.8))","v":570}]
[null,"DVOŘÁK","Dominik","6.B",null,null,null,{"$f":"IF(E118=0,0,(E118*3.8))","v":0}]
[null,"FIŠERA","Vojtěch","6.B",130,null,"Jilemnice  21.03.21",{"$f":"IF(E119=0,0,(E119*3.8))","v":494}]
[null,"JINDŘIŠEK","Vít","6.B",200,null,"Jilemnice  14.03.21",{"$f":"IF(E120=0,0,(E120*3.8))","v":760}]
[null,"JIROUŠ","Matouš","6.B",200,null,"Jilemnice  21.03.21",{"$f":"IF(E121=0,0,(E121*3.8))","v":760}]
[null,"KERLE","Marek","6.B",158,null,"Jilemnice  28.03.21",{"$f":"IF(E122=0,0,(E122*3.8))","v":600.4}]
[null,"LUKEŠ","Jakub","6.B",190,null,"Jilemnice  11.04.21",{"$f":"IF(E123=0,0,(E123*3.8))","v":722}]
[null,"OTT","Matyáš","6.B",null,null,null,{"$f":"IF(E124=0,0,(E124*3.8))","v":0}]
[null,"POKORNÝ","Matyáš","6.B",null,null,null,{"$f":"IF(E125=0,0,(E125*3.8))","v":0}]
[null,"POLÁČEK","Matyáš","6.B",null,null,null,{"$f":"IF(E126=0,0,(E126*3.8))","v":0}]
[null,"SOUKUP","Patrik","6.B",200,null,"Jilemnice  21.03.21",{"$f":"IF(E127=0,0,(E127*3.8))","v":760}]
[null,"VALENTA","Jakub","6.B",null,null,null,{"$f":"IF(E128=0,0,(E128*3.8))","v":0}]
[null,"VRBATA","Dominik","6.B",null,null,null,{"$f":"IF(E129=0,0,(E129*3.8))","v":0}]
[null,"FEJKL","Jan","7.A",200,null,"Jilemnice  14.03.21",{"$f":"IF(E130=0,0,(E130*3.8))","v":760},null,202]
[null,"KOTYK","Tadeáš","7.A",60,null,"Jilemnice  21.03.21",{"$f":"IF(E131=0,0,(E131*3.8))","v":228},null,180]
[null,"KRAUSE","Tadeáš","7.A",201,null,"Jilemnice  14.03.21",{"$f":"IF(E132=0,0,(E132*3.8))","v":763.8},null,185]
[null,"LEŠÁK","Martin","7.A",null,null,null,{"$f":"IF(E133=0,0,(E133*3.8))","v":0},null,148]
[null,"NECHANICKÝ","David","7.A",null,null,null,{"$f":"IF(E134=0,0,(E134*3.8))","v":0},null,195]
[null,"ŘEHOŘEK","Jan","7.A",null,null,null,{"$f":"IF(E135=0,0,(E135*3.8))","v":0},null,195]
[null,"SOUKUP","Ondřej","7.A",null,null,null,{"$f":"IF(E136=0,0,(E136*3.8))","v":0},null,172]
[null,"SPANILÝ","David","7.A",198,null,"Jilemnice  11.04.21",{"$f":"IF(E137=0,0,(E137*3.8))","v":752.4},null,197]
[null,"ČADAN","Benjamín","7.B",null,null,null,{"$f":"IF(E138=0,0,(E138*3.8))","v":0}]
[null,"ČERNÝ","Michal","7.B",null,null,null,{"$f":"IF(E139=0,0,(E139*3.8))","v":0},null,147]
[null,"DOLEJŠÍ","David","7.B",152,null,"Jilemnice  28.03.21",{"$f":"IF(E140=0,0,(E140*3.8))","v":577.6},null,123]
[null,"NOVÁK","Matěj","7.B",169,null,"Jilemnice  14.03.21",{"$f":"IF(E141=0,0,(E141*3.8))","v":642.19999999999993},null,182]
[null,"POVAŽANEC","Martin","7.B",null,null,null,{"$f":"IF(E142=0,0,(E142*3.8))","v":0},null,142]
[null,"RICHTER","Jakub","7.B",null,null,null,{"$f":"IF(E143=0,0,(E143*3.8))","v":0},null,148]
[null,"ROZUMEK","Adam","7.B",null,null,null,{"$f":"IF(E144=0,0,(E144*3.8))","v":0},null,152]
[null,"VALENTA","František","7.B",null,null,null,{"$f":"IF(E145=0,0,(E145*3.8))","v":0},null,139]
[null,"ZAPLATÍLEK","Josef","7.B",null,null,null,{"$f":"IF(E146=0,0,(E146*3.8))","v":0},null,169]
[null,"ERBEN","Viktor","8.A",164,null,"Jilemnice  11.04.21",{"$f":"IF(E147=0,0,(E147*3.8))","v":623.19999999999993},null,179,164]
[null,"FRANC","Daniel","8.A",158,null,"Jilemnice  26.05.21",{"$f":"IF(E148=0,0,(E148*3.8))","v":600.4},null,174,138]
[null,"JINDŘIŠEK","Matyáš","8.A",205,null,"Jilemnice  11.04.21",{"$f":"IF(E149=0,0,(E149*3.8))","v":779},null,190,188]
[null,"KOLAČNÝ","Štěpán","8.A",180,null,"Jilemnice  11.04.21",{"$f":"IF(E150=0,0,(E150*3.8))","v":684},null,182,170]
[null,"KRISTAN","Jáchym","8.A",116,null,"Jilemnice  26.05.21",{"$f":"IF(E151=0,0,(E151*3.8))","v":440.79999999999995},null,120,125]
[null,"NGUYEN","David","8.A",230,null,"Jilemnice  26.05.21",{"$f":"IF(E152=0,0,(E152*3.8))","v":874},null,220]
[null,"NOVOTNÝ","Jan","8.A",null,null,null,{"$f":"IF(E153=0,0,(E153*3.8))","v":0},null,192,182]
[null,"RÁB","Adam","8.A",162,null,"Jilemnice  26.05.21",{"$f":"IF(E154=0,0,(E154*3.8))","v":615.6},null,162,137]
[null,"REPASKÝ","Jakub","8.A",213,null,"Jilemnice  26.05.21",{"$f":"IF(E155=0,0,(E155*3.8))","v":809.4},null,207,180]
[null,"SKÁLA","Jan","8.A",213,null,"Jilemnice  26.05.21",{"$f":"IF(E156=0,0,(E156*3.8))","v":809.4},null,220,187]
[null,"ŠPULÁK","Jakub","8.A",194,null,"Jilemnice  26.05.21",{"$f":"IF(E157=0,0,(E157*3.8))","v":737.19999999999993},null,196,183]
[null,"VALENTA","Tomáš","8.A",234,null,"Jilemnice  26.05.21",{"$f":"IF(E158=0,0,(E158*3.8))","v":889.19999999999993},null,224,220]
[null,"VANCL","Jiří","8.A",203,null,"Jilemnice  26.05.21",{"$f":"IF(E159=0,0,(E159*3.8))","v":771.4},null,182,178]
[null,"VAŠÍČEK","David","8.A",209,null,"Jilemnice  26.05.21",{"$f":"IF(E160=0,0,(E160*3.8))","v":794.19999999999993},null,192,171]
[null,"ZOUHAR","Ondřej","8.A",207,null,"Jilemnice  26.05.21",{"$f":"IF(E161=0,0,(E161*3.8))","v":786.59999999999991},null,193,179]
[null,"ZUZÁNEK","Filip","8.A",191,null,"Jilemnice  26.05.21",{"$f":"IF(E162=0,0,(E162*3.8))","v":725.8},null,183,179]
[null,"BRUMLICH","Jan","9.A",null,null,null,{"$f":"IF(E163=0,0,(E163*3.8))","v":0},null,193,197,147]
[null,"BUCHAR","Jiří","9.A",null,null,null,{"$f":"IF(E164=0,0,(E164*3.8))","v":0},null,198,212,178]
[null,"FAISTAVER","Jiří","9.A",null,null,null,{"$f":"IF(E165=0,0,(E165*3.8))","v":0},null,190,170,160]
[null,"FAISTAVER","Roman","9.A",null,null,null,{"$f":"IF(E166=0,0,(E166*3.8))","v":0},null,251,223,184]
[null,"FAJSTAVR","Jakub","9.A",121,null,"Jilemnice  11.04.21",{"$f":"IF(E167=0,0,(E167*3.8))","v":459.79999999999995},null,190,200,167]
[null,"FARSKÝ","Vojtěch","9.A",null,null,null,{"$f":"IF(E168=0,0,(E168*3.8))","v":0},null,215,191,196]
[null,"HOLUBEC","Lukáš","9.A",null,null,null,{"$f":"IF(E169=0,0,(E169*3.8))","v":0},null,180,168,157]
[null,"CHAROUZ","Vojtěch","9.A",null,null,null,{"$f":"IF(E170=0,0,(E170*3.8))","v":0},null,194,176,169]
[null,"IACCHERI","Carlo","9.A",185,null,"Jilemnice  14.03.21",{"$f":"IF(E171=0,0,(E171*3.8))","v":703},null,153,162,142]
[null,"JOHN","Adrian","9.A",null,null,null,{"$f":"IF(E172=0,0,(E172*3.8))","v":0},null,null,133,123]
[null,"KRČÍK","Matthew","9.A",null,null,null,{"$f":"IF(E173=0,0,(E173*3.8))","v":0},null,164,157,160]
[null,"KRESAN","Vojtěch","9.A",null,null,null,{"$f":"IF(E174=0,0,(E174*3.8))","v":0},null,160,150,156]
[null,"LÁNSKÝ","Vojtěch","9.A",null,null,null,{"$f":"IF(E175=0,0,(E175*3.8))","v":0},null,127]
[null,"LEŠÁK","Lukáš","9.A",null,null,null,{"$f":"IF(E176=0,0,(E176*3.8))","v":0},null,160,115,120]
[null,"RYPL","Matyáš","9.A",null,null,null,{"$f":"IF(E177=0,0,(E177*3.8))","v":0},null,182,194,157]
[null,"VU TRAN DINH ","Lukas","9.A",null,null,null,{"$f":"IF(E178=0,0,(E178*3.8))","v":0},null,195]
[null,"DUFEK","Matyáš","9.B",null,null,null,{"$f":"IF(E179=0,0,(E179*3.8))","v":0},null,152,160,173]
[null,"JEŽEK","Jonáš","9.B",null,null,null,{"$f":"IF(E180=0,0,(E180*3.8))","v":0},null,null,203,198]
[null,"JEŽEK","Mikuláš","9.B",null,null,null,{"$f":"IF(E181=0,0,(E181*3.8))","v":0},null,216,213,201]
[null,"NECHANICKÝ","Michal","9.B",132,null,"Jilemnice  11.04.21",{"$f":"IF(E182=0,0,(E182*3.8))","v":501.59999999999997},null,208,197,162]
[null,"PAULÍČEK","Jakub","9.B",null,null,null,{"$f":"IF(E183=0,0,(E183*3.8))","v":0},null,null,200,187]
[null,"POHOŘALÝ","Jakub","9.B",null,null,null,{"$f":"IF(E184=0,0,(E184*3.8))","v":0},null,219,202,179]
[null,"POSPÍCHAL","Daniel","9.B",null,null,null,{"$f":"IF(E185=0,0,(E185*3.8))","v":0},null,231,219,198]
[null,"SOUKUP","Lukáš","9.B",null,null,null,{"$f":"IF(E186=0,0,(E186*3.8))","v":0},null,196,175,173]
[null,"VANCL","Jan","9.B",null,null,null,{"$f":"IF(E187=0,0,(E187*3.8))","v":0},null,227,212,188]
[null,"VANCL","Lukáš","9.B",null,null,null,{"$f":"IF(E188=0,0,(E188*3.8))","v":0},null,222,210,200]
[null,"VAŠÍK","Jiří","9.B",null,null,null,{"$f":"IF(E189=0,0,(E189*3.8))","v":0},null,null,172,169]
[null,"VOHNOUT","Zdeněk","9.B",null,null,null,{"$f":"IF(E190=0,0,(E190*3.8))","v":0},null,252,241,211]

{"sheet":"REPRE","index":23,"n_rows":93,"n_cols":22,"rows_kept":93,"cut":false,"hidden":false,"merged":[]}
[]
[null,null,null,null,null,"OF","OF","OF ","OKRSEK",null,"OF","KF","okrsek","OF","OF","of BASK "," KF","OF","JIL ","OF ","štaf","DOH"]
[null,null,null,null,"CELKEM","4boj","přespole","PLAV","FLORB","   ŠTAF","FLORB","PLAV","kopaná","fotbal","and 1","8.-9.","bask","VOLEJ","laťka","PoRo"]
[null,"BOUKAL","Jakub","6.A",{"$f":"SUM(F4:V4)","v":0}]
[null,"DEMČUK","Ilja","6.A",0]
[null,"FAISTAUER","Kryštof","6.A",0]
[null,"FRK","Matyáš","6.A",0]
[null,"HUBÁLOVSKÝ","Marek","6.A",0]
[null,"MAŘAS","Dominik","6.A",0]
[null,"MAŤÁTKO","Jakub","6.A",0]
[null,"MERY","Luboš","6.A",0]
[null,"NOVOTNÝ","Matěj","6.A",0]
[null,"ŘEHOŘEK","Vojtěch","6.A",0]
[null,"ŠÍR","Matyáš","6.A",0]
[null,"TORÁČ","Tomáš","6.A",0]
[null,"ULLMAN","Šimon","6.A",0]
[null,"VÁCLAVÍK","Ondřej","6.A",0]
[null,"AUERSWALD","Daniel","6.B",0]
[null,"BODLÁK","Vladimír","6.B",{"$f":"SUM(F19:V19)","v":0}]
[null,"BUDÍN","Martin","6.B",0]
[null,"DVOŘÁK","Dominik","6.B",0]
[null,"FIŠERA","Vojtěch","6.B",0]
[null,"JINDŘIŠEK","Vít","6.B",0]
[null,"JIROUŠ","Matouš","6.B",0]
[null,"KERLE","Marek","6.B",0]
[null,"LUKEŠ","Jakub","6.B",0]
[null,"OTT","Matyáš","6.B",0]
[null,"POKORNÝ","Matyáš","6.B",0]
[null,"POLÁČEK","Matyáš","6.B",0]
[null,"SOUKUP","Patrik","6.B",0]
[null,"VALENTA","Jakub","6.B",0]
[null,"VRBATA","Dominik","6.B",0]
[null,"FEJKL","Jan","7.A",0]
[null,"KOTYK","Tadeáš","7.A",0]
[null,"KRAUSE","Tadeáš","7.A",0]
[null,"LEŠÁK","Martin","7.A",0]
[null,"NECHANICKÝ","David","7.A",0]
[null,"ŘEHOŘEK","Jan","7.A",0]
[null,"SOUKUP","Ondřej","7.A",{"$f":"SUM(F39:V39)","v":0}]
[null,"SPANILÝ","David","7.A",0]
[null,"ČADAN","Benjamín","7.B",0]
[null,"ČERNÝ","Michal","7.B",0]
[null,"DOLEJŠÍ","David","7.B",0]
[null,"NOVÁK","Matěj","7.B",0]
[null,"POVAŽANEC","Martin","7.B",0]
[null,"RICHTER","Jakub","7.B",0]
[null,"ROZUMEK","Adam","7.B",0]
[null,"VALENTA","František","7.B",0]
[null,"ZAPLATÍLEK","Josef","7.B",0]
[null,"ERBEN","Viktor","8.A",0]
[null,"FRANC","Daniel","8.A",0]
[null,"JINDŘIŠEK","Matyáš","8.A",0]
[null,"KOLAČNÝ","Štěpán","8.A",0]
[null,"KRISTAN","Jáchym","8.A",0]
[null,"NGUYEN","David","8.A",0]
[null,"NOVOTNÝ","Jan","8.A",0]
[null,"RÁB","Adam","8.A",0]
[null,"REPASKÝ","Jakub","8.A",0]
[null,"SKÁLA","Jan","8.A",0]
[null,"ŠPULÁK","Jakub","8.A",0]
[null,"VALENTA","Tomáš","8.A",0]
[null,"VANCL","Jiří","8.A",0]
[null,"VAŠÍČEK","David","8.A",0]
[null,"ZOUHAR","Ondřej","8.A",0]
[null,"ZUZÁNEK","Filip","8.A",0]
[null,"BRUMLICH","Jan","9.A",0]
[null,"BUCHAR","Jiří","9.A",{"$f":"SUM(F67:V67)","v":0}]
[null,"FAISTAVER","Jiří","9.A",0]
[null,"FAISTAVER","Roman","9.A",0]
[null,"FAJSTAVR","Jakub","9.A",0]
[null,"FARSKÝ","Vojtěch","9.A",0]
[null,"HOLUBEC","Lukáš","9.A",0]
[null,"CHAROUZ","Vojtěch","9.A",0]
[null,"IACCHERI","Carlo","9.A",0]
[null,"JOHN","Adrian","9.A",0]
[null,"KRČÍK","Matthew","9.A",0]
[null,"KRESAN","Vojtěch","9.A",0]
[null,"LÁNSKÝ","Vojtěch","9.A",0]
[null,"LEŠÁK","Lukáš","9.A",0]
[null,"RYPL","Matyáš","9.A",0]
[null,"VU TRAN DINH ","Lukas","9.A",{"$f":"SUM(F81:V81)","v":0}]
[null,"DUFEK","Matyáš","9.B",{"$f":"SUM(F82:V82)","v":0}]
[null,"JEŽEK","Jonáš","9.B",{"$f":"SUM(F83:V83)","v":0}]
[null,"JEŽEK","Mikuláš","9.B"]
[null,"NECHANICKÝ","Michal","9.B"]
[null,"PAULÍČEK","Jakub","9.B"]
[null,"POHOŘALÝ","Jakub","9.B"]
[null,"POSPÍCHAL","Daniel","9.B"]
[null,"SOUKUP","Lukáš","9.B"]
[null,"VANCL","Jan","9.B"]
[null,"VANCL","Lukáš","9.B"]
[null,"VAŠÍK","Jiří","9.B"]
[null,"VOHNOUT","Zdeněk","9.B"]

{"sheet":"rekordy","index":24,"n_rows":44,"n_cols":15,"rows_kept":44,"cut":false,"hidden":false,"merged":[]}
[null,null,null,null,null,"REKORDY SPORTOVCE ŠKOLY"]
[null,null,null,"6.  ročník",null,null,null,null,null,null,"7.  ročník"]
[null,null,null,null,null,null,null,{"$f":"TODAY()","v":"2021-06-28"},null,null,null,null,null,null,{"$f":"TODAY()","v":"2021-06-28"}]
["   60  m",null,null,"HRUBÝ","Jakub",8.3000000000000007,null,"Turnov   29.05.08",null,"   60  m","ŠIMŮNEK","Patrik",7.67,null,"Turnov   21.06.11"]
[" 300  m",null,null,"POKORNÝ","Matyáš","00:00:48.870",null,"Jilemnice  23.06.21",null," 300  m","SVOBODA","David","00:00:42.580",null,"Jilemnice  17.06.09"]
["1000  m",null,null,"ŠMÍD","Tomáš","00:03:27.330",null,"Turnov  13.05.15",null,"1000  m","SVOBODA","David","00:03:12",null,"Jilemnice  18.05.09"]
["dálka",null,null,"HRUBÝ","Jakub",443,null,"Jilemnice  02.06.08",null,"dálka","HRUBÝ","Jakub",536,null,"Jilemnice  08.06.09"]
["výška",null,null,"HRUBÝ","Jakub",145,null,"Turnov   13.05.08",null,"výška","HRUBÝ","Jakub",160,null,"Turnov   16.06.09"]
["míček",null,null,"RYCHLOVSKÝ","David",56.69,null,"Turnov   13.6.17",null,"míček","KVARDA","Adam",58.5,null,"Turnov   10.05.07"]
[null,null,null,null,null,null,null,null,null,null,"CEJNAR","Daniel",58.5,null,"Jilemnice  18.05.16"]
["koule  3",null,null,"ŠMÍD","Tomáš",9.1,null,"Jilemnice  29.04.15",null,"koule  3","VANCL","Dominik",11.68,null,"Jilemnice  27.04.11"]
["oštěp",null,null,null,null,null,null,null,null,"oštěp","LUKEŠ","Martin",27,null,"Jilemnice  18.05.15"]
["člunk. běh",null,null,"ČIBIK","Tomáš",9.76,null,"Jilemnice  08.06.12",null,"člunk. běh","ŠIMŮNEK","Patrik",9.64,null,"Jilemnice  30.05.11"]
["lehsedy",null,null,"PACLÍK","Matěj",58,null,"Jilemnice  20.01.12",null,"lehsedy","TOYA","Thomas",63,null,"Jilemnice  08.04.13"]
["odbíjení",null,null,"RYPL","Martin",1020,null,"Jilemnice  10.05.10",null,"odbíjení","SVOBODA","David",470,null,"Jilemnice  19.06.09"]
[null,null,null,"SEDLÁČEK","Pavel",1020,null,"Jilemnice  10.05.10"]
["plavání 25 m",null,null,"GABRIEL","Lukáš",14.59,null,"Jilemnice  10.03.10",null,"plavání 25 m","GABRIEL","Lukáš",14.15,null,"Jilemnice  21.12.11"]
["shyby",null,null,"HRUBÝ","Daniel",8,null,"Jilemnice  22.03.17",null,"shyby","JEŽEK ","Jonáš",12,null,"Jilemnice  04.06.19"]
["šplh",null,null,"GRZEŠ","Vojtěch",4.38,null,"Jilemnice  18.04.13",null,"šplh","HRUBÝ","Jakub",3.31,null,"Jilemnice  26.11.08"]
["švihadlo",null,null,"KOLDA","Vojtěch",162,null,"Jilemnice  19.10.15",null,"švihadlo","KOLDA","Vojtěch",180,null,"Jilemnice  17.02.17"]
["z místa",null,null,"ŠMÍD","Tomáš",240,null,"Jilemnice  03.06.15",null,"z místa","HRUBÝ","Jakub",258,null,"Jilemnice  15.06.09"]
["REKORDY SPORTOVCE ŠKOLY",null,null,null,null,null,null,"8.  ročník",null,"REKORDY SPORTOVCE ŠKOLY",null,null,null,null,"9.  ročník"]
[null,null,null,null,null,null,null,{"$f":"TODAY()","v":"2021-06-28"},null,null,null,null,null,null,{"$f":"TODAY()","v":"2021-06-28"}]
["   60  m",null,null,"JINDŘIŠEK","Jakub",7.5,null,"Turnov   15.05.13",null,"   60  m","PLECHÁČ","Michal",7.3,null,"Turnov   13.05.08"]
[" 300  m",null,null,"ŠIMŮNEK","Patrik","00:00:41.650",null,"Turnov   19.06.12",null," 300  m","SVOBODA","David","00:00:39.600",null,"Turnov   21.06.11"]
["1000  m",null,null,"MIKOLÁŠEK","Petr","00:03:16",null,"Turnov   10.05.12",null,"1000  m","GOTTSTEIN","Jonáš","00:02:59.200",null,"Jilemnice  3.4.17"]
["dálka",null,null,"SVOBODA","David",547,null,"Jilemnice  29.04.10",null,"dálka","SVOBODA","David",559,null,"Jilemnice  09.05.11"]
["výška",null,null,"FLÉGL","Adam",152,null,"Turnov    29.05.07",null,"výška","FLÉGL","Adam",174,null,"Turnov   05.06.08"]
[null,null,null,"ČIBIK","Tomáš",152,null,"Turnov    29.05.14"]
["míček",null,null,"CEJNAR","Daniel",77.45,null,"Turnov  13.6.17",null,"míček","FLÉGL","Adam",74.69,null,"Jilemnice  17.09.07"]
[]
["koule  3",null,null,"MACHEK","Dominik",12.71,null,"Jilemnice  27.05.10",null,"koule  3","MACHEK","Dominik",14.29,null,"Jilemnice  06.06.11"]
["oštěp",null,null,"LUKEŠ","Martin",33,null,"Jilemnice  25.05.16",null,"oštěp","CEJNAR","Daniel",45,null,"Jilemnice  24.05.18"]
["člunk. běh",null,null,"DOHNAL","Martin",9.17,null,"Jilemnice  15.06.09",null,"člunk. běh","ZUZÁNEK","Vladimír",8.9499999999999993,null,"Jilemnice  12.03.15"]
["lehsedy",null,null,"TOYA","Thomas",72,null,"Jilemnice  14.04.14",null,"lehsedy","TOYA","Thomas",72,null,"Jilemnice  15.03.15 "]
["odbíjení",null,null,"RYPL","Martin",1201,null,"Jilemnice  25.04.12",null,"odbíjení","CEJNAR","Daniel",1822,null,"Jilemnice  29.01.18"]
[null,null,null,"SEDLÁČEK","Pavel",1201,null,"Jilemnice  25.04.12",null,null,"HAASE  ","Samuel",1822,null,"Jilemnice  29.01.18"]
["plavání 25 m",null,null,"GABRIEL","Lukáš",13.7,null,"Jilemnice  21.12.11",null,"plavání 25 m","GABRIEL","Lukáš",13.29,null,"Jilemnice  19.15.12"]
["shyby",null,null,"SCHILLING","Tomáš",26,null,"Jilemnice  25.05.17",null,"shyby","SCHILLING","Tomáš",30,null,"Jilemnice  11.05.18"]
["šplh",null,null,"VALIŠKA","Jan",2.8,null,"Jilemnice  08.03.10",null,"šplh","HARTIG","Aleš",2.64,null,"Jilemnice  25.04.16"]
["švihadlo",null,null,"KUDRNÁČ","Jakub",195,null,"Jilemnice  29.01.18",null,"švihadlo","KOLDA","Vojtěch",210,null,"Jilemnice  06.05.19"]
["z místa",null,null,"SVOBODA","David",252,null,"Jilemnice  01.03.10",null,"z místa","HONCŮ","Tomáš",263,null,"Jilemnice  11.11.11"]
[null,null,null,"HRUBÝ","Patrik",252,null,"Jilemnice  10.05.19"]
[null,null,null,"VOHNOUT","Zdeněk",252,null,"Jilemnice  06.02.20"]

{"sheet":"Dvýk","index":25,"n_rows":0,"n_cols":0,"rows_kept":0,"cut":false,"hidden":false,"merged":[]}

{"sheet":"D60","index":26,"n_rows":191,"n_cols":12,"rows_kept":191,"cut":false,"hidden":false,"merged":[]}
[null,null,"VÝKONY  2020 - 2021",null,null,null,"60  M",null,"DĚVČATA  6. -  9.  ROČ."]
[null,null,null,null,null,null,null,null,null,null,"stav  k ",{"$f":"TODAY()","v":"2021-06-28"}]
[null,null,null,null,null,null,null,"   BODY",null,"   19 - 20   ","   18 - 19   ","   17 - 18   "]
[]
["1.",{"$f":"B101","v":"ERBENOVÁ"},{"$f":"C101","v":"Sára"},"6.A",11.58,null,"Jilemnice  16.09.20",645.31395527950497,null,0,0,0]
["2. ",{"$f":"B102","v":"HOFMANOVÁ "},"Nicol","6.A",11.92,null,"Jilemnice  16.09.20",625.22731742197993,null,0,0,0]
["3. ","HOLEŠOVSKÁ","Aneta","6.A",0,null,0,0,null,0,0,0]
["4.","HOLUBCOVÁ","Alena","6.A",0,null,0,0,null,0,0,0]
["5.","KOHOUTOVÁ","Anna","6.A",13.25,null,"Jilemnice  16.09.20",556.5564307851572,null,0,0,0]
["6.","KRAUSOVÁ","Anežka","6.A",11.74,null,"Jilemnice  16.09.20",635.71649167546843,null,0,0,0]
["7.","KUŽELOVÁ","Apoléna","6.A",0,null,0,0,null,0,0,0]
["8.","MORÁVKOVÁ","Lucie","6.A",0,null,0,0,null,0,0,0]
["9.","SKLENÁROVÁ","Eliška","6.A",0,null,0,0,null,0,0,0]
["10.","ŠTOLFOVÁ","Tereza","6.A",10.82,null,"Jilemnice  16.09.20",694.7781473200863,null,0,0,0]
["11.","ŠUBÍKOVÁ","Klára","6.A",0,null,0,0,null,0,0,0]
["12.","TULÁČKOVÁ","Natálie","6.A",0,null,0,0,null,0,0,0]
["13.","VOJTÍŠKOVÁ","Ella","6.A",0,null,0,0,null,0,0,0]
["14.","DRUGÁČOVÁ","Kristinka","6.B",0,null,0,0,null,0,0,0]
["15.","FAJSTAVROVÁ","Karolína","6.B",0,null,0,0,null,0,0,0]
["16.","FAJSTAVROVÁ","Magdaléna","6.B",0,null,0,0,null,0,0,0]
["17.","HLAVATÁ","Anna","6.B",0,null,0,0,null,0,0,0]
["18.",{"$f":"B118","v":"JINDROVÁ"},"Barbora","6.B",0,null,0,0,null,0,0,0]
["19.","MAŘASOVÁ","Vendula","6.B",0,null,0,0,null,0,0,0]
["20.","PETŘÍČKOVÁ","Natálie","6.B",0,null,0,0,null,0,0,0]
["21.","PETŘÍKOVÁ","Adéla","6.B",12.38,null,"Jilemnice  16.09.20",599.80740329590731,null,0,0,0]
["22.","REGÁLOVÁ","Karolína","6.B",0,null,0,0,null,0,0,0]
["23.","RIEGROVÁ","Magdaléna","6.B",0,null,0,0,null,0,0,0]
["24.","RYBENSKÁ","Sabina","6.B",0,null,0,0,null,0,0,0]
["25.","STEINEROVÁ","Barbora","6.B",0,null,0,0,null,0,0,0]
["26.","TOMEŠOVÁ","Barbora","6.B",0,null,0,0,null,0,0,0]
["27.","VOHNOUTOVÁ","Aneta","6.B",0,null,0,0,null,0,0,0]
["28.","HAVLÍKOVÁ","Michaela","7.A",11.75,null,"Jilemnice  18.09.20",635.12532875773047,null,12.24,0,0]
["29.","HOLUBCOVÁ","Sára","7.A",9.58,null,"Jilemnice  18.09.20",792.33146925574101,null,9.9600000000000009,0,0]
["30.","HONCŮ","Tereza","7.A",11.17,null,"Jilemnice  18.09.20",671.16245086571166,null,0,0,0]
["31.","HORÁČKOVÁ","Kateřina","7.A",9.59,null,"Jilemnice  18.09.20",791.44384526624958,null,9.91,0,0]
["32.","JOUDALOVÁ","Daniela","7.A",0,null,0,0,null,13.96,0,0]
["33.","KLÍMOVÁ","Anna","7.A",10.81,null,"Jilemnice  18.09.20",695.47535183811272,null,11.09,0,0]
["34.",{"$f":"B134","v":"KOHOUTOVÁ"},"Veronika","7.A",0,null,0,0,null,9.9600000000000009,0,0]
["35.","KOVÁŘOVÁ","Viktorie","7.A",10.62,null,"Jilemnice  18.09.20",708.97170822379167,null,11.22,0,0]
["36.","KYNČLOVÁ","Anna","7.A",9.5,null,"Jilemnice  18.09.20",799.49973372666659,null,10.51,0,0]
["37.","MATOUŠOVÁ","Tereza","7.A",10.81,null,"Jilemnice  18.09.20",695.47535183811272,null,11.37,0,0]
["38.","MAZÁNKOVÁ","Zuzana","7.A",10.26,null,"Jilemnice  18.09.20",735.91457295679004,null,11.5,0,0]
["39.","MORKESOVÁ","Sabrina","7.A",0,null,0,0,null,9.39,0,0]
["40.","POHOŘALÁ","Alžběta","7.A",9.5,null,"Jilemnice  18.09.20",799.49973372666659,null,10.59,0,0]
["41.","SCHOLZOVÁ","Laura","7.A",11.29,null,"Jilemnice  18.09.20",663.40270892559784,null,0,0,0]
["42.","VÁCLAVÍKOVÁ","Valerie","7.A",9.42,null,"Jilemnice  18.09.20",806.78975215888181,null,10.34,0,0]
["43.","ZAPADLOVÁ","Emma","7.A",9.52,null,"Jilemnice  18.09.20",797.69637307457981,null,0,0,0]
["44.","ŽIŠKOVÁ","Mia","7.A",9.58,null,"Jilemnice  18.09.20",792.33146925574101,null,10.58,0,0]
["45.","FARSKÁ","Tereza","7.B",0,null,0,0,null,11.73,0,0]
["46.","FEIXOVÁ","Rozálie","7.B",0,null,0,0,null,12.86,0,0]
["47.","FIŠEROVÁ","Michaela","7.B",0,null,0,0,null,11.71,0,0]
["48.","HAVLÍČKOVÁ","Kristýna","7.B",0,null,0,0,null,12.86,0,0]
["49.","JODASOVÁ","Nikola","7.B",0,null,0,0,null,10.37,0,0]
["50.",{"$f":"B150","v":"KADAVÁ"},"Nikola","7.B",0,null,0,0,null,12.41,0,0]
["51.","KRAFKOVÁ","Lucie","7.B",0,null,0,0,null,0,0,0]
["52.","KŘIVINKOVÁ","Alžběta","7.B",0,null,0,0,null,0,0,0]
["53.","LEŠÁKOVÁ","Lenka","7.B",0,null,0,0,null,12.92,0,0]
["54.","NYKLÍČKOVÁ","Adéla","7.B",0,null,0,0,null,10,0,0]
["55.","PLŮCHOVÁ","Petra","7.B",0,null,0,0,null,11.32,0,0]
["56.","PODZIMKOVÁ","Eliška","7.B",0,null,0,0,null,12.09,0,0]
["57.","RUTKAYOVÁ","Klára","7.B",0,null,0,0,null,0,0,0]
["58.","SEIDLOVÁ","Zuzana","7.B",0,null,0,0,null,0,0,0]
["59.","TOMÁŠOVÁ","Sára","7.B",0,null,0,0,null,12.51,0,0]
["60.","VANCLOVÁ","Barbora","7.B",0,null,0,0,null,0,0,0]
["61.","VOTOČKOVÁ","Veronika","7.B",0,null,0,0,null,13.86,0,0]
["62.","HARTIGOVÁ","Anna","8.A",10.7,null,"Jilemnice  16.09.20",703.23061181339574,null,10.5,13.01,0]
["63.","HONCŮ","Rozálie","8.A",9.18,null,"Jilemnice  16.09.20",829.42216232425562,null,9.34,9.91,0]
["64.","CHALOUPSKÁ","Lucie","8.A",0,null,0,0,null,9.1199999999999992,9.9499999999999993,0]
["65.","KŘÍŽKOVÁ","Anna","8.A",10.8,null,"Jilemnice  16.09.20",696.17384747561709,null,11.23,11.61,0]
["66.",{"$f":"B166","v":"LUKEŠOVÁ"},"Kristýna","8.A",0,null,0,0,null,10.65,11.73,0]
["67.","MOTLÍKOVÁ","Eliška","8.A",10.45,null,"Jilemnice  16.09.20",721.46340005454545,null,10.77,11.39,0]
["68.","POHOŘELÁ","Amálie","8.A",9.2799999999999994,null,"Jilemnice  16.09.20",819.84972591271548,null,10.23,10.33,0]
["69.","POLÁČKOVÁ","Natálie","8.A",0,null,0,0,null,12.7,13.16,0]
["70.","ŘEHOŘKOVÁ","Lucie","8.A",10.38,null,"Jilemnice  16.09.20",726.72596590912008,null,10.4,11.62,0]
["71.","SKÁLOVÁ","Alena","8.A",11.43,null,"Jilemnice  16.09.20",654.55560740478279,null,12.9,12.88,0]
["72.","VÁVROVÁ ","Aneta","8.A",9.7200000000000006,null,"Jilemnice  16.09.20",780.07093460253748,null,9.6999999999999993,10.59,0]
["73.","ZELINKOVÁ","Klára","8.A",9.7100000000000009,null,"Jilemnice  16.09.20",780.93496227634739,null,10.4,10.92,0]
["74.","JUNGOVÁ ","Lucie","9.A",9.18,null,"Jilemnice  16.09.20",829.42216232425562,null,9.61,9.1999999999999993,9.6999999999999993]
["75.","KŘIVÁNKOVÁ ","Linda","9.A",10.7,null,"Jilemnice  16.09.20",703.23061181339574,null,10.89,0,11.5]
["76.","KUBÁTOVÁ","Lucie","9.A",10.38,null,"Jilemnice  16.09.20",726.72596590912008,null,0,10.56,10.86]
["77.","ŠIMŮNKOVÁ ","Nikola","9.A",10.69,null,"Jilemnice  16.09.20",703.94354965107573,null,11.24,11.86,11.24]
["78.","ŠMÍDOVÁ","Kristýna","9.A",12.5,null,"Jilemnice  16.09.20",593.48381283226661,null,11.52,0,13.52]
["79.","VOTOČKOVÁ ","Nikola","9.A",8.9,null,"Jilemnice  16.09.20",857.36937442734074,null,9.48,9.6,9.84]
["80.","VYHLASOVÁ","Lenka","9.A",12.5,null,"Jilemnice  16.09.20",593.48381283226661,null,13.17,0,13.6]
["81.","BÖHMOVÁ","Diana","9.B",10.16,null,"Jilemnice  16.09.20",743.73755041371385,null,0,10.61,10.76]
["82.",{"$f":"B182","v":"HOUDOVÁ"},"Tereza","9.B",10.08,null,"Jilemnice  16.09.20",750.10768920006615,null,10.68,10.96,10.86]
["83.","JANÍKOVÁ","Kristýna","9.B",9.18,null,"Jilemnice  16.09.20",829.42216232425562,null,9.56,0,0]
["84.","KUŽELOVÁ","Ela","9.B",9.52,null,"Jilemnice  16.09.20",797.69637307457981,null,9.65,9.7799999999999994,10.19]
["85.","MATERNOVÁ","Lucie","9.B",9.8699999999999992,null,"Jilemnice  16.09.20",767.32061740999654,null,0,10.67,11.69]
["86.","OPOČENSKÁ","Matylda","9.B",0,null,0,0,null,0,11.65,11.29]
["87.","PIŠTOROVÁ","Karolína","9.B",9.6300000000000008,null,"Jilemnice  16.09.20",787.91178386673573,null,9.65,9.9,9.9499999999999993]
["88.","POKORNÝ","Anna","9.B",0,null,0,0,null,0,10.47,11.31]
["89.","SUCHÁNKOVÁ","Michaela","9.B",12.63,null,"Jilemnice  16.09.20",586.76885737424118,null,13.9,13.28,13.23]
["90.",{"$f":"B190","v":"ŠUBÍKOVÁ "},"Štěpánka","9.B",9.7799999999999994,null,"Jilemnice  16.09.20",774.92387404260398,null,10.36,10.74,11.24]
["91.",{"$f":"B191","v":"VANCLOVÁ"},{"$f":"C191","v":"Pavlína"},{"$f":"D191","v":"9.B"},{"$f":"E191","v":0},null,{"$f":"G191","v":0},{"$f":"H191","v":0},null,{"$f":"J191","v":10.16},{"$f":"K191","v":10.84},{"$f":"L191","v":10.47}]
[]
[]
[]
[]
[]
[null,"ERBENOVÁ","Sára","6.A",11.58,null,"Jilemnice  16.09.20",{"$f":"IF(E101=0,0,IF(E101>0,((1000 - 321 / E101 + 340 / E101*2 - 16600 / E101*3 + 32190000000 / E101*4)/15000000-62)*0.95))","v":645.31395527950497}]
[null,"HOFMANOVÁ ","Nicol","6.A",11.92,null,"Jilemnice  16.09.20",625.22731742197993]
[null,"HOLEŠOVSKÁ","Aneta","6.A",null,null,null,0]
[null,"HOLUBCOVÁ","Alena","6.A",null,null,null,0]
[null,"KOHOUTOVÁ","Anna","6.A",13.25,null,"Jilemnice  16.09.20",556.5564307851572]
[null,"KRAUSOVÁ","Anežka","6.A",11.74,null,"Jilemnice  16.09.20",635.71649167546843]
[null,"KUŽELOVÁ","Apoléna","6.A",null,null,null,0]
[null,"MORÁVKOVÁ","Lucie","6.A",null,null,null,0]
[null,"SKLENÁROVÁ","Eliška","6.A",null,null,null,0]
[null,"ŠTOLFOVÁ","Tereza","6.A",10.82,null,"Jilemnice  16.09.20",694.7781473200863]
[null,"ŠUBÍKOVÁ","Klára","6.A",null,null,null,0]
[null,"TULÁČKOVÁ","Natálie","6.A",null,null,null,0]
[null,"VOJTÍŠKOVÁ","Ella","6.A",null,null,null,0]
[null,"DRUGÁČOVÁ","Kristinka","6.B",null,null,null,0]
[null,"FAJSTAVROVÁ","Karolína","6.B",null,null,null,0]
[null,"FAJSTAVROVÁ","Magdaléna","6.B",null,null,null,0]
[null,"HLAVATÁ","Anna","6.B",null,null,null,0]
[null,"JINDROVÁ","Barbora","6.B",null,null,null,0]
[null,"MAŘASOVÁ","Vendula","6.B",null,null,null,0]
[null,"PETŘÍČKOVÁ","Natálie","6.B",null,null,null,0]
[null,"PETŘÍKOVÁ","Adéla","6.B",12.38,null,"Jilemnice  16.09.20",599.80740329590731]
[null,"REGÁLOVÁ","Karolína","6.B",null,null,null,0]
[null,"RIEGROVÁ","Magdaléna","6.B",null,null,null,0]
[null,"RYBENSKÁ","Sabina","6.B",null,null,null,0]
[null,"STEINEROVÁ","Barbora","6.B",null,null,null,0]
[null,"TOMEŠOVÁ","Barbora","6.B",null,null,null,0]
[null,"VOHNOUTOVÁ","Aneta","6.B",null,null,null,0]
[null,"HAVLÍKOVÁ","Michaela","7.A",11.75,null,"Jilemnice  18.09.20",635.12532875773047,null,12.24]
[null,"HOLUBCOVÁ","Sára","7.A",9.58,null,"Jilemnice  18.09.20",792.33146925574101,null,9.9600000000000009]
[null,"HONCŮ","Tereza","7.A",11.17,null,"Jilemnice  18.09.20",671.16245086571166]
[null,"HORÁČKOVÁ","Kateřina","7.A",9.59,null,"Jilemnice  18.09.20",791.44384526624958,null,9.91]
[null,"JOUDALOVÁ","Daniela","7.A",null,null,null,0,null,13.96]
[null,"KLÍMOVÁ","Anna","7.A",10.81,null,"Jilemnice  18.09.20",{"$f":"IF(E133=0,0,IF(E133>0,((1000 - 321 / E133 + 340 / E133*2 - 16600 / E133*3 + 32190000000 / E133*4)/15000000-62)*0.95))","v":695.47535183811272},null,11.09]
[null,"KOHOUTOVÁ","Veronika","7.A",null,null,null,0,null,9.9600000000000009]
[null,"KOVÁŘOVÁ","Viktorie","7.A",10.62,null,"Jilemnice  18.09.20",708.97170822379167,null,11.22]
[null,"KYNČLOVÁ","Anna","7.A",9.5,null,"Jilemnice  18.09.20",799.49973372666659,null,10.51]
[null,"MATOUŠOVÁ","Tereza","7.A",10.81,null,"Jilemnice  18.09.20",695.47535183811272,null,11.37]
[null,"MAZÁNKOVÁ","Zuzana","7.A",10.26,null,"Jilemnice  18.09.20",735.91457295679004,null,11.5]
[null,"MORKESOVÁ","Sabrina","7.A",null,null,null,0,null,9.39]
[null,"POHOŘALÁ","Alžběta","7.A",9.5,null,"Jilemnice  18.09.20",799.49973372666659,null,10.59]
[null,"SCHOLZOVÁ","Laura","7.A",11.29,null,"Jilemnice  18.09.20",663.40270892559784]
[null,"VÁCLAVÍKOVÁ","Valerie","7.A",9.42,null,"Jilemnice  18.09.20",806.78975215888181,null,10.34]
[null,"ZAPADLOVÁ","Emma","7.A",9.52,null,"Jilemnice  18.09.20",797.69637307457981]
[null,"ŽIŠKOVÁ","Mia","7.A",9.58,null,"Jilemnice  18.09.20",792.33146925574101,null,10.58]
[null,"FARSKÁ","Tereza","7.B",null,null,null,0,null,11.73]
[null,"FEIXOVÁ","Rozálie","7.B",null,null,null,0,null,12.86]
[null,"FIŠEROVÁ","Michaela","7.B",null,null,null,0,null,11.71]
[null,"HAVLÍČKOVÁ","Kristýna","7.B",null,null,null,0,null,12.86]
[null,"JODASOVÁ","Nikola","7.B",null,null,null,0,null,10.37]
[null,"KADAVÁ","Nikola","7.B",null,null,null,0,null,12.41]
[null,"KRAFKOVÁ","Lucie","7.B",null,null,null,0]
[null,"KŘIVINKOVÁ","Alžběta","7.B",null,null,null,0]
[null,"LEŠÁKOVÁ","Lenka","7.B",null,null,null,0,null,12.92]
[null,"NYKLÍČKOVÁ","Adéla","7.B",null,null,null,0,null,10]
[null,"PLŮCHOVÁ","Petra","7.B",null,null,null,0,null,11.32]
[null,"PODZIMKOVÁ","Eliška","7.B",null,null,null,0,null,12.09]
[null,"RUTKAYOVÁ","Klára","7.B",null,null,null,0]
[null,"SEIDLOVÁ","Zuzana","7.B",null,null,null,0]
[null,"TOMÁŠOVÁ","Sára","7.B",null,null,null,0,null,12.51]
[null,"VANCLOVÁ","Barbora","7.B",null,null,null,0]
[null,"VOTOČKOVÁ","Veronika","7.B",null,null,null,0,null,13.86]
[null,"HARTIGOVÁ","Anna","8.A",10.7,null,"Jilemnice  16.09.20",703.23061181339574,null,10.5,13.01]
[null,"HONCŮ","Rozálie","8.A",9.18,null,"Jilemnice  16.09.20",829.42216232425562,null,9.34,9.91]
[null,"CHALOUPSKÁ","Lucie","8.A",null,null,null,0,null,9.1199999999999992,9.9499999999999993]
[null,"KŘÍŽKOVÁ","Anna","8.A",10.8,null,"Jilemnice  16.09.20",{"$f":"IF(E165=0,0,IF(E165>0,((1000 - 321 / E165 + 340 / E165*2 - 16600 / E165*3 + 32190000000 / E165*4)/15000000-62)*0.95))","v":696.17384747561709},null,11.23,11.61]
[null,"LUKEŠOVÁ","Kristýna","8.A",null,null,null,0,null,10.65,11.73]
[null,"MOTLÍKOVÁ","Eliška","8.A",10.45,null,"Jilemnice  16.09.20",721.46340005454545,null,10.77,11.39]
[null,"POHOŘELÁ","Amálie","8.A",9.2799999999999994,null,"Jilemnice  16.09.20",819.84972591271548,null,10.23,10.33]
[null,"POLÁČKOVÁ","Natálie","8.A",null,null,null,0,null,12.7,13.16]
[null,"ŘEHOŘKOVÁ","Lucie","8.A",10.38,null,"Jilemnice  16.09.20",726.72596590912008,null,10.4,11.62]
[null,"SKÁLOVÁ","Alena","8.A",11.43,null,"Jilemnice  16.09.20",654.55560740478279,null,12.9,12.88]
[null,"VÁVROVÁ ","Aneta","8.A",9.7200000000000006,null,"Jilemnice  16.09.20",780.07093460253748,null,9.6999999999999993,10.59]
[null,"ZELINKOVÁ","Klára","8.A",9.7100000000000009,null,"Jilemnice  16.09.20",780.93496227634739,null,10.4,10.92]
[null,"JUNGOVÁ ","Lucie","9.A",9.18,null,"Jilemnice  16.09.20",829.42216232425562,null,9.61,9.1999999999999993,9.6999999999999993]
[null,"KŘIVÁNKOVÁ ","Linda","9.A",10.7,null,"Jilemnice  16.09.20",703.23061181339574,null,10.89,null,11.5]
[null,"KUBÁTOVÁ","Lucie","9.A",10.38,null,"Jilemnice  16.09.20",726.72596590912008,null,null,10.56,10.86]
[null,"ŠIMŮNKOVÁ ","Nikola","9.A",10.69,null,"Jilemnice  16.09.20",703.94354965107573,null,11.24,11.86,11.24]
[null,"ŠMÍDOVÁ","Kristýna","9.A",12.5,null,"Jilemnice  16.09.20",593.48381283226661,null,11.52,null,13.52]
[null,"VOTOČKOVÁ ","Nikola","9.A",8.9,null,"Jilemnice  16.09.20",857.36937442734074,null,9.48,9.6,9.84]
[null,"VYHLASOVÁ","Lenka","9.A",12.5,null,"Jilemnice  16.09.20",593.48381283226661,null,13.17,null,13.6]
[null,"BÖHMOVÁ","Diana","9.B",10.16,null,"Jilemnice  16.09.20",743.73755041371385,null,null,10.61,10.76]
[null,"HOUDOVÁ","Tereza","9.B",10.08,null,"Jilemnice  16.09.20",750.10768920006615,null,10.68,10.96,10.86]
[null,"JANÍKOVÁ","Kristýna","9.B",9.18,null,"Jilemnice  16.09.20",829.42216232425562,null,9.56]
[null,"KUŽELOVÁ","Ela","9.B",9.52,null,"Jilemnice  16.09.20",797.69637307457981,null,9.65,9.7799999999999994,10.19]
[null,"MATERNOVÁ","Lucie","9.B",9.8699999999999992,null,"Jilemnice  16.09.20",767.32061740999654,null,null,10.67,11.69]
[null,"OPOČENSKÁ","Matylda","9.B",null,null,null,0,null,null,11.65,11.29]
[null,"PIŠTOROVÁ","Karolína","9.B",9.6300000000000008,null,"Jilemnice  16.09.20",787.91178386673573,null,9.65,9.9,9.9499999999999993]
[null,"POKORNÝ","Anna","9.B",null,null,null,0,null,null,10.47,11.31]
[null,"SUCHÁNKOVÁ","Michaela","9.B",12.63,null,"Jilemnice  16.09.20",586.76885737424118,null,13.9,13.28,13.23]
[null,"ŠUBÍKOVÁ ","Štěpánka","9.B",9.7799999999999994,null,"Jilemnice  16.09.20",774.92387404260398,null,10.36,10.74,11.24]
[null,"VANCLOVÁ","Pavlína","9.B",null,null,null,0,null,10.16,10.84,10.47]

{"sheet":"D300","index":27,"n_rows":191,"n_cols":12,"rows_kept":191,"cut":false,"hidden":false,"merged":[]}
[null,null,"VÝKONY  2020 - 2021",null,null,null,"300 M",null,"DĚVČATA  6. -  9.  ROČ."]
[null,null,null,null,null,null,null,null,null,null,"stav  k ",{"$f":"TODAY()","v":44375}]
[null,null,null,null,null,null,null,"   BODY",null,"   19 - 20   ","   18 - 19   ","   17 - 18   "]
[]
["1.",{"$f":"B101","v":"ERBENOVÁ"},{"$f":"C101","v":"Sára"},"6.A","00:00:00",null,0,0,null,"00:00:00","00:00:00","00:00:00"]
["2.",{"$f":"B102","v":"HOFMANOVÁ "},"Nicol","6.A","00:00:00",null,0,0,null,"00:00:00","00:00:00","00:00:00"]
["3.","HOLEŠOVSKÁ","Aneta","6.A","00:00:00",null,0,0,null,"00:00:00","00:00:00","00:00:00"]
["4.","HOLUBCOVÁ","Alena","6.A","00:00:00",null,0,0,null,"00:00:00","00:00:00","00:00:00"]
["5.","KOHOUTOVÁ","Anna","6.A","00:00:00",null,0,0,null,"00:00:00","00:00:00","00:00:00"]
["6.","KRAUSOVÁ","Anežka","6.A","00:00:00",null,0,0,null,"00:00:00","00:00:00","00:00:00"]
["7.","KUŽELOVÁ","Apoléna","6.A","00:00:00",null,0,0,null,"00:00:00","00:00:00","00:00:00"]
["8.","MORÁVKOVÁ","Lucie","6.A","00:00:00",null,0,0,null,"00:00:00","00:00:00","00:00:00"]
["9.","SKLENÁROVÁ","Eliška","6.A","00:00:00",null,0,0,null,"00:00:00","00:00:00","00:00:00"]
["10.","ŠTOLFOVÁ","Tereza","6.A","00:00:00",null,0,0,null,"00:00:00","00:00:00","00:00:00"]
["11.","ŠUBÍKOVÁ","Klára","6.A","00:00:00",null,0,0,null,"00:00:00","00:00:00","00:00:00"]
["12.","TULÁČKOVÁ","Natálie","6.A","00:00:00",null,0,0,null,"00:00:00","00:00:00","00:00:00"]
["13.","VOJTÍŠKOVÁ","Ella","6.A","00:00:00",null,0,0,null,"00:00:00","00:00:00","00:00:00"]
["14.","DRUGÁČOVÁ","Kristinka","6.B","00:00:00",null,0,0,null,"00:00:00","00:00:00","00:00:00"]
["15.","FAJSTAVROVÁ","Karolína","6.B","00:00:00",null,0,0,null,"00:00:00","00:00:00","00:00:00"]
["16.","FAJSTAVROVÁ","Magdaléna","6.B","00:00:00",null,0,0,null,"00:00:00","00:00:00","00:00:00"]
["17.","HLAVATÁ","Anna","6.B","00:00:00",null,0,0,null,"00:00:00","00:00:00","00:00:00"]
["18.",{"$f":"B118","v":"JINDROVÁ"},"Barbora","6.B","00:00:00",null,0,0,null,"00:00:00","00:00:00","00:00:00"]
["19.","MAŘASOVÁ","Vendula","6.B","00:00:00",null,0,0,null,"00:00:00","00:00:00","00:00:00"]
["20.","PETŘÍČKOVÁ","Natálie","6.B","00:00:00",null,0,0,null,"00:00:00","00:00:00","00:00:00"]
["21.","PETŘÍKOVÁ","Adéla","6.B","00:00:00",null,0,0,null,"00:00:00","00:00:00","00:00:00"]
["22.","REGÁLOVÁ","Karolína","6.B","00:00:00",null,0,0,null,"00:00:00","00:00:00","00:00:00"]
["23.","RIEGROVÁ","Magdaléna","6.B","00:00:00",null,0,0,null,"00:00:00","00:00:00","00:00:00"]
["24.","RYBENSKÁ","Sabina","6.B","00:00:00",null,0,0,null,"00:00:00","00:00:00","00:00:00"]
["25.","STEINEROVÁ","Barbora","6.B","00:00:00",null,0,0,null,"00:00:00","00:00:00","00:00:00"]
["26.","TOMEŠOVÁ","Barbora","6.B","00:00:00",null,0,0,null,"00:00:00","00:00:00","00:00:00"]
["27.","VOHNOUTOVÁ","Aneta","6.B","00:00:00",null,0,0,null,"00:00:00","00:00:00","00:00:00"]
["28.","HAVLÍKOVÁ","Michaela","7.A","00:00:00",null,0,0,null,"00:01:18.970","00:00:00","00:00:00"]
["29.","HOLUBCOVÁ","Sára","7.A","00:00:00",null,0,0,null,"00:00:58.890","00:00:00","00:00:00"]
["30.","HONCŮ","Tereza","7.A","00:00:00",null,0,0,null,"00:01:07.580","00:00:00","00:00:00"]
["31.","HORÁČKOVÁ","Kateřina","7.A","00:00:00",null,0,0,null,"00:01:02.240","00:00:00","00:00:00"]
["32.","JOUDALOVÁ","Daniela","7.A","00:00:00",null,0,0,null,"00:01:29.440","00:00:00","00:00:00"]
["33.","KLÍMOVÁ","Anna","7.A","00:00:00",null,0,0,null,"00:01:03.720","00:00:00","00:00:00"]
["34.",{"$f":"B134","v":"KOHOUTOVÁ"},"Veronika","7.A","00:00:00",null,0,0,null,"00:00:59.130","00:00:00","00:00:00"]
["35.","KOVÁŘOVÁ","Viktorie","7.A","00:00:00",null,0,0,null,"00:01:04.860","00:00:00","00:00:00"]
["36.","KYNČLOVÁ","Anna","7.A","00:00:00",null,0,0,null,"00:00:59.780","00:00:00","00:00:00"]
["37.","MATOUŠOVÁ","Tereza","7.A","00:00:00",null,0,0,null,"00:01:10.610","00:00:00","00:00:00"]
["38.","MAZÁNKOVÁ","Zuzana","7.A","00:00:00",null,0,0,null,"00:01:04.850","00:00:00","00:00:00"]
["39.","MORKESOVÁ","Sabrina","7.A","00:00:00",null,0,0,null,"00:01:00.680","00:00:00","00:00:00"]
["40.","POHOŘALÁ","Alžběta","7.A","00:00:00",null,0,0,null,"00:01:05.990","00:00:00","00:00:00"]
["41.","SCHOLZOVÁ","Laura","7.A","00:00:00",null,0,0,null,"00:01:14.770","00:00:00","00:00:00"]
["42.","VÁCLAVÍKOVÁ","Valerie","7.A","00:00:00",null,0,0,null,"00:01:03.520","00:00:00","00:00:00"]
["43.","ZAPADLOVÁ","Emma","7.A","00:00:00",null,0,0,null,"00:01:04.690","00:00:00","00:00:00"]
["44.","ŽIŠKOVÁ","Mia","7.A","00:00:00",null,0,0,null,"00:01:06.460","00:00:00","00:00:00"]
["45.","FARSKÁ","Tereza","7.B","00:00:00",null,0,0,null,"00:01:14.230","00:00:00","00:00:00"]
["46.","FEIXOVÁ","Rozálie","7.B","00:00:00",null,0,0,null,"00:01:28.320","00:00:00","00:00:00"]
["47.","FIŠEROVÁ","Michaela","7.B","00:00:00",null,0,0,null,"00:01:19.320","00:00:00","00:00:00"]
["48.","HAVLÍČKOVÁ","Kristýna","7.B","00:00:00",null,0,0,null,"00:00:00","00:00:00","00:00:00"]
["49.","JODASOVÁ","Nikola","7.B","00:00:00",null,0,0,null,"00:01:11.830","00:00:00","00:00:00"]
["50.",{"$f":"B150","v":"KADAVÁ"},"Nikola","7.B","00:00:00",null,0,0,null,"00:01:29.980","00:00:00","00:00:00"]
["51.","KRAFKOVÁ","Lucie","7.B","00:00:00",null,0,0,null,"00:00:00","00:00:00","00:00:00"]
["52.","KŘIVINKOVÁ","Alžběta","7.B","00:00:00",null,0,0,null,"00:01:12.620","00:00:00","00:00:00"]
["53.","LEŠÁKOVÁ","Lenka","7.B","00:00:00",null,0,0,null,"00:01:32.350","00:00:00","00:00:00"]
["54.","NYKLÍČKOVÁ","Adéla","7.B","00:00:00",null,0,0,null,"00:01:09.160","00:00:00","00:00:00"]
["55.","PLŮCHOVÁ","Petra","7.B","00:00:00",null,0,0,null,"00:01:10.250","00:00:00","00:00:00"]
["56.","PODZIMKOVÁ","Eliška","7.B","00:00:00",null,0,0,null,"00:01:21.100","00:00:00","00:00:00"]
["57.","RUTKAYOVÁ","Klára","7.B","00:00:00",null,0,0,null,"00:01:19.660","00:00:00","00:00:00"]
["58.","SEIDLOVÁ","Zuzana","7.B","00:00:00",null,0,0,null,"00:01:25.020","00:00:00","00:00:00"]
["59.","TOMÁŠOVÁ","Sára","7.B","00:00:00",null,0,0,null,"00:00:00","00:00:00","00:00:00"]
["60.","VANCLOVÁ","Barbora","7.B","00:00:00",null,0,0,null,"00:01:16.110","00:00:00","00:00:00"]
["61.","VOTOČKOVÁ","Veronika","7.B","00:00:00",null,0,0,null,"00:01:36.510","00:00:00","00:00:00"]
["62.","HARTIGOVÁ","Anna","8.A","00:00:00",null,0,0,null,"00:01:03.510","00:01:29.540","00:00:00"]
["63.","HONCŮ","Rozálie","8.A","00:00:00",null,0,0,null,"00:01:03.850","00:01:06.010","00:00:00"]
["64.","CHALOUPSKÁ","Lucie","8.A","00:00:00",null,0,0,null,"00:00:57.680","00:00:56.920","00:00:00"]
["65.","KŘÍŽKOVÁ","Anna","8.A","00:00:00",null,0,0,null,"00:01:07.500","00:01:05.510","00:00:00"]
["66.",{"$f":"B166","v":"LUKEŠOVÁ"},"Kristýna","8.A","00:00:00",null,0,0,null,"00:01:05.900","00:01:15.580","00:00:00"]
["67.","MOTLÍKOVÁ","Eliška","8.A","00:00:00",null,0,0,null,"00:01:02.560","00:01:06.450","00:00:00"]
["68.","POHOŘELÁ","Amálie","8.A","00:00:00",null,0,0,null,"00:01:03.840","00:01:07.200","00:00:00"]
["69.","POLÁČKOVÁ","Natálie","8.A","00:00:00",null,0,0,null,"00:01:29.720","00:01:29.520","00:00:00"]
["70.","ŘEHOŘKOVÁ","Lucie","8.A","00:00:00",null,0,0,null,"00:00:00","00:01:18.550","00:00:00"]
["71.","SKÁLOVÁ","Alena","8.A","00:00:00",null,0,0,null,"00:01:20.570","00:01:32.380","00:00:00"]
["72.","VÁVROVÁ ","Aneta","8.A","00:00:00",null,0,0,null,"00:00:53.320","00:01:05.390","00:00:00"]
["73.","ZELINKOVÁ","Klára","8.A","00:00:00",null,0,0,null,"00:01:01.220","00:01:08.240","00:00:00"]
["74.","JUNGOVÁ ","Lucie","9.A","00:00:00",null,0,0,null,"00:00:52.800","00:00:51.060","00:00:53.350"]
["75.","KŘIVÁNKOVÁ ","Linda","9.A","00:00:00",null,0,0,null,"00:01:13.410","00:01:20.700","00:01:14.160"]
["76.","KUBÁTOVÁ","Lucie","9.A","00:00:00",null,0,0,null,"00:01:03.930","00:01:01.340","00:01:01.020"]
["77.","ŠIMŮNKOVÁ ","Nikola","9.A","00:00:00",null,0,0,null,"00:01:14.110","00:01:21.900","00:01:14.820"]
["78.","ŠMÍDOVÁ","Kristýna","9.A","00:00:00",null,0,0,null,"00:01:16.560","00:01:18.960","00:00:00"]
["79.","VOTOČKOVÁ ","Nikola","9.A","00:00:00",null,0,0,null,"00:00:53.610","00:00:56.180","00:00:59.560"]
["80.","VYHLASOVÁ","Lenka","9.A","00:00:00",null,0,0,null,"00:01:44.220","00:01:33.900","00:01:34.440"]
["81.","BÖHMOVÁ","Diana","9.B","00:00:00",null,0,0,null,"00:00:00","00:01:08.080","00:01:05.800"]
["82.",{"$f":"B182","v":"HOUDOVÁ"},"Tereza","9.B","00:00:00",null,0,0,null,"00:00:00","00:01:00.750","00:01:05.810"]
["83.","JANÍKOVÁ","Kristýna","9.B","00:00:00",null,0,0,null,"00:01:02.590","00:00:00","00:00:00"]
["84.","KUŽELOVÁ","Ela","9.B","00:00:00",null,0,0,null,"00:01:03.930","00:01:02.900","00:01:09.200"]
["85.","MATERNOVÁ","Lucie","9.B","00:00:00",null,0,0,null,"00:01:04.780","00:01:05.300","00:01:09.850"]
["86.","OPOČENSKÁ","Matylda","9.B","00:00:00",null,0,0,null,"00:00:00","00:00:00","00:00:00"]
["87.","PIŠTOROVÁ","Karolína","9.B","00:00:00",null,0,0,null,"00:00:58.150","00:00:57.920","00:00:55.470"]
["88.","POKORNÝ","Anna","9.B","00:00:00",null,0,0,null,"00:00:00","00:01:09.530","00:01:10.680"]
["89.","SUCHÁNKOVÁ","Michaela","9.B","00:00:00",null,0,0,null,"00:01:31.570","00:01:22.570","00:01:24.750"]
["90.","ŠUBÍKOVÁ ","Štěpánka","9.B","00:00:00",null,0,0,null,"00:01:31.570","00:01:12.330","00:01:11.690"]
["91.","VANCLOVÁ","Pavlína","9.B","00:00:00",null,0,0,null,"00:01:09.370","00:01:13.560","00:01:06.690"]
[]
[]
[]
[]
[]
[null,"ERBENOVÁ","Sára","6.A",null,null,null,{"$f":"IF(E101=0,0,IF(E101>0,(1000000000 - 313216 / E101 + 34538300 / E101*2 - 1698600000 / E101*3 + 32198000000 / E101*4)/200000000000-215))","v":0}]
[null,"HOFMANOVÁ ","Nicol","6.A",null,null,null,0]
[null,"HOLEŠOVSKÁ","Aneta","6.A",null,null,null,0]
[null,"HOLUBCOVÁ","Alena","6.A",null,null,null,0]
[null,"KOHOUTOVÁ","Anna","6.A",null,null,null,0]
[null,"KRAUSOVÁ","Anežka","6.A",null,null,null,0]
[null,"KUŽELOVÁ","Apoléna","6.A",null,null,null,0]
[null,"MORÁVKOVÁ","Lucie","6.A",null,null,null,0]
[null,"SKLENÁROVÁ","Eliška","6.A",null,null,null,0]
[null,"ŠTOLFOVÁ","Tereza","6.A",null,null,null,0]
[null,"ŠUBÍKOVÁ","Klára","6.A",null,null,null,0]
[null,"TULÁČKOVÁ","Natálie","6.A",null,null,null,0]
[null,"VOJTÍŠKOVÁ","Ella","6.A",null,null,null,0]
[null,"DRUGÁČOVÁ","Kristinka","6.B",null,null,null,0]
[null,"FAJSTAVROVÁ","Karolína","6.B",null,null,null,0]
[null,"FAJSTAVROVÁ","Magdaléna","6.B",null,null,null,0]
[null,"HLAVATÁ","Anna","6.B",null,null,null,0]
[null,"JINDROVÁ","Barbora","6.B",null,null,null,0]
[null,"MAŘASOVÁ","Vendula","6.B",null,null,null,0]
[null,"PETŘÍČKOVÁ","Natálie","6.B",null,null,null,0]
[null,"PETŘÍKOVÁ","Adéla","6.B",null,null,null,0]
[null,"REGÁLOVÁ","Karolína","6.B",null,null,null,0]
[null,"RIEGROVÁ","Magdaléna","6.B",null,null,null,0]
[null,"RYBENSKÁ","Sabina","6.B",null,null,null,0]
[null,"STEINEROVÁ","Barbora","6.B",null,null,null,0]
[null,"TOMEŠOVÁ","Barbora","6.B",null,null,null,0]
[null,"VOHNOUTOVÁ","Aneta","6.B",null,null,null,0]
[null,"HAVLÍKOVÁ","Michaela","7.A",null,null,null,0,null,"00:01:18.970"]
[null,"HOLUBCOVÁ","Sára","7.A",null,null,null,0,null,"00:00:58.890"]
[null,"HONCŮ","Tereza","7.A",null,null,null,0,null,"00:01:07.580"]
[null,"HORÁČKOVÁ","Kateřina","7.A",null,null,null,0,null,"00:01:02.240"]
[null,"JOUDALOVÁ","Daniela","7.A",null,null,null,0,null,"00:01:29.440"]
[null,"KLÍMOVÁ","Anna","7.A",null,null,null,{"$f":"IF(E133=0,0,IF(E133>0,(1000000000 - 313216 / E133 + 34538300 / E133*2 - 1698600000 / E133*3 + 32198000000 / E133*4)/200000000000-215))","v":0},null,"00:01:03.720"]
[null,"KOHOUTOVÁ","Veronika","7.A",null,null,null,0,null,"00:00:59.130"]
[null,"KOVÁŘOVÁ","Viktorie","7.A",null,null,null,0,null,"00:01:04.860"]
[null,"KYNČLOVÁ","Anna","7.A","00:00:00",null,null,0,null,"00:00:59.780"]
[null,"MATOUŠOVÁ","Tereza","7.A",null,null,null,0,null,"00:01:10.610"]
[null,"MAZÁNKOVÁ","Zuzana","7.A",null,null,null,0,null,"00:01:04.850"]
[null,"MORKESOVÁ","Sabrina","7.A",null,null,null,0,null,"00:01:00.680"]
[null,"POHOŘALÁ","Alžběta","7.A",null,null,null,0,null,"00:01:05.990"]
[null,"SCHOLZOVÁ","Laura","7.A",null,null,null,0,null,"00:01:14.770"]
[null,"VÁCLAVÍKOVÁ","Valerie","7.A",null,null,null,0,null,"00:01:03.520"]
[null,"ZAPADLOVÁ","Emma","7.A",null,null,null,0,null,"00:01:04.690"]
[null,"ŽIŠKOVÁ","Mia","7.A",null,null,null,0,null,"00:01:06.460"]
[null,"FARSKÁ","Tereza","7.B",null,null,null,0,null,"00:01:14.230"]
[null,"FEIXOVÁ","Rozálie","7.B",null,null,null,0,null,"00:01:28.320"]
[null,"FIŠEROVÁ","Michaela","7.B",null,null,null,0,null,"00:01:19.320"]
[null,"HAVLÍČKOVÁ","Kristýna","7.B",null,null,null,0]
[null,"JODASOVÁ","Nikola","7.B",null,null,null,0,null,"00:01:11.830"]
[null,"KADAVÁ","Nikola","7.B",null,null,null,0,null,"00:01:29.980"]
[null,"KRAFKOVÁ","Lucie","7.B",null,null,null,0]
[null,"KŘIVINKOVÁ","Alžběta","7.B",null,null,null,0,null,"00:01:12.620"]
[null,"LEŠÁKOVÁ","Lenka","7.B",null,null,null,0,null,"00:01:32.350"]
[null,"NYKLÍČKOVÁ","Adéla","7.B",null,null,null,0,null,"00:01:09.160"]
[null,"PLŮCHOVÁ","Petra","7.B",null,null,null,0,null,"00:01:10.250"]
[null,"PODZIMKOVÁ","Eliška","7.B",null,null,null,0,null,"00:01:21.100"]
[null,"RUTKAYOVÁ","Klára","7.B",null,null,null,0,null,"00:01:19.660"]
[null,"SEIDLOVÁ","Zuzana","7.B",null,null,null,0,null,"00:01:25.020"]
[null,"TOMÁŠOVÁ","Sára","7.B",null,null,null,0]
[null,"VANCLOVÁ","Barbora","7.B",null,null,null,0,null,"00:01:16.110"]
[null,"VOTOČKOVÁ","Veronika","7.B",null,null,null,0,null,"00:01:36.510"]
[null,"HARTIGOVÁ","Anna","8.A",null,null,null,0,null,"00:01:03.510","00:01:29.540"]
[null,"HONCŮ","Rozálie","8.A",null,null,null,0,null,"00:01:03.850","00:01:06.010"]
[null,"CHALOUPSKÁ","Lucie","8.A",null,null,null,0,null,"00:00:57.680","00:00:56.920"]
[null,"KŘÍŽKOVÁ","Anna","8.A",null,null,null,{"$f":"IF(E165=0,0,IF(E165>0,(1000000000 - 313216 / E165 + 34538300 / E165*2 - 1698600000 / E165*3 + 32198000000 / E165*4)/200000000000-215))","v":0},null,"00:01:07.500","00:01:05.510"]
[null,"LUKEŠOVÁ","Kristýna","8.A",null,null,null,0,null,"00:01:05.900","00:01:15.580"]
[null,"MOTLÍKOVÁ","Eliška","8.A",null,null,null,0,null,"00:01:02.560","00:01:06.450"]
[null,"POHOŘELÁ","Amálie","8.A",null,null,null,0,null,"00:01:03.840","00:01:07.200"]
[null,"POLÁČKOVÁ","Natálie","8.A",null,null,null,0,null,"00:01:29.720","00:01:29.520"]
[null,"ŘEHOŘKOVÁ","Lucie","8.A",null,null,null,0,null,null,"00:01:18.550"]
[null,"SKÁLOVÁ","Alena","8.A",null,null,null,0,null,"00:01:20.570","00:01:32.380"]
[null,"VÁVROVÁ ","Aneta","8.A",null,null,null,0,null,"00:00:53.320","00:01:05.390"]
[null,"ZELINKOVÁ","Klára","8.A",null,null,null,0,null,"00:01:01.220","00:01:08.240"]
[null,"JUNGOVÁ ","Lucie","9.A",null,null,null,0,null,"00:00:52.800","00:00:51.060","00:00:53.350"]
[null,"KŘIVÁNKOVÁ ","Linda","9.A",null,null,null,0,null,"00:01:13.410","00:01:20.700","00:01:14.160"]
[null,"KUBÁTOVÁ","Lucie","9.A",null,null,null,0,null,"00:01:03.930","00:01:01.340","00:01:01.020"]
[null,"ŠIMŮNKOVÁ ","Nikola","9.A",null,null,null,0,null,"00:01:14.110","00:01:21.900","00:01:14.820"]
[null,"ŠMÍDOVÁ","Kristýna","9.A",null,null,null,0,null,"00:01:16.560","00:01:18.960"]
[null,"VOTOČKOVÁ ","Nikola","9.A",null,null,null,0,null,"00:00:53.610","00:00:56.180","00:00:59.560"]
[null,"VYHLASOVÁ","Lenka","9.A",null,null,null,0,null,"00:01:44.220","00:01:33.900","00:01:34.440"]
[null,"BÖHMOVÁ","Diana","9.B",null,null,null,0,null,null,"00:01:08.080","00:01:05.800"]
[null,"HOUDOVÁ","Tereza","9.B",null,null,null,0,null,null,"00:01:00.750","00:01:05.810"]
[null,"JANÍKOVÁ","Kristýna","9.B",null,null,null,0,null,"00:01:02.590"]
[null,"KUŽELOVÁ","Ela","9.B",null,null,null,0,null,"00:01:03.930","00:01:02.900","00:01:09.200"]
[null,"MATERNOVÁ","Lucie","9.B",null,null,null,0,null,"00:01:04.780","00:01:05.300","00:01:09.850"]
[null,"OPOČENSKÁ","Matylda","9.B",null,null,null,0]
[null,"PIŠTOROVÁ","Karolína","9.B",null,null,null,0,null,"00:00:58.150","00:00:57.920","00:00:55.470"]
[null,"POKORNÝ","Anna","9.B",null,null,null,0,null,null,"00:01:09.530","00:01:10.680"]
[null,"SUCHÁNKOVÁ","Michaela","9.B",null,null,null,0,null,"00:01:31.570","00:01:22.570","00:01:24.750"]
[null,"ŠUBÍKOVÁ ","Štěpánka","9.B",null,null,null,0,null,"00:01:31.570","00:01:12.330","00:01:11.690"]
[null,"VANCLOVÁ","Pavlína","9.B",null,null,null,0,null,"00:01:09.370","00:01:13.560","00:01:06.690"]

{"sheet":"D800","index":28,"n_rows":191,"n_cols":12,"rows_kept":191,"cut":false,"hidden":false,"merged":[]}
[null,null,"VÝKONY  2020 - 2021",null,null,null,"800 M","DĚVČATA  6. -  9.  ROČ."]
[null,null,null,null,null,null,null,null,null,null,"stav  k ",{"$f":"TODAY()","v":44375}]
[null,null,null,null,null,null,null,"   BODY",null,"   19 - 20   ","   18 - 19   ","   17 - 18   "]
[]
["1.",{"$f":"B101","v":"ERBENOVÁ"},{"$f":"C101","v":"Sára"},"6.A","00:00:00",null,0,0,null,"00:00:00","00:00:00","00:00:00"]
["2.",{"$f":"B102","v":"HOFMANOVÁ "},"Nicol","6.A","00:00:00",null,0,0,null,"00:00:00","00:00:00","00:00:00"]
["3.","HOLEŠOVSKÁ","Aneta","6.A","00:00:00",null,0,0,null,"00:00:00","00:00:00","00:00:00"]
["4.","HOLUBCOVÁ","Alena","6.A","00:00:00",null,0,0,null,"00:00:00","00:00:00","00:00:00"]
["5.","KOHOUTOVÁ","Anna","6.A","00:00:00",null,0,0,null,"00:00:00","00:00:00","00:00:00"]
["6.","KRAUSOVÁ","Anežka","6.A","00:00:00",null,0,0,null,"00:00:00","00:00:00","00:00:00"]
["7.","KUŽELOVÁ","Apoléna","6.A","00:00:00",null,0,0,null,"00:00:00","00:00:00","00:00:00"]
["8.","MORÁVKOVÁ","Lucie","6.A","00:00:00",null,0,0,null,"00:00:00","00:00:00","00:00:00"]
["9.","SKLENÁROVÁ","Eliška","6.A","00:00:00",null,0,0,null,"00:00:00","00:00:00","00:00:00"]
["10.","ŠTOLFOVÁ","Tereza","6.A","00:00:00",null,0,0,null,"00:00:00","00:00:00","00:00:00"]
["11.","ŠUBÍKOVÁ","Klára","6.A","00:00:00",null,0,0,null,"00:00:00","00:00:00","00:00:00"]
["12.","TULÁČKOVÁ","Natálie","6.A","00:00:00",null,0,0,null,"00:00:00","00:00:00","00:00:00"]
["13.","VOJTÍŠKOVÁ","Ella","6.A","00:00:00",null,0,0,null,"00:00:00","00:00:00","00:00:00"]
["14.","DRUGÁČOVÁ","Kristinka","6.B","00:00:00",null,0,0,null,"00:00:00","00:00:00","00:00:00"]
["15.","FAJSTAVROVÁ","Karolína","6.B","00:00:00",null,0,0,null,"00:00:00","00:00:00","00:00:00"]
["16.","FAJSTAVROVÁ","Magdaléna","6.B","00:00:00",null,0,0,null,"00:00:00","00:00:00","00:00:00"]
["17.","HLAVATÁ","Anna","6.B","00:00:00",null,0,0,null,"00:00:00","00:00:00","00:00:00"]
["18.",{"$f":"B118","v":"JINDROVÁ"},"Barbora","6.B","00:00:00",null,0,0,null,"00:00:00","00:00:00","00:00:00"]
["19.","MAŘASOVÁ","Vendula","6.B","00:00:00",null,0,0,null,"00:00:00","00:00:00","00:00:00"]
["20.","PETŘÍČKOVÁ","Natálie","6.B","00:00:00",null,0,0,null,"00:00:00","00:00:00","00:00:00"]
["21.","PETŘÍKOVÁ","Adéla","6.B","00:00:00",null,0,0,null,"00:00:00","00:00:00","00:00:00"]
["22.","REGÁLOVÁ","Karolína","6.B","00:00:00",null,0,0,null,"00:00:00","00:00:00","00:00:00"]
["23.","RIEGROVÁ","Magdaléna","6.B","00:00:00",null,0,0,null,"00:00:00","00:00:00","00:00:00"]
["24.","RYBENSKÁ","Sabina","6.B","00:00:00",null,0,0,null,"00:00:00","00:00:00","00:00:00"]
["25.","STEINEROVÁ","Barbora","6.B","00:00:00",null,0,0,null,"00:00:00","00:00:00","00:00:00"]
["26.","TOMEŠOVÁ","Barbora","6.B","00:00:00",null,0,0,null,"00:00:00","00:00:00","00:00:00"]
["27.","VOHNOUTOVÁ","Aneta","6.B","00:00:00",null,0,0,null,"00:00:00","00:00:00","00:00:00"]
["28.","HAVLÍKOVÁ","Michaela","7.A","00:00:00",null,0,0,null,"00:04:12.990","00:00:00","00:00:00"]
["29.","HOLUBCOVÁ","Sára","7.A","00:00:00",null,0,0,null,"00:03:44.190","00:00:00","00:00:00"]
["30.","HONCŮ","Tereza","7.A","00:00:00",null,0,0,null,"00:04:00.600","00:00:00","00:00:00"]
["31.","HORÁČKOVÁ","Kateřina","7.A","00:00:00",null,0,0,null,"00:03:39.880","00:00:00","00:00:00"]
["32.","JOUDALOVÁ","Daniela","7.A","00:00:00",null,0,0,null,"00:00:00","00:00:00","00:00:00"]
["33.","KLÍMOVÁ","Anna","7.A","00:00:00",null,0,0,null,"00:03:43.750","00:00:00","00:00:00"]
["34.",{"$f":"B134","v":"KOHOUTOVÁ"},"Veronika","7.A","00:00:00",null,0,0,null,"00:03:21.790","00:00:00","00:00:00"]
["35.","KOVÁŘOVÁ","Viktorie","7.A","00:00:00",null,0,0,null,"00:03:46.100","00:00:00","00:00:00"]
["36.","KYNČLOVÁ","Anna","7.A","00:00:00",null,0,0,null,"00:03:11.460","00:00:00","00:00:00"]
["37.","MATOUŠOVÁ","Tereza","7.A","00:00:00",null,0,0,null,"00:04:28.960","00:00:00","00:00:00"]
["38.","MAZÁNKOVÁ","Zuzana","7.A","00:00:00",null,0,0,null,"00:04:00.600","00:00:00","00:00:00"]
["39.","MORKESOVÁ","Sabrina","7.A","00:00:00",null,0,0,null,"00:03:22.340","00:00:00","00:00:00"]
["40.","POHOŘALÁ","Alžběta","7.A","00:00:00",null,0,0,null,"00:04:00.600","00:00:00","00:00:00"]
["41.","SCHOLZOVÁ","Laura","7.A","00:00:00",null,0,0,null,"00:04:18.780","00:00:00","00:00:00"]
["42.","VÁCLAVÍKOVÁ","Valerie","7.A","00:00:00",null,0,0,null,"00:03:49.500","00:00:00","00:00:00"]
["43.","ZAPADLOVÁ","Emma","7.A","00:00:00",null,0,0,null,"00:03:24.360","00:00:00","00:00:00"]
["44.","ŽIŠKOVÁ","Mia","7.A","00:00:00",null,0,0,null,"00:04:11.900","00:00:00","00:00:00"]
["45.","FARSKÁ","Tereza","7.B","00:00:00",null,0,0,null,"00:00:00","00:00:00","00:00:00"]
["46.","FEIXOVÁ","Rozálie","7.B","00:00:00",null,0,0,null,"00:00:00","00:00:00","00:00:00"]
["47.","FIŠEROVÁ","Michaela","7.B","00:00:00",null,0,0,null,"00:00:00","00:00:00","00:00:00"]
["48.","HAVLÍČKOVÁ","Kristýna","7.B","00:00:00",null,0,0,null,"00:00:00","00:00:00","00:00:00"]
["49.","JODASOVÁ","Nikola","7.B","00:00:00",null,0,0,null,"00:00:00","00:00:00","00:00:00"]
["50.",{"$f":"B150","v":"KADAVÁ"},"Nikola","7.B","00:00:00",null,0,0,null,"00:00:00","00:00:00","00:00:00"]
["51.","KRAFKOVÁ","Lucie","7.B","00:00:00",null,0,0,null,"00:00:00","00:00:00","00:00:00"]
["52.","KŘIVINKOVÁ","Alžběta","7.B","00:00:00",null,0,0,null,"00:00:00","00:00:00","00:00:00"]
["53.","LEŠÁKOVÁ","Lenka","7.B","00:00:00",null,0,0,null,"00:00:00","00:00:00","00:00:00"]
["54.","NYKLÍČKOVÁ","Adéla","7.B","00:00:00",null,0,0,null,"00:00:00","00:00:00","00:00:00"]
["55.","PLŮCHOVÁ","Petra","7.B","00:00:00",null,0,0,null,"00:00:00","00:00:00","00:00:00"]
["56.","PODZIMKOVÁ","Eliška","7.B","00:00:00",null,0,0,null,"00:00:00","00:00:00","00:00:00"]
["57.","RUTKAYOVÁ","Klára","7.B","00:00:00",null,0,0,null,"00:00:00","00:00:00","00:00:00"]
["58.","SEIDLOVÁ","Zuzana","7.B","00:00:00",null,0,0,null,"00:00:00","00:00:00","00:00:00"]
["59.","TOMÁŠOVÁ","Sára","7.B","00:00:00",null,0,0,null,"00:00:00","00:00:00","00:00:00"]
["60.","VANCLOVÁ","Barbora","7.B","00:00:00",null,0,0,null,"00:00:00","00:00:00","00:00:00"]
["61.","VOTOČKOVÁ","Veronika","7.B","00:00:00",null,0,0,null,"00:00:00","00:00:00","00:00:00"]
["62.","HARTIGOVÁ","Anna","8.A","00:00:00",null,0,0,null,"00:00:00","00:04:39.330","00:00:00"]
["63.","HONCŮ","Rozálie","8.A","00:00:00",null,0,0,null,"00:00:00","00:04:50.840","00:00:00"]
["64.","CHALOUPSKÁ","Lucie","8.A","00:00:00",null,0,0,null,"00:00:00","00:04:20.270","00:00:00"]
["65.","KŘÍŽKOVÁ","Anna","8.A","00:00:00",null,0,0,null,"00:00:00","00:04:01.790","00:00:00"]
["66.",{"$f":"B166","v":"LUKEŠOVÁ"},"Kristýna","8.A","00:00:00",null,0,0,null,"00:00:00","00:04:33.830","00:00:00"]
["67.","MOTLÍKOVÁ","Eliška","8.A","00:00:00",null,0,0,null,"00:00:00","00:03:45.680","00:00:00"]
["68.","POHOŘELÁ","Amálie","8.A","00:00:00",null,0,0,null,"00:00:00","00:04:11.300","00:00:00"]
["69.","POLÁČKOVÁ","Natálie","8.A","00:00:00",null,0,0,null,"00:00:00","00:05:24.730","00:00:00"]
["70.","ŘEHOŘKOVÁ","Lucie","8.A","00:00:00",null,0,0,null,"00:00:00","00:04:53.870","00:00:00"]
["71.","SKÁLOVÁ","Alena","8.A","00:00:00",null,0,0,null,"00:00:00","00:05:00.980","00:00:00"]
["72.","VÁVROVÁ ","Aneta","8.A","00:00:00",null,0,0,null,"00:00:00","00:04:39.330","00:00:00"]
["73.","ZELINKOVÁ","Klára","8.A","00:00:00",null,0,0,null,"00:00:00","00:03:48.280","00:00:00"]
["74.","JUNGOVÁ ","Lucie","9.A","00:00:00",null,0,0,null,"00:00:00","00:03:14.620","00:03:00.880"]
["75.","KŘIVÁNKOVÁ ","Linda","9.A","00:00:00",null,0,0,null,"00:00:00","00:04:26.020","00:04:49.480"]
["76.","KUBÁTOVÁ","Lucie","9.A","00:00:00",null,0,0,null,"00:00:00","00:03:42.540","00:03:30.480"]
["77.","ŠIMŮNKOVÁ ","Nikola","9.A","00:00:00",null,0,0,null,"00:00:00","00:04:49.340","00:05:15.120"]
["78.","ŠMÍDOVÁ","Kristýna","9.A","00:00:00",null,0,0,null,"00:00:00","00:04:36.990","00:05:15.960"]
["79.","VOTOČKOVÁ ","Nikola","9.A","00:00:00",null,0,0,null,"00:02:49.970","00:03:12.760","00:03:22.360"]
["80.","VYHLASOVÁ","Lenka","9.A","00:00:00",null,0,0,null,"00:00:00","00:00:00","00:00:00"]
["81.","BÖHMOVÁ","Diana","9.B","00:00:00",null,0,0,null,"00:00:00","00:03:47.200","00:03:34.140"]
["82.",{"$f":"B182","v":"HOUDOVÁ"},"Tereza","9.B","00:00:00",null,0,0,null,"00:00:00","00:03:19.550","00:04:28.890"]
["83.","JANÍKOVÁ","Kristýna","9.B","00:00:00",null,0,0,null,"00:03:01.370","00:00:00","00:00:00"]
["84.","KUŽELOVÁ","Ela","9.B","00:00:00",null,0,0,null,"00:00:00","00:03:50.290","00:04:38.890"]
["85.","MATERNOVÁ","Lucie","9.B","00:00:00",null,0,0,null,"00:00:00","00:04:10.680","00:04:25.040"]
["86.","OPOČENSKÁ","Matylda","9.B","00:00:00",null,0,0,null,"00:00:00","00:00:00","00:04:39.260"]
["87.","PIŠTOROVÁ","Karolína","9.B","00:00:00",null,0,0,null,"00:00:00","00:03:14.620","00:03:05.440"]
["88.","POKORNÝ","Anna","9.B","00:00:00",null,0,0,null,"00:00:00","00:00:00","00:05:14.170"]
["89.","SUCHÁNKOVÁ","Michaela","9.B","00:00:00",null,0,0,null,"00:00:00","00:05:09.220","00:04:42.460"]
["90.","ŠUBÍKOVÁ ","Štěpánka","9.B","00:00:00",null,0,0,null,"00:00:00","00:03:52.980","00:03:57.510"]
["91.","VANCLOVÁ","Pavlína","9.B","00:00:00",null,0,0,null,"00:00:00","00:04:12.460","00:05:07.360"]
[]
[]
[]
[]
[]
[null,"ERBENOVÁ","Sára","6.A","00:00:00",null,null,{"$f":"IF(E101=0,0,IF(E101>0,(100 - 313216 / E101 + 3453830 / E101*2 - 169860000 / E101*3 + 321980000/ E101*4)/400000000-130))","v":0}]
[null,"HOFMANOVÁ ","Nicol","6.A",null,null,null,0]
[null,"HOLEŠOVSKÁ","Aneta","6.A",null,null,null,0]
[null,"HOLUBCOVÁ","Alena","6.A",null,null,null,0]
[null,"KOHOUTOVÁ","Anna","6.A",null,null,null,0]
[null,"KRAUSOVÁ","Anežka","6.A",null,null,null,0]
[null,"KUŽELOVÁ","Apoléna","6.A",null,null,null,0]
[null,"MORÁVKOVÁ","Lucie","6.A",null,null,null,0]
[null,"SKLENÁROVÁ","Eliška","6.A",null,null,null,0]
[null,"ŠTOLFOVÁ","Tereza","6.A",null,null,null,0]
[null,"ŠUBÍKOVÁ","Klára","6.A",null,null,null,0]
[null,"TULÁČKOVÁ","Natálie","6.A",null,null,null,0]
[null,"VOJTÍŠKOVÁ","Ella","6.A",null,null,null,0]
[null,"DRUGÁČOVÁ","Kristinka","6.B",null,null,null,0]
[null,"FAJSTAVROVÁ","Karolína","6.B",null,null,null,0]
[null,"FAJSTAVROVÁ","Magdaléna","6.B",null,null,null,0]
[null,"HLAVATÁ","Anna","6.B",null,null,null,0]
[null,"JINDROVÁ","Barbora","6.B",null,null,null,0]
[null,"MAŘASOVÁ","Vendula","6.B",null,null,null,0]
[null,"PETŘÍČKOVÁ","Natálie","6.B",null,null,null,0]
[null,"PETŘÍKOVÁ","Adéla","6.B",null,null,null,0]
[null,"REGÁLOVÁ","Karolína","6.B",null,null,null,0]
[null,"RIEGROVÁ","Magdaléna","6.B",null,null,null,0]
[null,"RYBENSKÁ","Sabina","6.B",null,null,null,0]
[null,"STEINEROVÁ","Barbora","6.B",null,null,null,0]
[null,"TOMEŠOVÁ","Barbora","6.B",null,null,null,0]
[null,"VOHNOUTOVÁ","Aneta","6.B",null,null,null,0]
[null,"HAVLÍKOVÁ","Michaela","7.A",null,null,null,0,null,"00:04:12.990"]
[null,"HOLUBCOVÁ","Sára","7.A",null,null,null,0,null,"00:03:44.190"]
[null,"HONCŮ","Tereza","7.A",null,null,null,0,null,"00:04:00.600"]
[null,"HORÁČKOVÁ","Kateřina","7.A",null,null,null,0,null,"00:03:39.880"]
[null,"JOUDALOVÁ","Daniela","7.A",null,null,null,0]
[null,"KLÍMOVÁ","Anna","7.A",null,null,null,{"$f":"IF(E133=0,0,IF(E133>0,(100 - 313216 / E133 + 3453830 / E133*2 - 169860000 / E133*3 + 321980000/ E133*4)/400000000-130))","v":0},null,"00:03:43.750"]
[null,"KOHOUTOVÁ","Veronika","7.A",null,null,null,0,null,"00:03:21.790"]
[null,"KOVÁŘOVÁ","Viktorie","7.A",null,null,null,0,null,"00:03:46.100"]
[null,"KYNČLOVÁ","Anna","7.A",null,null,null,0,null,"00:03:11.460"]
[null,"MATOUŠOVÁ","Tereza","7.A",null,null,null,0,null,"00:04:28.960"]
[null,"MAZÁNKOVÁ","Zuzana","7.A",null,null,null,0,null,"00:04:00.600"]
[null,"MORKESOVÁ","Sabrina","7.A",null,null,null,0,null,"00:03:22.340"]
[null,"POHOŘALÁ","Alžběta","7.A",null,null,null,0,null,"00:04:00.600"]
[null,"SCHOLZOVÁ","Laura","7.A",null,null,null,0,null,"00:04:18.780"]
[null,"VÁCLAVÍKOVÁ","Valerie","7.A",null,null,null,0,null,"00:03:49.500"]
[null,"ZAPADLOVÁ","Emma","7.A",null,null,null,0,null,"00:03:24.360"]
[null,"ŽIŠKOVÁ","Mia","7.A",null,null,null,0,null,"00:04:11.900"]
[null,"FARSKÁ","Tereza","7.B",null,null,null,0]
[null,"FEIXOVÁ","Rozálie","7.B",null,null,null,0]
[null,"FIŠEROVÁ","Michaela","7.B",null,null,null,0]
[null,"HAVLÍČKOVÁ","Kristýna","7.B",null,null,null,0]
[null,"JODASOVÁ","Nikola","7.B",null,null,null,0]
[null,"KADAVÁ","Nikola","7.B",null,null,null,0]
[null,"KRAFKOVÁ","Lucie","7.B",null,null,null,0]
[null,"KŘIVINKOVÁ","Alžběta","7.B",null,null,null,0]
[null,"LEŠÁKOVÁ","Lenka","7.B",null,null,null,0]
[null,"NYKLÍČKOVÁ","Adéla","7.B",null,null,null,0]
[null,"PLŮCHOVÁ","Petra","7.B",null,null,null,0]
[null,"PODZIMKOVÁ","Eliška","7.B",null,null,null,0]
[null,"RUTKAYOVÁ","Klára","7.B",null,null,null,0]
[null,"SEIDLOVÁ","Zuzana","7.B",null,null,null,0]
[null,"TOMÁŠOVÁ","Sára","7.B",null,null,null,0]
[null,"VANCLOVÁ","Barbora","7.B",null,null,null,0]
[null,"VOTOČKOVÁ","Veronika","7.B",null,null,null,0]
[null,"HARTIGOVÁ","Anna","8.A",null,null,null,0,null,null,"00:04:39.330"]
[null,"HONCŮ","Rozálie","8.A",null,null,null,0,null,null,"00:04:50.840"]
[null,"CHALOUPSKÁ","Lucie","8.A",null,null,null,0,null,null,"00:04:20.270"]
[null,"KŘÍŽKOVÁ","Anna","8.A",null,null,null,{"$f":"IF(E165=0,0,IF(E165>0,(100 - 313216 / E165 + 3453830 / E165*2 - 169860000 / E165*3 + 321980000/ E165*4)/400000000-130))","v":0},null,null,"00:04:01.790"]
[null,"LUKEŠOVÁ","Kristýna","8.A",null,null,null,0,null,null,"00:04:33.830"]
[null,"MOTLÍKOVÁ","Eliška","8.A",null,null,null,0,null,null,"00:03:45.680"]
[null,"POHOŘELÁ","Amálie","8.A",null,null,null,0,null,null,"00:04:11.300"]
[null,"POLÁČKOVÁ","Natálie","8.A",null,null,null,0,null,null,"00:05:24.730"]
[null,"ŘEHOŘKOVÁ","Lucie","8.A",null,null,null,0,null,null,"00:04:53.870"]
[null,"SKÁLOVÁ","Alena","8.A",null,null,null,0,null,null,"00:05:00.980"]
[null,"VÁVROVÁ ","Aneta","8.A",null,null,null,0,null,null,"00:04:39.330"]
[null,"ZELINKOVÁ","Klára","8.A",null,null,null,0,null,null,"00:03:48.280"]
[null,"JUNGOVÁ ","Lucie","9.A",null,null,null,0,null,null,"00:03:14.620","00:03:00.880"]
[null,"KŘIVÁNKOVÁ ","Linda","9.A",null,null,null,0,null,null,"00:04:26.020","00:04:49.480"]
[null,"KUBÁTOVÁ","Lucie","9.A",null,null,null,0,null,null,"00:03:42.540","00:03:30.480"]
[null,"ŠIMŮNKOVÁ ","Nikola","9.A",null,null,null,0,null,null,"00:04:49.340","00:05:15.120"]
[null,"ŠMÍDOVÁ","Kristýna","9.A",null,null,null,0,null,null,"00:04:36.990","00:05:15.960"]
[null,"VOTOČKOVÁ ","Nikola","9.A",null,null,null,0,null,"00:02:49.970","00:03:12.760","00:03:22.360"]
[null,"VYHLASOVÁ","Lenka","9.A",null,null,null,0]
[null,"BÖHMOVÁ","Diana","9.B",null,null,null,0,null,null,"00:03:47.200","00:03:34.140"]
[null,"HOUDOVÁ","Tereza","9.B",null,null,null,0,null,null,"00:03:19.550","00:04:28.890"]
[null,"JANÍKOVÁ","Kristýna","9.B",null,null,null,0,null,"00:03:01.370"]
[null,"KUŽELOVÁ","Ela","9.B",null,null,null,0,null,null,"00:03:50.290","00:04:38.890"]
[null,"MATERNOVÁ","Lucie","9.B",null,null,null,0,null,null,"00:04:10.680","00:04:25.040"]
[null,"OPOČENSKÁ","Matylda","9.B",null,null,null,0,null,null,null,"00:04:39.260"]
[null,"PIŠTOROVÁ","Karolína","9.B",null,null,null,0,null,null,"00:03:14.620","00:03:05.440"]
[null,"POKORNÝ","Anna","9.B",null,null,null,0,null,null,null,"00:05:14.170"]
[null,"SUCHÁNKOVÁ","Michaela","9.B",null,null,null,0,null,null,"00:05:09.220","00:04:42.460"]
[null,"ŠUBÍKOVÁ ","Štěpánka","9.B",null,null,null,0,null,null,"00:03:52.980","00:03:57.510"]
[null,"VANCLOVÁ","Pavlína","9.B",null,null,null,0,null,null,"00:04:12.460","00:05:07.360"]

{"sheet":"Ddál","index":29,"n_rows":191,"n_cols":12,"rows_kept":191,"cut":false,"hidden":false,"merged":[]}
[null,null,"VÝKONY  2020 - 2021",null,null,null,"DÁLKA","DĚVČATA  6. -  9.  ROČ."]
[null,null,null,null,null,null,null,null,null,null,"stav  k ",{"$f":"TODAY()","v":"2021-06-28"}]
[null,null,null,null,null,null,null,"   BODY",null,"   19 - 20   ","   18 - 19   ","   17 - 18   "]
[]
["1.",{"$f":"B101","v":"ERBENOVÁ"},{"$f":"C101","v":"Sára"},"6.A",253,null,"Jilemnice  23.09.21",570.39200000000005,null,0,0,0]
["2.",{"$f":"B102","v":"HOFMANOVÁ "},"Nicol","6.A",297,null,"Jilemnice  23.09.21",646.90800000000002,null,0,0,0]
["3.","HOLEŠOVSKÁ","Aneta","6.A",0,null,0,0,null,0,0,0]
["4.","HOLUBCOVÁ","Alena","6.A",290,null,"Jilemnice  23.09.21",634.73500000000001,null,0,0,0]
["5.","KOHOUTOVÁ","Anna","6.A",227,null,"Jilemnice  23.09.21",525.178,null,0,0,0]
["6.","KRAUSOVÁ","Anežka","6.A",0,null,0,0,null,0,0,0]
["7.","KUŽELOVÁ","Apoléna","6.A",0,null,0,0,null,0,0,0]
["8.","MORÁVKOVÁ","Lucie","6.A",0,null,0,0,null,0,0,0]
["9.","SKLENÁROVÁ","Eliška","6.A",0,null,0,0,null,0,0,0]
["10.","ŠTOLFOVÁ","Tereza","6.A",0,null,0,0,null,0,0,0]
["11.","ŠUBÍKOVÁ","Klára","6.A",310,null,"Jilemnice  23.09.21",669.51499999999999,null,0,0,0]
["12.","TULÁČKOVÁ","Natálie","6.A",0,null,0,0,null,0,0,0]
["13.","VOJTÍŠKOVÁ","Ella","6.A",0,null,0,0,null,0,0,0]
["14.","DRUGÁČOVÁ","Kristinka","6.B",307,null,"Jilemnice  23.09.21",664.298,null,0,0,0]
["15.","FAJSTAVROVÁ","Karolína","6.B",0,null,0,0,null,0,0,0]
["16.","FAJSTAVROVÁ","Magdaléna","6.B",0,null,0,0,null,0,0,0]
["17.","HLAVATÁ","Anna","6.B",291,null,"Jilemnice  23.09.21",636.47400000000005,null,0,0,0]
["18.",{"$f":"B118","v":"JINDROVÁ"},"Barbora","6.B",0,null,0,0,null,0,0,0]
["19.","MAŘASOVÁ","Vendula","6.B",0,null,0,0,null,0,0,0]
["20.","PETŘÍČKOVÁ","Natálie","6.B",0,null,0,0,null,0,0,0]
["21.","PETŘÍKOVÁ","Adéla","6.B",192,null,"Jilemnice  23.09.21",464.31300000000005,null,0,0,0]
["22.","REGÁLOVÁ","Karolína","6.B",0,null,0,0,null,0,0,0]
["23.","RIEGROVÁ","Magdaléna","6.B",0,null,0,0,null,0,0,0]
["24.","RYBENSKÁ","Sabina","6.B",0,null,0,0,null,0,0,0]
["25.","STEINEROVÁ","Barbora","6.B",0,null,0,0,null,0,0,0]
["26.","TOMEŠOVÁ","Barbora","6.B",0,null,0,0,null,0,0,0]
["27.","VOHNOUTOVÁ","Aneta","6.B",0,null,0,0,null,0,0,0]
["28.","HAVLÍKOVÁ","Michaela","7.A",0,null,0,0,null,237,0,0]
["29.","HOLUBCOVÁ","Sára","7.A",0,null,0,0,null,327,0,0]
["30.","HONCŮ","Tereza","7.A",0,null,0,0,null,280,0,0]
["31.","HORÁČKOVÁ","Kateřina","7.A",0,null,0,0,null,293,0,0]
["32.","JOUDALOVÁ","Daniela","7.A",0,null,0,0,null,0,0,0]
["33.","KLÍMOVÁ","Anna","7.A",0,null,0,0,null,277,0,0]
["34.",{"$f":"B134","v":"KOHOUTOVÁ"},"Veronika","7.A",0,null,0,0,null,323,0,0]
["35.","KOVÁŘOVÁ","Viktorie","7.A",0,null,0,0,null,279,0,0]
["36.","KYNČLOVÁ","Anna","7.A",0,null,0,0,null,292,0,0]
["37.","MATOUŠOVÁ","Tereza","7.A",0,null,0,0,null,260,0,0]
["38.","MAZÁNKOVÁ","Zuzana","7.A",0,null,0,0,null,241,0,0]
["39.","MORKESOVÁ","Sabrina","7.A",0,null,0,0,null,350,0,0]
["40.","POHOŘALÁ","Alžběta","7.A",0,null,0,0,null,323,0,0]
["41.","SCHOLZOVÁ","Laura","7.A",0,null,0,0,null,225,0,0]
["42.","VÁCLAVÍKOVÁ","Valerie","7.A",0,null,0,0,null,310,0,0]
["43.","ZAPADLOVÁ","Emma","7.A",0,null,0,0,null,0,0,0]
["44.","ŽIŠKOVÁ","Mia","7.A",0,null,0,0,null,0,0,0]
["45.","FARSKÁ","Tereza","7.B",0,null,0,0,null,0,0,0]
["46.","FEIXOVÁ","Rozálie","7.B",0,null,0,0,null,0,0,0]
["47.","FIŠEROVÁ","Michaela","7.B",0,null,0,0,null,0,0,0]
["48.","HAVLÍČKOVÁ","Kristýna","7.B",0,null,0,0,null,0,0,0]
["49.","JODASOVÁ","Nikola","7.B",0,null,0,0,null,319,0,0]
["50.",{"$f":"B150","v":"KADAVÁ"},"Nikola","7.B",0,null,0,0,null,0,0,0]
["51.","KRAFKOVÁ","Lucie","7.B",0,null,0,0,null,0,0,0]
["52.","KŘIVINKOVÁ","Alžběta","7.B",0,null,0,0,null,0,0,0]
["53.","LEŠÁKOVÁ","Lenka","7.B",0,null,0,0,null,0,0,0]
["54.","NYKLÍČKOVÁ","Adéla","7.B",0,null,0,0,null,0,0,0]
["55.","PLŮCHOVÁ","Petra","7.B",0,null,0,0,null,0,0,0]
["56.","PODZIMKOVÁ","Eliška","7.B",0,null,0,0,null,0,0,0]
["57.","RUTKAYOVÁ","Klára","7.B",0,null,0,0,null,0,0,0]
["58.","SEIDLOVÁ","Zuzana","7.B",0,null,0,0,null,0,0,0]
["59.","TOMÁŠOVÁ","Sára","7.B",0,null,0,0,null,0,0,0]
["60.","VANCLOVÁ","Barbora","7.B",0,null,0,0,null,0,0,0]
["61.","VOTOČKOVÁ","Veronika","7.B",0,null,0,0,null,0,0,0]
["62.","HARTIGOVÁ","Anna","8.A",337,null,"Jilemnice  23.09.21",716.46800000000007,null,0,0,0]
["63.","HONCŮ","Rozálie","8.A",391,null,"Jilemnice  23.09.21",810.37400000000002,null,0,0,0]
["64.","CHALOUPSKÁ","Lucie","8.A",380,null,"Jilemnice  23.09.21",791.245,null,320,0,0]
["65.","KŘÍŽKOVÁ","Anna","8.A",278,null,"Jilemnice  23.09.21",613.86700000000008,null,0,0,0]
["66.",{"$f":"B166","v":"LUKEŠOVÁ"},"Kristýna","8.A",341,null,"Jilemnice  23.09.21",723.42400000000009,null,0,0,0]
["67.","MOTLÍKOVÁ","Eliška","8.A",327,null,"Jilemnice  23.09.21",699.07800000000009,null,0,0,0]
["68.","POHOŘELÁ","Amálie","8.A",0,null,0,0,null,0,0,0]
["69.","POLÁČKOVÁ","Natálie","8.A",0,null,0,0,null,0,0,0]
["70.","ŘEHOŘKOVÁ","Lucie","8.A",353,null,"Jilemnice  23.09.21",744.29200000000003,null,0,0,0]
["71.","SKÁLOVÁ","Alena","8.A",312,null,"Jilemnice  23.09.21",672.99300000000005,null,0,0,0]
["72.","VÁVROVÁ ","Aneta","8.A",377,null,"Jilemnice  23.09.21",786.02800000000002,null,0,0,0]
["73.","ZELINKOVÁ","Klára","8.A",344,null,"Jilemnice  23.09.21",728.64100000000008,null,0,0,0]
["74.","JUNGOVÁ ","Lucie","9.A",0,null,0,0,null,0,0,318]
["75.","KŘIVÁNKOVÁ ","Linda","9.A",0,null,0,0,null,0,0,258]
["76.","KUBÁTOVÁ","Lucie","9.A",0,null,0,0,null,0,0,0]
["77.","ŠIMŮNKOVÁ ","Nikola","9.A",0,null,0,0,null,0,0,262]
["78.","ŠMÍDOVÁ","Kristýna","9.A",0,null,0,0,null,0,0,220]
["79.","VOTOČKOVÁ ","Nikola","9.A",0,null,0,0,null,0,0,350]
["80.","VYHLASOVÁ","Lenka","9.A",0,null,0,0,null,0,0,0]
["81.","BÖHMOVÁ","Diana","9.B",0,null,0,0,null,0,0,260]
["82.",{"$f":"B182","v":"HOUDOVÁ"},"Tereza","9.B",0,null,0,0,null,0,0,301]
["83.","JANÍKOVÁ","Kristýna","9.B",0,null,0,0,null,0,0,0]
["84.","KUŽELOVÁ","Ela","9.B",0,null,0,0,null,356,0,351]
["85.","MATERNOVÁ","Lucie","9.B",0,null,0,0,null,0,0,210]
["86.","OPOČENSKÁ","Matylda","9.B",0,null,0,0,null,0,0,293]
["87.","PIŠTOROVÁ","Karolína","9.B",0,null,0,0,null,0,0,337]
["88.","POKORNÝ","Anna","9.B",0,null,0,0,null,0,0,220]
["89.","SUCHÁNKOVÁ","Michaela","9.B",0,null,0,0,null,0,0,190]
["90.","ŠUBÍKOVÁ ","Štěpánka","9.B",0,null,0,0,null,0,0,280]
["91.","VANCLOVÁ","Pavlína","9.B",0,null,0,0,null,0,0,290]
[]
[]
[]
[]
[]
[null,"ERBENOVÁ","Sára","6.A",253,null,"Jilemnice  23.09.21",{"$f":"IF(E101=0,0,IF(E101>0,(E101+75)*1.739))","v":570.39200000000005}]
[null,"HOFMANOVÁ ","Nicol","6.A",297,null,"Jilemnice  23.09.21",646.90800000000002]
[null,"HOLEŠOVSKÁ","Aneta","6.A",{"$f":"E199","v":0},null,null,0]
[null,"HOLUBCOVÁ","Alena","6.A",290,null,"Jilemnice  23.09.21",634.73500000000001]
[null,"KOHOUTOVÁ","Anna","6.A",227,null,"Jilemnice  23.09.21",525.178]
[null,"KRAUSOVÁ","Anežka","6.A",{"$f":"E202","v":0},null,null,0]
[null,"KUŽELOVÁ","Apoléna","6.A",{"$f":"E203","v":0},null,null,0]
[null,"MORÁVKOVÁ","Lucie","6.A",{"$f":"E204","v":0},null,null,0]
[null,"SKLENÁROVÁ","Eliška","6.A",{"$f":"E205","v":0},null,null,0]
[null,"ŠTOLFOVÁ","Tereza","6.A",{"$f":"E206","v":0},null,null,0]
[null,"ŠUBÍKOVÁ","Klára","6.A",310,null,"Jilemnice  23.09.21",669.51499999999999]
[null,"TULÁČKOVÁ","Natálie","6.A",{"$f":"E208","v":0},null,null,0]
[null,"VOJTÍŠKOVÁ","Ella","6.A",{"$f":"E209","v":0},null,null,0]
[null,"DRUGÁČOVÁ","Kristinka","6.B",307,null,"Jilemnice  23.09.21",664.298]
[null,"FAJSTAVROVÁ","Karolína","6.B",{"$f":"E211","v":0},null,null,0]
[null,"FAJSTAVROVÁ","Magdaléna","6.B",{"$f":"E212","v":0},null,null,0]
[null,"HLAVATÁ","Anna","6.B",291,null,"Jilemnice  23.09.21",636.47400000000005]
[null,"JINDROVÁ","Barbora","6.B",{"$f":"E214","v":0},null,null,0]
[null,"MAŘASOVÁ","Vendula","6.B",{"$f":"E215","v":0},null,null,0]
[null,"PETŘÍČKOVÁ","Natálie","6.B",{"$f":"E216","v":0},null,null,0]
[null,"PETŘÍKOVÁ","Adéla","6.B",192,null,"Jilemnice  23.09.21",464.31300000000005]
[null,"REGÁLOVÁ","Karolína","6.B",{"$f":"E218","v":0},null,null,0]
[null,"RIEGROVÁ","Magdaléna","6.B",0,null,null,0]
[null,"RYBENSKÁ","Sabina","6.B",0,null,null,0]
[null,"STEINEROVÁ","Barbora","6.B",0,null,null,0]
[null,"TOMEŠOVÁ","Barbora","6.B",0,null,null,0]
[null,"VOHNOUTOVÁ","Aneta","6.B",0,null,null,0]
[null,"HAVLÍKOVÁ","Michaela","7.A",0,null,null,0,null,237]
[null,"HOLUBCOVÁ","Sára","7.A",0,null,null,0,null,327]
[null,"HONCŮ","Tereza","7.A",0,null,null,0,null,280]
[null,"HORÁČKOVÁ","Kateřina","7.A",0,null,null,0,null,293]
[null,"JOUDALOVÁ","Daniela","7.A",0,null,null,0]
[null,"KLÍMOVÁ","Anna","7.A",0,null,null,{"$f":"IF(E133=0,0,IF(E133>0,(E133+75)*1.739))","v":0},null,277]
[null,"KOHOUTOVÁ","Veronika","7.A",0,null,null,0,null,323]
[null,"KOVÁŘOVÁ","Viktorie","7.A",0,null,null,0,null,279]
[null,"KYNČLOVÁ","Anna","7.A",0,null,null,0,null,292]
[null,"MATOUŠOVÁ","Tereza","7.A",0,null,null,0,null,260]
[null,"MAZÁNKOVÁ","Zuzana","7.A",0,null,null,0,null,241]
[null,"MORKESOVÁ","Sabrina","7.A",0,null,null,0,null,350]
[null,"POHOŘALÁ","Alžběta","7.A",0,null,null,0,null,323]
[null,"SCHOLZOVÁ","Laura","7.A",0,null,null,0,null,225]
[null,"VÁCLAVÍKOVÁ","Valerie","7.A",0,null,null,0,null,310]
[null,"ZAPADLOVÁ","Emma","7.A",0,null,null,0]
[null,"ŽIŠKOVÁ","Mia","7.A",0,null,null,0]
[null,"FARSKÁ","Tereza","7.B",0,null,null,0]
[null,"FEIXOVÁ","Rozálie","7.B",0,null,null,0]
[null,"FIŠEROVÁ","Michaela","7.B",0,null,null,0]
[null,"HAVLÍČKOVÁ","Kristýna","7.B",0,null,null,0]
[null,"JODASOVÁ","Nikola","7.B",0,null,null,0,null,319]
[null,"KADAVÁ","Nikola","7.B",0,null,null,0]
[null,"KRAFKOVÁ","Lucie","7.B",0,null,null,0]
[null,"KŘIVINKOVÁ","Alžběta","7.B",0,null,null,0]
[null,"LEŠÁKOVÁ","Lenka","7.B",0,null,null,0]
[null,"NYKLÍČKOVÁ","Adéla","7.B",0,null,null,0]
[null,"PLŮCHOVÁ","Petra","7.B",0,null,null,0]
[null,"PODZIMKOVÁ","Eliška","7.B",0,null,null,0]
[null,"RUTKAYOVÁ","Klára","7.B",0,null,null,0]
[null,"SEIDLOVÁ","Zuzana","7.B",0,null,null,0]
[null,"TOMÁŠOVÁ","Sára","7.B",0,null,null,0]
[null,"VANCLOVÁ","Barbora","7.B",0,null,null,0]
[null,"VOTOČKOVÁ","Veronika","7.B",0,null,null,0]
[null,"HARTIGOVÁ","Anna","8.A",337,null,"Jilemnice  23.09.21",716.46800000000007]
[null,"HONCŮ","Rozálie","8.A",391,null,"Jilemnice  23.09.21",810.37400000000002]
[null,"CHALOUPSKÁ","Lucie","8.A",380,null,"Jilemnice  23.09.21",791.245,null,320]
[null,"KŘÍŽKOVÁ","Anna","8.A",278,null,"Jilemnice  23.09.21",{"$f":"IF(E165=0,0,IF(E165>0,(E165+75)*1.739))","v":613.86700000000008}]
[null,"LUKEŠOVÁ","Kristýna","8.A",341,null,"Jilemnice  23.09.21",723.42400000000009]
[null,"MOTLÍKOVÁ","Eliška","8.A",327,null,"Jilemnice  23.09.21",699.07800000000009]
[null,"POHOŘELÁ","Amálie","8.A",{"$f":"E264","v":0},null,null,0]
[null,"POLÁČKOVÁ","Natálie","8.A",{"$f":"E265","v":0},null,null,0]
[null,"ŘEHOŘKOVÁ","Lucie","8.A",353,null,"Jilemnice  23.09.21",744.29200000000003]
[null,"SKÁLOVÁ","Alena","8.A",312,null,"Jilemnice  23.09.21",672.99300000000005]
[null,"VÁVROVÁ ","Aneta","8.A",377,null,"Jilemnice  23.09.21",786.02800000000002]
[null,"ZELINKOVÁ","Klára","8.A",344,null,"Jilemnice  23.09.21",728.64100000000008]
[null,"JUNGOVÁ ","Lucie","9.A",{"$f":"E270","v":0},null,null,0,null,null,null,318]
[null,"KŘIVÁNKOVÁ ","Linda","9.A",0,null,null,0,null,null,null,258]
[null,"KUBÁTOVÁ","Lucie","9.A",0,null,null,0]
[null,"ŠIMŮNKOVÁ ","Nikola","9.A",0,null,null,0,null,null,null,262]
[null,"ŠMÍDOVÁ","Kristýna","9.A",0,null,null,0,null,null,null,220]
[null,"VOTOČKOVÁ ","Nikola","9.A",0,null,null,0,null,null,null,350]
[null,"VYHLASOVÁ","Lenka","9.A",0,null,null,0]
[null,"BÖHMOVÁ","Diana","9.B",0,null,null,0,null,null,null,260]
[null,"HOUDOVÁ","Tereza","9.B",0,null,null,0,null,null,null,301]
[null,"JANÍKOVÁ","Kristýna","9.B",0]
[null,"KUŽELOVÁ","Ela","9.B",0,null,null,{"$f":"IF(E184=0,0,IF(E184>0,(E184+75)*1.739))","v":0},null,356,null,351]
[null,"MATERNOVÁ","Lucie","9.B",0,null,null,0,null,null,null,210]
[null,"OPOČENSKÁ","Matylda","9.B",0,null,null,0,null,null,null,293]
[null,"PIŠTOROVÁ","Karolína","9.B",0,null,null,0,null,null,null,337]
[null,"POKORNÝ","Anna","9.B",0,null,null,0,null,null,null,220]
[null,"SUCHÁNKOVÁ","Michaela","9.B",0,null,null,0,null,null,null,190]
[null,"ŠUBÍKOVÁ ","Štěpánka","9.B",0,null,null,0,null,null,null,280]
[null,"VANCLOVÁ","Pavlína","9.B",0,null,null,0,null,null,null,290]

{"sheet":"Dvýš","index":30,"n_rows":191,"n_cols":12,"rows_kept":191,"cut":false,"hidden":false,"merged":[]}
[null,null,"VÝKONY  2020 - 2021",null,null,null,"VÝŠKA","DĚVČATA  6. -  9.  ROČ."]
[null,null,null,null,null,null,null,null,null,null,"stav  k ",{"$f":"TODAY()","v":"2021-06-28"}]
[null,null,null,null,null,null,null,"   BODY",null,"   19 - 20   ","   18 - 19   ","   17 - 18   "]
[]
["1.",{"$f":"B101","v":"ERBENOVÁ"},{"$f":"C101","v":"Sára"},"6.A",0,null,0,0,null,0,0,0]
["2.",{"$f":"B102","v":"HOFMANOVÁ "},"Nicol","6.A",0,null,0,0,null,0,0,0]
["3.","HOLEŠOVSKÁ","Aneta","6.A",0,null,0,0,null,0,0,0]
["4.","HOLUBCOVÁ","Alena","6.A",0,null,0,0,null,0,0,0]
["5.","KOHOUTOVÁ","Anna","6.A",0,null,0,0,null,0,0,0]
["6.","KRAUSOVÁ","Anežka","6.A",0,null,0,0,null,0,0,0]
["7.","KUŽELOVÁ","Apoléna","6.A",0,null,0,0,null,0,0,0]
["8.","MORÁVKOVÁ","Lucie","6.A",0,null,0,0,null,0,0,0]
["9.","SKLENÁROVÁ","Eliška","6.A",0,null,0,0,null,0,0,0]
["10.","ŠTOLFOVÁ","Tereza","6.A",0,null,0,0,null,0,0,0]
["11.","ŠUBÍKOVÁ","Klára","6.A",0,null,0,0,null,0,0,0]
["12.","TULÁČKOVÁ","Natálie","6.A",0,null,0,0,null,0,0,0]
["13.","VOJTÍŠKOVÁ","Ella","6.A",0,null,0,0,null,0,0,0]
["14.","DRUGÁČOVÁ","Kristinka","6.B",0,null,0,0,null,0,0,0]
["15.","FAJSTAVROVÁ","Karolína","6.B",0,null,0,0,null,0,0,0]
["16.","FAJSTAVROVÁ","Magdaléna","6.B",0,null,0,0,null,0,0,0]
["17.","HLAVATÁ","Anna","6.B",0,null,0,0,null,0,0,0]
["18.",{"$f":"B118","v":"JINDROVÁ"},"Barbora","6.B",0,null,0,0,null,0,0,0]
["19.","MAŘASOVÁ","Vendula","6.B",0,null,0,0,null,0,0,0]
["20.","PETŘÍČKOVÁ","Natálie","6.B",0,null,0,0,null,0,0,0]
["21.","PETŘÍKOVÁ","Adéla","6.B",0,null,0,0,null,0,0,0]
["22.","REGÁLOVÁ","Karolína","6.B",0,null,0,0,null,0,0,0]
["23.","RIEGROVÁ","Magdaléna","6.B",0,null,0,0,null,0,0,0]
["24.","RYBENSKÁ","Sabina","6.B",0,null,0,0,null,0,0,0]
["25.","STEINEROVÁ","Barbora","6.B",0,null,0,0,null,0,0,0]
["26.","TOMEŠOVÁ","Barbora","6.B",0,null,0,0,null,0,0,0]
["27.","VOHNOUTOVÁ","Aneta","6.B",0,null,0,0,null,0,0,0]
["28.","HAVLÍKOVÁ","Michaela","7.A",0,null,0,0,null,0,0,0]
["29.","HOLUBCOVÁ","Sára","7.A",0,null,0,0,null,0,0,0]
["30.","HONCŮ","Tereza","7.A",0,null,0,0,null,0,0,0]
["31.","HORÁČKOVÁ","Kateřina","7.A",0,null,0,0,null,0,0,0]
["32.","JOUDALOVÁ","Daniela","7.A",0,null,0,0,null,0,0,0]
["33.","KLÍMOVÁ","Anna","7.A",0,null,0,0,null,0,0,0]
["34.",{"$f":"B134","v":"KOHOUTOVÁ"},"Veronika","7.A",0,null,0,0,null,0,0,0]
["35.","KOVÁŘOVÁ","Viktorie","7.A",0,null,0,0,null,0,0,0]
["36.","KYNČLOVÁ","Anna","7.A",0,null,0,0,null,0,0,0]
["37.","MATOUŠOVÁ","Tereza","7.A",0,null,0,0,null,0,0,0]
["38.","MAZÁNKOVÁ","Zuzana","7.A",0,null,0,0,null,0,0,0]
["39.","MORKESOVÁ","Sabrina","7.A",0,null,0,0,null,0,0,0]
["40.","POHOŘALÁ","Alžběta","7.A",0,null,0,0,null,0,0,0]
["41.","SCHOLZOVÁ","Laura","7.A",0,null,0,0,null,0,0,0]
["42.","VÁCLAVÍKOVÁ","Valerie","7.A",0,null,0,0,null,0,0,0]
["43.","ZAPADLOVÁ","Emma","7.A",0,null,0,0,null,0,0,0]
["44.","ŽIŠKOVÁ","Mia","7.A",0,null,0,0,null,0,0,0]
["45.","FARSKÁ","Tereza","7.B",0,null,0,0,null,0,0,0]
["46.","FEIXOVÁ","Rozálie","7.B",0,null,0,0,null,0,0,0]
["47.","FIŠEROVÁ","Michaela","7.B",0,null,0,0,null,0,0,0]
["48.","HAVLÍČKOVÁ","Kristýna","7.B",0,null,0,0,null,0,0,0]
["49.","JODASOVÁ","Nikola","7.B",0,null,0,0,null,0,0,0]
["50.",{"$f":"B150","v":"KADAVÁ"},"Nikola","7.B",0,null,0,0,null,0,0,0]
["51.","KRAFKOVÁ","Lucie","7.B",0,null,0,0,null,0,0,0]
["52.","KŘIVINKOVÁ","Alžběta","7.B",0,null,0,0,null,0,0,0]
["53.","LEŠÁKOVÁ","Lenka","7.B",0,null,0,0,null,0,0,0]
["54.","NYKLÍČKOVÁ","Adéla","7.B",0,null,0,0,null,0,0,0]
["55.","PLŮCHOVÁ","Petra","7.B",0,null,0,0,null,0,0,0]
["56.","PODZIMKOVÁ","Eliška","7.B",0,null,0,0,null,0,0,0]
["57.","RUTKAYOVÁ","Klára","7.B",0,null,0,0,null,0,0,0]
["58.","SEIDLOVÁ","Zuzana","7.B",0,null,0,0,null,0,0,0]
["59.","TOMÁŠOVÁ","Sára","7.B",0,null,0,0,null,0,0,0]
["60.","VANCLOVÁ","Barbora","7.B",0,null,0,0,null,0,0,0]
["61.","VOTOČKOVÁ","Veronika","7.B",0,null,0,0,null,0,0,0]
["62.","HARTIGOVÁ","Anna","8.A",0,null,0,0,null,0,0,0]
["63.","HONCŮ","Rozálie","8.A",0,null,0,0,null,110,0,0]
["64.","CHALOUPSKÁ","Lucie","8.A",0,null,0,0,null,0,0,0]
["65.","KŘÍŽKOVÁ","Anna","8.A",0,null,0,0,null,0,0,0]
["66.",{"$f":"B166","v":"LUKEŠOVÁ"},"Kristýna","8.A",0,null,0,0,null,0,0,0]
["67.","MOTLÍKOVÁ","Eliška","8.A",0,null,0,0,null,0,0,0]
["68.","POHOŘELÁ","Amálie","8.A",0,null,0,0,null,0,0,0]
["69.","POLÁČKOVÁ","Natálie","8.A",0,null,0,0,null,0,0,0]
["70.","ŘEHOŘKOVÁ","Lucie","8.A",0,null,0,0,null,0,0,0]
["71.","SKÁLOVÁ","Alena","8.A",0,null,0,0,null,0,0,0]
["72.","VÁVROVÁ ","Aneta","8.A",0,null,0,0,null,0,0,0]
["73.","ZELINKOVÁ","Klára","8.A",0,null,0,0,null,105,0,0]
["74.","JUNGOVÁ ","Lucie","9.A",0,null,0,0,null,0,125,115]
["75.","KŘIVÁNKOVÁ ","Linda","9.A",0,null,0,0,null,0,93,95]
["76.","KUBÁTOVÁ","Lucie","9.A",0,null,0,0,null,0,100,105]
["77.","ŠIMŮNKOVÁ ","Nikola","9.A",0,null,0,0,null,0,100,100]
["78.","ŠMÍDOVÁ","Kristýna","9.A",0,null,0,0,null,0,0,0]
["79.","VOTOČKOVÁ ","Nikola","9.A",0,null,0,0,null,115,115,105]
["80.","VYHLASOVÁ","Lenka","9.A",0,null,0,0,null,0,93,95]
["81.","BÖHMOVÁ","Diana","9.B",0,null,0,0,null,0,93,95]
["82.",{"$f":"B182","v":"HOUDOVÁ"},"Tereza","9.B",0,null,0,0,null,0,116,110]
["83.","JANÍKOVÁ","Kristýna","9.B",0,null,0,0,null,130,0,0]
["84.","KUŽELOVÁ","Ela","9.B",0,null,0,0,null,0,107,105]
["85.","MATERNOVÁ","Lucie","9.B",0,null,0,0,null,0,93,80]
["86.","OPOČENSKÁ","Matylda","9.B",0,null,0,0,null,0,0,0]
["87.","PIŠTOROVÁ","Karolína","9.B",0,null,0,0,null,0,115,95]
["88.","POKORNÝ","Anna","9.B",0,null,0,0,null,0,93,80]
["89.","SUCHÁNKOVÁ","Michaela","9.B",0,null,0,0,null,0,93,80]
["90.","ŠUBÍKOVÁ ","Štěpánka","9.B",0,null,0,0,null,0,100,105]
["91.","VANCLOVÁ","Pavlína","9.B",0,null,0,0,null,0,0,105]
[]
[]
[]
[]
[]
[null,"ERBENOVÁ","Sára","6.A",null,null,null,{"$f":"IF(E101=0,0,(IF(E101>0,E101*5*1.3-8)))","v":0}]
[null,"HOFMANOVÁ ","Nicol","6.A",null,null,null,0]
[null,"HOLEŠOVSKÁ","Aneta","6.A",null,null,null,0]
[null,"HOLUBCOVÁ","Alena","6.A",null,null,null,0]
[null,"KOHOUTOVÁ","Anna","6.A",null,null,null,0]
[null,"KRAUSOVÁ","Anežka","6.A",null,null,null,0]
[null,"KUŽELOVÁ","Apoléna","6.A",null,null,null,0]
[null,"MORÁVKOVÁ","Lucie","6.A",null,null,null,0]
[null,"SKLENÁROVÁ","Eliška","6.A",null,null,null,0]
[null,"ŠTOLFOVÁ","Tereza","6.A",null,null,null,0]
[null,"ŠUBÍKOVÁ","Klára","6.A",null,null,null,0]
[null,"TULÁČKOVÁ","Natálie","6.A",null,null,null,0]
[null,"VOJTÍŠKOVÁ","Ella","6.A",null,null,null,0]
[null,"DRUGÁČOVÁ","Kristinka","6.B",null,null,null,0]
[null,"FAJSTAVROVÁ","Karolína","6.B",null,null,null,0]
[null,"FAJSTAVROVÁ","Magdaléna","6.B",null,null,null,0]
[null,"HLAVATÁ","Anna","6.B",null,null,null,0]
[null,"JINDROVÁ","Barbora","6.B",null,null,null,0]
[null,"MAŘASOVÁ","Vendula","6.B",null,null,null,0]
[null,"PETŘÍČKOVÁ","Natálie","6.B",null,null,null,0]
[null,"PETŘÍKOVÁ","Adéla","6.B",null,null,null,0]
[null,"REGÁLOVÁ","Karolína","6.B",null,null,null,0]
[null,"RIEGROVÁ","Magdaléna","6.B",null,null,null,0]
[null,"RYBENSKÁ","Sabina","6.B",null,null,null,0]
[null,"STEINEROVÁ","Barbora","6.B",null,null,null,0]
[null,"TOMEŠOVÁ","Barbora","6.B",null,null,null,0]
[null,"VOHNOUTOVÁ","Aneta","6.B",null,null,null,0]
[null,"HAVLÍKOVÁ","Michaela","7.A",null,null,null,0]
[null,"HOLUBCOVÁ","Sára","7.A",null,null,null,0]
[null,"HONCŮ","Tereza","7.A",null,null,null,0]
[null,"HORÁČKOVÁ","Kateřina","7.A",null,null,null,0]
[null,"JOUDALOVÁ","Daniela","7.A",null,null,null,0]
[null,"KLÍMOVÁ","Anna","7.A",null,null,null,{"$f":"IF(E133=0,0,(IF(E133>0,E133*5*1.3-8)))","v":0}]
[null,"KOHOUTOVÁ","Veronika","7.A",null,null,null,0]
[null,"KOVÁŘOVÁ","Viktorie","7.A",null,null,null,0]
[null,"KYNČLOVÁ","Anna","7.A",null,null,null,0]
[null,"MATOUŠOVÁ","Tereza","7.A",null,null,null,0]
[null,"MAZÁNKOVÁ","Zuzana","7.A",null,null,null,0]
[null,"MORKESOVÁ","Sabrina","7.A",null,null,null,0]
[null,"POHOŘALÁ","Alžběta","7.A",null,null,null,0]
[null,"SCHOLZOVÁ","Laura","7.A",null,null,null,0]
[null,"VÁCLAVÍKOVÁ","Valerie","7.A",null,null,null,0]
[null,"ZAPADLOVÁ","Emma","7.A",null,null,null,0]
[null,"ŽIŠKOVÁ","Mia","7.A",null,null,null,0]
[null,"FARSKÁ","Tereza","7.B",null,null,null,0]
[null,"FEIXOVÁ","Rozálie","7.B",null,null,null,0]
[null,"FIŠEROVÁ","Michaela","7.B",null,null,null,0]
[null,"HAVLÍČKOVÁ","Kristýna","7.B",null,null,null,0]
[null,"JODASOVÁ","Nikola","7.B",null,null,null,0]
[null,"KADAVÁ","Nikola","7.B",null,null,null,0]
[null,"KRAFKOVÁ","Lucie","7.B",null,null,null,0]
[null,"KŘIVINKOVÁ","Alžběta","7.B",null,null,null,0]
[null,"LEŠÁKOVÁ","Lenka","7.B",null,null,null,0]
[null,"NYKLÍČKOVÁ","Adéla","7.B",null,null,null,0]
[null,"PLŮCHOVÁ","Petra","7.B",null,null,null,0]
[null,"PODZIMKOVÁ","Eliška","7.B",null,null,null,0]
[null,"RUTKAYOVÁ","Klára","7.B",null,null,null,0]
[null,"SEIDLOVÁ","Zuzana","7.B",null,null,null,0]
[null,"TOMÁŠOVÁ","Sára","7.B",null,null,null,0]
[null,"VANCLOVÁ","Barbora","7.B",null,null,null,0]
[null,"VOTOČKOVÁ","Veronika","7.B",null,null,null,0]
[null,"HARTIGOVÁ","Anna","8.A",null,null,null,0]
[null,"HONCŮ","Rozálie","8.A",null,null,null,0,null,110]
[null,"CHALOUPSKÁ","Lucie","8.A",null,null,null,0]
[null,"KŘÍŽKOVÁ","Anna","8.A",null,null,null,{"$f":"IF(E165=0,0,(IF(E165>0,E165*5*1.3-8)))","v":0}]
[null,"LUKEŠOVÁ","Kristýna","8.A",null,null,null,0]
[null,"MOTLÍKOVÁ","Eliška","8.A",null,null,null,0]
[null,"POHOŘELÁ","Amálie","8.A",null,null,null,0]
[null,"POLÁČKOVÁ","Natálie","8.A",null,null,null,0]
[null,"ŘEHOŘKOVÁ","Lucie","8.A",null,null,null,0]
[null,"SKÁLOVÁ","Alena","8.A",null,null,null,0]
[null,"VÁVROVÁ ","Aneta","8.A",null,null,null,0]
[null,"ZELINKOVÁ","Klára","8.A",null,null,null,0,null,105]
[null,"JUNGOVÁ ","Lucie","9.A",null,null,null,0,null,null,125,115]
[null,"KŘIVÁNKOVÁ ","Linda","9.A",null,null,null,0,null,null,93,95]
[null,"KUBÁTOVÁ","Lucie","9.A",null,null,null,0,null,null,100,105]
[null,"ŠIMŮNKOVÁ ","Nikola","9.A",null,null,null,0,null,null,100,100]
[null,"ŠMÍDOVÁ","Kristýna","9.A",null,null,null,0]
[null,"VOTOČKOVÁ ","Nikola","9.A",null,null,null,0,null,115,115,105]
[null,"VYHLASOVÁ","Lenka","9.A",null,null,null,0,null,null,93,95]
[null,"BÖHMOVÁ","Diana","9.B",null,null,null,0,null,null,93,95]
[null,"HOUDOVÁ","Tereza","9.B",null,null,null,0,null,null,116,110]
[null,"JANÍKOVÁ","Kristýna","9.B",null,null,null,0,null,130]
[null,"KUŽELOVÁ","Ela","9.B",null,null,null,0,null,null,107,105]
[null,"MATERNOVÁ","Lucie","9.B",null,null,null,0,null,null,93,80]
[null,"OPOČENSKÁ","Matylda","9.B",null,null,null,0]
[null,"PIŠTOROVÁ","Karolína","9.B",null,null,null,0,null,null,115,95]
[null,"POKORNÝ","Anna","9.B",null,null,null,0,null,null,93,80]
[null,"SUCHÁNKOVÁ","Michaela","9.B",null,null,null,0,null,null,93,80]
[null,"ŠUBÍKOVÁ ","Štěpánka","9.B",null,null,null,0,null,null,100,105]
[null,"VANCLOVÁ","Pavlína","9.B",null,null,null,0,null,null,null,105]

{"sheet":"Dmíč","index":31,"n_rows":191,"n_cols":12,"rows_kept":191,"cut":false,"hidden":false,"merged":[]}
[null,null,"VÝKONY  2020 - 2021",null,null,null,"MÍČEK","DĚVČATA  6. -  9.  ROČ."]
[null,null,null,null,null,null,null,null,null,null,"stav  k ",{"$f":"TODAY()","v":44375}]
[null,null,null,null,null,null,null,"   BODY",null,"   19 - 20   ","   18 - 19   ","   17 - 18   "]
[]
["1.",{"$f":"B101","v":"ERBENOVÁ"},{"$f":"C101","v":"Sára"},"6.A",0,null,0,0,null,0,0,0]
["2.",{"$f":"B102","v":"HOFMANOVÁ "},"Nicol","6.A",0,null,0,0,null,0,0,0]
["3.","HOLEŠOVSKÁ","Aneta","6.A",0,null,0,0,null,0,0,0]
["4.","HOLUBCOVÁ","Alena","6.A",0,null,0,0,null,0,0,0]
["5.","KOHOUTOVÁ","Anna","6.A",0,null,0,0,null,0,0,0]
["6.","KRAUSOVÁ","Anežka","6.A",0,null,0,0,null,0,0,0]
["7.","KUŽELOVÁ","Apoléna","6.A",0,null,0,0,null,0,0,0]
["8.","MORÁVKOVÁ","Lucie","6.A",0,null,0,0,null,0,0,0]
["9.","SKLENÁROVÁ","Eliška","6.A",0,null,0,0,null,0,0,0]
["10.","ŠTOLFOVÁ","Tereza","6.A",0,null,0,0,null,0,0,0]
["11.","ŠUBÍKOVÁ","Klára","6.A",0,null,0,0,null,0,0,0]
["12.","TULÁČKOVÁ","Natálie","6.A",0,null,0,0,null,0,0,0]
["13.","VOJTÍŠKOVÁ","Ella","6.A",0,null,0,0,null,0,0,0]
["14.","DRUGÁČOVÁ","Kristinka","6.B",0,null,0,0,null,0,0,0]
["15.","FAJSTAVROVÁ","Karolína","6.B",0,null,0,0,null,0,0,0]
["16.","FAJSTAVROVÁ","Magdaléna","6.B",0,null,0,0,null,0,0,0]
["17.","HLAVATÁ","Anna","6.B",0,null,0,0,null,0,0,0]
["18.",{"$f":"B118","v":"JINDROVÁ"},"Barbora","6.B",0,null,0,0,null,0,0,0]
["19.","MAŘASOVÁ","Vendula","6.B",0,null,0,0,null,0,0,0]
["20.","PETŘÍČKOVÁ","Natálie","6.B",0,null,0,0,null,0,0,0]
["21.","PETŘÍKOVÁ","Adéla","6.B",0,null,0,0,null,0,0,0]
["22.","REGÁLOVÁ","Karolína","6.B",0,null,0,0,null,0,0,0]
["23.","RIEGROVÁ","Magdaléna","6.B",0,null,0,0,null,0,0,0]
["24.","RYBENSKÁ","Sabina","6.B",0,null,0,0,null,0,0,0]
["25.","STEINEROVÁ","Barbora","6.B",0,null,0,0,null,0,0,0]
["26.","TOMEŠOVÁ","Barbora","6.B",0,null,0,0,null,0,0,0]
["27.","VOHNOUTOVÁ","Aneta","6.B",0,null,0,0,null,0,0,0]
["28.","HAVLÍKOVÁ","Michaela","7.A",0,null,0,0,null,10.5,0,0]
["29.","HOLUBCOVÁ","Sára","7.A",0,null,0,0,null,0,0,0]
["30.","HONCŮ","Tereza","7.A",0,null,0,0,null,18.5,0,0]
["31.","HORÁČKOVÁ","Kateřina","7.A",0,null,0,0,null,21,0,0]
["32.","JOUDALOVÁ","Daniela","7.A",0,null,0,0,null,10,0,0]
["33.","KLÍMOVÁ","Anna","7.A",0,null,0,0,null,17.5,0,0]
["34.",{"$f":"B134","v":"KOHOUTOVÁ"},"Veronika","7.A",0,null,0,0,null,24,0,0]
["35.","KOVÁŘOVÁ","Viktorie","7.A",0,null,0,0,null,17.5,0,0]
["36.","KYNČLOVÁ","Anna","7.A",0,null,0,0,null,21,0,0]
["37.","MATOUŠOVÁ","Tereza","7.A",0,null,0,0,null,17.5,0,0]
["38.","MAZÁNKOVÁ","Zuzana","7.A",0,null,0,0,null,14.5,0,0]
["39.","MORKESOVÁ","Sabrina","7.A",0,null,0,0,null,36.5,0,0]
["40.","POHOŘALÁ","Alžběta","7.A",0,null,0,0,null,15.5,0,0]
["41.","SCHOLZOVÁ","Laura","7.A",0,null,0,0,null,0,0,0]
["42.","VÁCLAVÍKOVÁ","Valerie","7.A",0,null,0,0,null,25.5,0,0]
["43.","ZAPADLOVÁ","Emma","7.A",0,null,0,0,null,27.5,0,0]
["44.","ŽIŠKOVÁ","Mia","7.A",0,null,0,0,null,0,0,0]
["45.","FARSKÁ","Tereza","7.B",0,null,0,0,null,0,0,0]
["46.","FEIXOVÁ","Rozálie","7.B",0,null,0,0,null,0,0,0]
["47.","FIŠEROVÁ","Michaela","7.B",0,null,0,0,null,0,0,0]
["48.","HAVLÍČKOVÁ","Kristýna","7.B",0,null,0,0,null,0,0,0]
["49.","JODASOVÁ","Nikola","7.B",0,null,0,0,null,24,0,0]
["50.",{"$f":"B150","v":"KADAVÁ"},"Nikola","7.B",0,null,0,0,null,0,0,0]
["51.","KRAFKOVÁ","Lucie","7.B",0,null,0,0,null,0,0,0]
["52.","KŘIVINKOVÁ","Alžběta","7.B",0,null,0,0,null,0,0,0]
["53.","LEŠÁKOVÁ","Lenka","7.B",0,null,0,0,null,0,0,0]
["54.","NYKLÍČKOVÁ","Adéla","7.B",0,null,0,0,null,0,0,0]
["55.","PLŮCHOVÁ","Petra","7.B",0,null,0,0,null,0,0,0]
["56.","PODZIMKOVÁ","Eliška","7.B",0,null,0,0,null,0,0,0]
["57.","RUTKAYOVÁ","Klára","7.B",0,null,0,0,null,0,0,0]
["58.","SEIDLOVÁ","Zuzana","7.B",0,null,0,0,null,0,0,0]
["59.","TOMÁŠOVÁ","Sára","7.B",0,null,0,0,null,0,0,0]
["60.","VANCLOVÁ","Barbora","7.B",0,null,0,0,null,0,0,0]
["61.","VOTOČKOVÁ","Veronika","7.B",0,null,0,0,null,0,0,0]
["62.","HARTIGOVÁ","Anna","8.A",0,null,0,0,null,0,20.5,0]
["63.","HONCŮ","Rozálie","8.A",0,null,0,0,null,21.5,20,0]
["64.","CHALOUPSKÁ","Lucie","8.A",0,null,0,0,null,0,22,0]
["65.","KŘÍŽKOVÁ","Anna","8.A",0,null,0,0,null,0,17,0]
["66.",{"$f":"B166","v":"LUKEŠOVÁ"},"Kristýna","8.A",0,null,0,0,null,0,16.5,0]
["67.","MOTLÍKOVÁ","Eliška","8.A",0,null,0,0,null,0,17,0]
["68.","POHOŘELÁ","Amálie","8.A",0,null,0,0,null,0,14.5,0]
["69.","POLÁČKOVÁ","Natálie","8.A",0,null,0,0,null,0,18.5,0]
["70.","ŘEHOŘKOVÁ","Lucie","8.A",0,null,0,0,null,0,29,0]
["71.","SKÁLOVÁ","Alena","8.A",0,null,0,0,null,0,14,0]
["72.","VÁVROVÁ ","Aneta","8.A",0,null,0,0,null,0,19.5,0]
["73.","ZELINKOVÁ","Klára","8.A",0,null,0,0,null,22,20,0]
["74.","JUNGOVÁ ","Lucie","9.A",0,null,0,0,null,19.5,22.5,20]
["75.","KŘIVÁNKOVÁ ","Linda","9.A",0,null,0,0,null,15,16,15]
["76.","KUBÁTOVÁ","Lucie","9.A",0,null,0,0,null,20.5,21,21]
["77.","ŠIMŮNKOVÁ ","Nikola","9.A",0,null,0,0,null,15,17,15]
["78.","ŠMÍDOVÁ","Kristýna","9.A",0,null,0,0,null,24.5,24,0]
["79.","VOTOČKOVÁ ","Nikola","9.A",0,null,0,0,null,25.12,26,22.5]
["80.","VYHLASOVÁ","Lenka","9.A",0,null,0,0,null,0,23,28.31]
["81.","BÖHMOVÁ","Diana","9.B",0,null,0,0,null,0,24.5,22.5]
["82.",{"$f":"B182","v":"HOUDOVÁ"},"Tereza","9.B",0,null,0,0,null,31,30,24.5]
["83.","JANÍKOVÁ","Kristýna","9.B",0,null,0,0,null,32.520000000000003,0,0]
["84.","KUŽELOVÁ","Ela","9.B",0,null,0,0,null,21,22,22.5]
["85.","MATERNOVÁ","Lucie","9.B",0,null,0,0,null,13,12.5,13]
["86.","OPOČENSKÁ","Matylda","9.B",0,null,0,0,null,0,15,14]
["87.","PIŠTOROVÁ","Karolína","9.B",0,null,0,0,null,21.5,23,21]
["88.",{"$f":"B188","v":"POKORNÝ"},"Anna","9.B",0,null,0,0,null,14,13.5,12.5]
["89.",{"$f":"B189","v":"SUCHÁNKOVÁ"},"Michaela","9.B",0,null,0,0,null,15.5,16,15]
["90.","ŠUBÍKOVÁ ","Štěpánka","9.B",0,null,0,0,null,17.5,17.5,16]
["91.",{"$f":"B191","v":"VANCLOVÁ"},"Pavlína","9.B",0,null,0,0,null,21.5,22,20]
[]
[]
[]
[]
[]
[null,"ERBENOVÁ","Sára","6.A",null,null,null,{"$f":"IF(E101=0,0,IF(E101>0,E101*10*1.82+3))","v":0}]
[null,"HOFMANOVÁ ","Nicol","6.A",null,null,null,0]
[null,"HOLEŠOVSKÁ","Aneta","6.A",null,null,null,0]
[null,"HOLUBCOVÁ","Alena","6.A",null,null,null,0]
[null,"KOHOUTOVÁ","Anna","6.A",null,null,null,0]
[null,"KRAUSOVÁ","Anežka","6.A",null,null,null,0]
[null,"KUŽELOVÁ","Apoléna","6.A",null,null,null,0]
[null,"MORÁVKOVÁ","Lucie","6.A",null,null,null,0]
[null,"SKLENÁROVÁ","Eliška","6.A",null,null,null,0]
[null,"ŠTOLFOVÁ","Tereza","6.A",null,null,null,0]
[null,"ŠUBÍKOVÁ","Klára","6.A",null,null,null,0]
[null,"TULÁČKOVÁ","Natálie","6.A",null,null,null,0]
[null,"VOJTÍŠKOVÁ","Ella","6.A",null,null,null,0]
[null,"DRUGÁČOVÁ","Kristinka","6.B",null,null,null,0]
[null,"FAJSTAVROVÁ","Karolína","6.B",null,null,null,0]
[null,"FAJSTAVROVÁ","Magdaléna","6.B",null,null,null,0]
[null,"HLAVATÁ","Anna","6.B",null,null,null,0]
[null,"JINDROVÁ","Barbora","6.B",null,null,null,0]
[null,"MAŘASOVÁ","Vendula","6.B",null,null,null,0]
[null,"PETŘÍČKOVÁ","Natálie","6.B",null,null,null,0]
[null,"PETŘÍKOVÁ","Adéla","6.B",null,null,null,0]
[null,"REGÁLOVÁ","Karolína","6.B",null,null,null,0]
[null,"RIEGROVÁ","Magdaléna","6.B",null,null,null,0]
[null,"RYBENSKÁ","Sabina","6.B",null,null,null,0]
[null,"STEINEROVÁ","Barbora","6.B",null,null,null,0]
[null,"TOMEŠOVÁ","Barbora","6.B",null,null,null,0]
[null,"VOHNOUTOVÁ","Aneta","6.B",null,null,null,0]
[null,"HAVLÍKOVÁ","Michaela","7.A",null,null,null,0,null,10.5]
[null,"HOLUBCOVÁ","Sára","7.A",null,null,null,0]
[null,"HONCŮ","Tereza","7.A",null,null,null,0,null,18.5]
[null,"HORÁČKOVÁ","Kateřina","7.A",null,null,null,0,null,21]
[null,"JOUDALOVÁ","Daniela","7.A",null,null,null,0,null,10]
[null,"KLÍMOVÁ","Anna","7.A",null,null,null,{"$f":"IF(E133=0,0,IF(E133>0,E133*10*1.82+3))","v":0},null,17.5]
[null,"KOHOUTOVÁ","Veronika","7.A",null,null,null,0,null,24]
[null,"KOVÁŘOVÁ","Viktorie","7.A",null,null,null,0,null,17.5]
[null,"KYNČLOVÁ","Anna","7.A",null,null,null,0,null,21]
[null,"MATOUŠOVÁ","Tereza","7.A",null,null,null,0,null,17.5]
[null,"MAZÁNKOVÁ","Zuzana","7.A",null,null,null,0,null,14.5]
[null,"MORKESOVÁ","Sabrina","7.A",null,null,null,0,null,36.5]
[null,"POHOŘALÁ","Alžběta","7.A",null,null,null,0,null,15.5]
[null,"SCHOLZOVÁ","Laura","7.A",null,null,null,0]
[null,"VÁCLAVÍKOVÁ","Valerie","7.A",null,null,null,0,null,25.5]
[null,"ZAPADLOVÁ","Emma","7.A",null,null,null,0,null,27.5]
[null,"ŽIŠKOVÁ","Mia","7.A",null,null,null,0]
[null,"FARSKÁ","Tereza","7.B",null,null,null,0]
[null,"FEIXOVÁ","Rozálie","7.B",null,null,null,0]
[null,"FIŠEROVÁ","Michaela","7.B",null,null,null,0]
[null,"HAVLÍČKOVÁ","Kristýna","7.B",null,null,null,0]
[null,"JODASOVÁ","Nikola","7.B",null,null,null,0,null,24]
[null,"KADAVÁ","Nikola","7.B",null,null,null,0]
[null,"KRAFKOVÁ","Lucie","7.B",null,null,null,0]
[null,"KŘIVINKOVÁ","Alžběta","7.B",null,null,null,0]
[null,"LEŠÁKOVÁ","Lenka","7.B",null,null,null,0]
[null,"NYKLÍČKOVÁ","Adéla","7.B",null,null,null,0]
[null,"PLŮCHOVÁ","Petra","7.B",null,null,null,0]
[null,"PODZIMKOVÁ","Eliška","7.B",null,null,null,0]
[null,"RUTKAYOVÁ","Klára","7.B",null,null,null,0]
[null,"SEIDLOVÁ","Zuzana","7.B",null,null,null,0]
[null,"TOMÁŠOVÁ","Sára","7.B",null,null,null,0]
[null,"VANCLOVÁ","Barbora","7.B",null,null,null,0]
[null,"VOTOČKOVÁ","Veronika","7.B",null,null,null,0]
[null,"HARTIGOVÁ","Anna","8.A",null,null,null,0,null,null,20.5]
[null,"HONCŮ","Rozálie","8.A",null,null,null,0,null,21.5,20]
[null,"CHALOUPSKÁ","Lucie","8.A",null,null,null,0,null,null,22]
[null,"KŘÍŽKOVÁ","Anna","8.A",null,null,null,{"$f":"IF(E165=0,0,IF(E165>0,E165*10*1.82+3))","v":0},null,null,17]
[null,"LUKEŠOVÁ","Kristýna","8.A",null,null,null,0,null,null,16.5]
[null,"MOTLÍKOVÁ","Eliška","8.A",null,null,null,0,null,null,17]
[null,"POHOŘELÁ","Amálie","8.A",null,null,null,0,null,null,14.5]
[null,"POLÁČKOVÁ","Natálie","8.A",null,null,null,0,null,null,18.5]
[null,"ŘEHOŘKOVÁ","Lucie","8.A",null,null,null,0,null,null,29]
[null,"SKÁLOVÁ","Alena","8.A",null,null,null,0,null,null,14]
[null,"VÁVROVÁ ","Aneta","8.A",null,null,null,0,null,null,19.5]
[null,"ZELINKOVÁ","Klára","8.A",null,null,null,0,null,22,20]
[null,"JUNGOVÁ ","Lucie","9.A",null,null,null,0,null,19.5,22.5,20]
[null,"KŘIVÁNKOVÁ ","Linda","9.A",null,null,null,0,null,15,16,15]
[null,"KUBÁTOVÁ","Lucie","9.A",null,null,null,0,null,20.5,21,21]
[null,"ŠIMŮNKOVÁ ","Nikola","9.A",null,null,null,0,null,15,17,15]
[null,"ŠMÍDOVÁ","Kristýna","9.A",null,null,null,0,null,24.5,24]
[null,"VOTOČKOVÁ ","Nikola","9.A",null,null,null,0,null,25.12,26,22.5]
[null,"VYHLASOVÁ","Lenka","9.A",null,null,null,0,null,null,23,28.31]
[null,"BÖHMOVÁ","Diana","9.B",null,null,null,0,null,null,24.5,22.5]
[null,"HOUDOVÁ","Tereza","9.B",null,null,null,0,null,31,30,24.5]
[null,"JANÍKOVÁ","Kristýna","9.B",null,null,null,0,null,32.520000000000003]
[null,"KUŽELOVÁ","Ela","9.B",null,null,null,0,null,21,22,22.5]
[null,"MATERNOVÁ","Lucie","9.B",null,null,null,0,null,13,12.5,13]
[null,"OPOČENSKÁ","Matylda","9.B",null,null,null,0,null,null,15,14]
[null,"PIŠTOROVÁ","Karolína","9.B",null,null,null,0,null,21.5,23,21]
[null,"POKORNÝ","Anna","9.B",null,null,null,0,null,14,13.5,12.5]
[null,"SUCHÁNKOVÁ","Michaela","9.B",null,null,null,0,null,15.5,16,15]
[null,"ŠUBÍKOVÁ ","Štěpánka","9.B",null,null,null,0,null,17.5,17.5,16]
[null,"VANCLOVÁ","Pavlína","9.B",null,null,null,0,null,21.5,22,20]

{"sheet":"Dkou","index":32,"n_rows":191,"n_cols":12,"rows_kept":191,"cut":false,"hidden":false,"merged":[]}
[null,null,"VÝKONY   2020 - 2021",null,null,null,"KOULE","DĚVČATA  6. -  9.  ROČ."]
[null,null,null,null,null,null,null,null,null,null,"stav  k ",{"$f":"TODAY()","v":44375}]
[null,null,null,null,null,null,null,"   BODY",null,"   19 - 20   ","   18 - 19   ","   17 - 18   "]
[]
["1.",{"$f":"B101","v":"ERBENOVÁ"},{"$f":"C101","v":"Sára"},"6.A",0,null,0,0,null,0,0,0]
["2.",{"$f":"B102","v":"HOFMANOVÁ "},"Nicol","6.A",0,null,0,0,null,0,0,0]
["3.","HOLEŠOVSKÁ","Aneta","6.A",0,null,0,0,null,0,0,0]
["4.","HOLUBCOVÁ","Alena","6.A",0,null,0,0,null,0,0,0]
["5.","KOHOUTOVÁ","Anna","6.A",0,null,0,0,null,0,0,0]
["6.","KRAUSOVÁ","Anežka","6.A",0,null,0,0,null,0,0,0]
["7.","KUŽELOVÁ","Apoléna","6.A",0,null,0,0,null,0,0,0]
["8.","MORÁVKOVÁ","Lucie","6.A",0,null,0,0,null,0,0,0]
["9.","SKLENÁROVÁ","Eliška","6.A",0,null,0,0,null,0,0,0]
["10.","ŠTOLFOVÁ","Tereza","6.A",0,null,0,0,null,0,0,0]
["11.","ŠUBÍKOVÁ","Klára","6.A",0,null,0,0,null,0,0,0]
["12.","TULÁČKOVÁ","Natálie","6.A",0,null,0,0,null,0,0,0]
["13.","VOJTÍŠKOVÁ","Ella","6.A",0,null,0,0,null,0,0,0]
["14.","DRUGÁČOVÁ","Kristinka","6.B",0,null,0,0,null,0,0,0]
["15.","FAJSTAVROVÁ","Karolína","6.B",0,null,0,0,null,0,0,0]
["16.","FAJSTAVROVÁ","Magdaléna","6.B",0,null,0,0,null,0,0,0]
["17.","HLAVATÁ","Anna","6.B",0,null,0,0,null,0,0,0]
["18.",{"$f":"B118","v":"JINDROVÁ"},"Barbora","6.B",0,null,0,0,null,0,0,0]
["19.","MAŘASOVÁ","Vendula","6.B",0,null,0,0,null,0,0,0]
["20.","PETŘÍČKOVÁ","Natálie","6.B",0,null,0,0,null,0,0,0]
["21.","PETŘÍKOVÁ","Adéla","6.B",0,null,0,0,null,0,0,0]
["22.","REGÁLOVÁ","Karolína","6.B",0,null,0,0,null,0,0,0]
["23.","RIEGROVÁ","Magdaléna","6.B",0,null,0,0,null,0,0,0]
["24.","RYBENSKÁ","Sabina","6.B",0,null,0,0,null,0,0,0]
["25.","STEINEROVÁ","Barbora","6.B",0,null,0,0,null,0,0,0]
["26.","TOMEŠOVÁ","Barbora","6.B",0,null,0,0,null,0,0,0]
["27.","VOHNOUTOVÁ","Aneta","6.B",0,null,0,0,null,0,0,0]
["28.","HAVLÍKOVÁ","Michaela","7.A",2.61,null,"Jilemnice  02.10.20",254.2222222222222,null,0,0,0]
["29.","HOLUBCOVÁ","Sára","7.A",4.04,null,"Jilemnice  02.10.20",381.33333333333331,null,3.1,0,0]
["30.","HONCŮ","Tereza","7.A",3.76,null,"Jilemnice  02.10.20",356.4444444444444,null,2.62,0,0]
["31.","HORÁČKOVÁ","Kateřina","7.A",5.5,null,"Jilemnice  02.10.20",511.11111111111109,null,4.9000000000000004,0,0]
["32.","JOUDALOVÁ","Daniela","7.A",3.85,null,"Jilemnice  02.10.20",364.44444444444446,null,2.87,0,0]
["33.","KLÍMOVÁ","Anna","7.A",4.5,null,"Jilemnice  02.10.20",422.22222222222223,null,4.4400000000000004,0,0]
["34.",{"$f":"B134","v":"KOHOUTOVÁ"},"Veronika","7.A",5.31,null,"Jilemnice  02.10.20",494.22222222222217,null,3.57,0,0]
["35.","KOVÁŘOVÁ","Viktorie","7.A",3.94,null,"Jilemnice  02.10.20",372.4444444444444,null,3.16,0,0]
["36.","KYNČLOVÁ","Anna","7.A",3.46,null,"Jilemnice  02.10.20",329.77777777777777,null,2.46,0,0]
["37.","MATOUŠOVÁ","Tereza","7.A",4.6100000000000003,null,"Jilemnice  02.10.20",432,null,3.51,0,0]
["38.","MAZÁNKOVÁ","Zuzana","7.A",4.5,null,"Jilemnice  02.10.20",422.22222222222223,null,3.66,0,0]
["39.","MORKESOVÁ","Sabrina","7.A",6.62,null,"Jilemnice  02.10.20",610.66666666666663,null,5.65,0,0]
["40.","POHOŘALÁ","Alžběta","7.A",4.26,null,"Jilemnice  02.10.20",400.8888888888888,null,3.78,0,0]
["41.","SCHOLZOVÁ","Laura","7.A",3.08,null,"Jilemnice  02.10.20",295.99999999999994,null,2.75,0,0]
["42.","VÁCLAVÍKOVÁ","Valerie","7.A",5.92,null,"Jilemnice  02.10.20",548.44444444444446,null,5.56,0,0]
["43.","ZAPADLOVÁ","Emma","7.A",4.26,null,"Jilemnice  02.10.20",400.8888888888888,null,5.08,0,0]
["44.","ŽIŠKOVÁ","Mia","7.A",0,null,0,0,null,3.84,0,0]
["45.","FARSKÁ","Tereza","7.B",0,null,0,0,null,2.2000000000000002,0,0]
["46.","FEIXOVÁ","Rozálie","7.B",0,null,0,0,null,2.8,0,0]
["47.","FIŠEROVÁ","Michaela","7.B",0,null,0,0,null,4.1500000000000004,0,0]
["48.","HAVLÍČKOVÁ","Kristýna","7.B",0,null,0,0,null,3.75,0,0]
["49.","JODASOVÁ","Nikola","7.B",0,null,0,0,null,4.8,0,0]
["50.",{"$f":"B150","v":"KADAVÁ"},"Nikola","7.B",0,null,0,0,null,3.79,0,0]
["51.","KRAFKOVÁ","Lucie","7.B",0,null,0,0,null,0,0,0]
["52.","KŘIVINKOVÁ","Alžběta","7.B",0,null,0,0,null,5.15,0,0]
["53.","LEŠÁKOVÁ","Lenka","7.B",0,null,0,0,null,3.23,0,0]
["54.","NYKLÍČKOVÁ","Adéla","7.B",0,null,0,0,null,4.28,0,0]
["55.","PLŮCHOVÁ","Petra","7.B",0,null,0,0,null,5.53,0,0]
["56.","PODZIMKOVÁ","Eliška","7.B",0,null,0,0,null,2.4,0,0]
["57.","RUTKAYOVÁ","Klára","7.B",0,null,0,0,null,4.3099999999999996,0,0]
["58.","SEIDLOVÁ","Zuzana","7.B",0,null,0,0,null,5.9,0,0]
["59.","TOMÁŠOVÁ","Sára","7.B",0,null,0,0,null,4.8,0,0]
["60.","VANCLOVÁ","Barbora","7.B",0,null,0,0,null,3.98,0,0]
["61.","VOTOČKOVÁ","Veronika","7.B",0,null,0,0,null,0,0,0]
["62.","HARTIGOVÁ","Anna","8.A",0,null,0,0,null,0,5.16,0]
["63.","HONCŮ","Rozálie","8.A",0,null,0,0,null,0,5.34,0]
["64.","CHALOUPSKÁ","Lucie","8.A",0,null,0,0,null,0,5.18,0]
["65.","KŘÍŽKOVÁ","Anna","8.A",0,null,0,0,null,0,4,0]
["66.",{"$f":"B166","v":"LUKEŠOVÁ"},"Kristýna","8.A",0,null,0,0,null,0,4.37,0]
["67.","MOTLÍKOVÁ","Eliška","8.A",0,null,0,0,null,0,5.3,0]
["68.","POHOŘELÁ","Amálie","8.A",0,null,0,0,null,0,4.55,0]
["69.","POLÁČKOVÁ","Natálie","8.A",0,null,0,0,null,0,2.73,0]
["70.","ŘEHOŘKOVÁ","Lucie","8.A",0,null,0,0,null,0,6.03,0]
["71.","SKÁLOVÁ","Alena","8.A",0,null,0,0,null,0,4.17,0]
["72.","VÁVROVÁ ","Aneta","8.A",0,null,0,0,null,0,3.8,0]
["73.","ZELINKOVÁ","Klára","8.A",0,null,0,0,null,0,5.5,0]
["74.","JUNGOVÁ ","Lucie","9.A",0,null,0,0,null,4.5,4.55,4.4400000000000004]
["75.","KŘIVÁNKOVÁ ","Linda","9.A",0,null,0,0,null,6.25,5.81,4.8499999999999996]
["76.","KUBÁTOVÁ","Lucie","9.A",0,null,0,0,null,4.9000000000000004,4.5199999999999996,3.54]
["77.","ŠIMŮNKOVÁ ","Nikola","9.A",0,null,0,0,null,4.54,5.2,4.4400000000000004]
["78.","ŠMÍDOVÁ","Kristýna","9.A",0,null,0,0,null,5.82,5.35,0]
["79.","VOTOČKOVÁ ","Nikola","9.A",0,null,0,0,null,5.63,5.5,4.22]
["80.","VYHLASOVÁ","Lenka","9.A",0,null,0,0,null,6.54,6.39,6.12]
["81.","BÖHMOVÁ","Diana","9.B",0,null,0,0,null,0,5.46,2.37]
["82.",{"$f":"B182","v":"HOUDOVÁ"},"Tereza","9.B",0,null,0,0,null,6.7,5.3,5.45]
["83.","JANÍKOVÁ","Kristýna","9.B",0,null,0,0,null,6.7,0,0]
["84.","KUŽELOVÁ","Ela","9.B",0,null,0,0,null,5.77,5.7,4.97]
["85.","MATERNOVÁ","Lucie","9.B",0,null,0,0,null,3.94,4.16,2.77]
["86.","OPOČENSKÁ","Matylda","9.B",0,null,0,0,null,0,0,0]
["87.","PIŠTOROVÁ","Karolína","9.B",0,null,0,0,null,5.2,5.18,3.1]
["88.","POKORNÝ","Anna","9.B",0,null,0,0,null,4.04,4.08,3]
["89.","SUCHÁNKOVÁ","Michaela","9.B",0,null,0,0,null,4.22,3.86,3.24]
["90.","ŠUBÍKOVÁ ","Štěpánka","9.B",0,null,0,0,null,0,4.37,3.68]
["91.","VANCLOVÁ","Pavlína","9.B",0,null,0,0,null,7.48,7.05,6.05]
[]
[]
[]
[]
[]
[null,"ERBENOVÁ","Sára","6.A",null,null,null,{"$f":"IF(E101=0,0,IF(E101>0,(40*E101+10)/0.45))","v":0}]
[null,"HOFMANOVÁ ","Nicol","6.A",null,null,null,0]
[null,"HOLEŠOVSKÁ","Aneta","6.A",null,null,null,0]
[null,"HOLUBCOVÁ","Alena","6.A",null,null,null,0]
[null,"KOHOUTOVÁ","Anna","6.A",null,null,null,0]
[null,"KRAUSOVÁ","Anežka","6.A",null,null,null,0]
[null,"KUŽELOVÁ","Apoléna","6.A",null,null,null,0]
[null,"MORÁVKOVÁ","Lucie","6.A",null,null,null,0]
[null,"SKLENÁROVÁ","Eliška","6.A",null,null,null,0]
[null,"ŠTOLFOVÁ","Tereza","6.A",null,null,null,0]
[null,"ŠUBÍKOVÁ","Klára","6.A",null,null,null,0]
[null,"TULÁČKOVÁ","Natálie","6.A",null,null,null,0]
[null,"VOJTÍŠKOVÁ","Ella","6.A",null,null,null,0]
[null,"DRUGÁČOVÁ","Kristinka","6.B",null,null,null,0]
[null,"FAJSTAVROVÁ","Karolína","6.B",null,null,null,0]
[null,"FAJSTAVROVÁ","Magdaléna","6.B",null,null,null,0]
[null,"HLAVATÁ","Anna","6.B",null,null,null,0]
[null,"JINDROVÁ","Barbora","6.B",null,null,null,0]
[null,"MAŘASOVÁ","Vendula","6.B",null,null,null,0]
[null,"PETŘÍČKOVÁ","Natálie","6.B",null,null,null,0]
[null,"PETŘÍKOVÁ","Adéla","6.B",null,null,null,0]
[null,"REGÁLOVÁ","Karolína","6.B",null,null,null,0]
[null,"RIEGROVÁ","Magdaléna","6.B",null,null,null,0]
[null,"RYBENSKÁ","Sabina","6.B",null,null,null,0]
[null,"STEINEROVÁ","Barbora","6.B",null,null,null,0]
[null,"TOMEŠOVÁ","Barbora","6.B",null,null,null,0]
[null,"VOHNOUTOVÁ","Aneta","6.B",null,null,null,0]
[null,"HAVLÍKOVÁ","Michaela","7.A",2.61,null,"Jilemnice  02.10.20",254.2222222222222]
[null,"HOLUBCOVÁ","Sára","7.A",4.04,null,"Jilemnice  02.10.20",381.33333333333331,null,3.1]
[null,"HONCŮ","Tereza","7.A",3.76,null,"Jilemnice  02.10.20",356.4444444444444,null,2.62]
[null,"HORÁČKOVÁ","Kateřina","7.A",5.5,null,"Jilemnice  02.10.20",511.11111111111109,null,4.9000000000000004]
[null,"JOUDALOVÁ","Daniela","7.A",3.85,null,"Jilemnice  02.10.20",364.44444444444446,null,2.87]
[null,"KLÍMOVÁ","Anna","7.A",4.5,null,"Jilemnice  02.10.20",{"$f":"IF(E133=0,0,IF(E133>0,(40*E133+10)/0.45))","v":422.22222222222223},null,4.4400000000000004]
[null,"KOHOUTOVÁ","Veronika","7.A",5.31,null,"Jilemnice  02.10.20",494.22222222222217,null,3.57]
[null,"KOVÁŘOVÁ","Viktorie","7.A",3.94,null,"Jilemnice  02.10.20",372.4444444444444,null,3.16]
[null,"KYNČLOVÁ","Anna","7.A",3.46,null,"Jilemnice  02.10.20",329.77777777777777,null,2.46]
[null,"MATOUŠOVÁ","Tereza","7.A",4.6100000000000003,null,"Jilemnice  02.10.20",432,null,3.51]
[null,"MAZÁNKOVÁ","Zuzana","7.A",4.5,null,"Jilemnice  02.10.20",422.22222222222223,null,3.66]
[null,"MORKESOVÁ","Sabrina","7.A",6.62,null,"Jilemnice  02.10.20",610.66666666666663,null,5.65]
[null,"POHOŘALÁ","Alžběta","7.A",4.26,null,"Jilemnice  02.10.20",400.8888888888888,null,3.78]
[null,"SCHOLZOVÁ","Laura","7.A",3.08,null,"Jilemnice  02.10.20",295.99999999999994,null,2.75]
[null,"VÁCLAVÍKOVÁ","Valerie","7.A",5.92,null,"Jilemnice  02.10.20",548.44444444444446,null,5.56]
[null,"ZAPADLOVÁ","Emma","7.A",4.26,null,"Jilemnice  02.10.20",400.8888888888888,null,5.08]
[null,"ŽIŠKOVÁ","Mia","7.A",null,null,null,0,null,3.84]
[null,"FARSKÁ","Tereza","7.B",null,null,null,0,null,2.2000000000000002]
[null,"FEIXOVÁ","Rozálie","7.B",null,null,null,0,null,2.8]
[null,"FIŠEROVÁ","Michaela","7.B",null,null,null,0,null,4.1500000000000004]
[null,"HAVLÍČKOVÁ","Kristýna","7.B",null,null,null,0,null,3.75]
[null,"JODASOVÁ","Nikola","7.B",null,null,null,0,null,4.8]
[null,"KADAVÁ","Nikola","7.B",null,null,null,0,null,3.79]
[null,"KRAFKOVÁ","Lucie","7.B",null,null,null,0]
[null,"KŘIVINKOVÁ","Alžběta","7.B",null,null,null,0,null,5.15]
[null,"LEŠÁKOVÁ","Lenka","7.B",null,null,null,0,null,3.23]
[null,"NYKLÍČKOVÁ","Adéla","7.B",null,null,null,0,null,4.28]
[null,"PLŮCHOVÁ","Petra","7.B",null,null,null,0,null,5.53]
[null,"PODZIMKOVÁ","Eliška","7.B",null,null,null,0,null,2.4]
[null,"RUTKAYOVÁ","Klára","7.B",null,null,null,0,null,4.3099999999999996]
[null,"SEIDLOVÁ","Zuzana","7.B",null,null,null,0,null,5.9]
[null,"TOMÁŠOVÁ","Sára","7.B",null,null,null,0,null,4.8]
[null,"VANCLOVÁ","Barbora","7.B",null,null,null,0,null,3.98]
[null,"VOTOČKOVÁ","Veronika","7.B",null,null,null,0]
[null,"HARTIGOVÁ","Anna","8.A",null,null,null,0,null,null,5.16]
[null,"HONCŮ","Rozálie","8.A",null,null,null,0,null,null,5.34]
[null,"CHALOUPSKÁ","Lucie","8.A",null,null,null,0,null,null,5.18]
[null,"KŘÍŽKOVÁ","Anna","8.A",null,null,null,{"$f":"IF(E165=0,0,IF(E165>0,(40*E165+10)/0.45))","v":0},null,null,4]
[null,"LUKEŠOVÁ","Kristýna","8.A",null,null,null,0,null,null,4.37]
[null,"MOTLÍKOVÁ","Eliška","8.A",null,null,null,0,null,null,5.3]
[null,"POHOŘELÁ","Amálie","8.A",null,null,null,0,null,null,4.55]
[null,"POLÁČKOVÁ","Natálie","8.A",null,null,null,0,null,null,2.73]
[null,"ŘEHOŘKOVÁ","Lucie","8.A",null,null,null,0,null,null,6.03]
[null,"SKÁLOVÁ","Alena","8.A",null,null,null,0,null,null,4.17]
[null,"VÁVROVÁ ","Aneta","8.A",null,null,null,0,null,null,3.8]
[null,"ZELINKOVÁ","Klára","8.A",null,null,null,0,null,null,5.5]
[null,"JUNGOVÁ ","Lucie","9.A",null,null,null,0,null,4.5,4.55,4.4400000000000004]
[null,"KŘIVÁNKOVÁ ","Linda","9.A",null,null,null,0,null,6.25,5.81,4.8499999999999996]
[null,"KUBÁTOVÁ","Lucie","9.A",null,null,null,0,null,4.9000000000000004,4.5199999999999996,3.54]
[null,"ŠIMŮNKOVÁ ","Nikola","9.A",null,null,null,0,null,4.54,5.2,4.4400000000000004]
[null,"ŠMÍDOVÁ","Kristýna","9.A",null,null,null,0,null,5.82,5.35]
[null,"VOTOČKOVÁ ","Nikola","9.A",null,null,null,0,null,5.63,5.5,4.22]
[null,"VYHLASOVÁ","Lenka","9.A",null,null,null,0,null,6.54,6.39,6.12]
[null,"BÖHMOVÁ","Diana","9.B",null,null,null,0,null,null,5.46,2.37]
[null,"HOUDOVÁ","Tereza","9.B",null,null,null,0,null,6.7,5.3,5.45]
[null,"JANÍKOVÁ","Kristýna","9.B",null,null,null,0,null,6.7]
[null,"KUŽELOVÁ","Ela","9.B",null,null,null,0,null,5.77,5.7,4.97]
[null,"MATERNOVÁ","Lucie","9.B",null,null,null,0,null,3.94,4.16,2.77]
[null,"OPOČENSKÁ","Matylda","9.B",null,null,null,0]
[null,"PIŠTOROVÁ","Karolína","9.B",null,null,null,0,null,5.2,5.18,3.1]
[null,"POKORNÝ","Anna","9.B",null,null,null,0,null,4.04,4.08,3]
[null,"SUCHÁNKOVÁ","Michaela","9.B",null,null,null,0,null,4.22,3.86,3.24]
[null,"ŠUBÍKOVÁ ","Štěpánka","9.B",null,null,null,0,null,null,4.37,3.68]
[null,"VANCLOVÁ","Pavlína","9.B",null,null,null,0,null,7.48,7.05,6.05]

{"sheet":"Dčlu","index":33,"n_rows":191,"n_cols":12,"rows_kept":191,"cut":false,"hidden":false,"merged":[]}
[null,null,"VÝKONY   2020 - 2021",null,null,null,"ČLUNEK","DĚVČATA  6. -  9.  ROČ."]
[null,null,null,null,null,null,null,null,null,null,"stav  k ",{"$f":"TODAY()","v":44375}]
[null,null,null,null,null,null,null,"   BODY",null,"   19 - 20   ","   18 - 19   ","   17 - 18   "]
[]
["1.",{"$f":"B101","v":"ERBENOVÁ"},{"$f":"C101","v":"Sára"},"6.A",0,null,0,0,null,0,0,0]
["2.",{"$f":"B102","v":"HOFMANOVÁ "},"Nicol","6.A",0,null,0,0,null,0,0,0]
["3.","HOLEŠOVSKÁ","Aneta","6.A",0,null,0,0,null,0,0,0]
["4.","HOLUBCOVÁ","Alena","6.A",0,null,0,0,null,0,0,0]
["5.","KOHOUTOVÁ","Anna","6.A",0,null,0,0,null,0,0,0]
["6.","KRAUSOVÁ","Anežka","6.A",0,null,0,0,null,0,0,0]
["7.","KUŽELOVÁ","Apoléna","6.A",0,null,0,0,null,0,0,0]
["8.","MORÁVKOVÁ","Lucie","6.A",0,null,0,0,null,0,0,0]
["9.","SKLENÁROVÁ","Eliška","6.A",0,null,0,0,null,0,0,0]
["10.","ŠTOLFOVÁ","Tereza","6.A",0,null,0,0,null,0,0,0]
["11.","ŠUBÍKOVÁ","Klára","6.A",0,null,0,0,null,0,0,0]
["12.","TULÁČKOVÁ","Natálie","6.A",0,null,0,0,null,0,0,0]
["13.","VOJTÍŠKOVÁ","Ella","6.A",0,null,0,0,null,0,0,0]
["14.","DRUGÁČOVÁ","Kristinka","6.B",0,null,0,0,null,0,0,0]
["15.","FAJSTAVROVÁ","Karolína","6.B",0,null,0,0,null,0,0,0]
["16.","FAJSTAVROVÁ","Magdaléna","6.B",0,null,0,0,null,0,0,0]
["17.","HLAVATÁ","Anna","6.B",0,null,0,0,null,0,0,0]
["18.",{"$f":"B118","v":"JINDROVÁ"},"Barbora","6.B",0,null,0,0,null,0,0,0]
["19.","MAŘASOVÁ","Vendula","6.B",0,null,0,0,null,0,0,0]
["20.","PETŘÍČKOVÁ","Natálie","6.B",0,null,0,0,null,0,0,0]
["21.","PETŘÍKOVÁ","Adéla","6.B",0,null,0,0,null,0,0,0]
["22.","REGÁLOVÁ","Karolína","6.B",0,null,0,0,null,0,0,0]
["23.","RIEGROVÁ","Magdaléna","6.B",0,null,0,0,null,0,0,0]
["24.","RYBENSKÁ","Sabina","6.B",0,null,0,0,null,0,0,0]
["25.","STEINEROVÁ","Barbora","6.B",0,null,0,0,null,0,0,0]
["26.","TOMEŠOVÁ","Barbora","6.B",0,null,0,0,null,0,0,0]
["27.","VOHNOUTOVÁ","Aneta","6.B",0,null,0,0,null,0,0,0]
["28.","HAVLÍKOVÁ","Michaela","7.A",0,null,0,0,null,12.46,0,0]
["29.","HOLUBCOVÁ","Sára","7.A",0,null,0,0,null,10.87,0,0]
["30.","HONCŮ","Tereza","7.A",0,null,0,0,null,11.63,0,0]
["31.","HORÁČKOVÁ","Kateřina","7.A",0,null,0,0,null,10.96,0,0]
["32.","JOUDALOVÁ","Daniela","7.A",0,null,0,0,null,14.45,0,0]
["33.","KLÍMOVÁ","Anna","7.A",0,null,0,0,null,11.46,0,0]
["34.",{"$f":"B134","v":"KOHOUTOVÁ"},"Veronika","7.A",0,null,0,0,null,10.88,0,0]
["35.","KOVÁŘOVÁ","Viktorie","7.A",0,null,0,0,null,12,0,0]
["36.","KYNČLOVÁ","Anna","7.A",0,null,0,0,null,10.8,0,0]
["37.","MATOUŠOVÁ","Tereza","7.A",0,null,0,0,null,12.46,0,0]
["38.","MAZÁNKOVÁ","Zuzana","7.A",0,null,0,0,null,12.51,0,0]
["39.","MORKESOVÁ","Sabrina","7.A",0,null,0,0,null,10.82,0,0]
["40.","POHOŘALÁ","Alžběta","7.A",0,null,0,0,null,11.52,0,0]
["41.","SCHOLZOVÁ","Laura","7.A",0,null,0,0,null,12.75,0,0]
["42.","VÁCLAVÍKOVÁ","Valerie","7.A",0,null,0,0,null,0,0,0]
["43.","ZAPADLOVÁ","Emma","7.A",0,null,0,0,null,12.18,0,0]
["44.","ŽIŠKOVÁ","Mia","7.A",0,null,0,0,null,11.37,0,0]
["45.","FARSKÁ","Tereza","7.B",0,null,0,0,null,0,0,0]
["46.","FEIXOVÁ","Rozálie","7.B",0,null,0,0,null,0,0,0]
["47.","FIŠEROVÁ","Michaela","7.B",0,null,0,0,null,0,0,0]
["48.","HAVLÍČKOVÁ","Kristýna","7.B",0,null,0,0,null,0,0,0]
["49.","JODASOVÁ","Nikola","7.B",0,null,0,0,null,0,0,0]
["50.",{"$f":"B150","v":"KADAVÁ"},"Nikola","7.B",0,null,0,0,null,0,0,0]
["51.","KRAFKOVÁ","Lucie","7.B",0,null,0,0,null,0,0,0]
["52.","KŘIVINKOVÁ","Alžběta","7.B",0,null,0,0,null,0,0,0]
["53.","LEŠÁKOVÁ","Lenka","7.B",0,null,0,0,null,0,0,0]
["54.","NYKLÍČKOVÁ","Adéla","7.B",0,null,0,0,null,0,0,0]
["55.","PLŮCHOVÁ","Petra","7.B",0,null,0,0,null,0,0,0]
["56.","PODZIMKOVÁ","Eliška","7.B",0,null,0,0,null,0,0,0]
["57.","RUTKAYOVÁ","Klára","7.B",0,null,0,0,null,0,0,0]
["58.","SEIDLOVÁ","Zuzana","7.B",0,null,0,0,null,0,0,0]
["59.","TOMÁŠOVÁ","Sára","7.B",0,null,0,0,null,0,0,0]
["60.","VANCLOVÁ","Barbora","7.B",0,null,0,0,null,0,0,0]
["61.","VOTOČKOVÁ","Veronika","7.B",0,null,0,0,null,0,0,0]
["62.","HARTIGOVÁ","Anna","8.A",0,null,0,0,null,0,11.41,0]
["63.","HONCŮ","Rozálie","8.A",0,null,0,0,null,0,10.9,0]
["64.","CHALOUPSKÁ","Lucie","8.A",0,null,0,0,null,0,11.37,0]
["65.","KŘÍŽKOVÁ","Anna","8.A",0,null,0,0,null,0,12.79,0]
["66.",{"$f":"B166","v":"LUKEŠOVÁ"},"Kristýna","8.A",0,null,0,0,null,0,11.42,0]
["67.","MOTLÍKOVÁ","Eliška","8.A",0,null,0,0,null,0,11.59,0]
["68.","POHOŘELÁ","Amálie","8.A",0,null,0,0,null,0,12.03,0]
["69.","POLÁČKOVÁ","Natálie","8.A",0,null,0,0,null,0,13.36,0]
["70.","ŘEHOŘKOVÁ","Lucie","8.A",0,null,0,0,null,0,12.83,0]
["71.","SKÁLOVÁ","Alena","8.A",0,null,0,0,null,0,12.8,0]
["72.","VÁVROVÁ ","Aneta","8.A",0,null,0,0,null,0,11.91,0]
["73.","ZELINKOVÁ","Klára","8.A",0,null,0,0,null,0,11.77,0]
["74.","JUNGOVÁ ","Lucie","9.A",0,null,0,0,null,0,11.46,12.38]
["75.","KŘIVÁNKOVÁ ","Linda","9.A",0,null,0,0,null,0,12.27,12.67]
["76.","KUBÁTOVÁ","Lucie","9.A",0,null,0,0,null,0,12.12,11.88]
["77.","ŠIMŮNKOVÁ ","Nikola","9.A",0,null,0,0,null,0,11.89,13.13]
["78.","ŠMÍDOVÁ","Kristýna","9.A",0,null,0,0,null,0,13.02,15.84]
["79.","VOTOČKOVÁ ","Nikola","9.A",0,null,0,0,null,0,11.62,11.77]
["80.","VYHLASOVÁ","Lenka","9.A",0,null,0,0,null,0,13.16,13.84]
["81.","BÖHMOVÁ","Diana","9.B",0,null,0,0,null,0,11.45,12.88]
["82.",{"$f":"B182","v":"HOUDOVÁ"},"Tereza","9.B",0,null,0,0,null,0,0,12.19]
["83.","JANÍKOVÁ","Kristýna","9.B",0,null,0,0,null,0,0,0]
["84.","KUŽELOVÁ","Ela","9.B",0,null,0,0,null,0,10.91,12.18]
["85.","MATERNOVÁ","Lucie","9.B",0,null,0,0,null,0,11.35,12.16]
["86.","OPOČENSKÁ","Matylda","9.B",0,null,0,0,null,0,0,13.01]
["87.","PIŠTOROVÁ","Karolína","9.B",0,null,0,0,null,0,10.74,12.04]
["88.","POKORNÝ","Anna","9.B",0,null,0,0,null,0,0,13.04]
["89.","SUCHÁNKOVÁ","Michaela","9.B",0,null,0,0,null,0,14.04,14.86]
["90.","ŠUBÍKOVÁ ","Štěpánka","9.B",0,null,0,0,null,0,11.14,12.84]
["91.","VANCLOVÁ","Pavlína","9.B",0,null,0,0,null,0,11.8,14.06]
[]
[]
[]
[]
[]
[null,"ERBENOVÁ","Sára","6.A",null,null,null,{"$f":"IF(E101=0,0,IF(E101>0,((1000 - 321 / E101 + 340 / E101*2 - 16600 / E101*3 + 32190000000 / E101*4)/15000000-62)*0.95))","v":0}]
[null,"HOFMANOVÁ ","Nicol","6.A",null,null,null,0]
[null,"HOLEŠOVSKÁ","Aneta","6.A",null,null,null,0]
[null,"HOLUBCOVÁ","Alena","6.A",null,null,null,0]
[null,"KOHOUTOVÁ","Anna","6.A",null,null,null,0]
[null,"KRAUSOVÁ","Anežka","6.A",null,null,null,0]
[null,"KUŽELOVÁ","Apoléna","6.A",null,null,null,0]
[null,"MORÁVKOVÁ","Lucie","6.A",null,null,null,0]
[null,"SKLENÁROVÁ","Eliška","6.A",null,null,null,0]
[null,"ŠTOLFOVÁ","Tereza","6.A",null,null,null,0]
[null,"ŠUBÍKOVÁ","Klára","6.A",null,null,null,0]
[null,"TULÁČKOVÁ","Natálie","6.A",null,null,null,0]
[null,"VOJTÍŠKOVÁ","Ella","6.A",null,null,null,0]
[null,"DRUGÁČOVÁ","Kristinka","6.B",null,null,null,0]
[null,"FAJSTAVROVÁ","Karolína","6.B",null,null,null,0]
[null,"FAJSTAVROVÁ","Magdaléna","6.B",null,null,null,0]
[null,"HLAVATÁ","Anna","6.B",null,null,null,0]
[null,"JINDROVÁ","Barbora","6.B",null,null,null,0]
[null,"MAŘASOVÁ","Vendula","6.B",null,null,null,0]
[null,"PETŘÍČKOVÁ","Natálie","6.B",null,null,null,0]
[null,"PETŘÍKOVÁ","Adéla","6.B",null,null,null,0]
[null,"REGÁLOVÁ","Karolína","6.B",null,null,null,0]
[null,"RIEGROVÁ","Magdaléna","6.B",null,null,null,0]
[null,"RYBENSKÁ","Sabina","6.B",null,null,null,0]
[null,"STEINEROVÁ","Barbora","6.B",null,null,null,0]
[null,"TOMEŠOVÁ","Barbora","6.B",null,null,null,0]
[null,"VOHNOUTOVÁ","Aneta","6.B",null,null,null,0]
[null,"HAVLÍKOVÁ","Michaela","7.A",null,null,null,0,null,12.46]
[null,"HOLUBCOVÁ","Sára","7.A",null,null,null,0,null,10.87]
[null,"HONCŮ","Tereza","7.A",null,null,null,0,null,11.63]
[null,"HORÁČKOVÁ","Kateřina","7.A",null,null,null,0,null,10.96]
[null,"JOUDALOVÁ","Daniela","7.A",null,null,null,0,null,14.45]
[null,"KLÍMOVÁ","Anna","7.A",null,null,null,{"$f":"IF(E133=0,0,IF(E133>0,((1000 - 321 / E133 + 340 / E133*2 - 16600 / E133*3 + 32190000000 / E133*4)/15000000-62)*0.95))","v":0},null,11.46]
[null,"KOHOUTOVÁ","Veronika","7.A",null,null,null,0,null,10.88]
[null,"KOVÁŘOVÁ","Viktorie","7.A",null,null,null,0,null,12]
[null,"KYNČLOVÁ","Anna","7.A",null,null,null,0,null,10.8]
[null,"MATOUŠOVÁ","Tereza","7.A",null,null,null,0,null,12.46]
[null,"MAZÁNKOVÁ","Zuzana","7.A",null,null,null,0,null,12.51]
[null,"MORKESOVÁ","Sabrina","7.A",null,null,null,0,null,10.82]
[null,"POHOŘALÁ","Alžběta","7.A",null,null,null,0,null,11.52]
[null,"SCHOLZOVÁ","Laura","7.A",null,null,null,0,null,12.75]
[null,"VÁCLAVÍKOVÁ","Valerie","7.A",null,null,null,0]
[null,"ZAPADLOVÁ","Emma","7.A",null,null,null,0,null,12.18]
[null,"ŽIŠKOVÁ","Mia","7.A",null,null,null,0,null,11.37]
[null,"FARSKÁ","Tereza","7.B",null,null,null,0]
[null,"FEIXOVÁ","Rozálie","7.B",null,null,null,0]
[null,"FIŠEROVÁ","Michaela","7.B",null,null,null,0]
[null,"HAVLÍČKOVÁ","Kristýna","7.B",null,null,null,0]
[null,"JODASOVÁ","Nikola","7.B",null,null,null,0]
[null,"KADAVÁ","Nikola","7.B",null,null,null,0]
[null,"KRAFKOVÁ","Lucie","7.B",null,null,null,0]
[null,"KŘIVINKOVÁ","Alžběta","7.B",null,null,null,0]
[null,"LEŠÁKOVÁ","Lenka","7.B",null,null,null,0]
[null,"NYKLÍČKOVÁ","Adéla","7.B",null,null,null,0]
[null,"PLŮCHOVÁ","Petra","7.B",null,null,null,0]
[null,"PODZIMKOVÁ","Eliška","7.B",null,null,null,0]
[null,"RUTKAYOVÁ","Klára","7.B",null,null,null,0]
[null,"SEIDLOVÁ","Zuzana","7.B",null,null,null,0]
[null,"TOMÁŠOVÁ","Sára","7.B",null,null,null,0]
[null,"VANCLOVÁ","Barbora","7.B",null,null,null,0]
[null,"VOTOČKOVÁ","Veronika","7.B",null,null,null,0]
[null,"HARTIGOVÁ","Anna","8.A",null,null,null,0,null,null,11.41]
[null,"HONCŮ","Rozálie","8.A",null,null,null,0,null,null,10.9]
[null,"CHALOUPSKÁ","Lucie","8.A",null,null,null,0,null,null,11.37]
[null,"KŘÍŽKOVÁ","Anna","8.A",null,null,null,{"$f":"IF(E165=0,0,IF(E165>0,((1000 - 321 / E165 + 340 / E165*2 - 16600 / E165*3 + 32190000000 / E165*4)/15000000-62)*0.95))","v":0},null,null,12.79]
[null,"LUKEŠOVÁ","Kristýna","8.A",null,null,null,0,null,null,11.42]
[null,"MOTLÍKOVÁ","Eliška","8.A",null,null,null,0,null,null,11.59]
[null,"POHOŘELÁ","Amálie","8.A",null,null,null,0,null,null,12.03]
[null,"POLÁČKOVÁ","Natálie","8.A",null,null,null,0,null,null,13.36]
[null,"ŘEHOŘKOVÁ","Lucie","8.A",null,null,null,0,null,null,12.83]
[null,"SKÁLOVÁ","Alena","8.A",null,null,null,0,null,null,12.8]
[null,"VÁVROVÁ ","Aneta","8.A",null,null,null,0,null,null,11.91]
[null,"ZELINKOVÁ","Klára","8.A",null,null,null,0,null,null,11.77]
[null,"JUNGOVÁ ","Lucie","9.A",null,null,null,0,null,null,11.46,12.38]
[null,"KŘIVÁNKOVÁ ","Linda","9.A",null,null,null,0,null,null,12.27,12.67]
[null,"KUBÁTOVÁ","Lucie","9.A",null,null,null,0,null,null,12.12,11.88]
[null,"ŠIMŮNKOVÁ ","Nikola","9.A",null,null,null,0,null,null,11.89,13.13]
[null,"ŠMÍDOVÁ","Kristýna","9.A",null,null,null,0,null,null,13.02,15.84]
[null,"VOTOČKOVÁ ","Nikola","9.A",null,null,null,0,null,null,11.62,11.77]
[null,"VYHLASOVÁ","Lenka","9.A",null,null,null,0,null,null,13.16,13.84]
[null,"BÖHMOVÁ","Diana","9.B",null,null,null,0,null,null,11.45,12.88]
[null,"HOUDOVÁ","Tereza","9.B",null,null,null,0,null,null,null,12.19]
[null,"JANÍKOVÁ","Kristýna","9.B"]
[null,"KUŽELOVÁ","Ela","9.B",null,null,null,{"$f":"IF(E184=0,0,IF(E184>0,((1000 - 321 / E184 + 340 / E184*2 - 16600 / E184*3 + 32190000000 / E184*4)/15000000-62)*0.95))","v":0},null,null,10.91,12.18]
[null,"MATERNOVÁ","Lucie","9.B",null,null,null,0,null,null,11.35,12.16]
[null,"OPOČENSKÁ","Matylda","9.B",null,null,null,0,null,null,null,13.01]
[null,"PIŠTOROVÁ","Karolína","9.B",null,null,null,0,null,null,10.74,12.04]
[null,"POKORNÝ","Anna","9.B",null,null,null,0,null,null,null,13.04]
[null,"SUCHÁNKOVÁ","Michaela","9.B",null,null,null,0,null,null,14.04,14.86]
[null,"ŠUBÍKOVÁ ","Štěpánka","9.B",null,null,null,0,null,null,11.14,12.84]
[null,"VANCLOVÁ","Pavlína","9.B",null,null,null,0,null,null,11.8,14.06]

{"sheet":"Dls","index":34,"n_rows":191,"n_cols":12,"rows_kept":191,"cut":false,"hidden":false,"merged":[]}
[null,null,"VÝKONY   2020 - 2021",null,null,null,"LEHSED","    DĚVČATA  6. -  9.  ROČ."]
[null,null,null,null,null,null,null,null,null,null,"stav  k ",{"$f":"TODAY()","v":"2021-06-28"}]
[null,null,null,null,null,null,null,"   BODY",null,"   19 - 20   ","   18 - 19   ","   17 - 18   "]
[]
["1.",{"$f":"B101","v":"ERBENOVÁ"},{"$f":"C101","v":"Sára"},"6.A",18,null,"Jilemnice  14.03.21",278.02,null,0,0,0]
["2.",{"$f":"B102","v":"HOFMANOVÁ "},"Nicol","6.A",26,null,"Jilemnice  14.03.21",389.14,null,0,0,0]
["3.","HOLEŠOVSKÁ","Aneta","6.A",0,null,0,0,null,0,0,0]
["4.","HOLUBCOVÁ","Alena","6.A",0,null,0,0,null,0,0,0]
["5.","KOHOUTOVÁ","Anna","6.A",0,null,0,0,null,0,0,0]
["6.","KRAUSOVÁ","Anežka","6.A",36,null,"Jilemnice  14.03.21",528.04,null,0,0,0]
["7.","KUŽELOVÁ","Apoléna","6.A",0,null,0,0,null,0,0,0]
["8.","MORÁVKOVÁ","Lucie","6.A",20,null,"Jilemnice  14.03.21",305.8,null,0,0,0]
["9.","SKLENÁROVÁ","Eliška","6.A",32,null,"Jilemnice  14.03.21",472.48,null,0,0,0]
["10.","ŠTOLFOVÁ","Tereza","6.A",0,null,0,0,null,0,0,0]
["11.","ŠUBÍKOVÁ","Klára","6.A",0,null,0,0,null,0,0,0]
["12.","TULÁČKOVÁ","Natálie","6.A",46,null,"Jilemnice  14.03.21",666.94,null,0,0,0]
["13.","VOJTÍŠKOVÁ","Ella","6.A",0,null,0,0,null,0,0,0]
["14.","DRUGÁČOVÁ","Kristinka","6.B",28,null,"Jilemnice  14.03.21",416.92,null,0,0,0]
["15.","FAJSTAVROVÁ","Karolína","6.B",0,null,0,0,null,0,0,0]
["16.","FAJSTAVROVÁ","Magdaléna","6.B",0,null,0,0,null,0,0,0]
["17.","HLAVATÁ","Anna","6.B",0,null,0,0,null,0,0,0]
["18.",{"$f":"B118","v":"JINDROVÁ"},"Barbora","6.B",0,null,0,0,null,0,0,0]
["19.","MAŘASOVÁ","Vendula","6.B",0,null,0,0,null,0,0,0]
["20.","PETŘÍČKOVÁ","Natálie","6.B",0,null,0,0,null,0,0,0]
["21.","PETŘÍKOVÁ","Adéla","6.B",0,null,0,0,null,0,0,0]
["22.","REGÁLOVÁ","Karolína","6.B",48,null,"Jilemnice  14.03.21",694.72,null,0,0,0]
["23.","RIEGROVÁ","Magdaléna","6.B",0,null,0,0,null,0,0,0]
["24.","RYBENSKÁ","Sabina","6.B",0,null,0,0,null,0,0,0]
["25.","STEINEROVÁ","Barbora","6.B",0,null,0,0,null,0,0,0]
["26.","TOMEŠOVÁ","Barbora","6.B",0,null,0,0,null,0,0,0]
["27.","VOHNOUTOVÁ","Aneta","6.B",0,null,0,0,null,0,0,0]
["28.","HAVLÍKOVÁ","Michaela","7.A",0,null,0,0,null,0,0,0]
["29.","HOLUBCOVÁ","Sára","7.A",0,null,0,0,null,0,0,0]
["30.",{"$f":"B130","v":"HONCŮ"},"Tereza","7.A",0,null,0,0,null,0,0,0]
["31.",{"$f":"B131","v":"HORÁČKOVÁ"},"Kateřina","7.A",37,null,"Jilemnice  14.03.21",541.93000000000006,null,0,0,0]
["32.","JOUDALOVÁ","Daniela","7.A",0,null,0,0,null,0,0,0]
["33.","KLÍMOVÁ","Anna","7.A",0,null,0,0,null,0,0,0]
["34.","KOHOUTOVÁ","Veronika","7.A",0,null,0,0,null,0,0,0]
["35.","KOVÁŘOVÁ","Viktorie","7.A",40,null,"Jilemnice  14.03.21",583.6,null,0,0,0]
["36.","KYNČLOVÁ","Anna","7.A",0,null,0,0,null,0,0,0]
["37.","MATOUŠOVÁ","Tereza","7.A",0,null,0,0,null,0,0,0]
["38.","MAZÁNKOVÁ","Zuzana","7.A",0,null,0,0,null,0,0,0]
["39.","MORKESOVÁ","Sabrina","7.A",0,null,0,0,null,0,0,0]
["40.","POHOŘALÁ","Alžběta","7.A",0,null,0,0,null,0,0,0]
["41.","SCHOLZOVÁ","Laura","7.A",0,null,0,0,null,0,0,0]
["42.","VÁCLAVÍKOVÁ","Valerie","7.A",36,null,"Jilemnice  14.03.21",528.04,null,0,0,0]
["43.","ZAPADLOVÁ","Emma","7.A",0,null,0,0,null,0,0,0]
["44.","ŽIŠKOVÁ","Mia","7.A",0,null,0,0,null,0,0,0]
["45.","FARSKÁ","Tereza","7.B",0,null,0,0,null,0,0,0]
["46.","FEIXOVÁ","Rozálie","7.B",0,null,0,0,null,0,0,0]
["47.",{"$f":"B147","v":"FIŠEROVÁ"},"Michaela","7.B",0,null,0,0,null,0,0,0]
["48.","HAVLÍČKOVÁ","Kristýna","7.B",0,null,0,0,null,0,0,0]
["49.","JODASOVÁ","Nikola","7.B",0,null,0,0,null,0,0,0]
["50.","KADAVÁ","Nikola","7.B",35,null,"Jilemnice  14.03.21",514.15000000000009,null,0,0,0]
["51.","KRAFKOVÁ","Lucie","7.B",0,null,0,0,null,0,0,0]
["52.","KŘIVINKOVÁ","Alžběta","7.B",0,null,0,0,null,0,0,0]
["53.","LEŠÁKOVÁ","Lenka","7.B",0,null,0,0,null,0,0,0]
["54.","NYKLÍČKOVÁ","Adéla","7.B",0,null,0,0,null,0,0,0]
["55.","PLŮCHOVÁ","Petra","7.B",0,null,0,0,null,0,0,0]
["56.","PODZIMKOVÁ","Eliška","7.B",0,null,0,0,null,0,0,0]
["57.","RUTKAYOVÁ","Klára","7.B",35,null,"Jilemnice  14.03.21",514.15000000000009,null,0,0,0]
["58.","SEIDLOVÁ","Zuzana","7.B",0,null,0,0,null,0,0,0]
["59.","TOMÁŠOVÁ","Sára","7.B",0,null,0,0,null,0,0,0]
["60.","VANCLOVÁ","Barbora","7.B",0,null,0,0,null,0,0,0]
["61.","VOTOČKOVÁ","Veronika","7.B",0,null,0,0,null,0,0,0]
["62.","HARTIGOVÁ","Anna","8.A",0,null,0,0,null,0,41,0]
["63.",{"$f":"B163","v":"HONCŮ"},"Rozálie","8.A",0,null,0,0,null,0,47,0]
["64.","CHALOUPSKÁ","Lucie","8.A",0,null,0,0,null,0,51,0]
["65.","KŘÍŽKOVÁ","Anna","8.A",0,null,0,0,null,0,41,0]
["66.","LUKEŠOVÁ","Kristýna","8.A",0,null,0,0,null,0,48,0]
["67.","MOTLÍKOVÁ","Eliška","8.A",0,null,0,0,null,0,40,0]
["68.","POHOŘELÁ","Amálie","8.A",0,null,0,0,null,0,45,0]
["69.","POLÁČKOVÁ","Natálie","8.A",0,null,0,0,null,0,40,0]
["70.","ŘEHOŘKOVÁ","Lucie","8.A",0,null,0,0,null,0,37,0]
["71.","SKÁLOVÁ","Alena","8.A",0,null,0,0,null,0,0,0]
["72.","VÁVROVÁ ","Aneta","8.A",0,null,0,0,null,0,32,0]
["73.","ZELINKOVÁ","Klára","8.A",0,null,0,0,null,0,19,0]
["74.","JUNGOVÁ ","Lucie","9.A",0,null,0,0,null,0,44,0]
["75.","KŘIVÁNKOVÁ ","Linda","9.A",0,null,0,0,null,0,36,0]
["76.","KUBÁTOVÁ","Lucie","9.A",0,null,0,0,null,0,42,34]
["77.","ŠIMŮNKOVÁ ","Nikola","9.A",0,null,0,0,null,0,40,28]
["78.","ŠMÍDOVÁ","Kristýna","9.A",37,null,"Jilemnice  14.03.21",541.93000000000006,null,0,34,24]
["79.",{"$f":"B179","v":"VOTOČKOVÁ "},"Nikola","9.A",0,null,0,0,null,0,28,19]
["80.","VYHLASOVÁ","Lenka","9.A",0,null,0,0,null,0,37,17]
["81.","BÖHMOVÁ","Diana","9.B",0,null,0,0,null,0,41,43]
["82.","HOUDOVÁ","Tereza","9.B",0,null,0,0,null,0,25,0]
["83.","JANÍKOVÁ","Kristýna","9.B",0,null,0,0,null,0,31,37]
["84.","KUŽELOVÁ","Ela","9.B",0,null,0,0,null,0,0,38]
["85.","MATERNOVÁ","Lucie","9.B",0,null,0,0,null,0,0,0]
["86.","OPOČENSKÁ","Matylda","9.B",0,null,0,0,null,0,49,32]
["87.","PIŠTOROVÁ","Karolína","9.B",0,null,0,0,null,0,35,30]
["88.","POKORNÝ","Anna","9.B",0,null,0,0,null,0,0,0]
["89.","SUCHÁNKOVÁ","Michaela","9.B",0,null,0,0,null,0,50,39]
["90.","ŠUBÍKOVÁ ","Štěpánka","9.B",0,null,0,0,null,0,0,31]
["91.","VANCLOVÁ","Pavlína","9.B",0,null,0,0,null,0,25,38]
[]
[]
[]
[]
[]
[null,"ERBENOVÁ","Sára","6.A",18,null,"Jilemnice  14.03.21",{"$f":"IF(E101=0,0,IF(E101>0,(E101*13.89+28)))","v":278.02}]
[null,"HOFMANOVÁ ","Nicol","6.A",26,null,"Jilemnice  14.03.21",389.14]
[null,"HOLEŠOVSKÁ","Aneta","6.A",null,null,null,0]
[null,"HOLUBCOVÁ","Alena","6.A",null,null,null,0]
[null,"KOHOUTOVÁ","Anna","6.A",null,null,null,0]
[null,"KRAUSOVÁ","Anežka","6.A",36,null,"Jilemnice  14.03.21",528.04]
[null,"KUŽELOVÁ","Apoléna","6.A",null,null,null,0]
[null,"MORÁVKOVÁ","Lucie","6.A",20,null,"Jilemnice  14.03.21",305.8]
[null,"SKLENÁROVÁ","Eliška","6.A",32,null,"Jilemnice  14.03.21",472.48]
[null,"ŠTOLFOVÁ","Tereza","6.A",null,null,null,0]
[null,"ŠUBÍKOVÁ","Klára","6.A",null,null,null,0]
[null,"TULÁČKOVÁ","Natálie","6.A",46,null,"Jilemnice  14.03.21",666.94]
[null,"VOJTÍŠKOVÁ","Ella","6.A",null,null,null,0]
[null,"DRUGÁČOVÁ","Kristinka","6.B",28,null,"Jilemnice  14.03.21",416.92]
[null,"FAJSTAVROVÁ","Karolína","6.B",null,null,null,0]
[null,"FAJSTAVROVÁ","Magdaléna","6.B",null,null,null,0]
[null,"HLAVATÁ","Anna","6.B",null,null,null,0]
[null,"JINDROVÁ","Barbora","6.B",null,null,null,0]
[null,"MAŘASOVÁ","Vendula","6.B",null,null,null,0]
[null,"PETŘÍČKOVÁ","Natálie","6.B",null,null,null,0]
[null,"PETŘÍKOVÁ","Adéla","6.B",null,null,null,0]
[null,"REGÁLOVÁ","Karolína","6.B",48,null,"Jilemnice  14.03.21",694.72]
[null,"RIEGROVÁ","Magdaléna","6.B",null,null,null,0]
[null,"RYBENSKÁ","Sabina","6.B",null,null,null,0]
[null,"STEINEROVÁ","Barbora","6.B",null,null,null,0]
[null,"TOMEŠOVÁ","Barbora","6.B",null,null,null,0]
[null,"VOHNOUTOVÁ","Aneta","6.B",null,null,null,0]
[null,"HAVLÍKOVÁ","Michaela","7.A",null,null,null,0]
[null,"HOLUBCOVÁ","Sára","7.A",null,null,null,0]
[null,"HONCŮ","Tereza","7.A",null,null,null,0]
[null,"HORÁČKOVÁ","Kateřina","7.A",37,null,"Jilemnice  14.03.21",541.93000000000006]
[null,"JOUDALOVÁ","Daniela","7.A",null,null,null,0]
[null,"KLÍMOVÁ","Anna","7.A",null,null,null,{"$f":"IF(E133=0,0,IF(E133>0,(E133*13.89+28)))","v":0}]
[null,"KOHOUTOVÁ","Veronika","7.A",null,null,null,0]
[null,"KOVÁŘOVÁ","Viktorie","7.A",40,null,"Jilemnice  14.03.21",583.6]
[null,"KYNČLOVÁ","Anna","7.A",null,null,null,0]
[null,"MATOUŠOVÁ","Tereza","7.A",null,null,null,0]
[null,"MAZÁNKOVÁ","Zuzana","7.A",null,null,null,0]
[null,"MORKESOVÁ","Sabrina","7.A",null,null,null,0]
[null,"POHOŘALÁ","Alžběta","7.A",null,null,null,0]
[null,"SCHOLZOVÁ","Laura","7.A",null,null,null,0]
[null,"VÁCLAVÍKOVÁ","Valerie","7.A",36,null,"Jilemnice  14.03.21",528.04]
[null,"ZAPADLOVÁ","Emma","7.A",null,null,null,0]
[null,"ŽIŠKOVÁ","Mia","7.A",null,null,null,0]
[null,"FARSKÁ","Tereza","7.B",null,null,null,0]
[null,"FEIXOVÁ","Rozálie","7.B",null,null,null,0]
[null,"FIŠEROVÁ","Michaela","7.B",null,null,null,0]
[null,"HAVLÍČKOVÁ","Kristýna","7.B",null,null,null,0]
[null,"JODASOVÁ","Nikola","7.B",null,null,null,0]
[null,"KADAVÁ","Nikola","7.B",35,null,"Jilemnice  14.03.21",514.15000000000009]
[null,"KRAFKOVÁ","Lucie","7.B",null,null,null,0]
[null,"KŘIVINKOVÁ","Alžběta","7.B",null,null,null,0]
[null,"LEŠÁKOVÁ","Lenka","7.B",null,null,null,0]
[null,"NYKLÍČKOVÁ","Adéla","7.B",null,null,null,0]
[null,"PLŮCHOVÁ","Petra","7.B",null,null,null,0]
[null,"PODZIMKOVÁ","Eliška","7.B",null,null,null,0]
[null,"RUTKAYOVÁ","Klára","7.B",35,null,"Jilemnice  14.03.21",514.15000000000009]
[null,"SEIDLOVÁ","Zuzana","7.B",null,null,null,0]
[null,"TOMÁŠOVÁ","Sára","7.B",null,null,null,0]
[null,"VANCLOVÁ","Barbora","7.B",null,null,null,0]
[null,"VOTOČKOVÁ","Veronika","7.B",null,null,null,0]
[null,"HARTIGOVÁ","Anna","8.A",null,null,null,0,null,null,41]
[null,"HONCŮ","Rozálie","8.A",null,null,null,0,null,null,47]
[null,"CHALOUPSKÁ","Lucie","8.A",null,null,null,0,null,null,51]
[null,"KŘÍŽKOVÁ","Anna","8.A",null,null,null,{"$f":"IF(E165=0,0,IF(E165>0,(E165*13.89+28)))","v":0},null,null,41]
[null,"LUKEŠOVÁ","Kristýna","8.A",null,null,null,0,null,null,48]
[null,"MOTLÍKOVÁ","Eliška","8.A",null,null,null,0,null,null,40]
[null,"POHOŘELÁ","Amálie","8.A",null,null,null,0,null,null,45]
[null,"POLÁČKOVÁ","Natálie","8.A",null,null,null,0,null,null,40]
[null,"ŘEHOŘKOVÁ","Lucie","8.A",null,null,null,0,null,null,37]
[null,"SKÁLOVÁ","Alena","8.A",null,null,null,0]
[null,"VÁVROVÁ ","Aneta","8.A",null,null,null,0,null,null,32]
[null,"ZELINKOVÁ","Klára","8.A",null,null,null,0,null,null,19]
[null,"JUNGOVÁ ","Lucie","9.A",null,null,null,0,null,null,44]
[null,"KŘIVÁNKOVÁ ","Linda","9.A",null,null,null,0,null,null,36]
[null,"KUBÁTOVÁ","Lucie","9.A",null,null,null,0,null,null,42,34]
[null,"ŠIMŮNKOVÁ ","Nikola","9.A",null,null,null,0,null,null,40,28]
[null,"ŠMÍDOVÁ","Kristýna","9.A",37,null,"Jilemnice  14.03.21",541.93000000000006,null,null,34,24]
[null,"VOTOČKOVÁ ","Nikola","9.A",null,null,null,0,null,null,28,19]
[null,"VYHLASOVÁ","Lenka","9.A",null,null,null,0,null,null,37,17]
[null,"BÖHMOVÁ","Diana","9.B",null,null,null,0,null,null,41,43]
[null,"HOUDOVÁ","Tereza","9.B",null,null,null,0,null,null,25]
[null,"JANÍKOVÁ","Kristýna","9.B",null,null,null,0,null,null,31,37]
[null,"KUŽELOVÁ","Ela","9.B",null,null,null,0,null,null,null,38]
[null,"MATERNOVÁ","Lucie","9.B"]
[null,"OPOČENSKÁ","Matylda","9.B",null,null,null,{"$f":"IF(E186=0,0,IF(E186>0,(E186*13.89+28)))","v":0},null,null,49,32]
[null,"PIŠTOROVÁ","Karolína","9.B",null,null,null,0,null,null,35,30]
[null,"POKORNÝ","Anna","9.B",null,null,null,0]
[null,"SUCHÁNKOVÁ","Michaela","9.B",null,null,null,0,null,null,50,39]
[null,"ŠUBÍKOVÁ ","Štěpánka","9.B",null,null,null,0,null,null,null,31]
[null,"VANCLOVÁ","Pavlína","9.B",null,null,null,0,null,null,25,38]

{"sheet":"Dodbíj","index":35,"n_rows":191,"n_cols":12,"rows_kept":191,"cut":false,"hidden":false,"merged":[]}
[null,null,"VÝKONY   2020 - 2021",null,null,null,"ODBÍJENÍ","DĚVČATA  6. -  9.  ROČ."]
[null,null,null,null,null,null,null,null,null,null,"stav  k ",{"$f":"TODAY()","v":"2021-06-28"}]
[null,null,null,null,null,null,null,"   BODY",null,"   19 - 20   ","   18 - 19   ","   17 - 18   "]
[]
["1.",{"$f":"B101","v":"ERBENOVÁ"},{"$f":"C101","v":"Sára"},"6.A",0,null,0,0,null,0,0,0]
["2.",{"$f":"B102","v":"HOFMANOVÁ "},"Nicol","6.A",0,null,0,0,null,0,0,0]
["3.","HOLEŠOVSKÁ","Aneta","6.A",0,null,0,0,null,0,0,0]
["4.","HOLUBCOVÁ","Alena","6.A",0,null,0,0,null,0,0,0]
["5.","KOHOUTOVÁ","Anna","6.A",0,null,0,0,null,0,0,0]
["6.","KRAUSOVÁ","Anežka","6.A",0,null,0,0,null,0,0,0]
["7.","KUŽELOVÁ","Apoléna","6.A",0,null,0,0,null,0,0,0]
["8.","MORÁVKOVÁ","Lucie","6.A",0,null,0,0,null,0,0,0]
["9.","SKLENÁROVÁ","Eliška","6.A",0,null,0,0,null,0,0,0]
["10.","ŠTOLFOVÁ","Tereza","6.A",0,null,0,0,null,0,0,0]
["11.","ŠUBÍKOVÁ","Klára","6.A",0,null,0,0,null,0,0,0]
["12.","TULÁČKOVÁ","Natálie","6.A",0,null,0,0,null,0,0,0]
["13.","VOJTÍŠKOVÁ","Ella","6.A",0,null,0,0,null,0,0,0]
["14.","DRUGÁČOVÁ","Kristinka","6.B",0,null,0,0,null,0,0,0]
["15.","FAJSTAVROVÁ","Karolína","6.B",0,null,0,0,null,0,0,0]
["16.","FAJSTAVROVÁ","Magdaléna","6.B",0,null,0,0,null,0,0,0]
["17.","HLAVATÁ","Anna","6.B",0,null,0,0,null,0,0,0]
["18.",{"$f":"B118","v":"JINDROVÁ"},"Barbora","6.B",0,null,0,0,null,0,0,0]
["19.","MAŘASOVÁ","Vendula","6.B",0,null,0,0,null,0,0,0]
["20.","PETŘÍČKOVÁ","Natálie","6.B",0,null,0,0,null,0,0,0]
["21.","PETŘÍKOVÁ","Adéla","6.B",0,null,0,0,null,0,0,0]
["22.","REGÁLOVÁ","Karolína","6.B",0,null,0,0,null,0,0,0]
["23.","RIEGROVÁ","Magdaléna","6.B",0,null,0,0,null,0,0,0]
["24.","RYBENSKÁ","Sabina","6.B",0,null,0,0,null,0,0,0]
["25.","STEINEROVÁ","Barbora","6.B",0,null,0,0,null,0,0,0]
["26.","TOMEŠOVÁ","Barbora","6.B",0,null,0,0,null,0,0,0]
["27.","VOHNOUTOVÁ","Aneta","6.B",0,null,0,0,null,0,0,0]
["28.","HAVLÍKOVÁ","Michaela","7.A",0,null,0,0,null,3,0,0]
["29.","HOLUBCOVÁ","Sára","7.A",0,null,0,0,null,8,0,0]
["30.","HONCŮ","Tereza","7.A",0,null,0,0,null,6,0,0]
["31.","HORÁČKOVÁ","Kateřina","7.A",0,null,0,0,null,7,0,0]
["32.","JOUDALOVÁ","Daniela","7.A",0,null,0,0,null,0,0,0]
["33.","KLÍMOVÁ","Anna","7.A",0,null,0,0,null,6,0,0]
["34.",{"$f":"B134","v":"KOHOUTOVÁ"},"Veronika","7.A",0,null,0,0,null,6,0,0]
["35.","KOVÁŘOVÁ","Viktorie","7.A",0,null,0,0,null,8,0,0]
["36.","KYNČLOVÁ","Anna","7.A",0,null,0,0,null,10,0,0]
["37.","MATOUŠOVÁ","Tereza","7.A",0,null,0,0,null,9,0,0]
["38.","MAZÁNKOVÁ","Zuzana","7.A",0,null,0,0,null,6,0,0]
["39.","MORKESOVÁ","Sabrina","7.A",0,null,0,0,null,9,0,0]
["40.","POHOŘALÁ","Alžběta","7.A",0,null,0,0,null,11,0,0]
["41.","SCHOLZOVÁ","Laura","7.A",0,null,0,0,null,6,0,0]
["42.","VÁCLAVÍKOVÁ","Valerie","7.A",0,null,0,0,null,11,0,0]
["43.","ZAPADLOVÁ","Emma","7.A",0,null,0,0,null,10,0,0]
["44.","ŽIŠKOVÁ","Mia","7.A",0,null,0,0,null,9,0,0]
["45.","FARSKÁ","Tereza","7.B",0,null,0,0,null,0,0,0]
["46.","FEIXOVÁ","Rozálie","7.B",0,null,0,0,null,0,0,0]
["47.","FIŠEROVÁ","Michaela","7.B",0,null,0,0,null,0,0,0]
["48.","HAVLÍČKOVÁ","Kristýna","7.B",0,null,0,0,null,0,0,0]
["49.","JODASOVÁ","Nikola","7.B",0,null,0,0,null,0,0,0]
["50.",{"$f":"B150","v":"KADAVÁ"},"Nikola","7.B",0,null,0,0,null,0,0,0]
["51.","KRAFKOVÁ","Lucie","7.B",0,null,0,0,null,0,0,0]
["52.","KŘIVINKOVÁ","Alžběta","7.B",0,null,0,0,null,0,0,0]
["53.","LEŠÁKOVÁ","Lenka","7.B",0,null,0,0,null,0,0,0]
["54.","NYKLÍČKOVÁ","Adéla","7.B",0,null,0,0,null,0,0,0]
["55.","PLŮCHOVÁ","Petra","7.B",0,null,0,0,null,0,0,0]
["56.","PODZIMKOVÁ","Eliška","7.B",0,null,0,0,null,0,0,0]
["57.","RUTKAYOVÁ","Klára","7.B",0,null,0,0,null,0,0,0]
["58.","SEIDLOVÁ","Zuzana","7.B",0,null,0,0,null,0,0,0]
["59.","TOMÁŠOVÁ","Sára","7.B",0,null,0,0,null,0,0,0]
["60.","VANCLOVÁ","Barbora","7.B",0,null,0,0,null,0,0,0]
["61.","VOTOČKOVÁ","Veronika","7.B",0,null,0,0,null,0,0,0]
["62.","HARTIGOVÁ","Anna","8.A",0,null,0,0,null,0,19,0]
["63.","HONCŮ","Rozálie","8.A",0,null,0,0,null,0,5,0]
["64.","CHALOUPSKÁ","Lucie","8.A",0,null,0,0,null,0,10,0]
["65.","KŘÍŽKOVÁ","Anna","8.A",0,null,0,0,null,0,10,0]
["66.",{"$f":"B166","v":"LUKEŠOVÁ"},"Kristýna","8.A",0,null,0,0,null,0,5,0]
["67.","MOTLÍKOVÁ","Eliška","8.A",0,null,0,0,null,0,11,0]
["68.","POHOŘELÁ","Amálie","8.A",0,null,0,0,null,0,9,0]
["69.","POLÁČKOVÁ","Natálie","8.A",0,null,0,0,null,0,0,0]
["70.","ŘEHOŘKOVÁ","Lucie","8.A",0,null,0,0,null,0,19,0]
["71.","SKÁLOVÁ","Alena","8.A",0,null,0,0,null,0,4,0]
["72.","VÁVROVÁ ","Aneta","8.A",0,null,0,0,null,0,11,0]
["73.","ZELINKOVÁ","Klára","8.A",0,null,0,0,null,0,10,0]
["74.","JUNGOVÁ ","Lucie","9.A",0,null,0,0,null,0,27,6]
["75.","KŘIVÁNKOVÁ ","Linda","9.A",0,null,0,0,null,0,20,10]
["76.","KUBÁTOVÁ","Lucie","9.A",0,null,0,0,null,0,22,5]
["77.","ŠIMŮNKOVÁ ","Nikola","9.A",0,null,0,0,null,12,22,6]
["78.","ŠMÍDOVÁ","Kristýna","9.A",0,null,0,0,null,10,22,6]
["79.","VOTOČKOVÁ ","Nikola","9.A",0,null,0,0,null,12,19,6]
["80.","VYHLASOVÁ","Lenka","9.A",0,null,0,0,null,0,22,10]
["81.","BÖHMOVÁ","Diana","9.B",0,null,0,0,null,0,7,8]
["82.",{"$f":"B182","v":"HOUDOVÁ"},"Tereza","9.B",0,null,0,0,null,0,27,10]
["83.","JANÍKOVÁ","Kristýna","9.B",0,null,0,0,null,10,0,0]
["84.","KUŽELOVÁ","Ela","9.B",0,null,0,0,null,0,29,7]
["85.","MATERNOVÁ","Lucie","9.B",0,null,0,0,null,0,9,2]
["86.","OPOČENSKÁ","Matylda","9.B",0,null,0,0,null,0,0,0]
["87.","PIŠTOROVÁ","Karolína","9.B",0,null,0,0,null,0,29,17]
["88.","POKORNÝ","Anna","9.B",0,null,0,0,null,0,0,6]
["89.","SUCHÁNKOVÁ","Michaela","9.B",0,null,0,0,null,17,14,8]
["90.","ŠUBÍKOVÁ ","Štěpánka","9.B",0,null,0,0,null,17,7,8]
["91.","VANCLOVÁ","Pavlína","9.B",0,null,0,0,null,17,9,8]
[]
[]
[]
[]
[]
[null,"ERBENOVÁ","Sára","6.A",null,null,null,{"$f":"IF(E101=0,0,IF(E101<101,3*E101,IF(E101>80,300+E101/2.5)))","v":0}]
[null,"HOFMANOVÁ ","Nicol","6.A",null,null,null,0]
[null,"HOLEŠOVSKÁ","Aneta","6.A",null,null,null,0]
[null,"HOLUBCOVÁ","Alena","6.A",null,null,null,0]
[null,"KOHOUTOVÁ","Anna","6.A",null,null,null,0]
[null,"KRAUSOVÁ","Anežka","6.A",null,null,null,0]
[null,"KUŽELOVÁ","Apoléna","6.A",null,null,null,0]
[null,"MORÁVKOVÁ","Lucie","6.A",null,null,null,0]
[null,"SKLENÁROVÁ","Eliška","6.A",null,null,null,0]
[null,"ŠTOLFOVÁ","Tereza","6.A",null,null,null,0]
[null,"ŠUBÍKOVÁ","Klára","6.A",null,null,null,0]
[null,"TULÁČKOVÁ","Natálie","6.A",null,null,null,0]
[null,"VOJTÍŠKOVÁ","Ella","6.A",null,null,null,0]
[null,"DRUGÁČOVÁ","Kristinka","6.B",null,null,null,0]
[null,"FAJSTAVROVÁ","Karolína","6.B",null,null,null,0]
[null,"FAJSTAVROVÁ","Magdaléna","6.B",null,null,null,0]
[null,"HLAVATÁ","Anna","6.B",null,null,null,0]
[null,"JINDROVÁ","Barbora","6.B",null,null,null,0]
[null,"MAŘASOVÁ","Vendula","6.B",null,null,null,0]
[null,"PETŘÍČKOVÁ","Natálie","6.B",null,null,null,0]
[null,"PETŘÍKOVÁ","Adéla","6.B",null,null,null,0]
[null,"REGÁLOVÁ","Karolína","6.B",null,null,null,0]
[null,"RIEGROVÁ","Magdaléna","6.B",null,null,null,0]
[null,"RYBENSKÁ","Sabina","6.B",null,null,null,0]
[null,"STEINEROVÁ","Barbora","6.B",null,null,null,0]
[null,"TOMEŠOVÁ","Barbora","6.B",null,null,null,0]
[null,"VOHNOUTOVÁ","Aneta","6.B",null,null,null,0]
[null,"HAVLÍKOVÁ","Michaela","7.A",null,null,null,0,null,3]
[null,"HOLUBCOVÁ","Sára","7.A",null,null,null,0,null,8]
[null,"HONCŮ","Tereza","7.A",null,null,null,0,null,6]
[null,"HORÁČKOVÁ","Kateřina","7.A",null,null,null,0,null,7]
[null,"JOUDALOVÁ","Daniela","7.A",null,null,null,0]
[null,"KLÍMOVÁ","Anna","7.A",null,null,null,{"$f":"IF(E133=0,0,IF(E133<101,3*E133,IF(E133>80,300+E133/2.5)))","v":0},null,6]
[null,"KOHOUTOVÁ","Veronika","7.A",null,null,null,0,null,6]
[null,"KOVÁŘOVÁ","Viktorie","7.A",null,null,null,0,null,8]
[null,"KYNČLOVÁ","Anna","7.A",null,null,null,0,null,10]
[null,"MATOUŠOVÁ","Tereza","7.A",null,null,null,0,null,9]
[null,"MAZÁNKOVÁ","Zuzana","7.A",null,null,null,0,null,6]
[null,"MORKESOVÁ","Sabrina","7.A",null,null,null,0,null,9]
[null,"POHOŘALÁ","Alžběta","7.A",null,null,null,0,null,11]
[null,"SCHOLZOVÁ","Laura","7.A",null,null,null,0,null,6]
[null,"VÁCLAVÍKOVÁ","Valerie","7.A",null,null,null,0,null,11]
[null,"ZAPADLOVÁ","Emma","7.A",null,null,null,0,null,10]
[null,"ŽIŠKOVÁ","Mia","7.A",null,null,null,0,null,9]
[null,"FARSKÁ","Tereza","7.B",null,null,null,0]
[null,"FEIXOVÁ","Rozálie","7.B",null,null,null,0]
[null,"FIŠEROVÁ","Michaela","7.B",null,null,null,0]
[null,"HAVLÍČKOVÁ","Kristýna","7.B",null,null,null,0]
[null,"JODASOVÁ","Nikola","7.B",null,null,null,0]
[null,"KADAVÁ","Nikola","7.B",null,null,null,0]
[null,"KRAFKOVÁ","Lucie","7.B",null,null,null,0]
[null,"KŘIVINKOVÁ","Alžběta","7.B",null,null,null,0]
[null,"LEŠÁKOVÁ","Lenka","7.B",null,null,null,0]
[null,"NYKLÍČKOVÁ","Adéla","7.B",null,null,null,0]
[null,"PLŮCHOVÁ","Petra","7.B",null,null,null,0]
[null,"PODZIMKOVÁ","Eliška","7.B",null,null,null,0]
[null,"RUTKAYOVÁ","Klára","7.B",null,null,null,0]
[null,"SEIDLOVÁ","Zuzana","7.B",null,null,null,0]
[null,"TOMÁŠOVÁ","Sára","7.B",null,null,null,0]
[null,"VANCLOVÁ","Barbora","7.B",null,null,null,0]
[null,"VOTOČKOVÁ","Veronika","7.B",null,null,null,0]
[null,"HARTIGOVÁ","Anna","8.A",null,null,null,0,null,null,19]
[null,"HONCŮ","Rozálie","8.A",null,null,null,0,null,null,5]
[null,"CHALOUPSKÁ","Lucie","8.A",null,null,null,0,null,null,10]
[null,"KŘÍŽKOVÁ","Anna","8.A",null,null,null,{"$f":"IF(E165=0,0,IF(E165<101,3*E165,IF(E165>80,300+E165/2.5)))","v":0},null,null,10]
[null,"LUKEŠOVÁ","Kristýna","8.A",null,null,null,0,null,null,5]
[null,"MOTLÍKOVÁ","Eliška","8.A",null,null,null,0,null,null,11]
[null,"POHOŘELÁ","Amálie","8.A",null,null,null,0,null,null,9]
[null,"POLÁČKOVÁ","Natálie","8.A",null,null,null,0]
[null,"ŘEHOŘKOVÁ","Lucie","8.A",null,null,null,0,null,null,19]
[null,"SKÁLOVÁ","Alena","8.A",null,null,null,0,null,null,4]
[null,"VÁVROVÁ ","Aneta","8.A",null,null,null,0,null,null,11]
[null,"ZELINKOVÁ","Klára","8.A",null,null,null,0,null,null,10]
[null,"JUNGOVÁ ","Lucie","9.A",null,null,null,0,null,null,27,6]
[null,"KŘIVÁNKOVÁ ","Linda","9.A",null,null,null,0,null,null,20,10]
[null,"KUBÁTOVÁ","Lucie","9.A",null,null,null,0,null,null,22,5]
[null,"ŠIMŮNKOVÁ ","Nikola","9.A",null,null,null,0,null,12,22,6]
[null,"ŠMÍDOVÁ","Kristýna","9.A",null,null,null,0,null,10,22,6]
[null,"VOTOČKOVÁ ","Nikola","9.A",null,null,null,0,null,12,19,6]
[null,"VYHLASOVÁ","Lenka","9.A",null,null,null,0,null,null,22,10]
[null,"BÖHMOVÁ","Diana","9.B",null,null,null,0,null,null,7,8]
[null,"HOUDOVÁ","Tereza","9.B",null,null,null,0,null,null,27,10]
[null,"JANÍKOVÁ","Kristýna","9.B",null,null,null,null,null,10]
[null,"KUŽELOVÁ","Ela","9.B",null,null,null,{"$f":"IF(E184=0,0,IF(E184<101,3*E184,IF(E184>80,300+E184/2.5)))","v":0},null,null,29,7]
[null,"MATERNOVÁ","Lucie","9.B",null,null,null,0,null,null,9,2]
[null,"OPOČENSKÁ","Matylda","9.B",null,null,null,0]
[null,"PIŠTOROVÁ","Karolína","9.B",null,null,null,0,null,null,29,17]
[null,"POKORNÝ","Anna","9.B",null,null,null,0,null,null,null,6]
[null,"SUCHÁNKOVÁ","Michaela","9.B",null,null,null,0,null,17,14,8]
[null,"ŠUBÍKOVÁ ","Štěpánka","9.B",null,null,null,0,null,17,7,8]
[null,"VANCLOVÁ","Pavlína","9.B",null,null,null,0,null,17,9,8]

{"sheet":"Dplav","index":36,"n_rows":191,"n_cols":12,"rows_kept":191,"cut":false,"hidden":false,"merged":[]}
[null,null,"VÝKONY   2020 - 2021",null,null,null,"PLAVÁNÍ","   DĚVČATA  6. -  9.  ROČ."]
[null,null,null,null,null,null,null,null,null,null,"stav  k ",{"$f":"TODAY()","v":44375}]
[null,null,null,null,null,null,null,"   BODY",null,"   19 - 20   ","   18 - 19   ","   17 - 18   "]
[]
["1.",{"$f":"B101","v":"ERBENOVÁ"},{"$f":"C101","v":"Sára"},"6.A",0,null,0,0,null,0,0,0]
["2.",{"$f":"B102","v":"HOFMANOVÁ "},"Nicol","6.A",0,null,0,0,null,0,0,0]
["3.","HOLEŠOVSKÁ","Aneta","6.A",0,null,0,0,null,0,0,0]
["4.","HOLUBCOVÁ","Alena","6.A",0,null,0,0,null,0,0,0]
["5.","KOHOUTOVÁ","Anna","6.A",0,null,0,0,null,0,0,0]
["6.","KRAUSOVÁ","Anežka","6.A",0,null,0,0,null,0,0,0]
["7.","KUŽELOVÁ","Apoléna","6.A",0,null,0,0,null,0,0,0]
["8.","MORÁVKOVÁ","Lucie","6.A",0,null,0,0,null,0,0,0]
["9.","SKLENÁROVÁ","Eliška","6.A",0,null,0,0,null,0,0,0]
["10.","ŠTOLFOVÁ","Tereza","6.A",0,null,0,0,null,0,0,0]
["11.","ŠUBÍKOVÁ","Klára","6.A",0,null,0,0,null,0,0,0]
["12.","TULÁČKOVÁ","Natálie","6.A",0,null,0,0,null,0,0,0]
["13.","VOJTÍŠKOVÁ","Ella","6.A",0,null,0,0,null,0,0,0]
["14.","DRUGÁČOVÁ","Kristinka","6.B",0,null,0,0,null,0,0,0]
["15.","FAJSTAVROVÁ","Karolína","6.B",0,null,0,0,null,0,0,0]
["16.","FAJSTAVROVÁ","Magdaléna","6.B",0,null,0,0,null,0,0,0]
["17.","HLAVATÁ","Anna","6.B",0,null,0,0,null,0,0,0]
["18.",{"$f":"B118","v":"JINDROVÁ"},"Barbora","6.B",0,null,0,0,null,0,0,0]
["19.","MAŘASOVÁ","Vendula","6.B",0,null,0,0,null,0,0,0]
["20.","PETŘÍČKOVÁ","Natálie","6.B",0,null,0,0,null,0,0,0]
["21.","PETŘÍKOVÁ","Adéla","6.B",0,null,0,0,null,0,0,0]
["22.","REGÁLOVÁ","Karolína","6.B",0,null,0,0,null,0,0,0]
["23.","RIEGROVÁ","Magdaléna","6.B",0,null,0,0,null,0,0,0]
["24.","RYBENSKÁ","Sabina","6.B",0,null,0,0,null,0,0,0]
["25.","STEINEROVÁ","Barbora","6.B",0,null,0,0,null,0,0,0]
["26.","TOMEŠOVÁ","Barbora","6.B",0,null,0,0,null,0,0,0]
["27.","VOHNOUTOVÁ","Aneta","6.B",0,null,0,0,null,0,0,0]
["28.","HAVLÍKOVÁ","Michaela","7.A",0,null,0,0,null,0,0,0]
["29.","HOLUBCOVÁ","Sára","7.A",0,null,0,0,null,0,0,0]
["30.","HONCŮ","Tereza","7.A",0,null,0,0,null,0,0,0]
["31.","HORÁČKOVÁ","Kateřina","7.A",0,null,0,0,null,0,0,0]
["32.","JOUDALOVÁ","Daniela","7.A",0,null,0,0,null,0,0,0]
["33.","KLÍMOVÁ","Anna","7.A",0,null,0,0,null,0,0,0]
["34.",{"$f":"B134","v":"KOHOUTOVÁ"},"Veronika","7.A",0,null,0,0,null,0,0,0]
["35.","KOVÁŘOVÁ","Viktorie","7.A",0,null,0,0,null,0,0,0]
["36.","KYNČLOVÁ","Anna","7.A",0,null,0,0,null,0,0,0]
["37.","MATOUŠOVÁ","Tereza","7.A",0,null,0,0,null,26.05,0,0]
["38.","MAZÁNKOVÁ","Zuzana","7.A",0,null,0,0,null,0,0,0]
["39.","MORKESOVÁ","Sabrina","7.A",0,null,0,0,null,0,0,0]
["40.","POHOŘALÁ","Alžběta","7.A",0,null,0,0,null,0,0,0]
["41.","SCHOLZOVÁ","Laura","7.A",0,null,0,0,null,0,0,0]
["42.","VÁCLAVÍKOVÁ","Valerie","7.A",0,null,0,0,null,0,0,0]
["43.","ZAPADLOVÁ","Emma","7.A",0,null,0,0,null,0,0,0]
["44.","ŽIŠKOVÁ","Mia","7.A",0,null,0,0,null,0,0,0]
["45.","FARSKÁ","Tereza","7.B",0,null,0,0,null,0,0,0]
["46.","FEIXOVÁ","Rozálie","7.B",0,null,0,0,null,0,0,0]
["47.","FIŠEROVÁ","Michaela","7.B",0,null,0,0,null,0,0,0]
["48.","HAVLÍČKOVÁ","Kristýna","7.B",0,null,0,0,null,22.15,0,0]
["49.","JODASOVÁ","Nikola","7.B",0,null,0,0,null,0,0,0]
["50.",{"$f":"B150","v":"KADAVÁ"},"Nikola","7.B",0,null,0,0,null,0,0,0]
["51.","KRAFKOVÁ","Lucie","7.B",0,null,0,0,null,0,0,0]
["52.","KŘIVINKOVÁ","Alžběta","7.B",0,null,0,0,null,0,0,0]
["53.","LEŠÁKOVÁ","Lenka","7.B",0,null,0,0,null,0,0,0]
["54.","NYKLÍČKOVÁ","Adéla","7.B",0,null,0,0,null,0,0,0]
["55.","PLŮCHOVÁ","Petra","7.B",0,null,0,0,null,34.65,0,0]
["56.","PODZIMKOVÁ","Eliška","7.B",0,null,0,0,null,0,0,0]
["57.","RUTKAYOVÁ","Klára","7.B",0,null,0,0,null,0,0,0]
["58.","SEIDLOVÁ","Zuzana","7.B",0,null,0,0,null,0,0,0]
["59.","TOMÁŠOVÁ","Sára","7.B",0,null,0,0,null,0,0,0]
["60.","VANCLOVÁ","Barbora","7.B",0,null,0,0,null,0,0,0]
["61.","VOTOČKOVÁ","Veronika","7.B",0,null,0,0,null,0,0,0]
["62.","HARTIGOVÁ","Anna","8.A",0,null,0,0,null,0,0,0]
["63.","HONCŮ","Rozálie","8.A",0,null,0,0,null,29.45,34.6,0]
["64.","CHALOUPSKÁ","Lucie","8.A",0,null,0,0,null,0,0,0]
["65.","KŘÍŽKOVÁ","Anna","8.A",0,null,0,0,null,0,0,0]
["66.",{"$f":"B166","v":"LUKEŠOVÁ"},"Kristýna","8.A",0,null,0,0,null,23.4,25.7,0]
["67.","MOTLÍKOVÁ","Eliška","8.A",0,null,0,0,null,0,0,0]
["68.","POHOŘELÁ","Amálie","8.A",0,null,0,0,null,0,0,0]
["69.","POLÁČKOVÁ","Natálie","8.A",0,null,0,0,null,0,0,0]
["70.","ŘEHOŘKOVÁ","Lucie","8.A",0,null,0,0,null,0,0,0]
["71.","SKÁLOVÁ","Alena","8.A",0,null,0,0,null,0,0,0]
["72.","VÁVROVÁ ","Aneta","8.A",0,null,0,0,null,0,0,0]
["73.","ZELINKOVÁ","Klára","8.A",0,null,0,0,null,0,0,0]
["74.","JUNGOVÁ ","Lucie","9.A",0,null,0,0,null,0,0,0]
["75.","KŘIVÁNKOVÁ ","Linda","9.A",0,null,0,0,null,0,27.01,24.84]
["76.","KUBÁTOVÁ","Lucie","9.A",0,null,0,0,null,0,0,0]
["77.","ŠIMŮNKOVÁ ","Nikola","9.A",0,null,0,0,null,0,0,34.25]
["78.","ŠMÍDOVÁ","Kristýna","9.A",0,null,0,0,null,0,0,0]
["79.","VOTOČKOVÁ ","Nikola","9.A",0,null,0,0,null,0,0,33.659999999999997]
["80.","VYHLASOVÁ","Lenka","9.A",0,null,0,0,null,0,0,0]
["81.","BÖHMOVÁ","Diana","9.B",0,null,0,0,null,0,0,38.869999999999997]
["82.",{"$f":"B182","v":"HOUDOVÁ"},"Tereza","9.B",0,null,0,0,null,25.9,26.2,24.62]
["83.","JANÍKOVÁ","Kristýna","9.B",0,null,0,0,null,0,0,0]
["84.","KUŽELOVÁ","Ela","9.B",0,null,0,0,null,0,0,0]
["85.","MATERNOVÁ","Lucie","9.B",0,null,0,0,null,0,0,0]
["86.","OPOČENSKÁ","Matylda","9.B",0,null,0,0,null,0,0,0]
["87.","PIŠTOROVÁ","Karolína","9.B",0,null,0,0,null,0,0,28.29]
["88.","POKORNÝ","Anna","9.B",0,null,0,0,null,0,0,0]
["89.","SUCHÁNKOVÁ","Michaela","9.B",0,null,0,0,null,0,0,35.869999999999997]
["90.","ŠUBÍKOVÁ ","Štěpánka","9.B",0,null,0,0,null,0,0,0]
["91.","VANCLOVÁ","Pavlína","9.B",0,null,0,0,null,0,0,32.97]
[]
[]
[]
[]
[]
[null,"ERBENOVÁ","Sára","6.A",null,null,null,{"$f":"IF(E101=0,0,IF(E101>0,(1000000000 - 313216 /E101 + 34538300 /E101*2 - 1698600000 /E101*3 + 32198000000 /E101*4)/11000000+44))","v":0}]
[null,"HOFMANOVÁ ","Nicol","6.A",null,null,null,0]
[null,"HOLEŠOVSKÁ","Aneta","6.A",null,null,null,0]
[null,"HOLUBCOVÁ","Alena","6.A",null,null,null,0]
[null,"KOHOUTOVÁ","Anna","6.A",null,null,null,0]
[null,"KRAUSOVÁ","Anežka","6.A",null,null,null,0]
[null,"KUŽELOVÁ","Apoléna","6.A",null,null,null,0]
[null,"MORÁVKOVÁ","Lucie","6.A",null,null,null,0]
[null,"SKLENÁROVÁ","Eliška","6.A",null,null,null,0]
[null,"ŠTOLFOVÁ","Tereza","6.A",null,null,null,0]
[null,"ŠUBÍKOVÁ","Klára","6.A",null,null,null,0]
[null,"TULÁČKOVÁ","Natálie","6.A",null,null,null,0]
[null,"VOJTÍŠKOVÁ","Ella","6.A",null,null,null,0]
[null,"DRUGÁČOVÁ","Kristinka","6.B",null,null,null,0]
[null,"FAJSTAVROVÁ","Karolína","6.B",null,null,null,0]
[null,"FAJSTAVROVÁ","Magdaléna","6.B",null,null,null,0]
[null,"HLAVATÁ","Anna","6.B",null,null,null,0]
[null,"JINDROVÁ","Barbora","6.B",null,null,null,0]
[null,"MAŘASOVÁ","Vendula","6.B",null,null,null,0]
[null,"PETŘÍČKOVÁ","Natálie","6.B",null,null,null,0]
[null,"PETŘÍKOVÁ","Adéla","6.B",null,null,null,0]
[null,"REGÁLOVÁ","Karolína","6.B",null,null,null,0]
[null,"RIEGROVÁ","Magdaléna","6.B",null,null,null,0]
[null,"RYBENSKÁ","Sabina","6.B",null,null,null,0]
[null,"STEINEROVÁ","Barbora","6.B",null,null,null,0]
[null,"TOMEŠOVÁ","Barbora","6.B",null,null,null,0]
[null,"VOHNOUTOVÁ","Aneta","6.B",null,null,null,0]
[null,"HAVLÍKOVÁ","Michaela","7.A",null,null,null,0]
[null,"HOLUBCOVÁ","Sára","7.A",null,null,null,0]
[null,"HONCŮ","Tereza","7.A",null,null,null,0]
[null,"HORÁČKOVÁ","Kateřina","7.A",null,null,null,0]
[null,"JOUDALOVÁ","Daniela","7.A",null,null,null,0]
[null,"KLÍMOVÁ","Anna","7.A",null,null,null,{"$f":"IF(E133=0,0,IF(E133>0,(1000000000 - 313216 /E133 + 34538300 /E133*2 - 1698600000 /E133*3 + 32198000000 /E133*4)/11000000+44))","v":0}]
[null,"KOHOUTOVÁ","Veronika","7.A",null,null,null,0]
[null,"KOVÁŘOVÁ","Viktorie","7.A",null,null,null,0]
[null,"KYNČLOVÁ","Anna","7.A",null,null,null,0]
[null,"MATOUŠOVÁ","Tereza","7.A",null,null,null,0,null,26.05]
[null,"MAZÁNKOVÁ","Zuzana","7.A",null,null,null,0]
[null,"MORKESOVÁ","Sabrina","7.A",null,null,null,0]
[null,"POHOŘALÁ","Alžběta","7.A",null,null,null,0]
[null,"SCHOLZOVÁ","Laura","7.A",null,null,null,0]
[null,"VÁCLAVÍKOVÁ","Valerie","7.A",null,null,null,0]
[null,"ZAPADLOVÁ","Emma","7.A",null,null,null,0]
[null,"ŽIŠKOVÁ","Mia","7.A",null,null,null,0]
[null,"FARSKÁ","Tereza","7.B",null,null,null,0]
[null,"FEIXOVÁ","Rozálie","7.B",null,null,null,0]
[null,"FIŠEROVÁ","Michaela","7.B",null,null,null,0]
[null,"HAVLÍČKOVÁ","Kristýna","7.B",null,null,null,0,null,22.15]
[null,"JODASOVÁ","Nikola","7.B",null,null,null,0]
[null,"KADAVÁ","Nikola","7.B",null,null,null,0]
[null,"KRAFKOVÁ","Lucie","7.B",null,null,null,0]
[null,"KŘIVINKOVÁ","Alžběta","7.B",null,null,null,0]
[null,"LEŠÁKOVÁ","Lenka","7.B",null,null,null,0]
[null,"NYKLÍČKOVÁ","Adéla","7.B",null,null,null,0]
[null,"PLŮCHOVÁ","Petra","7.B",null,null,null,0,null,34.65]
[null,"PODZIMKOVÁ","Eliška","7.B",null,null,null,0]
[null,"RUTKAYOVÁ","Klára","7.B",null,null,null,0]
[null,"SEIDLOVÁ","Zuzana","7.B",null,null,null,0]
[null,"TOMÁŠOVÁ","Sára","7.B",null,null,null,0]
[null,"VANCLOVÁ","Barbora","7.B",null,null,null,0]
[null,"VOTOČKOVÁ","Veronika","7.B",null,null,null,0]
[null,"HARTIGOVÁ","Anna","8.A",null,null,null,0]
[null,"HONCŮ","Rozálie","8.A",null,null,null,0,null,29.45,34.6]
[null,"CHALOUPSKÁ","Lucie","8.A",null,null,null,0]
[null,"KŘÍŽKOVÁ","Anna","8.A",null,null,null,{"$f":"IF(E165=0,0,IF(E165>0,(1000000000 - 313216 /E165 + 34538300 /E165*2 - 1698600000 /E165*3 + 32198000000 /E165*4)/11000000+44))","v":0}]
[null,"LUKEŠOVÁ","Kristýna","8.A",null,null,null,0,null,23.4,25.7]
[null,"MOTLÍKOVÁ","Eliška","8.A",null,null,null,0]
[null,"POHOŘELÁ","Amálie","8.A",null,null,null,0]
[null,"POLÁČKOVÁ","Natálie","8.A",null,null,null,0]
[null,"ŘEHOŘKOVÁ","Lucie","8.A",null,null,null,0]
[null,"SKÁLOVÁ","Alena","8.A",null,null,null,0]
[null,"VÁVROVÁ ","Aneta","8.A",null,null,null,0]
[null,"ZELINKOVÁ","Klára","8.A",null,null,null,0]
[null,"JUNGOVÁ ","Lucie","9.A",null,null,null,0]
[null,"KŘIVÁNKOVÁ ","Linda","9.A",null,null,null,0,null,null,27.01,24.84]
[null,"KUBÁTOVÁ","Lucie","9.A",null,null,null,0]
[null,"ŠIMŮNKOVÁ ","Nikola","9.A",null,null,null,0,null,null,null,34.25]
[null,"ŠMÍDOVÁ","Kristýna","9.A",null,null,null,0]
[null,"VOTOČKOVÁ ","Nikola","9.A",null,null,null,0,null,null,null,33.659999999999997]
[null,"VYHLASOVÁ","Lenka","9.A",null,null,null,0]
[null,"BÖHMOVÁ","Diana","9.B",null,null,null,0,null,null,null,38.869999999999997]
[null,"HOUDOVÁ","Tereza","9.B",null,null,null,0,null,25.9,26.2,24.62]
[null,"JANÍKOVÁ","Kristýna","9.B",null,null,null,0]
[null,"KUŽELOVÁ","Ela","9.B",null,null,null,0]
[null,"MATERNOVÁ","Lucie","9.B",null,null,null,0]
[null,"OPOČENSKÁ","Matylda","9.B",null,null,null,0]
[null,"PIŠTOROVÁ","Karolína","9.B",null,null,null,0,null,null,null,28.29]
[null,"POKORNÝ","Anna","9.B",null,null,null,0]
[null,"SUCHÁNKOVÁ","Michaela","9.B",null,null,null,0,null,null,null,35.869999999999997]
[null,"ŠUBÍKOVÁ ","Štěpánka","9.B",null,null,null,0]
[null,"VANCLOVÁ","Pavlína","9.B",null,null,null,0,null,null,null,32.97]

{"sheet":"Dšplh","index":37,"n_rows":191,"n_cols":12,"rows_kept":191,"cut":false,"hidden":false,"merged":[]}
[null,null,"VÝKONY   2020 - 2021",null,null,null,"ŠPLH","DĚVČATA  6. -  9.  ROČ."]
[null,null,null,null,null,null,null,null,null,null,"stav  k ",{"$f":"TODAY()","v":44375}]
[null,null,null,null,null,null,null,"   BODY",null,"   19 - 20   ","   18 - 19   ","   17 - 18   "]
[]
["1.",{"$f":"B101","v":"ERBENOVÁ"},{"$f":"C101","v":"Sára"},"6.A",0,null,0,0,null,0,0,0]
["2.",{"$f":"B102","v":"HOFMANOVÁ "},"Nicol","6.A",0,null,0,0,null,0,0,0]
["3.","HOLEŠOVSKÁ","Aneta","6.A",0,null,0,0,null,0,0,0]
["4.","HOLUBCOVÁ","Alena","6.A",0,null,0,0,null,0,0,0]
["5.","KOHOUTOVÁ","Anna","6.A",0,null,0,0,null,0,0,0]
["6.","KRAUSOVÁ","Anežka","6.A",0,null,0,0,null,0,0,0]
["7.","KUŽELOVÁ","Apoléna","6.A",0,null,0,0,null,0,0,0]
["8.","MORÁVKOVÁ","Lucie","6.A",0,null,0,0,null,0,0,0]
["9.","SKLENÁROVÁ","Eliška","6.A",0,null,0,0,null,0,0,0]
["10.","ŠTOLFOVÁ","Tereza","6.A",0,null,0,0,null,0,0,0]
["11.","ŠUBÍKOVÁ","Klára","6.A",0,null,0,0,null,0,0,0]
["12.","TULÁČKOVÁ","Natálie","6.A",0,null,0,0,null,0,0,0]
["13.","VOJTÍŠKOVÁ","Ella","6.A",0,null,0,0,null,0,0,0]
["14.","DRUGÁČOVÁ","Kristinka","6.B",0,null,0,0,null,0,0,0]
["15.","FAJSTAVROVÁ","Karolína","6.B",0,null,0,0,null,0,0,0]
["16.","FAJSTAVROVÁ","Magdaléna","6.B",0,null,0,0,null,0,0,0]
["17.","HLAVATÁ","Anna","6.B",0,null,0,0,null,0,0,0]
["18.",{"$f":"B118","v":"JINDROVÁ"},"Barbora","6.B",0,null,0,0,null,0,0,0]
["19.","MAŘASOVÁ","Vendula","6.B",0,null,0,0,null,0,0,0]
["20.","PETŘÍČKOVÁ","Natálie","6.B",0,null,0,0,null,0,0,0]
["21.","PETŘÍKOVÁ","Adéla","6.B",0,null,0,0,null,0,0,0]
["22.","REGÁLOVÁ","Karolína","6.B",0,null,0,0,null,0,0,0]
["23.","RIEGROVÁ","Magdaléna","6.B",0,null,0,0,null,0,0,0]
["24.","RYBENSKÁ","Sabina","6.B",0,null,0,0,null,0,0,0]
["25.","STEINEROVÁ","Barbora","6.B",0,null,0,0,null,0,0,0]
["26.","TOMEŠOVÁ","Barbora","6.B",0,null,0,0,null,0,0,0]
["27.","VOHNOUTOVÁ","Aneta","6.B",0,null,0,0,null,0,0,0]
["28.","HAVLÍKOVÁ","Michaela","7.A",0,null,0,0,null,25.69,0,0]
["29.","HOLUBCOVÁ","Sára","7.A",0,null,0,0,null,0,0,0]
["30.","HONCŮ","Tereza","7.A",0,null,0,0,null,0,0,0]
["31.","HORÁČKOVÁ","Kateřina","7.A",0,null,0,0,null,20.13,0,0]
["32.","JOUDALOVÁ","Daniela","7.A",0,null,0,0,null,0,0,0]
["33.","KLÍMOVÁ","Anna","7.A",0,null,0,0,null,0,0,0]
["34.",{"$f":"B134","v":"KOHOUTOVÁ"},"Veronika","7.A",0,null,0,0,null,11.58,0,0]
["35.","KOVÁŘOVÁ","Viktorie","7.A",0,null,0,0,null,9.7899999999999991,0,0]
["36.","KYNČLOVÁ","Anna","7.A",0,null,0,0,null,8.3699999999999992,0,0]
["37.","MATOUŠOVÁ","Tereza","7.A",0,null,0,0,null,0,0,0]
["38.","MAZÁNKOVÁ","Zuzana","7.A",0,null,0,0,null,0,0,0]
["39.","MORKESOVÁ","Sabrina","7.A",0,null,0,0,null,10.89,0,0]
["40.","POHOŘALÁ","Alžběta","7.A",0,null,0,0,null,0,0,0]
["41.","SCHOLZOVÁ","Laura","7.A",0,null,0,0,null,0,0,0]
["42.","VÁCLAVÍKOVÁ","Valerie","7.A",0,null,0,0,null,0,0,0]
["43.","ZAPADLOVÁ","Emma","7.A",0,null,0,0,null,12.01,0,0]
["44.","ŽIŠKOVÁ","Mia","7.A",0,null,0,0,null,0,0,0]
["45.","FARSKÁ","Tereza","7.B",0,null,0,0,null,0,0,0]
["46.","FEIXOVÁ","Rozálie","7.B",0,null,0,0,null,0,0,0]
["47.","FIŠEROVÁ","Michaela","7.B",0,null,0,0,null,0,0,0]
["48.","HAVLÍČKOVÁ","Kristýna","7.B",0,null,0,0,null,0,0,0]
["49.","JODASOVÁ","Nikola","7.B",0,null,0,0,null,0,0,0]
["50.",{"$f":"B150","v":"KADAVÁ"},"Nikola","7.B",0,null,0,0,null,0,0,0]
["51.","KRAFKOVÁ","Lucie","7.B",0,null,0,0,null,0,0,0]
["52.","KŘIVINKOVÁ","Alžběta","7.B",0,null,0,0,null,0,0,0]
["53.","LEŠÁKOVÁ","Lenka","7.B",0,null,0,0,null,0,0,0]
["54.","NYKLÍČKOVÁ","Adéla","7.B",0,null,0,0,null,0,0,0]
["55.","PLŮCHOVÁ","Petra","7.B",0,null,0,0,null,0,0,0]
["56.","PODZIMKOVÁ","Eliška","7.B",0,null,0,0,null,0,0,0]
["57.","RUTKAYOVÁ","Klára","7.B",0,null,0,0,null,0,0,0]
["58.","SEIDLOVÁ","Zuzana","7.B",0,null,0,0,null,0,0,0]
["59.","TOMÁŠOVÁ","Sára","7.B",0,null,0,0,null,0,0,0]
["60.","VANCLOVÁ","Barbora","7.B",0,null,0,0,null,0,0,0]
["61.","VOTOČKOVÁ","Veronika","7.B",0,null,0,0,null,0,0,0]
["62.","HARTIGOVÁ","Anna","8.A",0,null,0,0,null,7.92,6.89,0]
["63.","HONCŮ","Rozálie","8.A",0,null,0,0,null,5.32,5.92,0]
["64.","CHALOUPSKÁ","Lucie","8.A",0,null,0,0,null,0,0,0]
["65.","KŘÍŽKOVÁ","Anna","8.A",0,null,0,0,null,0,11.09,0]
["66.",{"$f":"B166","v":"LUKEŠOVÁ"},"Kristýna","8.A",0,null,0,0,null,7.57,8.85,0]
["67.","MOTLÍKOVÁ","Eliška","8.A",0,null,0,0,null,0,0,0]
["68.","POHOŘELÁ","Amálie","8.A",0,null,0,0,null,0,0,0]
["69.","POLÁČKOVÁ","Natálie","8.A",0,null,0,0,null,0,0,0]
["70.","ŘEHOŘKOVÁ","Lucie","8.A",0,null,0,0,null,0,0,0]
["71.","SKÁLOVÁ","Alena","8.A",0,null,0,0,null,0,0,0]
["72.","VÁVROVÁ ","Aneta","8.A",0,null,0,0,null,7.17,6.79,0]
["73.","ZELINKOVÁ","Klára","8.A",0,null,0,0,null,0,0,0]
["74.","JUNGOVÁ ","Lucie","9.A",0,null,0,0,null,0,0,0]
["75.","KŘIVÁNKOVÁ ","Linda","9.A",0,null,0,0,null,0,25.03,0]
["76.","KUBÁTOVÁ","Lucie","9.A",0,null,0,0,null,0,9.3000000000000007,10.119999999999999]
["77.","ŠIMŮNKOVÁ ","Nikola","9.A",0,null,0,0,null,0,0,0]
["78.","ŠMÍDOVÁ","Kristýna","9.A",0,null,0,0,null,0,0,0]
["79.","VOTOČKOVÁ ","Nikola","9.A",0,null,0,0,null,0,3.64,5.22]
["80.","VYHLASOVÁ","Lenka","9.A",0,null,0,0,null,0,0,0]
["81.","BÖHMOVÁ","Diana","9.B",0,null,0,0,null,0,10.23,9.32]
["82.",{"$f":"B182","v":"HOUDOVÁ"},"Tereza","9.B",0,null,0,0,null,0,0,0]
["83.","JANÍKOVÁ","Kristýna","9.B",0,null,0,0,null,0,8.2200000000000006,13.4]
["84.","KUŽELOVÁ","Ela","9.B",0,null,0,0,null,0,0,16.87]
["85.","MATERNOVÁ","Lucie","9.B",0,null,0,0,null,0,0,0]
["86.","OPOČENSKÁ","Matylda","9.B",0,null,0,0,null,0,16.850000000000001,11.38]
["87.","PIŠTOROVÁ","Karolína","9.B",0,null,0,0,null,0,0,0]
["88.","POKORNÝ","Anna","9.B",0,null,0,0,null,0,0,0]
["89.","SUCHÁNKOVÁ","Michaela","9.B",0,null,0,0,null,0,14.02,13.41]
["90.","ŠUBÍKOVÁ ","Štěpánka","9.B",0,null,0,0,null,0,0,0]
["91.","VANCLOVÁ","Pavlína","9.B",0,null,0,0,null,0,0,0]
[]
[]
[]
[]
[]
[null,"ERBENOVÁ","Sára","6.A",null,null,null,{"$f":"IF(E101=0,0,IF(E101>0,((1000000000-313216/E101+34538300/E101*2-1698600/E101*3+32198000000/E101*4)/60000000+E101*3.9)*1.129+160))","v":0}]
[null,"HOFMANOVÁ ","Nicol","6.A",null,null,null,0]
[null,"HOLEŠOVSKÁ","Aneta","6.A",null,null,null,0]
[null,"HOLUBCOVÁ","Alena","6.A",null,null,null,0]
[null,"KOHOUTOVÁ","Anna","6.A",null,null,null,0]
[null,"KRAUSOVÁ","Anežka","6.A",null,null,null,0]
[null,"KUŽELOVÁ","Apoléna","6.A",null,null,null,0]
[null,"MORÁVKOVÁ","Lucie","6.A",null,null,null,0]
[null,"SKLENÁROVÁ","Eliška","6.A",null,null,null,0]
[null,"ŠTOLFOVÁ","Tereza","6.A",null,null,null,0]
[null,"ŠUBÍKOVÁ","Klára","6.A",null,null,null,0]
[null,"TULÁČKOVÁ","Natálie","6.A",null,null,null,0]
[null,"VOJTÍŠKOVÁ","Ella","6.A",null,null,null,0]
[null,"DRUGÁČOVÁ","Kristinka","6.B",null,null,null,0]
[null,"FAJSTAVROVÁ","Karolína","6.B",null,null,null,0]
[null,"FAJSTAVROVÁ","Magdaléna","6.B",null,null,null,0]
[null,"HLAVATÁ","Anna","6.B",null,null,null,0]
[null,"JINDROVÁ","Barbora","6.B",null,null,null,0]
[null,"MAŘASOVÁ","Vendula","6.B",null,null,null,0]
[null,"PETŘÍČKOVÁ","Natálie","6.B",null,null,null,0]
[null,"PETŘÍKOVÁ","Adéla","6.B",null,null,null,0]
[null,"REGÁLOVÁ","Karolína","6.B",null,null,null,0]
[null,"RIEGROVÁ","Magdaléna","6.B",null,null,null,0]
[null,"RYBENSKÁ","Sabina","6.B",null,null,null,0]
[null,"STEINEROVÁ","Barbora","6.B",null,null,null,0]
[null,"TOMEŠOVÁ","Barbora","6.B",null,null,null,0]
[null,"VOHNOUTOVÁ","Aneta","6.B",null,null,null,0]
[null,"HAVLÍKOVÁ","Michaela","7.A",null,null,null,0,null,25.69]
[null,"HOLUBCOVÁ","Sára","7.A",null,null,null,0]
[null,"HONCŮ","Tereza","7.A",null,null,null,0]
[null,"HORÁČKOVÁ","Kateřina","7.A",null,null,null,0,null,20.13]
[null,"JOUDALOVÁ","Daniela","7.A",null,null,null,0]
[null,"KLÍMOVÁ","Anna","7.A",null,null,null,{"$f":"IF(E133=0,0,IF(E133>0,((1000000000-313216/E133+34538300/E133*2-1698600/E133*3+32198000000/E133*4)/60000000+E133*3.9)*1.129+160))","v":0}]
[null,"KOHOUTOVÁ","Veronika","7.A",null,null,null,0,null,11.58]
[null,"KOVÁŘOVÁ","Viktorie","7.A",null,null,null,0,null,9.7899999999999991]
[null,"KYNČLOVÁ","Anna","7.A",null,null,null,0,null,8.3699999999999992]
[null,"MATOUŠOVÁ","Tereza","7.A",null,null,null,0]
[null,"MAZÁNKOVÁ","Zuzana","7.A",null,null,null,0]
[null,"MORKESOVÁ","Sabrina","7.A",null,null,null,0,null,10.89]
[null,"POHOŘALÁ","Alžběta","7.A",null,null,null,0]
[null,"SCHOLZOVÁ","Laura","7.A",null,null,null,0]
[null,"VÁCLAVÍKOVÁ","Valerie","7.A",null,null,null,0]
[null,"ZAPADLOVÁ","Emma","7.A",null,null,null,0,null,12.01]
[null,"ŽIŠKOVÁ","Mia","7.A",null,null,null,0]
[null,"FARSKÁ","Tereza","7.B",null,null,null,0]
[null,"FEIXOVÁ","Rozálie","7.B",null,null,null,0]
[null,"FIŠEROVÁ","Michaela","7.B",null,null,null,0]
[null,"HAVLÍČKOVÁ","Kristýna","7.B",null,null,null,0]
[null,"JODASOVÁ","Nikola","7.B",null,null,null,0]
[null,"KADAVÁ","Nikola","7.B",null,null,null,0]
[null,"KRAFKOVÁ","Lucie","7.B",null,null,null,0]
[null,"KŘIVINKOVÁ","Alžběta","7.B",null,null,null,0]
[null,"LEŠÁKOVÁ","Lenka","7.B",null,null,null,0]
[null,"NYKLÍČKOVÁ","Adéla","7.B",null,null,null,0]
[null,"PLŮCHOVÁ","Petra","7.B",null,null,null,0]
[null,"PODZIMKOVÁ","Eliška","7.B",null,null,null,0]
[null,"RUTKAYOVÁ","Klára","7.B",null,null,null,0]
[null,"SEIDLOVÁ","Zuzana","7.B",null,null,null,0]
[null,"TOMÁŠOVÁ","Sára","7.B",null,null,null,0]
[null,"VANCLOVÁ","Barbora","7.B",null,null,null,0]
[null,"VOTOČKOVÁ","Veronika","7.B",null,null,null,0]
[null,"HARTIGOVÁ","Anna","8.A",null,null,null,0,null,7.92,6.89]
[null,"HONCŮ","Rozálie","8.A",null,null,null,0,null,5.32,5.92]
[null,"CHALOUPSKÁ","Lucie","8.A",null,null,null,0]
[null,"KŘÍŽKOVÁ","Anna","8.A",null,null,null,{"$f":"IF(E165=0,0,IF(E165>0,((1000000000-313216/E165+34538300/E165*2-1698600/E165*3+32198000000/E165*4)/60000000+E165*3.9)*1.129+160))","v":0},null,null,11.09]
[null,"LUKEŠOVÁ","Kristýna","8.A",null,null,null,0,null,7.57,8.85]
[null,"MOTLÍKOVÁ","Eliška","8.A",null,null,null,0]
[null,"POHOŘELÁ","Amálie","8.A",null,null,null,0]
[null,"POLÁČKOVÁ","Natálie","8.A",null,null,null,0]
[null,"ŘEHOŘKOVÁ","Lucie","8.A",null,null,null,0]
[null,"SKÁLOVÁ","Alena","8.A",null,null,null,0]
[null,"VÁVROVÁ ","Aneta","8.A",null,null,null,0,null,7.17,6.79]
[null,"ZELINKOVÁ","Klára","8.A",null,null,null,0]
[null,"JUNGOVÁ ","Lucie","9.A",null,null,null,0]
[null,"KŘIVÁNKOVÁ ","Linda","9.A",null,null,null,0,null,null,25.03]
[null,"KUBÁTOVÁ","Lucie","9.A",null,null,null,0,null,null,9.3000000000000007,10.119999999999999]
[null,"ŠIMŮNKOVÁ ","Nikola","9.A",null,null,null,0]
[null,"ŠMÍDOVÁ","Kristýna","9.A",null,null,null,0]
[null,"VOTOČKOVÁ ","Nikola","9.A",null,null,null,0,null,null,3.64,5.22]
[null,"VYHLASOVÁ","Lenka","9.A",null,null,null,0]
[null,"BÖHMOVÁ","Diana","9.B",null,null,null,0,null,null,10.23,9.32]
[null,"HOUDOVÁ","Tereza","9.B",null,null,null,0]
[null,"JANÍKOVÁ","Kristýna","9.B",null,null,null,0,null,null,8.2200000000000006,13.4]
[null,"KUŽELOVÁ","Ela","9.B",null,null,null,0,null,null,null,16.87]
[null,"MATERNOVÁ","Lucie","9.B",null,null,null,0]
[null,"OPOČENSKÁ","Matylda","9.B",null,null,null,0,null,null,16.850000000000001,11.38]
[null,"PIŠTOROVÁ","Karolína","9.B",null,null,null,0]
[null,"POKORNÝ","Anna","9.B",null,null,null,0]
[null,"SUCHÁNKOVÁ","Michaela","9.B",null,null,null,0,null,null,14.02,13.41]
[null,"ŠUBÍKOVÁ ","Štěpánka","9.B",null,null,null,0]
[null,"VANCLOVÁ","Pavlína","9.B",null,null,null,0]

{"sheet":"Dšvih","index":38,"n_rows":191,"n_cols":12,"rows_kept":191,"cut":false,"hidden":false,"merged":[]}
[null,null,"VÝKONY   2020 - 2021",null,null,null,"ŠVIHADLO","DĚVČATA  6. -  9.  ROČ."]
[null,null,null,null,null,null,null,null,null,null,"stav  k ",{"$f":"TODAY()","v":"2021-06-28"}]
[null,null,null,null,null,null,null,"   BODY",null,"   19 - 20   ","   18 - 19   ","   17 - 18   "]
[]
["1.",{"$f":"B101","v":"ERBENOVÁ"},{"$f":"C101","v":"Sára"},"6.A",19,null,"Jilemnice  14.03.21",55.75,null,0,0,0]
["2.",{"$f":"B102","v":"HOFMANOVÁ "},"Nicol","6.A",53,null,"Jilemnice  14.03.21",268.25,null,0,0,0]
["3.","HOLEŠOVSKÁ","Aneta","6.A",0,null,0,0,null,0,0,0]
["4.","HOLUBCOVÁ","Alena","6.A",0,null,0,0,null,0,0,0]
["5.","KOHOUTOVÁ","Anna","6.A",0,null,0,0,null,0,0,0]
["6.","KRAUSOVÁ","Anežka","6.A",0,null,0,0,null,0,0,0]
["7.","KUŽELOVÁ","Apoléna","6.A",0,null,0,0,null,0,0,0]
["8.","MORÁVKOVÁ","Lucie","6.A",49,null,"Jilemnice  14.03.21",243.25,null,0,0,0]
["9.","SKLENÁROVÁ","Eliška","6.A",36,null,"Jilemnice  14.03.21",162,null,0,0,0]
["10.","ŠTOLFOVÁ","Tereza","6.A",0,null,0,0,null,0,0,0]
["11.","ŠUBÍKOVÁ","Klára","6.A",0,null,0,0,null,0,0,0]
["12.","TULÁČKOVÁ","Natálie","6.A",52,null,"Jilemnice  14.03.21",262,null,0,0,0]
["13.","VOJTÍŠKOVÁ","Ella","6.A",0,null,0,0,null,0,0,0]
["14.","DRUGÁČOVÁ","Kristinka","6.B",50,null,"Jilemnice  14.03.21",249.5,null,0,0,0]
["15.","FAJSTAVROVÁ","Karolína","6.B",0,null,0,0,null,0,0,0]
["16.","FAJSTAVROVÁ","Magdaléna","6.B",0,null,0,0,null,0,0,0]
["17.","HLAVATÁ","Anna","6.B",0,null,0,0,null,0,0,0]
["18.",{"$f":"B118","v":"JINDROVÁ"},"Barbora","6.B",0,null,0,0,null,0,0,0]
["19.","MAŘASOVÁ","Vendula","6.B",0,null,0,0,null,0,0,0]
["20.","PETŘÍČKOVÁ","Natálie","6.B",0,null,0,0,null,0,0,0]
["21.","PETŘÍKOVÁ","Adéla","6.B",0,null,0,0,null,0,0,0]
["22.","REGÁLOVÁ","Karolína","6.B",84,null,"Jilemnice  14.03.21",462,null,0,0,0]
["23.","RIEGROVÁ","Magdaléna","6.B",0,null,0,0,null,0,0,0]
["24.","RYBENSKÁ","Sabina","6.B",0,null,0,0,null,0,0,0]
["25.","STEINEROVÁ","Barbora","6.B",0,null,0,0,null,0,0,0]
["26.","TOMEŠOVÁ","Barbora","6.B",0,null,0,0,null,0,0,0]
["27.","VOHNOUTOVÁ","Aneta","6.B",0,null,0,0,null,0,0,0]
["28.","HAVLÍKOVÁ","Michaela","7.A",0,null,0,0,null,0,0,0]
["29.","HOLUBCOVÁ","Sára","7.A",68,null,"Jilemnice  14.03.21",362,null,0,0,0]
["30.","HONCŮ","Tereza","7.A",0,null,0,0,null,0,0,0]
["31.","HORÁČKOVÁ","Kateřina","7.A",44,null,"Jilemnice  14.03.21",212,null,0,0,0]
["32.","JOUDALOVÁ","Daniela","7.A",0,null,0,0,null,0,0,0]
["33.","KLÍMOVÁ","Anna","7.A",0,null,0,0,null,0,0,0]
["34.",{"$f":"B134","v":"KOHOUTOVÁ"},"Veronika","7.A",0,null,0,0,null,0,0,0]
["35.","KOVÁŘOVÁ","Viktorie","7.A",0,null,0,0,null,0,0,0]
["36.","KYNČLOVÁ","Anna","7.A",65,null,"Jilemnice  14.03.21",343.25,null,0,0,0]
["37.","MATOUŠOVÁ","Tereza","7.A",60,null,"Jilemnice  14.03.21",312,null,0,0,0]
["38.","MAZÁNKOVÁ","Zuzana","7.A",0,null,0,0,null,0,0,0]
["39.","MORKESOVÁ","Sabrina","7.A",0,null,0,0,null,0,0,0]
["40.","POHOŘALÁ","Alžběta","7.A",0,null,0,0,null,0,0,0]
["41.","SCHOLZOVÁ","Laura","7.A",0,null,0,0,null,0,0,0]
["42.","VÁCLAVÍKOVÁ","Valerie","7.A",48,null,"Jilemnice  14.03.21",237,null,0,0,0]
["43.","ZAPADLOVÁ","Emma","7.A",0,null,0,0,null,0,0,0]
["44.","ŽIŠKOVÁ","Mia","7.A",0,null,0,0,null,0,0,0]
["45.","FARSKÁ","Tereza","7.B",0,null,0,0,null,111,0,0]
["46.","FEIXOVÁ","Rozálie","7.B",0,null,0,0,null,0,0,0]
["47.","FIŠEROVÁ","Michaela","7.B",0,null,0,0,null,83,0,0]
["48.","HAVLÍČKOVÁ","Kristýna","7.B",0,null,0,0,null,0,0,0]
["49.","JODASOVÁ","Nikola","7.B",0,null,0,0,null,105,0,0]
["50.",{"$f":"B150","v":"KADAVÁ"},"Nikola","7.B",0,null,0,0,null,24,0,0]
["51.","KRAFKOVÁ","Lucie","7.B",0,null,0,0,null,70,0,0]
["52.","KŘIVINKOVÁ","Alžběta","7.B",0,null,0,0,null,106,0,0]
["53.","LEŠÁKOVÁ","Lenka","7.B",0,null,0,0,null,58,0,0]
["54.","NYKLÍČKOVÁ","Adéla","7.B",0,null,0,0,null,106,0,0]
["55.","PLŮCHOVÁ","Petra","7.B",0,null,0,0,null,88,0,0]
["56.","PODZIMKOVÁ","Eliška","7.B",0,null,0,0,null,109,0,0]
["57.","RUTKAYOVÁ","Klára","7.B",80,null,"Jilemnice  14.03.21",437,null,75,0,0]
["58.","SEIDLOVÁ","Zuzana","7.B",45,null,"Jilemnice  14.03.21",218.25,null,62,0,0]
["59.","TOMÁŠOVÁ","Sára","7.B",0,null,0,0,null,31,0,0]
["60.","VANCLOVÁ","Barbora","7.B",0,null,0,0,null,80,0,0]
["61.","VOTOČKOVÁ","Veronika","7.B",0,null,0,0,null,0,0,0]
["62.","HARTIGOVÁ","Anna","8.A",0,null,0,0,null,107,73,0]
["63.","HONCŮ","Rozálie","8.A",0,null,0,0,null,100,95,0]
["64.","CHALOUPSKÁ","Lucie","8.A",0,null,0,0,null,87,54,0]
["65.","KŘÍŽKOVÁ","Anna","8.A",0,null,0,0,null,100,90,0]
["66.",{"$f":"B166","v":"LUKEŠOVÁ"},"Kristýna","8.A",0,null,0,0,null,91,71,0]
["67.","MOTLÍKOVÁ","Eliška","8.A",0,null,0,0,null,123,115,0]
["68.","POHOŘELÁ","Amálie","8.A",0,null,0,0,null,109,82,0]
["69.","POLÁČKOVÁ","Natálie","8.A",0,null,0,0,null,26,49,0]
["70.","ŘEHOŘKOVÁ","Lucie","8.A",0,null,0,0,null,79,63,0]
["71.","SKÁLOVÁ","Alena","8.A",0,null,0,0,null,11,47,0]
["72.","VÁVROVÁ ","Aneta","8.A",0,null,0,0,null,0,75,0]
["73.","ZELINKOVÁ","Klára","8.A",0,null,0,0,null,0,0,0]
["74.","JUNGOVÁ ","Lucie","9.A",0,null,0,0,null,0,96,78]
["75.","KŘIVÁNKOVÁ ","Linda","9.A",84,null,"Jilemnice  14.03.21",462,null,0,106,95]
["76.","KUBÁTOVÁ","Lucie","9.A",0,null,0,0,null,0,100,84]
["77.","ŠIMŮNKOVÁ ","Nikola","9.A",0,null,0,0,null,0,62,50]
["78.","ŠMÍDOVÁ","Kristýna","9.A",46,null,"Jilemnice  14.03.21",224.5,null,0,0,56]
["79.","VOTOČKOVÁ ","Nikola","9.A",0,null,0,0,null,0,75,53]
["80.","VYHLASOVÁ","Lenka","9.A",0,null,0,0,null,0,62,67]
["81.","BÖHMOVÁ","Diana","9.B",0,null,0,0,null,0,95,82]
["82.",{"$f":"B182","v":"HOUDOVÁ"},"Tereza","9.B",0,null,0,0,null,0,104,105]
["83.","JANÍKOVÁ","Kristýna","9.B",0,null,0,0,null,0,0,0]
["84.","KUŽELOVÁ","Ela","9.B",0,null,0,0,null,0,112,89]
["85.","MATERNOVÁ","Lucie","9.B",0,null,0,0,null,0,97,75]
["86.","OPOČENSKÁ","Matylda","9.B",0,null,0,0,null,0,0,0]
["87.","PIŠTOROVÁ","Karolína","9.B",0,null,0,0,null,0,94,93]
["88.","POKORNÝ","Anna","9.B",0,null,0,0,null,0,34,32]
["89.","SUCHÁNKOVÁ","Michaela","9.B",0,null,0,0,null,0,63,60]
["90.","ŠUBÍKOVÁ ","Štěpánka","9.B",0,null,0,0,null,0,74,71]
["91.","VANCLOVÁ","Pavlína","9.B",0,null,0,0,null,0,107,101]
[]
[]
[]
[]
[]
[null,"ERBENOVÁ","Sára","6.A",19,null,"Jilemnice  14.03.21",{"$f":"IF(E101=0,0,IF(E101>0,(E101*6.25-63)))","v":55.75}]
[null,"HOFMANOVÁ ","Nicol","6.A",53,null,"Jilemnice  14.03.21",268.25]
[null,"HOLEŠOVSKÁ","Aneta","6.A",null,null,null,0]
[null,"HOLUBCOVÁ","Alena","6.A",null,null,null,0]
[null,"KOHOUTOVÁ","Anna","6.A",null,null,null,0]
[null,"KRAUSOVÁ","Anežka","6.A",null,null,null,0]
[null,"KUŽELOVÁ","Apoléna","6.A",null,null,null,0]
[null,"MORÁVKOVÁ","Lucie","6.A",49,null,"Jilemnice  14.03.21",243.25]
[null,"SKLENÁROVÁ","Eliška","6.A",36,null,"Jilemnice  14.03.21",162]
[null,"ŠTOLFOVÁ","Tereza","6.A",null,null,null,0]
[null,"ŠUBÍKOVÁ","Klára","6.A",null,null,null,0]
[null,"TULÁČKOVÁ","Natálie","6.A",52,null,"Jilemnice  14.03.21",262]
[null,"VOJTÍŠKOVÁ","Ella","6.A",null,null,null,0]
[null,"DRUGÁČOVÁ","Kristinka","6.B",50,null,"Jilemnice  14.03.21",249.5]
[null,"FAJSTAVROVÁ","Karolína","6.B",null,null,null,0]
[null,"FAJSTAVROVÁ","Magdaléna","6.B",null,null,null,0]
[null,"HLAVATÁ","Anna","6.B",null,null,null,0]
[null,"JINDROVÁ","Barbora","6.B",null,null,null,0]
[null,"MAŘASOVÁ","Vendula","6.B",null,null,null,0]
[null,"PETŘÍČKOVÁ","Natálie","6.B",null,null,null,0]
[null,"PETŘÍKOVÁ","Adéla","6.B",null,null,null,0]
[null,"REGÁLOVÁ","Karolína","6.B",84,null,"Jilemnice  14.03.21",462]
[null,"RIEGROVÁ","Magdaléna","6.B",null,null,null,0]
[null,"RYBENSKÁ","Sabina","6.B",null,null,null,0]
[null,"STEINEROVÁ","Barbora","6.B",null,null,null,0]
[null,"TOMEŠOVÁ","Barbora","6.B",null,null,null,0]
[null,"VOHNOUTOVÁ","Aneta","6.B",null,null,null,0]
[null,"HAVLÍKOVÁ","Michaela","7.A",null,null,null,0]
[null,"HOLUBCOVÁ","Sára","7.A",68,null,"Jilemnice  14.03.21",362]
[null,"HONCŮ","Tereza","7.A",null,null,null,0]
[null,"HORÁČKOVÁ","Kateřina","7.A",44,null,"Jilemnice  14.03.21",212]
[null,"JOUDALOVÁ","Daniela","7.A",null,null,null,0]
[null,"KLÍMOVÁ","Anna","7.A",null,null,null,{"$f":"IF(E133=0,0,IF(E133>0,(E133*6.25-63)))","v":0}]
[null,"KOHOUTOVÁ","Veronika","7.A",null,null,null,0]
[null,"KOVÁŘOVÁ","Viktorie","7.A",null,null,null,0]
[null,"KYNČLOVÁ","Anna","7.A",65,null,"Jilemnice  14.03.21",343.25]
[null,"MATOUŠOVÁ","Tereza","7.A",60,null,"Jilemnice  14.03.21",312]
[null,"MAZÁNKOVÁ","Zuzana","7.A",null,null,null,0]
[null,"MORKESOVÁ","Sabrina","7.A",null,null,null,0]
[null,"POHOŘALÁ","Alžběta","7.A",null,null,null,0]
[null,"SCHOLZOVÁ","Laura","7.A",null,null,null,0]
[null,"VÁCLAVÍKOVÁ","Valerie","7.A",48,null,"Jilemnice  14.03.21",237]
[null,"ZAPADLOVÁ","Emma","7.A",null,null,null,0]
[null,"ŽIŠKOVÁ","Mia","7.A",null,null,null,0]
[null,"FARSKÁ","Tereza","7.B",null,null,null,0,null,111]
[null,"FEIXOVÁ","Rozálie","7.B",null,null,null,0]
[null,"FIŠEROVÁ","Michaela","7.B",null,null,null,0,null,83]
[null,"HAVLÍČKOVÁ","Kristýna","7.B",null,null,null,0]
[null,"JODASOVÁ","Nikola","7.B",null,null,null,0,null,105]
[null,"KADAVÁ","Nikola","7.B",null,null,null,0,null,24]
[null,"KRAFKOVÁ","Lucie","7.B",null,null,null,0,null,70]
[null,"KŘIVINKOVÁ","Alžběta","7.B",null,null,null,0,null,106]
[null,"LEŠÁKOVÁ","Lenka","7.B",null,null,null,0,null,58]
[null,"NYKLÍČKOVÁ","Adéla","7.B",null,null,null,0,null,106]
[null,"PLŮCHOVÁ","Petra","7.B",null,null,null,0,null,88]
[null,"PODZIMKOVÁ","Eliška","7.B",null,null,null,0,null,109]
[null,"RUTKAYOVÁ","Klára","7.B",80,null,"Jilemnice  14.03.21",437,null,75]
[null,"SEIDLOVÁ","Zuzana","7.B",45,null,"Jilemnice  14.03.21",218.25,null,62]
[null,"TOMÁŠOVÁ","Sára","7.B",null,null,null,0,null,31]
[null,"VANCLOVÁ","Barbora","7.B",null,null,null,0,null,80]
[null,"VOTOČKOVÁ","Veronika","7.B",null,null,null,0]
[null,"HARTIGOVÁ","Anna","8.A",null,null,null,0,null,107,73]
[null,"HONCŮ","Rozálie","8.A",null,null,null,0,null,100,95]
[null,"CHALOUPSKÁ","Lucie","8.A",null,null,null,0,null,87,54]
[null,"KŘÍŽKOVÁ","Anna","8.A",null,null,null,{"$f":"IF(E165=0,0,IF(E165>0,(E165*6.25-63)))","v":0},null,100,90]
[null,"LUKEŠOVÁ","Kristýna","8.A",null,null,null,0,null,91,71]
[null,"MOTLÍKOVÁ","Eliška","8.A",null,null,null,0,null,123,115]
[null,"POHOŘELÁ","Amálie","8.A",null,null,null,0,null,109,82]
[null,"POLÁČKOVÁ","Natálie","8.A",null,null,null,0,null,26,49]
[null,"ŘEHOŘKOVÁ","Lucie","8.A",null,null,null,0,null,79,63]
[null,"SKÁLOVÁ","Alena","8.A",null,null,null,0,null,11,47]
[null,"VÁVROVÁ ","Aneta","8.A",null,null,null,0,null,null,75]
[null,"ZELINKOVÁ","Klára","8.A",null,null,null,0]
[null,"JUNGOVÁ ","Lucie","9.A",null,null,null,0,null,null,96,78]
[null,"KŘIVÁNKOVÁ ","Linda","9.A",84,null,"Jilemnice  14.03.21",462,null,null,106,95]
[null,"KUBÁTOVÁ","Lucie","9.A",null,null,null,0,null,null,100,84]
[null,"ŠIMŮNKOVÁ ","Nikola","9.A",null,null,null,0,null,null,62,50]
[null,"ŠMÍDOVÁ","Kristýna","9.A",46,null,"Jilemnice  14.03.21",224.5,null,null,null,56]
[null,"VOTOČKOVÁ ","Nikola","9.A",null,null,null,0,null,null,75,53]
[null,"VYHLASOVÁ","Lenka","9.A",null,null,null,0,null,null,62,67]
[null,"BÖHMOVÁ","Diana","9.B",null,null,null,0,null,null,95,82]
[null,"HOUDOVÁ","Tereza","9.B",null,null,null,0,null,null,104,105]
[null,"JANÍKOVÁ","Kristýna","9.B"]
[null,"KUŽELOVÁ","Ela","9.B",null,null,null,{"$f":"IF(E184=0,0,IF(E184>0,(E184*6.25-63)))","v":0},null,null,112,89]
[null,"MATERNOVÁ","Lucie","9.B",null,null,null,0,null,null,97,75]
[null,"OPOČENSKÁ","Matylda","9.B",null,null,null,0]
[null,"PIŠTOROVÁ","Karolína","9.B",null,null,null,0,null,null,94,93]
[null,"POKORNÝ","Anna","9.B",null,null,null,0,null,null,34,32]
[null,"SUCHÁNKOVÁ","Michaela","9.B",null,null,null,0,null,null,63,60]
[null,"ŠUBÍKOVÁ ","Štěpánka","9.B",null,null,null,0,null,null,74,71]
[null,"VANCLOVÁ","Pavlína","9.B",null,null,null,0,null,null,107,101]

{"sheet":"Dz mís","index":39,"n_rows":191,"n_cols":12,"rows_kept":191,"cut":false,"hidden":false,"merged":[]}
[null,null,"VÝKONY   2020 - 2021",null,null,null,"Z MÍSTA","DĚVČATA  6. -  9.  ROČ."]
[null,null,null,null,null,null,null,null,null,null,"stav  k ",{"$f":"TODAY()","v":"2021-06-28"}]
[null,null,null,null,null,null,null,"   BODY",null,"   19 - 20   ","   18 - 19   ","   17 - 18   "]
[]
["1.",{"$f":"B101","v":"ERBENOVÁ"},{"$f":"C101","v":"Sára"},"6.A",0,null,0,0,null,0,0,0]
["2.",{"$f":"B102","v":"HOFMANOVÁ "},{"$f":"C102","v":"Nicol"},"6.A",151,null,"Jilemnice  14.03.21",534.20302171860249,null,0,0,0]
["3.","HOLEŠOVSKÁ","Aneta","6.A",0,null,0,0,null,0,0,0]
["4.","HOLUBCOVÁ","Alena","6.A",0,null,0,0,null,0,0,0]
["5.","KOHOUTOVÁ","Anna","6.A",0,null,0,0,null,0,0,0]
["6.","KRAUSOVÁ","Anežka","6.A",130,null,"Jilemnice  14.03.21",435.40982058545808,null,0,0,0]
["7.","KUŽELOVÁ","Apoléna","6.A",0,null,0,0,null,0,0,0]
["8.","MORÁVKOVÁ","Lucie","6.A",0,null,0,0,null,0,0,0]
["9.","SKLENÁROVÁ","Eliška","6.A",0,null,0,0,null,0,0,0]
["10.","ŠTOLFOVÁ","Tereza","6.A",0,null,0,0,null,0,0,0]
["11.","ŠUBÍKOVÁ","Klára","6.A",0,null,0,0,null,0,0,0]
["12.","TULÁČKOVÁ","Natálie","6.A",0,null,0,0,null,0,0,0]
["13.","VOJTÍŠKOVÁ","Ella","6.A",0,null,0,0,null,0,0,0]
["14.","DRUGÁČOVÁ","Kristinka","6.B",130,null,"Jilemnice  14.03.21",435.40982058545808,null,0,0,0]
["15.","FAJSTAVROVÁ","Karolína","6.B",0,null,0,0,null,0,0,0]
["16.","FAJSTAVROVÁ","Magdaléna","6.B",0,null,0,0,null,0,0,0]
["17.","HLAVATÁ","Anna","6.B",0,null,0,0,null,0,0,0]
["18.",{"$f":"B118","v":"JINDROVÁ"},"Barbora","6.B",0,null,0,0,null,0,0,0]
["19.","MAŘASOVÁ","Vendula","6.B",0,null,0,0,null,0,0,0]
["20.","PETŘÍČKOVÁ","Natálie","6.B",0,null,0,0,null,0,0,0]
["21.","PETŘÍKOVÁ","Adéla","6.B",0,null,0,0,null,0,0,0]
["22.","REGÁLOVÁ","Karolína","6.B",0,null,0,0,null,0,0,0]
["23.","RIEGROVÁ","Magdaléna","6.B",0,null,0,0,null,0,0,0]
["24.","RYBENSKÁ","Sabina","6.B",0,null,0,0,null,0,0,0]
["25.","STEINEROVÁ","Barbora","6.B",0,null,0,0,null,0,0,0]
["26.","TOMEŠOVÁ","Barbora","6.B",0,null,0,0,null,0,0,0]
["27.","VOHNOUTOVÁ","Aneta","6.B",0,null,0,0,null,0,0,0]
["28.","HAVLÍKOVÁ","Michaela","7.A",0,null,0,0,null,137,0,0]
["29.","HOLUBCOVÁ","Sára","7.A",0,null,0,0,null,177,0,0]
["30.","HONCŮ","Tereza","7.A",0,null,0,0,null,166,0,0]
["31.","HORÁČKOVÁ","Kateřina","7.A",0,null,0,0,null,197,0,0]
["32.","JOUDALOVÁ","Daniela","7.A",0,null,0,0,null,133,0,0]
["33.","KLÍMOVÁ","Anna","7.A",0,null,0,0,null,166,0,0]
["34.",{"$f":"B134","v":"KOHOUTOVÁ"},"Veronika","7.A",0,null,0,0,null,0,0,0]
["35.","KOVÁŘOVÁ","Viktorie","7.A",0,null,0,0,null,179,0,0]
["36.","KYNČLOVÁ","Anna","7.A",0,null,0,0,null,180,0,0]
["37.","MATOUŠOVÁ","Tereza","7.A",0,null,0,0,null,145,0,0]
["38.","MAZÁNKOVÁ","Zuzana","7.A",0,null,0,0,null,140,0,0]
["39.","MORKESOVÁ","Sabrina","7.A",0,null,0,0,null,199,0,0]
["40.","POHOŘALÁ","Alžběta","7.A",0,null,0,0,null,181,0,0]
["41.","SCHOLZOVÁ","Laura","7.A",0,null,0,0,null,128,0,0]
["42.","VÁCLAVÍKOVÁ","Valerie","7.A",0,null,0,0,null,167,0,0]
["43.","ZAPADLOVÁ","Emma","7.A",0,null,0,0,null,170,0,0]
["44.","ŽIŠKOVÁ","Mia","7.A",0,null,0,0,null,181,0,0]
["45.","FARSKÁ","Tereza","7.B",0,null,0,0,null,0,0,0]
["46.","FEIXOVÁ","Rozálie","7.B",0,null,0,0,null,115,0,0]
["47.","FIŠEROVÁ","Michaela","7.B",0,null,0,0,null,154,0,0]
["48.","HAVLÍČKOVÁ","Kristýna","7.B",0,null,0,0,null,0,0,0]
["49.","JODASOVÁ","Nikola","7.B",0,null,0,0,null,149,0,0]
["50.",{"$f":"B150","v":"KADAVÁ"},"Nikola","7.B",0,null,0,0,null,128,0,0]
["51.","KRAFKOVÁ","Lucie","7.B",0,null,0,0,null,0,0,0]
["52.","KŘIVINKOVÁ","Alžběta","7.B",0,null,0,0,null,179,0,0]
["53.","LEŠÁKOVÁ","Lenka","7.B",0,null,0,0,null,135,0,0]
["54.","NYKLÍČKOVÁ","Adéla","7.B",0,null,0,0,null,195,0,0]
["55.","PLŮCHOVÁ","Petra","7.B",0,null,0,0,null,164,0,0]
["56.","PODZIMKOVÁ","Eliška","7.B",0,null,0,0,null,155,0,0]
["57.","RUTKAYOVÁ","Klára","7.B",0,null,0,0,null,165,0,0]
["58.","SEIDLOVÁ","Zuzana","7.B",0,null,0,0,null,150,0,0]
["59.","TOMÁŠOVÁ","Sára","7.B",0,null,0,0,null,121,0,0]
["60.","VANCLOVÁ","Barbora","7.B",0,null,0,0,null,0,0,0]
["61.","VOTOČKOVÁ","Veronika","7.B",0,null,0,0,null,131,0,0]
["62.","HARTIGOVÁ","Anna","8.A",0,null,0,0,null,192,197,0]
["63.","HONCŮ","Rozálie","8.A",0,null,0,0,null,0,207,0]
["64.","CHALOUPSKÁ","Lucie","8.A",0,null,0,0,null,190,187,0]
["65.","KŘÍŽKOVÁ","Anna","8.A",0,null,0,0,null,164,170,0]
["66.",{"$f":"B166","v":"LUKEŠOVÁ"},"Kristýna","8.A",0,null,0,0,null,174,180,0]
["67.","MOTLÍKOVÁ","Eliška","8.A",0,null,0,0,null,0,180,0]
["68.","POHOŘELÁ","Amálie","8.A",0,null,0,0,null,176,168,0]
["69.","POLÁČKOVÁ","Natálie","8.A",0,null,0,0,null,120,125,0]
["70.","ŘEHOŘKOVÁ","Lucie","8.A",0,null,0,0,null,0,182,0]
["71.","SKÁLOVÁ","Alena","8.A",0,null,0,0,null,153,140,0]
["72.","VÁVROVÁ ","Aneta","8.A",0,null,0,0,null,198,198,0]
["73.","ZELINKOVÁ","Klára","8.A",0,null,0,0,null,185,198,0]
["74.","JUNGOVÁ ","Lucie","9.A",0,null,0,0,null,0,210,141]
["75.","KŘIVÁNKOVÁ ","Linda","9.A",0,null,0,0,null,0,178,124]
["76.","KUBÁTOVÁ","Lucie","9.A",0,null,0,0,null,0,150,113]
["77.","ŠIMŮNKOVÁ ","Nikola","9.A",0,null,0,0,null,0,170,113]
["78.","ŠMÍDOVÁ","Kristýna","9.A",127,null,"Jilemnice  14.03.21",421.296506137866,null,0,132,88]
["79.","VOTOČKOVÁ ","Nikola","9.A",0,null,0,0,null,0,180,145]
["80.","VYHLASOVÁ","Lenka","9.A",0,null,0,0,null,0,0,112]
["81.","BÖHMOVÁ","Diana","9.B",0,null,0,0,null,0,162,117]
["82.",{"$f":"B182","v":"HOUDOVÁ"},"Tereza","9.B",0,null,0,0,null,0,184,149]
["83.","JANÍKOVÁ","Kristýna","9.B",0,null,0,0,null,0,0,0]
["84.","KUŽELOVÁ","Ela","9.B",0,null,0,0,null,0,208,160]
["85.","MATERNOVÁ","Lucie","9.B",0,null,0,0,null,0,174,131]
["86.","OPOČENSKÁ","Matylda","9.B",0,null,0,0,null,0,0,0]
["87.","PIŠTOROVÁ","Karolína","9.B",0,null,0,0,null,0,194,151]
["88.","POKORNÝ","Anna","9.B",0,null,0,0,null,0,170,113]
["89.","SUCHÁNKOVÁ","Michaela","9.B",0,null,0,0,null,0,132,102]
["90.","ŠUBÍKOVÁ ","Štěpánka","9.B",0,null,0,0,null,0,176,127]
["91.","VANCLOVÁ","Pavlína","9.B",0,null,0,0,null,0,163,119]
[]
[]
[]
[]
[]
[null,"ERBENOVÁ","Sára","6.A",null,null,null,{"$f":"IF(E101=0,0,IF(E101>0,(E101+75)*4.982/1.059-529))","v":0}]
[null,"HOFMANOVÁ ","Nicol","6.A",151,null,"Jilemnice  14.03.21",534.20302171860249]
[null,"HOLEŠOVSKÁ","Aneta","6.A",null,null,null,0]
[null,"HOLUBCOVÁ","Alena","6.A",null,null,null,0]
[null,"KOHOUTOVÁ","Anna","6.A",null,null,null,0]
[null,"KRAUSOVÁ","Anežka","6.A",130,null,"Jilemnice  14.03.21",435.40982058545808]
[null,"KUŽELOVÁ","Apoléna","6.A",null,null,null,0]
[null,"MORÁVKOVÁ","Lucie","6.A",null,null,null,0]
[null,"SKLENÁROVÁ","Eliška","6.A",null,null,null,0]
[null,"ŠTOLFOVÁ","Tereza","6.A",null,null,null,0]
[null,"ŠUBÍKOVÁ","Klára","6.A",null,null,null,0]
[null,"TULÁČKOVÁ","Natálie","6.A",null,null,null,0]
[null,"VOJTÍŠKOVÁ","Ella","6.A",null,null,null,0]
[null,"DRUGÁČOVÁ","Kristinka","6.B",130,null,"Jilemnice  14.03.21",435.40982058545808]
[null,"FAJSTAVROVÁ","Karolína","6.B",null,null,null,0]
[null,"FAJSTAVROVÁ","Magdaléna","6.B",null,null,null,0]
[null,"HLAVATÁ","Anna","6.B",null,null,null,0]
[null,"JINDROVÁ","Barbora","6.B",null,null,null,0]
[null,"MAŘASOVÁ","Vendula","6.B",null,null,null,0]
[null,"PETŘÍČKOVÁ","Natálie","6.B",null,null,null,0]
[null,"PETŘÍKOVÁ","Adéla","6.B",null,null,null,0]
[null,"REGÁLOVÁ","Karolína","6.B",null,null,null,0]
[null,"RIEGROVÁ","Magdaléna","6.B",null,null,null,0]
[null,"RYBENSKÁ","Sabina","6.B",null,null,null,0]
[null,"STEINEROVÁ","Barbora","6.B",null,null,null,0]
[null,"TOMEŠOVÁ","Barbora","6.B",null,null,null,0]
[null,"VOHNOUTOVÁ","Aneta","6.B",null,null,null,0]
[null,"HAVLÍKOVÁ","Michaela","7.A",null,null,null,0,null,137]
[null,"HOLUBCOVÁ","Sára","7.A",null,null,null,0,null,177]
[null,"HONCŮ","Tereza","7.A",null,null,null,0,null,166]
[null,"HORÁČKOVÁ","Kateřina","7.A",null,null,null,0,null,197]
[null,"JOUDALOVÁ","Daniela","7.A",null,null,null,0,null,133]
[null,"KLÍMOVÁ","Anna","7.A",null,null,null,{"$f":"IF(E133=0,0,IF(E133>0,(E133+75)*4.982/1.059-529))","v":0},null,166]
[null,"KOHOUTOVÁ","Veronika","7.A",null,null,null,0]
[null,"KOVÁŘOVÁ","Viktorie","7.A",null,null,null,0,null,179]
[null,"KYNČLOVÁ","Anna","7.A",null,null,null,0,null,180]
[null,"MATOUŠOVÁ","Tereza","7.A",null,null,null,0,null,145]
[null,"MAZÁNKOVÁ","Zuzana","7.A",null,null,null,0,null,140]
[null,"MORKESOVÁ","Sabrina","7.A",null,null,null,0,null,199]
[null,"POHOŘALÁ","Alžběta","7.A",null,null,null,0,null,181]
[null,"SCHOLZOVÁ","Laura","7.A",null,null,null,0,null,128]
[null,"VÁCLAVÍKOVÁ","Valerie","7.A",null,null,null,0,null,167]
[null,"ZAPADLOVÁ","Emma","7.A",null,null,null,0,null,170]
[null,"ŽIŠKOVÁ","Mia","7.A",null,null,null,0,null,181]
[null,"FARSKÁ","Tereza","7.B",null,null,null,0]
[null,"FEIXOVÁ","Rozálie","7.B",null,null,null,0,null,115]
[null,"FIŠEROVÁ","Michaela","7.B",null,null,null,0,null,154]
[null,"HAVLÍČKOVÁ","Kristýna","7.B",null,null,null,0]
[null,"JODASOVÁ","Nikola","7.B",null,null,null,0,null,149]
[null,"KADAVÁ","Nikola","7.B",null,null,null,0,null,128]
[null,"KRAFKOVÁ","Lucie","7.B",null,null,null,0]
[null,"KŘIVINKOVÁ","Alžběta","7.B",null,null,null,0,null,179]
[null,"LEŠÁKOVÁ","Lenka","7.B",null,null,null,0,null,135]
[null,"NYKLÍČKOVÁ","Adéla","7.B",null,null,null,0,null,195]
[null,"PLŮCHOVÁ","Petra","7.B",null,null,null,0,null,164]
[null,"PODZIMKOVÁ","Eliška","7.B",null,null,null,0,null,155]
[null,"RUTKAYOVÁ","Klára","7.B",null,null,null,0,null,165]
[null,"SEIDLOVÁ","Zuzana","7.B",null,null,null,0,null,150]
[null,"TOMÁŠOVÁ","Sára","7.B",null,null,null,0,null,121]
[null,"VANCLOVÁ","Barbora","7.B",null,null,null,0]
[null,"VOTOČKOVÁ","Veronika","7.B",null,null,null,0,null,131]
[null,"HARTIGOVÁ","Anna","8.A",null,null,null,0,null,192,197]
[null,"HONCŮ","Rozálie","8.A",null,null,null,0,null,null,207]
[null,"CHALOUPSKÁ","Lucie","8.A",null,null,null,0,null,190,187]
[null,"KŘÍŽKOVÁ","Anna","8.A",null,null,null,{"$f":"IF(E165=0,0,IF(E165>0,(E165+75)*4.982/1.059-529))","v":0},null,164,170]
[null,"LUKEŠOVÁ","Kristýna","8.A",null,null,null,0,null,174,180]
[null,"MOTLÍKOVÁ","Eliška","8.A",null,null,null,0,null,null,180]
[null,"POHOŘELÁ","Amálie","8.A",null,null,null,0,null,176,168]
[null,"POLÁČKOVÁ","Natálie","8.A",null,null,null,0,null,120,125]
[null,"ŘEHOŘKOVÁ","Lucie","8.A",null,null,null,0,null,null,182]
[null,"SKÁLOVÁ","Alena","8.A",null,null,null,0,null,153,140]
[null,"VÁVROVÁ ","Aneta","8.A",null,null,null,0,null,198,198]
[null,"ZELINKOVÁ","Klára","8.A",null,null,null,0,null,185,198]
[null,"JUNGOVÁ ","Lucie","9.A",null,null,null,0,null,null,210,141]
[null,"KŘIVÁNKOVÁ ","Linda","9.A",null,null,null,0,null,null,178,124]
[null,"KUBÁTOVÁ","Lucie","9.A",null,null,null,0,null,null,150,113]
[null,"ŠIMŮNKOVÁ ","Nikola","9.A",null,null,null,0,null,null,170,113]
[null,"ŠMÍDOVÁ","Kristýna","9.A",127,null,"Jilemnice  14.03.21",421.296506137866,null,null,132,88]
[null,"VOTOČKOVÁ ","Nikola","9.A",null,null,null,0,null,null,180,145]
[null,"VYHLASOVÁ","Lenka","9.A",null,null,null,0,null,null,null,112]
[null,"BÖHMOVÁ","Diana","9.B",null,null,null,0,null,null,162,117]
[null,"HOUDOVÁ","Tereza","9.B",null,null,null,0,null,null,184,149]
[null,"JANÍKOVÁ","Kristýna","9.B"]
[null,"KUŽELOVÁ","Ela","9.B",null,null,null,{"$f":"IF(E184=0,0,IF(E184>0,(E184+75)*4.982/1.059-529))","v":0},null,null,208,160]
[null,"MATERNOVÁ","Lucie","9.B",null,null,null,0,null,null,174,131]
[null,"OPOČENSKÁ","Matylda","9.B",null,null,null,0]
[null,"PIŠTOROVÁ","Karolína","9.B",null,null,null,0,null,null,194,151]
[null,"POKORNÝ","Anna","9.B",null,null,null,0,null,null,170,113]
[null,"SUCHÁNKOVÁ","Michaela","9.B",null,null,null,0,null,null,132,102]
[null,"ŠUBÍKOVÁ ","Štěpánka","9.B",null,null,null,0,null,null,176,127]
[null,"VANCLOVÁ","Pavlína","9.B",null,null,null,0,null,null,163,119]

{"sheet":"Drepre","index":40,"n_rows":94,"n_cols":22,"rows_kept":94,"cut":false,"hidden":false,"merged":[]}
[]
[null,null,null,null,null,"OF","OF","OF ","OKRSEK",null,"OF","KF","okrsek","OF","OF","of BASK "," KF","OF","JIL ","OF ","štaf","DOH"]
[null,null,null,null,"CELKEM","4boj","přespole","PLAV","FLORB","   ŠTAF","FLORB","PLAV","kopaná","fotbal","and 1","8.-9.","bask","VOLEJ","laťka","PoRo"]
[null,"ERBENOVÁ","Sára","6.A",{"$f":"SUM(F4:V4)","v":0}]
[null,"HOFMANOVÁ ","Nicol","6.A",0]
[null,"HOLEŠOVSKÁ","Aneta","6.A",0]
[null,"HOLUBCOVÁ","Alena","6.A",0]
[null,"KOHOUTOVÁ","Anna","6.A",0]
[null,"KRAUSOVÁ","Anežka","6.A",0]
[null,"KUŽELOVÁ","Apoléna","6.A",0]
[null,"MORÁVKOVÁ","Lucie","6.A",0]
[null,"SKLENÁROVÁ","Eliška","6.A",0]
[null,"ŠTOLFOVÁ","Tereza","6.A",0]
[null,"ŠUBÍKOVÁ","Klára","6.A",0]
[null,"TULÁČKOVÁ","Natálie","6.A",0]
[null,"VOJTÍŠKOVÁ","Ella","6.A",0]
[null,"DRUGÁČOVÁ","Kristinka","6.B",0]
[null,"FAJSTAVROVÁ","Karolína","6.B",0]
[null,"FAJSTAVROVÁ","Magdaléna","6.B",0]
[null,"HLAVATÁ","Anna","6.B",0]
[null,"JINDROVÁ","Barbora","6.B",0]
[null,"MAŘASOVÁ","Vendula","6.B",0]
[null,"PETŘÍČKOVÁ","Natálie","6.B",0]
[null,"PETŘÍKOVÁ","Adéla","6.B",0]
[null,"REGÁLOVÁ","Karolína","6.B",0]
[null,"RIEGROVÁ","Magdaléna","6.B",0]
[null,"RYBENSKÁ","Sabina","6.B",0]
[null,"STEINEROVÁ","Barbora","6.B",0]
[null,"TOMEŠOVÁ","Barbora","6.B",0]
[null,"VOHNOUTOVÁ","Aneta","6.B",0]
[null,"HAVLÍKOVÁ","Michaela","7.A",0]
[null,"HOLUBCOVÁ","Sára","7.A",0]
[null,"HONCŮ","Tereza","7.A",0]
[null,"HORÁČKOVÁ","Kateřina","7.A",0]
[null,"JOUDALOVÁ","Daniela","7.A",0]
[null,"KLÍMOVÁ","Anna","7.A",0]
[null,"KOHOUTOVÁ","Veronika","7.A",0]
[null,"KOVÁŘOVÁ","Viktorie","7.A",0]
[null,"KYNČLOVÁ","Anna","7.A",0]
[null,"MATOUŠOVÁ","Tereza","7.A",0]
[null,"MAZÁNKOVÁ","Zuzana","7.A",0]
[null,"MORKESOVÁ","Sabrina","7.A",0]
[null,"POHOŘALÁ","Alžběta","7.A",0]
[null,"SCHOLZOVÁ","Laura","7.A",0]
[null,"VÁCLAVÍKOVÁ","Valerie","7.A",0]
[null,"ZAPADLOVÁ","Emma","7.A",0]
[null,"ŽIŠKOVÁ","Mia","7.A",0]
[null,"FARSKÁ","Tereza","7.B",0]
[null,"FEIXOVÁ","Rozálie","7.B",0]
[null,"FIŠEROVÁ","Michaela","7.B",0]
[null,"HAVLÍČKOVÁ","Kristýna","7.B",0]
[null,"JODASOVÁ","Nikola","7.B",0]
[null,"KADAVÁ","Nikola","7.B",0]
[null,"KRAFKOVÁ","Lucie","7.B",0]
[null,"KŘIVINKOVÁ","Alžběta","7.B",0]
[null,"LEŠÁKOVÁ","Lenka","7.B",0]
[null,"NYKLÍČKOVÁ","Adéla","7.B",0]
[null,"PLŮCHOVÁ","Petra","7.B",0]
[null,"PODZIMKOVÁ","Eliška","7.B",0]
[null,"RUTKAYOVÁ","Klára","7.B",0]
[null,"SEIDLOVÁ","Zuzana","7.B",0]
[null,"TOMÁŠOVÁ","Sára","7.B",0]
[null,"VANCLOVÁ","Barbora","7.B",0]
[null,"VOTOČKOVÁ","Veronika","7.B",0]
[null,"HARTIGOVÁ","Anna","8.A",0]
[null,"HONCŮ","Rozálie","8.A",0]
[null,"CHALOUPSKÁ","Lucie","8.A",0]
[null,"KŘÍŽKOVÁ","Anna","8.A",{"$f":"SUM(F68:V68)","v":0}]
[null,"LUKEŠOVÁ","Kristýna","8.A",0]
[null,"MOTLÍKOVÁ","Eliška","8.A",0]
[null,"POHOŘELÁ","Amálie","8.A",0]
[null,"POLÁČKOVÁ","Natálie","8.A",0]
[null,"ŘEHOŘKOVÁ","Lucie","8.A",0]
[null,"SKÁLOVÁ","Alena","8.A",0]
[null,"VÁVROVÁ ","Aneta","8.A",0]
[null,"ZELINKOVÁ","Klára","8.A",0]
[null,"JUNGOVÁ ","Lucie","9.A",0]
[null,"KŘIVÁNKOVÁ ","Linda","9.A",0]
[null,"KUBÁTOVÁ","Lucie","9.A",0]
[null,"ŠIMŮNKOVÁ ","Nikola","9.A",0]
[null,"ŠMÍDOVÁ","Kristýna","9.A",{"$f":"SUM(F81:V81)","v":0}]
[null,"VOTOČKOVÁ ","Nikola","9.A",{"$f":"SUM(F82:V82)","v":0}]
[null,"VYHLASOVÁ","Lenka","9.A",{"$f":"SUM(F83:V83)","v":0}]
[null,"BÖHMOVÁ","Diana","9.B"]
[null,"HOUDOVÁ","Tereza","9.B"]
[null,"JANÍKOVÁ","Kristýna","9.B"]
[null,"KUŽELOVÁ","Ela","9.B"]
[null,"MATERNOVÁ","Lucie","9.B"]
[null,"OPOČENSKÁ","Matylda","9.B"]
[null,"PIŠTOROVÁ","Karolína","9.B"]
[null,"POKORNÝ","Anna","9.B"]
[null,"SUCHÁNKOVÁ","Michaela","9.B"]
[null,"ŠUBÍKOVÁ ","Štěpánka","9.B"]
[null,"VANCLOVÁ","Pavlína","9.B"]

{"sheet":"Drekordy","index":41,"n_rows":0,"n_cols":0,"rows_kept":0,"cut":false,"hidden":false,"merged":[]}